{"text_format":"1","workbook":"xlsx","n_sheets":13,"sheets":["入力上の注意","開催個人種目一覧表","【確認用】出場一覧表","競技者一覧","リレー","個人種目出場種目数","(毎年更新)種目一覧シート","種目コード一覧","団体CSV","リレーCSV","学校名簿","学校番号表","Sheet4"],"not_rendered":{"charts":0,"images":11,"macros":1,"external_links":0,"defined_names":26,"comments":0,"pivot_tables":0},"unopened":[],"bounds":{"document_bytes":16777216,"sheet_cells":100000,"rows_first":2000,"rows_last":500,"rows_between":2000,"halvings":0,"cell_chars":16384,"cell_head_chars":4096},"cells_cut":0,"cells_raw":0,"read":"whole","date_system":"1900"}

{"sheet":"入力上の注意","index":0,"n_rows":66,"n_cols":16,"rows_kept":66,"cut":false,"hidden":false,"merged":[[20,9,22,14]]}
[]
[null,"申込み作成上の注意事項"]
[null,"※必ず注意事項をすべてご確認の上、必ず守ってお申込みお願いします。"]
[]
[null,"①"]
[]
[]
[null,null,null,null,"この部分で▼でリストを表示させ、選択して下さい"]
[null,null,null,null,"ex) 第１回、第２回、第３回、第４回、第５回、第６回"]
[]
[]
[null,"②","府県名",null,"▼でリストを表示させ、都道府県名を選択して下さい(2022年からは、大学は”学連”を選択してください)"]
[null,null,"団体名",null,"学校の場合は小・中・高・大をつけて下さい　　東大寺学園中、京都大、等",null,null,null,null,null,null,null,null,null,null,"記入例"]
[null,null,"ﾌﾘｶﾞﾅ",null,"ﾌﾘｶﾞﾅは半角ｶﾅで入力して下さい。"]
[]
[]
[null,"③","ナンバー",null,"当日試合でつけるアスリートビブスの番号を入力してください。（半角英数）"]
[null,null,null,null,"※\"ｰ\"などがつく場合は、\"-\"より後ろのみ入力ください"]
[]
[]
[null,null,null,null,null,null,null,null,null,"※注意※\nもし、選手名を貼り付ける際は、\n\"値\"で貼り付けてください"]
[null,"④","名　　前","ﾌﾘｶﾞﾅ","競技者の氏名を入力して下さい。"]
[null,null,null,null,"外字は使わないで下さい"]
[null,null,null,null,"姓と名の間は全角スペースを入れてください"]
[null,null,null,null,"ﾌﾘｶﾞﾅは半角ｶﾅで入力して下さい。"]
[]
[null,"⑤",null,null,"▼でリストを表示させ、選択して下さい"]
[null,null,null,null,"１：男子　　２：女子"]
[]
[null,"➅",null,null,"▼学年を入力して下さい。(半角数字)　　大学院…M1.M2等、一般は9を入力"]
[]
[null,null,null,null,"▼で登録都道府県を選択してください(大学に関しては入力必須です)"]
[]
[]
[null,"➆",null,null,"※種目に関しては、④の性別を入力したのち▼でリストを表示させ、種目選択してください。※"]
[null,null,null,null,"最近の最高記録は半角英数で入力して下さい。区切り文字なしです。"]
[null,null,null,null,"11秒45…1145　12m34…1234　1m50…150　6分5秒15…60515"]
[]
[]
[]
[]
[null,null,"リレーエントリーシートについて"]
[null,null,"＊リレーのみに参加する選手に関しても、競技者一覧に入力してください＊"]
[]
[null,"⑧",null,null,"○○中、○○高と入力してください。"]
[null,null,null,null,"2チーム以上エントリーする場合はA、Bを加えてください。"]
[]
[null,"⑨",null,"▼でリストを表示させ、選択してください。"]
[]
[]
[null,"⑩",null,null,"最近の最高記録は半角英数で入力して下さい。区切り文字なしです。"]
[null,null,null,null,"44秒45…4445     50秒00…5000"]
[]
[null,"⑪",null,null,null,null,null,null,null,"選手は▼でリスト(競技者一覧に入力した選手)から選んでください"]
[]
[]
[null,"入力例"]
[]
[]
[]
[]
[]
[null,"⑪","参加費集計のシートに各団体で、入力の方よろしくお願いします。"]
[]
[null,"⑪","メールで申込む際、ファイル名は「学校名又は団体名.xls」でお願いします。"]
[null,null,"例）東大寺中.xls　　鴻ノ池ＳＣ.xls"]

{"sheet":"開催個人種目一覧表","index":1,"n_rows":22,"n_cols":2,"rows_kept":22,"cut":false,"hidden":false,"merged":[[0,0,1,1],[2,0,2,1]]}
["※要項もご確認ください※"]
[]
["第36回奈良市サーキット２日目"]
["男子","女子"]
["ナイター小学男子100m","ナイター小学女子100m"]
["ナイター小学男子1500m","ナイター小学女子1500m"]
["ナイター小学男子走幅跳","ナイター小学女子走幅跳"]
[]
[]
[]
[]
[]
[]
[]
[]
[]
[]
[]
[]
["",""]
["",""]
["",""]

{"sheet":"【確認用】出場一覧表","index":2,"n_rows":327,"n_cols":16,"rows_kept":327,"cut":false,"hidden":false,"merged":[[7,13,7,14],[7,4,8,4],[3,1,3,2],[4,1,4,2],[5,1,5,2],[0,0,1,1],[0,2,1,2],[0,3,1,6],[7,9,7,10],[7,11,7,12],[7,7,7,8],[3,4,5,4],[7,2,8,2],[7,1,8,1],[7,0,8,0],[7,3,8,3],[7,5,7,6]]}
[{"$f":"競技者一覧!A2","v":"第36回奈良市陸上サーキット"},null,{"$f":"競技者一覧!E2","v":"第2日目"}]
[]
[]
["団体名",{"$f":"IF(OR(競技者一覧!$D$7=0, ISERROR(競技者一覧!$D$7)), \"\", 競技者一覧!$D$7)","v":""},null,null,"参加\n種目数","個人種目",{"$f":"競技者一覧!O6","v":0}]
["緊急時メールアドレス",{"$f":"IF(OR(競技者一覧!D9=0, ISERROR(競技者一覧!D9)), \"\", 競技者一覧!D9)","v":""},null,null,null,"混成種目",{"$f":"競技者一覧!O8","v":0}]
["緊急時電話番号",{"$f":"IF(OR(競技者一覧!D10=0, ISERROR(競技者一覧!D10)), \"\", 競技者一覧!D10)","v":""},null,null,null,"リレー",{"$f":"競技者一覧!P6","v":0}]
[]
["競技者名","競技者名\nﾌﾘｶﾞﾅ","競技者名\n英字","性別","個人\n所属地","参加種目1",null,"参加種目2",null,"参加種目3",null,"参加種目4",null,"参加種目5"]
[null,null,null,null,null,"種目","記録","種目","記録","種目","記録","種目","記録","種目","記録"]
[{"$f":"団体CSV!C2","v":""},{"$f":"団体CSV!D2","v":""},{"$f":"団体CSV!E2","v":" "},{"$f":"IFERROR(VLOOKUP(競技者一覧!I22,Sheet4!$J$2:$K$3,2,FALSE),\"\")","v":""},{"$f":"IF(OR(競技者一覧!J22=0, ISERROR(競技者一覧!J22)), \"\", 競技者一覧!J22)","v":""},{"$f":"IF(OR(競技者一覧!K22=0, ISERROR(競技者一覧!K22)), \"\", 競技者一覧!K22)","v":""},{"$f":"IF(OR(競技者一覧!L22=0, ISERROR(競技者一覧!L22)), \"\", 競技者一覧!L22)","v":""},{"$f":"IF(OR(競技者一覧!M22=0, ISERROR(競技者一覧!M22)), \"\", 競技者一覧!M22)","v":""},{"$f":"IF(OR(競技者一覧!N22=0, ISERROR(競技者一覧!N22)), \"\", 競技者一覧!N22)","v":""},{"$f":"IF(OR(競技者一覧!O22=0, ISERROR(競技者一覧!O22)), \"\", 競技者一覧!O22)","v":""},{"$f":"IF(OR(競技者一覧!P22=0, ISERROR(競技者一覧!P22)), \"\", 競技者一覧!P22)","v":""},{"$f":"IF(OR(競技者一覧!Q22=0, ISERROR(競技者一覧!Q22)), \"\", 競技者一覧!Q22)","v":""},{"$f":"IF(OR(競技者一覧!R22=0, ISERROR(競技者一覧!R22)), \"\", 競技者一覧!R22)","v":""},{"$f":"IF(OR(競技者一覧!S22=0, ISERROR(競技者一覧!S22)), \"\", 競技者一覧!S22)","v":""},{"$f":"IF(OR(競技者一覧!T22=0, ISERROR(競技者一覧!T22)), \"\", 競技者一覧!T22)","v":""},1]
[{"$f":"団体CSV!C3","v":""},{"$f":"団体CSV!D3","v":""},{"$f":"団体CSV!E3","v":" "},{"$f":"IFERROR(VLOOKUP(競技者一覧!I23,Sheet4!$J$2:$K$3,2,FALSE),\"\")","v":""},{"$f":"IF(OR(競技者一覧!J23=0, ISERROR(競技者一覧!J23)), \"\", 競技者一覧!J23)","v":""},{"$f":"IF(OR(競技者一覧!K23=0, ISERROR(競技者一覧!K23)), \"\", 競技者一覧!K23)","v":""},{"$f":"IF(OR(競技者一覧!L23=0, ISERROR(競技者一覧!L23)), \"\", 競技者一覧!L23)","v":""},{"$f":"IF(OR(競技者一覧!M23=0, ISERROR(競技者一覧!M23)), \"\", 競技者一覧!M23)","v":""},{"$f":"IF(OR(競技者一覧!N23=0, ISERROR(競技者一覧!N23)), \"\", 競技者一覧!N23)","v":""},{"$f":"IF(OR(競技者一覧!O23=0, ISERROR(競技者一覧!O23)), \"\", 競技者一覧!O23)","v":""},{"$f":"IF(OR(競技者一覧!P23=0, ISERROR(競技者一覧!P23)), \"\", 競技者一覧!P23)","v":""},{"$f":"IF(OR(競技者一覧!Q23=0, ISERROR(競技者一覧!Q23)), \"\", 競技者一覧!Q23)","v":""},{"$f":"IF(OR(競技者一覧!R23=0, ISERROR(競技者一覧!R23)), \"\", 競技者一覧!R23)","v":""},{"$f":"IF(OR(競技者一覧!S23=0, ISERROR(競技者一覧!S23)), \"\", 競技者一覧!S23)","v":""},{"$f":"IF(OR(競技者一覧!T23=0, ISERROR(競技者一覧!T23)), \"\", 競技者一覧!T23)","v":""},2]
[{"$f":"団体CSV!C4","v":""},{"$f":"団体CSV!D4","v":""},{"$f":"団体CSV!E4","v":" "},{"$f":"IFERROR(VLOOKUP(競技者一覧!I24,Sheet4!$J$2:$K$3,2,FALSE),\"\")","v":""},{"$f":"IF(OR(競技者一覧!J24=0, ISERROR(競技者一覧!J24)), \"\", 競技者一覧!J24)","v":""},{"$f":"IF(OR(競技者一覧!K24=0, ISERROR(競技者一覧!K24)), \"\", 競技者一覧!K24)","v":""},{"$f":"IF(OR(競技者一覧!L24=0, ISERROR(競技者一覧!L24)), \"\", 競技者一覧!L24)","v":""},{"$f":"IF(OR(競技者一覧!M24=0, ISERROR(競技者一覧!M24)), \"\", 競技者一覧!M24)","v":""},{"$f":"IF(OR(競技者一覧!N24=0, ISERROR(競技者一覧!N24)), \"\", 競技者一覧!N24)","v":""},{"$f":"IF(OR(競技者一覧!O24=0, ISERROR(競技者一覧!O24)), \"\", 競技者一覧!O24)","v":""},{"$f":"IF(OR(競技者一覧!P24=0, ISERROR(競技者一覧!P24)), \"\", 競技者一覧!P24)","v":""},{"$f":"IF(OR(競技者一覧!Q24=0, ISERROR(競技者一覧!Q24)), \"\", 競技者一覧!Q24)","v":""},{"$f":"IF(OR(競技者一覧!R24=0, ISERROR(競技者一覧!R24)), \"\", 競技者一覧!R24)","v":""},{"$f":"IF(OR(競技者一覧!S24=0, ISERROR(競技者一覧!S24)), \"\", 競技者一覧!S24)","v":""},{"$f":"IF(OR(競技者一覧!T24=0, ISERROR(競技者一覧!T24)), \"\", 競技者一覧!T24)","v":""},3]
[{"$f":"団体CSV!C5","v":""},{"$f":"団体CSV!D5","v":""},{"$f":"団体CSV!E5","v":" "},{"$f":"IFERROR(VLOOKUP(競技者一覧!I25,Sheet4!$J$2:$K$3,2,FALSE),\"\")","v":""},{"$f":"IF(OR(競技者一覧!J25=0, ISERROR(競技者一覧!J25)), \"\", 競技者一覧!J25)","v":""},{"$f":"IF(OR(競技者一覧!K25=0, ISERROR(競技者一覧!K25)), \"\", 競技者一覧!K25)","v":""},{"$f":"IF(OR(競技者一覧!L25=0, ISERROR(競技者一覧!L25)), \"\", 競技者一覧!L25)","v":""},{"$f":"IF(OR(競技者一覧!M25=0, ISERROR(競技者一覧!M25)), \"\", 競技者一覧!M25)","v":""},{"$f":"IF(OR(競技者一覧!N25=0, ISERROR(競技者一覧!N25)), \"\", 競技者一覧!N25)","v":""},{"$f":"IF(OR(競技者一覧!O25=0, ISERROR(競技者一覧!O25)), \"\", 競技者一覧!O25)","v":""},{"$f":"IF(OR(競技者一覧!P25=0, ISERROR(競技者一覧!P25)), \"\", 競技者一覧!P25)","v":""},{"$f":"IF(OR(競技者一覧!Q25=0, ISERROR(競技者一覧!Q25)), \"\", 競技者一覧!Q25)","v":""},{"$f":"IF(OR(競技者一覧!R25=0, ISERROR(競技者一覧!R25)), \"\", 競技者一覧!R25)","v":""},{"$f":"IF(OR(競技者一覧!S25=0, ISERROR(競技者一覧!S25)), \"\", 競技者一覧!S25)","v":""},{"$f":"IF(OR(競技者一覧!T25=0, ISERROR(競技者一覧!T25)), \"\", 競技者一覧!T25)","v":""},4]
[{"$f":"団体CSV!C6","v":""},{"$f":"団体CSV!D6","v":""},{"$f":"団体CSV!E6","v":" "},{"$f":"IFERROR(VLOOKUP(競技者一覧!I26,Sheet4!$J$2:$K$3,2,FALSE),\"\")","v":""},{"$f":"IF(OR(競技者一覧!J26=0, ISERROR(競技者一覧!J26)), \"\", 競技者一覧!J26)","v":""},{"$f":"IF(OR(競技者一覧!K26=0, ISERROR(競技者一覧!K26)), \"\", 競技者一覧!K26)","v":""},{"$f":"IF(OR(競技者一覧!L26=0, ISERROR(競技者一覧!L26)), \"\", 競技者一覧!L26)","v":""},{"$f":"IF(OR(競技者一覧!M26=0, ISERROR(競技者一覧!M26)), \"\", 競技者一覧!M26)","v":""},{"$f":"IF(OR(競技者一覧!N26=0, ISERROR(競技者一覧!N26)), \"\", 競技者一覧!N26)","v":""},{"$f":"IF(OR(競技者一覧!O26=0, ISERROR(競技者一覧!O26)), \"\", 競技者一覧!O26)","v":""},{"$f":"IF(OR(競技者一覧!P26=0, ISERROR(競技者一覧!P26)), \"\", 競技者一覧!P26)","v":""},{"$f":"IF(OR(競技者一覧!Q26=0, ISERROR(競技者一覧!Q26)), \"\", 競技者一覧!Q26)","v":""},{"$f":"IF(OR(競技者一覧!R26=0, ISERROR(競技者一覧!R26)), \"\", 競技者一覧!R26)","v":""},{"$f":"IF(OR(競技者一覧!S26=0, ISERROR(競技者一覧!S26)), \"\", 競技者一覧!S26)","v":""},{"$f":"IF(OR(競技者一覧!T26=0, ISERROR(競技者一覧!T26)), \"\", 競技者一覧!T26)","v":""},5]
[{"$f":"団体CSV!C7","v":""},{"$f":"団体CSV!D7","v":""},{"$f":"団体CSV!E7","v":" "},{"$f":"IFERROR(VLOOKUP(競技者一覧!I27,Sheet4!$J$2:$K$3,2,FALSE),\"\")","v":""},{"$f":"IF(OR(競技者一覧!J27=0, ISERROR(競技者一覧!J27)), \"\", 競技者一覧!J27)","v":""},{"$f":"IF(OR(競技者一覧!K27=0, ISERROR(競技者一覧!K27)), \"\", 競技者一覧!K27)","v":""},{"$f":"IF(OR(競技者一覧!L27=0, ISERROR(競技者一覧!L27)), \"\", 競技者一覧!L27)","v":""},{"$f":"IF(OR(競技者一覧!M27=0, ISERROR(競技者一覧!M27)), \"\", 競技者一覧!M27)","v":""},{"$f":"IF(OR(競技者一覧!N27=0, ISERROR(競技者一覧!N27)), \"\", 競技者一覧!N27)","v":""},{"$f":"IF(OR(競技者一覧!O27=0, ISERROR(競技者一覧!O27)), \"\", 競技者一覧!O27)","v":""},{"$f":"IF(OR(競技者一覧!P27=0, ISERROR(競技者一覧!P27)), \"\", 競技者一覧!P27)","v":""},{"$f":"IF(OR(競技者一覧!Q27=0, ISERROR(競技者一覧!Q27)), \"\", 競技者一覧!Q27)","v":""},{"$f":"IF(OR(競技者一覧!R27=0, ISERROR(競技者一覧!R27)), \"\", 競技者一覧!R27)","v":""},{"$f":"IF(OR(競技者一覧!S27=0, ISERROR(競技者一覧!S27)), \"\", 競技者一覧!S27)","v":""},{"$f":"IF(OR(競技者一覧!T27=0, ISERROR(競技者一覧!T27)), \"\", 競技者一覧!T27)","v":""},6]
[{"$f":"団体CSV!C8","v":""},{"$f":"団体CSV!D8","v":""},{"$f":"団体CSV!E8","v":" "},{"$f":"IFERROR(VLOOKUP(競技者一覧!I28,Sheet4!$J$2:$K$3,2,FALSE),\"\")","v":""},{"$f":"IF(OR(競技者一覧!J28=0, ISERROR(競技者一覧!J28)), \"\", 競技者一覧!J28)","v":""},{"$f":"IF(OR(競技者一覧!K28=0, ISERROR(競技者一覧!K28)), \"\", 競技者一覧!K28)","v":""},{"$f":"IF(OR(競技者一覧!L28=0, ISERROR(競技者一覧!L28)), \"\", 競技者一覧!L28)","v":""},{"$f":"IF(OR(競技者一覧!M28=0, ISERROR(競技者一覧!M28)), \"\", 競技者一覧!M28)","v":""},{"$f":"IF(OR(競技者一覧!N28=0, ISERROR(競技者一覧!N28)), \"\", 競技者一覧!N28)","v":""},{"$f":"IF(OR(競技者一覧!O28=0, ISERROR(競技者一覧!O28)), \"\", 競技者一覧!O28)","v":""},{"$f":"IF(OR(競技者一覧!P28=0, ISERROR(競技者一覧!P28)), \"\", 競技者一覧!P28)","v":""},{"$f":"IF(OR(競技者一覧!Q28=0, ISERROR(競技者一覧!Q28)), \"\", 競技者一覧!Q28)","v":""},{"$f":"IF(OR(競技者一覧!R28=0, ISERROR(競技者一覧!R28)), \"\", 競技者一覧!R28)","v":""},{"$f":"IF(OR(競技者一覧!S28=0, ISERROR(競技者一覧!S28)), \"\", 競技者一覧!S28)","v":""},{"$f":"IF(OR(競技者一覧!T28=0, ISERROR(競技者一覧!T28)), \"\", 競技者一覧!T28)","v":""},7]
[{"$f":"団体CSV!C9","v":""},{"$f":"団体CSV!D9","v":""},{"$f":"団体CSV!E9","v":" "},{"$f":"IFERROR(VLOOKUP(競技者一覧!I29,Sheet4!$J$2:$K$3,2,FALSE),\"\")","v":""},{"$f":"IF(OR(競技者一覧!J29=0, ISERROR(競技者一覧!J29)), \"\", 競技者一覧!J29)","v":""},{"$f":"IF(OR(競技者一覧!K29=0, ISERROR(競技者一覧!K29)), \"\", 競技者一覧!K29)","v":""},{"$f":"IF(OR(競技者一覧!L29=0, ISERROR(競技者一覧!L29)), \"\", 競技者一覧!L29)","v":""},{"$f":"IF(OR(競技者一覧!M29=0, ISERROR(競技者一覧!M29)), \"\", 競技者一覧!M29)","v":""},{"$f":"IF(OR(競技者一覧!N29=0, ISERROR(競技者一覧!N29)), \"\", 競技者一覧!N29)","v":""},{"$f":"IF(OR(競技者一覧!O29=0, ISERROR(競技者一覧!O29)), \"\", 競技者一覧!O29)","v":""},{"$f":"IF(OR(競技者一覧!P29=0, ISERROR(競技者一覧!P29)), \"\", 競技者一覧!P29)","v":""},{"$f":"IF(OR(競技者一覧!Q29=0, ISERROR(競技者一覧!Q29)), \"\", 競技者一覧!Q29)","v":""},{"$f":"IF(OR(競技者一覧!R29=0, ISERROR(競技者一覧!R29)), \"\", 競技者一覧!R29)","v":""},{"$f":"IF(OR(競技者一覧!S29=0, ISERROR(競技者一覧!S29)), \"\", 競技者一覧!S29)","v":""},{"$f":"IF(OR(競技者一覧!T29=0, ISERROR(競技者一覧!T29)), \"\", 競技者一覧!T29)","v":""},8]
[{"$f":"団体CSV!C10","v":""},{"$f":"団体CSV!D10","v":""},{"$f":"団体CSV!E10","v":" "},{"$f":"IFERROR(VLOOKUP(競技者一覧!I30,Sheet4!$J$2:$K$3,2,FALSE),\"\")","v":""},{"$f":"IF(OR(競技者一覧!J30=0, ISERROR(競技者一覧!J30)), \"\", 競技者一覧!J30)","v":""},{"$f":"IF(OR(競技者一覧!K30=0, ISERROR(競技者一覧!K30)), \"\", 競技者一覧!K30)","v":""},{"$f":"IF(OR(競技者一覧!L30=0, ISERROR(競技者一覧!L30)), \"\", 競技者一覧!L30)","v":""},{"$f":"IF(OR(競技者一覧!M30=0, ISERROR(競技者一覧!M30)), \"\", 競技者一覧!M30)","v":""},{"$f":"IF(OR(競技者一覧!N30=0, ISERROR(競技者一覧!N30)), \"\", 競技者一覧!N30)","v":""},{"$f":"IF(OR(競技者一覧!O30=0, ISERROR(競技者一覧!O30)), \"\", 競技者一覧!O30)","v":""},{"$f":"IF(OR(競技者一覧!P30=0, ISERROR(競技者一覧!P30)), \"\", 競技者一覧!P30)","v":""},{"$f":"IF(OR(競技者一覧!Q30=0, ISERROR(競技者一覧!Q30)), \"\", 競技者一覧!Q30)","v":""},{"$f":"IF(OR(競技者一覧!R30=0, ISERROR(競技者一覧!R30)), \"\", 競技者一覧!R30)","v":""},{"$f":"IF(OR(競技者一覧!S30=0, ISERROR(競技者一覧!S30)), \"\", 競技者一覧!S30)","v":""},{"$f":"IF(OR(競技者一覧!T30=0, ISERROR(競技者一覧!T30)), \"\", 競技者一覧!T30)","v":""},9]
[{"$f":"団体CSV!C11","v":""},{"$f":"団体CSV!D11","v":""},{"$f":"団体CSV!E11","v":" "},{"$f":"IFERROR(VLOOKUP(競技者一覧!I31,Sheet4!$J$2:$K$3,2,FALSE),\"\")","v":""},{"$f":"IF(OR(競技者一覧!J31=0, ISERROR(競技者一覧!J31)), \"\", 競技者一覧!J31)","v":""},{"$f":"IF(OR(競技者一覧!K31=0, ISERROR(競技者一覧!K31)), \"\", 競技者一覧!K31)","v":""},{"$f":"IF(OR(競技者一覧!L31=0, ISERROR(競技者一覧!L31)), \"\", 競技者一覧!L31)","v":""},{"$f":"IF(OR(競技者一覧!M31=0, ISERROR(競技者一覧!M31)), \"\", 競技者一覧!M31)","v":""},{"$f":"IF(OR(競技者一覧!N31=0, ISERROR(競技者一覧!N31)), \"\", 競技者一覧!N31)","v":""},{"$f":"IF(OR(競技者一覧!O31=0, ISERROR(競技者一覧!O31)), \"\", 競技者一覧!O31)","v":""},{"$f":"IF(OR(競技者一覧!P31=0, ISERROR(競技者一覧!P31)), \"\", 競技者一覧!P31)","v":""},{"$f":"IF(OR(競技者一覧!Q31=0, ISERROR(競技者一覧!Q31)), \"\", 競技者一覧!Q31)","v":""},{"$f":"IF(OR(競技者一覧!R31=0, ISERROR(競技者一覧!R31)), \"\", 競技者一覧!R31)","v":""},{"$f":"IF(OR(競技者一覧!S31=0, ISERROR(競技者一覧!S31)), \"\", 競技者一覧!S31)","v":""},{"$f":"IF(OR(競技者一覧!T31=0, ISERROR(競技者一覧!T31)), \"\", 競技者一覧!T31)","v":""},10]
[{"$f":"団体CSV!C12","v":""},{"$f":"団体CSV!D12","v":""},{"$f":"団体CSV!E12","v":" "},{"$f":"IFERROR(VLOOKUP(競技者一覧!I32,Sheet4!$J$2:$K$3,2,FALSE),\"\")","v":""},{"$f":"IF(OR(競技者一覧!J32=0, ISERROR(競技者一覧!J32)), \"\", 競技者一覧!J32)","v":""},{"$f":"IF(OR(競技者一覧!K32=0, ISERROR(競技者一覧!K32)), \"\", 競技者一覧!K32)","v":""},{"$f":"IF(OR(競技者一覧!L32=0, ISERROR(競技者一覧!L32)), \"\", 競技者一覧!L32)","v":""},{"$f":"IF(OR(競技者一覧!M32=0, ISERROR(競技者一覧!M32)), \"\", 競技者一覧!M32)","v":""},{"$f":"IF(OR(競技者一覧!N32=0, ISERROR(競技者一覧!N32)), \"\", 競技者一覧!N32)","v":""},{"$f":"IF(OR(競技者一覧!O32=0, ISERROR(競技者一覧!O32)), \"\", 競技者一覧!O32)","v":""},{"$f":"IF(OR(競技者一覧!P32=0, ISERROR(競技者一覧!P32)), \"\", 競技者一覧!P32)","v":""},{"$f":"IF(OR(競技者一覧!Q32=0, ISERROR(競技者一覧!Q32)), \"\", 競技者一覧!Q32)","v":""},{"$f":"IF(OR(競技者一覧!R32=0, ISERROR(競技者一覧!R32)), \"\", 競技者一覧!R32)","v":""},{"$f":"IF(OR(競技者一覧!S32=0, ISERROR(競技者一覧!S32)), \"\", 競技者一覧!S32)","v":""},{"$f":"IF(OR(競技者一覧!T32=0, ISERROR(競技者一覧!T32)), \"\", 競技者一覧!T32)","v":""},11]
[{"$f":"団体CSV!C13","v":""},{"$f":"団体CSV!D13","v":""},{"$f":"団体CSV!E13","v":" "},{"$f":"IFERROR(VLOOKUP(競技者一覧!I33,Sheet4!$J$2:$K$3,2,FALSE),\"\")","v":""},{"$f":"IF(OR(競技者一覧!J33=0, ISERROR(競技者一覧!J33)), \"\", 競技者一覧!J33)","v":""},{"$f":"IF(OR(競技者一覧!K33=0, ISERROR(競技者一覧!K33)), \"\", 競技者一覧!K33)","v":""},{"$f":"IF(OR(競技者一覧!L33=0, ISERROR(競技者一覧!L33)), \"\", 競技者一覧!L33)","v":""},{"$f":"IF(OR(競技者一覧!M33=0, ISERROR(競技者一覧!M33)), \"\", 競技者一覧!M33)","v":""},{"$f":"IF(OR(競技者一覧!N33=0, ISERROR(競技者一覧!N33)), \"\", 競技者一覧!N33)","v":""},{"$f":"IF(OR(競技者一覧!O33=0, ISERROR(競技者一覧!O33)), \"\", 競技者一覧!O33)","v":""},{"$f":"IF(OR(競技者一覧!P33=0, ISERROR(競技者一覧!P33)), \"\", 競技者一覧!P33)","v":""},{"$f":"IF(OR(競技者一覧!Q33=0, ISERROR(競技者一覧!Q33)), \"\", 競技者一覧!Q33)","v":""},{"$f":"IF(OR(競技者一覧!R33=0, ISERROR(競技者一覧!R33)), \"\", 競技者一覧!R33)","v":""},{"$f":"IF(OR(競技者一覧!S33=0, ISERROR(競技者一覧!S33)), \"\", 競技者一覧!S33)","v":""},{"$f":"IF(OR(競技者一覧!T33=0, ISERROR(競技者一覧!T33)), \"\", 競技者一覧!T33)","v":""},12]
[{"$f":"団体CSV!C14","v":""},{"$f":"団体CSV!D14","v":""},{"$f":"団体CSV!E14","v":" "},{"$f":"IFERROR(VLOOKUP(競技者一覧!I34,Sheet4!$J$2:$K$3,2,FALSE),\"\")","v":""},{"$f":"IF(OR(競技者一覧!J34=0, ISERROR(競技者一覧!J34)), \"\", 競技者一覧!J34)","v":""},{"$f":"IF(OR(競技者一覧!K34=0, ISERROR(競技者一覧!K34)), \"\", 競技者一覧!K34)","v":""},{"$f":"IF(OR(競技者一覧!L34=0, ISERROR(競技者一覧!L34)), \"\", 競技者一覧!L34)","v":""},{"$f":"IF(OR(競技者一覧!M34=0, ISERROR(競技者一覧!M34)), \"\", 競技者一覧!M34)","v":""},{"$f":"IF(OR(競技者一覧!N34=0, ISERROR(競技者一覧!N34)), \"\", 競技者一覧!N34)","v":""},{"$f":"IF(OR(競技者一覧!O34=0, ISERROR(競技者一覧!O34)), \"\", 競技者一覧!O34)","v":""},{"$f":"IF(OR(競技者一覧!P34=0, ISERROR(競技者一覧!P34)), \"\", 競技者一覧!P34)","v":""},{"$f":"IF(OR(競技者一覧!Q34=0, ISERROR(競技者一覧!Q34)), \"\", 競技者一覧!Q34)","v":""},{"$f":"IF(OR(競技者一覧!R34=0, ISERROR(競技者一覧!R34)), \"\", 競技者一覧!R34)","v":""},{"$f":"IF(OR(競技者一覧!S34=0, ISERROR(競技者一覧!S34)), \"\", 競技者一覧!S34)","v":""},{"$f":"IF(OR(競技者一覧!T34=0, ISERROR(競技者一覧!T34)), \"\", 競技者一覧!T34)","v":""},13]
[{"$f":"団体CSV!C15","v":""},{"$f":"団体CSV!D15","v":""},{"$f":"団体CSV!E15","v":" "},{"$f":"IFERROR(VLOOKUP(競技者一覧!I35,Sheet4!$J$2:$K$3,2,FALSE),\"\")","v":""},{"$f":"IF(OR(競技者一覧!J35=0, ISERROR(競技者一覧!J35)), \"\", 競技者一覧!J35)","v":""},{"$f":"IF(OR(競技者一覧!K35=0, ISERROR(競技者一覧!K35)), \"\", 競技者一覧!K35)","v":""},{"$f":"IF(OR(競技者一覧!L35=0, ISERROR(競技者一覧!L35)), \"\", 競技者一覧!L35)","v":""},{"$f":"IF(OR(競技者一覧!M35=0, ISERROR(競技者一覧!M35)), \"\", 競技者一覧!M35)","v":""},{"$f":"IF(OR(競技者一覧!N35=0, ISERROR(競技者一覧!N35)), \"\", 競技者一覧!N35)","v":""},{"$f":"IF(OR(競技者一覧!O35=0, ISERROR(競技者一覧!O35)), \"\", 競技者一覧!O35)","v":""},{"$f":"IF(OR(競技者一覧!P35=0, ISERROR(競技者一覧!P35)), \"\", 競技者一覧!P35)","v":""},{"$f":"IF(OR(競技者一覧!Q35=0, ISERROR(競技者一覧!Q35)), \"\", 競技者一覧!Q35)","v":""},{"$f":"IF(OR(競技者一覧!R35=0, ISERROR(競技者一覧!R35)), \"\", 競技者一覧!R35)","v":""},{"$f":"IF(OR(競技者一覧!S35=0, ISERROR(競技者一覧!S35)), \"\", 競技者一覧!S35)","v":""},{"$f":"IF(OR(競技者一覧!T35=0, ISERROR(競技者一覧!T35)), \"\", 競技者一覧!T35)","v":""},14]
[{"$f":"団体CSV!C16","v":""},{"$f":"団体CSV!D16","v":""},{"$f":"団体CSV!E16","v":" "},{"$f":"IFERROR(VLOOKUP(競技者一覧!I36,Sheet4!$J$2:$K$3,2,FALSE),\"\")","v":""},{"$f":"IF(OR(競技者一覧!J36=0, ISERROR(競技者一覧!J36)), \"\", 競技者一覧!J36)","v":""},{"$f":"IF(OR(競技者一覧!K36=0, ISERROR(競技者一覧!K36)), \"\", 競技者一覧!K36)","v":""},{"$f":"IF(OR(競技者一覧!L36=0, ISERROR(競技者一覧!L36)), \"\", 競技者一覧!L36)","v":""},{"$f":"IF(OR(競技者一覧!M36=0, ISERROR(競技者一覧!M36)), \"\", 競技者一覧!M36)","v":""},{"$f":"IF(OR(競技者一覧!N36=0, ISERROR(競技者一覧!N36)), \"\", 競技者一覧!N36)","v":""},{"$f":"IF(OR(競技者一覧!O36=0, ISERROR(競技者一覧!O36)), \"\", 競技者一覧!O36)","v":""},{"$f":"IF(OR(競技者一覧!P36=0, ISERROR(競技者一覧!P36)), \"\", 競技者一覧!P36)","v":""},{"$f":"IF(OR(競技者一覧!Q36=0, ISERROR(競技者一覧!Q36)), \"\", 競技者一覧!Q36)","v":""},{"$f":"IF(OR(競技者一覧!R36=0, ISERROR(競技者一覧!R36)), \"\", 競技者一覧!R36)","v":""},{"$f":"IF(OR(競技者一覧!S36=0, ISERROR(競技者一覧!S36)), \"\", 競技者一覧!S36)","v":""},{"$f":"IF(OR(競技者一覧!T36=0, ISERROR(競技者一覧!T36)), \"\", 競技者一覧!T36)","v":""},15]
[{"$f":"団体CSV!C17","v":""},{"$f":"団体CSV!D17","v":""},{"$f":"団体CSV!E17","v":" "},{"$f":"IFERROR(VLOOKUP(競技者一覧!I37,Sheet4!$J$2:$K$3,2,FALSE),\"\")","v":""},{"$f":"IF(OR(競技者一覧!J37=0, ISERROR(競技者一覧!J37)), \"\", 競技者一覧!J37)","v":""},{"$f":"IF(OR(競技者一覧!K37=0, ISERROR(競技者一覧!K37)), \"\", 競技者一覧!K37)","v":""},{"$f":"IF(OR(競技者一覧!L37=0, ISERROR(競技者一覧!L37)), \"\", 競技者一覧!L37)","v":""},{"$f":"IF(OR(競技者一覧!M37=0, ISERROR(競技者一覧!M37)), \"\", 競技者一覧!M37)","v":""},{"$f":"IF(OR(競技者一覧!N37=0, ISERROR(競技者一覧!N37)), \"\", 競技者一覧!N37)","v":""},{"$f":"IF(OR(競技者一覧!O37=0, ISERROR(競技者一覧!O37)), \"\", 競技者一覧!O37)","v":""},{"$f":"IF(OR(競技者一覧!P37=0, ISERROR(競技者一覧!P37)), \"\", 競技者一覧!P37)","v":""},{"$f":"IF(OR(競技者一覧!Q37=0, ISERROR(競技者一覧!Q37)), \"\", 競技者一覧!Q37)","v":""},{"$f":"IF(OR(競技者一覧!R37=0, ISERROR(競技者一覧!R37)), \"\", 競技者一覧!R37)","v":""},{"$f":"IF(OR(競技者一覧!S37=0, ISERROR(競技者一覧!S37)), \"\", 競技者一覧!S37)","v":""},{"$f":"IF(OR(競技者一覧!T37=0, ISERROR(競技者一覧!T37)), \"\", 競技者一覧!T37)","v":""},16]
[{"$f":"団体CSV!C18","v":""},{"$f":"団体CSV!D18","v":""},{"$f":"団体CSV!E18","v":" "},{"$f":"IFERROR(VLOOKUP(競技者一覧!I38,Sheet4!$J$2:$K$3,2,FALSE),\"\")","v":""},{"$f":"IF(OR(競技者一覧!J38=0, ISERROR(競技者一覧!J38)), \"\", 競技者一覧!J38)","v":""},{"$f":"IF(OR(競技者一覧!K38=0, ISERROR(競技者一覧!K38)), \"\", 競技者一覧!K38)","v":""},{"$f":"IF(OR(競技者一覧!L38=0, ISERROR(競技者一覧!L38)), \"\", 競技者一覧!L38)","v":""},{"$f":"IF(OR(競技者一覧!M38=0, ISERROR(競技者一覧!M38)), \"\", 競技者一覧!M38)","v":""},{"$f":"IF(OR(競技者一覧!N38=0, ISERROR(競技者一覧!N38)), \"\", 競技者一覧!N38)","v":""},{"$f":"IF(OR(競技者一覧!O38=0, ISERROR(競技者一覧!O38)), \"\", 競技者一覧!O38)","v":""},{"$f":"IF(OR(競技者一覧!P38=0, ISERROR(競技者一覧!P38)), \"\", 競技者一覧!P38)","v":""},{"$f":"IF(OR(競技者一覧!Q38=0, ISERROR(競技者一覧!Q38)), \"\", 競技者一覧!Q38)","v":""},{"$f":"IF(OR(競技者一覧!R38=0, ISERROR(競技者一覧!R38)), \"\", 競技者一覧!R38)","v":""},{"$f":"IF(OR(競技者一覧!S38=0, ISERROR(競技者一覧!S38)), \"\", 競技者一覧!S38)","v":""},{"$f":"IF(OR(競技者一覧!T38=0, ISERROR(競技者一覧!T38)), \"\", 競技者一覧!T38)","v":""},17]
[{"$f":"団体CSV!C19","v":""},{"$f":"団体CSV!D19","v":""},{"$f":"団体CSV!E19","v":" "},{"$f":"IFERROR(VLOOKUP(競技者一覧!I39,Sheet4!$J$2:$K$3,2,FALSE),\"\")","v":""},{"$f":"IF(OR(競技者一覧!J39=0, ISERROR(競技者一覧!J39)), \"\", 競技者一覧!J39)","v":""},{"$f":"IF(OR(競技者一覧!K39=0, ISERROR(競技者一覧!K39)), \"\", 競技者一覧!K39)","v":""},{"$f":"IF(OR(競技者一覧!L39=0, ISERROR(競技者一覧!L39)), \"\", 競技者一覧!L39)","v":""},{"$f":"IF(OR(競技者一覧!M39=0, ISERROR(競技者一覧!M39)), \"\", 競技者一覧!M39)","v":""},{"$f":"IF(OR(競技者一覧!N39=0, ISERROR(競技者一覧!N39)), \"\", 競技者一覧!N39)","v":""},{"$f":"IF(OR(競技者一覧!O39=0, ISERROR(競技者一覧!O39)), \"\", 競技者一覧!O39)","v":""},{"$f":"IF(OR(競技者一覧!P39=0, ISERROR(競技者一覧!P39)), \"\", 競技者一覧!P39)","v":""},{"$f":"IF(OR(競技者一覧!Q39=0, ISERROR(競技者一覧!Q39)), \"\", 競技者一覧!Q39)","v":""},{"$f":"IF(OR(競技者一覧!R39=0, ISERROR(競技者一覧!R39)), \"\", 競技者一覧!R39)","v":""},{"$f":"IF(OR(競技者一覧!S39=0, ISERROR(競技者一覧!S39)), \"\", 競技者一覧!S39)","v":""},{"$f":"IF(OR(競技者一覧!T39=0, ISERROR(競技者一覧!T39)), \"\", 競技者一覧!T39)","v":""},18]
[{"$f":"団体CSV!C20","v":""},{"$f":"団体CSV!D20","v":""},{"$f":"団体CSV!E20","v":" "},{"$f":"IFERROR(VLOOKUP(競技者一覧!I40,Sheet4!$J$2:$K$3,2,FALSE),\"\")","v":""},{"$f":"IF(OR(競技者一覧!J40=0, ISERROR(競技者一覧!J40)), \"\", 競技者一覧!J40)","v":""},{"$f":"IF(OR(競技者一覧!K40=0, ISERROR(競技者一覧!K40)), \"\", 競技者一覧!K40)","v":""},{"$f":"IF(OR(競技者一覧!L40=0, ISERROR(競技者一覧!L40)), \"\", 競技者一覧!L40)","v":""},{"$f":"IF(OR(競技者一覧!M40=0, ISERROR(競技者一覧!M40)), \"\", 競技者一覧!M40)","v":""},{"$f":"IF(OR(競技者一覧!N40=0, ISERROR(競技者一覧!N40)), \"\", 競技者一覧!N40)","v":""},{"$f":"IF(OR(競技者一覧!O40=0, ISERROR(競技者一覧!O40)), \"\", 競技者一覧!O40)","v":""},{"$f":"IF(OR(競技者一覧!P40=0, ISERROR(競技者一覧!P40)), \"\", 競技者一覧!P40)","v":""},{"$f":"IF(OR(競技者一覧!Q40=0, ISERROR(競技者一覧!Q40)), \"\", 競技者一覧!Q40)","v":""},{"$f":"IF(OR(競技者一覧!R40=0, ISERROR(競技者一覧!R40)), \"\", 競技者一覧!R40)","v":""},{"$f":"IF(OR(競技者一覧!S40=0, ISERROR(競技者一覧!S40)), \"\", 競技者一覧!S40)","v":""},{"$f":"IF(OR(競技者一覧!T40=0, ISERROR(競技者一覧!T40)), \"\", 競技者一覧!T40)","v":""},19]
[{"$f":"団体CSV!C21","v":""},{"$f":"団体CSV!D21","v":""},{"$f":"団体CSV!E21","v":" "},{"$f":"IFERROR(VLOOKUP(競技者一覧!I41,Sheet4!$J$2:$K$3,2,FALSE),\"\")","v":""},{"$f":"IF(OR(競技者一覧!J41=0, ISERROR(競技者一覧!J41)), \"\", 競技者一覧!J41)","v":""},{"$f":"IF(OR(競技者一覧!K41=0, ISERROR(競技者一覧!K41)), \"\", 競技者一覧!K41)","v":""},{"$f":"IF(OR(競技者一覧!L41=0, ISERROR(競技者一覧!L41)), \"\", 競技者一覧!L41)","v":""},{"$f":"IF(OR(競技者一覧!M41=0, ISERROR(競技者一覧!M41)), \"\", 競技者一覧!M41)","v":""},{"$f":"IF(OR(競技者一覧!N41=0, ISERROR(競技者一覧!N41)), \"\", 競技者一覧!N41)","v":""},{"$f":"IF(OR(競技者一覧!O41=0, ISERROR(競技者一覧!O41)), \"\", 競技者一覧!O41)","v":""},{"$f":"IF(OR(競技者一覧!P41=0, ISERROR(競技者一覧!P41)), \"\", 競技者一覧!P41)","v":""},{"$f":"IF(OR(競技者一覧!Q41=0, ISERROR(競技者一覧!Q41)), \"\", 競技者一覧!Q41)","v":""},{"$f":"IF(OR(競技者一覧!R41=0, ISERROR(競技者一覧!R41)), \"\", 競技者一覧!R41)","v":""},{"$f":"IF(OR(競技者一覧!S41=0, ISERROR(競技者一覧!S41)), \"\", 競技者一覧!S41)","v":""},{"$f":"IF(OR(競技者一覧!T41=0, ISERROR(競技者一覧!T41)), \"\", 競技者一覧!T41)","v":""},20]
[{"$f":"団体CSV!C22","v":""},{"$f":"団体CSV!D22","v":""},{"$f":"団体CSV!E22","v":" "},{"$f":"IFERROR(VLOOKUP(競技者一覧!I42,Sheet4!$J$2:$K$3,2,FALSE),\"\")","v":""},{"$f":"IF(OR(競技者一覧!J42=0, ISERROR(競技者一覧!J42)), \"\", 競技者一覧!J42)","v":""},{"$f":"IF(OR(競技者一覧!K42=0, ISERROR(競技者一覧!K42)), \"\", 競技者一覧!K42)","v":""},{"$f":"IF(OR(競技者一覧!L42=0, ISERROR(競技者一覧!L42)), \"\", 競技者一覧!L42)","v":""},{"$f":"IF(OR(競技者一覧!M42=0, ISERROR(競技者一覧!M42)), \"\", 競技者一覧!M42)","v":""},{"$f":"IF(OR(競技者一覧!N42=0, ISERROR(競技者一覧!N42)), \"\", 競技者一覧!N42)","v":""},{"$f":"IF(OR(競技者一覧!O42=0, ISERROR(競技者一覧!O42)), \"\", 競技者一覧!O42)","v":""},{"$f":"IF(OR(競技者一覧!P42=0, ISERROR(競技者一覧!P42)), \"\", 競技者一覧!P42)","v":""},{"$f":"IF(OR(競技者一覧!Q42=0, ISERROR(競技者一覧!Q42)), \"\", 競技者一覧!Q42)","v":""},{"$f":"IF(OR(競技者一覧!R42=0, ISERROR(競技者一覧!R42)), \"\", 競技者一覧!R42)","v":""},{"$f":"IF(OR(競技者一覧!S42=0, ISERROR(競技者一覧!S42)), \"\", 競技者一覧!S42)","v":""},{"$f":"IF(OR(競技者一覧!T42=0, ISERROR(競技者一覧!T42)), \"\", 競技者一覧!T42)","v":""},21]
[{"$f":"団体CSV!C23","v":""},{"$f":"団体CSV!D23","v":""},{"$f":"団体CSV!E23","v":" "},{"$f":"IFERROR(VLOOKUP(競技者一覧!I43,Sheet4!$J$2:$K$3,2,FALSE),\"\")","v":""},{"$f":"IF(OR(競技者一覧!J43=0, ISERROR(競技者一覧!J43)), \"\", 競技者一覧!J43)","v":""},{"$f":"IF(OR(競技者一覧!K43=0, ISERROR(競技者一覧!K43)), \"\", 競技者一覧!K43)","v":""},{"$f":"IF(OR(競技者一覧!L43=0, ISERROR(競技者一覧!L43)), \"\", 競技者一覧!L43)","v":""},{"$f":"IF(OR(競技者一覧!M43=0, ISERROR(競技者一覧!M43)), \"\", 競技者一覧!M43)","v":""},{"$f":"IF(OR(競技者一覧!N43=0, ISERROR(競技者一覧!N43)), \"\", 競技者一覧!N43)","v":""},{"$f":"IF(OR(競技者一覧!O43=0, ISERROR(競技者一覧!O43)), \"\", 競技者一覧!O43)","v":""},{"$f":"IF(OR(競技者一覧!P43=0, ISERROR(競技者一覧!P43)), \"\", 競技者一覧!P43)","v":""},{"$f":"IF(OR(競技者一覧!Q43=0, ISERROR(競技者一覧!Q43)), \"\", 競技者一覧!Q43)","v":""},{"$f":"IF(OR(競技者一覧!R43=0, ISERROR(競技者一覧!R43)), \"\", 競技者一覧!R43)","v":""},{"$f":"IF(OR(競技者一覧!S43=0, ISERROR(競技者一覧!S43)), \"\", 競技者一覧!S43)","v":""},{"$f":"IF(OR(競技者一覧!T43=0, ISERROR(競技者一覧!T43)), \"\", 競技者一覧!T43)","v":""},22]
[{"$f":"団体CSV!C24","v":""},{"$f":"団体CSV!D24","v":""},{"$f":"団体CSV!E24","v":" "},{"$f":"IFERROR(VLOOKUP(競技者一覧!I44,Sheet4!$J$2:$K$3,2,FALSE),\"\")","v":""},{"$f":"IF(OR(競技者一覧!J44=0, ISERROR(競技者一覧!J44)), \"\", 競技者一覧!J44)","v":""},{"$f":"IF(OR(競技者一覧!K44=0, ISERROR(競技者一覧!K44)), \"\", 競技者一覧!K44)","v":""},{"$f":"IF(OR(競技者一覧!L44=0, ISERROR(競技者一覧!L44)), \"\", 競技者一覧!L44)","v":""},{"$f":"IF(OR(競技者一覧!M44=0, ISERROR(競技者一覧!M44)), \"\", 競技者一覧!M44)","v":""},{"$f":"IF(OR(競技者一覧!N44=0, ISERROR(競技者一覧!N44)), \"\", 競技者一覧!N44)","v":""},{"$f":"IF(OR(競技者一覧!O44=0, ISERROR(競技者一覧!O44)), \"\", 競技者一覧!O44)","v":""},{"$f":"IF(OR(競技者一覧!P44=0, ISERROR(競技者一覧!P44)), \"\", 競技者一覧!P44)","v":""},{"$f":"IF(OR(競技者一覧!Q44=0, ISERROR(競技者一覧!Q44)), \"\", 競技者一覧!Q44)","v":""},{"$f":"IF(OR(競技者一覧!R44=0, ISERROR(競技者一覧!R44)), \"\", 競技者一覧!R44)","v":""},{"$f":"IF(OR(競技者一覧!S44=0, ISERROR(競技者一覧!S44)), \"\", 競技者一覧!S44)","v":""},{"$f":"IF(OR(競技者一覧!T44=0, ISERROR(競技者一覧!T44)), \"\", 競技者一覧!T44)","v":""},23]
[{"$f":"団体CSV!C25","v":""},{"$f":"団体CSV!D25","v":""},{"$f":"団体CSV!E25","v":" "},{"$f":"IFERROR(VLOOKUP(競技者一覧!I45,Sheet4!$J$2:$K$3,2,FALSE),\"\")","v":""},{"$f":"IF(OR(競技者一覧!J45=0, ISERROR(競技者一覧!J45)), \"\", 競技者一覧!J45)","v":""},{"$f":"IF(OR(競技者一覧!K45=0, ISERROR(競技者一覧!K45)), \"\", 競技者一覧!K45)","v":""},{"$f":"IF(OR(競技者一覧!L45=0, ISERROR(競技者一覧!L45)), \"\", 競技者一覧!L45)","v":""},{"$f":"IF(OR(競技者一覧!M45=0, ISERROR(競技者一覧!M45)), \"\", 競技者一覧!M45)","v":""},{"$f":"IF(OR(競技者一覧!N45=0, ISERROR(競技者一覧!N45)), \"\", 競技者一覧!N45)","v":""},{"$f":"IF(OR(競技者一覧!O45=0, ISERROR(競技者一覧!O45)), \"\", 競技者一覧!O45)","v":""},{"$f":"IF(OR(競技者一覧!P45=0, ISERROR(競技者一覧!P45)), \"\", 競技者一覧!P45)","v":""},{"$f":"IF(OR(競技者一覧!Q45=0, ISERROR(競技者一覧!Q45)), \"\", 競技者一覧!Q45)","v":""},{"$f":"IF(OR(競技者一覧!R45=0, ISERROR(競技者一覧!R45)), \"\", 競技者一覧!R45)","v":""},{"$f":"IF(OR(競技者一覧!S45=0, ISERROR(競技者一覧!S45)), \"\", 競技者一覧!S45)","v":""},{"$f":"IF(OR(競技者一覧!T45=0, ISERROR(競技者一覧!T45)), \"\", 競技者一覧!T45)","v":""},24]
[{"$f":"団体CSV!C26","v":""},{"$f":"団体CSV!D26","v":""},{"$f":"団体CSV!E26","v":" "},{"$f":"IFERROR(VLOOKUP(競技者一覧!I46,Sheet4!$J$2:$K$3,2,FALSE),\"\")","v":""},{"$f":"IF(OR(競技者一覧!J46=0, ISERROR(競技者一覧!J46)), \"\", 競技者一覧!J46)","v":""},{"$f":"IF(OR(競技者一覧!K46=0, ISERROR(競技者一覧!K46)), \"\", 競技者一覧!K46)","v":""},{"$f":"IF(OR(競技者一覧!L46=0, ISERROR(競技者一覧!L46)), \"\", 競技者一覧!L46)","v":""},{"$f":"IF(OR(競技者一覧!M46=0, ISERROR(競技者一覧!M46)), \"\", 競技者一覧!M46)","v":""},{"$f":"IF(OR(競技者一覧!N46=0, ISERROR(競技者一覧!N46)), \"\", 競技者一覧!N46)","v":""},{"$f":"IF(OR(競技者一覧!O46=0, ISERROR(競技者一覧!O46)), \"\", 競技者一覧!O46)","v":""},{"$f":"IF(OR(競技者一覧!P46=0, ISERROR(競技者一覧!P46)), \"\", 競技者一覧!P46)","v":""},{"$f":"IF(OR(競技者一覧!Q46=0, ISERROR(競技者一覧!Q46)), \"\", 競技者一覧!Q46)","v":""},{"$f":"IF(OR(競技者一覧!R46=0, ISERROR(競技者一覧!R46)), \"\", 競技者一覧!R46)","v":""},{"$f":"IF(OR(競技者一覧!S46=0, ISERROR(競技者一覧!S46)), \"\", 競技者一覧!S46)","v":""},{"$f":"IF(OR(競技者一覧!T46=0, ISERROR(競技者一覧!T46)), \"\", 競技者一覧!T46)","v":""},25]
[{"$f":"団体CSV!C27","v":""},{"$f":"団体CSV!D27","v":""},{"$f":"団体CSV!E27","v":" "},{"$f":"IFERROR(VLOOKUP(競技者一覧!I47,Sheet4!$J$2:$K$3,2,FALSE),\"\")","v":""},{"$f":"IF(OR(競技者一覧!J47=0, ISERROR(競技者一覧!J47)), \"\", 競技者一覧!J47)","v":""},{"$f":"IF(OR(競技者一覧!K47=0, ISERROR(競技者一覧!K47)), \"\", 競技者一覧!K47)","v":""},{"$f":"IF(OR(競技者一覧!L47=0, ISERROR(競技者一覧!L47)), \"\", 競技者一覧!L47)","v":""},{"$f":"IF(OR(競技者一覧!M47=0, ISERROR(競技者一覧!M47)), \"\", 競技者一覧!M47)","v":""},{"$f":"IF(OR(競技者一覧!N47=0, ISERROR(競技者一覧!N47)), \"\", 競技者一覧!N47)","v":""},{"$f":"IF(OR(競技者一覧!O47=0, ISERROR(競技者一覧!O47)), \"\", 競技者一覧!O47)","v":""},{"$f":"IF(OR(競技者一覧!P47=0, ISERROR(競技者一覧!P47)), \"\", 競技者一覧!P47)","v":""},{"$f":"IF(OR(競技者一覧!Q47=0, ISERROR(競技者一覧!Q47)), \"\", 競技者一覧!Q47)","v":""},{"$f":"IF(OR(競技者一覧!R47=0, ISERROR(競技者一覧!R47)), \"\", 競技者一覧!R47)","v":""},{"$f":"IF(OR(競技者一覧!S47=0, ISERROR(競技者一覧!S47)), \"\", 競技者一覧!S47)","v":""},{"$f":"IF(OR(競技者一覧!T47=0, ISERROR(競技者一覧!T47)), \"\", 競技者一覧!T47)","v":""},26]
[{"$f":"団体CSV!C28","v":""},{"$f":"団体CSV!D28","v":""},{"$f":"団体CSV!E28","v":" "},{"$f":"IFERROR(VLOOKUP(競技者一覧!I48,Sheet4!$J$2:$K$3,2,FALSE),\"\")","v":""},{"$f":"IF(OR(競技者一覧!J48=0, ISERROR(競技者一覧!J48)), \"\", 競技者一覧!J48)","v":""},{"$f":"IF(OR(競技者一覧!K48=0, ISERROR(競技者一覧!K48)), \"\", 競技者一覧!K48)","v":""},{"$f":"IF(OR(競技者一覧!L48=0, ISERROR(競技者一覧!L48)), \"\", 競技者一覧!L48)","v":""},{"$f":"IF(OR(競技者一覧!M48=0, ISERROR(競技者一覧!M48)), \"\", 競技者一覧!M48)","v":""},{"$f":"IF(OR(競技者一覧!N48=0, ISERROR(競技者一覧!N48)), \"\", 競技者一覧!N48)","v":""},{"$f":"IF(OR(競技者一覧!O48=0, ISERROR(競技者一覧!O48)), \"\", 競技者一覧!O48)","v":""},{"$f":"IF(OR(競技者一覧!P48=0, ISERROR(競技者一覧!P48)), \"\", 競技者一覧!P48)","v":""},{"$f":"IF(OR(競技者一覧!Q48=0, ISERROR(競技者一覧!Q48)), \"\", 競技者一覧!Q48)","v":""},{"$f":"IF(OR(競技者一覧!R48=0, ISERROR(競技者一覧!R48)), \"\", 競技者一覧!R48)","v":""},{"$f":"IF(OR(競技者一覧!S48=0, ISERROR(競技者一覧!S48)), \"\", 競技者一覧!S48)","v":""},{"$f":"IF(OR(競技者一覧!T48=0, ISERROR(競技者一覧!T48)), \"\", 競技者一覧!T48)","v":""},27]
[{"$f":"団体CSV!C29","v":""},{"$f":"団体CSV!D29","v":""},{"$f":"団体CSV!E29","v":" "},{"$f":"IFERROR(VLOOKUP(競技者一覧!I49,Sheet4!$J$2:$K$3,2,FALSE),\"\")","v":""},{"$f":"IF(OR(競技者一覧!J49=0, ISERROR(競技者一覧!J49)), \"\", 競技者一覧!J49)","v":""},{"$f":"IF(OR(競技者一覧!K49=0, ISERROR(競技者一覧!K49)), \"\", 競技者一覧!K49)","v":""},{"$f":"IF(OR(競技者一覧!L49=0, ISERROR(競技者一覧!L49)), \"\", 競技者一覧!L49)","v":""},{"$f":"IF(OR(競技者一覧!M49=0, ISERROR(競技者一覧!M49)), \"\", 競技者一覧!M49)","v":""},{"$f":"IF(OR(競技者一覧!N49=0, ISERROR(競技者一覧!N49)), \"\", 競技者一覧!N49)","v":""},{"$f":"IF(OR(競技者一覧!O49=0, ISERROR(競技者一覧!O49)), \"\", 競技者一覧!O49)","v":""},{"$f":"IF(OR(競技者一覧!P49=0, ISERROR(競技者一覧!P49)), \"\", 競技者一覧!P49)","v":""},{"$f":"IF(OR(競技者一覧!Q49=0, ISERROR(競技者一覧!Q49)), \"\", 競技者一覧!Q49)","v":""},{"$f":"IF(OR(競技者一覧!R49=0, ISERROR(競技者一覧!R49)), \"\", 競技者一覧!R49)","v":""},{"$f":"IF(OR(競技者一覧!S49=0, ISERROR(競技者一覧!S49)), \"\", 競技者一覧!S49)","v":""},{"$f":"IF(OR(競技者一覧!T49=0, ISERROR(競技者一覧!T49)), \"\", 競技者一覧!T49)","v":""},28]
[{"$f":"団体CSV!C30","v":""},{"$f":"団体CSV!D30","v":""},{"$f":"団体CSV!E30","v":" "},{"$f":"IFERROR(VLOOKUP(競技者一覧!I50,Sheet4!$J$2:$K$3,2,FALSE),\"\")","v":""},{"$f":"IF(OR(競技者一覧!J50=0, ISERROR(競技者一覧!J50)), \"\", 競技者一覧!J50)","v":""},{"$f":"IF(OR(競技者一覧!K50=0, ISERROR(競技者一覧!K50)), \"\", 競技者一覧!K50)","v":""},{"$f":"IF(OR(競技者一覧!L50=0, ISERROR(競技者一覧!L50)), \"\", 競技者一覧!L50)","v":""},{"$f":"IF(OR(競技者一覧!M50=0, ISERROR(競技者一覧!M50)), \"\", 競技者一覧!M50)","v":""},{"$f":"IF(OR(競技者一覧!N50=0, ISERROR(競技者一覧!N50)), \"\", 競技者一覧!N50)","v":""},{"$f":"IF(OR(競技者一覧!O50=0, ISERROR(競技者一覧!O50)), \"\", 競技者一覧!O50)","v":""},{"$f":"IF(OR(競技者一覧!P50=0, ISERROR(競技者一覧!P50)), \"\", 競技者一覧!P50)","v":""},{"$f":"IF(OR(競技者一覧!Q50=0, ISERROR(競技者一覧!Q50)), \"\", 競技者一覧!Q50)","v":""},{"$f":"IF(OR(競技者一覧!R50=0, ISERROR(競技者一覧!R50)), \"\", 競技者一覧!R50)","v":""},{"$f":"IF(OR(競技者一覧!S50=0, ISERROR(競技者一覧!S50)), \"\", 競技者一覧!S50)","v":""},{"$f":"IF(OR(競技者一覧!T50=0, ISERROR(競技者一覧!T50)), \"\", 競技者一覧!T50)","v":""},29]
[{"$f":"団体CSV!C31","v":""},{"$f":"団体CSV!D31","v":""},{"$f":"団体CSV!E31","v":" "},{"$f":"IFERROR(VLOOKUP(競技者一覧!I51,Sheet4!$J$2:$K$3,2,FALSE),\"\")","v":""},{"$f":"IF(OR(競技者一覧!J51=0, ISERROR(競技者一覧!J51)), \"\", 競技者一覧!J51)","v":""},{"$f":"IF(OR(競技者一覧!K51=0, ISERROR(競技者一覧!K51)), \"\", 競技者一覧!K51)","v":""},{"$f":"IF(OR(競技者一覧!L51=0, ISERROR(競技者一覧!L51)), \"\", 競技者一覧!L51)","v":""},{"$f":"IF(OR(競技者一覧!M51=0, ISERROR(競技者一覧!M51)), \"\", 競技者一覧!M51)","v":""},{"$f":"IF(OR(競技者一覧!N51=0, ISERROR(競技者一覧!N51)), \"\", 競技者一覧!N51)","v":""},{"$f":"IF(OR(競技者一覧!O51=0, ISERROR(競技者一覧!O51)), \"\", 競技者一覧!O51)","v":""},{"$f":"IF(OR(競技者一覧!P51=0, ISERROR(競技者一覧!P51)), \"\", 競技者一覧!P51)","v":""},{"$f":"IF(OR(競技者一覧!Q51=0, ISERROR(競技者一覧!Q51)), \"\", 競技者一覧!Q51)","v":""},{"$f":"IF(OR(競技者一覧!R51=0, ISERROR(競技者一覧!R51)), \"\", 競技者一覧!R51)","v":""},{"$f":"IF(OR(競技者一覧!S51=0, ISERROR(競技者一覧!S51)), \"\", 競技者一覧!S51)","v":""},{"$f":"IF(OR(競技者一覧!T51=0, ISERROR(競技者一覧!T51)), \"\", 競技者一覧!T51)","v":""},30]
[{"$f":"団体CSV!C32","v":""},{"$f":"団体CSV!D32","v":""},{"$f":"団体CSV!E32","v":" "},{"$f":"IFERROR(VLOOKUP(競技者一覧!I52,Sheet4!$J$2:$K$3,2,FALSE),\"\")","v":""},{"$f":"IF(OR(競技者一覧!J52=0, ISERROR(競技者一覧!J52)), \"\", 競技者一覧!J52)","v":""},{"$f":"IF(OR(競技者一覧!K52=0, ISERROR(競技者一覧!K52)), \"\", 競技者一覧!K52)","v":""},{"$f":"IF(OR(競技者一覧!L52=0, ISERROR(競技者一覧!L52)), \"\", 競技者一覧!L52)","v":""},{"$f":"IF(OR(競技者一覧!M52=0, ISERROR(競技者一覧!M52)), \"\", 競技者一覧!M52)","v":""},{"$f":"IF(OR(競技者一覧!N52=0, ISERROR(競技者一覧!N52)), \"\", 競技者一覧!N52)","v":""},{"$f":"IF(OR(競技者一覧!O52=0, ISERROR(競技者一覧!O52)), \"\", 競技者一覧!O52)","v":""},{"$f":"IF(OR(競技者一覧!P52=0, ISERROR(競技者一覧!P52)), \"\", 競技者一覧!P52)","v":""},{"$f":"IF(OR(競技者一覧!Q52=0, ISERROR(競技者一覧!Q52)), \"\", 競技者一覧!Q52)","v":""},{"$f":"IF(OR(競技者一覧!R52=0, ISERROR(競技者一覧!R52)), \"\", 競技者一覧!R52)","v":""},{"$f":"IF(OR(競技者一覧!S52=0, ISERROR(競技者一覧!S52)), \"\", 競技者一覧!S52)","v":""},{"$f":"IF(OR(競技者一覧!T52=0, ISERROR(競技者一覧!T52)), \"\", 競技者一覧!T52)","v":""},31]
[{"$f":"団体CSV!C33","v":""},{"$f":"団体CSV!D33","v":""},{"$f":"団体CSV!E33","v":" "},{"$f":"IFERROR(VLOOKUP(競技者一覧!I53,Sheet4!$J$2:$K$3,2,FALSE),\"\")","v":""},{"$f":"IF(OR(競技者一覧!J53=0, ISERROR(競技者一覧!J53)), \"\", 競技者一覧!J53)","v":""},{"$f":"IF(OR(競技者一覧!K53=0, ISERROR(競技者一覧!K53)), \"\", 競技者一覧!K53)","v":""},{"$f":"IF(OR(競技者一覧!L53=0, ISERROR(競技者一覧!L53)), \"\", 競技者一覧!L53)","v":""},{"$f":"IF(OR(競技者一覧!M53=0, ISERROR(競技者一覧!M53)), \"\", 競技者一覧!M53)","v":""},{"$f":"IF(OR(競技者一覧!N53=0, ISERROR(競技者一覧!N53)), \"\", 競技者一覧!N53)","v":""},{"$f":"IF(OR(競技者一覧!O53=0, ISERROR(競技者一覧!O53)), \"\", 競技者一覧!O53)","v":""},{"$f":"IF(OR(競技者一覧!P53=0, ISERROR(競技者一覧!P53)), \"\", 競技者一覧!P53)","v":""},{"$f":"IF(OR(競技者一覧!Q53=0, ISERROR(競技者一覧!Q53)), \"\", 競技者一覧!Q53)","v":""},{"$f":"IF(OR(競技者一覧!R53=0, ISERROR(競技者一覧!R53)), \"\", 競技者一覧!R53)","v":""},{"$f":"IF(OR(競技者一覧!S53=0, ISERROR(競技者一覧!S53)), \"\", 競技者一覧!S53)","v":""},{"$f":"IF(OR(競技者一覧!T53=0, ISERROR(競技者一覧!T53)), \"\", 競技者一覧!T53)","v":""},32]
[{"$f":"団体CSV!C34","v":""},{"$f":"団体CSV!D34","v":""},{"$f":"団体CSV!E34","v":" "},{"$f":"IFERROR(VLOOKUP(競技者一覧!I54,Sheet4!$J$2:$K$3,2,FALSE),\"\")","v":""},{"$f":"IF(OR(競技者一覧!J54=0, ISERROR(競技者一覧!J54)), \"\", 競技者一覧!J54)","v":""},{"$f":"IF(OR(競技者一覧!K54=0, ISERROR(競技者一覧!K54)), \"\", 競技者一覧!K54)","v":""},{"$f":"IF(OR(競技者一覧!L54=0, ISERROR(競技者一覧!L54)), \"\", 競技者一覧!L54)","v":""},{"$f":"IF(OR(競技者一覧!M54=0, ISERROR(競技者一覧!M54)), \"\", 競技者一覧!M54)","v":""},{"$f":"IF(OR(競技者一覧!N54=0, ISERROR(競技者一覧!N54)), \"\", 競技者一覧!N54)","v":""},{"$f":"IF(OR(競技者一覧!O54=0, ISERROR(競技者一覧!O54)), \"\", 競技者一覧!O54)","v":""},{"$f":"IF(OR(競技者一覧!P54=0, ISERROR(競技者一覧!P54)), \"\", 競技者一覧!P54)","v":""},{"$f":"IF(OR(競技者一覧!Q54=0, ISERROR(競技者一覧!Q54)), \"\", 競技者一覧!Q54)","v":""},{"$f":"IF(OR(競技者一覧!R54=0, ISERROR(競技者一覧!R54)), \"\", 競技者一覧!R54)","v":""},{"$f":"IF(OR(競技者一覧!S54=0, ISERROR(競技者一覧!S54)), \"\", 競技者一覧!S54)","v":""},{"$f":"IF(OR(競技者一覧!T54=0, ISERROR(競技者一覧!T54)), \"\", 競技者一覧!T54)","v":""},33]
[{"$f":"団体CSV!C35","v":""},{"$f":"団体CSV!D35","v":""},{"$f":"団体CSV!E35","v":" "},{"$f":"IFERROR(VLOOKUP(競技者一覧!I55,Sheet4!$J$2:$K$3,2,FALSE),\"\")","v":""},{"$f":"IF(OR(競技者一覧!J55=0, ISERROR(競技者一覧!J55)), \"\", 競技者一覧!J55)","v":""},{"$f":"IF(OR(競技者一覧!K55=0, ISERROR(競技者一覧!K55)), \"\", 競技者一覧!K55)","v":""},{"$f":"IF(OR(競技者一覧!L55=0, ISERROR(競技者一覧!L55)), \"\", 競技者一覧!L55)","v":""},{"$f":"IF(OR(競技者一覧!M55=0, ISERROR(競技者一覧!M55)), \"\", 競技者一覧!M55)","v":""},{"$f":"IF(OR(競技者一覧!N55=0, ISERROR(競技者一覧!N55)), \"\", 競技者一覧!N55)","v":""},{"$f":"IF(OR(競技者一覧!O55=0, ISERROR(競技者一覧!O55)), \"\", 競技者一覧!O55)","v":""},{"$f":"IF(OR(競技者一覧!P55=0, ISERROR(競技者一覧!P55)), \"\", 競技者一覧!P55)","v":""},{"$f":"IF(OR(競技者一覧!Q55=0, ISERROR(競技者一覧!Q55)), \"\", 競技者一覧!Q55)","v":""},{"$f":"IF(OR(競技者一覧!R55=0, ISERROR(競技者一覧!R55)), \"\", 競技者一覧!R55)","v":""},{"$f":"IF(OR(競技者一覧!S55=0, ISERROR(競技者一覧!S55)), \"\", 競技者一覧!S55)","v":""},{"$f":"IF(OR(競技者一覧!T55=0, ISERROR(競技者一覧!T55)), \"\", 競技者一覧!T55)","v":""},34]
[{"$f":"団体CSV!C36","v":""},{"$f":"団体CSV!D36","v":""},{"$f":"団体CSV!E36","v":" "},{"$f":"IFERROR(VLOOKUP(競技者一覧!I56,Sheet4!$J$2:$K$3,2,FALSE),\"\")","v":""},{"$f":"IF(OR(競技者一覧!J56=0, ISERROR(競技者一覧!J56)), \"\", 競技者一覧!J56)","v":""},{"$f":"IF(OR(競技者一覧!K56=0, ISERROR(競技者一覧!K56)), \"\", 競技者一覧!K56)","v":""},{"$f":"IF(OR(競技者一覧!L56=0, ISERROR(競技者一覧!L56)), \"\", 競技者一覧!L56)","v":""},{"$f":"IF(OR(競技者一覧!M56=0, ISERROR(競技者一覧!M56)), \"\", 競技者一覧!M56)","v":""},{"$f":"IF(OR(競技者一覧!N56=0, ISERROR(競技者一覧!N56)), \"\", 競技者一覧!N56)","v":""},{"$f":"IF(OR(競技者一覧!O56=0, ISERROR(競技者一覧!O56)), \"\", 競技者一覧!O56)","v":""},{"$f":"IF(OR(競技者一覧!P56=0, ISERROR(競技者一覧!P56)), \"\", 競技者一覧!P56)","v":""},{"$f":"IF(OR(競技者一覧!Q56=0, ISERROR(競技者一覧!Q56)), \"\", 競技者一覧!Q56)","v":""},{"$f":"IF(OR(競技者一覧!R56=0, ISERROR(競技者一覧!R56)), \"\", 競技者一覧!R56)","v":""},{"$f":"IF(OR(競技者一覧!S56=0, ISERROR(競技者一覧!S56)), \"\", 競技者一覧!S56)","v":""},{"$f":"IF(OR(競技者一覧!T56=0, ISERROR(競技者一覧!T56)), \"\", 競技者一覧!T56)","v":""},35]
[{"$f":"団体CSV!C37","v":""},{"$f":"団体CSV!D37","v":""},{"$f":"団体CSV!E37","v":" "},{"$f":"IFERROR(VLOOKUP(競技者一覧!I57,Sheet4!$J$2:$K$3,2,FALSE),\"\")","v":""},{"$f":"IF(OR(競技者一覧!J57=0, ISERROR(競技者一覧!J57)), \"\", 競技者一覧!J57)","v":""},{"$f":"IF(OR(競技者一覧!K57=0, ISERROR(競技者一覧!K57)), \"\", 競技者一覧!K57)","v":""},{"$f":"IF(OR(競技者一覧!L57=0, ISERROR(競技者一覧!L57)), \"\", 競技者一覧!L57)","v":""},{"$f":"IF(OR(競技者一覧!M57=0, ISERROR(競技者一覧!M57)), \"\", 競技者一覧!M57)","v":""},{"$f":"IF(OR(競技者一覧!N57=0, ISERROR(競技者一覧!N57)), \"\", 競技者一覧!N57)","v":""},{"$f":"IF(OR(競技者一覧!O57=0, ISERROR(競技者一覧!O57)), \"\", 競技者一覧!O57)","v":""},{"$f":"IF(OR(競技者一覧!P57=0, ISERROR(競技者一覧!P57)), \"\", 競技者一覧!P57)","v":""},{"$f":"IF(OR(競技者一覧!Q57=0, ISERROR(競技者一覧!Q57)), \"\", 競技者一覧!Q57)","v":""},{"$f":"IF(OR(競技者一覧!R57=0, ISERROR(競技者一覧!R57)), \"\", 競技者一覧!R57)","v":""},{"$f":"IF(OR(競技者一覧!S57=0, ISERROR(競技者一覧!S57)), \"\", 競技者一覧!S57)","v":""},{"$f":"IF(OR(競技者一覧!T57=0, ISERROR(競技者一覧!T57)), \"\", 競技者一覧!T57)","v":""},36]
[{"$f":"団体CSV!C38","v":""},{"$f":"団体CSV!D38","v":""},{"$f":"団体CSV!E38","v":" "},{"$f":"IFERROR(VLOOKUP(競技者一覧!I58,Sheet4!$J$2:$K$3,2,FALSE),\"\")","v":""},{"$f":"IF(OR(競技者一覧!J58=0, ISERROR(競技者一覧!J58)), \"\", 競技者一覧!J58)","v":""},{"$f":"IF(OR(競技者一覧!K58=0, ISERROR(競技者一覧!K58)), \"\", 競技者一覧!K58)","v":""},{"$f":"IF(OR(競技者一覧!L58=0, ISERROR(競技者一覧!L58)), \"\", 競技者一覧!L58)","v":""},{"$f":"IF(OR(競技者一覧!M58=0, ISERROR(競技者一覧!M58)), \"\", 競技者一覧!M58)","v":""},{"$f":"IF(OR(競技者一覧!N58=0, ISERROR(競技者一覧!N58)), \"\", 競技者一覧!N58)","v":""},{"$f":"IF(OR(競技者一覧!O58=0, ISERROR(競技者一覧!O58)), \"\", 競技者一覧!O58)","v":""},{"$f":"IF(OR(競技者一覧!P58=0, ISERROR(競技者一覧!P58)), \"\", 競技者一覧!P58)","v":""},{"$f":"IF(OR(競技者一覧!Q58=0, ISERROR(競技者一覧!Q58)), \"\", 競技者一覧!Q58)","v":""},{"$f":"IF(OR(競技者一覧!R58=0, ISERROR(競技者一覧!R58)), \"\", 競技者一覧!R58)","v":""},{"$f":"IF(OR(競技者一覧!S58=0, ISERROR(競技者一覧!S58)), \"\", 競技者一覧!S58)","v":""},{"$f":"IF(OR(競技者一覧!T58=0, ISERROR(競技者一覧!T58)), \"\", 競技者一覧!T58)","v":""},37]
[{"$f":"団体CSV!C39","v":""},{"$f":"団体CSV!D39","v":""},{"$f":"団体CSV!E39","v":" "},{"$f":"IFERROR(VLOOKUP(競技者一覧!I59,Sheet4!$J$2:$K$3,2,FALSE),\"\")","v":""},{"$f":"IF(OR(競技者一覧!J59=0, ISERROR(競技者一覧!J59)), \"\", 競技者一覧!J59)","v":""},{"$f":"IF(OR(競技者一覧!K59=0, ISERROR(競技者一覧!K59)), \"\", 競技者一覧!K59)","v":""},{"$f":"IF(OR(競技者一覧!L59=0, ISERROR(競技者一覧!L59)), \"\", 競技者一覧!L59)","v":""},{"$f":"IF(OR(競技者一覧!M59=0, ISERROR(競技者一覧!M59)), \"\", 競技者一覧!M59)","v":""},{"$f":"IF(OR(競技者一覧!N59=0, ISERROR(競技者一覧!N59)), \"\", 競技者一覧!N59)","v":""},{"$f":"IF(OR(競技者一覧!O59=0, ISERROR(競技者一覧!O59)), \"\", 競技者一覧!O59)","v":""},{"$f":"IF(OR(競技者一覧!P59=0, ISERROR(競技者一覧!P59)), \"\", 競技者一覧!P59)","v":""},{"$f":"IF(OR(競技者一覧!Q59=0, ISERROR(競技者一覧!Q59)), \"\", 競技者一覧!Q59)","v":""},{"$f":"IF(OR(競技者一覧!R59=0, ISERROR(競技者一覧!R59)), \"\", 競技者一覧!R59)","v":""},{"$f":"IF(OR(競技者一覧!S59=0, ISERROR(競技者一覧!S59)), \"\", 競技者一覧!S59)","v":""},{"$f":"IF(OR(競技者一覧!T59=0, ISERROR(競技者一覧!T59)), \"\", 競技者一覧!T59)","v":""},38]
[{"$f":"団体CSV!C40","v":""},{"$f":"団体CSV!D40","v":""},{"$f":"団体CSV!E40","v":" "},{"$f":"IFERROR(VLOOKUP(競技者一覧!I60,Sheet4!$J$2:$K$3,2,FALSE),\"\")","v":""},{"$f":"IF(OR(競技者一覧!J60=0, ISERROR(競技者一覧!J60)), \"\", 競技者一覧!J60)","v":""},{"$f":"IF(OR(競技者一覧!K60=0, ISERROR(競技者一覧!K60)), \"\", 競技者一覧!K60)","v":""},{"$f":"IF(OR(競技者一覧!L60=0, ISERROR(競技者一覧!L60)), \"\", 競技者一覧!L60)","v":""},{"$f":"IF(OR(競技者一覧!M60=0, ISERROR(競技者一覧!M60)), \"\", 競技者一覧!M60)","v":""},{"$f":"IF(OR(競技者一覧!N60=0, ISERROR(競技者一覧!N60)), \"\", 競技者一覧!N60)","v":""},{"$f":"IF(OR(競技者一覧!O60=0, ISERROR(競技者一覧!O60)), \"\", 競技者一覧!O60)","v":""},{"$f":"IF(OR(競技者一覧!P60=0, ISERROR(競技者一覧!P60)), \"\", 競技者一覧!P60)","v":""},{"$f":"IF(OR(競技者一覧!Q60=0, ISERROR(競技者一覧!Q60)), \"\", 競技者一覧!Q60)","v":""},{"$f":"IF(OR(競技者一覧!R60=0, ISERROR(競技者一覧!R60)), \"\", 競技者一覧!R60)","v":""},{"$f":"IF(OR(競技者一覧!S60=0, ISERROR(競技者一覧!S60)), \"\", 競技者一覧!S60)","v":""},{"$f":"IF(OR(競技者一覧!T60=0, ISERROR(競技者一覧!T60)), \"\", 競技者一覧!T60)","v":""},39]
[{"$f":"団体CSV!C41","v":""},{"$f":"団体CSV!D41","v":""},{"$f":"団体CSV!E41","v":" "},{"$f":"IFERROR(VLOOKUP(競技者一覧!I61,Sheet4!$J$2:$K$3,2,FALSE),\"\")","v":""},{"$f":"IF(OR(競技者一覧!J61=0, ISERROR(競技者一覧!J61)), \"\", 競技者一覧!J61)","v":""},{"$f":"IF(OR(競技者一覧!K61=0, ISERROR(競技者一覧!K61)), \"\", 競技者一覧!K61)","v":""},{"$f":"IF(OR(競技者一覧!L61=0, ISERROR(競技者一覧!L61)), \"\", 競技者一覧!L61)","v":""},{"$f":"IF(OR(競技者一覧!M61=0, ISERROR(競技者一覧!M61)), \"\", 競技者一覧!M61)","v":""},{"$f":"IF(OR(競技者一覧!N61=0, ISERROR(競技者一覧!N61)), \"\", 競技者一覧!N61)","v":""},{"$f":"IF(OR(競技者一覧!O61=0, ISERROR(競技者一覧!O61)), \"\", 競技者一覧!O61)","v":""},{"$f":"IF(OR(競技者一覧!P61=0, ISERROR(競技者一覧!P61)), \"\", 競技者一覧!P61)","v":""},{"$f":"IF(OR(競技者一覧!Q61=0, ISERROR(競技者一覧!Q61)), \"\", 競技者一覧!Q61)","v":""},{"$f":"IF(OR(競技者一覧!R61=0, ISERROR(競技者一覧!R61)), \"\", 競技者一覧!R61)","v":""},{"$f":"IF(OR(競技者一覧!S61=0, ISERROR(競技者一覧!S61)), \"\", 競技者一覧!S61)","v":""},{"$f":"IF(OR(競技者一覧!T61=0, ISERROR(競技者一覧!T61)), \"\", 競技者一覧!T61)","v":""},40]
[{"$f":"団体CSV!C42","v":""},{"$f":"団体CSV!D42","v":""},{"$f":"団体CSV!E42","v":" "},{"$f":"IFERROR(VLOOKUP(競技者一覧!I62,Sheet4!$J$2:$K$3,2,FALSE),\"\")","v":""},{"$f":"IF(OR(競技者一覧!J62=0, ISERROR(競技者一覧!J62)), \"\", 競技者一覧!J62)","v":""},{"$f":"IF(OR(競技者一覧!K62=0, ISERROR(競技者一覧!K62)), \"\", 競技者一覧!K62)","v":""},{"$f":"IF(OR(競技者一覧!L62=0, ISERROR(競技者一覧!L62)), \"\", 競技者一覧!L62)","v":""},{"$f":"IF(OR(競技者一覧!M62=0, ISERROR(競技者一覧!M62)), \"\", 競技者一覧!M62)","v":""},{"$f":"IF(OR(競技者一覧!N62=0, ISERROR(競技者一覧!N62)), \"\", 競技者一覧!N62)","v":""},{"$f":"IF(OR(競技者一覧!O62=0, ISERROR(競技者一覧!O62)), \"\", 競技者一覧!O62)","v":""},{"$f":"IF(OR(競技者一覧!P62=0, ISERROR(競技者一覧!P62)), \"\", 競技者一覧!P62)","v":""},{"$f":"IF(OR(競技者一覧!Q62=0, ISERROR(競技者一覧!Q62)), \"\", 競技者一覧!Q62)","v":""},{"$f":"IF(OR(競技者一覧!R62=0, ISERROR(競技者一覧!R62)), \"\", 競技者一覧!R62)","v":""},{"$f":"IF(OR(競技者一覧!S62=0, ISERROR(競技者一覧!S62)), \"\", 競技者一覧!S62)","v":""},{"$f":"IF(OR(競技者一覧!T62=0, ISERROR(競技者一覧!T62)), \"\", 競技者一覧!T62)","v":""},41]
[{"$f":"団体CSV!C43","v":""},{"$f":"団体CSV!D43","v":""},{"$f":"団体CSV!E43","v":" "},{"$f":"IFERROR(VLOOKUP(競技者一覧!I63,Sheet4!$J$2:$K$3,2,FALSE),\"\")","v":""},{"$f":"IF(OR(競技者一覧!J63=0, ISERROR(競技者一覧!J63)), \"\", 競技者一覧!J63)","v":""},{"$f":"IF(OR(競技者一覧!K63=0, ISERROR(競技者一覧!K63)), \"\", 競技者一覧!K63)","v":""},{"$f":"IF(OR(競技者一覧!L63=0, ISERROR(競技者一覧!L63)), \"\", 競技者一覧!L63)","v":""},{"$f":"IF(OR(競技者一覧!M63=0, ISERROR(競技者一覧!M63)), \"\", 競技者一覧!M63)","v":""},{"$f":"IF(OR(競技者一覧!N63=0, ISERROR(競技者一覧!N63)), \"\", 競技者一覧!N63)","v":""},{"$f":"IF(OR(競技者一覧!O63=0, ISERROR(競技者一覧!O63)), \"\", 競技者一覧!O63)","v":""},{"$f":"IF(OR(競技者一覧!P63=0, ISERROR(競技者一覧!P63)), \"\", 競技者一覧!P63)","v":""},{"$f":"IF(OR(競技者一覧!Q63=0, ISERROR(競技者一覧!Q63)), \"\", 競技者一覧!Q63)","v":""},{"$f":"IF(OR(競技者一覧!R63=0, ISERROR(競技者一覧!R63)), \"\", 競技者一覧!R63)","v":""},{"$f":"IF(OR(競技者一覧!S63=0, ISERROR(競技者一覧!S63)), \"\", 競技者一覧!S63)","v":""},{"$f":"IF(OR(競技者一覧!T63=0, ISERROR(競技者一覧!T63)), \"\", 競技者一覧!T63)","v":""},42]
[{"$f":"団体CSV!C44","v":""},{"$f":"団体CSV!D44","v":""},{"$f":"団体CSV!E44","v":" "},{"$f":"IFERROR(VLOOKUP(競技者一覧!I64,Sheet4!$J$2:$K$3,2,FALSE),\"\")","v":""},{"$f":"IF(OR(競技者一覧!J64=0, ISERROR(競技者一覧!J64)), \"\", 競技者一覧!J64)","v":""},{"$f":"IF(OR(競技者一覧!K64=0, ISERROR(競技者一覧!K64)), \"\", 競技者一覧!K64)","v":""},{"$f":"IF(OR(競技者一覧!L64=0, ISERROR(競技者一覧!L64)), \"\", 競技者一覧!L64)","v":""},{"$f":"IF(OR(競技者一覧!M64=0, ISERROR(競技者一覧!M64)), \"\", 競技者一覧!M64)","v":""},{"$f":"IF(OR(競技者一覧!N64=0, ISERROR(競技者一覧!N64)), \"\", 競技者一覧!N64)","v":""},{"$f":"IF(OR(競技者一覧!O64=0, ISERROR(競技者一覧!O64)), \"\", 競技者一覧!O64)","v":""},{"$f":"IF(OR(競技者一覧!P64=0, ISERROR(競技者一覧!P64)), \"\", 競技者一覧!P64)","v":""},{"$f":"IF(OR(競技者一覧!Q64=0, ISERROR(競技者一覧!Q64)), \"\", 競技者一覧!Q64)","v":""},{"$f":"IF(OR(競技者一覧!R64=0, ISERROR(競技者一覧!R64)), \"\", 競技者一覧!R64)","v":""},{"$f":"IF(OR(競技者一覧!S64=0, ISERROR(競技者一覧!S64)), \"\", 競技者一覧!S64)","v":""},{"$f":"IF(OR(競技者一覧!T64=0, ISERROR(競技者一覧!T64)), \"\", 競技者一覧!T64)","v":""},43]
[{"$f":"団体CSV!C45","v":""},{"$f":"団体CSV!D45","v":""},{"$f":"団体CSV!E45","v":" "},{"$f":"IFERROR(VLOOKUP(競技者一覧!I65,Sheet4!$J$2:$K$3,2,FALSE),\"\")","v":""},{"$f":"IF(OR(競技者一覧!J65=0, ISERROR(競技者一覧!J65)), \"\", 競技者一覧!J65)","v":""},{"$f":"IF(OR(競技者一覧!K65=0, ISERROR(競技者一覧!K65)), \"\", 競技者一覧!K65)","v":""},{"$f":"IF(OR(競技者一覧!L65=0, ISERROR(競技者一覧!L65)), \"\", 競技者一覧!L65)","v":""},{"$f":"IF(OR(競技者一覧!M65=0, ISERROR(競技者一覧!M65)), \"\", 競技者一覧!M65)","v":""},{"$f":"IF(OR(競技者一覧!N65=0, ISERROR(競技者一覧!N65)), \"\", 競技者一覧!N65)","v":""},{"$f":"IF(OR(競技者一覧!O65=0, ISERROR(競技者一覧!O65)), \"\", 競技者一覧!O65)","v":""},{"$f":"IF(OR(競技者一覧!P65=0, ISERROR(競技者一覧!P65)), \"\", 競技者一覧!P65)","v":""},{"$f":"IF(OR(競技者一覧!Q65=0, ISERROR(競技者一覧!Q65)), \"\", 競技者一覧!Q65)","v":""},{"$f":"IF(OR(競技者一覧!R65=0, ISERROR(競技者一覧!R65)), \"\", 競技者一覧!R65)","v":""},{"$f":"IF(OR(競技者一覧!S65=0, ISERROR(競技者一覧!S65)), \"\", 競技者一覧!S65)","v":""},{"$f":"IF(OR(競技者一覧!T65=0, ISERROR(競技者一覧!T65)), \"\", 競技者一覧!T65)","v":""},44]
[{"$f":"団体CSV!C46","v":""},{"$f":"団体CSV!D46","v":""},{"$f":"団体CSV!E46","v":" "},{"$f":"IFERROR(VLOOKUP(競技者一覧!I66,Sheet4!$J$2:$K$3,2,FALSE),\"\")","v":""},{"$f":"IF(OR(競技者一覧!J66=0, ISERROR(競技者一覧!J66)), \"\", 競技者一覧!J66)","v":""},{"$f":"IF(OR(競技者一覧!K66=0, ISERROR(競技者一覧!K66)), \"\", 競技者一覧!K66)","v":""},{"$f":"IF(OR(競技者一覧!L66=0, ISERROR(競技者一覧!L66)), \"\", 競技者一覧!L66)","v":""},{"$f":"IF(OR(競技者一覧!M66=0, ISERROR(競技者一覧!M66)), \"\", 競技者一覧!M66)","v":""},{"$f":"IF(OR(競技者一覧!N66=0, ISERROR(競技者一覧!N66)), \"\", 競技者一覧!N66)","v":""},{"$f":"IF(OR(競技者一覧!O66=0, ISERROR(競技者一覧!O66)), \"\", 競技者一覧!O66)","v":""},{"$f":"IF(OR(競技者一覧!P66=0, ISERROR(競技者一覧!P66)), \"\", 競技者一覧!P66)","v":""},{"$f":"IF(OR(競技者一覧!Q66=0, ISERROR(競技者一覧!Q66)), \"\", 競技者一覧!Q66)","v":""},{"$f":"IF(OR(競技者一覧!R66=0, ISERROR(競技者一覧!R66)), \"\", 競技者一覧!R66)","v":""},{"$f":"IF(OR(競技者一覧!S66=0, ISERROR(競技者一覧!S66)), \"\", 競技者一覧!S66)","v":""},{"$f":"IF(OR(競技者一覧!T66=0, ISERROR(競技者一覧!T66)), \"\", 競技者一覧!T66)","v":""},45]
[{"$f":"団体CSV!C47","v":""},{"$f":"団体CSV!D47","v":""},{"$f":"団体CSV!E47","v":" "},{"$f":"IFERROR(VLOOKUP(競技者一覧!I67,Sheet4!$J$2:$K$3,2,FALSE),\"\")","v":""},{"$f":"IF(OR(競技者一覧!J67=0, ISERROR(競技者一覧!J67)), \"\", 競技者一覧!J67)","v":""},{"$f":"IF(OR(競技者一覧!K67=0, ISERROR(競技者一覧!K67)), \"\", 競技者一覧!K67)","v":""},{"$f":"IF(OR(競技者一覧!L67=0, ISERROR(競技者一覧!L67)), \"\", 競技者一覧!L67)","v":""},{"$f":"IF(OR(競技者一覧!M67=0, ISERROR(競技者一覧!M67)), \"\", 競技者一覧!M67)","v":""},{"$f":"IF(OR(競技者一覧!N67=0, ISERROR(競技者一覧!N67)), \"\", 競技者一覧!N67)","v":""},{"$f":"IF(OR(競技者一覧!O67=0, ISERROR(競技者一覧!O67)), \"\", 競技者一覧!O67)","v":""},{"$f":"IF(OR(競技者一覧!P67=0, ISERROR(競技者一覧!P67)), \"\", 競技者一覧!P67)","v":""},{"$f":"IF(OR(競技者一覧!Q67=0, ISERROR(競技者一覧!Q67)), \"\", 競技者一覧!Q67)","v":""},{"$f":"IF(OR(競技者一覧!R67=0, ISERROR(競技者一覧!R67)), \"\", 競技者一覧!R67)","v":""},{"$f":"IF(OR(競技者一覧!S67=0, ISERROR(競技者一覧!S67)), \"\", 競技者一覧!S67)","v":""},{"$f":"IF(OR(競技者一覧!T67=0, ISERROR(競技者一覧!T67)), \"\", 競技者一覧!T67)","v":""},46]
[{"$f":"団体CSV!C48","v":""},{"$f":"団体CSV!D48","v":""},{"$f":"団体CSV!E48","v":" "},{"$f":"IFERROR(VLOOKUP(競技者一覧!I68,Sheet4!$J$2:$K$3,2,FALSE),\"\")","v":""},{"$f":"IF(OR(競技者一覧!J68=0, ISERROR(競技者一覧!J68)), \"\", 競技者一覧!J68)","v":""},{"$f":"IF(OR(競技者一覧!K68=0, ISERROR(競技者一覧!K68)), \"\", 競技者一覧!K68)","v":""},{"$f":"IF(OR(競技者一覧!L68=0, ISERROR(競技者一覧!L68)), \"\", 競技者一覧!L68)","v":""},{"$f":"IF(OR(競技者一覧!M68=0, ISERROR(競技者一覧!M68)), \"\", 競技者一覧!M68)","v":""},{"$f":"IF(OR(競技者一覧!N68=0, ISERROR(競技者一覧!N68)), \"\", 競技者一覧!N68)","v":""},{"$f":"IF(OR(競技者一覧!O68=0, ISERROR(競技者一覧!O68)), \"\", 競技者一覧!O68)","v":""},{"$f":"IF(OR(競技者一覧!P68=0, ISERROR(競技者一覧!P68)), \"\", 競技者一覧!P68)","v":""},{"$f":"IF(OR(競技者一覧!Q68=0, ISERROR(競技者一覧!Q68)), \"\", 競技者一覧!Q68)","v":""},{"$f":"IF(OR(競技者一覧!R68=0, ISERROR(競技者一覧!R68)), \"\", 競技者一覧!R68)","v":""},{"$f":"IF(OR(競技者一覧!S68=0, ISERROR(競技者一覧!S68)), \"\", 競技者一覧!S68)","v":""},{"$f":"IF(OR(競技者一覧!T68=0, ISERROR(競技者一覧!T68)), \"\", 競技者一覧!T68)","v":""},47]
[{"$f":"団体CSV!C49","v":""},{"$f":"団体CSV!D49","v":""},{"$f":"団体CSV!E49","v":" "},{"$f":"IFERROR(VLOOKUP(競技者一覧!I69,Sheet4!$J$2:$K$3,2,FALSE),\"\")","v":""},{"$f":"IF(OR(競技者一覧!J69=0, ISERROR(競技者一覧!J69)), \"\", 競技者一覧!J69)","v":""},{"$f":"IF(OR(競技者一覧!K69=0, ISERROR(競技者一覧!K69)), \"\", 競技者一覧!K69)","v":""},{"$f":"IF(OR(競技者一覧!L69=0, ISERROR(競技者一覧!L69)), \"\", 競技者一覧!L69)","v":""},{"$f":"IF(OR(競技者一覧!M69=0, ISERROR(競技者一覧!M69)), \"\", 競技者一覧!M69)","v":""},{"$f":"IF(OR(競技者一覧!N69=0, ISERROR(競技者一覧!N69)), \"\", 競技者一覧!N69)","v":""},{"$f":"IF(OR(競技者一覧!O69=0, ISERROR(競技者一覧!O69)), \"\", 競技者一覧!O69)","v":""},{"$f":"IF(OR(競技者一覧!P69=0, ISERROR(競技者一覧!P69)), \"\", 競技者一覧!P69)","v":""},{"$f":"IF(OR(競技者一覧!Q69=0, ISERROR(競技者一覧!Q69)), \"\", 競技者一覧!Q69)","v":""},{"$f":"IF(OR(競技者一覧!R69=0, ISERROR(競技者一覧!R69)), \"\", 競技者一覧!R69)","v":""},{"$f":"IF(OR(競技者一覧!S69=0, ISERROR(競技者一覧!S69)), \"\", 競技者一覧!S69)","v":""},{"$f":"IF(OR(競技者一覧!T69=0, ISERROR(競技者一覧!T69)), \"\", 競技者一覧!T69)","v":""},48]
[{"$f":"団体CSV!C50","v":""},{"$f":"団体CSV!D50","v":""},{"$f":"団体CSV!E50","v":" "},{"$f":"IFERROR(VLOOKUP(競技者一覧!I70,Sheet4!$J$2:$K$3,2,FALSE),\"\")","v":""},{"$f":"IF(OR(競技者一覧!J70=0, ISERROR(競技者一覧!J70)), \"\", 競技者一覧!J70)","v":""},{"$f":"IF(OR(競技者一覧!K70=0, ISERROR(競技者一覧!K70)), \"\", 競技者一覧!K70)","v":""},{"$f":"IF(OR(競技者一覧!L70=0, ISERROR(競技者一覧!L70)), \"\", 競技者一覧!L70)","v":""},{"$f":"IF(OR(競技者一覧!M70=0, ISERROR(競技者一覧!M70)), \"\", 競技者一覧!M70)","v":""},{"$f":"IF(OR(競技者一覧!N70=0, ISERROR(競技者一覧!N70)), \"\", 競技者一覧!N70)","v":""},{"$f":"IF(OR(競技者一覧!O70=0, ISERROR(競技者一覧!O70)), \"\", 競技者一覧!O70)","v":""},{"$f":"IF(OR(競技者一覧!P70=0, ISERROR(競技者一覧!P70)), \"\", 競技者一覧!P70)","v":""},{"$f":"IF(OR(競技者一覧!Q70=0, ISERROR(競技者一覧!Q70)), \"\", 競技者一覧!Q70)","v":""},{"$f":"IF(OR(競技者一覧!R70=0, ISERROR(競技者一覧!R70)), \"\", 競技者一覧!R70)","v":""},{"$f":"IF(OR(競技者一覧!S70=0, ISERROR(競技者一覧!S70)), \"\", 競技者一覧!S70)","v":""},{"$f":"IF(OR(競技者一覧!T70=0, ISERROR(競技者一覧!T70)), \"\", 競技者一覧!T70)","v":""},49]
[{"$f":"団体CSV!C51","v":""},{"$f":"団体CSV!D51","v":""},{"$f":"団体CSV!E51","v":" "},{"$f":"IFERROR(VLOOKUP(競技者一覧!I71,Sheet4!$J$2:$K$3,2,FALSE),\"\")","v":""},{"$f":"IF(OR(競技者一覧!J71=0, ISERROR(競技者一覧!J71)), \"\", 競技者一覧!J71)","v":""},{"$f":"IF(OR(競技者一覧!K71=0, ISERROR(競技者一覧!K71)), \"\", 競技者一覧!K71)","v":""},{"$f":"IF(OR(競技者一覧!L71=0, ISERROR(競技者一覧!L71)), \"\", 競技者一覧!L71)","v":""},{"$f":"IF(OR(競技者一覧!M71=0, ISERROR(競技者一覧!M71)), \"\", 競技者一覧!M71)","v":""},{"$f":"IF(OR(競技者一覧!N71=0, ISERROR(競技者一覧!N71)), \"\", 競技者一覧!N71)","v":""},{"$f":"IF(OR(競技者一覧!O71=0, ISERROR(競技者一覧!O71)), \"\", 競技者一覧!O71)","v":""},{"$f":"IF(OR(競技者一覧!P71=0, ISERROR(競技者一覧!P71)), \"\", 競技者一覧!P71)","v":""},{"$f":"IF(OR(競技者一覧!Q71=0, ISERROR(競技者一覧!Q71)), \"\", 競技者一覧!Q71)","v":""},{"$f":"IF(OR(競技者一覧!R71=0, ISERROR(競技者一覧!R71)), \"\", 競技者一覧!R71)","v":""},{"$f":"IF(OR(競技者一覧!S71=0, ISERROR(競技者一覧!S71)), \"\", 競技者一覧!S71)","v":""},{"$f":"IF(OR(競技者一覧!T71=0, ISERROR(競技者一覧!T71)), \"\", 競技者一覧!T71)","v":""},50]
[{"$f":"団体CSV!C52","v":""},{"$f":"団体CSV!D52","v":""},{"$f":"団体CSV!E52","v":" "},{"$f":"IFERROR(VLOOKUP(競技者一覧!I72,Sheet4!$J$2:$K$3,2,FALSE),\"\")","v":""},{"$f":"IF(OR(競技者一覧!J72=0, ISERROR(競技者一覧!J72)), \"\", 競技者一覧!J72)","v":""},{"$f":"IF(OR(競技者一覧!K72=0, ISERROR(競技者一覧!K72)), \"\", 競技者一覧!K72)","v":""},{"$f":"IF(OR(競技者一覧!L72=0, ISERROR(競技者一覧!L72)), \"\", 競技者一覧!L72)","v":""},{"$f":"IF(OR(競技者一覧!M72=0, ISERROR(競技者一覧!M72)), \"\", 競技者一覧!M72)","v":""},{"$f":"IF(OR(競技者一覧!N72=0, ISERROR(競技者一覧!N72)), \"\", 競技者一覧!N72)","v":""},{"$f":"IF(OR(競技者一覧!O72=0, ISERROR(競技者一覧!O72)), \"\", 競技者一覧!O72)","v":""},{"$f":"IF(OR(競技者一覧!P72=0, ISERROR(競技者一覧!P72)), \"\", 競技者一覧!P72)","v":""},{"$f":"IF(OR(競技者一覧!Q72=0, ISERROR(競技者一覧!Q72)), \"\", 競技者一覧!Q72)","v":""},{"$f":"IF(OR(競技者一覧!R72=0, ISERROR(競技者一覧!R72)), \"\", 競技者一覧!R72)","v":""},{"$f":"IF(OR(競技者一覧!S72=0, ISERROR(競技者一覧!S72)), \"\", 競技者一覧!S72)","v":""},{"$f":"IF(OR(競技者一覧!T72=0, ISERROR(競技者一覧!T72)), \"\", 競技者一覧!T72)","v":""},51]
[{"$f":"団体CSV!C53","v":""},{"$f":"団体CSV!D53","v":""},{"$f":"団体CSV!E53","v":" "},{"$f":"IFERROR(VLOOKUP(競技者一覧!I73,Sheet4!$J$2:$K$3,2,FALSE),\"\")","v":""},{"$f":"IF(OR(競技者一覧!J73=0, ISERROR(競技者一覧!J73)), \"\", 競技者一覧!J73)","v":""},{"$f":"IF(OR(競技者一覧!K73=0, ISERROR(競技者一覧!K73)), \"\", 競技者一覧!K73)","v":""},{"$f":"IF(OR(競技者一覧!L73=0, ISERROR(競技者一覧!L73)), \"\", 競技者一覧!L73)","v":""},{"$f":"IF(OR(競技者一覧!M73=0, ISERROR(競技者一覧!M73)), \"\", 競技者一覧!M73)","v":""},{"$f":"IF(OR(競技者一覧!N73=0, ISERROR(競技者一覧!N73)), \"\", 競技者一覧!N73)","v":""},{"$f":"IF(OR(競技者一覧!O73=0, ISERROR(競技者一覧!O73)), \"\", 競技者一覧!O73)","v":""},{"$f":"IF(OR(競技者一覧!P73=0, ISERROR(競技者一覧!P73)), \"\", 競技者一覧!P73)","v":""},{"$f":"IF(OR(競技者一覧!Q73=0, ISERROR(競技者一覧!Q73)), \"\", 競技者一覧!Q73)","v":""},{"$f":"IF(OR(競技者一覧!R73=0, ISERROR(競技者一覧!R73)), \"\", 競技者一覧!R73)","v":""},{"$f":"IF(OR(競技者一覧!S73=0, ISERROR(競技者一覧!S73)), \"\", 競技者一覧!S73)","v":""},{"$f":"IF(OR(競技者一覧!T73=0, ISERROR(競技者一覧!T73)), \"\", 競技者一覧!T73)","v":""},52]
[{"$f":"団体CSV!C54","v":""},{"$f":"団体CSV!D54","v":""},{"$f":"団体CSV!E54","v":" "},{"$f":"IFERROR(VLOOKUP(競技者一覧!I74,Sheet4!$J$2:$K$3,2,FALSE),\"\")","v":""},{"$f":"IF(OR(競技者一覧!J74=0, ISERROR(競技者一覧!J74)), \"\", 競技者一覧!J74)","v":""},{"$f":"IF(OR(競技者一覧!K74=0, ISERROR(競技者一覧!K74)), \"\", 競技者一覧!K74)","v":""},{"$f":"IF(OR(競技者一覧!L74=0, ISERROR(競技者一覧!L74)), \"\", 競技者一覧!L74)","v":""},{"$f":"IF(OR(競技者一覧!M74=0, ISERROR(競技者一覧!M74)), \"\", 競技者一覧!M74)","v":""},{"$f":"IF(OR(競技者一覧!N74=0, ISERROR(競技者一覧!N74)), \"\", 競技者一覧!N74)","v":""},{"$f":"IF(OR(競技者一覧!O74=0, ISERROR(競技者一覧!O74)), \"\", 競技者一覧!O74)","v":""},{"$f":"IF(OR(競技者一覧!P74=0, ISERROR(競技者一覧!P74)), \"\", 競技者一覧!P74)","v":""},{"$f":"IF(OR(競技者一覧!Q74=0, ISERROR(競技者一覧!Q74)), \"\", 競技者一覧!Q74)","v":""},{"$f":"IF(OR(競技者一覧!R74=0, ISERROR(競技者一覧!R74)), \"\", 競技者一覧!R74)","v":""},{"$f":"IF(OR(競技者一覧!S74=0, ISERROR(競技者一覧!S74)), \"\", 競技者一覧!S74)","v":""},{"$f":"IF(OR(競技者一覧!T74=0, ISERROR(競技者一覧!T74)), \"\", 競技者一覧!T74)","v":""},53]
[{"$f":"団体CSV!C55","v":""},{"$f":"団体CSV!D55","v":""},{"$f":"団体CSV!E55","v":" "},{"$f":"IFERROR(VLOOKUP(競技者一覧!I75,Sheet4!$J$2:$K$3,2,FALSE),\"\")","v":""},{"$f":"IF(OR(競技者一覧!J75=0, ISERROR(競技者一覧!J75)), \"\", 競技者一覧!J75)","v":""},{"$f":"IF(OR(競技者一覧!K75=0, ISERROR(競技者一覧!K75)), \"\", 競技者一覧!K75)","v":""},{"$f":"IF(OR(競技者一覧!L75=0, ISERROR(競技者一覧!L75)), \"\", 競技者一覧!L75)","v":""},{"$f":"IF(OR(競技者一覧!M75=0, ISERROR(競技者一覧!M75)), \"\", 競技者一覧!M75)","v":""},{"$f":"IF(OR(競技者一覧!N75=0, ISERROR(競技者一覧!N75)), \"\", 競技者一覧!N75)","v":""},{"$f":"IF(OR(競技者一覧!O75=0, ISERROR(競技者一覧!O75)), \"\", 競技者一覧!O75)","v":""},{"$f":"IF(OR(競技者一覧!P75=0, ISERROR(競技者一覧!P75)), \"\", 競技者一覧!P75)","v":""},{"$f":"IF(OR(競技者一覧!Q75=0, ISERROR(競技者一覧!Q75)), \"\", 競技者一覧!Q75)","v":""},{"$f":"IF(OR(競技者一覧!R75=0, ISERROR(競技者一覧!R75)), \"\", 競技者一覧!R75)","v":""},{"$f":"IF(OR(競技者一覧!S75=0, ISERROR(競技者一覧!S75)), \"\", 競技者一覧!S75)","v":""},{"$f":"IF(OR(競技者一覧!T75=0, ISERROR(競技者一覧!T75)), \"\", 競技者一覧!T75)","v":""},54]
[{"$f":"団体CSV!C56","v":""},{"$f":"団体CSV!D56","v":""},{"$f":"団体CSV!E56","v":" "},{"$f":"IFERROR(VLOOKUP(競技者一覧!I76,Sheet4!$J$2:$K$3,2,FALSE),\"\")","v":""},{"$f":"IF(OR(競技者一覧!J76=0, ISERROR(競技者一覧!J76)), \"\", 競技者一覧!J76)","v":""},{"$f":"IF(OR(競技者一覧!K76=0, ISERROR(競技者一覧!K76)), \"\", 競技者一覧!K76)","v":""},{"$f":"IF(OR(競技者一覧!L76=0, ISERROR(競技者一覧!L76)), \"\", 競技者一覧!L76)","v":""},{"$f":"IF(OR(競技者一覧!M76=0, ISERROR(競技者一覧!M76)), \"\", 競技者一覧!M76)","v":""},{"$f":"IF(OR(競技者一覧!N76=0, ISERROR(競技者一覧!N76)), \"\", 競技者一覧!N76)","v":""},{"$f":"IF(OR(競技者一覧!O76=0, ISERROR(競技者一覧!O76)), \"\", 競技者一覧!O76)","v":""},{"$f":"IF(OR(競技者一覧!P76=0, ISERROR(競技者一覧!P76)), \"\", 競技者一覧!P76)","v":""},{"$f":"IF(OR(競技者一覧!Q76=0, ISERROR(競技者一覧!Q76)), \"\", 競技者一覧!Q76)","v":""},{"$f":"IF(OR(競技者一覧!R76=0, ISERROR(競技者一覧!R76)), \"\", 競技者一覧!R76)","v":""},{"$f":"IF(OR(競技者一覧!S76=0, ISERROR(競技者一覧!S76)), \"\", 競技者一覧!S76)","v":""},{"$f":"IF(OR(競技者一覧!T76=0, ISERROR(競技者一覧!T76)), \"\", 競技者一覧!T76)","v":""},55]
[{"$f":"団体CSV!C57","v":""},{"$f":"団体CSV!D57","v":""},{"$f":"団体CSV!E57","v":" "},{"$f":"IFERROR(VLOOKUP(競技者一覧!I77,Sheet4!$J$2:$K$3,2,FALSE),\"\")","v":""},{"$f":"IF(OR(競技者一覧!J77=0, ISERROR(競技者一覧!J77)), \"\", 競技者一覧!J77)","v":""},{"$f":"IF(OR(競技者一覧!K77=0, ISERROR(競技者一覧!K77)), \"\", 競技者一覧!K77)","v":""},{"$f":"IF(OR(競技者一覧!L77=0, ISERROR(競技者一覧!L77)), \"\", 競技者一覧!L77)","v":""},{"$f":"IF(OR(競技者一覧!M77=0, ISERROR(競技者一覧!M77)), \"\", 競技者一覧!M77)","v":""},{"$f":"IF(OR(競技者一覧!N77=0, ISERROR(競技者一覧!N77)), \"\", 競技者一覧!N77)","v":""},{"$f":"IF(OR(競技者一覧!O77=0, ISERROR(競技者一覧!O77)), \"\", 競技者一覧!O77)","v":""},{"$f":"IF(OR(競技者一覧!P77=0, ISERROR(競技者一覧!P77)), \"\", 競技者一覧!P77)","v":""},{"$f":"IF(OR(競技者一覧!Q77=0, ISERROR(競技者一覧!Q77)), \"\", 競技者一覧!Q77)","v":""},{"$f":"IF(OR(競技者一覧!R77=0, ISERROR(競技者一覧!R77)), \"\", 競技者一覧!R77)","v":""},{"$f":"IF(OR(競技者一覧!S77=0, ISERROR(競技者一覧!S77)), \"\", 競技者一覧!S77)","v":""},{"$f":"IF(OR(競技者一覧!T77=0, ISERROR(競技者一覧!T77)), \"\", 競技者一覧!T77)","v":""},56]
[{"$f":"団体CSV!C58","v":""},{"$f":"団体CSV!D58","v":""},{"$f":"団体CSV!E58","v":" "},{"$f":"IFERROR(VLOOKUP(競技者一覧!I78,Sheet4!$J$2:$K$3,2,FALSE),\"\")","v":""},{"$f":"IF(OR(競技者一覧!J78=0, ISERROR(競技者一覧!J78)), \"\", 競技者一覧!J78)","v":""},{"$f":"IF(OR(競技者一覧!K78=0, ISERROR(競技者一覧!K78)), \"\", 競技者一覧!K78)","v":""},{"$f":"IF(OR(競技者一覧!L78=0, ISERROR(競技者一覧!L78)), \"\", 競技者一覧!L78)","v":""},{"$f":"IF(OR(競技者一覧!M78=0, ISERROR(競技者一覧!M78)), \"\", 競技者一覧!M78)","v":""},{"$f":"IF(OR(競技者一覧!N78=0, ISERROR(競技者一覧!N78)), \"\", 競技者一覧!N78)","v":""},{"$f":"IF(OR(競技者一覧!O78=0, ISERROR(競技者一覧!O78)), \"\", 競技者一覧!O78)","v":""},{"$f":"IF(OR(競技者一覧!P78=0, ISERROR(競技者一覧!P78)), \"\", 競技者一覧!P78)","v":""},{"$f":"IF(OR(競技者一覧!Q78=0, ISERROR(競技者一覧!Q78)), \"\", 競技者一覧!Q78)","v":""},{"$f":"IF(OR(競技者一覧!R78=0, ISERROR(競技者一覧!R78)), \"\", 競技者一覧!R78)","v":""},{"$f":"IF(OR(競技者一覧!S78=0, ISERROR(競技者一覧!S78)), \"\", 競技者一覧!S78)","v":""},{"$f":"IF(OR(競技者一覧!T78=0, ISERROR(競技者一覧!T78)), \"\", 競技者一覧!T78)","v":""},57]
[{"$f":"団体CSV!C59","v":""},{"$f":"団体CSV!D59","v":""},{"$f":"団体CSV!E59","v":" "},{"$f":"IFERROR(VLOOKUP(競技者一覧!I79,Sheet4!$J$2:$K$3,2,FALSE),\"\")","v":""},{"$f":"IF(OR(競技者一覧!J79=0, ISERROR(競技者一覧!J79)), \"\", 競技者一覧!J79)","v":""},{"$f":"IF(OR(競技者一覧!K79=0, ISERROR(競技者一覧!K79)), \"\", 競技者一覧!K79)","v":""},{"$f":"IF(OR(競技者一覧!L79=0, ISERROR(競技者一覧!L79)), \"\", 競技者一覧!L79)","v":""},{"$f":"IF(OR(競技者一覧!M79=0, ISERROR(競技者一覧!M79)), \"\", 競技者一覧!M79)","v":""},{"$f":"IF(OR(競技者一覧!N79=0, ISERROR(競技者一覧!N79)), \"\", 競技者一覧!N79)","v":""},{"$f":"IF(OR(競技者一覧!O79=0, ISERROR(競技者一覧!O79)), \"\", 競技者一覧!O79)","v":""},{"$f":"IF(OR(競技者一覧!P79=0, ISERROR(競技者一覧!P79)), \"\", 競技者一覧!P79)","v":""},{"$f":"IF(OR(競技者一覧!Q79=0, ISERROR(競技者一覧!Q79)), \"\", 競技者一覧!Q79)","v":""},{"$f":"IF(OR(競技者一覧!R79=0, ISERROR(競技者一覧!R79)), \"\", 競技者一覧!R79)","v":""},{"$f":"IF(OR(競技者一覧!S79=0, ISERROR(競技者一覧!S79)), \"\", 競技者一覧!S79)","v":""},{"$f":"IF(OR(競技者一覧!T79=0, ISERROR(競技者一覧!T79)), \"\", 競技者一覧!T79)","v":""},58]
[{"$f":"団体CSV!C60","v":""},{"$f":"団体CSV!D60","v":""},{"$f":"団体CSV!E60","v":" "},{"$f":"IFERROR(VLOOKUP(競技者一覧!I80,Sheet4!$J$2:$K$3,2,FALSE),\"\")","v":""},{"$f":"IF(OR(競技者一覧!J80=0, ISERROR(競技者一覧!J80)), \"\", 競技者一覧!J80)","v":""},{"$f":"IF(OR(競技者一覧!K80=0, ISERROR(競技者一覧!K80)), \"\", 競技者一覧!K80)","v":""},{"$f":"IF(OR(競技者一覧!L80=0, ISERROR(競技者一覧!L80)), \"\", 競技者一覧!L80)","v":""},{"$f":"IF(OR(競技者一覧!M80=0, ISERROR(競技者一覧!M80)), \"\", 競技者一覧!M80)","v":""},{"$f":"IF(OR(競技者一覧!N80=0, ISERROR(競技者一覧!N80)), \"\", 競技者一覧!N80)","v":""},{"$f":"IF(OR(競技者一覧!O80=0, ISERROR(競技者一覧!O80)), \"\", 競技者一覧!O80)","v":""},{"$f":"IF(OR(競技者一覧!P80=0, ISERROR(競技者一覧!P80)), \"\", 競技者一覧!P80)","v":""},{"$f":"IF(OR(競技者一覧!Q80=0, ISERROR(競技者一覧!Q80)), \"\", 競技者一覧!Q80)","v":""},{"$f":"IF(OR(競技者一覧!R80=0, ISERROR(競技者一覧!R80)), \"\", 競技者一覧!R80)","v":""},{"$f":"IF(OR(競技者一覧!S80=0, ISERROR(競技者一覧!S80)), \"\", 競技者一覧!S80)","v":""},{"$f":"IF(OR(競技者一覧!T80=0, ISERROR(競技者一覧!T80)), \"\", 競技者一覧!T80)","v":""},59]
[{"$f":"団体CSV!C61","v":""},{"$f":"団体CSV!D61","v":""},{"$f":"団体CSV!E61","v":" "},{"$f":"IFERROR(VLOOKUP(競技者一覧!I81,Sheet4!$J$2:$K$3,2,FALSE),\"\")","v":""},{"$f":"IF(OR(競技者一覧!J81=0, ISERROR(競技者一覧!J81)), \"\", 競技者一覧!J81)","v":""},{"$f":"IF(OR(競技者一覧!K81=0, ISERROR(競技者一覧!K81)), \"\", 競技者一覧!K81)","v":""},{"$f":"IF(OR(競技者一覧!L81=0, ISERROR(競技者一覧!L81)), \"\", 競技者一覧!L81)","v":""},{"$f":"IF(OR(競技者一覧!M81=0, ISERROR(競技者一覧!M81)), \"\", 競技者一覧!M81)","v":""},{"$f":"IF(OR(競技者一覧!N81=0, ISERROR(競技者一覧!N81)), \"\", 競技者一覧!N81)","v":""},{"$f":"IF(OR(競技者一覧!O81=0, ISERROR(競技者一覧!O81)), \"\", 競技者一覧!O81)","v":""},{"$f":"IF(OR(競技者一覧!P81=0, ISERROR(競技者一覧!P81)), \"\", 競技者一覧!P81)","v":""},{"$f":"IF(OR(競技者一覧!Q81=0, ISERROR(競技者一覧!Q81)), \"\", 競技者一覧!Q81)","v":""},{"$f":"IF(OR(競技者一覧!R81=0, ISERROR(競技者一覧!R81)), \"\", 競技者一覧!R81)","v":""},{"$f":"IF(OR(競技者一覧!S81=0, ISERROR(競技者一覧!S81)), \"\", 競技者一覧!S81)","v":""},{"$f":"IF(OR(競技者一覧!T81=0, ISERROR(競技者一覧!T81)), \"\", 競技者一覧!T81)","v":""},60]
[{"$f":"団体CSV!C62","v":""},{"$f":"団体CSV!D62","v":""},{"$f":"団体CSV!E62","v":" "},{"$f":"IFERROR(VLOOKUP(競技者一覧!I82,Sheet4!$J$2:$K$3,2,FALSE),\"\")","v":""},{"$f":"IF(OR(競技者一覧!J82=0, ISERROR(競技者一覧!J82)), \"\", 競技者一覧!J82)","v":""},{"$f":"IF(OR(競技者一覧!K82=0, ISERROR(競技者一覧!K82)), \"\", 競技者一覧!K82)","v":""},{"$f":"IF(OR(競技者一覧!L82=0, ISERROR(競技者一覧!L82)), \"\", 競技者一覧!L82)","v":""},{"$f":"IF(OR(競技者一覧!M82=0, ISERROR(競技者一覧!M82)), \"\", 競技者一覧!M82)","v":""},{"$f":"IF(OR(競技者一覧!N82=0, ISERROR(競技者一覧!N82)), \"\", 競技者一覧!N82)","v":""},{"$f":"IF(OR(競技者一覧!O82=0, ISERROR(競技者一覧!O82)), \"\", 競技者一覧!O82)","v":""},{"$f":"IF(OR(競技者一覧!P82=0, ISERROR(競技者一覧!P82)), \"\", 競技者一覧!P82)","v":""},{"$f":"IF(OR(競技者一覧!Q82=0, ISERROR(競技者一覧!Q82)), \"\", 競技者一覧!Q82)","v":""},{"$f":"IF(OR(競技者一覧!R82=0, ISERROR(競技者一覧!R82)), \"\", 競技者一覧!R82)","v":""},{"$f":"IF(OR(競技者一覧!S82=0, ISERROR(競技者一覧!S82)), \"\", 競技者一覧!S82)","v":""},{"$f":"IF(OR(競技者一覧!T82=0, ISERROR(競技者一覧!T82)), \"\", 競技者一覧!T82)","v":""},61]
[{"$f":"団体CSV!C63","v":""},{"$f":"団体CSV!D63","v":""},{"$f":"団体CSV!E63","v":" "},{"$f":"IFERROR(VLOOKUP(競技者一覧!I83,Sheet4!$J$2:$K$3,2,FALSE),\"\")","v":""},{"$f":"IF(OR(競技者一覧!J83=0, ISERROR(競技者一覧!J83)), \"\", 競技者一覧!J83)","v":""},{"$f":"IF(OR(競技者一覧!K83=0, ISERROR(競技者一覧!K83)), \"\", 競技者一覧!K83)","v":""},{"$f":"IF(OR(競技者一覧!L83=0, ISERROR(競技者一覧!L83)), \"\", 競技者一覧!L83)","v":""},{"$f":"IF(OR(競技者一覧!M83=0, ISERROR(競技者一覧!M83)), \"\", 競技者一覧!M83)","v":""},{"$f":"IF(OR(競技者一覧!N83=0, ISERROR(競技者一覧!N83)), \"\", 競技者一覧!N83)","v":""},{"$f":"IF(OR(競技者一覧!O83=0, ISERROR(競技者一覧!O83)), \"\", 競技者一覧!O83)","v":""},{"$f":"IF(OR(競技者一覧!P83=0, ISERROR(競技者一覧!P83)), \"\", 競技者一覧!P83)","v":""},{"$f":"IF(OR(競技者一覧!Q83=0, ISERROR(競技者一覧!Q83)), \"\", 競技者一覧!Q83)","v":""},{"$f":"IF(OR(競技者一覧!R83=0, ISERROR(競技者一覧!R83)), \"\", 競技者一覧!R83)","v":""},{"$f":"IF(OR(競技者一覧!S83=0, ISERROR(競技者一覧!S83)), \"\", 競技者一覧!S83)","v":""},{"$f":"IF(OR(競技者一覧!T83=0, ISERROR(競技者一覧!T83)), \"\", 競技者一覧!T83)","v":""},62]
[{"$f":"団体CSV!C64","v":""},{"$f":"団体CSV!D64","v":""},{"$f":"団体CSV!E64","v":" "},{"$f":"IFERROR(VLOOKUP(競技者一覧!I84,Sheet4!$J$2:$K$3,2,FALSE),\"\")","v":""},{"$f":"IF(OR(競技者一覧!J84=0, ISERROR(競技者一覧!J84)), \"\", 競技者一覧!J84)","v":""},{"$f":"IF(OR(競技者一覧!K84=0, ISERROR(競技者一覧!K84)), \"\", 競技者一覧!K84)","v":""},{"$f":"IF(OR(競技者一覧!L84=0, ISERROR(競技者一覧!L84)), \"\", 競技者一覧!L84)","v":""},{"$f":"IF(OR(競技者一覧!M84=0, ISERROR(競技者一覧!M84)), \"\", 競技者一覧!M84)","v":""},{"$f":"IF(OR(競技者一覧!N84=0, ISERROR(競技者一覧!N84)), \"\", 競技者一覧!N84)","v":""},{"$f":"IF(OR(競技者一覧!O84=0, ISERROR(競技者一覧!O84)), \"\", 競技者一覧!O84)","v":""},{"$f":"IF(OR(競技者一覧!P84=0, ISERROR(競技者一覧!P84)), \"\", 競技者一覧!P84)","v":""},{"$f":"IF(OR(競技者一覧!Q84=0, ISERROR(競技者一覧!Q84)), \"\", 競技者一覧!Q84)","v":""},{"$f":"IF(OR(競技者一覧!R84=0, ISERROR(競技者一覧!R84)), \"\", 競技者一覧!R84)","v":""},{"$f":"IF(OR(競技者一覧!S84=0, ISERROR(競技者一覧!S84)), \"\", 競技者一覧!S84)","v":""},{"$f":"IF(OR(競技者一覧!T84=0, ISERROR(競技者一覧!T84)), \"\", 競技者一覧!T84)","v":""},63]
[{"$f":"団体CSV!C65","v":""},{"$f":"団体CSV!D65","v":""},{"$f":"団体CSV!E65","v":" "},{"$f":"IFERROR(VLOOKUP(競技者一覧!I85,Sheet4!$J$2:$K$3,2,FALSE),\"\")","v":""},{"$f":"IF(OR(競技者一覧!J85=0, ISERROR(競技者一覧!J85)), \"\", 競技者一覧!J85)","v":""},{"$f":"IF(OR(競技者一覧!K85=0, ISERROR(競技者一覧!K85)), \"\", 競技者一覧!K85)","v":""},{"$f":"IF(OR(競技者一覧!L85=0, ISERROR(競技者一覧!L85)), \"\", 競技者一覧!L85)","v":""},{"$f":"IF(OR(競技者一覧!M85=0, ISERROR(競技者一覧!M85)), \"\", 競技者一覧!M85)","v":""},{"$f":"IF(OR(競技者一覧!N85=0, ISERROR(競技者一覧!N85)), \"\", 競技者一覧!N85)","v":""},{"$f":"IF(OR(競技者一覧!O85=0, ISERROR(競技者一覧!O85)), \"\", 競技者一覧!O85)","v":""},{"$f":"IF(OR(競技者一覧!P85=0, ISERROR(競技者一覧!P85)), \"\", 競技者一覧!P85)","v":""},{"$f":"IF(OR(競技者一覧!Q85=0, ISERROR(競技者一覧!Q85)), \"\", 競技者一覧!Q85)","v":""},{"$f":"IF(OR(競技者一覧!R85=0, ISERROR(競技者一覧!R85)), \"\", 競技者一覧!R85)","v":""},{"$f":"IF(OR(競技者一覧!S85=0, ISERROR(競技者一覧!S85)), \"\", 競技者一覧!S85)","v":""},{"$f":"IF(OR(競技者一覧!T85=0, ISERROR(競技者一覧!T85)), \"\", 競技者一覧!T85)","v":""},64]
[{"$f":"団体CSV!C66","v":""},{"$f":"団体CSV!D66","v":""},{"$f":"団体CSV!E66","v":" "},{"$f":"IFERROR(VLOOKUP(競技者一覧!I86,Sheet4!$J$2:$K$3,2,FALSE),\"\")","v":""},{"$f":"IF(OR(競技者一覧!J86=0, ISERROR(競技者一覧!J86)), \"\", 競技者一覧!J86)","v":""},{"$f":"IF(OR(競技者一覧!K86=0, ISERROR(競技者一覧!K86)), \"\", 競技者一覧!K86)","v":""},{"$f":"IF(OR(競技者一覧!L86=0, ISERROR(競技者一覧!L86)), \"\", 競技者一覧!L86)","v":""},{"$f":"IF(OR(競技者一覧!M86=0, ISERROR(競技者一覧!M86)), \"\", 競技者一覧!M86)","v":""},{"$f":"IF(OR(競技者一覧!N86=0, ISERROR(競技者一覧!N86)), \"\", 競技者一覧!N86)","v":""},{"$f":"IF(OR(競技者一覧!O86=0, ISERROR(競技者一覧!O86)), \"\", 競技者一覧!O86)","v":""},{"$f":"IF(OR(競技者一覧!P86=0, ISERROR(競技者一覧!P86)), \"\", 競技者一覧!P86)","v":""},{"$f":"IF(OR(競技者一覧!Q86=0, ISERROR(競技者一覧!Q86)), \"\", 競技者一覧!Q86)","v":""},{"$f":"IF(OR(競技者一覧!R86=0, ISERROR(競技者一覧!R86)), \"\", 競技者一覧!R86)","v":""},{"$f":"IF(OR(競技者一覧!S86=0, ISERROR(競技者一覧!S86)), \"\", 競技者一覧!S86)","v":""},{"$f":"IF(OR(競技者一覧!T86=0, ISERROR(競技者一覧!T86)), \"\", 競技者一覧!T86)","v":""},65]
[{"$f":"団体CSV!C67","v":""},{"$f":"団体CSV!D67","v":""},{"$f":"団体CSV!E67","v":" "},{"$f":"IFERROR(VLOOKUP(競技者一覧!I87,Sheet4!$J$2:$K$3,2,FALSE),\"\")","v":""},{"$f":"IF(OR(競技者一覧!J87=0, ISERROR(競技者一覧!J87)), \"\", 競技者一覧!J87)","v":""},{"$f":"IF(OR(競技者一覧!K87=0, ISERROR(競技者一覧!K87)), \"\", 競技者一覧!K87)","v":""},{"$f":"IF(OR(競技者一覧!L87=0, ISERROR(競技者一覧!L87)), \"\", 競技者一覧!L87)","v":""},{"$f":"IF(OR(競技者一覧!M87=0, ISERROR(競技者一覧!M87)), \"\", 競技者一覧!M87)","v":""},{"$f":"IF(OR(競技者一覧!N87=0, ISERROR(競技者一覧!N87)), \"\", 競技者一覧!N87)","v":""},{"$f":"IF(OR(競技者一覧!O87=0, ISERROR(競技者一覧!O87)), \"\", 競技者一覧!O87)","v":""},{"$f":"IF(OR(競技者一覧!P87=0, ISERROR(競技者一覧!P87)), \"\", 競技者一覧!P87)","v":""},{"$f":"IF(OR(競技者一覧!Q87=0, ISERROR(競技者一覧!Q87)), \"\", 競技者一覧!Q87)","v":""},{"$f":"IF(OR(競技者一覧!R87=0, ISERROR(競技者一覧!R87)), \"\", 競技者一覧!R87)","v":""},{"$f":"IF(OR(競技者一覧!S87=0, ISERROR(競技者一覧!S87)), \"\", 競技者一覧!S87)","v":""},{"$f":"IF(OR(競技者一覧!T87=0, ISERROR(競技者一覧!T87)), \"\", 競技者一覧!T87)","v":""},66]
[{"$f":"団体CSV!C68","v":""},{"$f":"団体CSV!D68","v":""},{"$f":"団体CSV!E68","v":" "},{"$f":"IFERROR(VLOOKUP(競技者一覧!I88,Sheet4!$J$2:$K$3,2,FALSE),\"\")","v":""},{"$f":"IF(OR(競技者一覧!J88=0, ISERROR(競技者一覧!J88)), \"\", 競技者一覧!J88)","v":""},{"$f":"IF(OR(競技者一覧!K88=0, ISERROR(競技者一覧!K88)), \"\", 競技者一覧!K88)","v":""},{"$f":"IF(OR(競技者一覧!L88=0, ISERROR(競技者一覧!L88)), \"\", 競技者一覧!L88)","v":""},{"$f":"IF(OR(競技者一覧!M88=0, ISERROR(競技者一覧!M88)), \"\", 競技者一覧!M88)","v":""},{"$f":"IF(OR(競技者一覧!N88=0, ISERROR(競技者一覧!N88)), \"\", 競技者一覧!N88)","v":""},{"$f":"IF(OR(競技者一覧!O88=0, ISERROR(競技者一覧!O88)), \"\", 競技者一覧!O88)","v":""},{"$f":"IF(OR(競技者一覧!P88=0, ISERROR(競技者一覧!P88)), \"\", 競技者一覧!P88)","v":""},{"$f":"IF(OR(競技者一覧!Q88=0, ISERROR(競技者一覧!Q88)), \"\", 競技者一覧!Q88)","v":""},{"$f":"IF(OR(競技者一覧!R88=0, ISERROR(競技者一覧!R88)), \"\", 競技者一覧!R88)","v":""},{"$f":"IF(OR(競技者一覧!S88=0, ISERROR(競技者一覧!S88)), \"\", 競技者一覧!S88)","v":""},{"$f":"IF(OR(競技者一覧!T88=0, ISERROR(競技者一覧!T88)), \"\", 競技者一覧!T88)","v":""},67]
[{"$f":"団体CSV!C69","v":""},{"$f":"団体CSV!D69","v":""},{"$f":"団体CSV!E69","v":" "},{"$f":"IFERROR(VLOOKUP(競技者一覧!I89,Sheet4!$J$2:$K$3,2,FALSE),\"\")","v":""},{"$f":"IF(OR(競技者一覧!J89=0, ISERROR(競技者一覧!J89)), \"\", 競技者一覧!J89)","v":""},{"$f":"IF(OR(競技者一覧!K89=0, ISERROR(競技者一覧!K89)), \"\", 競技者一覧!K89)","v":""},{"$f":"IF(OR(競技者一覧!L89=0, ISERROR(競技者一覧!L89)), \"\", 競技者一覧!L89)","v":""},{"$f":"IF(OR(競技者一覧!M89=0, ISERROR(競技者一覧!M89)), \"\", 競技者一覧!M89)","v":""},{"$f":"IF(OR(競技者一覧!N89=0, ISERROR(競技者一覧!N89)), \"\", 競技者一覧!N89)","v":""},{"$f":"IF(OR(競技者一覧!O89=0, ISERROR(競技者一覧!O89)), \"\", 競技者一覧!O89)","v":""},{"$f":"IF(OR(競技者一覧!P89=0, ISERROR(競技者一覧!P89)), \"\", 競技者一覧!P89)","v":""},{"$f":"IF(OR(競技者一覧!Q89=0, ISERROR(競技者一覧!Q89)), \"\", 競技者一覧!Q89)","v":""},{"$f":"IF(OR(競技者一覧!R89=0, ISERROR(競技者一覧!R89)), \"\", 競技者一覧!R89)","v":""},{"$f":"IF(OR(競技者一覧!S89=0, ISERROR(競技者一覧!S89)), \"\", 競技者一覧!S89)","v":""},{"$f":"IF(OR(競技者一覧!T89=0, ISERROR(競技者一覧!T89)), \"\", 競技者一覧!T89)","v":""},68]
[{"$f":"団体CSV!C70","v":""},{"$f":"団体CSV!D70","v":""},{"$f":"団体CSV!E70","v":" "},{"$f":"IFERROR(VLOOKUP(競技者一覧!I90,Sheet4!$J$2:$K$3,2,FALSE),\"\")","v":""},{"$f":"IF(OR(競技者一覧!J90=0, ISERROR(競技者一覧!J90)), \"\", 競技者一覧!J90)","v":""},{"$f":"IF(OR(競技者一覧!K90=0, ISERROR(競技者一覧!K90)), \"\", 競技者一覧!K90)","v":""},{"$f":"IF(OR(競技者一覧!L90=0, ISERROR(競技者一覧!L90)), \"\", 競技者一覧!L90)","v":""},{"$f":"IF(OR(競技者一覧!M90=0, ISERROR(競技者一覧!M90)), \"\", 競技者一覧!M90)","v":""},{"$f":"IF(OR(競技者一覧!N90=0, ISERROR(競技者一覧!N90)), \"\", 競技者一覧!N90)","v":""},{"$f":"IF(OR(競技者一覧!O90=0, ISERROR(競技者一覧!O90)), \"\", 競技者一覧!O90)","v":""},{"$f":"IF(OR(競技者一覧!P90=0, ISERROR(競技者一覧!P90)), \"\", 競技者一覧!P90)","v":""},{"$f":"IF(OR(競技者一覧!Q90=0, ISERROR(競技者一覧!Q90)), \"\", 競技者一覧!Q90)","v":""},{"$f":"IF(OR(競技者一覧!R90=0, ISERROR(競技者一覧!R90)), \"\", 競技者一覧!R90)","v":""},{"$f":"IF(OR(競技者一覧!S90=0, ISERROR(競技者一覧!S90)), \"\", 競技者一覧!S90)","v":""},{"$f":"IF(OR(競技者一覧!T90=0, ISERROR(競技者一覧!T90)), \"\", 競技者一覧!T90)","v":""},69]
[{"$f":"団体CSV!C71","v":""},{"$f":"団体CSV!D71","v":""},{"$f":"団体CSV!E71","v":" "},{"$f":"IFERROR(VLOOKUP(競技者一覧!I91,Sheet4!$J$2:$K$3,2,FALSE),\"\")","v":""},{"$f":"IF(OR(競技者一覧!J91=0, ISERROR(競技者一覧!J91)), \"\", 競技者一覧!J91)","v":""},{"$f":"IF(OR(競技者一覧!K91=0, ISERROR(競技者一覧!K91)), \"\", 競技者一覧!K91)","v":""},{"$f":"IF(OR(競技者一覧!L91=0, ISERROR(競技者一覧!L91)), \"\", 競技者一覧!L91)","v":""},{"$f":"IF(OR(競技者一覧!M91=0, ISERROR(競技者一覧!M91)), \"\", 競技者一覧!M91)","v":""},{"$f":"IF(OR(競技者一覧!N91=0, ISERROR(競技者一覧!N91)), \"\", 競技者一覧!N91)","v":""},{"$f":"IF(OR(競技者一覧!O91=0, ISERROR(競技者一覧!O91)), \"\", 競技者一覧!O91)","v":""},{"$f":"IF(OR(競技者一覧!P91=0, ISERROR(競技者一覧!P91)), \"\", 競技者一覧!P91)","v":""},{"$f":"IF(OR(競技者一覧!Q91=0, ISERROR(競技者一覧!Q91)), \"\", 競技者一覧!Q91)","v":""},{"$f":"IF(OR(競技者一覧!R91=0, ISERROR(競技者一覧!R91)), \"\", 競技者一覧!R91)","v":""},{"$f":"IF(OR(競技者一覧!S91=0, ISERROR(競技者一覧!S91)), \"\", 競技者一覧!S91)","v":""},{"$f":"IF(OR(競技者一覧!T91=0, ISERROR(競技者一覧!T91)), \"\", 競技者一覧!T91)","v":""},70]
[{"$f":"団体CSV!C72","v":""},{"$f":"団体CSV!D72","v":""},{"$f":"団体CSV!E72","v":" "},{"$f":"IFERROR(VLOOKUP(競技者一覧!I92,Sheet4!$J$2:$K$3,2,FALSE),\"\")","v":""},{"$f":"IF(OR(競技者一覧!J92=0, ISERROR(競技者一覧!J92)), \"\", 競技者一覧!J92)","v":""},{"$f":"IF(OR(競技者一覧!K92=0, ISERROR(競技者一覧!K92)), \"\", 競技者一覧!K92)","v":""},{"$f":"IF(OR(競技者一覧!L92=0, ISERROR(競技者一覧!L92)), \"\", 競技者一覧!L92)","v":""},{"$f":"IF(OR(競技者一覧!M92=0, ISERROR(競技者一覧!M92)), \"\", 競技者一覧!M92)","v":""},{"$f":"IF(OR(競技者一覧!N92=0, ISERROR(競技者一覧!N92)), \"\", 競技者一覧!N92)","v":""},{"$f":"IF(OR(競技者一覧!O92=0, ISERROR(競技者一覧!O92)), \"\", 競技者一覧!O92)","v":""},{"$f":"IF(OR(競技者一覧!P92=0, ISERROR(競技者一覧!P92)), \"\", 競技者一覧!P92)","v":""},{"$f":"IF(OR(競技者一覧!Q92=0, ISERROR(競技者一覧!Q92)), \"\", 競技者一覧!Q92)","v":""},{"$f":"IF(OR(競技者一覧!R92=0, ISERROR(競技者一覧!R92)), \"\", 競技者一覧!R92)","v":""},{"$f":"IF(OR(競技者一覧!S92=0, ISERROR(競技者一覧!S92)), \"\", 競技者一覧!S92)","v":""},{"$f":"IF(OR(競技者一覧!T92=0, ISERROR(競技者一覧!T92)), \"\", 競技者一覧!T92)","v":""},71]
[{"$f":"団体CSV!C73","v":""},{"$f":"団体CSV!D73","v":""},{"$f":"団体CSV!E73","v":" "},{"$f":"IFERROR(VLOOKUP(競技者一覧!I93,Sheet4!$J$2:$K$3,2,FALSE),\"\")","v":""},{"$f":"IF(OR(競技者一覧!J93=0, ISERROR(競技者一覧!J93)), \"\", 競技者一覧!J93)","v":""},{"$f":"IF(OR(競技者一覧!K93=0, ISERROR(競技者一覧!K93)), \"\", 競技者一覧!K93)","v":""},{"$f":"IF(OR(競技者一覧!L93=0, ISERROR(競技者一覧!L93)), \"\", 競技者一覧!L93)","v":""},{"$f":"IF(OR(競技者一覧!M93=0, ISERROR(競技者一覧!M93)), \"\", 競技者一覧!M93)","v":""},{"$f":"IF(OR(競技者一覧!N93=0, ISERROR(競技者一覧!N93)), \"\", 競技者一覧!N93)","v":""},{"$f":"IF(OR(競技者一覧!O93=0, ISERROR(競技者一覧!O93)), \"\", 競技者一覧!O93)","v":""},{"$f":"IF(OR(競技者一覧!P93=0, ISERROR(競技者一覧!P93)), \"\", 競技者一覧!P93)","v":""},{"$f":"IF(OR(競技者一覧!Q93=0, ISERROR(競技者一覧!Q93)), \"\", 競技者一覧!Q93)","v":""},{"$f":"IF(OR(競技者一覧!R93=0, ISERROR(競技者一覧!R93)), \"\", 競技者一覧!R93)","v":""},{"$f":"IF(OR(競技者一覧!S93=0, ISERROR(競技者一覧!S93)), \"\", 競技者一覧!S93)","v":""},{"$f":"IF(OR(競技者一覧!T93=0, ISERROR(競技者一覧!T93)), \"\", 競技者一覧!T93)","v":""},72]
[{"$f":"団体CSV!C74","v":""},{"$f":"団体CSV!D74","v":""},{"$f":"団体CSV!E74","v":" "},{"$f":"IFERROR(VLOOKUP(競技者一覧!I94,Sheet4!$J$2:$K$3,2,FALSE),\"\")","v":""},{"$f":"IF(OR(競技者一覧!J94=0, ISERROR(競技者一覧!J94)), \"\", 競技者一覧!J94)","v":""},{"$f":"IF(OR(競技者一覧!K94=0, ISERROR(競技者一覧!K94)), \"\", 競技者一覧!K94)","v":""},{"$f":"IF(OR(競技者一覧!L94=0, ISERROR(競技者一覧!L94)), \"\", 競技者一覧!L94)","v":""},{"$f":"IF(OR(競技者一覧!M94=0, ISERROR(競技者一覧!M94)), \"\", 競技者一覧!M94)","v":""},{"$f":"IF(OR(競技者一覧!N94=0, ISERROR(競技者一覧!N94)), \"\", 競技者一覧!N94)","v":""},{"$f":"IF(OR(競技者一覧!O94=0, ISERROR(競技者一覧!O94)), \"\", 競技者一覧!O94)","v":""},{"$f":"IF(OR(競技者一覧!P94=0, ISERROR(競技者一覧!P94)), \"\", 競技者一覧!P94)","v":""},{"$f":"IF(OR(競技者一覧!Q94=0, ISERROR(競技者一覧!Q94)), \"\", 競技者一覧!Q94)","v":""},{"$f":"IF(OR(競技者一覧!R94=0, ISERROR(競技者一覧!R94)), \"\", 競技者一覧!R94)","v":""},{"$f":"IF(OR(競技者一覧!S94=0, ISERROR(競技者一覧!S94)), \"\", 競技者一覧!S94)","v":""},{"$f":"IF(OR(競技者一覧!T94=0, ISERROR(競技者一覧!T94)), \"\", 競技者一覧!T94)","v":""},73]
[{"$f":"団体CSV!C75","v":""},{"$f":"団体CSV!D75","v":""},{"$f":"団体CSV!E75","v":" "},{"$f":"IFERROR(VLOOKUP(競技者一覧!I95,Sheet4!$J$2:$K$3,2,FALSE),\"\")","v":""},{"$f":"IF(OR(競技者一覧!J95=0, ISERROR(競技者一覧!J95)), \"\", 競技者一覧!J95)","v":""},{"$f":"IF(OR(競技者一覧!K95=0, ISERROR(競技者一覧!K95)), \"\", 競技者一覧!K95)","v":""},{"$f":"IF(OR(競技者一覧!L95=0, ISERROR(競技者一覧!L95)), \"\", 競技者一覧!L95)","v":""},{"$f":"IF(OR(競技者一覧!M95=0, ISERROR(競技者一覧!M95)), \"\", 競技者一覧!M95)","v":""},{"$f":"IF(OR(競技者一覧!N95=0, ISERROR(競技者一覧!N95)), \"\", 競技者一覧!N95)","v":""},{"$f":"IF(OR(競技者一覧!O95=0, ISERROR(競技者一覧!O95)), \"\", 競技者一覧!O95)","v":""},{"$f":"IF(OR(競技者一覧!P95=0, ISERROR(競技者一覧!P95)), \"\", 競技者一覧!P95)","v":""},{"$f":"IF(OR(競技者一覧!Q95=0, ISERROR(競技者一覧!Q95)), \"\", 競技者一覧!Q95)","v":""},{"$f":"IF(OR(競技者一覧!R95=0, ISERROR(競技者一覧!R95)), \"\", 競技者一覧!R95)","v":""},{"$f":"IF(OR(競技者一覧!S95=0, ISERROR(競技者一覧!S95)), \"\", 競技者一覧!S95)","v":""},{"$f":"IF(OR(競技者一覧!T95=0, ISERROR(競技者一覧!T95)), \"\", 競技者一覧!T95)","v":""},74]
[{"$f":"団体CSV!C76","v":""},{"$f":"団体CSV!D76","v":""},{"$f":"団体CSV!E76","v":" "},{"$f":"IFERROR(VLOOKUP(競技者一覧!I96,Sheet4!$J$2:$K$3,2,FALSE),\"\")","v":""},{"$f":"IF(OR(競技者一覧!J96=0, ISERROR(競技者一覧!J96)), \"\", 競技者一覧!J96)","v":""},{"$f":"IF(OR(競技者一覧!K96=0, ISERROR(競技者一覧!K96)), \"\", 競技者一覧!K96)","v":""},{"$f":"IF(OR(競技者一覧!L96=0, ISERROR(競技者一覧!L96)), \"\", 競技者一覧!L96)","v":""},{"$f":"IF(OR(競技者一覧!M96=0, ISERROR(競技者一覧!M96)), \"\", 競技者一覧!M96)","v":""},{"$f":"IF(OR(競技者一覧!N96=0, ISERROR(競技者一覧!N96)), \"\", 競技者一覧!N96)","v":""},{"$f":"IF(OR(競技者一覧!O96=0, ISERROR(競技者一覧!O96)), \"\", 競技者一覧!O96)","v":""},{"$f":"IF(OR(競技者一覧!P96=0, ISERROR(競技者一覧!P96)), \"\", 競技者一覧!P96)","v":""},{"$f":"IF(OR(競技者一覧!Q96=0, ISERROR(競技者一覧!Q96)), \"\", 競技者一覧!Q96)","v":""},{"$f":"IF(OR(競技者一覧!R96=0, ISERROR(競技者一覧!R96)), \"\", 競技者一覧!R96)","v":""},{"$f":"IF(OR(競技者一覧!S96=0, ISERROR(競技者一覧!S96)), \"\", 競技者一覧!S96)","v":""},{"$f":"IF(OR(競技者一覧!T96=0, ISERROR(競技者一覧!T96)), \"\", 競技者一覧!T96)","v":""},75]
[{"$f":"団体CSV!C77","v":""},{"$f":"団体CSV!D77","v":""},{"$f":"団体CSV!E77","v":" "},{"$f":"IFERROR(VLOOKUP(競技者一覧!I97,Sheet4!$J$2:$K$3,2,FALSE),\"\")","v":""},{"$f":"IF(OR(競技者一覧!J97=0, ISERROR(競技者一覧!J97)), \"\", 競技者一覧!J97)","v":""},{"$f":"IF(OR(競技者一覧!K97=0, ISERROR(競技者一覧!K97)), \"\", 競技者一覧!K97)","v":""},{"$f":"IF(OR(競技者一覧!L97=0, ISERROR(競技者一覧!L97)), \"\", 競技者一覧!L97)","v":""},{"$f":"IF(OR(競技者一覧!M97=0, ISERROR(競技者一覧!M97)), \"\", 競技者一覧!M97)","v":""},{"$f":"IF(OR(競技者一覧!N97=0, ISERROR(競技者一覧!N97)), \"\", 競技者一覧!N97)","v":""},{"$f":"IF(OR(競技者一覧!O97=0, ISERROR(競技者一覧!O97)), \"\", 競技者一覧!O97)","v":""},{"$f":"IF(OR(競技者一覧!P97=0, ISERROR(競技者一覧!P97)), \"\", 競技者一覧!P97)","v":""},{"$f":"IF(OR(競技者一覧!Q97=0, ISERROR(競技者一覧!Q97)), \"\", 競技者一覧!Q97)","v":""},{"$f":"IF(OR(競技者一覧!R97=0, ISERROR(競技者一覧!R97)), \"\", 競技者一覧!R97)","v":""},{"$f":"IF(OR(競技者一覧!S97=0, ISERROR(競技者一覧!S97)), \"\", 競技者一覧!S97)","v":""},{"$f":"IF(OR(競技者一覧!T97=0, ISERROR(競技者一覧!T97)), \"\", 競技者一覧!T97)","v":""},76]
[{"$f":"団体CSV!C78","v":""},{"$f":"団体CSV!D78","v":""},{"$f":"団体CSV!E78","v":" "},{"$f":"IFERROR(VLOOKUP(競技者一覧!I98,Sheet4!$J$2:$K$3,2,FALSE),\"\")","v":""},{"$f":"IF(OR(競技者一覧!J98=0, ISERROR(競技者一覧!J98)), \"\", 競技者一覧!J98)","v":""},{"$f":"IF(OR(競技者一覧!K98=0, ISERROR(競技者一覧!K98)), \"\", 競技者一覧!K98)","v":""},{"$f":"IF(OR(競技者一覧!L98=0, ISERROR(競技者一覧!L98)), \"\", 競技者一覧!L98)","v":""},{"$f":"IF(OR(競技者一覧!M98=0, ISERROR(競技者一覧!M98)), \"\", 競技者一覧!M98)","v":""},{"$f":"IF(OR(競技者一覧!N98=0, ISERROR(競技者一覧!N98)), \"\", 競技者一覧!N98)","v":""},{"$f":"IF(OR(競技者一覧!O98=0, ISERROR(競技者一覧!O98)), \"\", 競技者一覧!O98)","v":""},{"$f":"IF(OR(競技者一覧!P98=0, ISERROR(競技者一覧!P98)), \"\", 競技者一覧!P98)","v":""},{"$f":"IF(OR(競技者一覧!Q98=0, ISERROR(競技者一覧!Q98)), \"\", 競技者一覧!Q98)","v":""},{"$f":"IF(OR(競技者一覧!R98=0, ISERROR(競技者一覧!R98)), \"\", 競技者一覧!R98)","v":""},{"$f":"IF(OR(競技者一覧!S98=0, ISERROR(競技者一覧!S98)), \"\", 競技者一覧!S98)","v":""},{"$f":"IF(OR(競技者一覧!T98=0, ISERROR(競技者一覧!T98)), \"\", 競技者一覧!T98)","v":""},77]
[{"$f":"団体CSV!C79","v":""},{"$f":"団体CSV!D79","v":""},{"$f":"団体CSV!E79","v":" "},{"$f":"IFERROR(VLOOKUP(競技者一覧!I99,Sheet4!$J$2:$K$3,2,FALSE),\"\")","v":""},{"$f":"IF(OR(競技者一覧!J99=0, ISERROR(競技者一覧!J99)), \"\", 競技者一覧!J99)","v":""},{"$f":"IF(OR(競技者一覧!K99=0, ISERROR(競技者一覧!K99)), \"\", 競技者一覧!K99)","v":""},{"$f":"IF(OR(競技者一覧!L99=0, ISERROR(競技者一覧!L99)), \"\", 競技者一覧!L99)","v":""},{"$f":"IF(OR(競技者一覧!M99=0, ISERROR(競技者一覧!M99)), \"\", 競技者一覧!M99)","v":""},{"$f":"IF(OR(競技者一覧!N99=0, ISERROR(競技者一覧!N99)), \"\", 競技者一覧!N99)","v":""},{"$f":"IF(OR(競技者一覧!O99=0, ISERROR(競技者一覧!O99)), \"\", 競技者一覧!O99)","v":""},{"$f":"IF(OR(競技者一覧!P99=0, ISERROR(競技者一覧!P99)), \"\", 競技者一覧!P99)","v":""},{"$f":"IF(OR(競技者一覧!Q99=0, ISERROR(競技者一覧!Q99)), \"\", 競技者一覧!Q99)","v":""},{"$f":"IF(OR(競技者一覧!R99=0, ISERROR(競技者一覧!R99)), \"\", 競技者一覧!R99)","v":""},{"$f":"IF(OR(競技者一覧!S99=0, ISERROR(競技者一覧!S99)), \"\", 競技者一覧!S99)","v":""},{"$f":"IF(OR(競技者一覧!T99=0, ISERROR(競技者一覧!T99)), \"\", 競技者一覧!T99)","v":""},78]
[{"$f":"団体CSV!C80","v":""},{"$f":"団体CSV!D80","v":""},{"$f":"団体CSV!E80","v":" "},{"$f":"IFERROR(VLOOKUP(競技者一覧!I100,Sheet4!$J$2:$K$3,2,FALSE),\"\")","v":""},{"$f":"IF(OR(競技者一覧!J100=0, ISERROR(競技者一覧!J100)), \"\", 競技者一覧!J100)","v":""},{"$f":"IF(OR(競技者一覧!K100=0, ISERROR(競技者一覧!K100)), \"\", 競技者一覧!K100)","v":""},{"$f":"IF(OR(競技者一覧!L100=0, ISERROR(競技者一覧!L100)), \"\", 競技者一覧!L100)","v":""},{"$f":"IF(OR(競技者一覧!M100=0, ISERROR(競技者一覧!M100)), \"\", 競技者一覧!M100)","v":""},{"$f":"IF(OR(競技者一覧!N100=0, ISERROR(競技者一覧!N100)), \"\", 競技者一覧!N100)","v":""},{"$f":"IF(OR(競技者一覧!O100=0, ISERROR(競技者一覧!O100)), \"\", 競技者一覧!O100)","v":""},{"$f":"IF(OR(競技者一覧!P100=0, ISERROR(競技者一覧!P100)), \"\", 競技者一覧!P100)","v":""},{"$f":"IF(OR(競技者一覧!Q100=0, ISERROR(競技者一覧!Q100)), \"\", 競技者一覧!Q100)","v":""},{"$f":"IF(OR(競技者一覧!R100=0, ISERROR(競技者一覧!R100)), \"\", 競技者一覧!R100)","v":""},{"$f":"IF(OR(競技者一覧!S100=0, ISERROR(競技者一覧!S100)), \"\", 競技者一覧!S100)","v":""},{"$f":"IF(OR(競技者一覧!T100=0, ISERROR(競技者一覧!T100)), \"\", 競技者一覧!T100)","v":""},79]
[{"$f":"団体CSV!C81","v":""},{"$f":"団体CSV!D81","v":""},{"$f":"団体CSV!E81","v":" "},{"$f":"IFERROR(VLOOKUP(競技者一覧!I101,Sheet4!$J$2:$K$3,2,FALSE),\"\")","v":""},{"$f":"IF(OR(競技者一覧!J101=0, ISERROR(競技者一覧!J101)), \"\", 競技者一覧!J101)","v":""},{"$f":"IF(OR(競技者一覧!K101=0, ISERROR(競技者一覧!K101)), \"\", 競技者一覧!K101)","v":""},{"$f":"IF(OR(競技者一覧!L101=0, ISERROR(競技者一覧!L101)), \"\", 競技者一覧!L101)","v":""},{"$f":"IF(OR(競技者一覧!M101=0, ISERROR(競技者一覧!M101)), \"\", 競技者一覧!M101)","v":""},{"$f":"IF(OR(競技者一覧!N101=0, ISERROR(競技者一覧!N101)), \"\", 競技者一覧!N101)","v":""},{"$f":"IF(OR(競技者一覧!O101=0, ISERROR(競技者一覧!O101)), \"\", 競技者一覧!O101)","v":""},{"$f":"IF(OR(競技者一覧!P101=0, ISERROR(競技者一覧!P101)), \"\", 競技者一覧!P101)","v":""},{"$f":"IF(OR(競技者一覧!Q101=0, ISERROR(競技者一覧!Q101)), \"\", 競技者一覧!Q101)","v":""},{"$f":"IF(OR(競技者一覧!R101=0, ISERROR(競技者一覧!R101)), \"\", 競技者一覧!R101)","v":""},{"$f":"IF(OR(競技者一覧!S101=0, ISERROR(競技者一覧!S101)), \"\", 競技者一覧!S101)","v":""},{"$f":"IF(OR(競技者一覧!T101=0, ISERROR(競技者一覧!T101)), \"\", 競技者一覧!T101)","v":""},80]
[{"$f":"団体CSV!C82","v":""},{"$f":"団体CSV!D82","v":""},{"$f":"団体CSV!E82","v":" "},{"$f":"IFERROR(VLOOKUP(競技者一覧!I102,Sheet4!$J$2:$K$3,2,FALSE),\"\")","v":""},{"$f":"IF(OR(競技者一覧!J102=0, ISERROR(競技者一覧!J102)), \"\", 競技者一覧!J102)","v":""},{"$f":"IF(OR(競技者一覧!K102=0, ISERROR(競技者一覧!K102)), \"\", 競技者一覧!K102)","v":""},{"$f":"IF(OR(競技者一覧!L102=0, ISERROR(競技者一覧!L102)), \"\", 競技者一覧!L102)","v":""},{"$f":"IF(OR(競技者一覧!M102=0, ISERROR(競技者一覧!M102)), \"\", 競技者一覧!M102)","v":""},{"$f":"IF(OR(競技者一覧!N102=0, ISERROR(競技者一覧!N102)), \"\", 競技者一覧!N102)","v":""},{"$f":"IF(OR(競技者一覧!O102=0, ISERROR(競技者一覧!O102)), \"\", 競技者一覧!O102)","v":""},{"$f":"IF(OR(競技者一覧!P102=0, ISERROR(競技者一覧!P102)), \"\", 競技者一覧!P102)","v":""},{"$f":"IF(OR(競技者一覧!Q102=0, ISERROR(競技者一覧!Q102)), \"\", 競技者一覧!Q102)","v":""},{"$f":"IF(OR(競技者一覧!R102=0, ISERROR(競技者一覧!R102)), \"\", 競技者一覧!R102)","v":""},{"$f":"IF(OR(競技者一覧!S102=0, ISERROR(競技者一覧!S102)), \"\", 競技者一覧!S102)","v":""},{"$f":"IF(OR(競技者一覧!T102=0, ISERROR(競技者一覧!T102)), \"\", 競技者一覧!T102)","v":""},81]
[{"$f":"団体CSV!C83","v":""},{"$f":"団体CSV!D83","v":""},{"$f":"団体CSV!E83","v":" "},{"$f":"IFERROR(VLOOKUP(競技者一覧!I103,Sheet4!$J$2:$K$3,2,FALSE),\"\")","v":""},{"$f":"IF(OR(競技者一覧!J103=0, ISERROR(競技者一覧!J103)), \"\", 競技者一覧!J103)","v":""},{"$f":"IF(OR(競技者一覧!K103=0, ISERROR(競技者一覧!K103)), \"\", 競技者一覧!K103)","v":""},{"$f":"IF(OR(競技者一覧!L103=0, ISERROR(競技者一覧!L103)), \"\", 競技者一覧!L103)","v":""},{"$f":"IF(OR(競技者一覧!M103=0, ISERROR(競技者一覧!M103)), \"\", 競技者一覧!M103)","v":""},{"$f":"IF(OR(競技者一覧!N103=0, ISERROR(競技者一覧!N103)), \"\", 競技者一覧!N103)","v":""},{"$f":"IF(OR(競技者一覧!O103=0, ISERROR(競技者一覧!O103)), \"\", 競技者一覧!O103)","v":""},{"$f":"IF(OR(競技者一覧!P103=0, ISERROR(競技者一覧!P103)), \"\", 競技者一覧!P103)","v":""},{"$f":"IF(OR(競技者一覧!Q103=0, ISERROR(競技者一覧!Q103)), \"\", 競技者一覧!Q103)","v":""},{"$f":"IF(OR(競技者一覧!R103=0, ISERROR(競技者一覧!R103)), \"\", 競技者一覧!R103)","v":""},{"$f":"IF(OR(競技者一覧!S103=0, ISERROR(競技者一覧!S103)), \"\", 競技者一覧!S103)","v":""},{"$f":"IF(OR(競技者一覧!T103=0, ISERROR(競技者一覧!T103)), \"\", 競技者一覧!T103)","v":""},82]
[{"$f":"団体CSV!C84","v":""},{"$f":"団体CSV!D84","v":""},{"$f":"団体CSV!E84","v":" "},{"$f":"IFERROR(VLOOKUP(競技者一覧!I104,Sheet4!$J$2:$K$3,2,FALSE),\"\")","v":""},{"$f":"IF(OR(競技者一覧!J104=0, ISERROR(競技者一覧!J104)), \"\", 競技者一覧!J104)","v":""},{"$f":"IF(OR(競技者一覧!K104=0, ISERROR(競技者一覧!K104)), \"\", 競技者一覧!K104)","v":""},{"$f":"IF(OR(競技者一覧!L104=0, ISERROR(競技者一覧!L104)), \"\", 競技者一覧!L104)","v":""},{"$f":"IF(OR(競技者一覧!M104=0, ISERROR(競技者一覧!M104)), \"\", 競技者一覧!M104)","v":""},{"$f":"IF(OR(競技者一覧!N104=0, ISERROR(競技者一覧!N104)), \"\", 競技者一覧!N104)","v":""},{"$f":"IF(OR(競技者一覧!O104=0, ISERROR(競技者一覧!O104)), \"\", 競技者一覧!O104)","v":""},{"$f":"IF(OR(競技者一覧!P104=0, ISERROR(競技者一覧!P104)), \"\", 競技者一覧!P104)","v":""},{"$f":"IF(OR(競技者一覧!Q104=0, ISERROR(競技者一覧!Q104)), \"\", 競技者一覧!Q104)","v":""},{"$f":"IF(OR(競技者一覧!R104=0, ISERROR(競技者一覧!R104)), \"\", 競技者一覧!R104)","v":""},{"$f":"IF(OR(競技者一覧!S104=0, ISERROR(競技者一覧!S104)), \"\", 競技者一覧!S104)","v":""},{"$f":"IF(OR(競技者一覧!T104=0, ISERROR(競技者一覧!T104)), \"\", 競技者一覧!T104)","v":""},83]
[{"$f":"団体CSV!C85","v":""},{"$f":"団体CSV!D85","v":""},{"$f":"団体CSV!E85","v":" "},{"$f":"IFERROR(VLOOKUP(競技者一覧!I105,Sheet4!$J$2:$K$3,2,FALSE),\"\")","v":""},{"$f":"IF(OR(競技者一覧!J105=0, ISERROR(競技者一覧!J105)), \"\", 競技者一覧!J105)","v":""},{"$f":"IF(OR(競技者一覧!K105=0, ISERROR(競技者一覧!K105)), \"\", 競技者一覧!K105)","v":""},{"$f":"IF(OR(競技者一覧!L105=0, ISERROR(競技者一覧!L105)), \"\", 競技者一覧!L105)","v":""},{"$f":"IF(OR(競技者一覧!M105=0, ISERROR(競技者一覧!M105)), \"\", 競技者一覧!M105)","v":""},{"$f":"IF(OR(競技者一覧!N105=0, ISERROR(競技者一覧!N105)), \"\", 競技者一覧!N105)","v":""},{"$f":"IF(OR(競技者一覧!O105=0, ISERROR(競技者一覧!O105)), \"\", 競技者一覧!O105)","v":""},{"$f":"IF(OR(競技者一覧!P105=0, ISERROR(競技者一覧!P105)), \"\", 競技者一覧!P105)","v":""},{"$f":"IF(OR(競技者一覧!Q105=0, ISERROR(競技者一覧!Q105)), \"\", 競技者一覧!Q105)","v":""},{"$f":"IF(OR(競技者一覧!R105=0, ISERROR(競技者一覧!R105)), \"\", 競技者一覧!R105)","v":""},{"$f":"IF(OR(競技者一覧!S105=0, ISERROR(競技者一覧!S105)), \"\", 競技者一覧!S105)","v":""},{"$f":"IF(OR(競技者一覧!T105=0, ISERROR(競技者一覧!T105)), \"\", 競技者一覧!T105)","v":""},84]
[{"$f":"団体CSV!C86","v":""},{"$f":"団体CSV!D86","v":""},{"$f":"団体CSV!E86","v":" "},{"$f":"IFERROR(VLOOKUP(競技者一覧!I106,Sheet4!$J$2:$K$3,2,FALSE),\"\")","v":""},{"$f":"IF(OR(競技者一覧!J106=0, ISERROR(競技者一覧!J106)), \"\", 競技者一覧!J106)","v":""},{"$f":"IF(OR(競技者一覧!K106=0, ISERROR(競技者一覧!K106)), \"\", 競技者一覧!K106)","v":""},{"$f":"IF(OR(競技者一覧!L106=0, ISERROR(競技者一覧!L106)), \"\", 競技者一覧!L106)","v":""},{"$f":"IF(OR(競技者一覧!M106=0, ISERROR(競技者一覧!M106)), \"\", 競技者一覧!M106)","v":""},{"$f":"IF(OR(競技者一覧!N106=0, ISERROR(競技者一覧!N106)), \"\", 競技者一覧!N106)","v":""},{"$f":"IF(OR(競技者一覧!O106=0, ISERROR(競技者一覧!O106)), \"\", 競技者一覧!O106)","v":""},{"$f":"IF(OR(競技者一覧!P106=0, ISERROR(競技者一覧!P106)), \"\", 競技者一覧!P106)","v":""},{"$f":"IF(OR(競技者一覧!Q106=0, ISERROR(競技者一覧!Q106)), \"\", 競技者一覧!Q106)","v":""},{"$f":"IF(OR(競技者一覧!R106=0, ISERROR(競技者一覧!R106)), \"\", 競技者一覧!R106)","v":""},{"$f":"IF(OR(競技者一覧!S106=0, ISERROR(競技者一覧!S106)), \"\", 競技者一覧!S106)","v":""},{"$f":"IF(OR(競技者一覧!T106=0, ISERROR(競技者一覧!T106)), \"\", 競技者一覧!T106)","v":""},85]
[{"$f":"団体CSV!C87","v":""},{"$f":"団体CSV!D87","v":""},{"$f":"団体CSV!E87","v":" "},{"$f":"IFERROR(VLOOKUP(競技者一覧!I107,Sheet4!$J$2:$K$3,2,FALSE),\"\")","v":""},{"$f":"IF(OR(競技者一覧!J107=0, ISERROR(競技者一覧!J107)), \"\", 競技者一覧!J107)","v":""},{"$f":"IF(OR(競技者一覧!K107=0, ISERROR(競技者一覧!K107)), \"\", 競技者一覧!K107)","v":""},{"$f":"IF(OR(競技者一覧!L107=0, ISERROR(競技者一覧!L107)), \"\", 競技者一覧!L107)","v":""},{"$f":"IF(OR(競技者一覧!M107=0, ISERROR(競技者一覧!M107)), \"\", 競技者一覧!M107)","v":""},{"$f":"IF(OR(競技者一覧!N107=0, ISERROR(競技者一覧!N107)), \"\", 競技者一覧!N107)","v":""},{"$f":"IF(OR(競技者一覧!O107=0, ISERROR(競技者一覧!O107)), \"\", 競技者一覧!O107)","v":""},{"$f":"IF(OR(競技者一覧!P107=0, ISERROR(競技者一覧!P107)), \"\", 競技者一覧!P107)","v":""},{"$f":"IF(OR(競技者一覧!Q107=0, ISERROR(競技者一覧!Q107)), \"\", 競技者一覧!Q107)","v":""},{"$f":"IF(OR(競技者一覧!R107=0, ISERROR(競技者一覧!R107)), \"\", 競技者一覧!R107)","v":""},{"$f":"IF(OR(競技者一覧!S107=0, ISERROR(競技者一覧!S107)), \"\", 競技者一覧!S107)","v":""},{"$f":"IF(OR(競技者一覧!T107=0, ISERROR(競技者一覧!T107)), \"\", 競技者一覧!T107)","v":""},86]
[{"$f":"団体CSV!C88","v":""},{"$f":"団体CSV!D88","v":""},{"$f":"団体CSV!E88","v":" "},{"$f":"IFERROR(VLOOKUP(競技者一覧!I108,Sheet4!$J$2:$K$3,2,FALSE),\"\")","v":""},{"$f":"IF(OR(競技者一覧!J108=0, ISERROR(競技者一覧!J108)), \"\", 競技者一覧!J108)","v":""},{"$f":"IF(OR(競技者一覧!K108=0, ISERROR(競技者一覧!K108)), \"\", 競技者一覧!K108)","v":""},{"$f":"IF(OR(競技者一覧!L108=0, ISERROR(競技者一覧!L108)), \"\", 競技者一覧!L108)","v":""},{"$f":"IF(OR(競技者一覧!M108=0, ISERROR(競技者一覧!M108)), \"\", 競技者一覧!M108)","v":""},{"$f":"IF(OR(競技者一覧!N108=0, ISERROR(競技者一覧!N108)), \"\", 競技者一覧!N108)","v":""},{"$f":"IF(OR(競技者一覧!O108=0, ISERROR(競技者一覧!O108)), \"\", 競技者一覧!O108)","v":""},{"$f":"IF(OR(競技者一覧!P108=0, ISERROR(競技者一覧!P108)), \"\", 競技者一覧!P108)","v":""},{"$f":"IF(OR(競技者一覧!Q108=0, ISERROR(競技者一覧!Q108)), \"\", 競技者一覧!Q108)","v":""},{"$f":"IF(OR(競技者一覧!R108=0, ISERROR(競技者一覧!R108)), \"\", 競技者一覧!R108)","v":""},{"$f":"IF(OR(競技者一覧!S108=0, ISERROR(競技者一覧!S108)), \"\", 競技者一覧!S108)","v":""},{"$f":"IF(OR(競技者一覧!T108=0, ISERROR(競技者一覧!T108)), \"\", 競技者一覧!T108)","v":""},87]
[{"$f":"団体CSV!C89","v":""},{"$f":"団体CSV!D89","v":""},{"$f":"団体CSV!E89","v":" "},{"$f":"IFERROR(VLOOKUP(競技者一覧!I109,Sheet4!$J$2:$K$3,2,FALSE),\"\")","v":""},{"$f":"IF(OR(競技者一覧!J109=0, ISERROR(競技者一覧!J109)), \"\", 競技者一覧!J109)","v":""},{"$f":"IF(OR(競技者一覧!K109=0, ISERROR(競技者一覧!K109)), \"\", 競技者一覧!K109)","v":""},{"$f":"IF(OR(競技者一覧!L109=0, ISERROR(競技者一覧!L109)), \"\", 競技者一覧!L109)","v":""},{"$f":"IF(OR(競技者一覧!M109=0, ISERROR(競技者一覧!M109)), \"\", 競技者一覧!M109)","v":""},{"$f":"IF(OR(競技者一覧!N109=0, ISERROR(競技者一覧!N109)), \"\", 競技者一覧!N109)","v":""},{"$f":"IF(OR(競技者一覧!O109=0, ISERROR(競技者一覧!O109)), \"\", 競技者一覧!O109)","v":""},{"$f":"IF(OR(競技者一覧!P109=0, ISERROR(競技者一覧!P109)), \"\", 競技者一覧!P109)","v":""},{"$f":"IF(OR(競技者一覧!Q109=0, ISERROR(競技者一覧!Q109)), \"\", 競技者一覧!Q109)","v":""},{"$f":"IF(OR(競技者一覧!R109=0, ISERROR(競技者一覧!R109)), \"\", 競技者一覧!R109)","v":""},{"$f":"IF(OR(競技者一覧!S109=0, ISERROR(競技者一覧!S109)), \"\", 競技者一覧!S109)","v":""},{"$f":"IF(OR(競技者一覧!T109=0, ISERROR(競技者一覧!T109)), \"\", 競技者一覧!T109)","v":""},88]
[{"$f":"団体CSV!C90","v":""},{"$f":"団体CSV!D90","v":""},{"$f":"団体CSV!E90","v":" "},{"$f":"IFERROR(VLOOKUP(競技者一覧!I110,Sheet4!$J$2:$K$3,2,FALSE),\"\")","v":""},{"$f":"IF(OR(競技者一覧!J110=0, ISERROR(競技者一覧!J110)), \"\", 競技者一覧!J110)","v":""},{"$f":"IF(OR(競技者一覧!K110=0, ISERROR(競技者一覧!K110)), \"\", 競技者一覧!K110)","v":""},{"$f":"IF(OR(競技者一覧!L110=0, ISERROR(競技者一覧!L110)), \"\", 競技者一覧!L110)","v":""},{"$f":"IF(OR(競技者一覧!M110=0, ISERROR(競技者一覧!M110)), \"\", 競技者一覧!M110)","v":""},{"$f":"IF(OR(競技者一覧!N110=0, ISERROR(競技者一覧!N110)), \"\", 競技者一覧!N110)","v":""},{"$f":"IF(OR(競技者一覧!O110=0, ISERROR(競技者一覧!O110)), \"\", 競技者一覧!O110)","v":""},{"$f":"IF(OR(競技者一覧!P110=0, ISERROR(競技者一覧!P110)), \"\", 競技者一覧!P110)","v":""},{"$f":"IF(OR(競技者一覧!Q110=0, ISERROR(競技者一覧!Q110)), \"\", 競技者一覧!Q110)","v":""},{"$f":"IF(OR(競技者一覧!R110=0, ISERROR(競技者一覧!R110)), \"\", 競技者一覧!R110)","v":""},{"$f":"IF(OR(競技者一覧!S110=0, ISERROR(競技者一覧!S110)), \"\", 競技者一覧!S110)","v":""},{"$f":"IF(OR(競技者一覧!T110=0, ISERROR(競技者一覧!T110)), \"\", 競技者一覧!T110)","v":""},89]
[{"$f":"団体CSV!C91","v":""},{"$f":"団体CSV!D91","v":""},{"$f":"団体CSV!E91","v":" "},{"$f":"IFERROR(VLOOKUP(競技者一覧!I111,Sheet4!$J$2:$K$3,2,FALSE),\"\")","v":""},{"$f":"IF(OR(競技者一覧!J111=0, ISERROR(競技者一覧!J111)), \"\", 競技者一覧!J111)","v":""},{"$f":"IF(OR(競技者一覧!K111=0, ISERROR(競技者一覧!K111)), \"\", 競技者一覧!K111)","v":""},{"$f":"IF(OR(競技者一覧!L111=0, ISERROR(競技者一覧!L111)), \"\", 競技者一覧!L111)","v":""},{"$f":"IF(OR(競技者一覧!M111=0, ISERROR(競技者一覧!M111)), \"\", 競技者一覧!M111)","v":""},{"$f":"IF(OR(競技者一覧!N111=0, ISERROR(競技者一覧!N111)), \"\", 競技者一覧!N111)","v":""},{"$f":"IF(OR(競技者一覧!O111=0, ISERROR(競技者一覧!O111)), \"\", 競技者一覧!O111)","v":""},{"$f":"IF(OR(競技者一覧!P111=0, ISERROR(競技者一覧!P111)), \"\", 競技者一覧!P111)","v":""},{"$f":"IF(OR(競技者一覧!Q111=0, ISERROR(競技者一覧!Q111)), \"\", 競技者一覧!Q111)","v":""},{"$f":"IF(OR(競技者一覧!R111=0, ISERROR(競技者一覧!R111)), \"\", 競技者一覧!R111)","v":""},{"$f":"IF(OR(競技者一覧!S111=0, ISERROR(競技者一覧!S111)), \"\", 競技者一覧!S111)","v":""},{"$f":"IF(OR(競技者一覧!T111=0, ISERROR(競技者一覧!T111)), \"\", 競技者一覧!T111)","v":""},90]
[{"$f":"団体CSV!C92","v":""},{"$f":"団体CSV!D92","v":""},{"$f":"団体CSV!E92","v":" "},{"$f":"IFERROR(VLOOKUP(競技者一覧!I112,Sheet4!$J$2:$K$3,2,FALSE),\"\")","v":""},{"$f":"IF(OR(競技者一覧!J112=0, ISERROR(競技者一覧!J112)), \"\", 競技者一覧!J112)","v":""},{"$f":"IF(OR(競技者一覧!K112=0, ISERROR(競技者一覧!K112)), \"\", 競技者一覧!K112)","v":""},{"$f":"IF(OR(競技者一覧!L112=0, ISERROR(競技者一覧!L112)), \"\", 競技者一覧!L112)","v":""},{"$f":"IF(OR(競技者一覧!M112=0, ISERROR(競技者一覧!M112)), \"\", 競技者一覧!M112)","v":""},{"$f":"IF(OR(競技者一覧!N112=0, ISERROR(競技者一覧!N112)), \"\", 競技者一覧!N112)","v":""},{"$f":"IF(OR(競技者一覧!O112=0, ISERROR(競技者一覧!O112)), \"\", 競技者一覧!O112)","v":""},{"$f":"IF(OR(競技者一覧!P112=0, ISERROR(競技者一覧!P112)), \"\", 競技者一覧!P112)","v":""},{"$f":"IF(OR(競技者一覧!Q112=0, ISERROR(競技者一覧!Q112)), \"\", 競技者一覧!Q112)","v":""},{"$f":"IF(OR(競技者一覧!R112=0, ISERROR(競技者一覧!R112)), \"\", 競技者一覧!R112)","v":""},{"$f":"IF(OR(競技者一覧!S112=0, ISERROR(競技者一覧!S112)), \"\", 競技者一覧!S112)","v":""},{"$f":"IF(OR(競技者一覧!T112=0, ISERROR(競技者一覧!T112)), \"\", 競技者一覧!T112)","v":""},91]
[{"$f":"団体CSV!C93","v":""},{"$f":"団体CSV!D93","v":""},{"$f":"団体CSV!E93","v":" "},{"$f":"IFERROR(VLOOKUP(競技者一覧!I113,Sheet4!$J$2:$K$3,2,FALSE),\"\")","v":""},{"$f":"IF(OR(競技者一覧!J113=0, ISERROR(競技者一覧!J113)), \"\", 競技者一覧!J113)","v":""},{"$f":"IF(OR(競技者一覧!K113=0, ISERROR(競技者一覧!K113)), \"\", 競技者一覧!K113)","v":""},{"$f":"IF(OR(競技者一覧!L113=0, ISERROR(競技者一覧!L113)), \"\", 競技者一覧!L113)","v":""},{"$f":"IF(OR(競技者一覧!M113=0, ISERROR(競技者一覧!M113)), \"\", 競技者一覧!M113)","v":""},{"$f":"IF(OR(競技者一覧!N113=0, ISERROR(競技者一覧!N113)), \"\", 競技者一覧!N113)","v":""},{"$f":"IF(OR(競技者一覧!O113=0, ISERROR(競技者一覧!O113)), \"\", 競技者一覧!O113)","v":""},{"$f":"IF(OR(競技者一覧!P113=0, ISERROR(競技者一覧!P113)), \"\", 競技者一覧!P113)","v":""},{"$f":"IF(OR(競技者一覧!Q113=0, ISERROR(競技者一覧!Q113)), \"\", 競技者一覧!Q113)","v":""},{"$f":"IF(OR(競技者一覧!R113=0, ISERROR(競技者一覧!R113)), \"\", 競技者一覧!R113)","v":""},{"$f":"IF(OR(競技者一覧!S113=0, ISERROR(競技者一覧!S113)), \"\", 競技者一覧!S113)","v":""},{"$f":"IF(OR(競技者一覧!T113=0, ISERROR(競技者一覧!T113)), \"\", 競技者一覧!T113)","v":""},92]
[{"$f":"団体CSV!C94","v":""},{"$f":"団体CSV!D94","v":""},{"$f":"団体CSV!E94","v":" "},{"$f":"IFERROR(VLOOKUP(競技者一覧!I114,Sheet4!$J$2:$K$3,2,FALSE),\"\")","v":""},{"$f":"IF(OR(競技者一覧!J114=0, ISERROR(競技者一覧!J114)), \"\", 競技者一覧!J114)","v":""},{"$f":"IF(OR(競技者一覧!K114=0, ISERROR(競技者一覧!K114)), \"\", 競技者一覧!K114)","v":""},{"$f":"IF(OR(競技者一覧!L114=0, ISERROR(競技者一覧!L114)), \"\", 競技者一覧!L114)","v":""},{"$f":"IF(OR(競技者一覧!M114=0, ISERROR(競技者一覧!M114)), \"\", 競技者一覧!M114)","v":""},{"$f":"IF(OR(競技者一覧!N114=0, ISERROR(競技者一覧!N114)), \"\", 競技者一覧!N114)","v":""},{"$f":"IF(OR(競技者一覧!O114=0, ISERROR(競技者一覧!O114)), \"\", 競技者一覧!O114)","v":""},{"$f":"IF(OR(競技者一覧!P114=0, ISERROR(競技者一覧!P114)), \"\", 競技者一覧!P114)","v":""},{"$f":"IF(OR(競技者一覧!Q114=0, ISERROR(競技者一覧!Q114)), \"\", 競技者一覧!Q114)","v":""},{"$f":"IF(OR(競技者一覧!R114=0, ISERROR(競技者一覧!R114)), \"\", 競技者一覧!R114)","v":""},{"$f":"IF(OR(競技者一覧!S114=0, ISERROR(競技者一覧!S114)), \"\", 競技者一覧!S114)","v":""},{"$f":"IF(OR(競技者一覧!T114=0, ISERROR(競技者一覧!T114)), \"\", 競技者一覧!T114)","v":""},93]
[{"$f":"団体CSV!C95","v":""},{"$f":"団体CSV!D95","v":""},{"$f":"団体CSV!E95","v":" "},{"$f":"IFERROR(VLOOKUP(競技者一覧!I115,Sheet4!$J$2:$K$3,2,FALSE),\"\")","v":""},{"$f":"IF(OR(競技者一覧!J115=0, ISERROR(競技者一覧!J115)), \"\", 競技者一覧!J115)","v":""},{"$f":"IF(OR(競技者一覧!K115=0, ISERROR(競技者一覧!K115)), \"\", 競技者一覧!K115)","v":""},{"$f":"IF(OR(競技者一覧!L115=0, ISERROR(競技者一覧!L115)), \"\", 競技者一覧!L115)","v":""},{"$f":"IF(OR(競技者一覧!M115=0, ISERROR(競技者一覧!M115)), \"\", 競技者一覧!M115)","v":""},{"$f":"IF(OR(競技者一覧!N115=0, ISERROR(競技者一覧!N115)), \"\", 競技者一覧!N115)","v":""},{"$f":"IF(OR(競技者一覧!O115=0, ISERROR(競技者一覧!O115)), \"\", 競技者一覧!O115)","v":""},{"$f":"IF(OR(競技者一覧!P115=0, ISERROR(競技者一覧!P115)), \"\", 競技者一覧!P115)","v":""},{"$f":"IF(OR(競技者一覧!Q115=0, ISERROR(競技者一覧!Q115)), \"\", 競技者一覧!Q115)","v":""},{"$f":"IF(OR(競技者一覧!R115=0, ISERROR(競技者一覧!R115)), \"\", 競技者一覧!R115)","v":""},{"$f":"IF(OR(競技者一覧!S115=0, ISERROR(競技者一覧!S115)), \"\", 競技者一覧!S115)","v":""},{"$f":"IF(OR(競技者一覧!T115=0, ISERROR(競技者一覧!T115)), \"\", 競技者一覧!T115)","v":""},94]
[{"$f":"団体CSV!C96","v":""},{"$f":"団体CSV!D96","v":""},{"$f":"団体CSV!E96","v":" "},{"$f":"IFERROR(VLOOKUP(競技者一覧!I116,Sheet4!$J$2:$K$3,2,FALSE),\"\")","v":""},{"$f":"IF(OR(競技者一覧!J116=0, ISERROR(競技者一覧!J116)), \"\", 競技者一覧!J116)","v":""},{"$f":"IF(OR(競技者一覧!K116=0, ISERROR(競技者一覧!K116)), \"\", 競技者一覧!K116)","v":""},{"$f":"IF(OR(競技者一覧!L116=0, ISERROR(競技者一覧!L116)), \"\", 競技者一覧!L116)","v":""},{"$f":"IF(OR(競技者一覧!M116=0, ISERROR(競技者一覧!M116)), \"\", 競技者一覧!M116)","v":""},{"$f":"IF(OR(競技者一覧!N116=0, ISERROR(競技者一覧!N116)), \"\", 競技者一覧!N116)","v":""},{"$f":"IF(OR(競技者一覧!O116=0, ISERROR(競技者一覧!O116)), \"\", 競技者一覧!O116)","v":""},{"$f":"IF(OR(競技者一覧!P116=0, ISERROR(競技者一覧!P116)), \"\", 競技者一覧!P116)","v":""},{"$f":"IF(OR(競技者一覧!Q116=0, ISERROR(競技者一覧!Q116)), \"\", 競技者一覧!Q116)","v":""},{"$f":"IF(OR(競技者一覧!R116=0, ISERROR(競技者一覧!R116)), \"\", 競技者一覧!R116)","v":""},{"$f":"IF(OR(競技者一覧!S116=0, ISERROR(競技者一覧!S116)), \"\", 競技者一覧!S116)","v":""},{"$f":"IF(OR(競技者一覧!T116=0, ISERROR(競技者一覧!T116)), \"\", 競技者一覧!T116)","v":""},95]
[{"$f":"団体CSV!C97","v":""},{"$f":"団体CSV!D97","v":""},{"$f":"団体CSV!E97","v":" "},{"$f":"IFERROR(VLOOKUP(競技者一覧!I117,Sheet4!$J$2:$K$3,2,FALSE),\"\")","v":""},{"$f":"IF(OR(競技者一覧!J117=0, ISERROR(競技者一覧!J117)), \"\", 競技者一覧!J117)","v":""},{"$f":"IF(OR(競技者一覧!K117=0, ISERROR(競技者一覧!K117)), \"\", 競技者一覧!K117)","v":""},{"$f":"IF(OR(競技者一覧!L117=0, ISERROR(競技者一覧!L117)), \"\", 競技者一覧!L117)","v":""},{"$f":"IF(OR(競技者一覧!M117=0, ISERROR(競技者一覧!M117)), \"\", 競技者一覧!M117)","v":""},{"$f":"IF(OR(競技者一覧!N117=0, ISERROR(競技者一覧!N117)), \"\", 競技者一覧!N117)","v":""},{"$f":"IF(OR(競技者一覧!O117=0, ISERROR(競技者一覧!O117)), \"\", 競技者一覧!O117)","v":""},{"$f":"IF(OR(競技者一覧!P117=0, ISERROR(競技者一覧!P117)), \"\", 競技者一覧!P117)","v":""},{"$f":"IF(OR(競技者一覧!Q117=0, ISERROR(競技者一覧!Q117)), \"\", 競技者一覧!Q117)","v":""},{"$f":"IF(OR(競技者一覧!R117=0, ISERROR(競技者一覧!R117)), \"\", 競技者一覧!R117)","v":""},{"$f":"IF(OR(競技者一覧!S117=0, ISERROR(競技者一覧!S117)), \"\", 競技者一覧!S117)","v":""},{"$f":"IF(OR(競技者一覧!T117=0, ISERROR(競技者一覧!T117)), \"\", 競技者一覧!T117)","v":""},96]
[{"$f":"団体CSV!C98","v":""},{"$f":"団体CSV!D98","v":""},{"$f":"団体CSV!E98","v":" "},{"$f":"IFERROR(VLOOKUP(競技者一覧!I118,Sheet4!$J$2:$K$3,2,FALSE),\"\")","v":""},{"$f":"IF(OR(競技者一覧!J118=0, ISERROR(競技者一覧!J118)), \"\", 競技者一覧!J118)","v":""},{"$f":"IF(OR(競技者一覧!K118=0, ISERROR(競技者一覧!K118)), \"\", 競技者一覧!K118)","v":""},{"$f":"IF(OR(競技者一覧!L118=0, ISERROR(競技者一覧!L118)), \"\", 競技者一覧!L118)","v":""},{"$f":"IF(OR(競技者一覧!M118=0, ISERROR(競技者一覧!M118)), \"\", 競技者一覧!M118)","v":""},{"$f":"IF(OR(競技者一覧!N118=0, ISERROR(競技者一覧!N118)), \"\", 競技者一覧!N118)","v":""},{"$f":"IF(OR(競技者一覧!O118=0, ISERROR(競技者一覧!O118)), \"\", 競技者一覧!O118)","v":""},{"$f":"IF(OR(競技者一覧!P118=0, ISERROR(競技者一覧!P118)), \"\", 競技者一覧!P118)","v":""},{"$f":"IF(OR(競技者一覧!Q118=0, ISERROR(競技者一覧!Q118)), \"\", 競技者一覧!Q118)","v":""},{"$f":"IF(OR(競技者一覧!R118=0, ISERROR(競技者一覧!R118)), \"\", 競技者一覧!R118)","v":""},{"$f":"IF(OR(競技者一覧!S118=0, ISERROR(競技者一覧!S118)), \"\", 競技者一覧!S118)","v":""},{"$f":"IF(OR(競技者一覧!T118=0, ISERROR(競技者一覧!T118)), \"\", 競技者一覧!T118)","v":""},97]
[{"$f":"団体CSV!C99","v":""},{"$f":"団体CSV!D99","v":""},{"$f":"団体CSV!E99","v":" "},{"$f":"IFERROR(VLOOKUP(競技者一覧!I119,Sheet4!$J$2:$K$3,2,FALSE),\"\")","v":""},{"$f":"IF(OR(競技者一覧!J119=0, ISERROR(競技者一覧!J119)), \"\", 競技者一覧!J119)","v":""},{"$f":"IF(OR(競技者一覧!K119=0, ISERROR(競技者一覧!K119)), \"\", 競技者一覧!K119)","v":""},{"$f":"IF(OR(競技者一覧!L119=0, ISERROR(競技者一覧!L119)), \"\", 競技者一覧!L119)","v":""},{"$f":"IF(OR(競技者一覧!M119=0, ISERROR(競技者一覧!M119)), \"\", 競技者一覧!M119)","v":""},{"$f":"IF(OR(競技者一覧!N119=0, ISERROR(競技者一覧!N119)), \"\", 競技者一覧!N119)","v":""},{"$f":"IF(OR(競技者一覧!O119=0, ISERROR(競技者一覧!O119)), \"\", 競技者一覧!O119)","v":""},{"$f":"IF(OR(競技者一覧!P119=0, ISERROR(競技者一覧!P119)), \"\", 競技者一覧!P119)","v":""},{"$f":"IF(OR(競技者一覧!Q119=0, ISERROR(競技者一覧!Q119)), \"\", 競技者一覧!Q119)","v":""},{"$f":"IF(OR(競技者一覧!R119=0, ISERROR(競技者一覧!R119)), \"\", 競技者一覧!R119)","v":""},{"$f":"IF(OR(競技者一覧!S119=0, ISERROR(競技者一覧!S119)), \"\", 競技者一覧!S119)","v":""},{"$f":"IF(OR(競技者一覧!T119=0, ISERROR(競技者一覧!T119)), \"\", 競技者一覧!T119)","v":""},98]
[{"$f":"団体CSV!C100","v":""},{"$f":"団体CSV!D100","v":""},{"$f":"団体CSV!E100","v":" "},{"$f":"IFERROR(VLOOKUP(競技者一覧!I120,Sheet4!$J$2:$K$3,2,FALSE),\"\")","v":""},{"$f":"IF(OR(競技者一覧!J120=0, ISERROR(競技者一覧!J120)), \"\", 競技者一覧!J120)","v":""},{"$f":"IF(OR(競技者一覧!K120=0, ISERROR(競技者一覧!K120)), \"\", 競技者一覧!K120)","v":""},{"$f":"IF(OR(競技者一覧!L120=0, ISERROR(競技者一覧!L120)), \"\", 競技者一覧!L120)","v":""},{"$f":"IF(OR(競技者一覧!M120=0, ISERROR(競技者一覧!M120)), \"\", 競技者一覧!M120)","v":""},{"$f":"IF(OR(競技者一覧!N120=0, ISERROR(競技者一覧!N120)), \"\", 競技者一覧!N120)","v":""},{"$f":"IF(OR(競技者一覧!O120=0, ISERROR(競技者一覧!O120)), \"\", 競技者一覧!O120)","v":""},{"$f":"IF(OR(競技者一覧!P120=0, ISERROR(競技者一覧!P120)), \"\", 競技者一覧!P120)","v":""},{"$f":"IF(OR(競技者一覧!Q120=0, ISERROR(競技者一覧!Q120)), \"\", 競技者一覧!Q120)","v":""},{"$f":"IF(OR(競技者一覧!R120=0, ISERROR(競技者一覧!R120)), \"\", 競技者一覧!R120)","v":""},{"$f":"IF(OR(競技者一覧!S120=0, ISERROR(競技者一覧!S120)), \"\", 競技者一覧!S120)","v":""},{"$f":"IF(OR(競技者一覧!T120=0, ISERROR(競技者一覧!T120)), \"\", 競技者一覧!T120)","v":""},99]
[{"$f":"団体CSV!C101","v":""},{"$f":"団体CSV!D101","v":""},{"$f":"団体CSV!E101","v":" "},{"$f":"IFERROR(VLOOKUP(競技者一覧!I121,Sheet4!$J$2:$K$3,2,FALSE),\"\")","v":""},{"$f":"IF(OR(競技者一覧!J121=0, ISERROR(競技者一覧!J121)), \"\", 競技者一覧!J121)","v":""},{"$f":"IF(OR(競技者一覧!K121=0, ISERROR(競技者一覧!K121)), \"\", 競技者一覧!K121)","v":""},{"$f":"IF(OR(競技者一覧!L121=0, ISERROR(競技者一覧!L121)), \"\", 競技者一覧!L121)","v":""},{"$f":"IF(OR(競技者一覧!M121=0, ISERROR(競技者一覧!M121)), \"\", 競技者一覧!M121)","v":""},{"$f":"IF(OR(競技者一覧!N121=0, ISERROR(競技者一覧!N121)), \"\", 競技者一覧!N121)","v":""},{"$f":"IF(OR(競技者一覧!O121=0, ISERROR(競技者一覧!O121)), \"\", 競技者一覧!O121)","v":""},{"$f":"IF(OR(競技者一覧!P121=0, ISERROR(競技者一覧!P121)), \"\", 競技者一覧!P121)","v":""},{"$f":"IF(OR(競技者一覧!Q121=0, ISERROR(競技者一覧!Q121)), \"\", 競技者一覧!Q121)","v":""},{"$f":"IF(OR(競技者一覧!R121=0, ISERROR(競技者一覧!R121)), \"\", 競技者一覧!R121)","v":""},{"$f":"IF(OR(競技者一覧!S121=0, ISERROR(競技者一覧!S121)), \"\", 競技者一覧!S121)","v":""},{"$f":"IF(OR(競技者一覧!T121=0, ISERROR(競技者一覧!T121)), \"\", 競技者一覧!T121)","v":""},100]
[{"$f":"団体CSV!C102","v":""},{"$f":"団体CSV!D102","v":""},{"$f":"団体CSV!E102","v":" "},{"$f":"IFERROR(VLOOKUP(競技者一覧!I122,Sheet4!$J$2:$K$3,2,FALSE),\"\")","v":""},{"$f":"IF(OR(競技者一覧!J122=0, ISERROR(競技者一覧!J122)), \"\", 競技者一覧!J122)","v":""},{"$f":"IF(OR(競技者一覧!K122=0, ISERROR(競技者一覧!K122)), \"\", 競技者一覧!K122)","v":""},{"$f":"IF(OR(競技者一覧!L122=0, ISERROR(競技者一覧!L122)), \"\", 競技者一覧!L122)","v":""},{"$f":"IF(OR(競技者一覧!M122=0, ISERROR(競技者一覧!M122)), \"\", 競技者一覧!M122)","v":""},{"$f":"IF(OR(競技者一覧!N122=0, ISERROR(競技者一覧!N122)), \"\", 競技者一覧!N122)","v":""},{"$f":"IF(OR(競技者一覧!O122=0, ISERROR(競技者一覧!O122)), \"\", 競技者一覧!O122)","v":""},{"$f":"IF(OR(競技者一覧!P122=0, ISERROR(競技者一覧!P122)), \"\", 競技者一覧!P122)","v":""},{"$f":"IF(OR(競技者一覧!Q122=0, ISERROR(競技者一覧!Q122)), \"\", 競技者一覧!Q122)","v":""},{"$f":"IF(OR(競技者一覧!R122=0, ISERROR(競技者一覧!R122)), \"\", 競技者一覧!R122)","v":""},{"$f":"IF(OR(競技者一覧!S122=0, ISERROR(競技者一覧!S122)), \"\", 競技者一覧!S122)","v":""},{"$f":"IF(OR(競技者一覧!T122=0, ISERROR(競技者一覧!T122)), \"\", 競技者一覧!T122)","v":""},101]
[{"$f":"団体CSV!C103","v":""},{"$f":"団体CSV!D103","v":""},{"$f":"団体CSV!E103","v":" "},{"$f":"IFERROR(VLOOKUP(競技者一覧!I123,Sheet4!$J$2:$K$3,2,FALSE),\"\")","v":""},{"$f":"IF(OR(競技者一覧!J123=0, ISERROR(競技者一覧!J123)), \"\", 競技者一覧!J123)","v":""},{"$f":"IF(OR(競技者一覧!K123=0, ISERROR(競技者一覧!K123)), \"\", 競技者一覧!K123)","v":""},{"$f":"IF(OR(競技者一覧!L123=0, ISERROR(競技者一覧!L123)), \"\", 競技者一覧!L123)","v":""},{"$f":"IF(OR(競技者一覧!M123=0, ISERROR(競技者一覧!M123)), \"\", 競技者一覧!M123)","v":""},{"$f":"IF(OR(競技者一覧!N123=0, ISERROR(競技者一覧!N123)), \"\", 競技者一覧!N123)","v":""},{"$f":"IF(OR(競技者一覧!O123=0, ISERROR(競技者一覧!O123)), \"\", 競技者一覧!O123)","v":""},{"$f":"IF(OR(競技者一覧!P123=0, ISERROR(競技者一覧!P123)), \"\", 競技者一覧!P123)","v":""},{"$f":"IF(OR(競技者一覧!Q123=0, ISERROR(競技者一覧!Q123)), \"\", 競技者一覧!Q123)","v":""},{"$f":"IF(OR(競技者一覧!R123=0, ISERROR(競技者一覧!R123)), \"\", 競技者一覧!R123)","v":""},{"$f":"IF(OR(競技者一覧!S123=0, ISERROR(競技者一覧!S123)), \"\", 競技者一覧!S123)","v":""},{"$f":"IF(OR(競技者一覧!T123=0, ISERROR(競技者一覧!T123)), \"\", 競技者一覧!T123)","v":""},102]
[{"$f":"団体CSV!C104","v":""},{"$f":"団体CSV!D104","v":""},{"$f":"団体CSV!E104","v":" "},{"$f":"IFERROR(VLOOKUP(競技者一覧!I124,Sheet4!$J$2:$K$3,2,FALSE),\"\")","v":""},{"$f":"IF(OR(競技者一覧!J124=0, ISERROR(競技者一覧!J124)), \"\", 競技者一覧!J124)","v":""},{"$f":"IF(OR(競技者一覧!K124=0, ISERROR(競技者一覧!K124)), \"\", 競技者一覧!K124)","v":""},{"$f":"IF(OR(競技者一覧!L124=0, ISERROR(競技者一覧!L124)), \"\", 競技者一覧!L124)","v":""},{"$f":"IF(OR(競技者一覧!M124=0, ISERROR(競技者一覧!M124)), \"\", 競技者一覧!M124)","v":""},{"$f":"IF(OR(競技者一覧!N124=0, ISERROR(競技者一覧!N124)), \"\", 競技者一覧!N124)","v":""},{"$f":"IF(OR(競技者一覧!O124=0, ISERROR(競技者一覧!O124)), \"\", 競技者一覧!O124)","v":""},{"$f":"IF(OR(競技者一覧!P124=0, ISERROR(競技者一覧!P124)), \"\", 競技者一覧!P124)","v":""},{"$f":"IF(OR(競技者一覧!Q124=0, ISERROR(競技者一覧!Q124)), \"\", 競技者一覧!Q124)","v":""},{"$f":"IF(OR(競技者一覧!R124=0, ISERROR(競技者一覧!R124)), \"\", 競技者一覧!R124)","v":""},{"$f":"IF(OR(競技者一覧!S124=0, ISERROR(競技者一覧!S124)), \"\", 競技者一覧!S124)","v":""},{"$f":"IF(OR(競技者一覧!T124=0, ISERROR(競技者一覧!T124)), \"\", 競技者一覧!T124)","v":""},103]
[{"$f":"団体CSV!C105","v":""},{"$f":"団体CSV!D105","v":""},{"$f":"団体CSV!E105","v":" "},{"$f":"IFERROR(VLOOKUP(競技者一覧!I125,Sheet4!$J$2:$K$3,2,FALSE),\"\")","v":""},{"$f":"IF(OR(競技者一覧!J125=0, ISERROR(競技者一覧!J125)), \"\", 競技者一覧!J125)","v":""},{"$f":"IF(OR(競技者一覧!K125=0, ISERROR(競技者一覧!K125)), \"\", 競技者一覧!K125)","v":""},{"$f":"IF(OR(競技者一覧!L125=0, ISERROR(競技者一覧!L125)), \"\", 競技者一覧!L125)","v":""},{"$f":"IF(OR(競技者一覧!M125=0, ISERROR(競技者一覧!M125)), \"\", 競技者一覧!M125)","v":""},{"$f":"IF(OR(競技者一覧!N125=0, ISERROR(競技者一覧!N125)), \"\", 競技者一覧!N125)","v":""},{"$f":"IF(OR(競技者一覧!O125=0, ISERROR(競技者一覧!O125)), \"\", 競技者一覧!O125)","v":""},{"$f":"IF(OR(競技者一覧!P125=0, ISERROR(競技者一覧!P125)), \"\", 競技者一覧!P125)","v":""},{"$f":"IF(OR(競技者一覧!Q125=0, ISERROR(競技者一覧!Q125)), \"\", 競技者一覧!Q125)","v":""},{"$f":"IF(OR(競技者一覧!R125=0, ISERROR(競技者一覧!R125)), \"\", 競技者一覧!R125)","v":""},{"$f":"IF(OR(競技者一覧!S125=0, ISERROR(競技者一覧!S125)), \"\", 競技者一覧!S125)","v":""},{"$f":"IF(OR(競技者一覧!T125=0, ISERROR(競技者一覧!T125)), \"\", 競技者一覧!T125)","v":""},104]
[{"$f":"団体CSV!C106","v":""},{"$f":"団体CSV!D106","v":""},{"$f":"団体CSV!E106","v":" "},{"$f":"IFERROR(VLOOKUP(競技者一覧!I126,Sheet4!$J$2:$K$3,2,FALSE),\"\")","v":""},{"$f":"IF(OR(競技者一覧!J126=0, ISERROR(競技者一覧!J126)), \"\", 競技者一覧!J126)","v":""},{"$f":"IF(OR(競技者一覧!K126=0, ISERROR(競技者一覧!K126)), \"\", 競技者一覧!K126)","v":""},{"$f":"IF(OR(競技者一覧!L126=0, ISERROR(競技者一覧!L126)), \"\", 競技者一覧!L126)","v":""},{"$f":"IF(OR(競技者一覧!M126=0, ISERROR(競技者一覧!M126)), \"\", 競技者一覧!M126)","v":""},{"$f":"IF(OR(競技者一覧!N126=0, ISERROR(競技者一覧!N126)), \"\", 競技者一覧!N126)","v":""},{"$f":"IF(OR(競技者一覧!O126=0, ISERROR(競技者一覧!O126)), \"\", 競技者一覧!O126)","v":""},{"$f":"IF(OR(競技者一覧!P126=0, ISERROR(競技者一覧!P126)), \"\", 競技者一覧!P126)","v":""},{"$f":"IF(OR(競技者一覧!Q126=0, ISERROR(競技者一覧!Q126)), \"\", 競技者一覧!Q126)","v":""},{"$f":"IF(OR(競技者一覧!R126=0, ISERROR(競技者一覧!R126)), \"\", 競技者一覧!R126)","v":""},{"$f":"IF(OR(競技者一覧!S126=0, ISERROR(競技者一覧!S126)), \"\", 競技者一覧!S126)","v":""},{"$f":"IF(OR(競技者一覧!T126=0, ISERROR(競技者一覧!T126)), \"\", 競技者一覧!T126)","v":""},105]
[{"$f":"団体CSV!C107","v":""},{"$f":"団体CSV!D107","v":""},{"$f":"団体CSV!E107","v":" "},{"$f":"IFERROR(VLOOKUP(競技者一覧!I127,Sheet4!$J$2:$K$3,2,FALSE),\"\")","v":""},{"$f":"IF(OR(競技者一覧!J127=0, ISERROR(競技者一覧!J127)), \"\", 競技者一覧!J127)","v":""},{"$f":"IF(OR(競技者一覧!K127=0, ISERROR(競技者一覧!K127)), \"\", 競技者一覧!K127)","v":""},{"$f":"IF(OR(競技者一覧!L127=0, ISERROR(競技者一覧!L127)), \"\", 競技者一覧!L127)","v":""},{"$f":"IF(OR(競技者一覧!M127=0, ISERROR(競技者一覧!M127)), \"\", 競技者一覧!M127)","v":""},{"$f":"IF(OR(競技者一覧!N127=0, ISERROR(競技者一覧!N127)), \"\", 競技者一覧!N127)","v":""},{"$f":"IF(OR(競技者一覧!O127=0, ISERROR(競技者一覧!O127)), \"\", 競技者一覧!O127)","v":""},{"$f":"IF(OR(競技者一覧!P127=0, ISERROR(競技者一覧!P127)), \"\", 競技者一覧!P127)","v":""},{"$f":"IF(OR(競技者一覧!Q127=0, ISERROR(競技者一覧!Q127)), \"\", 競技者一覧!Q127)","v":""},{"$f":"IF(OR(競技者一覧!R127=0, ISERROR(競技者一覧!R127)), \"\", 競技者一覧!R127)","v":""},{"$f":"IF(OR(競技者一覧!S127=0, ISERROR(競技者一覧!S127)), \"\", 競技者一覧!S127)","v":""},{"$f":"IF(OR(競技者一覧!T127=0, ISERROR(競技者一覧!T127)), \"\", 競技者一覧!T127)","v":""},106]
[{"$f":"団体CSV!C108","v":""},{"$f":"団体CSV!D108","v":""},{"$f":"団体CSV!E108","v":" "},{"$f":"IFERROR(VLOOKUP(競技者一覧!I128,Sheet4!$J$2:$K$3,2,FALSE),\"\")","v":""},{"$f":"IF(OR(競技者一覧!J128=0, ISERROR(競技者一覧!J128)), \"\", 競技者一覧!J128)","v":""},{"$f":"IF(OR(競技者一覧!K128=0, ISERROR(競技者一覧!K128)), \"\", 競技者一覧!K128)","v":""},{"$f":"IF(OR(競技者一覧!L128=0, ISERROR(競技者一覧!L128)), \"\", 競技者一覧!L128)","v":""},{"$f":"IF(OR(競技者一覧!M128=0, ISERROR(競技者一覧!M128)), \"\", 競技者一覧!M128)","v":""},{"$f":"IF(OR(競技者一覧!N128=0, ISERROR(競技者一覧!N128)), \"\", 競技者一覧!N128)","v":""},{"$f":"IF(OR(競技者一覧!O128=0, ISERROR(競技者一覧!O128)), \"\", 競技者一覧!O128)","v":""},{"$f":"IF(OR(競技者一覧!P128=0, ISERROR(競技者一覧!P128)), \"\", 競技者一覧!P128)","v":""},{"$f":"IF(OR(競技者一覧!Q128=0, ISERROR(競技者一覧!Q128)), \"\", 競技者一覧!Q128)","v":""},{"$f":"IF(OR(競技者一覧!R128=0, ISERROR(競技者一覧!R128)), \"\", 競技者一覧!R128)","v":""},{"$f":"IF(OR(競技者一覧!S128=0, ISERROR(競技者一覧!S128)), \"\", 競技者一覧!S128)","v":""},{"$f":"IF(OR(競技者一覧!T128=0, ISERROR(競技者一覧!T128)), \"\", 競技者一覧!T128)","v":""},107]
[{"$f":"団体CSV!C109","v":""},{"$f":"団体CSV!D109","v":""},{"$f":"団体CSV!E109","v":" "},{"$f":"IFERROR(VLOOKUP(競技者一覧!I129,Sheet4!$J$2:$K$3,2,FALSE),\"\")","v":""},{"$f":"IF(OR(競技者一覧!J129=0, ISERROR(競技者一覧!J129)), \"\", 競技者一覧!J129)","v":""},{"$f":"IF(OR(競技者一覧!K129=0, ISERROR(競技者一覧!K129)), \"\", 競技者一覧!K129)","v":""},{"$f":"IF(OR(競技者一覧!L129=0, ISERROR(競技者一覧!L129)), \"\", 競技者一覧!L129)","v":""},{"$f":"IF(OR(競技者一覧!M129=0, ISERROR(競技者一覧!M129)), \"\", 競技者一覧!M129)","v":""},{"$f":"IF(OR(競技者一覧!N129=0, ISERROR(競技者一覧!N129)), \"\", 競技者一覧!N129)","v":""},{"$f":"IF(OR(競技者一覧!O129=0, ISERROR(競技者一覧!O129)), \"\", 競技者一覧!O129)","v":""},{"$f":"IF(OR(競技者一覧!P129=0, ISERROR(競技者一覧!P129)), \"\", 競技者一覧!P129)","v":""},{"$f":"IF(OR(競技者一覧!Q129=0, ISERROR(競技者一覧!Q129)), \"\", 競技者一覧!Q129)","v":""},{"$f":"IF(OR(競技者一覧!R129=0, ISERROR(競技者一覧!R129)), \"\", 競技者一覧!R129)","v":""},{"$f":"IF(OR(競技者一覧!S129=0, ISERROR(競技者一覧!S129)), \"\", 競技者一覧!S129)","v":""},{"$f":"IF(OR(競技者一覧!T129=0, ISERROR(競技者一覧!T129)), \"\", 競技者一覧!T129)","v":""},108]
[{"$f":"団体CSV!C110","v":""},{"$f":"団体CSV!D110","v":""},{"$f":"団体CSV!E110","v":" "},{"$f":"IFERROR(VLOOKUP(競技者一覧!I130,Sheet4!$J$2:$K$3,2,FALSE),\"\")","v":""},{"$f":"IF(OR(競技者一覧!J130=0, ISERROR(競技者一覧!J130)), \"\", 競技者一覧!J130)","v":""},{"$f":"IF(OR(競技者一覧!K130=0, ISERROR(競技者一覧!K130)), \"\", 競技者一覧!K130)","v":""},{"$f":"IF(OR(競技者一覧!L130=0, ISERROR(競技者一覧!L130)), \"\", 競技者一覧!L130)","v":""},{"$f":"IF(OR(競技者一覧!M130=0, ISERROR(競技者一覧!M130)), \"\", 競技者一覧!M130)","v":""},{"$f":"IF(OR(競技者一覧!N130=0, ISERROR(競技者一覧!N130)), \"\", 競技者一覧!N130)","v":""},{"$f":"IF(OR(競技者一覧!O130=0, ISERROR(競技者一覧!O130)), \"\", 競技者一覧!O130)","v":""},{"$f":"IF(OR(競技者一覧!P130=0, ISERROR(競技者一覧!P130)), \"\", 競技者一覧!P130)","v":""},{"$f":"IF(OR(競技者一覧!Q130=0, ISERROR(競技者一覧!Q130)), \"\", 競技者一覧!Q130)","v":""},{"$f":"IF(OR(競技者一覧!R130=0, ISERROR(競技者一覧!R130)), \"\", 競技者一覧!R130)","v":""},{"$f":"IF(OR(競技者一覧!S130=0, ISERROR(競技者一覧!S130)), \"\", 競技者一覧!S130)","v":""},{"$f":"IF(OR(競技者一覧!T130=0, ISERROR(競技者一覧!T130)), \"\", 競技者一覧!T130)","v":""},109]
[{"$f":"団体CSV!C111","v":""},{"$f":"団体CSV!D111","v":""},{"$f":"団体CSV!E111","v":" "},{"$f":"IFERROR(VLOOKUP(競技者一覧!I131,Sheet4!$J$2:$K$3,2,FALSE),\"\")","v":""},{"$f":"IF(OR(競技者一覧!J131=0, ISERROR(競技者一覧!J131)), \"\", 競技者一覧!J131)","v":""},{"$f":"IF(OR(競技者一覧!K131=0, ISERROR(競技者一覧!K131)), \"\", 競技者一覧!K131)","v":""},{"$f":"IF(OR(競技者一覧!L131=0, ISERROR(競技者一覧!L131)), \"\", 競技者一覧!L131)","v":""},{"$f":"IF(OR(競技者一覧!M131=0, ISERROR(競技者一覧!M131)), \"\", 競技者一覧!M131)","v":""},{"$f":"IF(OR(競技者一覧!N131=0, ISERROR(競技者一覧!N131)), \"\", 競技者一覧!N131)","v":""},{"$f":"IF(OR(競技者一覧!O131=0, ISERROR(競技者一覧!O131)), \"\", 競技者一覧!O131)","v":""},{"$f":"IF(OR(競技者一覧!P131=0, ISERROR(競技者一覧!P131)), \"\", 競技者一覧!P131)","v":""},{"$f":"IF(OR(競技者一覧!Q131=0, ISERROR(競技者一覧!Q131)), \"\", 競技者一覧!Q131)","v":""},{"$f":"IF(OR(競技者一覧!R131=0, ISERROR(競技者一覧!R131)), \"\", 競技者一覧!R131)","v":""},{"$f":"IF(OR(競技者一覧!S131=0, ISERROR(競技者一覧!S131)), \"\", 競技者一覧!S131)","v":""},{"$f":"IF(OR(競技者一覧!T131=0, ISERROR(競技者一覧!T131)), \"\", 競技者一覧!T131)","v":""},110]
[{"$f":"団体CSV!C112","v":""},{"$f":"団体CSV!D112","v":""},{"$f":"団体CSV!E112","v":" "},{"$f":"IFERROR(VLOOKUP(競技者一覧!I132,Sheet4!$J$2:$K$3,2,FALSE),\"\")","v":""},{"$f":"IF(OR(競技者一覧!J132=0, ISERROR(競技者一覧!J132)), \"\", 競技者一覧!J132)","v":""},{"$f":"IF(OR(競技者一覧!K132=0, ISERROR(競技者一覧!K132)), \"\", 競技者一覧!K132)","v":""},{"$f":"IF(OR(競技者一覧!L132=0, ISERROR(競技者一覧!L132)), \"\", 競技者一覧!L132)","v":""},{"$f":"IF(OR(競技者一覧!M132=0, ISERROR(競技者一覧!M132)), \"\", 競技者一覧!M132)","v":""},{"$f":"IF(OR(競技者一覧!N132=0, ISERROR(競技者一覧!N132)), \"\", 競技者一覧!N132)","v":""},{"$f":"IF(OR(競技者一覧!O132=0, ISERROR(競技者一覧!O132)), \"\", 競技者一覧!O132)","v":""},{"$f":"IF(OR(競技者一覧!P132=0, ISERROR(競技者一覧!P132)), \"\", 競技者一覧!P132)","v":""},{"$f":"IF(OR(競技者一覧!Q132=0, ISERROR(競技者一覧!Q132)), \"\", 競技者一覧!Q132)","v":""},{"$f":"IF(OR(競技者一覧!R132=0, ISERROR(競技者一覧!R132)), \"\", 競技者一覧!R132)","v":""},{"$f":"IF(OR(競技者一覧!S132=0, ISERROR(競技者一覧!S132)), \"\", 競技者一覧!S132)","v":""},{"$f":"IF(OR(競技者一覧!T132=0, ISERROR(競技者一覧!T132)), \"\", 競技者一覧!T132)","v":""},111]
[{"$f":"団体CSV!C113","v":""},{"$f":"団体CSV!D113","v":""},{"$f":"団体CSV!E113","v":" "},{"$f":"IFERROR(VLOOKUP(競技者一覧!I133,Sheet4!$J$2:$K$3,2,FALSE),\"\")","v":""},{"$f":"IF(OR(競技者一覧!J133=0, ISERROR(競技者一覧!J133)), \"\", 競技者一覧!J133)","v":""},{"$f":"IF(OR(競技者一覧!K133=0, ISERROR(競技者一覧!K133)), \"\", 競技者一覧!K133)","v":""},{"$f":"IF(OR(競技者一覧!L133=0, ISERROR(競技者一覧!L133)), \"\", 競技者一覧!L133)","v":""},{"$f":"IF(OR(競技者一覧!M133=0, ISERROR(競技者一覧!M133)), \"\", 競技者一覧!M133)","v":""},{"$f":"IF(OR(競技者一覧!N133=0, ISERROR(競技者一覧!N133)), \"\", 競技者一覧!N133)","v":""},{"$f":"IF(OR(競技者一覧!O133=0, ISERROR(競技者一覧!O133)), \"\", 競技者一覧!O133)","v":""},{"$f":"IF(OR(競技者一覧!P133=0, ISERROR(競技者一覧!P133)), \"\", 競技者一覧!P133)","v":""},{"$f":"IF(OR(競技者一覧!Q133=0, ISERROR(競技者一覧!Q133)), \"\", 競技者一覧!Q133)","v":""},{"$f":"IF(OR(競技者一覧!R133=0, ISERROR(競技者一覧!R133)), \"\", 競技者一覧!R133)","v":""},{"$f":"IF(OR(競技者一覧!S133=0, ISERROR(競技者一覧!S133)), \"\", 競技者一覧!S133)","v":""},{"$f":"IF(OR(競技者一覧!T133=0, ISERROR(競技者一覧!T133)), \"\", 競技者一覧!T133)","v":""},112]
[{"$f":"団体CSV!C114","v":""},{"$f":"団体CSV!D114","v":""},{"$f":"団体CSV!E114","v":" "},{"$f":"IFERROR(VLOOKUP(競技者一覧!I134,Sheet4!$J$2:$K$3,2,FALSE),\"\")","v":""},{"$f":"IF(OR(競技者一覧!J134=0, ISERROR(競技者一覧!J134)), \"\", 競技者一覧!J134)","v":""},{"$f":"IF(OR(競技者一覧!K134=0, ISERROR(競技者一覧!K134)), \"\", 競技者一覧!K134)","v":""},{"$f":"IF(OR(競技者一覧!L134=0, ISERROR(競技者一覧!L134)), \"\", 競技者一覧!L134)","v":""},{"$f":"IF(OR(競技者一覧!M134=0, ISERROR(競技者一覧!M134)), \"\", 競技者一覧!M134)","v":""},{"$f":"IF(OR(競技者一覧!N134=0, ISERROR(競技者一覧!N134)), \"\", 競技者一覧!N134)","v":""},{"$f":"IF(OR(競技者一覧!O134=0, ISERROR(競技者一覧!O134)), \"\", 競技者一覧!O134)","v":""},{"$f":"IF(OR(競技者一覧!P134=0, ISERROR(競技者一覧!P134)), \"\", 競技者一覧!P134)","v":""},{"$f":"IF(OR(競技者一覧!Q134=0, ISERROR(競技者一覧!Q134)), \"\", 競技者一覧!Q134)","v":""},{"$f":"IF(OR(競技者一覧!R134=0, ISERROR(競技者一覧!R134)), \"\", 競技者一覧!R134)","v":""},{"$f":"IF(OR(競技者一覧!S134=0, ISERROR(競技者一覧!S134)), \"\", 競技者一覧!S134)","v":""},{"$f":"IF(OR(競技者一覧!T134=0, ISERROR(競技者一覧!T134)), \"\", 競技者一覧!T134)","v":""},113]
[{"$f":"団体CSV!C115","v":""},{"$f":"団体CSV!D115","v":""},{"$f":"団体CSV!E115","v":" "},{"$f":"IFERROR(VLOOKUP(競技者一覧!I135,Sheet4!$J$2:$K$3,2,FALSE),\"\")","v":""},{"$f":"IF(OR(競技者一覧!J135=0, ISERROR(競技者一覧!J135)), \"\", 競技者一覧!J135)","v":""},{"$f":"IF(OR(競技者一覧!K135=0, ISERROR(競技者一覧!K135)), \"\", 競技者一覧!K135)","v":""},{"$f":"IF(OR(競技者一覧!L135=0, ISERROR(競技者一覧!L135)), \"\", 競技者一覧!L135)","v":""},{"$f":"IF(OR(競技者一覧!M135=0, ISERROR(競技者一覧!M135)), \"\", 競技者一覧!M135)","v":""},{"$f":"IF(OR(競技者一覧!N135=0, ISERROR(競技者一覧!N135)), \"\", 競技者一覧!N135)","v":""},{"$f":"IF(OR(競技者一覧!O135=0, ISERROR(競技者一覧!O135)), \"\", 競技者一覧!O135)","v":""},{"$f":"IF(OR(競技者一覧!P135=0, ISERROR(競技者一覧!P135)), \"\", 競技者一覧!P135)","v":""},{"$f":"IF(OR(競技者一覧!Q135=0, ISERROR(競技者一覧!Q135)), \"\", 競技者一覧!Q135)","v":""},{"$f":"IF(OR(競技者一覧!R135=0, ISERROR(競技者一覧!R135)), \"\", 競技者一覧!R135)","v":""},{"$f":"IF(OR(競技者一覧!S135=0, ISERROR(競技者一覧!S135)), \"\", 競技者一覧!S135)","v":""},{"$f":"IF(OR(競技者一覧!T135=0, ISERROR(競技者一覧!T135)), \"\", 競技者一覧!T135)","v":""},114]
[{"$f":"団体CSV!C116","v":""},{"$f":"団体CSV!D116","v":""},{"$f":"団体CSV!E116","v":" "},{"$f":"IFERROR(VLOOKUP(競技者一覧!I136,Sheet4!$J$2:$K$3,2,FALSE),\"\")","v":""},{"$f":"IF(OR(競技者一覧!J136=0, ISERROR(競技者一覧!J136)), \"\", 競技者一覧!J136)","v":""},{"$f":"IF(OR(競技者一覧!K136=0, ISERROR(競技者一覧!K136)), \"\", 競技者一覧!K136)","v":""},{"$f":"IF(OR(競技者一覧!L136=0, ISERROR(競技者一覧!L136)), \"\", 競技者一覧!L136)","v":""},{"$f":"IF(OR(競技者一覧!M136=0, ISERROR(競技者一覧!M136)), \"\", 競技者一覧!M136)","v":""},{"$f":"IF(OR(競技者一覧!N136=0, ISERROR(競技者一覧!N136)), \"\", 競技者一覧!N136)","v":""},{"$f":"IF(OR(競技者一覧!O136=0, ISERROR(競技者一覧!O136)), \"\", 競技者一覧!O136)","v":""},{"$f":"IF(OR(競技者一覧!P136=0, ISERROR(競技者一覧!P136)), \"\", 競技者一覧!P136)","v":""},{"$f":"IF(OR(競技者一覧!Q136=0, ISERROR(競技者一覧!Q136)), \"\", 競技者一覧!Q136)","v":""},{"$f":"IF(OR(競技者一覧!R136=0, ISERROR(競技者一覧!R136)), \"\", 競技者一覧!R136)","v":""},{"$f":"IF(OR(競技者一覧!S136=0, ISERROR(競技者一覧!S136)), \"\", 競技者一覧!S136)","v":""},{"$f":"IF(OR(競技者一覧!T136=0, ISERROR(競技者一覧!T136)), \"\", 競技者一覧!T136)","v":""},115]
[{"$f":"団体CSV!C117","v":""},{"$f":"団体CSV!D117","v":""},{"$f":"団体CSV!E117","v":" "},{"$f":"IFERROR(VLOOKUP(競技者一覧!I137,Sheet4!$J$2:$K$3,2,FALSE),\"\")","v":""},{"$f":"IF(OR(競技者一覧!J137=0, ISERROR(競技者一覧!J137)), \"\", 競技者一覧!J137)","v":""},{"$f":"IF(OR(競技者一覧!K137=0, ISERROR(競技者一覧!K137)), \"\", 競技者一覧!K137)","v":""},{"$f":"IF(OR(競技者一覧!L137=0, ISERROR(競技者一覧!L137)), \"\", 競技者一覧!L137)","v":""},{"$f":"IF(OR(競技者一覧!M137=0, ISERROR(競技者一覧!M137)), \"\", 競技者一覧!M137)","v":""},{"$f":"IF(OR(競技者一覧!N137=0, ISERROR(競技者一覧!N137)), \"\", 競技者一覧!N137)","v":""},{"$f":"IF(OR(競技者一覧!O137=0, ISERROR(競技者一覧!O137)), \"\", 競技者一覧!O137)","v":""},{"$f":"IF(OR(競技者一覧!P137=0, ISERROR(競技者一覧!P137)), \"\", 競技者一覧!P137)","v":""},{"$f":"IF(OR(競技者一覧!Q137=0, ISERROR(競技者一覧!Q137)), \"\", 競技者一覧!Q137)","v":""},{"$f":"IF(OR(競技者一覧!R137=0, ISERROR(競技者一覧!R137)), \"\", 競技者一覧!R137)","v":""},{"$f":"IF(OR(競技者一覧!S137=0, ISERROR(競技者一覧!S137)), \"\", 競技者一覧!S137)","v":""},{"$f":"IF(OR(競技者一覧!T137=0, ISERROR(競技者一覧!T137)), \"\", 競技者一覧!T137)","v":""},116]
[{"$f":"団体CSV!C118","v":""},{"$f":"団体CSV!D118","v":""},{"$f":"団体CSV!E118","v":" "},{"$f":"IFERROR(VLOOKUP(競技者一覧!I138,Sheet4!$J$2:$K$3,2,FALSE),\"\")","v":""},{"$f":"IF(OR(競技者一覧!J138=0, ISERROR(競技者一覧!J138)), \"\", 競技者一覧!J138)","v":""},{"$f":"IF(OR(競技者一覧!K138=0, ISERROR(競技者一覧!K138)), \"\", 競技者一覧!K138)","v":""},{"$f":"IF(OR(競技者一覧!L138=0, ISERROR(競技者一覧!L138)), \"\", 競技者一覧!L138)","v":""},{"$f":"IF(OR(競技者一覧!M138=0, ISERROR(競技者一覧!M138)), \"\", 競技者一覧!M138)","v":""},{"$f":"IF(OR(競技者一覧!N138=0, ISERROR(競技者一覧!N138)), \"\", 競技者一覧!N138)","v":""},{"$f":"IF(OR(競技者一覧!O138=0, ISERROR(競技者一覧!O138)), \"\", 競技者一覧!O138)","v":""},{"$f":"IF(OR(競技者一覧!P138=0, ISERROR(競技者一覧!P138)), \"\", 競技者一覧!P138)","v":""},{"$f":"IF(OR(競技者一覧!Q138=0, ISERROR(競技者一覧!Q138)), \"\", 競技者一覧!Q138)","v":""},{"$f":"IF(OR(競技者一覧!R138=0, ISERROR(競技者一覧!R138)), \"\", 競技者一覧!R138)","v":""},{"$f":"IF(OR(競技者一覧!S138=0, ISERROR(競技者一覧!S138)), \"\", 競技者一覧!S138)","v":""},{"$f":"IF(OR(競技者一覧!T138=0, ISERROR(競技者一覧!T138)), \"\", 競技者一覧!T138)","v":""},117]
[{"$f":"団体CSV!C119","v":""},{"$f":"団体CSV!D119","v":""},{"$f":"団体CSV!E119","v":" "},{"$f":"IFERROR(VLOOKUP(競技者一覧!I139,Sheet4!$J$2:$K$3,2,FALSE),\"\")","v":""},{"$f":"IF(OR(競技者一覧!J139=0, ISERROR(競技者一覧!J139)), \"\", 競技者一覧!J139)","v":""},{"$f":"IF(OR(競技者一覧!K139=0, ISERROR(競技者一覧!K139)), \"\", 競技者一覧!K139)","v":""},{"$f":"IF(OR(競技者一覧!L139=0, ISERROR(競技者一覧!L139)), \"\", 競技者一覧!L139)","v":""},{"$f":"IF(OR(競技者一覧!M139=0, ISERROR(競技者一覧!M139)), \"\", 競技者一覧!M139)","v":""},{"$f":"IF(OR(競技者一覧!N139=0, ISERROR(競技者一覧!N139)), \"\", 競技者一覧!N139)","v":""},{"$f":"IF(OR(競技者一覧!O139=0, ISERROR(競技者一覧!O139)), \"\", 競技者一覧!O139)","v":""},{"$f":"IF(OR(競技者一覧!P139=0, ISERROR(競技者一覧!P139)), \"\", 競技者一覧!P139)","v":""},{"$f":"IF(OR(競技者一覧!Q139=0, ISERROR(競技者一覧!Q139)), \"\", 競技者一覧!Q139)","v":""},{"$f":"IF(OR(競技者一覧!R139=0, ISERROR(競技者一覧!R139)), \"\", 競技者一覧!R139)","v":""},{"$f":"IF(OR(競技者一覧!S139=0, ISERROR(競技者一覧!S139)), \"\", 競技者一覧!S139)","v":""},{"$f":"IF(OR(競技者一覧!T139=0, ISERROR(競技者一覧!T139)), \"\", 競技者一覧!T139)","v":""},118]
[{"$f":"団体CSV!C120","v":""},{"$f":"団体CSV!D120","v":""},{"$f":"団体CSV!E120","v":" "},{"$f":"IFERROR(VLOOKUP(競技者一覧!I140,Sheet4!$J$2:$K$3,2,FALSE),\"\")","v":""},{"$f":"IF(OR(競技者一覧!J140=0, ISERROR(競技者一覧!J140)), \"\", 競技者一覧!J140)","v":""},{"$f":"IF(OR(競技者一覧!K140=0, ISERROR(競技者一覧!K140)), \"\", 競技者一覧!K140)","v":""},{"$f":"IF(OR(競技者一覧!L140=0, ISERROR(競技者一覧!L140)), \"\", 競技者一覧!L140)","v":""},{"$f":"IF(OR(競技者一覧!M140=0, ISERROR(競技者一覧!M140)), \"\", 競技者一覧!M140)","v":""},{"$f":"IF(OR(競技者一覧!N140=0, ISERROR(競技者一覧!N140)), \"\", 競技者一覧!N140)","v":""},{"$f":"IF(OR(競技者一覧!O140=0, ISERROR(競技者一覧!O140)), \"\", 競技者一覧!O140)","v":""},{"$f":"IF(OR(競技者一覧!P140=0, ISERROR(競技者一覧!P140)), \"\", 競技者一覧!P140)","v":""},{"$f":"IF(OR(競技者一覧!Q140=0, ISERROR(競技者一覧!Q140)), \"\", 競技者一覧!Q140)","v":""},{"$f":"IF(OR(競技者一覧!R140=0, ISERROR(競技者一覧!R140)), \"\", 競技者一覧!R140)","v":""},{"$f":"IF(OR(競技者一覧!S140=0, ISERROR(競技者一覧!S140)), \"\", 競技者一覧!S140)","v":""},{"$f":"IF(OR(競技者一覧!T140=0, ISERROR(競技者一覧!T140)), \"\", 競技者一覧!T140)","v":""},119]
[{"$f":"団体CSV!C121","v":""},{"$f":"団体CSV!D121","v":""},{"$f":"団体CSV!E121","v":" "},{"$f":"IFERROR(VLOOKUP(競技者一覧!I141,Sheet4!$J$2:$K$3,2,FALSE),\"\")","v":""},{"$f":"IF(OR(競技者一覧!J141=0, ISERROR(競技者一覧!J141)), \"\", 競技者一覧!J141)","v":""},{"$f":"IF(OR(競技者一覧!K141=0, ISERROR(競技者一覧!K141)), \"\", 競技者一覧!K141)","v":""},{"$f":"IF(OR(競技者一覧!L141=0, ISERROR(競技者一覧!L141)), \"\", 競技者一覧!L141)","v":""},{"$f":"IF(OR(競技者一覧!M141=0, ISERROR(競技者一覧!M141)), \"\", 競技者一覧!M141)","v":""},{"$f":"IF(OR(競技者一覧!N141=0, ISERROR(競技者一覧!N141)), \"\", 競技者一覧!N141)","v":""},{"$f":"IF(OR(競技者一覧!O141=0, ISERROR(競技者一覧!O141)), \"\", 競技者一覧!O141)","v":""},{"$f":"IF(OR(競技者一覧!P141=0, ISERROR(競技者一覧!P141)), \"\", 競技者一覧!P141)","v":""},{"$f":"IF(OR(競技者一覧!Q141=0, ISERROR(競技者一覧!Q141)), \"\", 競技者一覧!Q141)","v":""},{"$f":"IF(OR(競技者一覧!R141=0, ISERROR(競技者一覧!R141)), \"\", 競技者一覧!R141)","v":""},{"$f":"IF(OR(競技者一覧!S141=0, ISERROR(競技者一覧!S141)), \"\", 競技者一覧!S141)","v":""},{"$f":"IF(OR(競技者一覧!T141=0, ISERROR(競技者一覧!T141)), \"\", 競技者一覧!T141)","v":""},120]
[{"$f":"団体CSV!C122","v":""},{"$f":"団体CSV!D122","v":""},{"$f":"団体CSV!E122","v":" "},{"$f":"IFERROR(VLOOKUP(競技者一覧!I142,Sheet4!$J$2:$K$3,2,FALSE),\"\")","v":""},{"$f":"IF(OR(競技者一覧!J142=0, ISERROR(競技者一覧!J142)), \"\", 競技者一覧!J142)","v":""},{"$f":"IF(OR(競技者一覧!K142=0, ISERROR(競技者一覧!K142)), \"\", 競技者一覧!K142)","v":""},{"$f":"IF(OR(競技者一覧!L142=0, ISERROR(競技者一覧!L142)), \"\", 競技者一覧!L142)","v":""},{"$f":"IF(OR(競技者一覧!M142=0, ISERROR(競技者一覧!M142)), \"\", 競技者一覧!M142)","v":""},{"$f":"IF(OR(競技者一覧!N142=0, ISERROR(競技者一覧!N142)), \"\", 競技者一覧!N142)","v":""},{"$f":"IF(OR(競技者一覧!O142=0, ISERROR(競技者一覧!O142)), \"\", 競技者一覧!O142)","v":""},{"$f":"IF(OR(競技者一覧!P142=0, ISERROR(競技者一覧!P142)), \"\", 競技者一覧!P142)","v":""},{"$f":"IF(OR(競技者一覧!Q142=0, ISERROR(競技者一覧!Q142)), \"\", 競技者一覧!Q142)","v":""},{"$f":"IF(OR(競技者一覧!R142=0, ISERROR(競技者一覧!R142)), \"\", 競技者一覧!R142)","v":""},{"$f":"IF(OR(競技者一覧!S142=0, ISERROR(競技者一覧!S142)), \"\", 競技者一覧!S142)","v":""},{"$f":"IF(OR(競技者一覧!T142=0, ISERROR(競技者一覧!T142)), \"\", 競技者一覧!T142)","v":""},121]
[{"$f":"団体CSV!C123","v":""},{"$f":"団体CSV!D123","v":""},{"$f":"団体CSV!E123","v":" "},{"$f":"IFERROR(VLOOKUP(競技者一覧!I143,Sheet4!$J$2:$K$3,2,FALSE),\"\")","v":""},{"$f":"IF(OR(競技者一覧!J143=0, ISERROR(競技者一覧!J143)), \"\", 競技者一覧!J143)","v":""},{"$f":"IF(OR(競技者一覧!K143=0, ISERROR(競技者一覧!K143)), \"\", 競技者一覧!K143)","v":""},{"$f":"IF(OR(競技者一覧!L143=0, ISERROR(競技者一覧!L143)), \"\", 競技者一覧!L143)","v":""},{"$f":"IF(OR(競技者一覧!M143=0, ISERROR(競技者一覧!M143)), \"\", 競技者一覧!M143)","v":""},{"$f":"IF(OR(競技者一覧!N143=0, ISERROR(競技者一覧!N143)), \"\", 競技者一覧!N143)","v":""},{"$f":"IF(OR(競技者一覧!O143=0, ISERROR(競技者一覧!O143)), \"\", 競技者一覧!O143)","v":""},{"$f":"IF(OR(競技者一覧!P143=0, ISERROR(競技者一覧!P143)), \"\", 競技者一覧!P143)","v":""},{"$f":"IF(OR(競技者一覧!Q143=0, ISERROR(競技者一覧!Q143)), \"\", 競技者一覧!Q143)","v":""},{"$f":"IF(OR(競技者一覧!R143=0, ISERROR(競技者一覧!R143)), \"\", 競技者一覧!R143)","v":""},{"$f":"IF(OR(競技者一覧!S143=0, ISERROR(競技者一覧!S143)), \"\", 競技者一覧!S143)","v":""},{"$f":"IF(OR(競技者一覧!T143=0, ISERROR(競技者一覧!T143)), \"\", 競技者一覧!T143)","v":""},122]
[{"$f":"団体CSV!C124","v":""},{"$f":"団体CSV!D124","v":""},{"$f":"団体CSV!E124","v":" "},{"$f":"IFERROR(VLOOKUP(競技者一覧!I144,Sheet4!$J$2:$K$3,2,FALSE),\"\")","v":""},{"$f":"IF(OR(競技者一覧!J144=0, ISERROR(競技者一覧!J144)), \"\", 競技者一覧!J144)","v":""},{"$f":"IF(OR(競技者一覧!K144=0, ISERROR(競技者一覧!K144)), \"\", 競技者一覧!K144)","v":""},{"$f":"IF(OR(競技者一覧!L144=0, ISERROR(競技者一覧!L144)), \"\", 競技者一覧!L144)","v":""},{"$f":"IF(OR(競技者一覧!M144=0, ISERROR(競技者一覧!M144)), \"\", 競技者一覧!M144)","v":""},{"$f":"IF(OR(競技者一覧!N144=0, ISERROR(競技者一覧!N144)), \"\", 競技者一覧!N144)","v":""},{"$f":"IF(OR(競技者一覧!O144=0, ISERROR(競技者一覧!O144)), \"\", 競技者一覧!O144)","v":""},{"$f":"IF(OR(競技者一覧!P144=0, ISERROR(競技者一覧!P144)), \"\", 競技者一覧!P144)","v":""},{"$f":"IF(OR(競技者一覧!Q144=0, ISERROR(競技者一覧!Q144)), \"\", 競技者一覧!Q144)","v":""},{"$f":"IF(OR(競技者一覧!R144=0, ISERROR(競技者一覧!R144)), \"\", 競技者一覧!R144)","v":""},{"$f":"IF(OR(競技者一覧!S144=0, ISERROR(競技者一覧!S144)), \"\", 競技者一覧!S144)","v":""},{"$f":"IF(OR(競技者一覧!T144=0, ISERROR(競技者一覧!T144)), \"\", 競技者一覧!T144)","v":""},123]
[{"$f":"団体CSV!C125","v":""},{"$f":"団体CSV!D125","v":""},{"$f":"団体CSV!E125","v":" "},{"$f":"IFERROR(VLOOKUP(競技者一覧!I145,Sheet4!$J$2:$K$3,2,FALSE),\"\")","v":""},{"$f":"IF(OR(競技者一覧!J145=0, ISERROR(競技者一覧!J145)), \"\", 競技者一覧!J145)","v":""},{"$f":"IF(OR(競技者一覧!K145=0, ISERROR(競技者一覧!K145)), \"\", 競技者一覧!K145)","v":""},{"$f":"IF(OR(競技者一覧!L145=0, ISERROR(競技者一覧!L145)), \"\", 競技者一覧!L145)","v":""},{"$f":"IF(OR(競技者一覧!M145=0, ISERROR(競技者一覧!M145)), \"\", 競技者一覧!M145)","v":""},{"$f":"IF(OR(競技者一覧!N145=0, ISERROR(競技者一覧!N145)), \"\", 競技者一覧!N145)","v":""},{"$f":"IF(OR(競技者一覧!O145=0, ISERROR(競技者一覧!O145)), \"\", 競技者一覧!O145)","v":""},{"$f":"IF(OR(競技者一覧!P145=0, ISERROR(競技者一覧!P145)), \"\", 競技者一覧!P145)","v":""},{"$f":"IF(OR(競技者一覧!Q145=0, ISERROR(競技者一覧!Q145)), \"\", 競技者一覧!Q145)","v":""},{"$f":"IF(OR(競技者一覧!R145=0, ISERROR(競技者一覧!R145)), \"\", 競技者一覧!R145)","v":""},{"$f":"IF(OR(競技者一覧!S145=0, ISERROR(競技者一覧!S145)), \"\", 競技者一覧!S145)","v":""},{"$f":"IF(OR(競技者一覧!T145=0, ISERROR(競技者一覧!T145)), \"\", 競技者一覧!T145)","v":""},124]
[{"$f":"団体CSV!C126","v":""},{"$f":"団体CSV!D126","v":""},{"$f":"団体CSV!E126","v":" "},{"$f":"IFERROR(VLOOKUP(競技者一覧!I146,Sheet4!$J$2:$K$3,2,FALSE),\"\")","v":""},{"$f":"IF(OR(競技者一覧!J146=0, ISERROR(競技者一覧!J146)), \"\", 競技者一覧!J146)","v":""},{"$f":"IF(OR(競技者一覧!K146=0, ISERROR(競技者一覧!K146)), \"\", 競技者一覧!K146)","v":""},{"$f":"IF(OR(競技者一覧!L146=0, ISERROR(競技者一覧!L146)), \"\", 競技者一覧!L146)","v":""},{"$f":"IF(OR(競技者一覧!M146=0, ISERROR(競技者一覧!M146)), \"\", 競技者一覧!M146)","v":""},{"$f":"IF(OR(競技者一覧!N146=0, ISERROR(競技者一覧!N146)), \"\", 競技者一覧!N146)","v":""},{"$f":"IF(OR(競技者一覧!O146=0, ISERROR(競技者一覧!O146)), \"\", 競技者一覧!O146)","v":""},{"$f":"IF(OR(競技者一覧!P146=0, ISERROR(競技者一覧!P146)), \"\", 競技者一覧!P146)","v":""},{"$f":"IF(OR(競技者一覧!Q146=0, ISERROR(競技者一覧!Q146)), \"\", 競技者一覧!Q146)","v":""},{"$f":"IF(OR(競技者一覧!R146=0, ISERROR(競技者一覧!R146)), \"\", 競技者一覧!R146)","v":""},{"$f":"IF(OR(競技者一覧!S146=0, ISERROR(競技者一覧!S146)), \"\", 競技者一覧!S146)","v":""},{"$f":"IF(OR(競技者一覧!T146=0, ISERROR(競技者一覧!T146)), \"\", 競技者一覧!T146)","v":""},125]
[{"$f":"団体CSV!C127","v":""},{"$f":"団体CSV!D127","v":""},{"$f":"団体CSV!E127","v":" "},{"$f":"IFERROR(VLOOKUP(競技者一覧!I147,Sheet4!$J$2:$K$3,2,FALSE),\"\")","v":""},{"$f":"IF(OR(競技者一覧!J147=0, ISERROR(競技者一覧!J147)), \"\", 競技者一覧!J147)","v":""},{"$f":"IF(OR(競技者一覧!K147=0, ISERROR(競技者一覧!K147)), \"\", 競技者一覧!K147)","v":""},{"$f":"IF(OR(競技者一覧!L147=0, ISERROR(競技者一覧!L147)), \"\", 競技者一覧!L147)","v":""},{"$f":"IF(OR(競技者一覧!M147=0, ISERROR(競技者一覧!M147)), \"\", 競技者一覧!M147)","v":""},{"$f":"IF(OR(競技者一覧!N147=0, ISERROR(競技者一覧!N147)), \"\", 競技者一覧!N147)","v":""},{"$f":"IF(OR(競技者一覧!O147=0, ISERROR(競技者一覧!O147)), \"\", 競技者一覧!O147)","v":""},{"$f":"IF(OR(競技者一覧!P147=0, ISERROR(競技者一覧!P147)), \"\", 競技者一覧!P147)","v":""},{"$f":"IF(OR(競技者一覧!Q147=0, ISERROR(競技者一覧!Q147)), \"\", 競技者一覧!Q147)","v":""},{"$f":"IF(OR(競技者一覧!R147=0, ISERROR(競技者一覧!R147)), \"\", 競技者一覧!R147)","v":""},{"$f":"IF(OR(競技者一覧!S147=0, ISERROR(競技者一覧!S147)), \"\", 競技者一覧!S147)","v":""},{"$f":"IF(OR(競技者一覧!T147=0, ISERROR(競技者一覧!T147)), \"\", 競技者一覧!T147)","v":""},126]
[{"$f":"団体CSV!C128","v":""},{"$f":"団体CSV!D128","v":""},{"$f":"団体CSV!E128","v":" "},{"$f":"IFERROR(VLOOKUP(競技者一覧!I148,Sheet4!$J$2:$K$3,2,FALSE),\"\")","v":""},{"$f":"IF(OR(競技者一覧!J148=0, ISERROR(競技者一覧!J148)), \"\", 競技者一覧!J148)","v":""},{"$f":"IF(OR(競技者一覧!K148=0, ISERROR(競技者一覧!K148)), \"\", 競技者一覧!K148)","v":""},{"$f":"IF(OR(競技者一覧!L148=0, ISERROR(競技者一覧!L148)), \"\", 競技者一覧!L148)","v":""},{"$f":"IF(OR(競技者一覧!M148=0, ISERROR(競技者一覧!M148)), \"\", 競技者一覧!M148)","v":""},{"$f":"IF(OR(競技者一覧!N148=0, ISERROR(競技者一覧!N148)), \"\", 競技者一覧!N148)","v":""},{"$f":"IF(OR(競技者一覧!O148=0, ISERROR(競技者一覧!O148)), \"\", 競技者一覧!O148)","v":""},{"$f":"IF(OR(競技者一覧!P148=0, ISERROR(競技者一覧!P148)), \"\", 競技者一覧!P148)","v":""},{"$f":"IF(OR(競技者一覧!Q148=0, ISERROR(競技者一覧!Q148)), \"\", 競技者一覧!Q148)","v":""},{"$f":"IF(OR(競技者一覧!R148=0, ISERROR(競技者一覧!R148)), \"\", 競技者一覧!R148)","v":""},{"$f":"IF(OR(競技者一覧!S148=0, ISERROR(競技者一覧!S148)), \"\", 競技者一覧!S148)","v":""},{"$f":"IF(OR(競技者一覧!T148=0, ISERROR(競技者一覧!T148)), \"\", 競技者一覧!T148)","v":""},127]
[{"$f":"団体CSV!C129","v":""},{"$f":"団体CSV!D129","v":""},{"$f":"団体CSV!E129","v":" "},{"$f":"IFERROR(VLOOKUP(競技者一覧!I149,Sheet4!$J$2:$K$3,2,FALSE),\"\")","v":""},{"$f":"IF(OR(競技者一覧!J149=0, ISERROR(競技者一覧!J149)), \"\", 競技者一覧!J149)","v":""},{"$f":"IF(OR(競技者一覧!K149=0, ISERROR(競技者一覧!K149)), \"\", 競技者一覧!K149)","v":""},{"$f":"IF(OR(競技者一覧!L149=0, ISERROR(競技者一覧!L149)), \"\", 競技者一覧!L149)","v":""},{"$f":"IF(OR(競技者一覧!M149=0, ISERROR(競技者一覧!M149)), \"\", 競技者一覧!M149)","v":""},{"$f":"IF(OR(競技者一覧!N149=0, ISERROR(競技者一覧!N149)), \"\", 競技者一覧!N149)","v":""},{"$f":"IF(OR(競技者一覧!O149=0, ISERROR(競技者一覧!O149)), \"\", 競技者一覧!O149)","v":""},{"$f":"IF(OR(競技者一覧!P149=0, ISERROR(競技者一覧!P149)), \"\", 競技者一覧!P149)","v":""},{"$f":"IF(OR(競技者一覧!Q149=0, ISERROR(競技者一覧!Q149)), \"\", 競技者一覧!Q149)","v":""},{"$f":"IF(OR(競技者一覧!R149=0, ISERROR(競技者一覧!R149)), \"\", 競技者一覧!R149)","v":""},{"$f":"IF(OR(競技者一覧!S149=0, ISERROR(競技者一覧!S149)), \"\", 競技者一覧!S149)","v":""},{"$f":"IF(OR(競技者一覧!T149=0, ISERROR(競技者一覧!T149)), \"\", 競技者一覧!T149)","v":""},128]
[{"$f":"団体CSV!C130","v":""},{"$f":"団体CSV!D130","v":""},{"$f":"団体CSV!E130","v":" "},{"$f":"IFERROR(VLOOKUP(競技者一覧!I150,Sheet4!$J$2:$K$3,2,FALSE),\"\")","v":""},{"$f":"IF(OR(競技者一覧!J150=0, ISERROR(競技者一覧!J150)), \"\", 競技者一覧!J150)","v":""},{"$f":"IF(OR(競技者一覧!K150=0, ISERROR(競技者一覧!K150)), \"\", 競技者一覧!K150)","v":""},{"$f":"IF(OR(競技者一覧!L150=0, ISERROR(競技者一覧!L150)), \"\", 競技者一覧!L150)","v":""},{"$f":"IF(OR(競技者一覧!M150=0, ISERROR(競技者一覧!M150)), \"\", 競技者一覧!M150)","v":""},{"$f":"IF(OR(競技者一覧!N150=0, ISERROR(競技者一覧!N150)), \"\", 競技者一覧!N150)","v":""},{"$f":"IF(OR(競技者一覧!O150=0, ISERROR(競技者一覧!O150)), \"\", 競技者一覧!O150)","v":""},{"$f":"IF(OR(競技者一覧!P150=0, ISERROR(競技者一覧!P150)), \"\", 競技者一覧!P150)","v":""},{"$f":"IF(OR(競技者一覧!Q150=0, ISERROR(競技者一覧!Q150)), \"\", 競技者一覧!Q150)","v":""},{"$f":"IF(OR(競技者一覧!R150=0, ISERROR(競技者一覧!R150)), \"\", 競技者一覧!R150)","v":""},{"$f":"IF(OR(競技者一覧!S150=0, ISERROR(競技者一覧!S150)), \"\", 競技者一覧!S150)","v":""},{"$f":"IF(OR(競技者一覧!T150=0, ISERROR(競技者一覧!T150)), \"\", 競技者一覧!T150)","v":""},129]
[{"$f":"団体CSV!C131","v":""},{"$f":"団体CSV!D131","v":""},{"$f":"団体CSV!E131","v":" "},{"$f":"IFERROR(VLOOKUP(競技者一覧!I151,Sheet4!$J$2:$K$3,2,FALSE),\"\")","v":""},{"$f":"IF(OR(競技者一覧!J151=0, ISERROR(競技者一覧!J151)), \"\", 競技者一覧!J151)","v":""},{"$f":"IF(OR(競技者一覧!K151=0, ISERROR(競技者一覧!K151)), \"\", 競技者一覧!K151)","v":""},{"$f":"IF(OR(競技者一覧!L151=0, ISERROR(競技者一覧!L151)), \"\", 競技者一覧!L151)","v":""},{"$f":"IF(OR(競技者一覧!M151=0, ISERROR(競技者一覧!M151)), \"\", 競技者一覧!M151)","v":""},{"$f":"IF(OR(競技者一覧!N151=0, ISERROR(競技者一覧!N151)), \"\", 競技者一覧!N151)","v":""},{"$f":"IF(OR(競技者一覧!O151=0, ISERROR(競技者一覧!O151)), \"\", 競技者一覧!O151)","v":""},{"$f":"IF(OR(競技者一覧!P151=0, ISERROR(競技者一覧!P151)), \"\", 競技者一覧!P151)","v":""},{"$f":"IF(OR(競技者一覧!Q151=0, ISERROR(競技者一覧!Q151)), \"\", 競技者一覧!Q151)","v":""},{"$f":"IF(OR(競技者一覧!R151=0, ISERROR(競技者一覧!R151)), \"\", 競技者一覧!R151)","v":""},{"$f":"IF(OR(競技者一覧!S151=0, ISERROR(競技者一覧!S151)), \"\", 競技者一覧!S151)","v":""},{"$f":"IF(OR(競技者一覧!T151=0, ISERROR(競技者一覧!T151)), \"\", 競技者一覧!T151)","v":""},130]
[{"$f":"団体CSV!C132","v":""},{"$f":"団体CSV!D132","v":""},{"$f":"団体CSV!E132","v":" "},{"$f":"IFERROR(VLOOKUP(競技者一覧!I152,Sheet4!$J$2:$K$3,2,FALSE),\"\")","v":""},{"$f":"IF(OR(競技者一覧!J152=0, ISERROR(競技者一覧!J152)), \"\", 競技者一覧!J152)","v":""},{"$f":"IF(OR(競技者一覧!K152=0, ISERROR(競技者一覧!K152)), \"\", 競技者一覧!K152)","v":""},{"$f":"IF(OR(競技者一覧!L152=0, ISERROR(競技者一覧!L152)), \"\", 競技者一覧!L152)","v":""},{"$f":"IF(OR(競技者一覧!M152=0, ISERROR(競技者一覧!M152)), \"\", 競技者一覧!M152)","v":""},{"$f":"IF(OR(競技者一覧!N152=0, ISERROR(競技者一覧!N152)), \"\", 競技者一覧!N152)","v":""},{"$f":"IF(OR(競技者一覧!O152=0, ISERROR(競技者一覧!O152)), \"\", 競技者一覧!O152)","v":""},{"$f":"IF(OR(競技者一覧!P152=0, ISERROR(競技者一覧!P152)), \"\", 競技者一覧!P152)","v":""},{"$f":"IF(OR(競技者一覧!Q152=0, ISERROR(競技者一覧!Q152)), \"\", 競技者一覧!Q152)","v":""},{"$f":"IF(OR(競技者一覧!R152=0, ISERROR(競技者一覧!R152)), \"\", 競技者一覧!R152)","v":""},{"$f":"IF(OR(競技者一覧!S152=0, ISERROR(競技者一覧!S152)), \"\", 競技者一覧!S152)","v":""},{"$f":"IF(OR(競技者一覧!T152=0, ISERROR(競技者一覧!T152)), \"\", 競技者一覧!T152)","v":""},131]
[{"$f":"団体CSV!C133","v":""},{"$f":"団体CSV!D133","v":""},{"$f":"団体CSV!E133","v":" "},{"$f":"IFERROR(VLOOKUP(競技者一覧!I153,Sheet4!$J$2:$K$3,2,FALSE),\"\")","v":""},{"$f":"IF(OR(競技者一覧!J153=0, ISERROR(競技者一覧!J153)), \"\", 競技者一覧!J153)","v":""},{"$f":"IF(OR(競技者一覧!K153=0, ISERROR(競技者一覧!K153)), \"\", 競技者一覧!K153)","v":""},{"$f":"IF(OR(競技者一覧!L153=0, ISERROR(競技者一覧!L153)), \"\", 競技者一覧!L153)","v":""},{"$f":"IF(OR(競技者一覧!M153=0, ISERROR(競技者一覧!M153)), \"\", 競技者一覧!M153)","v":""},{"$f":"IF(OR(競技者一覧!N153=0, ISERROR(競技者一覧!N153)), \"\", 競技者一覧!N153)","v":""},{"$f":"IF(OR(競技者一覧!O153=0, ISERROR(競技者一覧!O153)), \"\", 競技者一覧!O153)","v":""},{"$f":"IF(OR(競技者一覧!P153=0, ISERROR(競技者一覧!P153)), \"\", 競技者一覧!P153)","v":""},{"$f":"IF(OR(競技者一覧!Q153=0, ISERROR(競技者一覧!Q153)), \"\", 競技者一覧!Q153)","v":""},{"$f":"IF(OR(競技者一覧!R153=0, ISERROR(競技者一覧!R153)), \"\", 競技者一覧!R153)","v":""},{"$f":"IF(OR(競技者一覧!S153=0, ISERROR(競技者一覧!S153)), \"\", 競技者一覧!S153)","v":""},{"$f":"IF(OR(競技者一覧!T153=0, ISERROR(競技者一覧!T153)), \"\", 競技者一覧!T153)","v":""},132]
[{"$f":"団体CSV!C134","v":""},{"$f":"団体CSV!D134","v":""},{"$f":"団体CSV!E134","v":" "},{"$f":"IFERROR(VLOOKUP(競技者一覧!I154,Sheet4!$J$2:$K$3,2,FALSE),\"\")","v":""},{"$f":"IF(OR(競技者一覧!J154=0, ISERROR(競技者一覧!J154)), \"\", 競技者一覧!J154)","v":""},{"$f":"IF(OR(競技者一覧!K154=0, ISERROR(競技者一覧!K154)), \"\", 競技者一覧!K154)","v":""},{"$f":"IF(OR(競技者一覧!L154=0, ISERROR(競技者一覧!L154)), \"\", 競技者一覧!L154)","v":""},{"$f":"IF(OR(競技者一覧!M154=0, ISERROR(競技者一覧!M154)), \"\", 競技者一覧!M154)","v":""},{"$f":"IF(OR(競技者一覧!N154=0, ISERROR(競技者一覧!N154)), \"\", 競技者一覧!N154)","v":""},{"$f":"IF(OR(競技者一覧!O154=0, ISERROR(競技者一覧!O154)), \"\", 競技者一覧!O154)","v":""},{"$f":"IF(OR(競技者一覧!P154=0, ISERROR(競技者一覧!P154)), \"\", 競技者一覧!P154)","v":""},{"$f":"IF(OR(競技者一覧!Q154=0, ISERROR(競技者一覧!Q154)), \"\", 競技者一覧!Q154)","v":""},{"$f":"IF(OR(競技者一覧!R154=0, ISERROR(競技者一覧!R154)), \"\", 競技者一覧!R154)","v":""},{"$f":"IF(OR(競技者一覧!S154=0, ISERROR(競技者一覧!S154)), \"\", 競技者一覧!S154)","v":""},{"$f":"IF(OR(競技者一覧!T154=0, ISERROR(競技者一覧!T154)), \"\", 競技者一覧!T154)","v":""},133]
[{"$f":"団体CSV!C135","v":""},{"$f":"団体CSV!D135","v":""},{"$f":"団体CSV!E135","v":" "},{"$f":"IFERROR(VLOOKUP(競技者一覧!I155,Sheet4!$J$2:$K$3,2,FALSE),\"\")","v":""},{"$f":"IF(OR(競技者一覧!J155=0, ISERROR(競技者一覧!J155)), \"\", 競技者一覧!J155)","v":""},{"$f":"IF(OR(競技者一覧!K155=0, ISERROR(競技者一覧!K155)), \"\", 競技者一覧!K155)","v":""},{"$f":"IF(OR(競技者一覧!L155=0, ISERROR(競技者一覧!L155)), \"\", 競技者一覧!L155)","v":""},{"$f":"IF(OR(競技者一覧!M155=0, ISERROR(競技者一覧!M155)), \"\", 競技者一覧!M155)","v":""},{"$f":"IF(OR(競技者一覧!N155=0, ISERROR(競技者一覧!N155)), \"\", 競技者一覧!N155)","v":""},{"$f":"IF(OR(競技者一覧!O155=0, ISERROR(競技者一覧!O155)), \"\", 競技者一覧!O155)","v":""},{"$f":"IF(OR(競技者一覧!P155=0, ISERROR(競技者一覧!P155)), \"\", 競技者一覧!P155)","v":""},{"$f":"IF(OR(競技者一覧!Q155=0, ISERROR(競技者一覧!Q155)), \"\", 競技者一覧!Q155)","v":""},{"$f":"IF(OR(競技者一覧!R155=0, ISERROR(競技者一覧!R155)), \"\", 競技者一覧!R155)","v":""},{"$f":"IF(OR(競技者一覧!S155=0, ISERROR(競技者一覧!S155)), \"\", 競技者一覧!S155)","v":""},{"$f":"IF(OR(競技者一覧!T155=0, ISERROR(競技者一覧!T155)), \"\", 競技者一覧!T155)","v":""},134]
[{"$f":"団体CSV!C136","v":""},{"$f":"団体CSV!D136","v":""},{"$f":"団体CSV!E136","v":" "},{"$f":"IFERROR(VLOOKUP(競技者一覧!I156,Sheet4!$J$2:$K$3,2,FALSE),\"\")","v":""},{"$f":"IF(OR(競技者一覧!J156=0, ISERROR(競技者一覧!J156)), \"\", 競技者一覧!J156)","v":""},{"$f":"IF(OR(競技者一覧!K156=0, ISERROR(競技者一覧!K156)), \"\", 競技者一覧!K156)","v":""},{"$f":"IF(OR(競技者一覧!L156=0, ISERROR(競技者一覧!L156)), \"\", 競技者一覧!L156)","v":""},{"$f":"IF(OR(競技者一覧!M156=0, ISERROR(競技者一覧!M156)), \"\", 競技者一覧!M156)","v":""},{"$f":"IF(OR(競技者一覧!N156=0, ISERROR(競技者一覧!N156)), \"\", 競技者一覧!N156)","v":""},{"$f":"IF(OR(競技者一覧!O156=0, ISERROR(競技者一覧!O156)), \"\", 競技者一覧!O156)","v":""},{"$f":"IF(OR(競技者一覧!P156=0, ISERROR(競技者一覧!P156)), \"\", 競技者一覧!P156)","v":""},{"$f":"IF(OR(競技者一覧!Q156=0, ISERROR(競技者一覧!Q156)), \"\", 競技者一覧!Q156)","v":""},{"$f":"IF(OR(競技者一覧!R156=0, ISERROR(競技者一覧!R156)), \"\", 競技者一覧!R156)","v":""},{"$f":"IF(OR(競技者一覧!S156=0, ISERROR(競技者一覧!S156)), \"\", 競技者一覧!S156)","v":""},{"$f":"IF(OR(競技者一覧!T156=0, ISERROR(競技者一覧!T156)), \"\", 競技者一覧!T156)","v":""},135]
[{"$f":"団体CSV!C137","v":""},{"$f":"団体CSV!D137","v":""},{"$f":"団体CSV!E137","v":" "},{"$f":"IFERROR(VLOOKUP(競技者一覧!I157,Sheet4!$J$2:$K$3,2,FALSE),\"\")","v":""},{"$f":"IF(OR(競技者一覧!J157=0, ISERROR(競技者一覧!J157)), \"\", 競技者一覧!J157)","v":""},{"$f":"IF(OR(競技者一覧!K157=0, ISERROR(競技者一覧!K157)), \"\", 競技者一覧!K157)","v":""},{"$f":"IF(OR(競技者一覧!L157=0, ISERROR(競技者一覧!L157)), \"\", 競技者一覧!L157)","v":""},{"$f":"IF(OR(競技者一覧!M157=0, ISERROR(競技者一覧!M157)), \"\", 競技者一覧!M157)","v":""},{"$f":"IF(OR(競技者一覧!N157=0, ISERROR(競技者一覧!N157)), \"\", 競技者一覧!N157)","v":""},{"$f":"IF(OR(競技者一覧!O157=0, ISERROR(競技者一覧!O157)), \"\", 競技者一覧!O157)","v":""},{"$f":"IF(OR(競技者一覧!P157=0, ISERROR(競技者一覧!P157)), \"\", 競技者一覧!P157)","v":""},{"$f":"IF(OR(競技者一覧!Q157=0, ISERROR(競技者一覧!Q157)), \"\", 競技者一覧!Q157)","v":""},{"$f":"IF(OR(競技者一覧!R157=0, ISERROR(競技者一覧!R157)), \"\", 競技者一覧!R157)","v":""},{"$f":"IF(OR(競技者一覧!S157=0, ISERROR(競技者一覧!S157)), \"\", 競技者一覧!S157)","v":""},{"$f":"IF(OR(競技者一覧!T157=0, ISERROR(競技者一覧!T157)), \"\", 競技者一覧!T157)","v":""},136]
[{"$f":"団体CSV!C138","v":""},{"$f":"団体CSV!D138","v":""},{"$f":"団体CSV!E138","v":" "},{"$f":"IFERROR(VLOOKUP(競技者一覧!I158,Sheet4!$J$2:$K$3,2,FALSE),\"\")","v":""},{"$f":"IF(OR(競技者一覧!J158=0, ISERROR(競技者一覧!J158)), \"\", 競技者一覧!J158)","v":""},{"$f":"IF(OR(競技者一覧!K158=0, ISERROR(競技者一覧!K158)), \"\", 競技者一覧!K158)","v":""},{"$f":"IF(OR(競技者一覧!L158=0, ISERROR(競技者一覧!L158)), \"\", 競技者一覧!L158)","v":""},{"$f":"IF(OR(競技者一覧!M158=0, ISERROR(競技者一覧!M158)), \"\", 競技者一覧!M158)","v":""},{"$f":"IF(OR(競技者一覧!N158=0, ISERROR(競技者一覧!N158)), \"\", 競技者一覧!N158)","v":""},{"$f":"IF(OR(競技者一覧!O158=0, ISERROR(競技者一覧!O158)), \"\", 競技者一覧!O158)","v":""},{"$f":"IF(OR(競技者一覧!P158=0, ISERROR(競技者一覧!P158)), \"\", 競技者一覧!P158)","v":""},{"$f":"IF(OR(競技者一覧!Q158=0, ISERROR(競技者一覧!Q158)), \"\", 競技者一覧!Q158)","v":""},{"$f":"IF(OR(競技者一覧!R158=0, ISERROR(競技者一覧!R158)), \"\", 競技者一覧!R158)","v":""},{"$f":"IF(OR(競技者一覧!S158=0, ISERROR(競技者一覧!S158)), \"\", 競技者一覧!S158)","v":""},{"$f":"IF(OR(競技者一覧!T158=0, ISERROR(競技者一覧!T158)), \"\", 競技者一覧!T158)","v":""},137]
[{"$f":"団体CSV!C139","v":""},{"$f":"団体CSV!D139","v":""},{"$f":"団体CSV!E139","v":" "},{"$f":"IFERROR(VLOOKUP(競技者一覧!I159,Sheet4!$J$2:$K$3,2,FALSE),\"\")","v":""},{"$f":"IF(OR(競技者一覧!J159=0, ISERROR(競技者一覧!J159)), \"\", 競技者一覧!J159)","v":""},{"$f":"IF(OR(競技者一覧!K159=0, ISERROR(競技者一覧!K159)), \"\", 競技者一覧!K159)","v":""},{"$f":"IF(OR(競技者一覧!L159=0, ISERROR(競技者一覧!L159)), \"\", 競技者一覧!L159)","v":""},{"$f":"IF(OR(競技者一覧!M159=0, ISERROR(競技者一覧!M159)), \"\", 競技者一覧!M159)","v":""},{"$f":"IF(OR(競技者一覧!N159=0, ISERROR(競技者一覧!N159)), \"\", 競技者一覧!N159)","v":""},{"$f":"IF(OR(競技者一覧!O159=0, ISERROR(競技者一覧!O159)), \"\", 競技者一覧!O159)","v":""},{"$f":"IF(OR(競技者一覧!P159=0, ISERROR(競技者一覧!P159)), \"\", 競技者一覧!P159)","v":""},{"$f":"IF(OR(競技者一覧!Q159=0, ISERROR(競技者一覧!Q159)), \"\", 競技者一覧!Q159)","v":""},{"$f":"IF(OR(競技者一覧!R159=0, ISERROR(競技者一覧!R159)), \"\", 競技者一覧!R159)","v":""},{"$f":"IF(OR(競技者一覧!S159=0, ISERROR(競技者一覧!S159)), \"\", 競技者一覧!S159)","v":""},{"$f":"IF(OR(競技者一覧!T159=0, ISERROR(競技者一覧!T159)), \"\", 競技者一覧!T159)","v":""},138]
[{"$f":"団体CSV!C140","v":""},{"$f":"団体CSV!D140","v":""},{"$f":"団体CSV!E140","v":" "},{"$f":"IFERROR(VLOOKUP(競技者一覧!I160,Sheet4!$J$2:$K$3,2,FALSE),\"\")","v":""},{"$f":"IF(OR(競技者一覧!J160=0, ISERROR(競技者一覧!J160)), \"\", 競技者一覧!J160)","v":""},{"$f":"IF(OR(競技者一覧!K160=0, ISERROR(競技者一覧!K160)), \"\", 競技者一覧!K160)","v":""},{"$f":"IF(OR(競技者一覧!L160=0, ISERROR(競技者一覧!L160)), \"\", 競技者一覧!L160)","v":""},{"$f":"IF(OR(競技者一覧!M160=0, ISERROR(競技者一覧!M160)), \"\", 競技者一覧!M160)","v":""},{"$f":"IF(OR(競技者一覧!N160=0, ISERROR(競技者一覧!N160)), \"\", 競技者一覧!N160)","v":""},{"$f":"IF(OR(競技者一覧!O160=0, ISERROR(競技者一覧!O160)), \"\", 競技者一覧!O160)","v":""},{"$f":"IF(OR(競技者一覧!P160=0, ISERROR(競技者一覧!P160)), \"\", 競技者一覧!P160)","v":""},{"$f":"IF(OR(競技者一覧!Q160=0, ISERROR(競技者一覧!Q160)), \"\", 競技者一覧!Q160)","v":""},{"$f":"IF(OR(競技者一覧!R160=0, ISERROR(競技者一覧!R160)), \"\", 競技者一覧!R160)","v":""},{"$f":"IF(OR(競技者一覧!S160=0, ISERROR(競技者一覧!S160)), \"\", 競技者一覧!S160)","v":""},{"$f":"IF(OR(競技者一覧!T160=0, ISERROR(競技者一覧!T160)), \"\", 競技者一覧!T160)","v":""},139]
[{"$f":"団体CSV!C141","v":""},{"$f":"団体CSV!D141","v":""},{"$f":"団体CSV!E141","v":" "},{"$f":"IFERROR(VLOOKUP(競技者一覧!I161,Sheet4!$J$2:$K$3,2,FALSE),\"\")","v":""},{"$f":"IF(OR(競技者一覧!J161=0, ISERROR(競技者一覧!J161)), \"\", 競技者一覧!J161)","v":""},{"$f":"IF(OR(競技者一覧!K161=0, ISERROR(競技者一覧!K161)), \"\", 競技者一覧!K161)","v":""},{"$f":"IF(OR(競技者一覧!L161=0, ISERROR(競技者一覧!L161)), \"\", 競技者一覧!L161)","v":""},{"$f":"IF(OR(競技者一覧!M161=0, ISERROR(競技者一覧!M161)), \"\", 競技者一覧!M161)","v":""},{"$f":"IF(OR(競技者一覧!N161=0, ISERROR(競技者一覧!N161)), \"\", 競技者一覧!N161)","v":""},{"$f":"IF(OR(競技者一覧!O161=0, ISERROR(競技者一覧!O161)), \"\", 競技者一覧!O161)","v":""},{"$f":"IF(OR(競技者一覧!P161=0, ISERROR(競技者一覧!P161)), \"\", 競技者一覧!P161)","v":""},{"$f":"IF(OR(競技者一覧!Q161=0, ISERROR(競技者一覧!Q161)), \"\", 競技者一覧!Q161)","v":""},{"$f":"IF(OR(競技者一覧!R161=0, ISERROR(競技者一覧!R161)), \"\", 競技者一覧!R161)","v":""},{"$f":"IF(OR(競技者一覧!S161=0, ISERROR(競技者一覧!S161)), \"\", 競技者一覧!S161)","v":""},{"$f":"IF(OR(競技者一覧!T161=0, ISERROR(競技者一覧!T161)), \"\", 競技者一覧!T161)","v":""},140]
[{"$f":"団体CSV!C142","v":""},{"$f":"団体CSV!D142","v":""},{"$f":"団体CSV!E142","v":" "},{"$f":"IFERROR(VLOOKUP(競技者一覧!I162,Sheet4!$J$2:$K$3,2,FALSE),\"\")","v":""},{"$f":"IF(OR(競技者一覧!J162=0, ISERROR(競技者一覧!J162)), \"\", 競技者一覧!J162)","v":""},{"$f":"IF(OR(競技者一覧!K162=0, ISERROR(競技者一覧!K162)), \"\", 競技者一覧!K162)","v":""},{"$f":"IF(OR(競技者一覧!L162=0, ISERROR(競技者一覧!L162)), \"\", 競技者一覧!L162)","v":""},{"$f":"IF(OR(競技者一覧!M162=0, ISERROR(競技者一覧!M162)), \"\", 競技者一覧!M162)","v":""},{"$f":"IF(OR(競技者一覧!N162=0, ISERROR(競技者一覧!N162)), \"\", 競技者一覧!N162)","v":""},{"$f":"IF(OR(競技者一覧!O162=0, ISERROR(競技者一覧!O162)), \"\", 競技者一覧!O162)","v":""},{"$f":"IF(OR(競技者一覧!P162=0, ISERROR(競技者一覧!P162)), \"\", 競技者一覧!P162)","v":""},{"$f":"IF(OR(競技者一覧!Q162=0, ISERROR(競技者一覧!Q162)), \"\", 競技者一覧!Q162)","v":""},{"$f":"IF(OR(競技者一覧!R162=0, ISERROR(競技者一覧!R162)), \"\", 競技者一覧!R162)","v":""},{"$f":"IF(OR(競技者一覧!S162=0, ISERROR(競技者一覧!S162)), \"\", 競技者一覧!S162)","v":""},{"$f":"IF(OR(競技者一覧!T162=0, ISERROR(競技者一覧!T162)), \"\", 競技者一覧!T162)","v":""},141]
[{"$f":"団体CSV!C143","v":""},{"$f":"団体CSV!D143","v":""},{"$f":"団体CSV!E143","v":" "},{"$f":"IFERROR(VLOOKUP(競技者一覧!I163,Sheet4!$J$2:$K$3,2,FALSE),\"\")","v":""},{"$f":"IF(OR(競技者一覧!J163=0, ISERROR(競技者一覧!J163)), \"\", 競技者一覧!J163)","v":""},{"$f":"IF(OR(競技者一覧!K163=0, ISERROR(競技者一覧!K163)), \"\", 競技者一覧!K163)","v":""},{"$f":"IF(OR(競技者一覧!L163=0, ISERROR(競技者一覧!L163)), \"\", 競技者一覧!L163)","v":""},{"$f":"IF(OR(競技者一覧!M163=0, ISERROR(競技者一覧!M163)), \"\", 競技者一覧!M163)","v":""},{"$f":"IF(OR(競技者一覧!N163=0, ISERROR(競技者一覧!N163)), \"\", 競技者一覧!N163)","v":""},{"$f":"IF(OR(競技者一覧!O163=0, ISERROR(競技者一覧!O163)), \"\", 競技者一覧!O163)","v":""},{"$f":"IF(OR(競技者一覧!P163=0, ISERROR(競技者一覧!P163)), \"\", 競技者一覧!P163)","v":""},{"$f":"IF(OR(競技者一覧!Q163=0, ISERROR(競技者一覧!Q163)), \"\", 競技者一覧!Q163)","v":""},{"$f":"IF(OR(競技者一覧!R163=0, ISERROR(競技者一覧!R163)), \"\", 競技者一覧!R163)","v":""},{"$f":"IF(OR(競技者一覧!S163=0, ISERROR(競技者一覧!S163)), \"\", 競技者一覧!S163)","v":""},{"$f":"IF(OR(競技者一覧!T163=0, ISERROR(競技者一覧!T163)), \"\", 競技者一覧!T163)","v":""},142]
[{"$f":"団体CSV!C144","v":""},{"$f":"団体CSV!D144","v":""},{"$f":"団体CSV!E144","v":" "},{"$f":"IFERROR(VLOOKUP(競技者一覧!I164,Sheet4!$J$2:$K$3,2,FALSE),\"\")","v":""},{"$f":"IF(OR(競技者一覧!J164=0, ISERROR(競技者一覧!J164)), \"\", 競技者一覧!J164)","v":""},{"$f":"IF(OR(競技者一覧!K164=0, ISERROR(競技者一覧!K164)), \"\", 競技者一覧!K164)","v":""},{"$f":"IF(OR(競技者一覧!L164=0, ISERROR(競技者一覧!L164)), \"\", 競技者一覧!L164)","v":""},{"$f":"IF(OR(競技者一覧!M164=0, ISERROR(競技者一覧!M164)), \"\", 競技者一覧!M164)","v":""},{"$f":"IF(OR(競技者一覧!N164=0, ISERROR(競技者一覧!N164)), \"\", 競技者一覧!N164)","v":""},{"$f":"IF(OR(競技者一覧!O164=0, ISERROR(競技者一覧!O164)), \"\", 競技者一覧!O164)","v":""},{"$f":"IF(OR(競技者一覧!P164=0, ISERROR(競技者一覧!P164)), \"\", 競技者一覧!P164)","v":""},{"$f":"IF(OR(競技者一覧!Q164=0, ISERROR(競技者一覧!Q164)), \"\", 競技者一覧!Q164)","v":""},{"$f":"IF(OR(競技者一覧!R164=0, ISERROR(競技者一覧!R164)), \"\", 競技者一覧!R164)","v":""},{"$f":"IF(OR(競技者一覧!S164=0, ISERROR(競技者一覧!S164)), \"\", 競技者一覧!S164)","v":""},{"$f":"IF(OR(競技者一覧!T164=0, ISERROR(競技者一覧!T164)), \"\", 競技者一覧!T164)","v":""},143]
[{"$f":"団体CSV!C145","v":""},{"$f":"団体CSV!D145","v":""},{"$f":"団体CSV!E145","v":" "},{"$f":"IFERROR(VLOOKUP(競技者一覧!I165,Sheet4!$J$2:$K$3,2,FALSE),\"\")","v":""},{"$f":"IF(OR(競技者一覧!J165=0, ISERROR(競技者一覧!J165)), \"\", 競技者一覧!J165)","v":""},{"$f":"IF(OR(競技者一覧!K165=0, ISERROR(競技者一覧!K165)), \"\", 競技者一覧!K165)","v":""},{"$f":"IF(OR(競技者一覧!L165=0, ISERROR(競技者一覧!L165)), \"\", 競技者一覧!L165)","v":""},{"$f":"IF(OR(競技者一覧!M165=0, ISERROR(競技者一覧!M165)), \"\", 競技者一覧!M165)","v":""},{"$f":"IF(OR(競技者一覧!N165=0, ISERROR(競技者一覧!N165)), \"\", 競技者一覧!N165)","v":""},{"$f":"IF(OR(競技者一覧!O165=0, ISERROR(競技者一覧!O165)), \"\", 競技者一覧!O165)","v":""},{"$f":"IF(OR(競技者一覧!P165=0, ISERROR(競技者一覧!P165)), \"\", 競技者一覧!P165)","v":""},{"$f":"IF(OR(競技者一覧!Q165=0, ISERROR(競技者一覧!Q165)), \"\", 競技者一覧!Q165)","v":""},{"$f":"IF(OR(競技者一覧!R165=0, ISERROR(競技者一覧!R165)), \"\", 競技者一覧!R165)","v":""},{"$f":"IF(OR(競技者一覧!S165=0, ISERROR(競技者一覧!S165)), \"\", 競技者一覧!S165)","v":""},{"$f":"IF(OR(競技者一覧!T165=0, ISERROR(競技者一覧!T165)), \"\", 競技者一覧!T165)","v":""},144]
[{"$f":"団体CSV!C146","v":""},{"$f":"団体CSV!D146","v":""},{"$f":"団体CSV!E146","v":" "},{"$f":"IFERROR(VLOOKUP(競技者一覧!I166,Sheet4!$J$2:$K$3,2,FALSE),\"\")","v":""},{"$f":"IF(OR(競技者一覧!J166=0, ISERROR(競技者一覧!J166)), \"\", 競技者一覧!J166)","v":""},{"$f":"IF(OR(競技者一覧!K166=0, ISERROR(競技者一覧!K166)), \"\", 競技者一覧!K166)","v":""},{"$f":"IF(OR(競技者一覧!L166=0, ISERROR(競技者一覧!L166)), \"\", 競技者一覧!L166)","v":""},{"$f":"IF(OR(競技者一覧!M166=0, ISERROR(競技者一覧!M166)), \"\", 競技者一覧!M166)","v":""},{"$f":"IF(OR(競技者一覧!N166=0, ISERROR(競技者一覧!N166)), \"\", 競技者一覧!N166)","v":""},{"$f":"IF(OR(競技者一覧!O166=0, ISERROR(競技者一覧!O166)), \"\", 競技者一覧!O166)","v":""},{"$f":"IF(OR(競技者一覧!P166=0, ISERROR(競技者一覧!P166)), \"\", 競技者一覧!P166)","v":""},{"$f":"IF(OR(競技者一覧!Q166=0, ISERROR(競技者一覧!Q166)), \"\", 競技者一覧!Q166)","v":""},{"$f":"IF(OR(競技者一覧!R166=0, ISERROR(競技者一覧!R166)), \"\", 競技者一覧!R166)","v":""},{"$f":"IF(OR(競技者一覧!S166=0, ISERROR(競技者一覧!S166)), \"\", 競技者一覧!S166)","v":""},{"$f":"IF(OR(競技者一覧!T166=0, ISERROR(競技者一覧!T166)), \"\", 競技者一覧!T166)","v":""},145]
[{"$f":"団体CSV!C147","v":""},{"$f":"団体CSV!D147","v":""},{"$f":"団体CSV!E147","v":" "},{"$f":"IFERROR(VLOOKUP(競技者一覧!I167,Sheet4!$J$2:$K$3,2,FALSE),\"\")","v":""},{"$f":"IF(OR(競技者一覧!J167=0, ISERROR(競技者一覧!J167)), \"\", 競技者一覧!J167)","v":""},{"$f":"IF(OR(競技者一覧!K167=0, ISERROR(競技者一覧!K167)), \"\", 競技者一覧!K167)","v":""},{"$f":"IF(OR(競技者一覧!L167=0, ISERROR(競技者一覧!L167)), \"\", 競技者一覧!L167)","v":""},{"$f":"IF(OR(競技者一覧!M167=0, ISERROR(競技者一覧!M167)), \"\", 競技者一覧!M167)","v":""},{"$f":"IF(OR(競技者一覧!N167=0, ISERROR(競技者一覧!N167)), \"\", 競技者一覧!N167)","v":""},{"$f":"IF(OR(競技者一覧!O167=0, ISERROR(競技者一覧!O167)), \"\", 競技者一覧!O167)","v":""},{"$f":"IF(OR(競技者一覧!P167=0, ISERROR(競技者一覧!P167)), \"\", 競技者一覧!P167)","v":""},{"$f":"IF(OR(競技者一覧!Q167=0, ISERROR(競技者一覧!Q167)), \"\", 競技者一覧!Q167)","v":""},{"$f":"IF(OR(競技者一覧!R167=0, ISERROR(競技者一覧!R167)), \"\", 競技者一覧!R167)","v":""},{"$f":"IF(OR(競技者一覧!S167=0, ISERROR(競技者一覧!S167)), \"\", 競技者一覧!S167)","v":""},{"$f":"IF(OR(競技者一覧!T167=0, ISERROR(競技者一覧!T167)), \"\", 競技者一覧!T167)","v":""},146]
[{"$f":"団体CSV!C148","v":""},{"$f":"団体CSV!D148","v":""},{"$f":"団体CSV!E148","v":" "},{"$f":"IFERROR(VLOOKUP(競技者一覧!I168,Sheet4!$J$2:$K$3,2,FALSE),\"\")","v":""},{"$f":"IF(OR(競技者一覧!J168=0, ISERROR(競技者一覧!J168)), \"\", 競技者一覧!J168)","v":""},{"$f":"IF(OR(競技者一覧!K168=0, ISERROR(競技者一覧!K168)), \"\", 競技者一覧!K168)","v":""},{"$f":"IF(OR(競技者一覧!L168=0, ISERROR(競技者一覧!L168)), \"\", 競技者一覧!L168)","v":""},{"$f":"IF(OR(競技者一覧!M168=0, ISERROR(競技者一覧!M168)), \"\", 競技者一覧!M168)","v":""},{"$f":"IF(OR(競技者一覧!N168=0, ISERROR(競技者一覧!N168)), \"\", 競技者一覧!N168)","v":""},{"$f":"IF(OR(競技者一覧!O168=0, ISERROR(競技者一覧!O168)), \"\", 競技者一覧!O168)","v":""},{"$f":"IF(OR(競技者一覧!P168=0, ISERROR(競技者一覧!P168)), \"\", 競技者一覧!P168)","v":""},{"$f":"IF(OR(競技者一覧!Q168=0, ISERROR(競技者一覧!Q168)), \"\", 競技者一覧!Q168)","v":""},{"$f":"IF(OR(競技者一覧!R168=0, ISERROR(競技者一覧!R168)), \"\", 競技者一覧!R168)","v":""},{"$f":"IF(OR(競技者一覧!S168=0, ISERROR(競技者一覧!S168)), \"\", 競技者一覧!S168)","v":""},{"$f":"IF(OR(競技者一覧!T168=0, ISERROR(競技者一覧!T168)), \"\", 競技者一覧!T168)","v":""},147]
[{"$f":"団体CSV!C149","v":""},{"$f":"団体CSV!D149","v":""},{"$f":"団体CSV!E149","v":" "},{"$f":"IFERROR(VLOOKUP(競技者一覧!I169,Sheet4!$J$2:$K$3,2,FALSE),\"\")","v":""},{"$f":"IF(OR(競技者一覧!J169=0, ISERROR(競技者一覧!J169)), \"\", 競技者一覧!J169)","v":""},{"$f":"IF(OR(競技者一覧!K169=0, ISERROR(競技者一覧!K169)), \"\", 競技者一覧!K169)","v":""},{"$f":"IF(OR(競技者一覧!L169=0, ISERROR(競技者一覧!L169)), \"\", 競技者一覧!L169)","v":""},{"$f":"IF(OR(競技者一覧!M169=0, ISERROR(競技者一覧!M169)), \"\", 競技者一覧!M169)","v":""},{"$f":"IF(OR(競技者一覧!N169=0, ISERROR(競技者一覧!N169)), \"\", 競技者一覧!N169)","v":""},{"$f":"IF(OR(競技者一覧!O169=0, ISERROR(競技者一覧!O169)), \"\", 競技者一覧!O169)","v":""},{"$f":"IF(OR(競技者一覧!P169=0, ISERROR(競技者一覧!P169)), \"\", 競技者一覧!P169)","v":""},{"$f":"IF(OR(競技者一覧!Q169=0, ISERROR(競技者一覧!Q169)), \"\", 競技者一覧!Q169)","v":""},{"$f":"IF(OR(競技者一覧!R169=0, ISERROR(競技者一覧!R169)), \"\", 競技者一覧!R169)","v":""},{"$f":"IF(OR(競技者一覧!S169=0, ISERROR(競技者一覧!S169)), \"\", 競技者一覧!S169)","v":""},{"$f":"IF(OR(競技者一覧!T169=0, ISERROR(競技者一覧!T169)), \"\", 競技者一覧!T169)","v":""},148]
[{"$f":"団体CSV!C150","v":""},{"$f":"団体CSV!D150","v":""},{"$f":"団体CSV!E150","v":" "},{"$f":"IFERROR(VLOOKUP(競技者一覧!I170,Sheet4!$J$2:$K$3,2,FALSE),\"\")","v":""},{"$f":"IF(OR(競技者一覧!J170=0, ISERROR(競技者一覧!J170)), \"\", 競技者一覧!J170)","v":""},{"$f":"IF(OR(競技者一覧!K170=0, ISERROR(競技者一覧!K170)), \"\", 競技者一覧!K170)","v":""},{"$f":"IF(OR(競技者一覧!L170=0, ISERROR(競技者一覧!L170)), \"\", 競技者一覧!L170)","v":""},{"$f":"IF(OR(競技者一覧!M170=0, ISERROR(競技者一覧!M170)), \"\", 競技者一覧!M170)","v":""},{"$f":"IF(OR(競技者一覧!N170=0, ISERROR(競技者一覧!N170)), \"\", 競技者一覧!N170)","v":""},{"$f":"IF(OR(競技者一覧!O170=0, ISERROR(競技者一覧!O170)), \"\", 競技者一覧!O170)","v":""},{"$f":"IF(OR(競技者一覧!P170=0, ISERROR(競技者一覧!P170)), \"\", 競技者一覧!P170)","v":""},{"$f":"IF(OR(競技者一覧!Q170=0, ISERROR(競技者一覧!Q170)), \"\", 競技者一覧!Q170)","v":""},{"$f":"IF(OR(競技者一覧!R170=0, ISERROR(競技者一覧!R170)), \"\", 競技者一覧!R170)","v":""},{"$f":"IF(OR(競技者一覧!S170=0, ISERROR(競技者一覧!S170)), \"\", 競技者一覧!S170)","v":""},{"$f":"IF(OR(競技者一覧!T170=0, ISERROR(競技者一覧!T170)), \"\", 競技者一覧!T170)","v":""},149]
[{"$f":"団体CSV!C151","v":""},{"$f":"団体CSV!D151","v":""},{"$f":"団体CSV!E151","v":" "},{"$f":"IFERROR(VLOOKUP(競技者一覧!I171,Sheet4!$J$2:$K$3,2,FALSE),\"\")","v":""},{"$f":"IF(OR(競技者一覧!J171=0, ISERROR(競技者一覧!J171)), \"\", 競技者一覧!J171)","v":""},{"$f":"IF(OR(競技者一覧!K171=0, ISERROR(競技者一覧!K171)), \"\", 競技者一覧!K171)","v":""},{"$f":"IF(OR(競技者一覧!L171=0, ISERROR(競技者一覧!L171)), \"\", 競技者一覧!L171)","v":""},{"$f":"IF(OR(競技者一覧!M171=0, ISERROR(競技者一覧!M171)), \"\", 競技者一覧!M171)","v":""},{"$f":"IF(OR(競技者一覧!N171=0, ISERROR(競技者一覧!N171)), \"\", 競技者一覧!N171)","v":""},{"$f":"IF(OR(競技者一覧!O171=0, ISERROR(競技者一覧!O171)), \"\", 競技者一覧!O171)","v":""},{"$f":"IF(OR(競技者一覧!P171=0, ISERROR(競技者一覧!P171)), \"\", 競技者一覧!P171)","v":""},{"$f":"IF(OR(競技者一覧!Q171=0, ISERROR(競技者一覧!Q171)), \"\", 競技者一覧!Q171)","v":""},{"$f":"IF(OR(競技者一覧!R171=0, ISERROR(競技者一覧!R171)), \"\", 競技者一覧!R171)","v":""},{"$f":"IF(OR(競技者一覧!S171=0, ISERROR(競技者一覧!S171)), \"\", 競技者一覧!S171)","v":""},{"$f":"IF(OR(競技者一覧!T171=0, ISERROR(競技者一覧!T171)), \"\", 競技者一覧!T171)","v":""},150]
[{"$f":"団体CSV!C152","v":""},{"$f":"団体CSV!D152","v":""},{"$f":"団体CSV!E152","v":" "},{"$f":"IFERROR(VLOOKUP(競技者一覧!I172,Sheet4!$J$2:$K$3,2,FALSE),\"\")","v":""},{"$f":"IF(OR(競技者一覧!J172=0, ISERROR(競技者一覧!J172)), \"\", 競技者一覧!J172)","v":""},{"$f":"IF(OR(競技者一覧!K172=0, ISERROR(競技者一覧!K172)), \"\", 競技者一覧!K172)","v":""},{"$f":"IF(OR(競技者一覧!L172=0, ISERROR(競技者一覧!L172)), \"\", 競技者一覧!L172)","v":""},{"$f":"IF(OR(競技者一覧!M172=0, ISERROR(競技者一覧!M172)), \"\", 競技者一覧!M172)","v":""},{"$f":"IF(OR(競技者一覧!N172=0, ISERROR(競技者一覧!N172)), \"\", 競技者一覧!N172)","v":""},{"$f":"IF(OR(競技者一覧!O172=0, ISERROR(競技者一覧!O172)), \"\", 競技者一覧!O172)","v":""},{"$f":"IF(OR(競技者一覧!P172=0, ISERROR(競技者一覧!P172)), \"\", 競技者一覧!P172)","v":""},{"$f":"IF(OR(競技者一覧!Q172=0, ISERROR(競技者一覧!Q172)), \"\", 競技者一覧!Q172)","v":""},{"$f":"IF(OR(競技者一覧!R172=0, ISERROR(競技者一覧!R172)), \"\", 競技者一覧!R172)","v":""},{"$f":"IF(OR(競技者一覧!S172=0, ISERROR(競技者一覧!S172)), \"\", 競技者一覧!S172)","v":""},{"$f":"IF(OR(競技者一覧!T172=0, ISERROR(競技者一覧!T172)), \"\", 競技者一覧!T172)","v":""},151]
[{"$f":"団体CSV!C153","v":""},{"$f":"団体CSV!D153","v":""},{"$f":"団体CSV!E153","v":" "},{"$f":"IFERROR(VLOOKUP(競技者一覧!I173,Sheet4!$J$2:$K$3,2,FALSE),\"\")","v":""},{"$f":"IF(OR(競技者一覧!J173=0, ISERROR(競技者一覧!J173)), \"\", 競技者一覧!J173)","v":""},{"$f":"IF(OR(競技者一覧!K173=0, ISERROR(競技者一覧!K173)), \"\", 競技者一覧!K173)","v":""},{"$f":"IF(OR(競技者一覧!L173=0, ISERROR(競技者一覧!L173)), \"\", 競技者一覧!L173)","v":""},{"$f":"IF(OR(競技者一覧!M173=0, ISERROR(競技者一覧!M173)), \"\", 競技者一覧!M173)","v":""},{"$f":"IF(OR(競技者一覧!N173=0, ISERROR(競技者一覧!N173)), \"\", 競技者一覧!N173)","v":""},{"$f":"IF(OR(競技者一覧!O173=0, ISERROR(競技者一覧!O173)), \"\", 競技者一覧!O173)","v":""},{"$f":"IF(OR(競技者一覧!P173=0, ISERROR(競技者一覧!P173)), \"\", 競技者一覧!P173)","v":""},{"$f":"IF(OR(競技者一覧!Q173=0, ISERROR(競技者一覧!Q173)), \"\", 競技者一覧!Q173)","v":""},{"$f":"IF(OR(競技者一覧!R173=0, ISERROR(競技者一覧!R173)), \"\", 競技者一覧!R173)","v":""},{"$f":"IF(OR(競技者一覧!S173=0, ISERROR(競技者一覧!S173)), \"\", 競技者一覧!S173)","v":""},{"$f":"IF(OR(競技者一覧!T173=0, ISERROR(競技者一覧!T173)), \"\", 競技者一覧!T173)","v":""},152]
[{"$f":"団体CSV!C154","v":""},{"$f":"団体CSV!D154","v":""},{"$f":"団体CSV!E154","v":" "},{"$f":"IFERROR(VLOOKUP(競技者一覧!I174,Sheet4!$J$2:$K$3,2,FALSE),\"\")","v":""},{"$f":"IF(OR(競技者一覧!J174=0, ISERROR(競技者一覧!J174)), \"\", 競技者一覧!J174)","v":""},{"$f":"IF(OR(競技者一覧!K174=0, ISERROR(競技者一覧!K174)), \"\", 競技者一覧!K174)","v":""},{"$f":"IF(OR(競技者一覧!L174=0, ISERROR(競技者一覧!L174)), \"\", 競技者一覧!L174)","v":""},{"$f":"IF(OR(競技者一覧!M174=0, ISERROR(競技者一覧!M174)), \"\", 競技者一覧!M174)","v":""},{"$f":"IF(OR(競技者一覧!N174=0, ISERROR(競技者一覧!N174)), \"\", 競技者一覧!N174)","v":""},{"$f":"IF(OR(競技者一覧!O174=0, ISERROR(競技者一覧!O174)), \"\", 競技者一覧!O174)","v":""},{"$f":"IF(OR(競技者一覧!P174=0, ISERROR(競技者一覧!P174)), \"\", 競技者一覧!P174)","v":""},{"$f":"IF(OR(競技者一覧!Q174=0, ISERROR(競技者一覧!Q174)), \"\", 競技者一覧!Q174)","v":""},{"$f":"IF(OR(競技者一覧!R174=0, ISERROR(競技者一覧!R174)), \"\", 競技者一覧!R174)","v":""},{"$f":"IF(OR(競技者一覧!S174=0, ISERROR(競技者一覧!S174)), \"\", 競技者一覧!S174)","v":""},{"$f":"IF(OR(競技者一覧!T174=0, ISERROR(競技者一覧!T174)), \"\", 競技者一覧!T174)","v":""},153]
[{"$f":"団体CSV!C155","v":""},{"$f":"団体CSV!D155","v":""},{"$f":"団体CSV!E155","v":" "},{"$f":"IFERROR(VLOOKUP(競技者一覧!I175,Sheet4!$J$2:$K$3,2,FALSE),\"\")","v":""},{"$f":"IF(OR(競技者一覧!J175=0, ISERROR(競技者一覧!J175)), \"\", 競技者一覧!J175)","v":""},{"$f":"IF(OR(競技者一覧!K175=0, ISERROR(競技者一覧!K175)), \"\", 競技者一覧!K175)","v":""},{"$f":"IF(OR(競技者一覧!L175=0, ISERROR(競技者一覧!L175)), \"\", 競技者一覧!L175)","v":""},{"$f":"IF(OR(競技者一覧!M175=0, ISERROR(競技者一覧!M175)), \"\", 競技者一覧!M175)","v":""},{"$f":"IF(OR(競技者一覧!N175=0, ISERROR(競技者一覧!N175)), \"\", 競技者一覧!N175)","v":""},{"$f":"IF(OR(競技者一覧!O175=0, ISERROR(競技者一覧!O175)), \"\", 競技者一覧!O175)","v":""},{"$f":"IF(OR(競技者一覧!P175=0, ISERROR(競技者一覧!P175)), \"\", 競技者一覧!P175)","v":""},{"$f":"IF(OR(競技者一覧!Q175=0, ISERROR(競技者一覧!Q175)), \"\", 競技者一覧!Q175)","v":""},{"$f":"IF(OR(競技者一覧!R175=0, ISERROR(競技者一覧!R175)), \"\", 競技者一覧!R175)","v":""},{"$f":"IF(OR(競技者一覧!S175=0, ISERROR(競技者一覧!S175)), \"\", 競技者一覧!S175)","v":""},{"$f":"IF(OR(競技者一覧!T175=0, ISERROR(競技者一覧!T175)), \"\", 競技者一覧!T175)","v":""},154]
[{"$f":"団体CSV!C156","v":""},{"$f":"団体CSV!D156","v":""},{"$f":"団体CSV!E156","v":" "},{"$f":"IFERROR(VLOOKUP(競技者一覧!I176,Sheet4!$J$2:$K$3,2,FALSE),\"\")","v":""},{"$f":"IF(OR(競技者一覧!J176=0, ISERROR(競技者一覧!J176)), \"\", 競技者一覧!J176)","v":""},{"$f":"IF(OR(競技者一覧!K176=0, ISERROR(競技者一覧!K176)), \"\", 競技者一覧!K176)","v":""},{"$f":"IF(OR(競技者一覧!L176=0, ISERROR(競技者一覧!L176)), \"\", 競技者一覧!L176)","v":""},{"$f":"IF(OR(競技者一覧!M176=0, ISERROR(競技者一覧!M176)), \"\", 競技者一覧!M176)","v":""},{"$f":"IF(OR(競技者一覧!N176=0, ISERROR(競技者一覧!N176)), \"\", 競技者一覧!N176)","v":""},{"$f":"IF(OR(競技者一覧!O176=0, ISERROR(競技者一覧!O176)), \"\", 競技者一覧!O176)","v":""},{"$f":"IF(OR(競技者一覧!P176=0, ISERROR(競技者一覧!P176)), \"\", 競技者一覧!P176)","v":""},{"$f":"IF(OR(競技者一覧!Q176=0, ISERROR(競技者一覧!Q176)), \"\", 競技者一覧!Q176)","v":""},{"$f":"IF(OR(競技者一覧!R176=0, ISERROR(競技者一覧!R176)), \"\", 競技者一覧!R176)","v":""},{"$f":"IF(OR(競技者一覧!S176=0, ISERROR(競技者一覧!S176)), \"\", 競技者一覧!S176)","v":""},{"$f":"IF(OR(競技者一覧!T176=0, ISERROR(競技者一覧!T176)), \"\", 競技者一覧!T176)","v":""},155]
[{"$f":"団体CSV!C157","v":""},{"$f":"団体CSV!D157","v":""},{"$f":"団体CSV!E157","v":" "},{"$f":"IFERROR(VLOOKUP(競技者一覧!I177,Sheet4!$J$2:$K$3,2,FALSE),\"\")","v":""},{"$f":"IF(OR(競技者一覧!J177=0, ISERROR(競技者一覧!J177)), \"\", 競技者一覧!J177)","v":""},{"$f":"IF(OR(競技者一覧!K177=0, ISERROR(競技者一覧!K177)), \"\", 競技者一覧!K177)","v":""},{"$f":"IF(OR(競技者一覧!L177=0, ISERROR(競技者一覧!L177)), \"\", 競技者一覧!L177)","v":""},{"$f":"IF(OR(競技者一覧!M177=0, ISERROR(競技者一覧!M177)), \"\", 競技者一覧!M177)","v":""},{"$f":"IF(OR(競技者一覧!N177=0, ISERROR(競技者一覧!N177)), \"\", 競技者一覧!N177)","v":""},{"$f":"IF(OR(競技者一覧!O177=0, ISERROR(競技者一覧!O177)), \"\", 競技者一覧!O177)","v":""},{"$f":"IF(OR(競技者一覧!P177=0, ISERROR(競技者一覧!P177)), \"\", 競技者一覧!P177)","v":""},{"$f":"IF(OR(競技者一覧!Q177=0, ISERROR(競技者一覧!Q177)), \"\", 競技者一覧!Q177)","v":""},{"$f":"IF(OR(競技者一覧!R177=0, ISERROR(競技者一覧!R177)), \"\", 競技者一覧!R177)","v":""},{"$f":"IF(OR(競技者一覧!S177=0, ISERROR(競技者一覧!S177)), \"\", 競技者一覧!S177)","v":""},{"$f":"IF(OR(競技者一覧!T177=0, ISERROR(競技者一覧!T177)), \"\", 競技者一覧!T177)","v":""},156]
[{"$f":"団体CSV!C158","v":""},{"$f":"団体CSV!D158","v":""},{"$f":"団体CSV!E158","v":" "},{"$f":"IFERROR(VLOOKUP(競技者一覧!I178,Sheet4!$J$2:$K$3,2,FALSE),\"\")","v":""},{"$f":"IF(OR(競技者一覧!J178=0, ISERROR(競技者一覧!J178)), \"\", 競技者一覧!J178)","v":""},{"$f":"IF(OR(競技者一覧!K178=0, ISERROR(競技者一覧!K178)), \"\", 競技者一覧!K178)","v":""},{"$f":"IF(OR(競技者一覧!L178=0, ISERROR(競技者一覧!L178)), \"\", 競技者一覧!L178)","v":""},{"$f":"IF(OR(競技者一覧!M178=0, ISERROR(競技者一覧!M178)), \"\", 競技者一覧!M178)","v":""},{"$f":"IF(OR(競技者一覧!N178=0, ISERROR(競技者一覧!N178)), \"\", 競技者一覧!N178)","v":""},{"$f":"IF(OR(競技者一覧!O178=0, ISERROR(競技者一覧!O178)), \"\", 競技者一覧!O178)","v":""},{"$f":"IF(OR(競技者一覧!P178=0, ISERROR(競技者一覧!P178)), \"\", 競技者一覧!P178)","v":""},{"$f":"IF(OR(競技者一覧!Q178=0, ISERROR(競技者一覧!Q178)), \"\", 競技者一覧!Q178)","v":""},{"$f":"IF(OR(競技者一覧!R178=0, ISERROR(競技者一覧!R178)), \"\", 競技者一覧!R178)","v":""},{"$f":"IF(OR(競技者一覧!S178=0, ISERROR(競技者一覧!S178)), \"\", 競技者一覧!S178)","v":""},{"$f":"IF(OR(競技者一覧!T178=0, ISERROR(競技者一覧!T178)), \"\", 競技者一覧!T178)","v":""},157]
[{"$f":"団体CSV!C159","v":""},{"$f":"団体CSV!D159","v":""},{"$f":"団体CSV!E159","v":" "},{"$f":"IFERROR(VLOOKUP(競技者一覧!I179,Sheet4!$J$2:$K$3,2,FALSE),\"\")","v":""},{"$f":"IF(OR(競技者一覧!J179=0, ISERROR(競技者一覧!J179)), \"\", 競技者一覧!J179)","v":""},{"$f":"IF(OR(競技者一覧!K179=0, ISERROR(競技者一覧!K179)), \"\", 競技者一覧!K179)","v":""},{"$f":"IF(OR(競技者一覧!L179=0, ISERROR(競技者一覧!L179)), \"\", 競技者一覧!L179)","v":""},{"$f":"IF(OR(競技者一覧!M179=0, ISERROR(競技者一覧!M179)), \"\", 競技者一覧!M179)","v":""},{"$f":"IF(OR(競技者一覧!N179=0, ISERROR(競技者一覧!N179)), \"\", 競技者一覧!N179)","v":""},{"$f":"IF(OR(競技者一覧!O179=0, ISERROR(競技者一覧!O179)), \"\", 競技者一覧!O179)","v":""},{"$f":"IF(OR(競技者一覧!P179=0, ISERROR(競技者一覧!P179)), \"\", 競技者一覧!P179)","v":""},{"$f":"IF(OR(競技者一覧!Q179=0, ISERROR(競技者一覧!Q179)), \"\", 競技者一覧!Q179)","v":""},{"$f":"IF(OR(競技者一覧!R179=0, ISERROR(競技者一覧!R179)), \"\", 競技者一覧!R179)","v":""},{"$f":"IF(OR(競技者一覧!S179=0, ISERROR(競技者一覧!S179)), \"\", 競技者一覧!S179)","v":""},{"$f":"IF(OR(競技者一覧!T179=0, ISERROR(競技者一覧!T179)), \"\", 競技者一覧!T179)","v":""},158]
[{"$f":"団体CSV!C160","v":""},{"$f":"団体CSV!D160","v":""},{"$f":"団体CSV!E160","v":" "},{"$f":"IFERROR(VLOOKUP(競技者一覧!I180,Sheet4!$J$2:$K$3,2,FALSE),\"\")","v":""},{"$f":"IF(OR(競技者一覧!J180=0, ISERROR(競技者一覧!J180)), \"\", 競技者一覧!J180)","v":""},{"$f":"IF(OR(競技者一覧!K180=0, ISERROR(競技者一覧!K180)), \"\", 競技者一覧!K180)","v":""},{"$f":"IF(OR(競技者一覧!L180=0, ISERROR(競技者一覧!L180)), \"\", 競技者一覧!L180)","v":""},{"$f":"IF(OR(競技者一覧!M180=0, ISERROR(競技者一覧!M180)), \"\", 競技者一覧!M180)","v":""},{"$f":"IF(OR(競技者一覧!N180=0, ISERROR(競技者一覧!N180)), \"\", 競技者一覧!N180)","v":""},{"$f":"IF(OR(競技者一覧!O180=0, ISERROR(競技者一覧!O180)), \"\", 競技者一覧!O180)","v":""},{"$f":"IF(OR(競技者一覧!P180=0, ISERROR(競技者一覧!P180)), \"\", 競技者一覧!P180)","v":""},{"$f":"IF(OR(競技者一覧!Q180=0, ISERROR(競技者一覧!Q180)), \"\", 競技者一覧!Q180)","v":""},{"$f":"IF(OR(競技者一覧!R180=0, ISERROR(競技者一覧!R180)), \"\", 競技者一覧!R180)","v":""},{"$f":"IF(OR(競技者一覧!S180=0, ISERROR(競技者一覧!S180)), \"\", 競技者一覧!S180)","v":""},{"$f":"IF(OR(競技者一覧!T180=0, ISERROR(競技者一覧!T180)), \"\", 競技者一覧!T180)","v":""},159]
[{"$f":"団体CSV!C161","v":""},{"$f":"団体CSV!D161","v":""},{"$f":"団体CSV!E161","v":" "},{"$f":"IFERROR(VLOOKUP(競技者一覧!I181,Sheet4!$J$2:$K$3,2,FALSE),\"\")","v":""},{"$f":"IF(OR(競技者一覧!J181=0, ISERROR(競技者一覧!J181)), \"\", 競技者一覧!J181)","v":""},{"$f":"IF(OR(競技者一覧!K181=0, ISERROR(競技者一覧!K181)), \"\", 競技者一覧!K181)","v":""},{"$f":"IF(OR(競技者一覧!L181=0, ISERROR(競技者一覧!L181)), \"\", 競技者一覧!L181)","v":""},{"$f":"IF(OR(競技者一覧!M181=0, ISERROR(競技者一覧!M181)), \"\", 競技者一覧!M181)","v":""},{"$f":"IF(OR(競技者一覧!N181=0, ISERROR(競技者一覧!N181)), \"\", 競技者一覧!N181)","v":""},{"$f":"IF(OR(競技者一覧!O181=0, ISERROR(競技者一覧!O181)), \"\", 競技者一覧!O181)","v":""},{"$f":"IF(OR(競技者一覧!P181=0, ISERROR(競技者一覧!P181)), \"\", 競技者一覧!P181)","v":""},{"$f":"IF(OR(競技者一覧!Q181=0, ISERROR(競技者一覧!Q181)), \"\", 競技者一覧!Q181)","v":""},{"$f":"IF(OR(競技者一覧!R181=0, ISERROR(競技者一覧!R181)), \"\", 競技者一覧!R181)","v":""},{"$f":"IF(OR(競技者一覧!S181=0, ISERROR(競技者一覧!S181)), \"\", 競技者一覧!S181)","v":""},{"$f":"IF(OR(競技者一覧!T181=0, ISERROR(競技者一覧!T181)), \"\", 競技者一覧!T181)","v":""},160]
[{"$f":"団体CSV!C162","v":""},{"$f":"団体CSV!D162","v":""},{"$f":"団体CSV!E162","v":" "},{"$f":"IFERROR(VLOOKUP(競技者一覧!I182,Sheet4!$J$2:$K$3,2,FALSE),\"\")","v":""},{"$f":"IF(OR(競技者一覧!J182=0, ISERROR(競技者一覧!J182)), \"\", 競技者一覧!J182)","v":""},{"$f":"IF(OR(競技者一覧!K182=0, ISERROR(競技者一覧!K182)), \"\", 競技者一覧!K182)","v":""},{"$f":"IF(OR(競技者一覧!L182=0, ISERROR(競技者一覧!L182)), \"\", 競技者一覧!L182)","v":""},{"$f":"IF(OR(競技者一覧!M182=0, ISERROR(競技者一覧!M182)), \"\", 競技者一覧!M182)","v":""},{"$f":"IF(OR(競技者一覧!N182=0, ISERROR(競技者一覧!N182)), \"\", 競技者一覧!N182)","v":""},{"$f":"IF(OR(競技者一覧!O182=0, ISERROR(競技者一覧!O182)), \"\", 競技者一覧!O182)","v":""},{"$f":"IF(OR(競技者一覧!P182=0, ISERROR(競技者一覧!P182)), \"\", 競技者一覧!P182)","v":""},{"$f":"IF(OR(競技者一覧!Q182=0, ISERROR(競技者一覧!Q182)), \"\", 競技者一覧!Q182)","v":""},{"$f":"IF(OR(競技者一覧!R182=0, ISERROR(競技者一覧!R182)), \"\", 競技者一覧!R182)","v":""},{"$f":"IF(OR(競技者一覧!S182=0, ISERROR(競技者一覧!S182)), \"\", 競技者一覧!S182)","v":""},{"$f":"IF(OR(競技者一覧!T182=0, ISERROR(競技者一覧!T182)), \"\", 競技者一覧!T182)","v":""},161]
[{"$f":"団体CSV!C163","v":""},{"$f":"団体CSV!D163","v":""},{"$f":"団体CSV!E163","v":" "},{"$f":"IFERROR(VLOOKUP(競技者一覧!I183,Sheet4!$J$2:$K$3,2,FALSE),\"\")","v":""},{"$f":"IF(OR(競技者一覧!J183=0, ISERROR(競技者一覧!J183)), \"\", 競技者一覧!J183)","v":""},{"$f":"IF(OR(競技者一覧!K183=0, ISERROR(競技者一覧!K183)), \"\", 競技者一覧!K183)","v":""},{"$f":"IF(OR(競技者一覧!L183=0, ISERROR(競技者一覧!L183)), \"\", 競技者一覧!L183)","v":""},{"$f":"IF(OR(競技者一覧!M183=0, ISERROR(競技者一覧!M183)), \"\", 競技者一覧!M183)","v":""},{"$f":"IF(OR(競技者一覧!N183=0, ISERROR(競技者一覧!N183)), \"\", 競技者一覧!N183)","v":""},{"$f":"IF(OR(競技者一覧!O183=0, ISERROR(競技者一覧!O183)), \"\", 競技者一覧!O183)","v":""},{"$f":"IF(OR(競技者一覧!P183=0, ISERROR(競技者一覧!P183)), \"\", 競技者一覧!P183)","v":""},{"$f":"IF(OR(競技者一覧!Q183=0, ISERROR(競技者一覧!Q183)), \"\", 競技者一覧!Q183)","v":""},{"$f":"IF(OR(競技者一覧!R183=0, ISERROR(競技者一覧!R183)), \"\", 競技者一覧!R183)","v":""},{"$f":"IF(OR(競技者一覧!S183=0, ISERROR(競技者一覧!S183)), \"\", 競技者一覧!S183)","v":""},{"$f":"IF(OR(競技者一覧!T183=0, ISERROR(競技者一覧!T183)), \"\", 競技者一覧!T183)","v":""},162]
[{"$f":"団体CSV!C164","v":""},{"$f":"団体CSV!D164","v":""},{"$f":"団体CSV!E164","v":" "},{"$f":"IFERROR(VLOOKUP(競技者一覧!I184,Sheet4!$J$2:$K$3,2,FALSE),\"\")","v":""},{"$f":"IF(OR(競技者一覧!J184=0, ISERROR(競技者一覧!J184)), \"\", 競技者一覧!J184)","v":""},{"$f":"IF(OR(競技者一覧!K184=0, ISERROR(競技者一覧!K184)), \"\", 競技者一覧!K184)","v":""},{"$f":"IF(OR(競技者一覧!L184=0, ISERROR(競技者一覧!L184)), \"\", 競技者一覧!L184)","v":""},{"$f":"IF(OR(競技者一覧!M184=0, ISERROR(競技者一覧!M184)), \"\", 競技者一覧!M184)","v":""},{"$f":"IF(OR(競技者一覧!N184=0, ISERROR(競技者一覧!N184)), \"\", 競技者一覧!N184)","v":""},{"$f":"IF(OR(競技者一覧!O184=0, ISERROR(競技者一覧!O184)), \"\", 競技者一覧!O184)","v":""},{"$f":"IF(OR(競技者一覧!P184=0, ISERROR(競技者一覧!P184)), \"\", 競技者一覧!P184)","v":""},{"$f":"IF(OR(競技者一覧!Q184=0, ISERROR(競技者一覧!Q184)), \"\", 競技者一覧!Q184)","v":""},{"$f":"IF(OR(競技者一覧!R184=0, ISERROR(競技者一覧!R184)), \"\", 競技者一覧!R184)","v":""},{"$f":"IF(OR(競技者一覧!S184=0, ISERROR(競技者一覧!S184)), \"\", 競技者一覧!S184)","v":""},{"$f":"IF(OR(競技者一覧!T184=0, ISERROR(競技者一覧!T184)), \"\", 競技者一覧!T184)","v":""},163]
[{"$f":"団体CSV!C165","v":""},{"$f":"団体CSV!D165","v":""},{"$f":"団体CSV!E165","v":" "},{"$f":"IFERROR(VLOOKUP(競技者一覧!I185,Sheet4!$J$2:$K$3,2,FALSE),\"\")","v":""},{"$f":"IF(OR(競技者一覧!J185=0, ISERROR(競技者一覧!J185)), \"\", 競技者一覧!J185)","v":""},{"$f":"IF(OR(競技者一覧!K185=0, ISERROR(競技者一覧!K185)), \"\", 競技者一覧!K185)","v":""},{"$f":"IF(OR(競技者一覧!L185=0, ISERROR(競技者一覧!L185)), \"\", 競技者一覧!L185)","v":""},{"$f":"IF(OR(競技者一覧!M185=0, ISERROR(競技者一覧!M185)), \"\", 競技者一覧!M185)","v":""},{"$f":"IF(OR(競技者一覧!N185=0, ISERROR(競技者一覧!N185)), \"\", 競技者一覧!N185)","v":""},{"$f":"IF(OR(競技者一覧!O185=0, ISERROR(競技者一覧!O185)), \"\", 競技者一覧!O185)","v":""},{"$f":"IF(OR(競技者一覧!P185=0, ISERROR(競技者一覧!P185)), \"\", 競技者一覧!P185)","v":""},{"$f":"IF(OR(競技者一覧!Q185=0, ISERROR(競技者一覧!Q185)), \"\", 競技者一覧!Q185)","v":""},{"$f":"IF(OR(競技者一覧!R185=0, ISERROR(競技者一覧!R185)), \"\", 競技者一覧!R185)","v":""},{"$f":"IF(OR(競技者一覧!S185=0, ISERROR(競技者一覧!S185)), \"\", 競技者一覧!S185)","v":""},{"$f":"IF(OR(競技者一覧!T185=0, ISERROR(競技者一覧!T185)), \"\", 競技者一覧!T185)","v":""},164]
[{"$f":"団体CSV!C166","v":""},{"$f":"団体CSV!D166","v":""},{"$f":"団体CSV!E166","v":" "},{"$f":"IFERROR(VLOOKUP(競技者一覧!I186,Sheet4!$J$2:$K$3,2,FALSE),\"\")","v":""},{"$f":"IF(OR(競技者一覧!J186=0, ISERROR(競技者一覧!J186)), \"\", 競技者一覧!J186)","v":""},{"$f":"IF(OR(競技者一覧!K186=0, ISERROR(競技者一覧!K186)), \"\", 競技者一覧!K186)","v":""},{"$f":"IF(OR(競技者一覧!L186=0, ISERROR(競技者一覧!L186)), \"\", 競技者一覧!L186)","v":""},{"$f":"IF(OR(競技者一覧!M186=0, ISERROR(競技者一覧!M186)), \"\", 競技者一覧!M186)","v":""},{"$f":"IF(OR(競技者一覧!N186=0, ISERROR(競技者一覧!N186)), \"\", 競技者一覧!N186)","v":""},{"$f":"IF(OR(競技者一覧!O186=0, ISERROR(競技者一覧!O186)), \"\", 競技者一覧!O186)","v":""},{"$f":"IF(OR(競技者一覧!P186=0, ISERROR(競技者一覧!P186)), \"\", 競技者一覧!P186)","v":""},{"$f":"IF(OR(競技者一覧!Q186=0, ISERROR(競技者一覧!Q186)), \"\", 競技者一覧!Q186)","v":""},{"$f":"IF(OR(競技者一覧!R186=0, ISERROR(競技者一覧!R186)), \"\", 競技者一覧!R186)","v":""},{"$f":"IF(OR(競技者一覧!S186=0, ISERROR(競技者一覧!S186)), \"\", 競技者一覧!S186)","v":""},{"$f":"IF(OR(競技者一覧!T186=0, ISERROR(競技者一覧!T186)), \"\", 競技者一覧!T186)","v":""},165]
[{"$f":"団体CSV!C167","v":""},{"$f":"団体CSV!D167","v":""},{"$f":"団体CSV!E167","v":" "},{"$f":"IFERROR(VLOOKUP(競技者一覧!I187,Sheet4!$J$2:$K$3,2,FALSE),\"\")","v":""},{"$f":"IF(OR(競技者一覧!J187=0, ISERROR(競技者一覧!J187)), \"\", 競技者一覧!J187)","v":""},{"$f":"IF(OR(競技者一覧!K187=0, ISERROR(競技者一覧!K187)), \"\", 競技者一覧!K187)","v":""},{"$f":"IF(OR(競技者一覧!L187=0, ISERROR(競技者一覧!L187)), \"\", 競技者一覧!L187)","v":""},{"$f":"IF(OR(競技者一覧!M187=0, ISERROR(競技者一覧!M187)), \"\", 競技者一覧!M187)","v":""},{"$f":"IF(OR(競技者一覧!N187=0, ISERROR(競技者一覧!N187)), \"\", 競技者一覧!N187)","v":""},{"$f":"IF(OR(競技者一覧!O187=0, ISERROR(競技者一覧!O187)), \"\", 競技者一覧!O187)","v":""},{"$f":"IF(OR(競技者一覧!P187=0, ISERROR(競技者一覧!P187)), \"\", 競技者一覧!P187)","v":""},{"$f":"IF(OR(競技者一覧!Q187=0, ISERROR(競技者一覧!Q187)), \"\", 競技者一覧!Q187)","v":""},{"$f":"IF(OR(競技者一覧!R187=0, ISERROR(競技者一覧!R187)), \"\", 競技者一覧!R187)","v":""},{"$f":"IF(OR(競技者一覧!S187=0, ISERROR(競技者一覧!S187)), \"\", 競技者一覧!S187)","v":""},{"$f":"IF(OR(競技者一覧!T187=0, ISERROR(競技者一覧!T187)), \"\", 競技者一覧!T187)","v":""},166]
[{"$f":"団体CSV!C168","v":""},{"$f":"団体CSV!D168","v":""},{"$f":"団体CSV!E168","v":" "},{"$f":"IFERROR(VLOOKUP(競技者一覧!I188,Sheet4!$J$2:$K$3,2,FALSE),\"\")","v":""},{"$f":"IF(OR(競技者一覧!J188=0, ISERROR(競技者一覧!J188)), \"\", 競技者一覧!J188)","v":""},{"$f":"IF(OR(競技者一覧!K188=0, ISERROR(競技者一覧!K188)), \"\", 競技者一覧!K188)","v":""},{"$f":"IF(OR(競技者一覧!L188=0, ISERROR(競技者一覧!L188)), \"\", 競技者一覧!L188)","v":""},{"$f":"IF(OR(競技者一覧!M188=0, ISERROR(競技者一覧!M188)), \"\", 競技者一覧!M188)","v":""},{"$f":"IF(OR(競技者一覧!N188=0, ISERROR(競技者一覧!N188)), \"\", 競技者一覧!N188)","v":""},{"$f":"IF(OR(競技者一覧!O188=0, ISERROR(競技者一覧!O188)), \"\", 競技者一覧!O188)","v":""},{"$f":"IF(OR(競技者一覧!P188=0, ISERROR(競技者一覧!P188)), \"\", 競技者一覧!P188)","v":""},{"$f":"IF(OR(競技者一覧!Q188=0, ISERROR(競技者一覧!Q188)), \"\", 競技者一覧!Q188)","v":""},{"$f":"IF(OR(競技者一覧!R188=0, ISERROR(競技者一覧!R188)), \"\", 競技者一覧!R188)","v":""},{"$f":"IF(OR(競技者一覧!S188=0, ISERROR(競技者一覧!S188)), \"\", 競技者一覧!S188)","v":""},{"$f":"IF(OR(競技者一覧!T188=0, ISERROR(競技者一覧!T188)), \"\", 競技者一覧!T188)","v":""},167]
[{"$f":"団体CSV!C169","v":""},{"$f":"団体CSV!D169","v":""},{"$f":"団体CSV!E169","v":" "},{"$f":"IFERROR(VLOOKUP(競技者一覧!I189,Sheet4!$J$2:$K$3,2,FALSE),\"\")","v":""},{"$f":"IF(OR(競技者一覧!J189=0, ISERROR(競技者一覧!J189)), \"\", 競技者一覧!J189)","v":""},{"$f":"IF(OR(競技者一覧!K189=0, ISERROR(競技者一覧!K189)), \"\", 競技者一覧!K189)","v":""},{"$f":"IF(OR(競技者一覧!L189=0, ISERROR(競技者一覧!L189)), \"\", 競技者一覧!L189)","v":""},{"$f":"IF(OR(競技者一覧!M189=0, ISERROR(競技者一覧!M189)), \"\", 競技者一覧!M189)","v":""},{"$f":"IF(OR(競技者一覧!N189=0, ISERROR(競技者一覧!N189)), \"\", 競技者一覧!N189)","v":""},{"$f":"IF(OR(競技者一覧!O189=0, ISERROR(競技者一覧!O189)), \"\", 競技者一覧!O189)","v":""},{"$f":"IF(OR(競技者一覧!P189=0, ISERROR(競技者一覧!P189)), \"\", 競技者一覧!P189)","v":""},{"$f":"IF(OR(競技者一覧!Q189=0, ISERROR(競技者一覧!Q189)), \"\", 競技者一覧!Q189)","v":""},{"$f":"IF(OR(競技者一覧!R189=0, ISERROR(競技者一覧!R189)), \"\", 競技者一覧!R189)","v":""},{"$f":"IF(OR(競技者一覧!S189=0, ISERROR(競技者一覧!S189)), \"\", 競技者一覧!S189)","v":""},{"$f":"IF(OR(競技者一覧!T189=0, ISERROR(競技者一覧!T189)), \"\", 競技者一覧!T189)","v":""},168]
[{"$f":"団体CSV!C170","v":""},{"$f":"団体CSV!D170","v":""},{"$f":"団体CSV!E170","v":" "},{"$f":"IFERROR(VLOOKUP(競技者一覧!I190,Sheet4!$J$2:$K$3,2,FALSE),\"\")","v":""},{"$f":"IF(OR(競技者一覧!J190=0, ISERROR(競技者一覧!J190)), \"\", 競技者一覧!J190)","v":""},{"$f":"IF(OR(競技者一覧!K190=0, ISERROR(競技者一覧!K190)), \"\", 競技者一覧!K190)","v":""},{"$f":"IF(OR(競技者一覧!L190=0, ISERROR(競技者一覧!L190)), \"\", 競技者一覧!L190)","v":""},{"$f":"IF(OR(競技者一覧!M190=0, ISERROR(競技者一覧!M190)), \"\", 競技者一覧!M190)","v":""},{"$f":"IF(OR(競技者一覧!N190=0, ISERROR(競技者一覧!N190)), \"\", 競技者一覧!N190)","v":""},{"$f":"IF(OR(競技者一覧!O190=0, ISERROR(競技者一覧!O190)), \"\", 競技者一覧!O190)","v":""},{"$f":"IF(OR(競技者一覧!P190=0, ISERROR(競技者一覧!P190)), \"\", 競技者一覧!P190)","v":""},{"$f":"IF(OR(競技者一覧!Q190=0, ISERROR(競技者一覧!Q190)), \"\", 競技者一覧!Q190)","v":""},{"$f":"IF(OR(競技者一覧!R190=0, ISERROR(競技者一覧!R190)), \"\", 競技者一覧!R190)","v":""},{"$f":"IF(OR(競技者一覧!S190=0, ISERROR(競技者一覧!S190)), \"\", 競技者一覧!S190)","v":""},{"$f":"IF(OR(競技者一覧!T190=0, ISERROR(競技者一覧!T190)), \"\", 競技者一覧!T190)","v":""},169]
[{"$f":"団体CSV!C171","v":""},{"$f":"団体CSV!D171","v":""},{"$f":"団体CSV!E171","v":" "},{"$f":"IFERROR(VLOOKUP(競技者一覧!I191,Sheet4!$J$2:$K$3,2,FALSE),\"\")","v":""},{"$f":"IF(OR(競技者一覧!J191=0, ISERROR(競技者一覧!J191)), \"\", 競技者一覧!J191)","v":""},{"$f":"IF(OR(競技者一覧!K191=0, ISERROR(競技者一覧!K191)), \"\", 競技者一覧!K191)","v":""},{"$f":"IF(OR(競技者一覧!L191=0, ISERROR(競技者一覧!L191)), \"\", 競技者一覧!L191)","v":""},{"$f":"IF(OR(競技者一覧!M191=0, ISERROR(競技者一覧!M191)), \"\", 競技者一覧!M191)","v":""},{"$f":"IF(OR(競技者一覧!N191=0, ISERROR(競技者一覧!N191)), \"\", 競技者一覧!N191)","v":""},{"$f":"IF(OR(競技者一覧!O191=0, ISERROR(競技者一覧!O191)), \"\", 競技者一覧!O191)","v":""},{"$f":"IF(OR(競技者一覧!P191=0, ISERROR(競技者一覧!P191)), \"\", 競技者一覧!P191)","v":""},{"$f":"IF(OR(競技者一覧!Q191=0, ISERROR(競技者一覧!Q191)), \"\", 競技者一覧!Q191)","v":""},{"$f":"IF(OR(競技者一覧!R191=0, ISERROR(競技者一覧!R191)), \"\", 競技者一覧!R191)","v":""},{"$f":"IF(OR(競技者一覧!S191=0, ISERROR(競技者一覧!S191)), \"\", 競技者一覧!S191)","v":""},{"$f":"IF(OR(競技者一覧!T191=0, ISERROR(競技者一覧!T191)), \"\", 競技者一覧!T191)","v":""},170]
[{"$f":"団体CSV!C172","v":""},{"$f":"団体CSV!D172","v":""},{"$f":"団体CSV!E172","v":" "},{"$f":"IFERROR(VLOOKUP(競技者一覧!I192,Sheet4!$J$2:$K$3,2,FALSE),\"\")","v":""},{"$f":"IF(OR(競技者一覧!J192=0, ISERROR(競技者一覧!J192)), \"\", 競技者一覧!J192)","v":""},{"$f":"IF(OR(競技者一覧!K192=0, ISERROR(競技者一覧!K192)), \"\", 競技者一覧!K192)","v":""},{"$f":"IF(OR(競技者一覧!L192=0, ISERROR(競技者一覧!L192)), \"\", 競技者一覧!L192)","v":""},{"$f":"IF(OR(競技者一覧!M192=0, ISERROR(競技者一覧!M192)), \"\", 競技者一覧!M192)","v":""},{"$f":"IF(OR(競技者一覧!N192=0, ISERROR(競技者一覧!N192)), \"\", 競技者一覧!N192)","v":""},{"$f":"IF(OR(競技者一覧!O192=0, ISERROR(競技者一覧!O192)), \"\", 競技者一覧!O192)","v":""},{"$f":"IF(OR(競技者一覧!P192=0, ISERROR(競技者一覧!P192)), \"\", 競技者一覧!P192)","v":""},{"$f":"IF(OR(競技者一覧!Q192=0, ISERROR(競技者一覧!Q192)), \"\", 競技者一覧!Q192)","v":""},{"$f":"IF(OR(競技者一覧!R192=0, ISERROR(競技者一覧!R192)), \"\", 競技者一覧!R192)","v":""},{"$f":"IF(OR(競技者一覧!S192=0, ISERROR(競技者一覧!S192)), \"\", 競技者一覧!S192)","v":""},{"$f":"IF(OR(競技者一覧!T192=0, ISERROR(競技者一覧!T192)), \"\", 競技者一覧!T192)","v":""},171]
[{"$f":"団体CSV!C173","v":""},{"$f":"団体CSV!D173","v":""},{"$f":"団体CSV!E173","v":" "},{"$f":"IFERROR(VLOOKUP(競技者一覧!I193,Sheet4!$J$2:$K$3,2,FALSE),\"\")","v":""},{"$f":"IF(OR(競技者一覧!J193=0, ISERROR(競技者一覧!J193)), \"\", 競技者一覧!J193)","v":""},{"$f":"IF(OR(競技者一覧!K193=0, ISERROR(競技者一覧!K193)), \"\", 競技者一覧!K193)","v":""},{"$f":"IF(OR(競技者一覧!L193=0, ISERROR(競技者一覧!L193)), \"\", 競技者一覧!L193)","v":""},{"$f":"IF(OR(競技者一覧!M193=0, ISERROR(競技者一覧!M193)), \"\", 競技者一覧!M193)","v":""},{"$f":"IF(OR(競技者一覧!N193=0, ISERROR(競技者一覧!N193)), \"\", 競技者一覧!N193)","v":""},{"$f":"IF(OR(競技者一覧!O193=0, ISERROR(競技者一覧!O193)), \"\", 競技者一覧!O193)","v":""},{"$f":"IF(OR(競技者一覧!P193=0, ISERROR(競技者一覧!P193)), \"\", 競技者一覧!P193)","v":""},{"$f":"IF(OR(競技者一覧!Q193=0, ISERROR(競技者一覧!Q193)), \"\", 競技者一覧!Q193)","v":""},{"$f":"IF(OR(競技者一覧!R193=0, ISERROR(競技者一覧!R193)), \"\", 競技者一覧!R193)","v":""},{"$f":"IF(OR(競技者一覧!S193=0, ISERROR(競技者一覧!S193)), \"\", 競技者一覧!S193)","v":""},{"$f":"IF(OR(競技者一覧!T193=0, ISERROR(競技者一覧!T193)), \"\", 競技者一覧!T193)","v":""},172]
[{"$f":"団体CSV!C174","v":""},{"$f":"団体CSV!D174","v":""},{"$f":"団体CSV!E174","v":" "},{"$f":"IFERROR(VLOOKUP(競技者一覧!I194,Sheet4!$J$2:$K$3,2,FALSE),\"\")","v":""},{"$f":"IF(OR(競技者一覧!J194=0, ISERROR(競技者一覧!J194)), \"\", 競技者一覧!J194)","v":""},{"$f":"IF(OR(競技者一覧!K194=0, ISERROR(競技者一覧!K194)), \"\", 競技者一覧!K194)","v":""},{"$f":"IF(OR(競技者一覧!L194=0, ISERROR(競技者一覧!L194)), \"\", 競技者一覧!L194)","v":""},{"$f":"IF(OR(競技者一覧!M194=0, ISERROR(競技者一覧!M194)), \"\", 競技者一覧!M194)","v":""},{"$f":"IF(OR(競技者一覧!N194=0, ISERROR(競技者一覧!N194)), \"\", 競技者一覧!N194)","v":""},{"$f":"IF(OR(競技者一覧!O194=0, ISERROR(競技者一覧!O194)), \"\", 競技者一覧!O194)","v":""},{"$f":"IF(OR(競技者一覧!P194=0, ISERROR(競技者一覧!P194)), \"\", 競技者一覧!P194)","v":""},{"$f":"IF(OR(競技者一覧!Q194=0, ISERROR(競技者一覧!Q194)), \"\", 競技者一覧!Q194)","v":""},{"$f":"IF(OR(競技者一覧!R194=0, ISERROR(競技者一覧!R194)), \"\", 競技者一覧!R194)","v":""},{"$f":"IF(OR(競技者一覧!S194=0, ISERROR(競技者一覧!S194)), \"\", 競技者一覧!S194)","v":""},{"$f":"IF(OR(競技者一覧!T194=0, ISERROR(競技者一覧!T194)), \"\", 競技者一覧!T194)","v":""},173]
[{"$f":"団体CSV!C175","v":""},{"$f":"団体CSV!D175","v":""},{"$f":"団体CSV!E175","v":" "},{"$f":"IFERROR(VLOOKUP(競技者一覧!I195,Sheet4!$J$2:$K$3,2,FALSE),\"\")","v":""},{"$f":"IF(OR(競技者一覧!J195=0, ISERROR(競技者一覧!J195)), \"\", 競技者一覧!J195)","v":""},{"$f":"IF(OR(競技者一覧!K195=0, ISERROR(競技者一覧!K195)), \"\", 競技者一覧!K195)","v":""},{"$f":"IF(OR(競技者一覧!L195=0, ISERROR(競技者一覧!L195)), \"\", 競技者一覧!L195)","v":""},{"$f":"IF(OR(競技者一覧!M195=0, ISERROR(競技者一覧!M195)), \"\", 競技者一覧!M195)","v":""},{"$f":"IF(OR(競技者一覧!N195=0, ISERROR(競技者一覧!N195)), \"\", 競技者一覧!N195)","v":""},{"$f":"IF(OR(競技者一覧!O195=0, ISERROR(競技者一覧!O195)), \"\", 競技者一覧!O195)","v":""},{"$f":"IF(OR(競技者一覧!P195=0, ISERROR(競技者一覧!P195)), \"\", 競技者一覧!P195)","v":""},{"$f":"IF(OR(競技者一覧!Q195=0, ISERROR(競技者一覧!Q195)), \"\", 競技者一覧!Q195)","v":""},{"$f":"IF(OR(競技者一覧!R195=0, ISERROR(競技者一覧!R195)), \"\", 競技者一覧!R195)","v":""},{"$f":"IF(OR(競技者一覧!S195=0, ISERROR(競技者一覧!S195)), \"\", 競技者一覧!S195)","v":""},{"$f":"IF(OR(競技者一覧!T195=0, ISERROR(競技者一覧!T195)), \"\", 競技者一覧!T195)","v":""},174]
[{"$f":"団体CSV!C176","v":""},{"$f":"団体CSV!D176","v":""},{"$f":"団体CSV!E176","v":" "},{"$f":"IFERROR(VLOOKUP(競技者一覧!I196,Sheet4!$J$2:$K$3,2,FALSE),\"\")","v":""},{"$f":"IF(OR(競技者一覧!J196=0, ISERROR(競技者一覧!J196)), \"\", 競技者一覧!J196)","v":""},{"$f":"IF(OR(競技者一覧!K196=0, ISERROR(競技者一覧!K196)), \"\", 競技者一覧!K196)","v":""},{"$f":"IF(OR(競技者一覧!L196=0, ISERROR(競技者一覧!L196)), \"\", 競技者一覧!L196)","v":""},{"$f":"IF(OR(競技者一覧!M196=0, ISERROR(競技者一覧!M196)), \"\", 競技者一覧!M196)","v":""},{"$f":"IF(OR(競技者一覧!N196=0, ISERROR(競技者一覧!N196)), \"\", 競技者一覧!N196)","v":""},{"$f":"IF(OR(競技者一覧!O196=0, ISERROR(競技者一覧!O196)), \"\", 競技者一覧!O196)","v":""},{"$f":"IF(OR(競技者一覧!P196=0, ISERROR(競技者一覧!P196)), \"\", 競技者一覧!P196)","v":""},{"$f":"IF(OR(競技者一覧!Q196=0, ISERROR(競技者一覧!Q196)), \"\", 競技者一覧!Q196)","v":""},{"$f":"IF(OR(競技者一覧!R196=0, ISERROR(競技者一覧!R196)), \"\", 競技者一覧!R196)","v":""},{"$f":"IF(OR(競技者一覧!S196=0, ISERROR(競技者一覧!S196)), \"\", 競技者一覧!S196)","v":""},{"$f":"IF(OR(競技者一覧!T196=0, ISERROR(競技者一覧!T196)), \"\", 競技者一覧!T196)","v":""},175]
[{"$f":"団体CSV!C177","v":""},{"$f":"団体CSV!D177","v":""},{"$f":"団体CSV!E177","v":" "},{"$f":"IFERROR(VLOOKUP(競技者一覧!I197,Sheet4!$J$2:$K$3,2,FALSE),\"\")","v":""},{"$f":"IF(OR(競技者一覧!J197=0, ISERROR(競技者一覧!J197)), \"\", 競技者一覧!J197)","v":""},{"$f":"IF(OR(競技者一覧!K197=0, ISERROR(競技者一覧!K197)), \"\", 競技者一覧!K197)","v":""},{"$f":"IF(OR(競技者一覧!L197=0, ISERROR(競技者一覧!L197)), \"\", 競技者一覧!L197)","v":""},{"$f":"IF(OR(競技者一覧!M197=0, ISERROR(競技者一覧!M197)), \"\", 競技者一覧!M197)","v":""},{"$f":"IF(OR(競技者一覧!N197=0, ISERROR(競技者一覧!N197)), \"\", 競技者一覧!N197)","v":""},{"$f":"IF(OR(競技者一覧!O197=0, ISERROR(競技者一覧!O197)), \"\", 競技者一覧!O197)","v":""},{"$f":"IF(OR(競技者一覧!P197=0, ISERROR(競技者一覧!P197)), \"\", 競技者一覧!P197)","v":""},{"$f":"IF(OR(競技者一覧!Q197=0, ISERROR(競技者一覧!Q197)), \"\", 競技者一覧!Q197)","v":""},{"$f":"IF(OR(競技者一覧!R197=0, ISERROR(競技者一覧!R197)), \"\", 競技者一覧!R197)","v":""},{"$f":"IF(OR(競技者一覧!S197=0, ISERROR(競技者一覧!S197)), \"\", 競技者一覧!S197)","v":""},{"$f":"IF(OR(競技者一覧!T197=0, ISERROR(競技者一覧!T197)), \"\", 競技者一覧!T197)","v":""},176]
[{"$f":"団体CSV!C178","v":""},{"$f":"団体CSV!D178","v":""},{"$f":"団体CSV!E178","v":" "},{"$f":"IFERROR(VLOOKUP(競技者一覧!I198,Sheet4!$J$2:$K$3,2,FALSE),\"\")","v":""},{"$f":"IF(OR(競技者一覧!J198=0, ISERROR(競技者一覧!J198)), \"\", 競技者一覧!J198)","v":""},{"$f":"IF(OR(競技者一覧!K198=0, ISERROR(競技者一覧!K198)), \"\", 競技者一覧!K198)","v":""},{"$f":"IF(OR(競技者一覧!L198=0, ISERROR(競技者一覧!L198)), \"\", 競技者一覧!L198)","v":""},{"$f":"IF(OR(競技者一覧!M198=0, ISERROR(競技者一覧!M198)), \"\", 競技者一覧!M198)","v":""},{"$f":"IF(OR(競技者一覧!N198=0, ISERROR(競技者一覧!N198)), \"\", 競技者一覧!N198)","v":""},{"$f":"IF(OR(競技者一覧!O198=0, ISERROR(競技者一覧!O198)), \"\", 競技者一覧!O198)","v":""},{"$f":"IF(OR(競技者一覧!P198=0, ISERROR(競技者一覧!P198)), \"\", 競技者一覧!P198)","v":""},{"$f":"IF(OR(競技者一覧!Q198=0, ISERROR(競技者一覧!Q198)), \"\", 競技者一覧!Q198)","v":""},{"$f":"IF(OR(競技者一覧!R198=0, ISERROR(競技者一覧!R198)), \"\", 競技者一覧!R198)","v":""},{"$f":"IF(OR(競技者一覧!S198=0, ISERROR(競技者一覧!S198)), \"\", 競技者一覧!S198)","v":""},{"$f":"IF(OR(競技者一覧!T198=0, ISERROR(競技者一覧!T198)), \"\", 競技者一覧!T198)","v":""},177]
[{"$f":"団体CSV!C179","v":""},{"$f":"団体CSV!D179","v":""},{"$f":"団体CSV!E179","v":" "},{"$f":"IFERROR(VLOOKUP(競技者一覧!I199,Sheet4!$J$2:$K$3,2,FALSE),\"\")","v":""},{"$f":"IF(OR(競技者一覧!J199=0, ISERROR(競技者一覧!J199)), \"\", 競技者一覧!J199)","v":""},{"$f":"IF(OR(競技者一覧!K199=0, ISERROR(競技者一覧!K199)), \"\", 競技者一覧!K199)","v":""},{"$f":"IF(OR(競技者一覧!L199=0, ISERROR(競技者一覧!L199)), \"\", 競技者一覧!L199)","v":""},{"$f":"IF(OR(競技者一覧!M199=0, ISERROR(競技者一覧!M199)), \"\", 競技者一覧!M199)","v":""},{"$f":"IF(OR(競技者一覧!N199=0, ISERROR(競技者一覧!N199)), \"\", 競技者一覧!N199)","v":""},{"$f":"IF(OR(競技者一覧!O199=0, ISERROR(競技者一覧!O199)), \"\", 競技者一覧!O199)","v":""},{"$f":"IF(OR(競技者一覧!P199=0, ISERROR(競技者一覧!P199)), \"\", 競技者一覧!P199)","v":""},{"$f":"IF(OR(競技者一覧!Q199=0, ISERROR(競技者一覧!Q199)), \"\", 競技者一覧!Q199)","v":""},{"$f":"IF(OR(競技者一覧!R199=0, ISERROR(競技者一覧!R199)), \"\", 競技者一覧!R199)","v":""},{"$f":"IF(OR(競技者一覧!S199=0, ISERROR(競技者一覧!S199)), \"\", 競技者一覧!S199)","v":""},{"$f":"IF(OR(競技者一覧!T199=0, ISERROR(競技者一覧!T199)), \"\", 競技者一覧!T199)","v":""},178]
[{"$f":"団体CSV!C180","v":""},{"$f":"団体CSV!D180","v":""},{"$f":"団体CSV!E180","v":" "},{"$f":"IFERROR(VLOOKUP(競技者一覧!I200,Sheet4!$J$2:$K$3,2,FALSE),\"\")","v":""},{"$f":"IF(OR(競技者一覧!J200=0, ISERROR(競技者一覧!J200)), \"\", 競技者一覧!J200)","v":""},{"$f":"IF(OR(競技者一覧!K200=0, ISERROR(競技者一覧!K200)), \"\", 競技者一覧!K200)","v":""},{"$f":"IF(OR(競技者一覧!L200=0, ISERROR(競技者一覧!L200)), \"\", 競技者一覧!L200)","v":""},{"$f":"IF(OR(競技者一覧!M200=0, ISERROR(競技者一覧!M200)), \"\", 競技者一覧!M200)","v":""},{"$f":"IF(OR(競技者一覧!N200=0, ISERROR(競技者一覧!N200)), \"\", 競技者一覧!N200)","v":""},{"$f":"IF(OR(競技者一覧!O200=0, ISERROR(競技者一覧!O200)), \"\", 競技者一覧!O200)","v":""},{"$f":"IF(OR(競技者一覧!P200=0, ISERROR(競技者一覧!P200)), \"\", 競技者一覧!P200)","v":""},{"$f":"IF(OR(競技者一覧!Q200=0, ISERROR(競技者一覧!Q200)), \"\", 競技者一覧!Q200)","v":""},{"$f":"IF(OR(競技者一覧!R200=0, ISERROR(競技者一覧!R200)), \"\", 競技者一覧!R200)","v":""},{"$f":"IF(OR(競技者一覧!S200=0, ISERROR(競技者一覧!S200)), \"\", 競技者一覧!S200)","v":""},{"$f":"IF(OR(競技者一覧!T200=0, ISERROR(競技者一覧!T200)), \"\", 競技者一覧!T200)","v":""},179]
[{"$f":"団体CSV!C181","v":""},{"$f":"団体CSV!D181","v":""},{"$f":"団体CSV!E181","v":" "},{"$f":"IFERROR(VLOOKUP(競技者一覧!I201,Sheet4!$J$2:$K$3,2,FALSE),\"\")","v":""},{"$f":"IF(OR(競技者一覧!J201=0, ISERROR(競技者一覧!J201)), \"\", 競技者一覧!J201)","v":""},{"$f":"IF(OR(競技者一覧!K201=0, ISERROR(競技者一覧!K201)), \"\", 競技者一覧!K201)","v":""},{"$f":"IF(OR(競技者一覧!L201=0, ISERROR(競技者一覧!L201)), \"\", 競技者一覧!L201)","v":""},{"$f":"IF(OR(競技者一覧!M201=0, ISERROR(競技者一覧!M201)), \"\", 競技者一覧!M201)","v":""},{"$f":"IF(OR(競技者一覧!N201=0, ISERROR(競技者一覧!N201)), \"\", 競技者一覧!N201)","v":""},{"$f":"IF(OR(競技者一覧!O201=0, ISERROR(競技者一覧!O201)), \"\", 競技者一覧!O201)","v":""},{"$f":"IF(OR(競技者一覧!P201=0, ISERROR(競技者一覧!P201)), \"\", 競技者一覧!P201)","v":""},{"$f":"IF(OR(競技者一覧!Q201=0, ISERROR(競技者一覧!Q201)), \"\", 競技者一覧!Q201)","v":""},{"$f":"IF(OR(競技者一覧!R201=0, ISERROR(競技者一覧!R201)), \"\", 競技者一覧!R201)","v":""},{"$f":"IF(OR(競技者一覧!S201=0, ISERROR(競技者一覧!S201)), \"\", 競技者一覧!S201)","v":""},{"$f":"IF(OR(競技者一覧!T201=0, ISERROR(競技者一覧!T201)), \"\", 競技者一覧!T201)","v":""},180]
[{"$f":"団体CSV!C182","v":""},{"$f":"団体CSV!D182","v":""},{"$f":"団体CSV!E182","v":" "},{"$f":"IFERROR(VLOOKUP(競技者一覧!I202,Sheet4!$J$2:$K$3,2,FALSE),\"\")","v":""},{"$f":"IF(OR(競技者一覧!J202=0, ISERROR(競技者一覧!J202)), \"\", 競技者一覧!J202)","v":""},{"$f":"IF(OR(競技者一覧!K202=0, ISERROR(競技者一覧!K202)), \"\", 競技者一覧!K202)","v":""},{"$f":"IF(OR(競技者一覧!L202=0, ISERROR(競技者一覧!L202)), \"\", 競技者一覧!L202)","v":""},{"$f":"IF(OR(競技者一覧!M202=0, ISERROR(競技者一覧!M202)), \"\", 競技者一覧!M202)","v":""},{"$f":"IF(OR(競技者一覧!N202=0, ISERROR(競技者一覧!N202)), \"\", 競技者一覧!N202)","v":""},{"$f":"IF(OR(競技者一覧!O202=0, ISERROR(競技者一覧!O202)), \"\", 競技者一覧!O202)","v":""},{"$f":"IF(OR(競技者一覧!P202=0, ISERROR(競技者一覧!P202)), \"\", 競技者一覧!P202)","v":""},{"$f":"IF(OR(競技者一覧!Q202=0, ISERROR(競技者一覧!Q202)), \"\", 競技者一覧!Q202)","v":""},{"$f":"IF(OR(競技者一覧!R202=0, ISERROR(競技者一覧!R202)), \"\", 競技者一覧!R202)","v":""},{"$f":"IF(OR(競技者一覧!S202=0, ISERROR(競技者一覧!S202)), \"\", 競技者一覧!S202)","v":""},{"$f":"IF(OR(競技者一覧!T202=0, ISERROR(競技者一覧!T202)), \"\", 競技者一覧!T202)","v":""},181]
[{"$f":"団体CSV!C183","v":""},{"$f":"団体CSV!D183","v":""},{"$f":"団体CSV!E183","v":" "},{"$f":"IFERROR(VLOOKUP(競技者一覧!I203,Sheet4!$J$2:$K$3,2,FALSE),\"\")","v":""},{"$f":"IF(OR(競技者一覧!J203=0, ISERROR(競技者一覧!J203)), \"\", 競技者一覧!J203)","v":""},{"$f":"IF(OR(競技者一覧!K203=0, ISERROR(競技者一覧!K203)), \"\", 競技者一覧!K203)","v":""},{"$f":"IF(OR(競技者一覧!L203=0, ISERROR(競技者一覧!L203)), \"\", 競技者一覧!L203)","v":""},{"$f":"IF(OR(競技者一覧!M203=0, ISERROR(競技者一覧!M203)), \"\", 競技者一覧!M203)","v":""},{"$f":"IF(OR(競技者一覧!N203=0, ISERROR(競技者一覧!N203)), \"\", 競技者一覧!N203)","v":""},{"$f":"IF(OR(競技者一覧!O203=0, ISERROR(競技者一覧!O203)), \"\", 競技者一覧!O203)","v":""},{"$f":"IF(OR(競技者一覧!P203=0, ISERROR(競技者一覧!P203)), \"\", 競技者一覧!P203)","v":""},{"$f":"IF(OR(競技者一覧!Q203=0, ISERROR(競技者一覧!Q203)), \"\", 競技者一覧!Q203)","v":""},{"$f":"IF(OR(競技者一覧!R203=0, ISERROR(競技者一覧!R203)), \"\", 競技者一覧!R203)","v":""},{"$f":"IF(OR(競技者一覧!S203=0, ISERROR(競技者一覧!S203)), \"\", 競技者一覧!S203)","v":""},{"$f":"IF(OR(競技者一覧!T203=0, ISERROR(競技者一覧!T203)), \"\", 競技者一覧!T203)","v":""},182]
[{"$f":"団体CSV!C184","v":""},{"$f":"団体CSV!D184","v":""},{"$f":"団体CSV!E184","v":" "},{"$f":"IFERROR(VLOOKUP(競技者一覧!I204,Sheet4!$J$2:$K$3,2,FALSE),\"\")","v":""},{"$f":"IF(OR(競技者一覧!J204=0, ISERROR(競技者一覧!J204)), \"\", 競技者一覧!J204)","v":""},{"$f":"IF(OR(競技者一覧!K204=0, ISERROR(競技者一覧!K204)), \"\", 競技者一覧!K204)","v":""},{"$f":"IF(OR(競技者一覧!L204=0, ISERROR(競技者一覧!L204)), \"\", 競技者一覧!L204)","v":""},{"$f":"IF(OR(競技者一覧!M204=0, ISERROR(競技者一覧!M204)), \"\", 競技者一覧!M204)","v":""},{"$f":"IF(OR(競技者一覧!N204=0, ISERROR(競技者一覧!N204)), \"\", 競技者一覧!N204)","v":""},{"$f":"IF(OR(競技者一覧!O204=0, ISERROR(競技者一覧!O204)), \"\", 競技者一覧!O204)","v":""},{"$f":"IF(OR(競技者一覧!P204=0, ISERROR(競技者一覧!P204)), \"\", 競技者一覧!P204)","v":""},{"$f":"IF(OR(競技者一覧!Q204=0, ISERROR(競技者一覧!Q204)), \"\", 競技者一覧!Q204)","v":""},{"$f":"IF(OR(競技者一覧!R204=0, ISERROR(競技者一覧!R204)), \"\", 競技者一覧!R204)","v":""},{"$f":"IF(OR(競技者一覧!S204=0, ISERROR(競技者一覧!S204)), \"\", 競技者一覧!S204)","v":""},{"$f":"IF(OR(競技者一覧!T204=0, ISERROR(競技者一覧!T204)), \"\", 競技者一覧!T204)","v":""},183]
[{"$f":"団体CSV!C185","v":""},{"$f":"団体CSV!D185","v":""},{"$f":"団体CSV!E185","v":" "},{"$f":"IFERROR(VLOOKUP(競技者一覧!I205,Sheet4!$J$2:$K$3,2,FALSE),\"\")","v":""},{"$f":"IF(OR(競技者一覧!J205=0, ISERROR(競技者一覧!J205)), \"\", 競技者一覧!J205)","v":""},{"$f":"IF(OR(競技者一覧!K205=0, ISERROR(競技者一覧!K205)), \"\", 競技者一覧!K205)","v":""},{"$f":"IF(OR(競技者一覧!L205=0, ISERROR(競技者一覧!L205)), \"\", 競技者一覧!L205)","v":""},{"$f":"IF(OR(競技者一覧!M205=0, ISERROR(競技者一覧!M205)), \"\", 競技者一覧!M205)","v":""},{"$f":"IF(OR(競技者一覧!N205=0, ISERROR(競技者一覧!N205)), \"\", 競技者一覧!N205)","v":""},{"$f":"IF(OR(競技者一覧!O205=0, ISERROR(競技者一覧!O205)), \"\", 競技者一覧!O205)","v":""},{"$f":"IF(OR(競技者一覧!P205=0, ISERROR(競技者一覧!P205)), \"\", 競技者一覧!P205)","v":""},{"$f":"IF(OR(競技者一覧!Q205=0, ISERROR(競技者一覧!Q205)), \"\", 競技者一覧!Q205)","v":""},{"$f":"IF(OR(競技者一覧!R205=0, ISERROR(競技者一覧!R205)), \"\", 競技者一覧!R205)","v":""},{"$f":"IF(OR(競技者一覧!S205=0, ISERROR(競技者一覧!S205)), \"\", 競技者一覧!S205)","v":""},{"$f":"IF(OR(競技者一覧!T205=0, ISERROR(競技者一覧!T205)), \"\", 競技者一覧!T205)","v":""},184]
[{"$f":"団体CSV!C186","v":""},{"$f":"団体CSV!D186","v":""},{"$f":"団体CSV!E186","v":" "},{"$f":"IFERROR(VLOOKUP(競技者一覧!I206,Sheet4!$J$2:$K$3,2,FALSE),\"\")","v":""},{"$f":"IF(OR(競技者一覧!J206=0, ISERROR(競技者一覧!J206)), \"\", 競技者一覧!J206)","v":""},{"$f":"IF(OR(競技者一覧!K206=0, ISERROR(競技者一覧!K206)), \"\", 競技者一覧!K206)","v":""},{"$f":"IF(OR(競技者一覧!L206=0, ISERROR(競技者一覧!L206)), \"\", 競技者一覧!L206)","v":""},{"$f":"IF(OR(競技者一覧!M206=0, ISERROR(競技者一覧!M206)), \"\", 競技者一覧!M206)","v":""},{"$f":"IF(OR(競技者一覧!N206=0, ISERROR(競技者一覧!N206)), \"\", 競技者一覧!N206)","v":""},{"$f":"IF(OR(競技者一覧!O206=0, ISERROR(競技者一覧!O206)), \"\", 競技者一覧!O206)","v":""},{"$f":"IF(OR(競技者一覧!P206=0, ISERROR(競技者一覧!P206)), \"\", 競技者一覧!P206)","v":""},{"$f":"IF(OR(競技者一覧!Q206=0, ISERROR(競技者一覧!Q206)), \"\", 競技者一覧!Q206)","v":""},{"$f":"IF(OR(競技者一覧!R206=0, ISERROR(競技者一覧!R206)), \"\", 競技者一覧!R206)","v":""},{"$f":"IF(OR(競技者一覧!S206=0, ISERROR(競技者一覧!S206)), \"\", 競技者一覧!S206)","v":""},{"$f":"IF(OR(競技者一覧!T206=0, ISERROR(競技者一覧!T206)), \"\", 競技者一覧!T206)","v":""},185]
[{"$f":"団体CSV!C187","v":""},{"$f":"団体CSV!D187","v":""},{"$f":"団体CSV!E187","v":" "},{"$f":"IFERROR(VLOOKUP(競技者一覧!I207,Sheet4!$J$2:$K$3,2,FALSE),\"\")","v":""},{"$f":"IF(OR(競技者一覧!J207=0, ISERROR(競技者一覧!J207)), \"\", 競技者一覧!J207)","v":""},{"$f":"IF(OR(競技者一覧!K207=0, ISERROR(競技者一覧!K207)), \"\", 競技者一覧!K207)","v":""},{"$f":"IF(OR(競技者一覧!L207=0, ISERROR(競技者一覧!L207)), \"\", 競技者一覧!L207)","v":""},{"$f":"IF(OR(競技者一覧!M207=0, ISERROR(競技者一覧!M207)), \"\", 競技者一覧!M207)","v":""},{"$f":"IF(OR(競技者一覧!N207=0, ISERROR(競技者一覧!N207)), \"\", 競技者一覧!N207)","v":""},{"$f":"IF(OR(競技者一覧!O207=0, ISERROR(競技者一覧!O207)), \"\", 競技者一覧!O207)","v":""},{"$f":"IF(OR(競技者一覧!P207=0, ISERROR(競技者一覧!P207)), \"\", 競技者一覧!P207)","v":""},{"$f":"IF(OR(競技者一覧!Q207=0, ISERROR(競技者一覧!Q207)), \"\", 競技者一覧!Q207)","v":""},{"$f":"IF(OR(競技者一覧!R207=0, ISERROR(競技者一覧!R207)), \"\", 競技者一覧!R207)","v":""},{"$f":"IF(OR(競技者一覧!S207=0, ISERROR(競技者一覧!S207)), \"\", 競技者一覧!S207)","v":""},{"$f":"IF(OR(競技者一覧!T207=0, ISERROR(競技者一覧!T207)), \"\", 競技者一覧!T207)","v":""},186]
[{"$f":"団体CSV!C188","v":""},{"$f":"団体CSV!D188","v":""},{"$f":"団体CSV!E188","v":" "},{"$f":"IFERROR(VLOOKUP(競技者一覧!I208,Sheet4!$J$2:$K$3,2,FALSE),\"\")","v":""},{"$f":"IF(OR(競技者一覧!J208=0, ISERROR(競技者一覧!J208)), \"\", 競技者一覧!J208)","v":""},{"$f":"IF(OR(競技者一覧!K208=0, ISERROR(競技者一覧!K208)), \"\", 競技者一覧!K208)","v":""},{"$f":"IF(OR(競技者一覧!L208=0, ISERROR(競技者一覧!L208)), \"\", 競技者一覧!L208)","v":""},{"$f":"IF(OR(競技者一覧!M208=0, ISERROR(競技者一覧!M208)), \"\", 競技者一覧!M208)","v":""},{"$f":"IF(OR(競技者一覧!N208=0, ISERROR(競技者一覧!N208)), \"\", 競技者一覧!N208)","v":""},{"$f":"IF(OR(競技者一覧!O208=0, ISERROR(競技者一覧!O208)), \"\", 競技者一覧!O208)","v":""},{"$f":"IF(OR(競技者一覧!P208=0, ISERROR(競技者一覧!P208)), \"\", 競技者一覧!P208)","v":""},{"$f":"IF(OR(競技者一覧!Q208=0, ISERROR(競技者一覧!Q208)), \"\", 競技者一覧!Q208)","v":""},{"$f":"IF(OR(競技者一覧!R208=0, ISERROR(競技者一覧!R208)), \"\", 競技者一覧!R208)","v":""},{"$f":"IF(OR(競技者一覧!S208=0, ISERROR(競技者一覧!S208)), \"\", 競技者一覧!S208)","v":""},{"$f":"IF(OR(競技者一覧!T208=0, ISERROR(競技者一覧!T208)), \"\", 競技者一覧!T208)","v":""},187]
[{"$f":"団体CSV!C189","v":""},{"$f":"団体CSV!D189","v":""},{"$f":"団体CSV!E189","v":" "},{"$f":"IFERROR(VLOOKUP(競技者一覧!I209,Sheet4!$J$2:$K$3,2,FALSE),\"\")","v":""},{"$f":"IF(OR(競技者一覧!J209=0, ISERROR(競技者一覧!J209)), \"\", 競技者一覧!J209)","v":""},{"$f":"IF(OR(競技者一覧!K209=0, ISERROR(競技者一覧!K209)), \"\", 競技者一覧!K209)","v":""},{"$f":"IF(OR(競技者一覧!L209=0, ISERROR(競技者一覧!L209)), \"\", 競技者一覧!L209)","v":""},{"$f":"IF(OR(競技者一覧!M209=0, ISERROR(競技者一覧!M209)), \"\", 競技者一覧!M209)","v":""},{"$f":"IF(OR(競技者一覧!N209=0, ISERROR(競技者一覧!N209)), \"\", 競技者一覧!N209)","v":""},{"$f":"IF(OR(競技者一覧!O209=0, ISERROR(競技者一覧!O209)), \"\", 競技者一覧!O209)","v":""},{"$f":"IF(OR(競技者一覧!P209=0, ISERROR(競技者一覧!P209)), \"\", 競技者一覧!P209)","v":""},{"$f":"IF(OR(競技者一覧!Q209=0, ISERROR(競技者一覧!Q209)), \"\", 競技者一覧!Q209)","v":""},{"$f":"IF(OR(競技者一覧!R209=0, ISERROR(競技者一覧!R209)), \"\", 競技者一覧!R209)","v":""},{"$f":"IF(OR(競技者一覧!S209=0, ISERROR(競技者一覧!S209)), \"\", 競技者一覧!S209)","v":""},{"$f":"IF(OR(競技者一覧!T209=0, ISERROR(競技者一覧!T209)), \"\", 競技者一覧!T209)","v":""},188]
[{"$f":"団体CSV!C190","v":""},{"$f":"団体CSV!D190","v":""},{"$f":"団体CSV!E190","v":" "},{"$f":"IFERROR(VLOOKUP(競技者一覧!I210,Sheet4!$J$2:$K$3,2,FALSE),\"\")","v":""},{"$f":"IF(OR(競技者一覧!J210=0, ISERROR(競技者一覧!J210)), \"\", 競技者一覧!J210)","v":""},{"$f":"IF(OR(競技者一覧!K210=0, ISERROR(競技者一覧!K210)), \"\", 競技者一覧!K210)","v":""},{"$f":"IF(OR(競技者一覧!L210=0, ISERROR(競技者一覧!L210)), \"\", 競技者一覧!L210)","v":""},{"$f":"IF(OR(競技者一覧!M210=0, ISERROR(競技者一覧!M210)), \"\", 競技者一覧!M210)","v":""},{"$f":"IF(OR(競技者一覧!N210=0, ISERROR(競技者一覧!N210)), \"\", 競技者一覧!N210)","v":""},{"$f":"IF(OR(競技者一覧!O210=0, ISERROR(競技者一覧!O210)), \"\", 競技者一覧!O210)","v":""},{"$f":"IF(OR(競技者一覧!P210=0, ISERROR(競技者一覧!P210)), \"\", 競技者一覧!P210)","v":""},{"$f":"IF(OR(競技者一覧!Q210=0, ISERROR(競技者一覧!Q210)), \"\", 競技者一覧!Q210)","v":""},{"$f":"IF(OR(競技者一覧!R210=0, ISERROR(競技者一覧!R210)), \"\", 競技者一覧!R210)","v":""},{"$f":"IF(OR(競技者一覧!S210=0, ISERROR(競技者一覧!S210)), \"\", 競技者一覧!S210)","v":""},{"$f":"IF(OR(競技者一覧!T210=0, ISERROR(競技者一覧!T210)), \"\", 競技者一覧!T210)","v":""},189]
[{"$f":"団体CSV!C191","v":""},{"$f":"団体CSV!D191","v":""},{"$f":"団体CSV!E191","v":" "},{"$f":"IFERROR(VLOOKUP(競技者一覧!I211,Sheet4!$J$2:$K$3,2,FALSE),\"\")","v":""},{"$f":"IF(OR(競技者一覧!J211=0, ISERROR(競技者一覧!J211)), \"\", 競技者一覧!J211)","v":""},{"$f":"IF(OR(競技者一覧!K211=0, ISERROR(競技者一覧!K211)), \"\", 競技者一覧!K211)","v":""},{"$f":"IF(OR(競技者一覧!L211=0, ISERROR(競技者一覧!L211)), \"\", 競技者一覧!L211)","v":""},{"$f":"IF(OR(競技者一覧!M211=0, ISERROR(競技者一覧!M211)), \"\", 競技者一覧!M211)","v":""},{"$f":"IF(OR(競技者一覧!N211=0, ISERROR(競技者一覧!N211)), \"\", 競技者一覧!N211)","v":""},{"$f":"IF(OR(競技者一覧!O211=0, ISERROR(競技者一覧!O211)), \"\", 競技者一覧!O211)","v":""},{"$f":"IF(OR(競技者一覧!P211=0, ISERROR(競技者一覧!P211)), \"\", 競技者一覧!P211)","v":""},{"$f":"IF(OR(競技者一覧!Q211=0, ISERROR(競技者一覧!Q211)), \"\", 競技者一覧!Q211)","v":""},{"$f":"IF(OR(競技者一覧!R211=0, ISERROR(競技者一覧!R211)), \"\", 競技者一覧!R211)","v":""},{"$f":"IF(OR(競技者一覧!S211=0, ISERROR(競技者一覧!S211)), \"\", 競技者一覧!S211)","v":""},{"$f":"IF(OR(競技者一覧!T211=0, ISERROR(競技者一覧!T211)), \"\", 競技者一覧!T211)","v":""},190]
[{"$f":"団体CSV!C192","v":""},{"$f":"団体CSV!D192","v":""},{"$f":"団体CSV!E192","v":" "},{"$f":"IFERROR(VLOOKUP(競技者一覧!I212,Sheet4!$J$2:$K$3,2,FALSE),\"\")","v":""},{"$f":"IF(OR(競技者一覧!J212=0, ISERROR(競技者一覧!J212)), \"\", 競技者一覧!J212)","v":""},{"$f":"IF(OR(競技者一覧!K212=0, ISERROR(競技者一覧!K212)), \"\", 競技者一覧!K212)","v":""},{"$f":"IF(OR(競技者一覧!L212=0, ISERROR(競技者一覧!L212)), \"\", 競技者一覧!L212)","v":""},{"$f":"IF(OR(競技者一覧!M212=0, ISERROR(競技者一覧!M212)), \"\", 競技者一覧!M212)","v":""},{"$f":"IF(OR(競技者一覧!N212=0, ISERROR(競技者一覧!N212)), \"\", 競技者一覧!N212)","v":""},{"$f":"IF(OR(競技者一覧!O212=0, ISERROR(競技者一覧!O212)), \"\", 競技者一覧!O212)","v":""},{"$f":"IF(OR(競技者一覧!P212=0, ISERROR(競技者一覧!P212)), \"\", 競技者一覧!P212)","v":""},{"$f":"IF(OR(競技者一覧!Q212=0, ISERROR(競技者一覧!Q212)), \"\", 競技者一覧!Q212)","v":""},{"$f":"IF(OR(競技者一覧!R212=0, ISERROR(競技者一覧!R212)), \"\", 競技者一覧!R212)","v":""},{"$f":"IF(OR(競技者一覧!S212=0, ISERROR(競技者一覧!S212)), \"\", 競技者一覧!S212)","v":""},{"$f":"IF(OR(競技者一覧!T212=0, ISERROR(競技者一覧!T212)), \"\", 競技者一覧!T212)","v":""},191]
[{"$f":"団体CSV!C193","v":""},{"$f":"団体CSV!D193","v":""},{"$f":"団体CSV!E193","v":" "},{"$f":"IFERROR(VLOOKUP(競技者一覧!I213,Sheet4!$J$2:$K$3,2,FALSE),\"\")","v":""},{"$f":"IF(OR(競技者一覧!J213=0, ISERROR(競技者一覧!J213)), \"\", 競技者一覧!J213)","v":""},{"$f":"IF(OR(競技者一覧!K213=0, ISERROR(競技者一覧!K213)), \"\", 競技者一覧!K213)","v":""},{"$f":"IF(OR(競技者一覧!L213=0, ISERROR(競技者一覧!L213)), \"\", 競技者一覧!L213)","v":""},{"$f":"IF(OR(競技者一覧!M213=0, ISERROR(競技者一覧!M213)), \"\", 競技者一覧!M213)","v":""},{"$f":"IF(OR(競技者一覧!N213=0, ISERROR(競技者一覧!N213)), \"\", 競技者一覧!N213)","v":""},{"$f":"IF(OR(競技者一覧!O213=0, ISERROR(競技者一覧!O213)), \"\", 競技者一覧!O213)","v":""},{"$f":"IF(OR(競技者一覧!P213=0, ISERROR(競技者一覧!P213)), \"\", 競技者一覧!P213)","v":""},{"$f":"IF(OR(競技者一覧!Q213=0, ISERROR(競技者一覧!Q213)), \"\", 競技者一覧!Q213)","v":""},{"$f":"IF(OR(競技者一覧!R213=0, ISERROR(競技者一覧!R213)), \"\", 競技者一覧!R213)","v":""},{"$f":"IF(OR(競技者一覧!S213=0, ISERROR(競技者一覧!S213)), \"\", 競技者一覧!S213)","v":""},{"$f":"IF(OR(競技者一覧!T213=0, ISERROR(競技者一覧!T213)), \"\", 競技者一覧!T213)","v":""},192]
[{"$f":"団体CSV!C194","v":""},{"$f":"団体CSV!D194","v":""},{"$f":"団体CSV!E194","v":" "},{"$f":"IFERROR(VLOOKUP(競技者一覧!I214,Sheet4!$J$2:$K$3,2,FALSE),\"\")","v":""},{"$f":"IF(OR(競技者一覧!J214=0, ISERROR(競技者一覧!J214)), \"\", 競技者一覧!J214)","v":""},{"$f":"IF(OR(競技者一覧!K214=0, ISERROR(競技者一覧!K214)), \"\", 競技者一覧!K214)","v":""},{"$f":"IF(OR(競技者一覧!L214=0, ISERROR(競技者一覧!L214)), \"\", 競技者一覧!L214)","v":""},{"$f":"IF(OR(競技者一覧!M214=0, ISERROR(競技者一覧!M214)), \"\", 競技者一覧!M214)","v":""},{"$f":"IF(OR(競技者一覧!N214=0, ISERROR(競技者一覧!N214)), \"\", 競技者一覧!N214)","v":""},{"$f":"IF(OR(競技者一覧!O214=0, ISERROR(競技者一覧!O214)), \"\", 競技者一覧!O214)","v":""},{"$f":"IF(OR(競技者一覧!P214=0, ISERROR(競技者一覧!P214)), \"\", 競技者一覧!P214)","v":""},{"$f":"IF(OR(競技者一覧!Q214=0, ISERROR(競技者一覧!Q214)), \"\", 競技者一覧!Q214)","v":""},{"$f":"IF(OR(競技者一覧!R214=0, ISERROR(競技者一覧!R214)), \"\", 競技者一覧!R214)","v":""},{"$f":"IF(OR(競技者一覧!S214=0, ISERROR(競技者一覧!S214)), \"\", 競技者一覧!S214)","v":""},{"$f":"IF(OR(競技者一覧!T214=0, ISERROR(競技者一覧!T214)), \"\", 競技者一覧!T214)","v":""},193]
[{"$f":"団体CSV!C195","v":""},{"$f":"団体CSV!D195","v":""},{"$f":"団体CSV!E195","v":" "},{"$f":"IFERROR(VLOOKUP(競技者一覧!I215,Sheet4!$J$2:$K$3,2,FALSE),\"\")","v":""},{"$f":"IF(OR(競技者一覧!J215=0, ISERROR(競技者一覧!J215)), \"\", 競技者一覧!J215)","v":""},{"$f":"IF(OR(競技者一覧!K215=0, ISERROR(競技者一覧!K215)), \"\", 競技者一覧!K215)","v":""},{"$f":"IF(OR(競技者一覧!L215=0, ISERROR(競技者一覧!L215)), \"\", 競技者一覧!L215)","v":""},{"$f":"IF(OR(競技者一覧!M215=0, ISERROR(競技者一覧!M215)), \"\", 競技者一覧!M215)","v":""},{"$f":"IF(OR(競技者一覧!N215=0, ISERROR(競技者一覧!N215)), \"\", 競技者一覧!N215)","v":""},{"$f":"IF(OR(競技者一覧!O215=0, ISERROR(競技者一覧!O215)), \"\", 競技者一覧!O215)","v":""},{"$f":"IF(OR(競技者一覧!P215=0, ISERROR(競技者一覧!P215)), \"\", 競技者一覧!P215)","v":""},{"$f":"IF(OR(競技者一覧!Q215=0, ISERROR(競技者一覧!Q215)), \"\", 競技者一覧!Q215)","v":""},{"$f":"IF(OR(競技者一覧!R215=0, ISERROR(競技者一覧!R215)), \"\", 競技者一覧!R215)","v":""},{"$f":"IF(OR(競技者一覧!S215=0, ISERROR(競技者一覧!S215)), \"\", 競技者一覧!S215)","v":""},{"$f":"IF(OR(競技者一覧!T215=0, ISERROR(競技者一覧!T215)), \"\", 競技者一覧!T215)","v":""},194]
[{"$f":"団体CSV!C196","v":""},{"$f":"団体CSV!D196","v":""},{"$f":"団体CSV!E196","v":" "},{"$f":"IFERROR(VLOOKUP(競技者一覧!I216,Sheet4!$J$2:$K$3,2,FALSE),\"\")","v":""},{"$f":"IF(OR(競技者一覧!J216=0, ISERROR(競技者一覧!J216)), \"\", 競技者一覧!J216)","v":""},{"$f":"IF(OR(競技者一覧!K216=0, ISERROR(競技者一覧!K216)), \"\", 競技者一覧!K216)","v":""},{"$f":"IF(OR(競技者一覧!L216=0, ISERROR(競技者一覧!L216)), \"\", 競技者一覧!L216)","v":""},{"$f":"IF(OR(競技者一覧!M216=0, ISERROR(競技者一覧!M216)), \"\", 競技者一覧!M216)","v":""},{"$f":"IF(OR(競技者一覧!N216=0, ISERROR(競技者一覧!N216)), \"\", 競技者一覧!N216)","v":""},{"$f":"IF(OR(競技者一覧!O216=0, ISERROR(競技者一覧!O216)), \"\", 競技者一覧!O216)","v":""},{"$f":"IF(OR(競技者一覧!P216=0, ISERROR(競技者一覧!P216)), \"\", 競技者一覧!P216)","v":""},{"$f":"IF(OR(競技者一覧!Q216=0, ISERROR(競技者一覧!Q216)), \"\", 競技者一覧!Q216)","v":""},{"$f":"IF(OR(競技者一覧!R216=0, ISERROR(競技者一覧!R216)), \"\", 競技者一覧!R216)","v":""},{"$f":"IF(OR(競技者一覧!S216=0, ISERROR(競技者一覧!S216)), \"\", 競技者一覧!S216)","v":""},{"$f":"IF(OR(競技者一覧!T216=0, ISERROR(競技者一覧!T216)), \"\", 競技者一覧!T216)","v":""},195]
[{"$f":"団体CSV!C197","v":""},{"$f":"団体CSV!D197","v":""},{"$f":"団体CSV!E197","v":" "},{"$f":"IFERROR(VLOOKUP(競技者一覧!I217,Sheet4!$J$2:$K$3,2,FALSE),\"\")","v":""},{"$f":"IF(OR(競技者一覧!J217=0, ISERROR(競技者一覧!J217)), \"\", 競技者一覧!J217)","v":""},{"$f":"IF(OR(競技者一覧!K217=0, ISERROR(競技者一覧!K217)), \"\", 競技者一覧!K217)","v":""},{"$f":"IF(OR(競技者一覧!L217=0, ISERROR(競技者一覧!L217)), \"\", 競技者一覧!L217)","v":""},{"$f":"IF(OR(競技者一覧!M217=0, ISERROR(競技者一覧!M217)), \"\", 競技者一覧!M217)","v":""},{"$f":"IF(OR(競技者一覧!N217=0, ISERROR(競技者一覧!N217)), \"\", 競技者一覧!N217)","v":""},{"$f":"IF(OR(競技者一覧!O217=0, ISERROR(競技者一覧!O217)), \"\", 競技者一覧!O217)","v":""},{"$f":"IF(OR(競技者一覧!P217=0, ISERROR(競技者一覧!P217)), \"\", 競技者一覧!P217)","v":""},{"$f":"IF(OR(競技者一覧!Q217=0, ISERROR(競技者一覧!Q217)), \"\", 競技者一覧!Q217)","v":""},{"$f":"IF(OR(競技者一覧!R217=0, ISERROR(競技者一覧!R217)), \"\", 競技者一覧!R217)","v":""},{"$f":"IF(OR(競技者一覧!S217=0, ISERROR(競技者一覧!S217)), \"\", 競技者一覧!S217)","v":""},{"$f":"IF(OR(競技者一覧!T217=0, ISERROR(競技者一覧!T217)), \"\", 競技者一覧!T217)","v":""},196]
[{"$f":"団体CSV!C198","v":""},{"$f":"団体CSV!D198","v":""},{"$f":"団体CSV!E198","v":" "},{"$f":"IFERROR(VLOOKUP(競技者一覧!I218,Sheet4!$J$2:$K$3,2,FALSE),\"\")","v":""},{"$f":"IF(OR(競技者一覧!J218=0, ISERROR(競技者一覧!J218)), \"\", 競技者一覧!J218)","v":""},{"$f":"IF(OR(競技者一覧!K218=0, ISERROR(競技者一覧!K218)), \"\", 競技者一覧!K218)","v":""},{"$f":"IF(OR(競技者一覧!L218=0, ISERROR(競技者一覧!L218)), \"\", 競技者一覧!L218)","v":""},{"$f":"IF(OR(競技者一覧!M218=0, ISERROR(競技者一覧!M218)), \"\", 競技者一覧!M218)","v":""},{"$f":"IF(OR(競技者一覧!N218=0, ISERROR(競技者一覧!N218)), \"\", 競技者一覧!N218)","v":""},{"$f":"IF(OR(競技者一覧!O218=0, ISERROR(競技者一覧!O218)), \"\", 競技者一覧!O218)","v":""},{"$f":"IF(OR(競技者一覧!P218=0, ISERROR(競技者一覧!P218)), \"\", 競技者一覧!P218)","v":""},{"$f":"IF(OR(競技者一覧!Q218=0, ISERROR(競技者一覧!Q218)), \"\", 競技者一覧!Q218)","v":""},{"$f":"IF(OR(競技者一覧!R218=0, ISERROR(競技者一覧!R218)), \"\", 競技者一覧!R218)","v":""},{"$f":"IF(OR(競技者一覧!S218=0, ISERROR(競技者一覧!S218)), \"\", 競技者一覧!S218)","v":""},{"$f":"IF(OR(競技者一覧!T218=0, ISERROR(競技者一覧!T218)), \"\", 競技者一覧!T218)","v":""},197]
[{"$f":"団体CSV!C199","v":""},{"$f":"団体CSV!D199","v":""},{"$f":"団体CSV!E199","v":" "},{"$f":"IFERROR(VLOOKUP(競技者一覧!I219,Sheet4!$J$2:$K$3,2,FALSE),\"\")","v":""},{"$f":"IF(OR(競技者一覧!J219=0, ISERROR(競技者一覧!J219)), \"\", 競技者一覧!J219)","v":""},{"$f":"IF(OR(競技者一覧!K219=0, ISERROR(競技者一覧!K219)), \"\", 競技者一覧!K219)","v":""},{"$f":"IF(OR(競技者一覧!L219=0, ISERROR(競技者一覧!L219)), \"\", 競技者一覧!L219)","v":""},{"$f":"IF(OR(競技者一覧!M219=0, ISERROR(競技者一覧!M219)), \"\", 競技者一覧!M219)","v":""},{"$f":"IF(OR(競技者一覧!N219=0, ISERROR(競技者一覧!N219)), \"\", 競技者一覧!N219)","v":""},{"$f":"IF(OR(競技者一覧!O219=0, ISERROR(競技者一覧!O219)), \"\", 競技者一覧!O219)","v":""},{"$f":"IF(OR(競技者一覧!P219=0, ISERROR(競技者一覧!P219)), \"\", 競技者一覧!P219)","v":""},{"$f":"IF(OR(競技者一覧!Q219=0, ISERROR(競技者一覧!Q219)), \"\", 競技者一覧!Q219)","v":""},{"$f":"IF(OR(競技者一覧!R219=0, ISERROR(競技者一覧!R219)), \"\", 競技者一覧!R219)","v":""},{"$f":"IF(OR(競技者一覧!S219=0, ISERROR(競技者一覧!S219)), \"\", 競技者一覧!S219)","v":""},{"$f":"IF(OR(競技者一覧!T219=0, ISERROR(競技者一覧!T219)), \"\", 競技者一覧!T219)","v":""},198]
[{"$f":"団体CSV!C200","v":""},{"$f":"団体CSV!D200","v":""},{"$f":"団体CSV!E200","v":" "},{"$f":"IFERROR(VLOOKUP(競技者一覧!I220,Sheet4!$J$2:$K$3,2,FALSE),\"\")","v":""},{"$f":"IF(OR(競技者一覧!J220=0, ISERROR(競技者一覧!J220)), \"\", 競技者一覧!J220)","v":""},{"$f":"IF(OR(競技者一覧!K220=0, ISERROR(競技者一覧!K220)), \"\", 競技者一覧!K220)","v":""},{"$f":"IF(OR(競技者一覧!L220=0, ISERROR(競技者一覧!L220)), \"\", 競技者一覧!L220)","v":""},{"$f":"IF(OR(競技者一覧!M220=0, ISERROR(競技者一覧!M220)), \"\", 競技者一覧!M220)","v":""},{"$f":"IF(OR(競技者一覧!N220=0, ISERROR(競技者一覧!N220)), \"\", 競技者一覧!N220)","v":""},{"$f":"IF(OR(競技者一覧!O220=0, ISERROR(競技者一覧!O220)), \"\", 競技者一覧!O220)","v":""},{"$f":"IF(OR(競技者一覧!P220=0, ISERROR(競技者一覧!P220)), \"\", 競技者一覧!P220)","v":""},{"$f":"IF(OR(競技者一覧!Q220=0, ISERROR(競技者一覧!Q220)), \"\", 競技者一覧!Q220)","v":""},{"$f":"IF(OR(競技者一覧!R220=0, ISERROR(競技者一覧!R220)), \"\", 競技者一覧!R220)","v":""},{"$f":"IF(OR(競技者一覧!S220=0, ISERROR(競技者一覧!S220)), \"\", 競技者一覧!S220)","v":""},{"$f":"IF(OR(競技者一覧!T220=0, ISERROR(競技者一覧!T220)), \"\", 競技者一覧!T220)","v":""},199]
[{"$f":"団体CSV!C201","v":""},{"$f":"団体CSV!D201","v":""},{"$f":"団体CSV!E201","v":" "},{"$f":"IFERROR(VLOOKUP(競技者一覧!I221,Sheet4!$J$2:$K$3,2,FALSE),\"\")","v":""},{"$f":"IF(OR(競技者一覧!J221=0, ISERROR(競技者一覧!J221)), \"\", 競技者一覧!J221)","v":""},{"$f":"IF(OR(競技者一覧!K221=0, ISERROR(競技者一覧!K221)), \"\", 競技者一覧!K221)","v":""},{"$f":"IF(OR(競技者一覧!L221=0, ISERROR(競技者一覧!L221)), \"\", 競技者一覧!L221)","v":""},{"$f":"IF(OR(競技者一覧!M221=0, ISERROR(競技者一覧!M221)), \"\", 競技者一覧!M221)","v":""},{"$f":"IF(OR(競技者一覧!N221=0, ISERROR(競技者一覧!N221)), \"\", 競技者一覧!N221)","v":""},{"$f":"IF(OR(競技者一覧!O221=0, ISERROR(競技者一覧!O221)), \"\", 競技者一覧!O221)","v":""},{"$f":"IF(OR(競技者一覧!P221=0, ISERROR(競技者一覧!P221)), \"\", 競技者一覧!P221)","v":""},{"$f":"IF(OR(競技者一覧!Q221=0, ISERROR(競技者一覧!Q221)), \"\", 競技者一覧!Q221)","v":""},{"$f":"IF(OR(競技者一覧!R221=0, ISERROR(競技者一覧!R221)), \"\", 競技者一覧!R221)","v":""},{"$f":"IF(OR(競技者一覧!S221=0, ISERROR(競技者一覧!S221)), \"\", 競技者一覧!S221)","v":""},{"$f":"IF(OR(競技者一覧!T221=0, ISERROR(競技者一覧!T221)), \"\", 競技者一覧!T221)","v":""},200]
[{"$f":"団体CSV!C202","v":""},{"$f":"団体CSV!D202","v":""},{"$f":"団体CSV!E202","v":" "},{"$f":"IFERROR(VLOOKUP(競技者一覧!I222,Sheet4!$J$2:$K$3,2,FALSE),\"\")","v":""},{"$f":"IF(OR(競技者一覧!J222=0, ISERROR(競技者一覧!J222)), \"\", 競技者一覧!J222)","v":""},{"$f":"IF(OR(競技者一覧!K222=0, ISERROR(競技者一覧!K222)), \"\", 競技者一覧!K222)","v":""},{"$f":"IF(OR(競技者一覧!L222=0, ISERROR(競技者一覧!L222)), \"\", 競技者一覧!L222)","v":""},{"$f":"IF(OR(競技者一覧!M222=0, ISERROR(競技者一覧!M222)), \"\", 競技者一覧!M222)","v":""},{"$f":"IF(OR(競技者一覧!N222=0, ISERROR(競技者一覧!N222)), \"\", 競技者一覧!N222)","v":""},{"$f":"IF(OR(競技者一覧!O222=0, ISERROR(競技者一覧!O222)), \"\", 競技者一覧!O222)","v":""},{"$f":"IF(OR(競技者一覧!P222=0, ISERROR(競技者一覧!P222)), \"\", 競技者一覧!P222)","v":""},{"$f":"IF(OR(競技者一覧!Q222=0, ISERROR(競技者一覧!Q222)), \"\", 競技者一覧!Q222)","v":""},{"$f":"IF(OR(競技者一覧!R222=0, ISERROR(競技者一覧!R222)), \"\", 競技者一覧!R222)","v":""},{"$f":"IF(OR(競技者一覧!S222=0, ISERROR(競技者一覧!S222)), \"\", 競技者一覧!S222)","v":""},{"$f":"IF(OR(競技者一覧!T222=0, ISERROR(競技者一覧!T222)), \"\", 競技者一覧!T222)","v":""},201]
[{"$f":"団体CSV!C203","v":""},{"$f":"団体CSV!D203","v":""},{"$f":"団体CSV!E203","v":" "},{"$f":"IFERROR(VLOOKUP(競技者一覧!I223,Sheet4!$J$2:$K$3,2,FALSE),\"\")","v":""},{"$f":"IF(OR(競技者一覧!J223=0, ISERROR(競技者一覧!J223)), \"\", 競技者一覧!J223)","v":""},{"$f":"IF(OR(競技者一覧!K223=0, ISERROR(競技者一覧!K223)), \"\", 競技者一覧!K223)","v":""},{"$f":"IF(OR(競技者一覧!L223=0, ISERROR(競技者一覧!L223)), \"\", 競技者一覧!L223)","v":""},{"$f":"IF(OR(競技者一覧!M223=0, ISERROR(競技者一覧!M223)), \"\", 競技者一覧!M223)","v":""},{"$f":"IF(OR(競技者一覧!N223=0, ISERROR(競技者一覧!N223)), \"\", 競技者一覧!N223)","v":""},{"$f":"IF(OR(競技者一覧!O223=0, ISERROR(競技者一覧!O223)), \"\", 競技者一覧!O223)","v":""},{"$f":"IF(OR(競技者一覧!P223=0, ISERROR(競技者一覧!P223)), \"\", 競技者一覧!P223)","v":""},{"$f":"IF(OR(競技者一覧!Q223=0, ISERROR(競技者一覧!Q223)), \"\", 競技者一覧!Q223)","v":""},{"$f":"IF(OR(競技者一覧!R223=0, ISERROR(競技者一覧!R223)), \"\", 競技者一覧!R223)","v":""},{"$f":"IF(OR(競技者一覧!S223=0, ISERROR(競技者一覧!S223)), \"\", 競技者一覧!S223)","v":""},{"$f":"IF(OR(競技者一覧!T223=0, ISERROR(競技者一覧!T223)), \"\", 競技者一覧!T223)","v":""},202]
[{"$f":"団体CSV!C204","v":""},{"$f":"団体CSV!D204","v":""},{"$f":"団体CSV!E204","v":" "},{"$f":"IFERROR(VLOOKUP(競技者一覧!I224,Sheet4!$J$2:$K$3,2,FALSE),\"\")","v":""},{"$f":"IF(OR(競技者一覧!J224=0, ISERROR(競技者一覧!J224)), \"\", 競技者一覧!J224)","v":""},{"$f":"IF(OR(競技者一覧!K224=0, ISERROR(競技者一覧!K224)), \"\", 競技者一覧!K224)","v":""},{"$f":"IF(OR(競技者一覧!L224=0, ISERROR(競技者一覧!L224)), \"\", 競技者一覧!L224)","v":""},{"$f":"IF(OR(競技者一覧!M224=0, ISERROR(競技者一覧!M224)), \"\", 競技者一覧!M224)","v":""},{"$f":"IF(OR(競技者一覧!N224=0, ISERROR(競技者一覧!N224)), \"\", 競技者一覧!N224)","v":""},{"$f":"IF(OR(競技者一覧!O224=0, ISERROR(競技者一覧!O224)), \"\", 競技者一覧!O224)","v":""},{"$f":"IF(OR(競技者一覧!P224=0, ISERROR(競技者一覧!P224)), \"\", 競技者一覧!P224)","v":""},{"$f":"IF(OR(競技者一覧!Q224=0, ISERROR(競技者一覧!Q224)), \"\", 競技者一覧!Q224)","v":""},{"$f":"IF(OR(競技者一覧!R224=0, ISERROR(競技者一覧!R224)), \"\", 競技者一覧!R224)","v":""},{"$f":"IF(OR(競技者一覧!S224=0, ISERROR(競技者一覧!S224)), \"\", 競技者一覧!S224)","v":""},{"$f":"IF(OR(競技者一覧!T224=0, ISERROR(競技者一覧!T224)), \"\", 競技者一覧!T224)","v":""},203]
[{"$f":"団体CSV!C205","v":""},{"$f":"団体CSV!D205","v":""},{"$f":"団体CSV!E205","v":" "},{"$f":"IFERROR(VLOOKUP(競技者一覧!I225,Sheet4!$J$2:$K$3,2,FALSE),\"\")","v":""},{"$f":"IF(OR(競技者一覧!J225=0, ISERROR(競技者一覧!J225)), \"\", 競技者一覧!J225)","v":""},{"$f":"IF(OR(競技者一覧!K225=0, ISERROR(競技者一覧!K225)), \"\", 競技者一覧!K225)","v":""},{"$f":"IF(OR(競技者一覧!L225=0, ISERROR(競技者一覧!L225)), \"\", 競技者一覧!L225)","v":""},{"$f":"IF(OR(競技者一覧!M225=0, ISERROR(競技者一覧!M225)), \"\", 競技者一覧!M225)","v":""},{"$f":"IF(OR(競技者一覧!N225=0, ISERROR(競技者一覧!N225)), \"\", 競技者一覧!N225)","v":""},{"$f":"IF(OR(競技者一覧!O225=0, ISERROR(競技者一覧!O225)), \"\", 競技者一覧!O225)","v":""},{"$f":"IF(OR(競技者一覧!P225=0, ISERROR(競技者一覧!P225)), \"\", 競技者一覧!P225)","v":""},{"$f":"IF(OR(競技者一覧!Q225=0, ISERROR(競技者一覧!Q225)), \"\", 競技者一覧!Q225)","v":""},{"$f":"IF(OR(競技者一覧!R225=0, ISERROR(競技者一覧!R225)), \"\", 競技者一覧!R225)","v":""},{"$f":"IF(OR(競技者一覧!S225=0, ISERROR(競技者一覧!S225)), \"\", 競技者一覧!S225)","v":""},{"$f":"IF(OR(競技者一覧!T225=0, ISERROR(競技者一覧!T225)), \"\", 競技者一覧!T225)","v":""},204]
[{"$f":"団体CSV!C206","v":""},{"$f":"団体CSV!D206","v":""},{"$f":"団体CSV!E206","v":" "},{"$f":"IFERROR(VLOOKUP(競技者一覧!I226,Sheet4!$J$2:$K$3,2,FALSE),\"\")","v":""},{"$f":"IF(OR(競技者一覧!J226=0, ISERROR(競技者一覧!J226)), \"\", 競技者一覧!J226)","v":""},{"$f":"IF(OR(競技者一覧!K226=0, ISERROR(競技者一覧!K226)), \"\", 競技者一覧!K226)","v":""},{"$f":"IF(OR(競技者一覧!L226=0, ISERROR(競技者一覧!L226)), \"\", 競技者一覧!L226)","v":""},{"$f":"IF(OR(競技者一覧!M226=0, ISERROR(競技者一覧!M226)), \"\", 競技者一覧!M226)","v":""},{"$f":"IF(OR(競技者一覧!N226=0, ISERROR(競技者一覧!N226)), \"\", 競技者一覧!N226)","v":""},{"$f":"IF(OR(競技者一覧!O226=0, ISERROR(競技者一覧!O226)), \"\", 競技者一覧!O226)","v":""},{"$f":"IF(OR(競技者一覧!P226=0, ISERROR(競技者一覧!P226)), \"\", 競技者一覧!P226)","v":""},{"$f":"IF(OR(競技者一覧!Q226=0, ISERROR(競技者一覧!Q226)), \"\", 競技者一覧!Q226)","v":""},{"$f":"IF(OR(競技者一覧!R226=0, ISERROR(競技者一覧!R226)), \"\", 競技者一覧!R226)","v":""},{"$f":"IF(OR(競技者一覧!S226=0, ISERROR(競技者一覧!S226)), \"\", 競技者一覧!S226)","v":""},{"$f":"IF(OR(競技者一覧!T226=0, ISERROR(競技者一覧!T226)), \"\", 競技者一覧!T226)","v":""},205]
[{"$f":"団体CSV!C207","v":""},{"$f":"団体CSV!D207","v":""},{"$f":"団体CSV!E207","v":" "},{"$f":"IFERROR(VLOOKUP(競技者一覧!I227,Sheet4!$J$2:$K$3,2,FALSE),\"\")","v":""},{"$f":"IF(OR(競技者一覧!J227=0, ISERROR(競技者一覧!J227)), \"\", 競技者一覧!J227)","v":""},{"$f":"IF(OR(競技者一覧!K227=0, ISERROR(競技者一覧!K227)), \"\", 競技者一覧!K227)","v":""},{"$f":"IF(OR(競技者一覧!L227=0, ISERROR(競技者一覧!L227)), \"\", 競技者一覧!L227)","v":""},{"$f":"IF(OR(競技者一覧!M227=0, ISERROR(競技者一覧!M227)), \"\", 競技者一覧!M227)","v":""},{"$f":"IF(OR(競技者一覧!N227=0, ISERROR(競技者一覧!N227)), \"\", 競技者一覧!N227)","v":""},{"$f":"IF(OR(競技者一覧!O227=0, ISERROR(競技者一覧!O227)), \"\", 競技者一覧!O227)","v":""},{"$f":"IF(OR(競技者一覧!P227=0, ISERROR(競技者一覧!P227)), \"\", 競技者一覧!P227)","v":""},{"$f":"IF(OR(競技者一覧!Q227=0, ISERROR(競技者一覧!Q227)), \"\", 競技者一覧!Q227)","v":""},{"$f":"IF(OR(競技者一覧!R227=0, ISERROR(競技者一覧!R227)), \"\", 競技者一覧!R227)","v":""},{"$f":"IF(OR(競技者一覧!S227=0, ISERROR(競技者一覧!S227)), \"\", 競技者一覧!S227)","v":""},{"$f":"IF(OR(競技者一覧!T227=0, ISERROR(競技者一覧!T227)), \"\", 競技者一覧!T227)","v":""},206]
[{"$f":"団体CSV!C208","v":""},{"$f":"団体CSV!D208","v":""},{"$f":"団体CSV!E208","v":" "},{"$f":"IFERROR(VLOOKUP(競技者一覧!I228,Sheet4!$J$2:$K$3,2,FALSE),\"\")","v":""},{"$f":"IF(OR(競技者一覧!J228=0, ISERROR(競技者一覧!J228)), \"\", 競技者一覧!J228)","v":""},{"$f":"IF(OR(競技者一覧!K228=0, ISERROR(競技者一覧!K228)), \"\", 競技者一覧!K228)","v":""},{"$f":"IF(OR(競技者一覧!L228=0, ISERROR(競技者一覧!L228)), \"\", 競技者一覧!L228)","v":""},{"$f":"IF(OR(競技者一覧!M228=0, ISERROR(競技者一覧!M228)), \"\", 競技者一覧!M228)","v":""},{"$f":"IF(OR(競技者一覧!N228=0, ISERROR(競技者一覧!N228)), \"\", 競技者一覧!N228)","v":""},{"$f":"IF(OR(競技者一覧!O228=0, ISERROR(競技者一覧!O228)), \"\", 競技者一覧!O228)","v":""},{"$f":"IF(OR(競技者一覧!P228=0, ISERROR(競技者一覧!P228)), \"\", 競技者一覧!P228)","v":""},{"$f":"IF(OR(競技者一覧!Q228=0, ISERROR(競技者一覧!Q228)), \"\", 競技者一覧!Q228)","v":""},{"$f":"IF(OR(競技者一覧!R228=0, ISERROR(競技者一覧!R228)), \"\", 競技者一覧!R228)","v":""},{"$f":"IF(OR(競技者一覧!S228=0, ISERROR(競技者一覧!S228)), \"\", 競技者一覧!S228)","v":""},{"$f":"IF(OR(競技者一覧!T228=0, ISERROR(競技者一覧!T228)), \"\", 競技者一覧!T228)","v":""},207]
[{"$f":"団体CSV!C209","v":""},{"$f":"団体CSV!D209","v":""},{"$f":"団体CSV!E209","v":" "},{"$f":"IFERROR(VLOOKUP(競技者一覧!I229,Sheet4!$J$2:$K$3,2,FALSE),\"\")","v":""},{"$f":"IF(OR(競技者一覧!J229=0, ISERROR(競技者一覧!J229)), \"\", 競技者一覧!J229)","v":""},{"$f":"IF(OR(競技者一覧!K229=0, ISERROR(競技者一覧!K229)), \"\", 競技者一覧!K229)","v":""},{"$f":"IF(OR(競技者一覧!L229=0, ISERROR(競技者一覧!L229)), \"\", 競技者一覧!L229)","v":""},{"$f":"IF(OR(競技者一覧!M229=0, ISERROR(競技者一覧!M229)), \"\", 競技者一覧!M229)","v":""},{"$f":"IF(OR(競技者一覧!N229=0, ISERROR(競技者一覧!N229)), \"\", 競技者一覧!N229)","v":""},{"$f":"IF(OR(競技者一覧!O229=0, ISERROR(競技者一覧!O229)), \"\", 競技者一覧!O229)","v":""},{"$f":"IF(OR(競技者一覧!P229=0, ISERROR(競技者一覧!P229)), \"\", 競技者一覧!P229)","v":""},{"$f":"IF(OR(競技者一覧!Q229=0, ISERROR(競技者一覧!Q229)), \"\", 競技者一覧!Q229)","v":""},{"$f":"IF(OR(競技者一覧!R229=0, ISERROR(競技者一覧!R229)), \"\", 競技者一覧!R229)","v":""},{"$f":"IF(OR(競技者一覧!S229=0, ISERROR(競技者一覧!S229)), \"\", 競技者一覧!S229)","v":""},{"$f":"IF(OR(競技者一覧!T229=0, ISERROR(競技者一覧!T229)), \"\", 競技者一覧!T229)","v":""},208]
[{"$f":"団体CSV!C210","v":""},{"$f":"団体CSV!D210","v":""},{"$f":"団体CSV!E210","v":" "},{"$f":"IFERROR(VLOOKUP(競技者一覧!I230,Sheet4!$J$2:$K$3,2,FALSE),\"\")","v":""},{"$f":"IF(OR(競技者一覧!J230=0, ISERROR(競技者一覧!J230)), \"\", 競技者一覧!J230)","v":""},{"$f":"IF(OR(競技者一覧!K230=0, ISERROR(競技者一覧!K230)), \"\", 競技者一覧!K230)","v":""},{"$f":"IF(OR(競技者一覧!L230=0, ISERROR(競技者一覧!L230)), \"\", 競技者一覧!L230)","v":""},{"$f":"IF(OR(競技者一覧!M230=0, ISERROR(競技者一覧!M230)), \"\", 競技者一覧!M230)","v":""},{"$f":"IF(OR(競技者一覧!N230=0, ISERROR(競技者一覧!N230)), \"\", 競技者一覧!N230)","v":""},{"$f":"IF(OR(競技者一覧!O230=0, ISERROR(競技者一覧!O230)), \"\", 競技者一覧!O230)","v":""},{"$f":"IF(OR(競技者一覧!P230=0, ISERROR(競技者一覧!P230)), \"\", 競技者一覧!P230)","v":""},{"$f":"IF(OR(競技者一覧!Q230=0, ISERROR(競技者一覧!Q230)), \"\", 競技者一覧!Q230)","v":""},{"$f":"IF(OR(競技者一覧!R230=0, ISERROR(競技者一覧!R230)), \"\", 競技者一覧!R230)","v":""},{"$f":"IF(OR(競技者一覧!S230=0, ISERROR(競技者一覧!S230)), \"\", 競技者一覧!S230)","v":""},{"$f":"IF(OR(競技者一覧!T230=0, ISERROR(競技者一覧!T230)), \"\", 競技者一覧!T230)","v":""},209]
[{"$f":"団体CSV!C211","v":""},{"$f":"団体CSV!D211","v":""},{"$f":"団体CSV!E211","v":" "},{"$f":"IFERROR(VLOOKUP(競技者一覧!I231,Sheet4!$J$2:$K$3,2,FALSE),\"\")","v":""},{"$f":"IF(OR(競技者一覧!J231=0, ISERROR(競技者一覧!J231)), \"\", 競技者一覧!J231)","v":""},{"$f":"IF(OR(競技者一覧!K231=0, ISERROR(競技者一覧!K231)), \"\", 競技者一覧!K231)","v":""},{"$f":"IF(OR(競技者一覧!L231=0, ISERROR(競技者一覧!L231)), \"\", 競技者一覧!L231)","v":""},{"$f":"IF(OR(競技者一覧!M231=0, ISERROR(競技者一覧!M231)), \"\", 競技者一覧!M231)","v":""},{"$f":"IF(OR(競技者一覧!N231=0, ISERROR(競技者一覧!N231)), \"\", 競技者一覧!N231)","v":""},{"$f":"IF(OR(競技者一覧!O231=0, ISERROR(競技者一覧!O231)), \"\", 競技者一覧!O231)","v":""},{"$f":"IF(OR(競技者一覧!P231=0, ISERROR(競技者一覧!P231)), \"\", 競技者一覧!P231)","v":""},{"$f":"IF(OR(競技者一覧!Q231=0, ISERROR(競技者一覧!Q231)), \"\", 競技者一覧!Q231)","v":""},{"$f":"IF(OR(競技者一覧!R231=0, ISERROR(競技者一覧!R231)), \"\", 競技者一覧!R231)","v":""},{"$f":"IF(OR(競技者一覧!S231=0, ISERROR(競技者一覧!S231)), \"\", 競技者一覧!S231)","v":""},{"$f":"IF(OR(競技者一覧!T231=0, ISERROR(競技者一覧!T231)), \"\", 競技者一覧!T231)","v":""},210]
[{"$f":"団体CSV!C212","v":""},{"$f":"団体CSV!D212","v":""},{"$f":"団体CSV!E212","v":" "},{"$f":"IFERROR(VLOOKUP(競技者一覧!I232,Sheet4!$J$2:$K$3,2,FALSE),\"\")","v":""},{"$f":"IF(OR(競技者一覧!J232=0, ISERROR(競技者一覧!J232)), \"\", 競技者一覧!J232)","v":""},{"$f":"IF(OR(競技者一覧!K232=0, ISERROR(競技者一覧!K232)), \"\", 競技者一覧!K232)","v":""},{"$f":"IF(OR(競技者一覧!L232=0, ISERROR(競技者一覧!L232)), \"\", 競技者一覧!L232)","v":""},{"$f":"IF(OR(競技者一覧!M232=0, ISERROR(競技者一覧!M232)), \"\", 競技者一覧!M232)","v":""},{"$f":"IF(OR(競技者一覧!N232=0, ISERROR(競技者一覧!N232)), \"\", 競技者一覧!N232)","v":""},{"$f":"IF(OR(競技者一覧!O232=0, ISERROR(競技者一覧!O232)), \"\", 競技者一覧!O232)","v":""},{"$f":"IF(OR(競技者一覧!P232=0, ISERROR(競技者一覧!P232)), \"\", 競技者一覧!P232)","v":""},{"$f":"IF(OR(競技者一覧!Q232=0, ISERROR(競技者一覧!Q232)), \"\", 競技者一覧!Q232)","v":""},{"$f":"IF(OR(競技者一覧!R232=0, ISERROR(競技者一覧!R232)), \"\", 競技者一覧!R232)","v":""},{"$f":"IF(OR(競技者一覧!S232=0, ISERROR(競技者一覧!S232)), \"\", 競技者一覧!S232)","v":""},{"$f":"IF(OR(競技者一覧!T232=0, ISERROR(競技者一覧!T232)), \"\", 競技者一覧!T232)","v":""},211]
[{"$f":"団体CSV!C213","v":""},{"$f":"団体CSV!D213","v":""},{"$f":"団体CSV!E213","v":" "},{"$f":"IFERROR(VLOOKUP(競技者一覧!I233,Sheet4!$J$2:$K$3,2,FALSE),\"\")","v":""},{"$f":"IF(OR(競技者一覧!J233=0, ISERROR(競技者一覧!J233)), \"\", 競技者一覧!J233)","v":""},{"$f":"IF(OR(競技者一覧!K233=0, ISERROR(競技者一覧!K233)), \"\", 競技者一覧!K233)","v":""},{"$f":"IF(OR(競技者一覧!L233=0, ISERROR(競技者一覧!L233)), \"\", 競技者一覧!L233)","v":""},{"$f":"IF(OR(競技者一覧!M233=0, ISERROR(競技者一覧!M233)), \"\", 競技者一覧!M233)","v":""},{"$f":"IF(OR(競技者一覧!N233=0, ISERROR(競技者一覧!N233)), \"\", 競技者一覧!N233)","v":""},{"$f":"IF(OR(競技者一覧!O233=0, ISERROR(競技者一覧!O233)), \"\", 競技者一覧!O233)","v":""},{"$f":"IF(OR(競技者一覧!P233=0, ISERROR(競技者一覧!P233)), \"\", 競技者一覧!P233)","v":""},{"$f":"IF(OR(競技者一覧!Q233=0, ISERROR(競技者一覧!Q233)), \"\", 競技者一覧!Q233)","v":""},{"$f":"IF(OR(競技者一覧!R233=0, ISERROR(競技者一覧!R233)), \"\", 競技者一覧!R233)","v":""},{"$f":"IF(OR(競技者一覧!S233=0, ISERROR(競技者一覧!S233)), \"\", 競技者一覧!S233)","v":""},{"$f":"IF(OR(競技者一覧!T233=0, ISERROR(競技者一覧!T233)), \"\", 競技者一覧!T233)","v":""},212]
[{"$f":"団体CSV!C214","v":""},{"$f":"団体CSV!D214","v":""},{"$f":"団体CSV!E214","v":" "},{"$f":"IFERROR(VLOOKUP(競技者一覧!I234,Sheet4!$J$2:$K$3,2,FALSE),\"\")","v":""},{"$f":"IF(OR(競技者一覧!J234=0, ISERROR(競技者一覧!J234)), \"\", 競技者一覧!J234)","v":""},{"$f":"IF(OR(競技者一覧!K234=0, ISERROR(競技者一覧!K234)), \"\", 競技者一覧!K234)","v":""},{"$f":"IF(OR(競技者一覧!L234=0, ISERROR(競技者一覧!L234)), \"\", 競技者一覧!L234)","v":""},{"$f":"IF(OR(競技者一覧!M234=0, ISERROR(競技者一覧!M234)), \"\", 競技者一覧!M234)","v":""},{"$f":"IF(OR(競技者一覧!N234=0, ISERROR(競技者一覧!N234)), \"\", 競技者一覧!N234)","v":""},{"$f":"IF(OR(競技者一覧!O234=0, ISERROR(競技者一覧!O234)), \"\", 競技者一覧!O234)","v":""},{"$f":"IF(OR(競技者一覧!P234=0, ISERROR(競技者一覧!P234)), \"\", 競技者一覧!P234)","v":""},{"$f":"IF(OR(競技者一覧!Q234=0, ISERROR(競技者一覧!Q234)), \"\", 競技者一覧!Q234)","v":""},{"$f":"IF(OR(競技者一覧!R234=0, ISERROR(競技者一覧!R234)), \"\", 競技者一覧!R234)","v":""},{"$f":"IF(OR(競技者一覧!S234=0, ISERROR(競技者一覧!S234)), \"\", 競技者一覧!S234)","v":""},{"$f":"IF(OR(競技者一覧!T234=0, ISERROR(競技者一覧!T234)), \"\", 競技者一覧!T234)","v":""},213]
[{"$f":"団体CSV!C215","v":""},{"$f":"団体CSV!D215","v":""},{"$f":"団体CSV!E215","v":" "},{"$f":"IFERROR(VLOOKUP(競技者一覧!I235,Sheet4!$J$2:$K$3,2,FALSE),\"\")","v":""},{"$f":"IF(OR(競技者一覧!J235=0, ISERROR(競技者一覧!J235)), \"\", 競技者一覧!J235)","v":""},{"$f":"IF(OR(競技者一覧!K235=0, ISERROR(競技者一覧!K235)), \"\", 競技者一覧!K235)","v":""},{"$f":"IF(OR(競技者一覧!L235=0, ISERROR(競技者一覧!L235)), \"\", 競技者一覧!L235)","v":""},{"$f":"IF(OR(競技者一覧!M235=0, ISERROR(競技者一覧!M235)), \"\", 競技者一覧!M235)","v":""},{"$f":"IF(OR(競技者一覧!N235=0, ISERROR(競技者一覧!N235)), \"\", 競技者一覧!N235)","v":""},{"$f":"IF(OR(競技者一覧!O235=0, ISERROR(競技者一覧!O235)), \"\", 競技者一覧!O235)","v":""},{"$f":"IF(OR(競技者一覧!P235=0, ISERROR(競技者一覧!P235)), \"\", 競技者一覧!P235)","v":""},{"$f":"IF(OR(競技者一覧!Q235=0, ISERROR(競技者一覧!Q235)), \"\", 競技者一覧!Q235)","v":""},{"$f":"IF(OR(競技者一覧!R235=0, ISERROR(競技者一覧!R235)), \"\", 競技者一覧!R235)","v":""},{"$f":"IF(OR(競技者一覧!S235=0, ISERROR(競技者一覧!S235)), \"\", 競技者一覧!S235)","v":""},{"$f":"IF(OR(競技者一覧!T235=0, ISERROR(競技者一覧!T235)), \"\", 競技者一覧!T235)","v":""},214]
[{"$f":"団体CSV!C216","v":""},{"$f":"団体CSV!D216","v":""},{"$f":"団体CSV!E216","v":" "},{"$f":"IFERROR(VLOOKUP(競技者一覧!I236,Sheet4!$J$2:$K$3,2,FALSE),\"\")","v":""},{"$f":"IF(OR(競技者一覧!J236=0, ISERROR(競技者一覧!J236)), \"\", 競技者一覧!J236)","v":""},{"$f":"IF(OR(競技者一覧!K236=0, ISERROR(競技者一覧!K236)), \"\", 競技者一覧!K236)","v":""},{"$f":"IF(OR(競技者一覧!L236=0, ISERROR(競技者一覧!L236)), \"\", 競技者一覧!L236)","v":""},{"$f":"IF(OR(競技者一覧!M236=0, ISERROR(競技者一覧!M236)), \"\", 競技者一覧!M236)","v":""},{"$f":"IF(OR(競技者一覧!N236=0, ISERROR(競技者一覧!N236)), \"\", 競技者一覧!N236)","v":""},{"$f":"IF(OR(競技者一覧!O236=0, ISERROR(競技者一覧!O236)), \"\", 競技者一覧!O236)","v":""},{"$f":"IF(OR(競技者一覧!P236=0, ISERROR(競技者一覧!P236)), \"\", 競技者一覧!P236)","v":""},{"$f":"IF(OR(競技者一覧!Q236=0, ISERROR(競技者一覧!Q236)), \"\", 競技者一覧!Q236)","v":""},{"$f":"IF(OR(競技者一覧!R236=0, ISERROR(競技者一覧!R236)), \"\", 競技者一覧!R236)","v":""},{"$f":"IF(OR(競技者一覧!S236=0, ISERROR(競技者一覧!S236)), \"\", 競技者一覧!S236)","v":""},{"$f":"IF(OR(競技者一覧!T236=0, ISERROR(競技者一覧!T236)), \"\", 競技者一覧!T236)","v":""},215]
[{"$f":"団体CSV!C217","v":""},{"$f":"団体CSV!D217","v":""},{"$f":"団体CSV!E217","v":" "},{"$f":"IFERROR(VLOOKUP(競技者一覧!I237,Sheet4!$J$2:$K$3,2,FALSE),\"\")","v":""},{"$f":"IF(OR(競技者一覧!J237=0, ISERROR(競技者一覧!J237)), \"\", 競技者一覧!J237)","v":""},{"$f":"IF(OR(競技者一覧!K237=0, ISERROR(競技者一覧!K237)), \"\", 競技者一覧!K237)","v":""},{"$f":"IF(OR(競技者一覧!L237=0, ISERROR(競技者一覧!L237)), \"\", 競技者一覧!L237)","v":""},{"$f":"IF(OR(競技者一覧!M237=0, ISERROR(競技者一覧!M237)), \"\", 競技者一覧!M237)","v":""},{"$f":"IF(OR(競技者一覧!N237=0, ISERROR(競技者一覧!N237)), \"\", 競技者一覧!N237)","v":""},{"$f":"IF(OR(競技者一覧!O237=0, ISERROR(競技者一覧!O237)), \"\", 競技者一覧!O237)","v":""},{"$f":"IF(OR(競技者一覧!P237=0, ISERROR(競技者一覧!P237)), \"\", 競技者一覧!P237)","v":""},{"$f":"IF(OR(競技者一覧!Q237=0, ISERROR(競技者一覧!Q237)), \"\", 競技者一覧!Q237)","v":""},{"$f":"IF(OR(競技者一覧!R237=0, ISERROR(競技者一覧!R237)), \"\", 競技者一覧!R237)","v":""},{"$f":"IF(OR(競技者一覧!S237=0, ISERROR(競技者一覧!S237)), \"\", 競技者一覧!S237)","v":""},{"$f":"IF(OR(競技者一覧!T237=0, ISERROR(競技者一覧!T237)), \"\", 競技者一覧!T237)","v":""},216]
[{"$f":"団体CSV!C218","v":""},{"$f":"団体CSV!D218","v":""},{"$f":"団体CSV!E218","v":" "},{"$f":"IFERROR(VLOOKUP(競技者一覧!I238,Sheet4!$J$2:$K$3,2,FALSE),\"\")","v":""},{"$f":"IF(OR(競技者一覧!J238=0, ISERROR(競技者一覧!J238)), \"\", 競技者一覧!J238)","v":""},{"$f":"IF(OR(競技者一覧!K238=0, ISERROR(競技者一覧!K238)), \"\", 競技者一覧!K238)","v":""},{"$f":"IF(OR(競技者一覧!L238=0, ISERROR(競技者一覧!L238)), \"\", 競技者一覧!L238)","v":""},{"$f":"IF(OR(競技者一覧!M238=0, ISERROR(競技者一覧!M238)), \"\", 競技者一覧!M238)","v":""},{"$f":"IF(OR(競技者一覧!N238=0, ISERROR(競技者一覧!N238)), \"\", 競技者一覧!N238)","v":""},{"$f":"IF(OR(競技者一覧!O238=0, ISERROR(競技者一覧!O238)), \"\", 競技者一覧!O238)","v":""},{"$f":"IF(OR(競技者一覧!P238=0, ISERROR(競技者一覧!P238)), \"\", 競技者一覧!P238)","v":""},{"$f":"IF(OR(競技者一覧!Q238=0, ISERROR(競技者一覧!Q238)), \"\", 競技者一覧!Q238)","v":""},{"$f":"IF(OR(競技者一覧!R238=0, ISERROR(競技者一覧!R238)), \"\", 競技者一覧!R238)","v":""},{"$f":"IF(OR(競技者一覧!S238=0, ISERROR(競技者一覧!S238)), \"\", 競技者一覧!S238)","v":""},{"$f":"IF(OR(競技者一覧!T238=0, ISERROR(競技者一覧!T238)), \"\", 競技者一覧!T238)","v":""},217]
[{"$f":"団体CSV!C219","v":""},{"$f":"団体CSV!D219","v":""},{"$f":"団体CSV!E219","v":" "},{"$f":"IFERROR(VLOOKUP(競技者一覧!I239,Sheet4!$J$2:$K$3,2,FALSE),\"\")","v":""},{"$f":"IF(OR(競技者一覧!J239=0, ISERROR(競技者一覧!J239)), \"\", 競技者一覧!J239)","v":""},{"$f":"IF(OR(競技者一覧!K239=0, ISERROR(競技者一覧!K239)), \"\", 競技者一覧!K239)","v":""},{"$f":"IF(OR(競技者一覧!L239=0, ISERROR(競技者一覧!L239)), \"\", 競技者一覧!L239)","v":""},{"$f":"IF(OR(競技者一覧!M239=0, ISERROR(競技者一覧!M239)), \"\", 競技者一覧!M239)","v":""},{"$f":"IF(OR(競技者一覧!N239=0, ISERROR(競技者一覧!N239)), \"\", 競技者一覧!N239)","v":""},{"$f":"IF(OR(競技者一覧!O239=0, ISERROR(競技者一覧!O239)), \"\", 競技者一覧!O239)","v":""},{"$f":"IF(OR(競技者一覧!P239=0, ISERROR(競技者一覧!P239)), \"\", 競技者一覧!P239)","v":""},{"$f":"IF(OR(競技者一覧!Q239=0, ISERROR(競技者一覧!Q239)), \"\", 競技者一覧!Q239)","v":""},{"$f":"IF(OR(競技者一覧!R239=0, ISERROR(競技者一覧!R239)), \"\", 競技者一覧!R239)","v":""},{"$f":"IF(OR(競技者一覧!S239=0, ISERROR(競技者一覧!S239)), \"\", 競技者一覧!S239)","v":""},{"$f":"IF(OR(競技者一覧!T239=0, ISERROR(競技者一覧!T239)), \"\", 競技者一覧!T239)","v":""},218]
[{"$f":"団体CSV!C220","v":""},{"$f":"団体CSV!D220","v":""},{"$f":"団体CSV!E220","v":" "},{"$f":"IFERROR(VLOOKUP(競技者一覧!I240,Sheet4!$J$2:$K$3,2,FALSE),\"\")","v":""},{"$f":"IF(OR(競技者一覧!J240=0, ISERROR(競技者一覧!J240)), \"\", 競技者一覧!J240)","v":""},{"$f":"IF(OR(競技者一覧!K240=0, ISERROR(競技者一覧!K240)), \"\", 競技者一覧!K240)","v":""},{"$f":"IF(OR(競技者一覧!L240=0, ISERROR(競技者一覧!L240)), \"\", 競技者一覧!L240)","v":""},{"$f":"IF(OR(競技者一覧!M240=0, ISERROR(競技者一覧!M240)), \"\", 競技者一覧!M240)","v":""},{"$f":"IF(OR(競技者一覧!N240=0, ISERROR(競技者一覧!N240)), \"\", 競技者一覧!N240)","v":""},{"$f":"IF(OR(競技者一覧!O240=0, ISERROR(競技者一覧!O240)), \"\", 競技者一覧!O240)","v":""},{"$f":"IF(OR(競技者一覧!P240=0, ISERROR(競技者一覧!P240)), \"\", 競技者一覧!P240)","v":""},{"$f":"IF(OR(競技者一覧!Q240=0, ISERROR(競技者一覧!Q240)), \"\", 競技者一覧!Q240)","v":""},{"$f":"IF(OR(競技者一覧!R240=0, ISERROR(競技者一覧!R240)), \"\", 競技者一覧!R240)","v":""},{"$f":"IF(OR(競技者一覧!S240=0, ISERROR(競技者一覧!S240)), \"\", 競技者一覧!S240)","v":""},{"$f":"IF(OR(競技者一覧!T240=0, ISERROR(競技者一覧!T240)), \"\", 競技者一覧!T240)","v":""},219]
[{"$f":"団体CSV!C221","v":""},{"$f":"団体CSV!D221","v":""},{"$f":"団体CSV!E221","v":" "},{"$f":"IFERROR(VLOOKUP(競技者一覧!I241,Sheet4!$J$2:$K$3,2,FALSE),\"\")","v":""},{"$f":"IF(OR(競技者一覧!J241=0, ISERROR(競技者一覧!J241)), \"\", 競技者一覧!J241)","v":""},{"$f":"IF(OR(競技者一覧!K241=0, ISERROR(競技者一覧!K241)), \"\", 競技者一覧!K241)","v":""},{"$f":"IF(OR(競技者一覧!L241=0, ISERROR(競技者一覧!L241)), \"\", 競技者一覧!L241)","v":""},{"$f":"IF(OR(競技者一覧!M241=0, ISERROR(競技者一覧!M241)), \"\", 競技者一覧!M241)","v":""},{"$f":"IF(OR(競技者一覧!N241=0, ISERROR(競技者一覧!N241)), \"\", 競技者一覧!N241)","v":""},{"$f":"IF(OR(競技者一覧!O241=0, ISERROR(競技者一覧!O241)), \"\", 競技者一覧!O241)","v":""},{"$f":"IF(OR(競技者一覧!P241=0, ISERROR(競技者一覧!P241)), \"\", 競技者一覧!P241)","v":""},{"$f":"IF(OR(競技者一覧!Q241=0, ISERROR(競技者一覧!Q241)), \"\", 競技者一覧!Q241)","v":""},{"$f":"IF(OR(競技者一覧!R241=0, ISERROR(競技者一覧!R241)), \"\", 競技者一覧!R241)","v":""},{"$f":"IF(OR(競技者一覧!S241=0, ISERROR(競技者一覧!S241)), \"\", 競技者一覧!S241)","v":""},{"$f":"IF(OR(競技者一覧!T241=0, ISERROR(競技者一覧!T241)), \"\", 競技者一覧!T241)","v":""},220]
[{"$f":"団体CSV!C222","v":""},{"$f":"団体CSV!D222","v":""},{"$f":"団体CSV!E222","v":" "},{"$f":"IFERROR(VLOOKUP(競技者一覧!I242,Sheet4!$J$2:$K$3,2,FALSE),\"\")","v":""},{"$f":"IF(OR(競技者一覧!J242=0, ISERROR(競技者一覧!J242)), \"\", 競技者一覧!J242)","v":""},{"$f":"IF(OR(競技者一覧!K242=0, ISERROR(競技者一覧!K242)), \"\", 競技者一覧!K242)","v":""},{"$f":"IF(OR(競技者一覧!L242=0, ISERROR(競技者一覧!L242)), \"\", 競技者一覧!L242)","v":""},{"$f":"IF(OR(競技者一覧!M242=0, ISERROR(競技者一覧!M242)), \"\", 競技者一覧!M242)","v":""},{"$f":"IF(OR(競技者一覧!N242=0, ISERROR(競技者一覧!N242)), \"\", 競技者一覧!N242)","v":""},{"$f":"IF(OR(競技者一覧!O242=0, ISERROR(競技者一覧!O242)), \"\", 競技者一覧!O242)","v":""},{"$f":"IF(OR(競技者一覧!P242=0, ISERROR(競技者一覧!P242)), \"\", 競技者一覧!P242)","v":""},{"$f":"IF(OR(競技者一覧!Q242=0, ISERROR(競技者一覧!Q242)), \"\", 競技者一覧!Q242)","v":""},{"$f":"IF(OR(競技者一覧!R242=0, ISERROR(競技者一覧!R242)), \"\", 競技者一覧!R242)","v":""},{"$f":"IF(OR(競技者一覧!S242=0, ISERROR(競技者一覧!S242)), \"\", 競技者一覧!S242)","v":""},{"$f":"IF(OR(競技者一覧!T242=0, ISERROR(競技者一覧!T242)), \"\", 競技者一覧!T242)","v":""},221]
[{"$f":"団体CSV!C223","v":""},{"$f":"団体CSV!D223","v":""},{"$f":"団体CSV!E223","v":" "},{"$f":"IFERROR(VLOOKUP(競技者一覧!I243,Sheet4!$J$2:$K$3,2,FALSE),\"\")","v":""},{"$f":"IF(OR(競技者一覧!J243=0, ISERROR(競技者一覧!J243)), \"\", 競技者一覧!J243)","v":""},{"$f":"IF(OR(競技者一覧!K243=0, ISERROR(競技者一覧!K243)), \"\", 競技者一覧!K243)","v":""},{"$f":"IF(OR(競技者一覧!L243=0, ISERROR(競技者一覧!L243)), \"\", 競技者一覧!L243)","v":""},{"$f":"IF(OR(競技者一覧!M243=0, ISERROR(競技者一覧!M243)), \"\", 競技者一覧!M243)","v":""},{"$f":"IF(OR(競技者一覧!N243=0, ISERROR(競技者一覧!N243)), \"\", 競技者一覧!N243)","v":""},{"$f":"IF(OR(競技者一覧!O243=0, ISERROR(競技者一覧!O243)), \"\", 競技者一覧!O243)","v":""},{"$f":"IF(OR(競技者一覧!P243=0, ISERROR(競技者一覧!P243)), \"\", 競技者一覧!P243)","v":""},{"$f":"IF(OR(競技者一覧!Q243=0, ISERROR(競技者一覧!Q243)), \"\", 競技者一覧!Q243)","v":""},{"$f":"IF(OR(競技者一覧!R243=0, ISERROR(競技者一覧!R243)), \"\", 競技者一覧!R243)","v":""},{"$f":"IF(OR(競技者一覧!S243=0, ISERROR(競技者一覧!S243)), \"\", 競技者一覧!S243)","v":""},{"$f":"IF(OR(競技者一覧!T243=0, ISERROR(競技者一覧!T243)), \"\", 競技者一覧!T243)","v":""},222]
[{"$f":"団体CSV!C224","v":""},{"$f":"団体CSV!D224","v":""},{"$f":"団体CSV!E224","v":" "},{"$f":"IFERROR(VLOOKUP(競技者一覧!I244,Sheet4!$J$2:$K$3,2,FALSE),\"\")","v":""},{"$f":"IF(OR(競技者一覧!J244=0, ISERROR(競技者一覧!J244)), \"\", 競技者一覧!J244)","v":""},{"$f":"IF(OR(競技者一覧!K244=0, ISERROR(競技者一覧!K244)), \"\", 競技者一覧!K244)","v":""},{"$f":"IF(OR(競技者一覧!L244=0, ISERROR(競技者一覧!L244)), \"\", 競技者一覧!L244)","v":""},{"$f":"IF(OR(競技者一覧!M244=0, ISERROR(競技者一覧!M244)), \"\", 競技者一覧!M244)","v":""},{"$f":"IF(OR(競技者一覧!N244=0, ISERROR(競技者一覧!N244)), \"\", 競技者一覧!N244)","v":""},{"$f":"IF(OR(競技者一覧!O244=0, ISERROR(競技者一覧!O244)), \"\", 競技者一覧!O244)","v":""},{"$f":"IF(OR(競技者一覧!P244=0, ISERROR(競技者一覧!P244)), \"\", 競技者一覧!P244)","v":""},{"$f":"IF(OR(競技者一覧!Q244=0, ISERROR(競技者一覧!Q244)), \"\", 競技者一覧!Q244)","v":""},{"$f":"IF(OR(競技者一覧!R244=0, ISERROR(競技者一覧!R244)), \"\", 競技者一覧!R244)","v":""},{"$f":"IF(OR(競技者一覧!S244=0, ISERROR(競技者一覧!S244)), \"\", 競技者一覧!S244)","v":""},{"$f":"IF(OR(競技者一覧!T244=0, ISERROR(競技者一覧!T244)), \"\", 競技者一覧!T244)","v":""},223]
[{"$f":"団体CSV!C225","v":""},{"$f":"団体CSV!D225","v":""},{"$f":"団体CSV!E225","v":" "},{"$f":"IFERROR(VLOOKUP(競技者一覧!I245,Sheet4!$J$2:$K$3,2,FALSE),\"\")","v":""},{"$f":"IF(OR(競技者一覧!J245=0, ISERROR(競技者一覧!J245)), \"\", 競技者一覧!J245)","v":""},{"$f":"IF(OR(競技者一覧!K245=0, ISERROR(競技者一覧!K245)), \"\", 競技者一覧!K245)","v":""},{"$f":"IF(OR(競技者一覧!L245=0, ISERROR(競技者一覧!L245)), \"\", 競技者一覧!L245)","v":""},{"$f":"IF(OR(競技者一覧!M245=0, ISERROR(競技者一覧!M245)), \"\", 競技者一覧!M245)","v":""},{"$f":"IF(OR(競技者一覧!N245=0, ISERROR(競技者一覧!N245)), \"\", 競技者一覧!N245)","v":""},{"$f":"IF(OR(競技者一覧!O245=0, ISERROR(競技者一覧!O245)), \"\", 競技者一覧!O245)","v":""},{"$f":"IF(OR(競技者一覧!P245=0, ISERROR(競技者一覧!P245)), \"\", 競技者一覧!P245)","v":""},{"$f":"IF(OR(競技者一覧!Q245=0, ISERROR(競技者一覧!Q245)), \"\", 競技者一覧!Q245)","v":""},{"$f":"IF(OR(競技者一覧!R245=0, ISERROR(競技者一覧!R245)), \"\", 競技者一覧!R245)","v":""},{"$f":"IF(OR(競技者一覧!S245=0, ISERROR(競技者一覧!S245)), \"\", 競技者一覧!S245)","v":""},{"$f":"IF(OR(競技者一覧!T245=0, ISERROR(競技者一覧!T245)), \"\", 競技者一覧!T245)","v":""},224]
[{"$f":"団体CSV!C226","v":""},{"$f":"団体CSV!D226","v":""},{"$f":"団体CSV!E226","v":" "},{"$f":"IFERROR(VLOOKUP(競技者一覧!I246,Sheet4!$J$2:$K$3,2,FALSE),\"\")","v":""},{"$f":"IF(OR(競技者一覧!J246=0, ISERROR(競技者一覧!J246)), \"\", 競技者一覧!J246)","v":""},{"$f":"IF(OR(競技者一覧!K246=0, ISERROR(競技者一覧!K246)), \"\", 競技者一覧!K246)","v":""},{"$f":"IF(OR(競技者一覧!L246=0, ISERROR(競技者一覧!L246)), \"\", 競技者一覧!L246)","v":""},{"$f":"IF(OR(競技者一覧!M246=0, ISERROR(競技者一覧!M246)), \"\", 競技者一覧!M246)","v":""},{"$f":"IF(OR(競技者一覧!N246=0, ISERROR(競技者一覧!N246)), \"\", 競技者一覧!N246)","v":""},{"$f":"IF(OR(競技者一覧!O246=0, ISERROR(競技者一覧!O246)), \"\", 競技者一覧!O246)","v":""},{"$f":"IF(OR(競技者一覧!P246=0, ISERROR(競技者一覧!P246)), \"\", 競技者一覧!P246)","v":""},{"$f":"IF(OR(競技者一覧!Q246=0, ISERROR(競技者一覧!Q246)), \"\", 競技者一覧!Q246)","v":""},{"$f":"IF(OR(競技者一覧!R246=0, ISERROR(競技者一覧!R246)), \"\", 競技者一覧!R246)","v":""},{"$f":"IF(OR(競技者一覧!S246=0, ISERROR(競技者一覧!S246)), \"\", 競技者一覧!S246)","v":""},{"$f":"IF(OR(競技者一覧!T246=0, ISERROR(競技者一覧!T246)), \"\", 競技者一覧!T246)","v":""},225]
[{"$f":"団体CSV!C227","v":""},{"$f":"団体CSV!D227","v":""},{"$f":"団体CSV!E227","v":" "},{"$f":"IFERROR(VLOOKUP(競技者一覧!I247,Sheet4!$J$2:$K$3,2,FALSE),\"\")","v":""},{"$f":"IF(OR(競技者一覧!J247=0, ISERROR(競技者一覧!J247)), \"\", 競技者一覧!J247)","v":""},{"$f":"IF(OR(競技者一覧!K247=0, ISERROR(競技者一覧!K247)), \"\", 競技者一覧!K247)","v":""},{"$f":"IF(OR(競技者一覧!L247=0, ISERROR(競技者一覧!L247)), \"\", 競技者一覧!L247)","v":""},{"$f":"IF(OR(競技者一覧!M247=0, ISERROR(競技者一覧!M247)), \"\", 競技者一覧!M247)","v":""},{"$f":"IF(OR(競技者一覧!N247=0, ISERROR(競技者一覧!N247)), \"\", 競技者一覧!N247)","v":""},{"$f":"IF(OR(競技者一覧!O247=0, ISERROR(競技者一覧!O247)), \"\", 競技者一覧!O247)","v":""},{"$f":"IF(OR(競技者一覧!P247=0, ISERROR(競技者一覧!P247)), \"\", 競技者一覧!P247)","v":""},{"$f":"IF(OR(競技者一覧!Q247=0, ISERROR(競技者一覧!Q247)), \"\", 競技者一覧!Q247)","v":""},{"$f":"IF(OR(競技者一覧!R247=0, ISERROR(競技者一覧!R247)), \"\", 競技者一覧!R247)","v":""},{"$f":"IF(OR(競技者一覧!S247=0, ISERROR(競技者一覧!S247)), \"\", 競技者一覧!S247)","v":""},{"$f":"IF(OR(競技者一覧!T247=0, ISERROR(競技者一覧!T247)), \"\", 競技者一覧!T247)","v":""},226]
[{"$f":"団体CSV!C228","v":""},{"$f":"団体CSV!D228","v":""},{"$f":"団体CSV!E228","v":" "},{"$f":"IFERROR(VLOOKUP(競技者一覧!I248,Sheet4!$J$2:$K$3,2,FALSE),\"\")","v":""},{"$f":"IF(OR(競技者一覧!J248=0, ISERROR(競技者一覧!J248)), \"\", 競技者一覧!J248)","v":""},{"$f":"IF(OR(競技者一覧!K248=0, ISERROR(競技者一覧!K248)), \"\", 競技者一覧!K248)","v":""},{"$f":"IF(OR(競技者一覧!L248=0, ISERROR(競技者一覧!L248)), \"\", 競技者一覧!L248)","v":""},{"$f":"IF(OR(競技者一覧!M248=0, ISERROR(競技者一覧!M248)), \"\", 競技者一覧!M248)","v":""},{"$f":"IF(OR(競技者一覧!N248=0, ISERROR(競技者一覧!N248)), \"\", 競技者一覧!N248)","v":""},{"$f":"IF(OR(競技者一覧!O248=0, ISERROR(競技者一覧!O248)), \"\", 競技者一覧!O248)","v":""},{"$f":"IF(OR(競技者一覧!P248=0, ISERROR(競技者一覧!P248)), \"\", 競技者一覧!P248)","v":""},{"$f":"IF(OR(競技者一覧!Q248=0, ISERROR(競技者一覧!Q248)), \"\", 競技者一覧!Q248)","v":""},{"$f":"IF(OR(競技者一覧!R248=0, ISERROR(競技者一覧!R248)), \"\", 競技者一覧!R248)","v":""},{"$f":"IF(OR(競技者一覧!S248=0, ISERROR(競技者一覧!S248)), \"\", 競技者一覧!S248)","v":""},{"$f":"IF(OR(競技者一覧!T248=0, ISERROR(競技者一覧!T248)), \"\", 競技者一覧!T248)","v":""},227]
[{"$f":"団体CSV!C229","v":""},{"$f":"団体CSV!D229","v":""},{"$f":"団体CSV!E229","v":" "},{"$f":"IFERROR(VLOOKUP(競技者一覧!I249,Sheet4!$J$2:$K$3,2,FALSE),\"\")","v":""},{"$f":"IF(OR(競技者一覧!J249=0, ISERROR(競技者一覧!J249)), \"\", 競技者一覧!J249)","v":""},{"$f":"IF(OR(競技者一覧!K249=0, ISERROR(競技者一覧!K249)), \"\", 競技者一覧!K249)","v":""},{"$f":"IF(OR(競技者一覧!L249=0, ISERROR(競技者一覧!L249)), \"\", 競技者一覧!L249)","v":""},{"$f":"IF(OR(競技者一覧!M249=0, ISERROR(競技者一覧!M249)), \"\", 競技者一覧!M249)","v":""},{"$f":"IF(OR(競技者一覧!N249=0, ISERROR(競技者一覧!N249)), \"\", 競技者一覧!N249)","v":""},{"$f":"IF(OR(競技者一覧!O249=0, ISERROR(競技者一覧!O249)), \"\", 競技者一覧!O249)","v":""},{"$f":"IF(OR(競技者一覧!P249=0, ISERROR(競技者一覧!P249)), \"\", 競技者一覧!P249)","v":""},{"$f":"IF(OR(競技者一覧!Q249=0, ISERROR(競技者一覧!Q249)), \"\", 競技者一覧!Q249)","v":""},{"$f":"IF(OR(競技者一覧!R249=0, ISERROR(競技者一覧!R249)), \"\", 競技者一覧!R249)","v":""},{"$f":"IF(OR(競技者一覧!S249=0, ISERROR(競技者一覧!S249)), \"\", 競技者一覧!S249)","v":""},{"$f":"IF(OR(競技者一覧!T249=0, ISERROR(競技者一覧!T249)), \"\", 競技者一覧!T249)","v":""},228]
[{"$f":"団体CSV!C230","v":""},{"$f":"団体CSV!D230","v":""},{"$f":"団体CSV!E230","v":" "},{"$f":"IFERROR(VLOOKUP(競技者一覧!I250,Sheet4!$J$2:$K$3,2,FALSE),\"\")","v":""},{"$f":"IF(OR(競技者一覧!J250=0, ISERROR(競技者一覧!J250)), \"\", 競技者一覧!J250)","v":""},{"$f":"IF(OR(競技者一覧!K250=0, ISERROR(競技者一覧!K250)), \"\", 競技者一覧!K250)","v":""},{"$f":"IF(OR(競技者一覧!L250=0, ISERROR(競技者一覧!L250)), \"\", 競技者一覧!L250)","v":""},{"$f":"IF(OR(競技者一覧!M250=0, ISERROR(競技者一覧!M250)), \"\", 競技者一覧!M250)","v":""},{"$f":"IF(OR(競技者一覧!N250=0, ISERROR(競技者一覧!N250)), \"\", 競技者一覧!N250)","v":""},{"$f":"IF(OR(競技者一覧!O250=0, ISERROR(競技者一覧!O250)), \"\", 競技者一覧!O250)","v":""},{"$f":"IF(OR(競技者一覧!P250=0, ISERROR(競技者一覧!P250)), \"\", 競技者一覧!P250)","v":""},{"$f":"IF(OR(競技者一覧!Q250=0, ISERROR(競技者一覧!Q250)), \"\", 競技者一覧!Q250)","v":""},{"$f":"IF(OR(競技者一覧!R250=0, ISERROR(競技者一覧!R250)), \"\", 競技者一覧!R250)","v":""},{"$f":"IF(OR(競技者一覧!S250=0, ISERROR(競技者一覧!S250)), \"\", 競技者一覧!S250)","v":""},{"$f":"IF(OR(競技者一覧!T250=0, ISERROR(競技者一覧!T250)), \"\", 競技者一覧!T250)","v":""},229]
[{"$f":"団体CSV!C231","v":""},{"$f":"団体CSV!D231","v":""},{"$f":"団体CSV!E231","v":" "},{"$f":"IFERROR(VLOOKUP(競技者一覧!I251,Sheet4!$J$2:$K$3,2,FALSE),\"\")","v":""},{"$f":"IF(OR(競技者一覧!J251=0, ISERROR(競技者一覧!J251)), \"\", 競技者一覧!J251)","v":""},{"$f":"IF(OR(競技者一覧!K251=0, ISERROR(競技者一覧!K251)), \"\", 競技者一覧!K251)","v":""},{"$f":"IF(OR(競技者一覧!L251=0, ISERROR(競技者一覧!L251)), \"\", 競技者一覧!L251)","v":""},{"$f":"IF(OR(競技者一覧!M251=0, ISERROR(競技者一覧!M251)), \"\", 競技者一覧!M251)","v":""},{"$f":"IF(OR(競技者一覧!N251=0, ISERROR(競技者一覧!N251)), \"\", 競技者一覧!N251)","v":""},{"$f":"IF(OR(競技者一覧!O251=0, ISERROR(競技者一覧!O251)), \"\", 競技者一覧!O251)","v":""},{"$f":"IF(OR(競技者一覧!P251=0, ISERROR(競技者一覧!P251)), \"\", 競技者一覧!P251)","v":""},{"$f":"IF(OR(競技者一覧!Q251=0, ISERROR(競技者一覧!Q251)), \"\", 競技者一覧!Q251)","v":""},{"$f":"IF(OR(競技者一覧!R251=0, ISERROR(競技者一覧!R251)), \"\", 競技者一覧!R251)","v":""},{"$f":"IF(OR(競技者一覧!S251=0, ISERROR(競技者一覧!S251)), \"\", 競技者一覧!S251)","v":""},{"$f":"IF(OR(競技者一覧!T251=0, ISERROR(競技者一覧!T251)), \"\", 競技者一覧!T251)","v":""},230]
[{"$f":"団体CSV!C232","v":""},{"$f":"団体CSV!D232","v":""},{"$f":"団体CSV!E232","v":" "},{"$f":"IFERROR(VLOOKUP(競技者一覧!I252,Sheet4!$J$2:$K$3,2,FALSE),\"\")","v":""},{"$f":"IF(OR(競技者一覧!J252=0, ISERROR(競技者一覧!J252)), \"\", 競技者一覧!J252)","v":""},{"$f":"IF(OR(競技者一覧!K252=0, ISERROR(競技者一覧!K252)), \"\", 競技者一覧!K252)","v":""},{"$f":"IF(OR(競技者一覧!L252=0, ISERROR(競技者一覧!L252)), \"\", 競技者一覧!L252)","v":""},{"$f":"IF(OR(競技者一覧!M252=0, ISERROR(競技者一覧!M252)), \"\", 競技者一覧!M252)","v":""},{"$f":"IF(OR(競技者一覧!N252=0, ISERROR(競技者一覧!N252)), \"\", 競技者一覧!N252)","v":""},{"$f":"IF(OR(競技者一覧!O252=0, ISERROR(競技者一覧!O252)), \"\", 競技者一覧!O252)","v":""},{"$f":"IF(OR(競技者一覧!P252=0, ISERROR(競技者一覧!P252)), \"\", 競技者一覧!P252)","v":""},{"$f":"IF(OR(競技者一覧!Q252=0, ISERROR(競技者一覧!Q252)), \"\", 競技者一覧!Q252)","v":""},{"$f":"IF(OR(競技者一覧!R252=0, ISERROR(競技者一覧!R252)), \"\", 競技者一覧!R252)","v":""},{"$f":"IF(OR(競技者一覧!S252=0, ISERROR(競技者一覧!S252)), \"\", 競技者一覧!S252)","v":""},{"$f":"IF(OR(競技者一覧!T252=0, ISERROR(競技者一覧!T252)), \"\", 競技者一覧!T252)","v":""},231]
[{"$f":"団体CSV!C233","v":""},{"$f":"団体CSV!D233","v":""},{"$f":"団体CSV!E233","v":" "},{"$f":"IFERROR(VLOOKUP(競技者一覧!I253,Sheet4!$J$2:$K$3,2,FALSE),\"\")","v":""},{"$f":"IF(OR(競技者一覧!J253=0, ISERROR(競技者一覧!J253)), \"\", 競技者一覧!J253)","v":""},{"$f":"IF(OR(競技者一覧!K253=0, ISERROR(競技者一覧!K253)), \"\", 競技者一覧!K253)","v":""},{"$f":"IF(OR(競技者一覧!L253=0, ISERROR(競技者一覧!L253)), \"\", 競技者一覧!L253)","v":""},{"$f":"IF(OR(競技者一覧!M253=0, ISERROR(競技者一覧!M253)), \"\", 競技者一覧!M253)","v":""},{"$f":"IF(OR(競技者一覧!N253=0, ISERROR(競技者一覧!N253)), \"\", 競技者一覧!N253)","v":""},{"$f":"IF(OR(競技者一覧!O253=0, ISERROR(競技者一覧!O253)), \"\", 競技者一覧!O253)","v":""},{"$f":"IF(OR(競技者一覧!P253=0, ISERROR(競技者一覧!P253)), \"\", 競技者一覧!P253)","v":""},{"$f":"IF(OR(競技者一覧!Q253=0, ISERROR(競技者一覧!Q253)), \"\", 競技者一覧!Q253)","v":""},{"$f":"IF(OR(競技者一覧!R253=0, ISERROR(競技者一覧!R253)), \"\", 競技者一覧!R253)","v":""},{"$f":"IF(OR(競技者一覧!S253=0, ISERROR(競技者一覧!S253)), \"\", 競技者一覧!S253)","v":""},{"$f":"IF(OR(競技者一覧!T253=0, ISERROR(競技者一覧!T253)), \"\", 競技者一覧!T253)","v":""},232]
[{"$f":"団体CSV!C234","v":""},{"$f":"団体CSV!D234","v":""},{"$f":"団体CSV!E234","v":" "},{"$f":"IFERROR(VLOOKUP(競技者一覧!I254,Sheet4!$J$2:$K$3,2,FALSE),\"\")","v":""},{"$f":"IF(OR(競技者一覧!J254=0, ISERROR(競技者一覧!J254)), \"\", 競技者一覧!J254)","v":""},{"$f":"IF(OR(競技者一覧!K254=0, ISERROR(競技者一覧!K254)), \"\", 競技者一覧!K254)","v":""},{"$f":"IF(OR(競技者一覧!L254=0, ISERROR(競技者一覧!L254)), \"\", 競技者一覧!L254)","v":""},{"$f":"IF(OR(競技者一覧!M254=0, ISERROR(競技者一覧!M254)), \"\", 競技者一覧!M254)","v":""},{"$f":"IF(OR(競技者一覧!N254=0, ISERROR(競技者一覧!N254)), \"\", 競技者一覧!N254)","v":""},{"$f":"IF(OR(競技者一覧!O254=0, ISERROR(競技者一覧!O254)), \"\", 競技者一覧!O254)","v":""},{"$f":"IF(OR(競技者一覧!P254=0, ISERROR(競技者一覧!P254)), \"\", 競技者一覧!P254)","v":""},{"$f":"IF(OR(競技者一覧!Q254=0, ISERROR(競技者一覧!Q254)), \"\", 競技者一覧!Q254)","v":""},{"$f":"IF(OR(競技者一覧!R254=0, ISERROR(競技者一覧!R254)), \"\", 競技者一覧!R254)","v":""},{"$f":"IF(OR(競技者一覧!S254=0, ISERROR(競技者一覧!S254)), \"\", 競技者一覧!S254)","v":""},{"$f":"IF(OR(競技者一覧!T254=0, ISERROR(競技者一覧!T254)), \"\", 競技者一覧!T254)","v":""},233]
[{"$f":"団体CSV!C235","v":""},{"$f":"団体CSV!D235","v":""},{"$f":"団体CSV!E235","v":" "},{"$f":"IFERROR(VLOOKUP(競技者一覧!I255,Sheet4!$J$2:$K$3,2,FALSE),\"\")","v":""},{"$f":"IF(OR(競技者一覧!J255=0, ISERROR(競技者一覧!J255)), \"\", 競技者一覧!J255)","v":""},{"$f":"IF(OR(競技者一覧!K255=0, ISERROR(競技者一覧!K255)), \"\", 競技者一覧!K255)","v":""},{"$f":"IF(OR(競技者一覧!L255=0, ISERROR(競技者一覧!L255)), \"\", 競技者一覧!L255)","v":""},{"$f":"IF(OR(競技者一覧!M255=0, ISERROR(競技者一覧!M255)), \"\", 競技者一覧!M255)","v":""},{"$f":"IF(OR(競技者一覧!N255=0, ISERROR(競技者一覧!N255)), \"\", 競技者一覧!N255)","v":""},{"$f":"IF(OR(競技者一覧!O255=0, ISERROR(競技者一覧!O255)), \"\", 競技者一覧!O255)","v":""},{"$f":"IF(OR(競技者一覧!P255=0, ISERROR(競技者一覧!P255)), \"\", 競技者一覧!P255)","v":""},{"$f":"IF(OR(競技者一覧!Q255=0, ISERROR(競技者一覧!Q255)), \"\", 競技者一覧!Q255)","v":""},{"$f":"IF(OR(競技者一覧!R255=0, ISERROR(競技者一覧!R255)), \"\", 競技者一覧!R255)","v":""},{"$f":"IF(OR(競技者一覧!S255=0, ISERROR(競技者一覧!S255)), \"\", 競技者一覧!S255)","v":""},{"$f":"IF(OR(競技者一覧!T255=0, ISERROR(競技者一覧!T255)), \"\", 競技者一覧!T255)","v":""},234]
[{"$f":"団体CSV!C236","v":""},{"$f":"団体CSV!D236","v":""},{"$f":"団体CSV!E236","v":" "},{"$f":"IFERROR(VLOOKUP(競技者一覧!I256,Sheet4!$J$2:$K$3,2,FALSE),\"\")","v":""},{"$f":"IF(OR(競技者一覧!J256=0, ISERROR(競技者一覧!J256)), \"\", 競技者一覧!J256)","v":""},{"$f":"IF(OR(競技者一覧!K256=0, ISERROR(競技者一覧!K256)), \"\", 競技者一覧!K256)","v":""},{"$f":"IF(OR(競技者一覧!L256=0, ISERROR(競技者一覧!L256)), \"\", 競技者一覧!L256)","v":""},{"$f":"IF(OR(競技者一覧!M256=0, ISERROR(競技者一覧!M256)), \"\", 競技者一覧!M256)","v":""},{"$f":"IF(OR(競技者一覧!N256=0, ISERROR(競技者一覧!N256)), \"\", 競技者一覧!N256)","v":""},{"$f":"IF(OR(競技者一覧!O256=0, ISERROR(競技者一覧!O256)), \"\", 競技者一覧!O256)","v":""},{"$f":"IF(OR(競技者一覧!P256=0, ISERROR(競技者一覧!P256)), \"\", 競技者一覧!P256)","v":""},{"$f":"IF(OR(競技者一覧!Q256=0, ISERROR(競技者一覧!Q256)), \"\", 競技者一覧!Q256)","v":""},{"$f":"IF(OR(競技者一覧!R256=0, ISERROR(競技者一覧!R256)), \"\", 競技者一覧!R256)","v":""},{"$f":"IF(OR(競技者一覧!S256=0, ISERROR(競技者一覧!S256)), \"\", 競技者一覧!S256)","v":""},{"$f":"IF(OR(競技者一覧!T256=0, ISERROR(競技者一覧!T256)), \"\", 競技者一覧!T256)","v":""},235]
[{"$f":"団体CSV!C237","v":""},{"$f":"団体CSV!D237","v":""},{"$f":"団体CSV!E237","v":" "},{"$f":"IFERROR(VLOOKUP(競技者一覧!I257,Sheet4!$J$2:$K$3,2,FALSE),\"\")","v":""},{"$f":"IF(OR(競技者一覧!J257=0, ISERROR(競技者一覧!J257)), \"\", 競技者一覧!J257)","v":""},{"$f":"IF(OR(競技者一覧!K257=0, ISERROR(競技者一覧!K257)), \"\", 競技者一覧!K257)","v":""},{"$f":"IF(OR(競技者一覧!L257=0, ISERROR(競技者一覧!L257)), \"\", 競技者一覧!L257)","v":""},{"$f":"IF(OR(競技者一覧!M257=0, ISERROR(競技者一覧!M257)), \"\", 競技者一覧!M257)","v":""},{"$f":"IF(OR(競技者一覧!N257=0, ISERROR(競技者一覧!N257)), \"\", 競技者一覧!N257)","v":""},{"$f":"IF(OR(競技者一覧!O257=0, ISERROR(競技者一覧!O257)), \"\", 競技者一覧!O257)","v":""},{"$f":"IF(OR(競技者一覧!P257=0, ISERROR(競技者一覧!P257)), \"\", 競技者一覧!P257)","v":""},{"$f":"IF(OR(競技者一覧!Q257=0, ISERROR(競技者一覧!Q257)), \"\", 競技者一覧!Q257)","v":""},{"$f":"IF(OR(競技者一覧!R257=0, ISERROR(競技者一覧!R257)), \"\", 競技者一覧!R257)","v":""},{"$f":"IF(OR(競技者一覧!S257=0, ISERROR(競技者一覧!S257)), \"\", 競技者一覧!S257)","v":""},{"$f":"IF(OR(競技者一覧!T257=0, ISERROR(競技者一覧!T257)), \"\", 競技者一覧!T257)","v":""},236]
[{"$f":"団体CSV!C238","v":""},{"$f":"団体CSV!D238","v":""},{"$f":"団体CSV!E238","v":" "},{"$f":"IFERROR(VLOOKUP(競技者一覧!I258,Sheet4!$J$2:$K$3,2,FALSE),\"\")","v":""},{"$f":"IF(OR(競技者一覧!J258=0, ISERROR(競技者一覧!J258)), \"\", 競技者一覧!J258)","v":""},{"$f":"IF(OR(競技者一覧!K258=0, ISERROR(競技者一覧!K258)), \"\", 競技者一覧!K258)","v":""},{"$f":"IF(OR(競技者一覧!L258=0, ISERROR(競技者一覧!L258)), \"\", 競技者一覧!L258)","v":""},{"$f":"IF(OR(競技者一覧!M258=0, ISERROR(競技者一覧!M258)), \"\", 競技者一覧!M258)","v":""},{"$f":"IF(OR(競技者一覧!N258=0, ISERROR(競技者一覧!N258)), \"\", 競技者一覧!N258)","v":""},{"$f":"IF(OR(競技者一覧!O258=0, ISERROR(競技者一覧!O258)), \"\", 競技者一覧!O258)","v":""},{"$f":"IF(OR(競技者一覧!P258=0, ISERROR(競技者一覧!P258)), \"\", 競技者一覧!P258)","v":""},{"$f":"IF(OR(競技者一覧!Q258=0, ISERROR(競技者一覧!Q258)), \"\", 競技者一覧!Q258)","v":""},{"$f":"IF(OR(競技者一覧!R258=0, ISERROR(競技者一覧!R258)), \"\", 競技者一覧!R258)","v":""},{"$f":"IF(OR(競技者一覧!S258=0, ISERROR(競技者一覧!S258)), \"\", 競技者一覧!S258)","v":""},{"$f":"IF(OR(競技者一覧!T258=0, ISERROR(競技者一覧!T258)), \"\", 競技者一覧!T258)","v":""},237]
[{"$f":"団体CSV!C239","v":""},{"$f":"団体CSV!D239","v":""},{"$f":"団体CSV!E239","v":" "},{"$f":"IFERROR(VLOOKUP(競技者一覧!I259,Sheet4!$J$2:$K$3,2,FALSE),\"\")","v":""},{"$f":"IF(OR(競技者一覧!J259=0, ISERROR(競技者一覧!J259)), \"\", 競技者一覧!J259)","v":""},{"$f":"IF(OR(競技者一覧!K259=0, ISERROR(競技者一覧!K259)), \"\", 競技者一覧!K259)","v":""},{"$f":"IF(OR(競技者一覧!L259=0, ISERROR(競技者一覧!L259)), \"\", 競技者一覧!L259)","v":""},{"$f":"IF(OR(競技者一覧!M259=0, ISERROR(競技者一覧!M259)), \"\", 競技者一覧!M259)","v":""},{"$f":"IF(OR(競技者一覧!N259=0, ISERROR(競技者一覧!N259)), \"\", 競技者一覧!N259)","v":""},{"$f":"IF(OR(競技者一覧!O259=0, ISERROR(競技者一覧!O259)), \"\", 競技者一覧!O259)","v":""},{"$f":"IF(OR(競技者一覧!P259=0, ISERROR(競技者一覧!P259)), \"\", 競技者一覧!P259)","v":""},{"$f":"IF(OR(競技者一覧!Q259=0, ISERROR(競技者一覧!Q259)), \"\", 競技者一覧!Q259)","v":""},{"$f":"IF(OR(競技者一覧!R259=0, ISERROR(競技者一覧!R259)), \"\", 競技者一覧!R259)","v":""},{"$f":"IF(OR(競技者一覧!S259=0, ISERROR(競技者一覧!S259)), \"\", 競技者一覧!S259)","v":""},{"$f":"IF(OR(競技者一覧!T259=0, ISERROR(競技者一覧!T259)), \"\", 競技者一覧!T259)","v":""},238]
[{"$f":"団体CSV!C240","v":""},{"$f":"団体CSV!D240","v":""},{"$f":"団体CSV!E240","v":" "},{"$f":"IFERROR(VLOOKUP(競技者一覧!I260,Sheet4!$J$2:$K$3,2,FALSE),\"\")","v":""},{"$f":"IF(OR(競技者一覧!J260=0, ISERROR(競技者一覧!J260)), \"\", 競技者一覧!J260)","v":""},{"$f":"IF(OR(競技者一覧!K260=0, ISERROR(競技者一覧!K260)), \"\", 競技者一覧!K260)","v":""},{"$f":"IF(OR(競技者一覧!L260=0, ISERROR(競技者一覧!L260)), \"\", 競技者一覧!L260)","v":""},{"$f":"IF(OR(競技者一覧!M260=0, ISERROR(競技者一覧!M260)), \"\", 競技者一覧!M260)","v":""},{"$f":"IF(OR(競技者一覧!N260=0, ISERROR(競技者一覧!N260)), \"\", 競技者一覧!N260)","v":""},{"$f":"IF(OR(競技者一覧!O260=0, ISERROR(競技者一覧!O260)), \"\", 競技者一覧!O260)","v":""},{"$f":"IF(OR(競技者一覧!P260=0, ISERROR(競技者一覧!P260)), \"\", 競技者一覧!P260)","v":""},{"$f":"IF(OR(競技者一覧!Q260=0, ISERROR(競技者一覧!Q260)), \"\", 競技者一覧!Q260)","v":""},{"$f":"IF(OR(競技者一覧!R260=0, ISERROR(競技者一覧!R260)), \"\", 競技者一覧!R260)","v":""},{"$f":"IF(OR(競技者一覧!S260=0, ISERROR(競技者一覧!S260)), \"\", 競技者一覧!S260)","v":""},{"$f":"IF(OR(競技者一覧!T260=0, ISERROR(競技者一覧!T260)), \"\", 競技者一覧!T260)","v":""},239]
[{"$f":"団体CSV!C241","v":""},{"$f":"団体CSV!D241","v":""},{"$f":"団体CSV!E241","v":" "},{"$f":"IFERROR(VLOOKUP(競技者一覧!I261,Sheet4!$J$2:$K$3,2,FALSE),\"\")","v":""},{"$f":"IF(OR(競技者一覧!J261=0, ISERROR(競技者一覧!J261)), \"\", 競技者一覧!J261)","v":""},{"$f":"IF(OR(競技者一覧!K261=0, ISERROR(競技者一覧!K261)), \"\", 競技者一覧!K261)","v":""},{"$f":"IF(OR(競技者一覧!L261=0, ISERROR(競技者一覧!L261)), \"\", 競技者一覧!L261)","v":""},{"$f":"IF(OR(競技者一覧!M261=0, ISERROR(競技者一覧!M261)), \"\", 競技者一覧!M261)","v":""},{"$f":"IF(OR(競技者一覧!N261=0, ISERROR(競技者一覧!N261)), \"\", 競技者一覧!N261)","v":""},{"$f":"IF(OR(競技者一覧!O261=0, ISERROR(競技者一覧!O261)), \"\", 競技者一覧!O261)","v":""},{"$f":"IF(OR(競技者一覧!P261=0, ISERROR(競技者一覧!P261)), \"\", 競技者一覧!P261)","v":""},{"$f":"IF(OR(競技者一覧!Q261=0, ISERROR(競技者一覧!Q261)), \"\", 競技者一覧!Q261)","v":""},{"$f":"IF(OR(競技者一覧!R261=0, ISERROR(競技者一覧!R261)), \"\", 競技者一覧!R261)","v":""},{"$f":"IF(OR(競技者一覧!S261=0, ISERROR(競技者一覧!S261)), \"\", 競技者一覧!S261)","v":""},{"$f":"IF(OR(競技者一覧!T261=0, ISERROR(競技者一覧!T261)), \"\", 競技者一覧!T261)","v":""},240]
[{"$f":"団体CSV!C242","v":""},{"$f":"団体CSV!D242","v":""},{"$f":"団体CSV!E242","v":" "},{"$f":"IFERROR(VLOOKUP(競技者一覧!I262,Sheet4!$J$2:$K$3,2,FALSE),\"\")","v":""},{"$f":"IF(OR(競技者一覧!J262=0, ISERROR(競技者一覧!J262)), \"\", 競技者一覧!J262)","v":""},{"$f":"IF(OR(競技者一覧!K262=0, ISERROR(競技者一覧!K262)), \"\", 競技者一覧!K262)","v":""},{"$f":"IF(OR(競技者一覧!L262=0, ISERROR(競技者一覧!L262)), \"\", 競技者一覧!L262)","v":""},{"$f":"IF(OR(競技者一覧!M262=0, ISERROR(競技者一覧!M262)), \"\", 競技者一覧!M262)","v":""},{"$f":"IF(OR(競技者一覧!N262=0, ISERROR(競技者一覧!N262)), \"\", 競技者一覧!N262)","v":""},{"$f":"IF(OR(競技者一覧!O262=0, ISERROR(競技者一覧!O262)), \"\", 競技者一覧!O262)","v":""},{"$f":"IF(OR(競技者一覧!P262=0, ISERROR(競技者一覧!P262)), \"\", 競技者一覧!P262)","v":""},{"$f":"IF(OR(競技者一覧!Q262=0, ISERROR(競技者一覧!Q262)), \"\", 競技者一覧!Q262)","v":""},{"$f":"IF(OR(競技者一覧!R262=0, ISERROR(競技者一覧!R262)), \"\", 競技者一覧!R262)","v":""},{"$f":"IF(OR(競技者一覧!S262=0, ISERROR(競技者一覧!S262)), \"\", 競技者一覧!S262)","v":""},{"$f":"IF(OR(競技者一覧!T262=0, ISERROR(競技者一覧!T262)), \"\", 競技者一覧!T262)","v":""},241]
[{"$f":"団体CSV!C243","v":""},{"$f":"団体CSV!D243","v":""},{"$f":"団体CSV!E243","v":" "},{"$f":"IFERROR(VLOOKUP(競技者一覧!I263,Sheet4!$J$2:$K$3,2,FALSE),\"\")","v":""},{"$f":"IF(OR(競技者一覧!J263=0, ISERROR(競技者一覧!J263)), \"\", 競技者一覧!J263)","v":""},{"$f":"IF(OR(競技者一覧!K263=0, ISERROR(競技者一覧!K263)), \"\", 競技者一覧!K263)","v":""},{"$f":"IF(OR(競技者一覧!L263=0, ISERROR(競技者一覧!L263)), \"\", 競技者一覧!L263)","v":""},{"$f":"IF(OR(競技者一覧!M263=0, ISERROR(競技者一覧!M263)), \"\", 競技者一覧!M263)","v":""},{"$f":"IF(OR(競技者一覧!N263=0, ISERROR(競技者一覧!N263)), \"\", 競技者一覧!N263)","v":""},{"$f":"IF(OR(競技者一覧!O263=0, ISERROR(競技者一覧!O263)), \"\", 競技者一覧!O263)","v":""},{"$f":"IF(OR(競技者一覧!P263=0, ISERROR(競技者一覧!P263)), \"\", 競技者一覧!P263)","v":""},{"$f":"IF(OR(競技者一覧!Q263=0, ISERROR(競技者一覧!Q263)), \"\", 競技者一覧!Q263)","v":""},{"$f":"IF(OR(競技者一覧!R263=0, ISERROR(競技者一覧!R263)), \"\", 競技者一覧!R263)","v":""},{"$f":"IF(OR(競技者一覧!S263=0, ISERROR(競技者一覧!S263)), \"\", 競技者一覧!S263)","v":""},{"$f":"IF(OR(競技者一覧!T263=0, ISERROR(競技者一覧!T263)), \"\", 競技者一覧!T263)","v":""},242]
[{"$f":"団体CSV!C244","v":""},{"$f":"団体CSV!D244","v":""},{"$f":"団体CSV!E244","v":" "},{"$f":"IFERROR(VLOOKUP(競技者一覧!I264,Sheet4!$J$2:$K$3,2,FALSE),\"\")","v":""},{"$f":"IF(OR(競技者一覧!J264=0, ISERROR(競技者一覧!J264)), \"\", 競技者一覧!J264)","v":""},{"$f":"IF(OR(競技者一覧!K264=0, ISERROR(競技者一覧!K264)), \"\", 競技者一覧!K264)","v":""},{"$f":"IF(OR(競技者一覧!L264=0, ISERROR(競技者一覧!L264)), \"\", 競技者一覧!L264)","v":""},{"$f":"IF(OR(競技者一覧!M264=0, ISERROR(競技者一覧!M264)), \"\", 競技者一覧!M264)","v":""},{"$f":"IF(OR(競技者一覧!N264=0, ISERROR(競技者一覧!N264)), \"\", 競技者一覧!N264)","v":""},{"$f":"IF(OR(競技者一覧!O264=0, ISERROR(競技者一覧!O264)), \"\", 競技者一覧!O264)","v":""},{"$f":"IF(OR(競技者一覧!P264=0, ISERROR(競技者一覧!P264)), \"\", 競技者一覧!P264)","v":""},{"$f":"IF(OR(競技者一覧!Q264=0, ISERROR(競技者一覧!Q264)), \"\", 競技者一覧!Q264)","v":""},{"$f":"IF(OR(競技者一覧!R264=0, ISERROR(競技者一覧!R264)), \"\", 競技者一覧!R264)","v":""},{"$f":"IF(OR(競技者一覧!S264=0, ISERROR(競技者一覧!S264)), \"\", 競技者一覧!S264)","v":""},{"$f":"IF(OR(競技者一覧!T264=0, ISERROR(競技者一覧!T264)), \"\", 競技者一覧!T264)","v":""},243]
[{"$f":"団体CSV!C245","v":""},{"$f":"団体CSV!D245","v":""},{"$f":"団体CSV!E245","v":" "},{"$f":"IFERROR(VLOOKUP(競技者一覧!I265,Sheet4!$J$2:$K$3,2,FALSE),\"\")","v":""},{"$f":"IF(OR(競技者一覧!J265=0, ISERROR(競技者一覧!J265)), \"\", 競技者一覧!J265)","v":""},{"$f":"IF(OR(競技者一覧!K265=0, ISERROR(競技者一覧!K265)), \"\", 競技者一覧!K265)","v":""},{"$f":"IF(OR(競技者一覧!L265=0, ISERROR(競技者一覧!L265)), \"\", 競技者一覧!L265)","v":""},{"$f":"IF(OR(競技者一覧!M265=0, ISERROR(競技者一覧!M265)), \"\", 競技者一覧!M265)","v":""},{"$f":"IF(OR(競技者一覧!N265=0, ISERROR(競技者一覧!N265)), \"\", 競技者一覧!N265)","v":""},{"$f":"IF(OR(競技者一覧!O265=0, ISERROR(競技者一覧!O265)), \"\", 競技者一覧!O265)","v":""},{"$f":"IF(OR(競技者一覧!P265=0, ISERROR(競技者一覧!P265)), \"\", 競技者一覧!P265)","v":""},{"$f":"IF(OR(競技者一覧!Q265=0, ISERROR(競技者一覧!Q265)), \"\", 競技者一覧!Q265)","v":""},{"$f":"IF(OR(競技者一覧!R265=0, ISERROR(競技者一覧!R265)), \"\", 競技者一覧!R265)","v":""},{"$f":"IF(OR(競技者一覧!S265=0, ISERROR(競技者一覧!S265)), \"\", 競技者一覧!S265)","v":""},{"$f":"IF(OR(競技者一覧!T265=0, ISERROR(競技者一覧!T265)), \"\", 競技者一覧!T265)","v":""},244]
[{"$f":"団体CSV!C246","v":""},{"$f":"団体CSV!D246","v":""},{"$f":"団体CSV!E246","v":" "},{"$f":"IFERROR(VLOOKUP(競技者一覧!I266,Sheet4!$J$2:$K$3,2,FALSE),\"\")","v":""},{"$f":"IF(OR(競技者一覧!J266=0, ISERROR(競技者一覧!J266)), \"\", 競技者一覧!J266)","v":""},{"$f":"IF(OR(競技者一覧!K266=0, ISERROR(競技者一覧!K266)), \"\", 競技者一覧!K266)","v":""},{"$f":"IF(OR(競技者一覧!L266=0, ISERROR(競技者一覧!L266)), \"\", 競技者一覧!L266)","v":""},{"$f":"IF(OR(競技者一覧!M266=0, ISERROR(競技者一覧!M266)), \"\", 競技者一覧!M266)","v":""},{"$f":"IF(OR(競技者一覧!N266=0, ISERROR(競技者一覧!N266)), \"\", 競技者一覧!N266)","v":""},{"$f":"IF(OR(競技者一覧!O266=0, ISERROR(競技者一覧!O266)), \"\", 競技者一覧!O266)","v":""},{"$f":"IF(OR(競技者一覧!P266=0, ISERROR(競技者一覧!P266)), \"\", 競技者一覧!P266)","v":""},{"$f":"IF(OR(競技者一覧!Q266=0, ISERROR(競技者一覧!Q266)), \"\", 競技者一覧!Q266)","v":""},{"$f":"IF(OR(競技者一覧!R266=0, ISERROR(競技者一覧!R266)), \"\", 競技者一覧!R266)","v":""},{"$f":"IF(OR(競技者一覧!S266=0, ISERROR(競技者一覧!S266)), \"\", 競技者一覧!S266)","v":""},{"$f":"IF(OR(競技者一覧!T266=0, ISERROR(競技者一覧!T266)), \"\", 競技者一覧!T266)","v":""},245]
[{"$f":"団体CSV!C247","v":""},{"$f":"団体CSV!D247","v":""},{"$f":"団体CSV!E247","v":" "},{"$f":"IFERROR(VLOOKUP(競技者一覧!I267,Sheet4!$J$2:$K$3,2,FALSE),\"\")","v":""},{"$f":"IF(OR(競技者一覧!J267=0, ISERROR(競技者一覧!J267)), \"\", 競技者一覧!J267)","v":""},{"$f":"IF(OR(競技者一覧!K267=0, ISERROR(競技者一覧!K267)), \"\", 競技者一覧!K267)","v":""},{"$f":"IF(OR(競技者一覧!L267=0, ISERROR(競技者一覧!L267)), \"\", 競技者一覧!L267)","v":""},{"$f":"IF(OR(競技者一覧!M267=0, ISERROR(競技者一覧!M267)), \"\", 競技者一覧!M267)","v":""},{"$f":"IF(OR(競技者一覧!N267=0, ISERROR(競技者一覧!N267)), \"\", 競技者一覧!N267)","v":""},{"$f":"IF(OR(競技者一覧!O267=0, ISERROR(競技者一覧!O267)), \"\", 競技者一覧!O267)","v":""},{"$f":"IF(OR(競技者一覧!P267=0, ISERROR(競技者一覧!P267)), \"\", 競技者一覧!P267)","v":""},{"$f":"IF(OR(競技者一覧!Q267=0, ISERROR(競技者一覧!Q267)), \"\", 競技者一覧!Q267)","v":""},{"$f":"IF(OR(競技者一覧!R267=0, ISERROR(競技者一覧!R267)), \"\", 競技者一覧!R267)","v":""},{"$f":"IF(OR(競技者一覧!S267=0, ISERROR(競技者一覧!S267)), \"\", 競技者一覧!S267)","v":""},{"$f":"IF(OR(競技者一覧!T267=0, ISERROR(競技者一覧!T267)), \"\", 競技者一覧!T267)","v":""},246]
[{"$f":"団体CSV!C248","v":""},{"$f":"団体CSV!D248","v":""},{"$f":"団体CSV!E248","v":" "},{"$f":"IFERROR(VLOOKUP(競技者一覧!I268,Sheet4!$J$2:$K$3,2,FALSE),\"\")","v":""},{"$f":"IF(OR(競技者一覧!J268=0, ISERROR(競技者一覧!J268)), \"\", 競技者一覧!J268)","v":""},{"$f":"IF(OR(競技者一覧!K268=0, ISERROR(競技者一覧!K268)), \"\", 競技者一覧!K268)","v":""},{"$f":"IF(OR(競技者一覧!L268=0, ISERROR(競技者一覧!L268)), \"\", 競技者一覧!L268)","v":""},{"$f":"IF(OR(競技者一覧!M268=0, ISERROR(競技者一覧!M268)), \"\", 競技者一覧!M268)","v":""},{"$f":"IF(OR(競技者一覧!N268=0, ISERROR(競技者一覧!N268)), \"\", 競技者一覧!N268)","v":""},{"$f":"IF(OR(競技者一覧!O268=0, ISERROR(競技者一覧!O268)), \"\", 競技者一覧!O268)","v":""},{"$f":"IF(OR(競技者一覧!P268=0, ISERROR(競技者一覧!P268)), \"\", 競技者一覧!P268)","v":""},{"$f":"IF(OR(競技者一覧!Q268=0, ISERROR(競技者一覧!Q268)), \"\", 競技者一覧!Q268)","v":""},{"$f":"IF(OR(競技者一覧!R268=0, ISERROR(競技者一覧!R268)), \"\", 競技者一覧!R268)","v":""},{"$f":"IF(OR(競技者一覧!S268=0, ISERROR(競技者一覧!S268)), \"\", 競技者一覧!S268)","v":""},{"$f":"IF(OR(競技者一覧!T268=0, ISERROR(競技者一覧!T268)), \"\", 競技者一覧!T268)","v":""},247]
[{"$f":"団体CSV!C249","v":""},{"$f":"団体CSV!D249","v":""},{"$f":"団体CSV!E249","v":" "},{"$f":"IFERROR(VLOOKUP(競技者一覧!I269,Sheet4!$J$2:$K$3,2,FALSE),\"\")","v":""},{"$f":"IF(OR(競技者一覧!J269=0, ISERROR(競技者一覧!J269)), \"\", 競技者一覧!J269)","v":""},{"$f":"IF(OR(競技者一覧!K269=0, ISERROR(競技者一覧!K269)), \"\", 競技者一覧!K269)","v":""},{"$f":"IF(OR(競技者一覧!L269=0, ISERROR(競技者一覧!L269)), \"\", 競技者一覧!L269)","v":""},{"$f":"IF(OR(競技者一覧!M269=0, ISERROR(競技者一覧!M269)), \"\", 競技者一覧!M269)","v":""},{"$f":"IF(OR(競技者一覧!N269=0, ISERROR(競技者一覧!N269)), \"\", 競技者一覧!N269)","v":""},{"$f":"IF(OR(競技者一覧!O269=0, ISERROR(競技者一覧!O269)), \"\", 競技者一覧!O269)","v":""},{"$f":"IF(OR(競技者一覧!P269=0, ISERROR(競技者一覧!P269)), \"\", 競技者一覧!P269)","v":""},{"$f":"IF(OR(競技者一覧!Q269=0, ISERROR(競技者一覧!Q269)), \"\", 競技者一覧!Q269)","v":""},{"$f":"IF(OR(競技者一覧!R269=0, ISERROR(競技者一覧!R269)), \"\", 競技者一覧!R269)","v":""},{"$f":"IF(OR(競技者一覧!S269=0, ISERROR(競技者一覧!S269)), \"\", 競技者一覧!S269)","v":""},{"$f":"IF(OR(競技者一覧!T269=0, ISERROR(競技者一覧!T269)), \"\", 競技者一覧!T269)","v":""},248]
[{"$f":"団体CSV!C250","v":""},{"$f":"団体CSV!D250","v":""},{"$f":"団体CSV!E250","v":" "},{"$f":"IFERROR(VLOOKUP(競技者一覧!I270,Sheet4!$J$2:$K$3,2,FALSE),\"\")","v":""},{"$f":"IF(OR(競技者一覧!J270=0, ISERROR(競技者一覧!J270)), \"\", 競技者一覧!J270)","v":""},{"$f":"IF(OR(競技者一覧!K270=0, ISERROR(競技者一覧!K270)), \"\", 競技者一覧!K270)","v":""},{"$f":"IF(OR(競技者一覧!L270=0, ISERROR(競技者一覧!L270)), \"\", 競技者一覧!L270)","v":""},{"$f":"IF(OR(競技者一覧!M270=0, ISERROR(競技者一覧!M270)), \"\", 競技者一覧!M270)","v":""},{"$f":"IF(OR(競技者一覧!N270=0, ISERROR(競技者一覧!N270)), \"\", 競技者一覧!N270)","v":""},{"$f":"IF(OR(競技者一覧!O270=0, ISERROR(競技者一覧!O270)), \"\", 競技者一覧!O270)","v":""},{"$f":"IF(OR(競技者一覧!P270=0, ISERROR(競技者一覧!P270)), \"\", 競技者一覧!P270)","v":""},{"$f":"IF(OR(競技者一覧!Q270=0, ISERROR(競技者一覧!Q270)), \"\", 競技者一覧!Q270)","v":""},{"$f":"IF(OR(競技者一覧!R270=0, ISERROR(競技者一覧!R270)), \"\", 競技者一覧!R270)","v":""},{"$f":"IF(OR(競技者一覧!S270=0, ISERROR(競技者一覧!S270)), \"\", 競技者一覧!S270)","v":""},{"$f":"IF(OR(競技者一覧!T270=0, ISERROR(競技者一覧!T270)), \"\", 競技者一覧!T270)","v":""},249]
[{"$f":"団体CSV!C251","v":""},{"$f":"団体CSV!D251","v":""},{"$f":"団体CSV!E251","v":" "},{"$f":"IFERROR(VLOOKUP(競技者一覧!I271,Sheet4!$J$2:$K$3,2,FALSE),\"\")","v":""},{"$f":"IF(OR(競技者一覧!J271=0, ISERROR(競技者一覧!J271)), \"\", 競技者一覧!J271)","v":""},{"$f":"IF(OR(競技者一覧!K271=0, ISERROR(競技者一覧!K271)), \"\", 競技者一覧!K271)","v":""},{"$f":"IF(OR(競技者一覧!L271=0, ISERROR(競技者一覧!L271)), \"\", 競技者一覧!L271)","v":""},{"$f":"IF(OR(競技者一覧!M271=0, ISERROR(競技者一覧!M271)), \"\", 競技者一覧!M271)","v":""},{"$f":"IF(OR(競技者一覧!N271=0, ISERROR(競技者一覧!N271)), \"\", 競技者一覧!N271)","v":""},{"$f":"IF(OR(競技者一覧!O271=0, ISERROR(競技者一覧!O271)), \"\", 競技者一覧!O271)","v":""},{"$f":"IF(OR(競技者一覧!P271=0, ISERROR(競技者一覧!P271)), \"\", 競技者一覧!P271)","v":""},{"$f":"IF(OR(競技者一覧!Q271=0, ISERROR(競技者一覧!Q271)), \"\", 競技者一覧!Q271)","v":""},{"$f":"IF(OR(競技者一覧!R271=0, ISERROR(競技者一覧!R271)), \"\", 競技者一覧!R271)","v":""},{"$f":"IF(OR(競技者一覧!S271=0, ISERROR(競技者一覧!S271)), \"\", 競技者一覧!S271)","v":""},{"$f":"IF(OR(競技者一覧!T271=0, ISERROR(競技者一覧!T271)), \"\", 競技者一覧!T271)","v":""},250]
[{"$f":"団体CSV!C252","v":""},{"$f":"団体CSV!D252","v":""},{"$f":"団体CSV!E252","v":" "},{"$f":"IFERROR(VLOOKUP(競技者一覧!I272,Sheet4!$J$2:$K$3,2,FALSE),\"\")","v":""},{"$f":"IF(OR(競技者一覧!J272=0, ISERROR(競技者一覧!J272)), \"\", 競技者一覧!J272)","v":""},{"$f":"IF(OR(競技者一覧!K272=0, ISERROR(競技者一覧!K272)), \"\", 競技者一覧!K272)","v":""},{"$f":"IF(OR(競技者一覧!L272=0, ISERROR(競技者一覧!L272)), \"\", 競技者一覧!L272)","v":""},{"$f":"IF(OR(競技者一覧!M272=0, ISERROR(競技者一覧!M272)), \"\", 競技者一覧!M272)","v":""},{"$f":"IF(OR(競技者一覧!N272=0, ISERROR(競技者一覧!N272)), \"\", 競技者一覧!N272)","v":""},{"$f":"IF(OR(競技者一覧!O272=0, ISERROR(競技者一覧!O272)), \"\", 競技者一覧!O272)","v":""},{"$f":"IF(OR(競技者一覧!P272=0, ISERROR(競技者一覧!P272)), \"\", 競技者一覧!P272)","v":""},{"$f":"IF(OR(競技者一覧!Q272=0, ISERROR(競技者一覧!Q272)), \"\", 競技者一覧!Q272)","v":""},{"$f":"IF(OR(競技者一覧!R272=0, ISERROR(競技者一覧!R272)), \"\", 競技者一覧!R272)","v":""},{"$f":"IF(OR(競技者一覧!S272=0, ISERROR(競技者一覧!S272)), \"\", 競技者一覧!S272)","v":""},{"$f":"IF(OR(競技者一覧!T272=0, ISERROR(競技者一覧!T272)), \"\", 競技者一覧!T272)","v":""},251]
[{"$f":"団体CSV!C253","v":""},{"$f":"団体CSV!D253","v":""},{"$f":"団体CSV!E253","v":" "},{"$f":"IFERROR(VLOOKUP(競技者一覧!I273,Sheet4!$J$2:$K$3,2,FALSE),\"\")","v":""},{"$f":"IF(OR(競技者一覧!J273=0, ISERROR(競技者一覧!J273)), \"\", 競技者一覧!J273)","v":""},{"$f":"IF(OR(競技者一覧!K273=0, ISERROR(競技者一覧!K273)), \"\", 競技者一覧!K273)","v":""},{"$f":"IF(OR(競技者一覧!L273=0, ISERROR(競技者一覧!L273)), \"\", 競技者一覧!L273)","v":""},{"$f":"IF(OR(競技者一覧!M273=0, ISERROR(競技者一覧!M273)), \"\", 競技者一覧!M273)","v":""},{"$f":"IF(OR(競技者一覧!N273=0, ISERROR(競技者一覧!N273)), \"\", 競技者一覧!N273)","v":""},{"$f":"IF(OR(競技者一覧!O273=0, ISERROR(競技者一覧!O273)), \"\", 競技者一覧!O273)","v":""},{"$f":"IF(OR(競技者一覧!P273=0, ISERROR(競技者一覧!P273)), \"\", 競技者一覧!P273)","v":""},{"$f":"IF(OR(競技者一覧!Q273=0, ISERROR(競技者一覧!Q273)), \"\", 競技者一覧!Q273)","v":""},{"$f":"IF(OR(競技者一覧!R273=0, ISERROR(競技者一覧!R273)), \"\", 競技者一覧!R273)","v":""},{"$f":"IF(OR(競技者一覧!S273=0, ISERROR(競技者一覧!S273)), \"\", 競技者一覧!S273)","v":""},{"$f":"IF(OR(競技者一覧!T273=0, ISERROR(競技者一覧!T273)), \"\", 競技者一覧!T273)","v":""},252]
[{"$f":"団体CSV!C254","v":""},{"$f":"団体CSV!D254","v":""},{"$f":"団体CSV!E254","v":" "},{"$f":"IFERROR(VLOOKUP(競技者一覧!I274,Sheet4!$J$2:$K$3,2,FALSE),\"\")","v":""},{"$f":"IF(OR(競技者一覧!J274=0, ISERROR(競技者一覧!J274)), \"\", 競技者一覧!J274)","v":""},{"$f":"IF(OR(競技者一覧!K274=0, ISERROR(競技者一覧!K274)), \"\", 競技者一覧!K274)","v":""},{"$f":"IF(OR(競技者一覧!L274=0, ISERROR(競技者一覧!L274)), \"\", 競技者一覧!L274)","v":""},{"$f":"IF(OR(競技者一覧!M274=0, ISERROR(競技者一覧!M274)), \"\", 競技者一覧!M274)","v":""},{"$f":"IF(OR(競技者一覧!N274=0, ISERROR(競技者一覧!N274)), \"\", 競技者一覧!N274)","v":""},{"$f":"IF(OR(競技者一覧!O274=0, ISERROR(競技者一覧!O274)), \"\", 競技者一覧!O274)","v":""},{"$f":"IF(OR(競技者一覧!P274=0, ISERROR(競技者一覧!P274)), \"\", 競技者一覧!P274)","v":""},{"$f":"IF(OR(競技者一覧!Q274=0, ISERROR(競技者一覧!Q274)), \"\", 競技者一覧!Q274)","v":""},{"$f":"IF(OR(競技者一覧!R274=0, ISERROR(競技者一覧!R274)), \"\", 競技者一覧!R274)","v":""},{"$f":"IF(OR(競技者一覧!S274=0, ISERROR(競技者一覧!S274)), \"\", 競技者一覧!S274)","v":""},{"$f":"IF(OR(競技者一覧!T274=0, ISERROR(競技者一覧!T274)), \"\", 競技者一覧!T274)","v":""},253]
[{"$f":"団体CSV!C255","v":""},{"$f":"団体CSV!D255","v":""},{"$f":"団体CSV!E255","v":" "},{"$f":"IFERROR(VLOOKUP(競技者一覧!I275,Sheet4!$J$2:$K$3,2,FALSE),\"\")","v":""},{"$f":"IF(OR(競技者一覧!J275=0, ISERROR(競技者一覧!J275)), \"\", 競技者一覧!J275)","v":""},{"$f":"IF(OR(競技者一覧!K275=0, ISERROR(競技者一覧!K275)), \"\", 競技者一覧!K275)","v":""},{"$f":"IF(OR(競技者一覧!L275=0, ISERROR(競技者一覧!L275)), \"\", 競技者一覧!L275)","v":""},{"$f":"IF(OR(競技者一覧!M275=0, ISERROR(競技者一覧!M275)), \"\", 競技者一覧!M275)","v":""},{"$f":"IF(OR(競技者一覧!N275=0, ISERROR(競技者一覧!N275)), \"\", 競技者一覧!N275)","v":""},{"$f":"IF(OR(競技者一覧!O275=0, ISERROR(競技者一覧!O275)), \"\", 競技者一覧!O275)","v":""},{"$f":"IF(OR(競技者一覧!P275=0, ISERROR(競技者一覧!P275)), \"\", 競技者一覧!P275)","v":""},{"$f":"IF(OR(競技者一覧!Q275=0, ISERROR(競技者一覧!Q275)), \"\", 競技者一覧!Q275)","v":""},{"$f":"IF(OR(競技者一覧!R275=0, ISERROR(競技者一覧!R275)), \"\", 競技者一覧!R275)","v":""},{"$f":"IF(OR(競技者一覧!S275=0, ISERROR(競技者一覧!S275)), \"\", 競技者一覧!S275)","v":""},{"$f":"IF(OR(競技者一覧!T275=0, ISERROR(競技者一覧!T275)), \"\", 競技者一覧!T275)","v":""},254]
[{"$f":"団体CSV!C256","v":""},{"$f":"団体CSV!D256","v":""},{"$f":"団体CSV!E256","v":" "},{"$f":"IFERROR(VLOOKUP(競技者一覧!I276,Sheet4!$J$2:$K$3,2,FALSE),\"\")","v":""},{"$f":"IF(OR(競技者一覧!J276=0, ISERROR(競技者一覧!J276)), \"\", 競技者一覧!J276)","v":""},{"$f":"IF(OR(競技者一覧!K276=0, ISERROR(競技者一覧!K276)), \"\", 競技者一覧!K276)","v":""},{"$f":"IF(OR(競技者一覧!L276=0, ISERROR(競技者一覧!L276)), \"\", 競技者一覧!L276)","v":""},{"$f":"IF(OR(競技者一覧!M276=0, ISERROR(競技者一覧!M276)), \"\", 競技者一覧!M276)","v":""},{"$f":"IF(OR(競技者一覧!N276=0, ISERROR(競技者一覧!N276)), \"\", 競技者一覧!N276)","v":""},{"$f":"IF(OR(競技者一覧!O276=0, ISERROR(競技者一覧!O276)), \"\", 競技者一覧!O276)","v":""},{"$f":"IF(OR(競技者一覧!P276=0, ISERROR(競技者一覧!P276)), \"\", 競技者一覧!P276)","v":""},{"$f":"IF(OR(競技者一覧!Q276=0, ISERROR(競技者一覧!Q276)), \"\", 競技者一覧!Q276)","v":""},{"$f":"IF(OR(競技者一覧!R276=0, ISERROR(競技者一覧!R276)), \"\", 競技者一覧!R276)","v":""},{"$f":"IF(OR(競技者一覧!S276=0, ISERROR(競技者一覧!S276)), \"\", 競技者一覧!S276)","v":""},{"$f":"IF(OR(競技者一覧!T276=0, ISERROR(競技者一覧!T276)), \"\", 競技者一覧!T276)","v":""},255]
[{"$f":"団体CSV!C257","v":""},{"$f":"団体CSV!D257","v":""},{"$f":"団体CSV!E257","v":" "},{"$f":"IFERROR(VLOOKUP(競技者一覧!I277,Sheet4!$J$2:$K$3,2,FALSE),\"\")","v":""},{"$f":"IF(OR(競技者一覧!J277=0, ISERROR(競技者一覧!J277)), \"\", 競技者一覧!J277)","v":""},{"$f":"IF(OR(競技者一覧!K277=0, ISERROR(競技者一覧!K277)), \"\", 競技者一覧!K277)","v":""},{"$f":"IF(OR(競技者一覧!L277=0, ISERROR(競技者一覧!L277)), \"\", 競技者一覧!L277)","v":""},{"$f":"IF(OR(競技者一覧!M277=0, ISERROR(競技者一覧!M277)), \"\", 競技者一覧!M277)","v":""},{"$f":"IF(OR(競技者一覧!N277=0, ISERROR(競技者一覧!N277)), \"\", 競技者一覧!N277)","v":""},{"$f":"IF(OR(競技者一覧!O277=0, ISERROR(競技者一覧!O277)), \"\", 競技者一覧!O277)","v":""},{"$f":"IF(OR(競技者一覧!P277=0, ISERROR(競技者一覧!P277)), \"\", 競技者一覧!P277)","v":""},{"$f":"IF(OR(競技者一覧!Q277=0, ISERROR(競技者一覧!Q277)), \"\", 競技者一覧!Q277)","v":""},{"$f":"IF(OR(競技者一覧!R277=0, ISERROR(競技者一覧!R277)), \"\", 競技者一覧!R277)","v":""},{"$f":"IF(OR(競技者一覧!S277=0, ISERROR(競技者一覧!S277)), \"\", 競技者一覧!S277)","v":""},{"$f":"IF(OR(競技者一覧!T277=0, ISERROR(競技者一覧!T277)), \"\", 競技者一覧!T277)","v":""},256]
[{"$f":"団体CSV!C258","v":""},{"$f":"団体CSV!D258","v":""},{"$f":"団体CSV!E258","v":" "},{"$f":"IFERROR(VLOOKUP(競技者一覧!I278,Sheet4!$J$2:$K$3,2,FALSE),\"\")","v":""},{"$f":"IF(OR(競技者一覧!J278=0, ISERROR(競技者一覧!J278)), \"\", 競技者一覧!J278)","v":""},{"$f":"IF(OR(競技者一覧!K278=0, ISERROR(競技者一覧!K278)), \"\", 競技者一覧!K278)","v":""},{"$f":"IF(OR(競技者一覧!L278=0, ISERROR(競技者一覧!L278)), \"\", 競技者一覧!L278)","v":""},{"$f":"IF(OR(競技者一覧!M278=0, ISERROR(競技者一覧!M278)), \"\", 競技者一覧!M278)","v":""},{"$f":"IF(OR(競技者一覧!N278=0, ISERROR(競技者一覧!N278)), \"\", 競技者一覧!N278)","v":""},{"$f":"IF(OR(競技者一覧!O278=0, ISERROR(競技者一覧!O278)), \"\", 競技者一覧!O278)","v":""},{"$f":"IF(OR(競技者一覧!P278=0, ISERROR(競技者一覧!P278)), \"\", 競技者一覧!P278)","v":""},{"$f":"IF(OR(競技者一覧!Q278=0, ISERROR(競技者一覧!Q278)), \"\", 競技者一覧!Q278)","v":""},{"$f":"IF(OR(競技者一覧!R278=0, ISERROR(競技者一覧!R278)), \"\", 競技者一覧!R278)","v":""},{"$f":"IF(OR(競技者一覧!S278=0, ISERROR(競技者一覧!S278)), \"\", 競技者一覧!S278)","v":""},{"$f":"IF(OR(競技者一覧!T278=0, ISERROR(競技者一覧!T278)), \"\", 競技者一覧!T278)","v":""},257]
[{"$f":"団体CSV!C259","v":""},{"$f":"団体CSV!D259","v":""},{"$f":"団体CSV!E259","v":" "},{"$f":"IFERROR(VLOOKUP(競技者一覧!I279,Sheet4!$J$2:$K$3,2,FALSE),\"\")","v":""},{"$f":"IF(OR(競技者一覧!J279=0, ISERROR(競技者一覧!J279)), \"\", 競技者一覧!J279)","v":""},{"$f":"IF(OR(競技者一覧!K279=0, ISERROR(競技者一覧!K279)), \"\", 競技者一覧!K279)","v":""},{"$f":"IF(OR(競技者一覧!L279=0, ISERROR(競技者一覧!L279)), \"\", 競技者一覧!L279)","v":""},{"$f":"IF(OR(競技者一覧!M279=0, ISERROR(競技者一覧!M279)), \"\", 競技者一覧!M279)","v":""},{"$f":"IF(OR(競技者一覧!N279=0, ISERROR(競技者一覧!N279)), \"\", 競技者一覧!N279)","v":""},{"$f":"IF(OR(競技者一覧!O279=0, ISERROR(競技者一覧!O279)), \"\", 競技者一覧!O279)","v":""},{"$f":"IF(OR(競技者一覧!P279=0, ISERROR(競技者一覧!P279)), \"\", 競技者一覧!P279)","v":""},{"$f":"IF(OR(競技者一覧!Q279=0, ISERROR(競技者一覧!Q279)), \"\", 競技者一覧!Q279)","v":""},{"$f":"IF(OR(競技者一覧!R279=0, ISERROR(競技者一覧!R279)), \"\", 競技者一覧!R279)","v":""},{"$f":"IF(OR(競技者一覧!S279=0, ISERROR(競技者一覧!S279)), \"\", 競技者一覧!S279)","v":""},{"$f":"IF(OR(競技者一覧!T279=0, ISERROR(競技者一覧!T279)), \"\", 競技者一覧!T279)","v":""},258]
[{"$f":"団体CSV!C260","v":""},{"$f":"団体CSV!D260","v":""},{"$f":"団体CSV!E260","v":" "},{"$f":"IFERROR(VLOOKUP(競技者一覧!I280,Sheet4!$J$2:$K$3,2,FALSE),\"\")","v":""},{"$f":"IF(OR(競技者一覧!J280=0, ISERROR(競技者一覧!J280)), \"\", 競技者一覧!J280)","v":""},{"$f":"IF(OR(競技者一覧!K280=0, ISERROR(競技者一覧!K280)), \"\", 競技者一覧!K280)","v":""},{"$f":"IF(OR(競技者一覧!L280=0, ISERROR(競技者一覧!L280)), \"\", 競技者一覧!L280)","v":""},{"$f":"IF(OR(競技者一覧!M280=0, ISERROR(競技者一覧!M280)), \"\", 競技者一覧!M280)","v":""},{"$f":"IF(OR(競技者一覧!N280=0, ISERROR(競技者一覧!N280)), \"\", 競技者一覧!N280)","v":""},{"$f":"IF(OR(競技者一覧!O280=0, ISERROR(競技者一覧!O280)), \"\", 競技者一覧!O280)","v":""},{"$f":"IF(OR(競技者一覧!P280=0, ISERROR(競技者一覧!P280)), \"\", 競技者一覧!P280)","v":""},{"$f":"IF(OR(競技者一覧!Q280=0, ISERROR(競技者一覧!Q280)), \"\", 競技者一覧!Q280)","v":""},{"$f":"IF(OR(競技者一覧!R280=0, ISERROR(競技者一覧!R280)), \"\", 競技者一覧!R280)","v":""},{"$f":"IF(OR(競技者一覧!S280=0, ISERROR(競技者一覧!S280)), \"\", 競技者一覧!S280)","v":""},{"$f":"IF(OR(競技者一覧!T280=0, ISERROR(競技者一覧!T280)), \"\", 競技者一覧!T280)","v":""},259]
[{"$f":"団体CSV!C261","v":""},{"$f":"団体CSV!D261","v":""},{"$f":"団体CSV!E261","v":" "},{"$f":"IFERROR(VLOOKUP(競技者一覧!I281,Sheet4!$J$2:$K$3,2,FALSE),\"\")","v":""},{"$f":"IF(OR(競技者一覧!J281=0, ISERROR(競技者一覧!J281)), \"\", 競技者一覧!J281)","v":""},{"$f":"IF(OR(競技者一覧!K281=0, ISERROR(競技者一覧!K281)), \"\", 競技者一覧!K281)","v":""},{"$f":"IF(OR(競技者一覧!L281=0, ISERROR(競技者一覧!L281)), \"\", 競技者一覧!L281)","v":""},{"$f":"IF(OR(競技者一覧!M281=0, ISERROR(競技者一覧!M281)), \"\", 競技者一覧!M281)","v":""},{"$f":"IF(OR(競技者一覧!N281=0, ISERROR(競技者一覧!N281)), \"\", 競技者一覧!N281)","v":""},{"$f":"IF(OR(競技者一覧!O281=0, ISERROR(競技者一覧!O281)), \"\", 競技者一覧!O281)","v":""},{"$f":"IF(OR(競技者一覧!P281=0, ISERROR(競技者一覧!P281)), \"\", 競技者一覧!P281)","v":""},{"$f":"IF(OR(競技者一覧!Q281=0, ISERROR(競技者一覧!Q281)), \"\", 競技者一覧!Q281)","v":""},{"$f":"IF(OR(競技者一覧!R281=0, ISERROR(競技者一覧!R281)), \"\", 競技者一覧!R281)","v":""},{"$f":"IF(OR(競技者一覧!S281=0, ISERROR(競技者一覧!S281)), \"\", 競技者一覧!S281)","v":""},{"$f":"IF(OR(競技者一覧!T281=0, ISERROR(競技者一覧!T281)), \"\", 競技者一覧!T281)","v":""},260]
[{"$f":"団体CSV!C262","v":""},{"$f":"団体CSV!D262","v":""},{"$f":"団体CSV!E262","v":" "},{"$f":"IFERROR(VLOOKUP(競技者一覧!I282,Sheet4!$J$2:$K$3,2,FALSE),\"\")","v":""},{"$f":"IF(OR(競技者一覧!J282=0, ISERROR(競技者一覧!J282)), \"\", 競技者一覧!J282)","v":""},{"$f":"IF(OR(競技者一覧!K282=0, ISERROR(競技者一覧!K282)), \"\", 競技者一覧!K282)","v":""},{"$f":"IF(OR(競技者一覧!L282=0, ISERROR(競技者一覧!L282)), \"\", 競技者一覧!L282)","v":""},{"$f":"IF(OR(競技者一覧!M282=0, ISERROR(競技者一覧!M282)), \"\", 競技者一覧!M282)","v":""},{"$f":"IF(OR(競技者一覧!N282=0, ISERROR(競技者一覧!N282)), \"\", 競技者一覧!N282)","v":""},{"$f":"IF(OR(競技者一覧!O282=0, ISERROR(競技者一覧!O282)), \"\", 競技者一覧!O282)","v":""},{"$f":"IF(OR(競技者一覧!P282=0, ISERROR(競技者一覧!P282)), \"\", 競技者一覧!P282)","v":""},{"$f":"IF(OR(競技者一覧!Q282=0, ISERROR(競技者一覧!Q282)), \"\", 競技者一覧!Q282)","v":""},{"$f":"IF(OR(競技者一覧!R282=0, ISERROR(競技者一覧!R282)), \"\", 競技者一覧!R282)","v":""},{"$f":"IF(OR(競技者一覧!S282=0, ISERROR(競技者一覧!S282)), \"\", 競技者一覧!S282)","v":""},{"$f":"IF(OR(競技者一覧!T282=0, ISERROR(競技者一覧!T282)), \"\", 競技者一覧!T282)","v":""},261]
[{"$f":"団体CSV!C263","v":""},{"$f":"団体CSV!D263","v":""},{"$f":"団体CSV!E263","v":" "},{"$f":"IFERROR(VLOOKUP(競技者一覧!I283,Sheet4!$J$2:$K$3,2,FALSE),\"\")","v":""},{"$f":"IF(OR(競技者一覧!J283=0, ISERROR(競技者一覧!J283)), \"\", 競技者一覧!J283)","v":""},{"$f":"IF(OR(競技者一覧!K283=0, ISERROR(競技者一覧!K283)), \"\", 競技者一覧!K283)","v":""},{"$f":"IF(OR(競技者一覧!L283=0, ISERROR(競技者一覧!L283)), \"\", 競技者一覧!L283)","v":""},{"$f":"IF(OR(競技者一覧!M283=0, ISERROR(競技者一覧!M283)), \"\", 競技者一覧!M283)","v":""},{"$f":"IF(OR(競技者一覧!N283=0, ISERROR(競技者一覧!N283)), \"\", 競技者一覧!N283)","v":""},{"$f":"IF(OR(競技者一覧!O283=0, ISERROR(競技者一覧!O283)), \"\", 競技者一覧!O283)","v":""},{"$f":"IF(OR(競技者一覧!P283=0, ISERROR(競技者一覧!P283)), \"\", 競技者一覧!P283)","v":""},{"$f":"IF(OR(競技者一覧!Q283=0, ISERROR(競技者一覧!Q283)), \"\", 競技者一覧!Q283)","v":""},{"$f":"IF(OR(競技者一覧!R283=0, ISERROR(競技者一覧!R283)), \"\", 競技者一覧!R283)","v":""},{"$f":"IF(OR(競技者一覧!S283=0, ISERROR(競技者一覧!S283)), \"\", 競技者一覧!S283)","v":""},{"$f":"IF(OR(競技者一覧!T283=0, ISERROR(競技者一覧!T283)), \"\", 競技者一覧!T283)","v":""},262]
[{"$f":"団体CSV!C264","v":""},{"$f":"団体CSV!D264","v":""},{"$f":"団体CSV!E264","v":" "},{"$f":"IFERROR(VLOOKUP(競技者一覧!I284,Sheet4!$J$2:$K$3,2,FALSE),\"\")","v":""},{"$f":"IF(OR(競技者一覧!J284=0, ISERROR(競技者一覧!J284)), \"\", 競技者一覧!J284)","v":""},{"$f":"IF(OR(競技者一覧!K284=0, ISERROR(競技者一覧!K284)), \"\", 競技者一覧!K284)","v":""},{"$f":"IF(OR(競技者一覧!L284=0, ISERROR(競技者一覧!L284)), \"\", 競技者一覧!L284)","v":""},{"$f":"IF(OR(競技者一覧!M284=0, ISERROR(競技者一覧!M284)), \"\", 競技者一覧!M284)","v":""},{"$f":"IF(OR(競技者一覧!N284=0, ISERROR(競技者一覧!N284)), \"\", 競技者一覧!N284)","v":""},{"$f":"IF(OR(競技者一覧!O284=0, ISERROR(競技者一覧!O284)), \"\", 競技者一覧!O284)","v":""},{"$f":"IF(OR(競技者一覧!P284=0, ISERROR(競技者一覧!P284)), \"\", 競技者一覧!P284)","v":""},{"$f":"IF(OR(競技者一覧!Q284=0, ISERROR(競技者一覧!Q284)), \"\", 競技者一覧!Q284)","v":""},{"$f":"IF(OR(競技者一覧!R284=0, ISERROR(競技者一覧!R284)), \"\", 競技者一覧!R284)","v":""},{"$f":"IF(OR(競技者一覧!S284=0, ISERROR(競技者一覧!S284)), \"\", 競技者一覧!S284)","v":""},{"$f":"IF(OR(競技者一覧!T284=0, ISERROR(競技者一覧!T284)), \"\", 競技者一覧!T284)","v":""},263]
[{"$f":"団体CSV!C265","v":""},{"$f":"団体CSV!D265","v":""},{"$f":"団体CSV!E265","v":" "},{"$f":"IFERROR(VLOOKUP(競技者一覧!I285,Sheet4!$J$2:$K$3,2,FALSE),\"\")","v":""},{"$f":"IF(OR(競技者一覧!J285=0, ISERROR(競技者一覧!J285)), \"\", 競技者一覧!J285)","v":""},{"$f":"IF(OR(競技者一覧!K285=0, ISERROR(競技者一覧!K285)), \"\", 競技者一覧!K285)","v":""},{"$f":"IF(OR(競技者一覧!L285=0, ISERROR(競技者一覧!L285)), \"\", 競技者一覧!L285)","v":""},{"$f":"IF(OR(競技者一覧!M285=0, ISERROR(競技者一覧!M285)), \"\", 競技者一覧!M285)","v":""},{"$f":"IF(OR(競技者一覧!N285=0, ISERROR(競技者一覧!N285)), \"\", 競技者一覧!N285)","v":""},{"$f":"IF(OR(競技者一覧!O285=0, ISERROR(競技者一覧!O285)), \"\", 競技者一覧!O285)","v":""},{"$f":"IF(OR(競技者一覧!P285=0, ISERROR(競技者一覧!P285)), \"\", 競技者一覧!P285)","v":""},{"$f":"IF(OR(競技者一覧!Q285=0, ISERROR(競技者一覧!Q285)), \"\", 競技者一覧!Q285)","v":""},{"$f":"IF(OR(競技者一覧!R285=0, ISERROR(競技者一覧!R285)), \"\", 競技者一覧!R285)","v":""},{"$f":"IF(OR(競技者一覧!S285=0, ISERROR(競技者一覧!S285)), \"\", 競技者一覧!S285)","v":""},{"$f":"IF(OR(競技者一覧!T285=0, ISERROR(競技者一覧!T285)), \"\", 競技者一覧!T285)","v":""},264]
[{"$f":"団体CSV!C266","v":""},{"$f":"団体CSV!D266","v":""},{"$f":"団体CSV!E266","v":" "},{"$f":"IFERROR(VLOOKUP(競技者一覧!I286,Sheet4!$J$2:$K$3,2,FALSE),\"\")","v":""},{"$f":"IF(OR(競技者一覧!J286=0, ISERROR(競技者一覧!J286)), \"\", 競技者一覧!J286)","v":""},{"$f":"IF(OR(競技者一覧!K286=0, ISERROR(競技者一覧!K286)), \"\", 競技者一覧!K286)","v":""},{"$f":"IF(OR(競技者一覧!L286=0, ISERROR(競技者一覧!L286)), \"\", 競技者一覧!L286)","v":""},{"$f":"IF(OR(競技者一覧!M286=0, ISERROR(競技者一覧!M286)), \"\", 競技者一覧!M286)","v":""},{"$f":"IF(OR(競技者一覧!N286=0, ISERROR(競技者一覧!N286)), \"\", 競技者一覧!N286)","v":""},{"$f":"IF(OR(競技者一覧!O286=0, ISERROR(競技者一覧!O286)), \"\", 競技者一覧!O286)","v":""},{"$f":"IF(OR(競技者一覧!P286=0, ISERROR(競技者一覧!P286)), \"\", 競技者一覧!P286)","v":""},{"$f":"IF(OR(競技者一覧!Q286=0, ISERROR(競技者一覧!Q286)), \"\", 競技者一覧!Q286)","v":""},{"$f":"IF(OR(競技者一覧!R286=0, ISERROR(競技者一覧!R286)), \"\", 競技者一覧!R286)","v":""},{"$f":"IF(OR(競技者一覧!S286=0, ISERROR(競技者一覧!S286)), \"\", 競技者一覧!S286)","v":""},{"$f":"IF(OR(競技者一覧!T286=0, ISERROR(競技者一覧!T286)), \"\", 競技者一覧!T286)","v":""},265]
[{"$f":"団体CSV!C267","v":""},{"$f":"団体CSV!D267","v":""},{"$f":"団体CSV!E267","v":" "},{"$f":"IFERROR(VLOOKUP(競技者一覧!I287,Sheet4!$J$2:$K$3,2,FALSE),\"\")","v":""},{"$f":"IF(OR(競技者一覧!J287=0, ISERROR(競技者一覧!J287)), \"\", 競技者一覧!J287)","v":""},{"$f":"IF(OR(競技者一覧!K287=0, ISERROR(競技者一覧!K287)), \"\", 競技者一覧!K287)","v":""},{"$f":"IF(OR(競技者一覧!L287=0, ISERROR(競技者一覧!L287)), \"\", 競技者一覧!L287)","v":""},{"$f":"IF(OR(競技者一覧!M287=0, ISERROR(競技者一覧!M287)), \"\", 競技者一覧!M287)","v":""},{"$f":"IF(OR(競技者一覧!N287=0, ISERROR(競技者一覧!N287)), \"\", 競技者一覧!N287)","v":""},{"$f":"IF(OR(競技者一覧!O287=0, ISERROR(競技者一覧!O287)), \"\", 競技者一覧!O287)","v":""},{"$f":"IF(OR(競技者一覧!P287=0, ISERROR(競技者一覧!P287)), \"\", 競技者一覧!P287)","v":""},{"$f":"IF(OR(競技者一覧!Q287=0, ISERROR(競技者一覧!Q287)), \"\", 競技者一覧!Q287)","v":""},{"$f":"IF(OR(競技者一覧!R287=0, ISERROR(競技者一覧!R287)), \"\", 競技者一覧!R287)","v":""},{"$f":"IF(OR(競技者一覧!S287=0, ISERROR(競技者一覧!S287)), \"\", 競技者一覧!S287)","v":""},{"$f":"IF(OR(競技者一覧!T287=0, ISERROR(競技者一覧!T287)), \"\", 競技者一覧!T287)","v":""},266]
[{"$f":"団体CSV!C268","v":""},{"$f":"団体CSV!D268","v":""},{"$f":"団体CSV!E268","v":" "},{"$f":"IFERROR(VLOOKUP(競技者一覧!I288,Sheet4!$J$2:$K$3,2,FALSE),\"\")","v":""},{"$f":"IF(OR(競技者一覧!J288=0, ISERROR(競技者一覧!J288)), \"\", 競技者一覧!J288)","v":""},{"$f":"IF(OR(競技者一覧!K288=0, ISERROR(競技者一覧!K288)), \"\", 競技者一覧!K288)","v":""},{"$f":"IF(OR(競技者一覧!L288=0, ISERROR(競技者一覧!L288)), \"\", 競技者一覧!L288)","v":""},{"$f":"IF(OR(競技者一覧!M288=0, ISERROR(競技者一覧!M288)), \"\", 競技者一覧!M288)","v":""},{"$f":"IF(OR(競技者一覧!N288=0, ISERROR(競技者一覧!N288)), \"\", 競技者一覧!N288)","v":""},{"$f":"IF(OR(競技者一覧!O288=0, ISERROR(競技者一覧!O288)), \"\", 競技者一覧!O288)","v":""},{"$f":"IF(OR(競技者一覧!P288=0, ISERROR(競技者一覧!P288)), \"\", 競技者一覧!P288)","v":""},{"$f":"IF(OR(競技者一覧!Q288=0, ISERROR(競技者一覧!Q288)), \"\", 競技者一覧!Q288)","v":""},{"$f":"IF(OR(競技者一覧!R288=0, ISERROR(競技者一覧!R288)), \"\", 競技者一覧!R288)","v":""},{"$f":"IF(OR(競技者一覧!S288=0, ISERROR(競技者一覧!S288)), \"\", 競技者一覧!S288)","v":""},{"$f":"IF(OR(競技者一覧!T288=0, ISERROR(競技者一覧!T288)), \"\", 競技者一覧!T288)","v":""},267]
[{"$f":"団体CSV!C269","v":""},{"$f":"団体CSV!D269","v":""},{"$f":"団体CSV!E269","v":" "},{"$f":"IFERROR(VLOOKUP(競技者一覧!I289,Sheet4!$J$2:$K$3,2,FALSE),\"\")","v":""},{"$f":"IF(OR(競技者一覧!J289=0, ISERROR(競技者一覧!J289)), \"\", 競技者一覧!J289)","v":""},{"$f":"IF(OR(競技者一覧!K289=0, ISERROR(競技者一覧!K289)), \"\", 競技者一覧!K289)","v":""},{"$f":"IF(OR(競技者一覧!L289=0, ISERROR(競技者一覧!L289)), \"\", 競技者一覧!L289)","v":""},{"$f":"IF(OR(競技者一覧!M289=0, ISERROR(競技者一覧!M289)), \"\", 競技者一覧!M289)","v":""},{"$f":"IF(OR(競技者一覧!N289=0, ISERROR(競技者一覧!N289)), \"\", 競技者一覧!N289)","v":""},{"$f":"IF(OR(競技者一覧!O289=0, ISERROR(競技者一覧!O289)), \"\", 競技者一覧!O289)","v":""},{"$f":"IF(OR(競技者一覧!P289=0, ISERROR(競技者一覧!P289)), \"\", 競技者一覧!P289)","v":""},{"$f":"IF(OR(競技者一覧!Q289=0, ISERROR(競技者一覧!Q289)), \"\", 競技者一覧!Q289)","v":""},{"$f":"IF(OR(競技者一覧!R289=0, ISERROR(競技者一覧!R289)), \"\", 競技者一覧!R289)","v":""},{"$f":"IF(OR(競技者一覧!S289=0, ISERROR(競技者一覧!S289)), \"\", 競技者一覧!S289)","v":""},{"$f":"IF(OR(競技者一覧!T289=0, ISERROR(競技者一覧!T289)), \"\", 競技者一覧!T289)","v":""},268]
[{"$f":"団体CSV!C270","v":""},{"$f":"団体CSV!D270","v":""},{"$f":"団体CSV!E270","v":" "},{"$f":"IFERROR(VLOOKUP(競技者一覧!I290,Sheet4!$J$2:$K$3,2,FALSE),\"\")","v":""},{"$f":"IF(OR(競技者一覧!J290=0, ISERROR(競技者一覧!J290)), \"\", 競技者一覧!J290)","v":""},{"$f":"IF(OR(競技者一覧!K290=0, ISERROR(競技者一覧!K290)), \"\", 競技者一覧!K290)","v":""},{"$f":"IF(OR(競技者一覧!L290=0, ISERROR(競技者一覧!L290)), \"\", 競技者一覧!L290)","v":""},{"$f":"IF(OR(競技者一覧!M290=0, ISERROR(競技者一覧!M290)), \"\", 競技者一覧!M290)","v":""},{"$f":"IF(OR(競技者一覧!N290=0, ISERROR(競技者一覧!N290)), \"\", 競技者一覧!N290)","v":""},{"$f":"IF(OR(競技者一覧!O290=0, ISERROR(競技者一覧!O290)), \"\", 競技者一覧!O290)","v":""},{"$f":"IF(OR(競技者一覧!P290=0, ISERROR(競技者一覧!P290)), \"\", 競技者一覧!P290)","v":""},{"$f":"IF(OR(競技者一覧!Q290=0, ISERROR(競技者一覧!Q290)), \"\", 競技者一覧!Q290)","v":""},{"$f":"IF(OR(競技者一覧!R290=0, ISERROR(競技者一覧!R290)), \"\", 競技者一覧!R290)","v":""},{"$f":"IF(OR(競技者一覧!S290=0, ISERROR(競技者一覧!S290)), \"\", 競技者一覧!S290)","v":""},{"$f":"IF(OR(競技者一覧!T290=0, ISERROR(競技者一覧!T290)), \"\", 競技者一覧!T290)","v":""},269]
[{"$f":"団体CSV!C271","v":""},{"$f":"団体CSV!D271","v":""},{"$f":"団体CSV!E271","v":" "},{"$f":"IFERROR(VLOOKUP(競技者一覧!I291,Sheet4!$J$2:$K$3,2,FALSE),\"\")","v":""},{"$f":"IF(OR(競技者一覧!J291=0, ISERROR(競技者一覧!J291)), \"\", 競技者一覧!J291)","v":""},{"$f":"IF(OR(競技者一覧!K291=0, ISERROR(競技者一覧!K291)), \"\", 競技者一覧!K291)","v":""},{"$f":"IF(OR(競技者一覧!L291=0, ISERROR(競技者一覧!L291)), \"\", 競技者一覧!L291)","v":""},{"$f":"IF(OR(競技者一覧!M291=0, ISERROR(競技者一覧!M291)), \"\", 競技者一覧!M291)","v":""},{"$f":"IF(OR(競技者一覧!N291=0, ISERROR(競技者一覧!N291)), \"\", 競技者一覧!N291)","v":""},{"$f":"IF(OR(競技者一覧!O291=0, ISERROR(競技者一覧!O291)), \"\", 競技者一覧!O291)","v":""},{"$f":"IF(OR(競技者一覧!P291=0, ISERROR(競技者一覧!P291)), \"\", 競技者一覧!P291)","v":""},{"$f":"IF(OR(競技者一覧!Q291=0, ISERROR(競技者一覧!Q291)), \"\", 競技者一覧!Q291)","v":""},{"$f":"IF(OR(競技者一覧!R291=0, ISERROR(競技者一覧!R291)), \"\", 競技者一覧!R291)","v":""},{"$f":"IF(OR(競技者一覧!S291=0, ISERROR(競技者一覧!S291)), \"\", 競技者一覧!S291)","v":""},{"$f":"IF(OR(競技者一覧!T291=0, ISERROR(競技者一覧!T291)), \"\", 競技者一覧!T291)","v":""},270]
[{"$f":"団体CSV!C272","v":""},{"$f":"団体CSV!D272","v":""},{"$f":"団体CSV!E272","v":" "},{"$f":"IFERROR(VLOOKUP(競技者一覧!I292,Sheet4!$J$2:$K$3,2,FALSE),\"\")","v":""},{"$f":"IF(OR(競技者一覧!J292=0, ISERROR(競技者一覧!J292)), \"\", 競技者一覧!J292)","v":""},{"$f":"IF(OR(競技者一覧!K292=0, ISERROR(競技者一覧!K292)), \"\", 競技者一覧!K292)","v":""},{"$f":"IF(OR(競技者一覧!L292=0, ISERROR(競技者一覧!L292)), \"\", 競技者一覧!L292)","v":""},{"$f":"IF(OR(競技者一覧!M292=0, ISERROR(競技者一覧!M292)), \"\", 競技者一覧!M292)","v":""},{"$f":"IF(OR(競技者一覧!N292=0, ISERROR(競技者一覧!N292)), \"\", 競技者一覧!N292)","v":""},{"$f":"IF(OR(競技者一覧!O292=0, ISERROR(競技者一覧!O292)), \"\", 競技者一覧!O292)","v":""},{"$f":"IF(OR(競技者一覧!P292=0, ISERROR(競技者一覧!P292)), \"\", 競技者一覧!P292)","v":""},{"$f":"IF(OR(競技者一覧!Q292=0, ISERROR(競技者一覧!Q292)), \"\", 競技者一覧!Q292)","v":""},{"$f":"IF(OR(競技者一覧!R292=0, ISERROR(競技者一覧!R292)), \"\", 競技者一覧!R292)","v":""},{"$f":"IF(OR(競技者一覧!S292=0, ISERROR(競技者一覧!S292)), \"\", 競技者一覧!S292)","v":""},{"$f":"IF(OR(競技者一覧!T292=0, ISERROR(競技者一覧!T292)), \"\", 競技者一覧!T292)","v":""},271]
[{"$f":"団体CSV!C273","v":""},{"$f":"団体CSV!D273","v":""},{"$f":"団体CSV!E273","v":" "},{"$f":"IFERROR(VLOOKUP(競技者一覧!I293,Sheet4!$J$2:$K$3,2,FALSE),\"\")","v":""},{"$f":"IF(OR(競技者一覧!J293=0, ISERROR(競技者一覧!J293)), \"\", 競技者一覧!J293)","v":""},{"$f":"IF(OR(競技者一覧!K293=0, ISERROR(競技者一覧!K293)), \"\", 競技者一覧!K293)","v":""},{"$f":"IF(OR(競技者一覧!L293=0, ISERROR(競技者一覧!L293)), \"\", 競技者一覧!L293)","v":""},{"$f":"IF(OR(競技者一覧!M293=0, ISERROR(競技者一覧!M293)), \"\", 競技者一覧!M293)","v":""},{"$f":"IF(OR(競技者一覧!N293=0, ISERROR(競技者一覧!N293)), \"\", 競技者一覧!N293)","v":""},{"$f":"IF(OR(競技者一覧!O293=0, ISERROR(競技者一覧!O293)), \"\", 競技者一覧!O293)","v":""},{"$f":"IF(OR(競技者一覧!P293=0, ISERROR(競技者一覧!P293)), \"\", 競技者一覧!P293)","v":""},{"$f":"IF(OR(競技者一覧!Q293=0, ISERROR(競技者一覧!Q293)), \"\", 競技者一覧!Q293)","v":""},{"$f":"IF(OR(競技者一覧!R293=0, ISERROR(競技者一覧!R293)), \"\", 競技者一覧!R293)","v":""},{"$f":"IF(OR(競技者一覧!S293=0, ISERROR(競技者一覧!S293)), \"\", 競技者一覧!S293)","v":""},{"$f":"IF(OR(競技者一覧!T293=0, ISERROR(競技者一覧!T293)), \"\", 競技者一覧!T293)","v":""},272]
[{"$f":"団体CSV!C274","v":""},{"$f":"団体CSV!D274","v":""},{"$f":"団体CSV!E274","v":" "},{"$f":"IFERROR(VLOOKUP(競技者一覧!I294,Sheet4!$J$2:$K$3,2,FALSE),\"\")","v":""},{"$f":"IF(OR(競技者一覧!J294=0, ISERROR(競技者一覧!J294)), \"\", 競技者一覧!J294)","v":""},{"$f":"IF(OR(競技者一覧!K294=0, ISERROR(競技者一覧!K294)), \"\", 競技者一覧!K294)","v":""},{"$f":"IF(OR(競技者一覧!L294=0, ISERROR(競技者一覧!L294)), \"\", 競技者一覧!L294)","v":""},{"$f":"IF(OR(競技者一覧!M294=0, ISERROR(競技者一覧!M294)), \"\", 競技者一覧!M294)","v":""},{"$f":"IF(OR(競技者一覧!N294=0, ISERROR(競技者一覧!N294)), \"\", 競技者一覧!N294)","v":""},{"$f":"IF(OR(競技者一覧!O294=0, ISERROR(競技者一覧!O294)), \"\", 競技者一覧!O294)","v":""},{"$f":"IF(OR(競技者一覧!P294=0, ISERROR(競技者一覧!P294)), \"\", 競技者一覧!P294)","v":""},{"$f":"IF(OR(競技者一覧!Q294=0, ISERROR(競技者一覧!Q294)), \"\", 競技者一覧!Q294)","v":""},{"$f":"IF(OR(競技者一覧!R294=0, ISERROR(競技者一覧!R294)), \"\", 競技者一覧!R294)","v":""},{"$f":"IF(OR(競技者一覧!S294=0, ISERROR(競技者一覧!S294)), \"\", 競技者一覧!S294)","v":""},{"$f":"IF(OR(競技者一覧!T294=0, ISERROR(競技者一覧!T294)), \"\", 競技者一覧!T294)","v":""},273]
[{"$f":"団体CSV!C275","v":""},{"$f":"団体CSV!D275","v":""},{"$f":"団体CSV!E275","v":" "},{"$f":"IFERROR(VLOOKUP(競技者一覧!I295,Sheet4!$J$2:$K$3,2,FALSE),\"\")","v":""},{"$f":"IF(OR(競技者一覧!J295=0, ISERROR(競技者一覧!J295)), \"\", 競技者一覧!J295)","v":""},{"$f":"IF(OR(競技者一覧!K295=0, ISERROR(競技者一覧!K295)), \"\", 競技者一覧!K295)","v":""},{"$f":"IF(OR(競技者一覧!L295=0, ISERROR(競技者一覧!L295)), \"\", 競技者一覧!L295)","v":""},{"$f":"IF(OR(競技者一覧!M295=0, ISERROR(競技者一覧!M295)), \"\", 競技者一覧!M295)","v":""},{"$f":"IF(OR(競技者一覧!N295=0, ISERROR(競技者一覧!N295)), \"\", 競技者一覧!N295)","v":""},{"$f":"IF(OR(競技者一覧!O295=0, ISERROR(競技者一覧!O295)), \"\", 競技者一覧!O295)","v":""},{"$f":"IF(OR(競技者一覧!P295=0, ISERROR(競技者一覧!P295)), \"\", 競技者一覧!P295)","v":""},{"$f":"IF(OR(競技者一覧!Q295=0, ISERROR(競技者一覧!Q295)), \"\", 競技者一覧!Q295)","v":""},{"$f":"IF(OR(競技者一覧!R295=0, ISERROR(競技者一覧!R295)), \"\", 競技者一覧!R295)","v":""},{"$f":"IF(OR(競技者一覧!S295=0, ISERROR(競技者一覧!S295)), \"\", 競技者一覧!S295)","v":""},{"$f":"IF(OR(競技者一覧!T295=0, ISERROR(競技者一覧!T295)), \"\", 競技者一覧!T295)","v":""},274]
[{"$f":"団体CSV!C276","v":""},{"$f":"団体CSV!D276","v":""},{"$f":"団体CSV!E276","v":" "},{"$f":"IFERROR(VLOOKUP(競技者一覧!I296,Sheet4!$J$2:$K$3,2,FALSE),\"\")","v":""},{"$f":"IF(OR(競技者一覧!J296=0, ISERROR(競技者一覧!J296)), \"\", 競技者一覧!J296)","v":""},{"$f":"IF(OR(競技者一覧!K296=0, ISERROR(競技者一覧!K296)), \"\", 競技者一覧!K296)","v":""},{"$f":"IF(OR(競技者一覧!L296=0, ISERROR(競技者一覧!L296)), \"\", 競技者一覧!L296)","v":""},{"$f":"IF(OR(競技者一覧!M296=0, ISERROR(競技者一覧!M296)), \"\", 競技者一覧!M296)","v":""},{"$f":"IF(OR(競技者一覧!N296=0, ISERROR(競技者一覧!N296)), \"\", 競技者一覧!N296)","v":""},{"$f":"IF(OR(競技者一覧!O296=0, ISERROR(競技者一覧!O296)), \"\", 競技者一覧!O296)","v":""},{"$f":"IF(OR(競技者一覧!P296=0, ISERROR(競技者一覧!P296)), \"\", 競技者一覧!P296)","v":""},{"$f":"IF(OR(競技者一覧!Q296=0, ISERROR(競技者一覧!Q296)), \"\", 競技者一覧!Q296)","v":""},{"$f":"IF(OR(競技者一覧!R296=0, ISERROR(競技者一覧!R296)), \"\", 競技者一覧!R296)","v":""},{"$f":"IF(OR(競技者一覧!S296=0, ISERROR(競技者一覧!S296)), \"\", 競技者一覧!S296)","v":""},{"$f":"IF(OR(競技者一覧!T296=0, ISERROR(競技者一覧!T296)), \"\", 競技者一覧!T296)","v":""},275]
[{"$f":"団体CSV!C277","v":""},{"$f":"団体CSV!D277","v":""},{"$f":"団体CSV!E277","v":" "},{"$f":"IFERROR(VLOOKUP(競技者一覧!I297,Sheet4!$J$2:$K$3,2,FALSE),\"\")","v":""},{"$f":"IF(OR(競技者一覧!J297=0, ISERROR(競技者一覧!J297)), \"\", 競技者一覧!J297)","v":""},{"$f":"IF(OR(競技者一覧!K297=0, ISERROR(競技者一覧!K297)), \"\", 競技者一覧!K297)","v":""},{"$f":"IF(OR(競技者一覧!L297=0, ISERROR(競技者一覧!L297)), \"\", 競技者一覧!L297)","v":""},{"$f":"IF(OR(競技者一覧!M297=0, ISERROR(競技者一覧!M297)), \"\", 競技者一覧!M297)","v":""},{"$f":"IF(OR(競技者一覧!N297=0, ISERROR(競技者一覧!N297)), \"\", 競技者一覧!N297)","v":""},{"$f":"IF(OR(競技者一覧!O297=0, ISERROR(競技者一覧!O297)), \"\", 競技者一覧!O297)","v":""},{"$f":"IF(OR(競技者一覧!P297=0, ISERROR(競技者一覧!P297)), \"\", 競技者一覧!P297)","v":""},{"$f":"IF(OR(競技者一覧!Q297=0, ISERROR(競技者一覧!Q297)), \"\", 競技者一覧!Q297)","v":""},{"$f":"IF(OR(競技者一覧!R297=0, ISERROR(競技者一覧!R297)), \"\", 競技者一覧!R297)","v":""},{"$f":"IF(OR(競技者一覧!S297=0, ISERROR(競技者一覧!S297)), \"\", 競技者一覧!S297)","v":""},{"$f":"IF(OR(競技者一覧!T297=0, ISERROR(競技者一覧!T297)), \"\", 競技者一覧!T297)","v":""},276]
[{"$f":"団体CSV!C278","v":""},{"$f":"団体CSV!D278","v":""},{"$f":"団体CSV!E278","v":" "},{"$f":"IFERROR(VLOOKUP(競技者一覧!I298,Sheet4!$J$2:$K$3,2,FALSE),\"\")","v":""},{"$f":"IF(OR(競技者一覧!J298=0, ISERROR(競技者一覧!J298)), \"\", 競技者一覧!J298)","v":""},{"$f":"IF(OR(競技者一覧!K298=0, ISERROR(競技者一覧!K298)), \"\", 競技者一覧!K298)","v":""},{"$f":"IF(OR(競技者一覧!L298=0, ISERROR(競技者一覧!L298)), \"\", 競技者一覧!L298)","v":""},{"$f":"IF(OR(競技者一覧!M298=0, ISERROR(競技者一覧!M298)), \"\", 競技者一覧!M298)","v":""},{"$f":"IF(OR(競技者一覧!N298=0, ISERROR(競技者一覧!N298)), \"\", 競技者一覧!N298)","v":""},{"$f":"IF(OR(競技者一覧!O298=0, ISERROR(競技者一覧!O298)), \"\", 競技者一覧!O298)","v":""},{"$f":"IF(OR(競技者一覧!P298=0, ISERROR(競技者一覧!P298)), \"\", 競技者一覧!P298)","v":""},{"$f":"IF(OR(競技者一覧!Q298=0, ISERROR(競技者一覧!Q298)), \"\", 競技者一覧!Q298)","v":""},{"$f":"IF(OR(競技者一覧!R298=0, ISERROR(競技者一覧!R298)), \"\", 競技者一覧!R298)","v":""},{"$f":"IF(OR(競技者一覧!S298=0, ISERROR(競技者一覧!S298)), \"\", 競技者一覧!S298)","v":""},{"$f":"IF(OR(競技者一覧!T298=0, ISERROR(競技者一覧!T298)), \"\", 競技者一覧!T298)","v":""},277]
[{"$f":"団体CSV!C279","v":""},{"$f":"団体CSV!D279","v":""},{"$f":"団体CSV!E279","v":" "},{"$f":"IFERROR(VLOOKUP(競技者一覧!I299,Sheet4!$J$2:$K$3,2,FALSE),\"\")","v":""},{"$f":"IF(OR(競技者一覧!J299=0, ISERROR(競技者一覧!J299)), \"\", 競技者一覧!J299)","v":""},{"$f":"IF(OR(競技者一覧!K299=0, ISERROR(競技者一覧!K299)), \"\", 競技者一覧!K299)","v":""},{"$f":"IF(OR(競技者一覧!L299=0, ISERROR(競技者一覧!L299)), \"\", 競技者一覧!L299)","v":""},{"$f":"IF(OR(競技者一覧!M299=0, ISERROR(競技者一覧!M299)), \"\", 競技者一覧!M299)","v":""},{"$f":"IF(OR(競技者一覧!N299=0, ISERROR(競技者一覧!N299)), \"\", 競技者一覧!N299)","v":""},{"$f":"IF(OR(競技者一覧!O299=0, ISERROR(競技者一覧!O299)), \"\", 競技者一覧!O299)","v":""},{"$f":"IF(OR(競技者一覧!P299=0, ISERROR(競技者一覧!P299)), \"\", 競技者一覧!P299)","v":""},{"$f":"IF(OR(競技者一覧!Q299=0, ISERROR(競技者一覧!Q299)), \"\", 競技者一覧!Q299)","v":""},{"$f":"IF(OR(競技者一覧!R299=0, ISERROR(競技者一覧!R299)), \"\", 競技者一覧!R299)","v":""},{"$f":"IF(OR(競技者一覧!S299=0, ISERROR(競技者一覧!S299)), \"\", 競技者一覧!S299)","v":""},{"$f":"IF(OR(競技者一覧!T299=0, ISERROR(競技者一覧!T299)), \"\", 競技者一覧!T299)","v":""},278]
[{"$f":"団体CSV!C280","v":""},{"$f":"団体CSV!D280","v":""},{"$f":"団体CSV!E280","v":" "},{"$f":"IFERROR(VLOOKUP(競技者一覧!I300,Sheet4!$J$2:$K$3,2,FALSE),\"\")","v":""},{"$f":"IF(OR(競技者一覧!J300=0, ISERROR(競技者一覧!J300)), \"\", 競技者一覧!J300)","v":""},{"$f":"IF(OR(競技者一覧!K300=0, ISERROR(競技者一覧!K300)), \"\", 競技者一覧!K300)","v":""},{"$f":"IF(OR(競技者一覧!L300=0, ISERROR(競技者一覧!L300)), \"\", 競技者一覧!L300)","v":""},{"$f":"IF(OR(競技者一覧!M300=0, ISERROR(競技者一覧!M300)), \"\", 競技者一覧!M300)","v":""},{"$f":"IF(OR(競技者一覧!N300=0, ISERROR(競技者一覧!N300)), \"\", 競技者一覧!N300)","v":""},{"$f":"IF(OR(競技者一覧!O300=0, ISERROR(競技者一覧!O300)), \"\", 競技者一覧!O300)","v":""},{"$f":"IF(OR(競技者一覧!P300=0, ISERROR(競技者一覧!P300)), \"\", 競技者一覧!P300)","v":""},{"$f":"IF(OR(競技者一覧!Q300=0, ISERROR(競技者一覧!Q300)), \"\", 競技者一覧!Q300)","v":""},{"$f":"IF(OR(競技者一覧!R300=0, ISERROR(競技者一覧!R300)), \"\", 競技者一覧!R300)","v":""},{"$f":"IF(OR(競技者一覧!S300=0, ISERROR(競技者一覧!S300)), \"\", 競技者一覧!S300)","v":""},{"$f":"IF(OR(競技者一覧!T300=0, ISERROR(競技者一覧!T300)), \"\", 競技者一覧!T300)","v":""},279]
[{"$f":"団体CSV!C281","v":""},{"$f":"団体CSV!D281","v":""},{"$f":"団体CSV!E281","v":" "},{"$f":"IFERROR(VLOOKUP(競技者一覧!I301,Sheet4!$J$2:$K$3,2,FALSE),\"\")","v":""},{"$f":"IF(OR(競技者一覧!J301=0, ISERROR(競技者一覧!J301)), \"\", 競技者一覧!J301)","v":""},{"$f":"IF(OR(競技者一覧!K301=0, ISERROR(競技者一覧!K301)), \"\", 競技者一覧!K301)","v":""},{"$f":"IF(OR(競技者一覧!L301=0, ISERROR(競技者一覧!L301)), \"\", 競技者一覧!L301)","v":""},{"$f":"IF(OR(競技者一覧!M301=0, ISERROR(競技者一覧!M301)), \"\", 競技者一覧!M301)","v":""},{"$f":"IF(OR(競技者一覧!N301=0, ISERROR(競技者一覧!N301)), \"\", 競技者一覧!N301)","v":""},{"$f":"IF(OR(競技者一覧!O301=0, ISERROR(競技者一覧!O301)), \"\", 競技者一覧!O301)","v":""},{"$f":"IF(OR(競技者一覧!P301=0, ISERROR(競技者一覧!P301)), \"\", 競技者一覧!P301)","v":""},{"$f":"IF(OR(競技者一覧!Q301=0, ISERROR(競技者一覧!Q301)), \"\", 競技者一覧!Q301)","v":""},{"$f":"IF(OR(競技者一覧!R301=0, ISERROR(競技者一覧!R301)), \"\", 競技者一覧!R301)","v":""},{"$f":"IF(OR(競技者一覧!S301=0, ISERROR(競技者一覧!S301)), \"\", 競技者一覧!S301)","v":""},{"$f":"IF(OR(競技者一覧!T301=0, ISERROR(競技者一覧!T301)), \"\", 競技者一覧!T301)","v":""},280]
[{"$f":"団体CSV!C282","v":""},{"$f":"団体CSV!D282","v":""},{"$f":"団体CSV!E282","v":" "},{"$f":"IFERROR(VLOOKUP(競技者一覧!I302,Sheet4!$J$2:$K$3,2,FALSE),\"\")","v":""},{"$f":"IF(OR(競技者一覧!J302=0, ISERROR(競技者一覧!J302)), \"\", 競技者一覧!J302)","v":""},{"$f":"IF(OR(競技者一覧!K302=0, ISERROR(競技者一覧!K302)), \"\", 競技者一覧!K302)","v":""},{"$f":"IF(OR(競技者一覧!L302=0, ISERROR(競技者一覧!L302)), \"\", 競技者一覧!L302)","v":""},{"$f":"IF(OR(競技者一覧!M302=0, ISERROR(競技者一覧!M302)), \"\", 競技者一覧!M302)","v":""},{"$f":"IF(OR(競技者一覧!N302=0, ISERROR(競技者一覧!N302)), \"\", 競技者一覧!N302)","v":""},{"$f":"IF(OR(競技者一覧!O302=0, ISERROR(競技者一覧!O302)), \"\", 競技者一覧!O302)","v":""},{"$f":"IF(OR(競技者一覧!P302=0, ISERROR(競技者一覧!P302)), \"\", 競技者一覧!P302)","v":""},{"$f":"IF(OR(競技者一覧!Q302=0, ISERROR(競技者一覧!Q302)), \"\", 競技者一覧!Q302)","v":""},{"$f":"IF(OR(競技者一覧!R302=0, ISERROR(競技者一覧!R302)), \"\", 競技者一覧!R302)","v":""},{"$f":"IF(OR(競技者一覧!S302=0, ISERROR(競技者一覧!S302)), \"\", 競技者一覧!S302)","v":""},{"$f":"IF(OR(競技者一覧!T302=0, ISERROR(競技者一覧!T302)), \"\", 競技者一覧!T302)","v":""},281]
[{"$f":"団体CSV!C283","v":""},{"$f":"団体CSV!D283","v":""},{"$f":"団体CSV!E283","v":" "},{"$f":"IFERROR(VLOOKUP(競技者一覧!I303,Sheet4!$J$2:$K$3,2,FALSE),\"\")","v":""},{"$f":"IF(OR(競技者一覧!J303=0, ISERROR(競技者一覧!J303)), \"\", 競技者一覧!J303)","v":""},{"$f":"IF(OR(競技者一覧!K303=0, ISERROR(競技者一覧!K303)), \"\", 競技者一覧!K303)","v":""},{"$f":"IF(OR(競技者一覧!L303=0, ISERROR(競技者一覧!L303)), \"\", 競技者一覧!L303)","v":""},{"$f":"IF(OR(競技者一覧!M303=0, ISERROR(競技者一覧!M303)), \"\", 競技者一覧!M303)","v":""},{"$f":"IF(OR(競技者一覧!N303=0, ISERROR(競技者一覧!N303)), \"\", 競技者一覧!N303)","v":""},{"$f":"IF(OR(競技者一覧!O303=0, ISERROR(競技者一覧!O303)), \"\", 競技者一覧!O303)","v":""},{"$f":"IF(OR(競技者一覧!P303=0, ISERROR(競技者一覧!P303)), \"\", 競技者一覧!P303)","v":""},{"$f":"IF(OR(競技者一覧!Q303=0, ISERROR(競技者一覧!Q303)), \"\", 競技者一覧!Q303)","v":""},{"$f":"IF(OR(競技者一覧!R303=0, ISERROR(競技者一覧!R303)), \"\", 競技者一覧!R303)","v":""},{"$f":"IF(OR(競技者一覧!S303=0, ISERROR(競技者一覧!S303)), \"\", 競技者一覧!S303)","v":""},{"$f":"IF(OR(競技者一覧!T303=0, ISERROR(競技者一覧!T303)), \"\", 競技者一覧!T303)","v":""},282]
[{"$f":"団体CSV!C284","v":""},{"$f":"団体CSV!D284","v":""},{"$f":"団体CSV!E284","v":" "},{"$f":"IFERROR(VLOOKUP(競技者一覧!I304,Sheet4!$J$2:$K$3,2,FALSE),\"\")","v":""},{"$f":"IF(OR(競技者一覧!J304=0, ISERROR(競技者一覧!J304)), \"\", 競技者一覧!J304)","v":""},{"$f":"IF(OR(競技者一覧!K304=0, ISERROR(競技者一覧!K304)), \"\", 競技者一覧!K304)","v":""},{"$f":"IF(OR(競技者一覧!L304=0, ISERROR(競技者一覧!L304)), \"\", 競技者一覧!L304)","v":""},{"$f":"IF(OR(競技者一覧!M304=0, ISERROR(競技者一覧!M304)), \"\", 競技者一覧!M304)","v":""},{"$f":"IF(OR(競技者一覧!N304=0, ISERROR(競技者一覧!N304)), \"\", 競技者一覧!N304)","v":""},{"$f":"IF(OR(競技者一覧!O304=0, ISERROR(競技者一覧!O304)), \"\", 競技者一覧!O304)","v":""},{"$f":"IF(OR(競技者一覧!P304=0, ISERROR(競技者一覧!P304)), \"\", 競技者一覧!P304)","v":""},{"$f":"IF(OR(競技者一覧!Q304=0, ISERROR(競技者一覧!Q304)), \"\", 競技者一覧!Q304)","v":""},{"$f":"IF(OR(競技者一覧!R304=0, ISERROR(競技者一覧!R304)), \"\", 競技者一覧!R304)","v":""},{"$f":"IF(OR(競技者一覧!S304=0, ISERROR(競技者一覧!S304)), \"\", 競技者一覧!S304)","v":""},{"$f":"IF(OR(競技者一覧!T304=0, ISERROR(競技者一覧!T304)), \"\", 競技者一覧!T304)","v":""},283]
[{"$f":"団体CSV!C285","v":""},{"$f":"団体CSV!D285","v":""},{"$f":"団体CSV!E285","v":" "},{"$f":"IFERROR(VLOOKUP(競技者一覧!I305,Sheet4!$J$2:$K$3,2,FALSE),\"\")","v":""},{"$f":"IF(OR(競技者一覧!J305=0, ISERROR(競技者一覧!J305)), \"\", 競技者一覧!J305)","v":""},{"$f":"IF(OR(競技者一覧!K305=0, ISERROR(競技者一覧!K305)), \"\", 競技者一覧!K305)","v":""},{"$f":"IF(OR(競技者一覧!L305=0, ISERROR(競技者一覧!L305)), \"\", 競技者一覧!L305)","v":""},{"$f":"IF(OR(競技者一覧!M305=0, ISERROR(競技者一覧!M305)), \"\", 競技者一覧!M305)","v":""},{"$f":"IF(OR(競技者一覧!N305=0, ISERROR(競技者一覧!N305)), \"\", 競技者一覧!N305)","v":""},{"$f":"IF(OR(競技者一覧!O305=0, ISERROR(競技者一覧!O305)), \"\", 競技者一覧!O305)","v":""},{"$f":"IF(OR(競技者一覧!P305=0, ISERROR(競技者一覧!P305)), \"\", 競技者一覧!P305)","v":""},{"$f":"IF(OR(競技者一覧!Q305=0, ISERROR(競技者一覧!Q305)), \"\", 競技者一覧!Q305)","v":""},{"$f":"IF(OR(競技者一覧!R305=0, ISERROR(競技者一覧!R305)), \"\", 競技者一覧!R305)","v":""},{"$f":"IF(OR(競技者一覧!S305=0, ISERROR(競技者一覧!S305)), \"\", 競技者一覧!S305)","v":""},{"$f":"IF(OR(競技者一覧!T305=0, ISERROR(競技者一覧!T305)), \"\", 競技者一覧!T305)","v":""},284]
[{"$f":"団体CSV!C286","v":""},{"$f":"団体CSV!D286","v":""},{"$f":"団体CSV!E286","v":" "},{"$f":"IFERROR(VLOOKUP(競技者一覧!I306,Sheet4!$J$2:$K$3,2,FALSE),\"\")","v":""},{"$f":"IF(OR(競技者一覧!J306=0, ISERROR(競技者一覧!J306)), \"\", 競技者一覧!J306)","v":""},{"$f":"IF(OR(競技者一覧!K306=0, ISERROR(競技者一覧!K306)), \"\", 競技者一覧!K306)","v":""},{"$f":"IF(OR(競技者一覧!L306=0, ISERROR(競技者一覧!L306)), \"\", 競技者一覧!L306)","v":""},{"$f":"IF(OR(競技者一覧!M306=0, ISERROR(競技者一覧!M306)), \"\", 競技者一覧!M306)","v":""},{"$f":"IF(OR(競技者一覧!N306=0, ISERROR(競技者一覧!N306)), \"\", 競技者一覧!N306)","v":""},{"$f":"IF(OR(競技者一覧!O306=0, ISERROR(競技者一覧!O306)), \"\", 競技者一覧!O306)","v":""},{"$f":"IF(OR(競技者一覧!P306=0, ISERROR(競技者一覧!P306)), \"\", 競技者一覧!P306)","v":""},{"$f":"IF(OR(競技者一覧!Q306=0, ISERROR(競技者一覧!Q306)), \"\", 競技者一覧!Q306)","v":""},{"$f":"IF(OR(競技者一覧!R306=0, ISERROR(競技者一覧!R306)), \"\", 競技者一覧!R306)","v":""},{"$f":"IF(OR(競技者一覧!S306=0, ISERROR(競技者一覧!S306)), \"\", 競技者一覧!S306)","v":""},{"$f":"IF(OR(競技者一覧!T306=0, ISERROR(競技者一覧!T306)), \"\", 競技者一覧!T306)","v":""},285]
[{"$f":"団体CSV!C287","v":""},{"$f":"団体CSV!D287","v":""},{"$f":"団体CSV!E287","v":" "},{"$f":"IFERROR(VLOOKUP(競技者一覧!I307,Sheet4!$J$2:$K$3,2,FALSE),\"\")","v":""},{"$f":"IF(OR(競技者一覧!J307=0, ISERROR(競技者一覧!J307)), \"\", 競技者一覧!J307)","v":""},{"$f":"IF(OR(競技者一覧!K307=0, ISERROR(競技者一覧!K307)), \"\", 競技者一覧!K307)","v":""},{"$f":"IF(OR(競技者一覧!L307=0, ISERROR(競技者一覧!L307)), \"\", 競技者一覧!L307)","v":""},{"$f":"IF(OR(競技者一覧!M307=0, ISERROR(競技者一覧!M307)), \"\", 競技者一覧!M307)","v":""},{"$f":"IF(OR(競技者一覧!N307=0, ISERROR(競技者一覧!N307)), \"\", 競技者一覧!N307)","v":""},{"$f":"IF(OR(競技者一覧!O307=0, ISERROR(競技者一覧!O307)), \"\", 競技者一覧!O307)","v":""},{"$f":"IF(OR(競技者一覧!P307=0, ISERROR(競技者一覧!P307)), \"\", 競技者一覧!P307)","v":""},{"$f":"IF(OR(競技者一覧!Q307=0, ISERROR(競技者一覧!Q307)), \"\", 競技者一覧!Q307)","v":""},{"$f":"IF(OR(競技者一覧!R307=0, ISERROR(競技者一覧!R307)), \"\", 競技者一覧!R307)","v":""},{"$f":"IF(OR(競技者一覧!S307=0, ISERROR(競技者一覧!S307)), \"\", 競技者一覧!S307)","v":""},{"$f":"IF(OR(競技者一覧!T307=0, ISERROR(競技者一覧!T307)), \"\", 競技者一覧!T307)","v":""},286]
[{"$f":"団体CSV!C288","v":""},{"$f":"団体CSV!D288","v":""},{"$f":"団体CSV!E288","v":" "},{"$f":"IFERROR(VLOOKUP(競技者一覧!I308,Sheet4!$J$2:$K$3,2,FALSE),\"\")","v":""},{"$f":"IF(OR(競技者一覧!J308=0, ISERROR(競技者一覧!J308)), \"\", 競技者一覧!J308)","v":""},{"$f":"IF(OR(競技者一覧!K308=0, ISERROR(競技者一覧!K308)), \"\", 競技者一覧!K308)","v":""},{"$f":"IF(OR(競技者一覧!L308=0, ISERROR(競技者一覧!L308)), \"\", 競技者一覧!L308)","v":""},{"$f":"IF(OR(競技者一覧!M308=0, ISERROR(競技者一覧!M308)), \"\", 競技者一覧!M308)","v":""},{"$f":"IF(OR(競技者一覧!N308=0, ISERROR(競技者一覧!N308)), \"\", 競技者一覧!N308)","v":""},{"$f":"IF(OR(競技者一覧!O308=0, ISERROR(競技者一覧!O308)), \"\", 競技者一覧!O308)","v":""},{"$f":"IF(OR(競技者一覧!P308=0, ISERROR(競技者一覧!P308)), \"\", 競技者一覧!P308)","v":""},{"$f":"IF(OR(競技者一覧!Q308=0, ISERROR(競技者一覧!Q308)), \"\", 競技者一覧!Q308)","v":""},{"$f":"IF(OR(競技者一覧!R308=0, ISERROR(競技者一覧!R308)), \"\", 競技者一覧!R308)","v":""},{"$f":"IF(OR(競技者一覧!S308=0, ISERROR(競技者一覧!S308)), \"\", 競技者一覧!S308)","v":""},{"$f":"IF(OR(競技者一覧!T308=0, ISERROR(競技者一覧!T308)), \"\", 競技者一覧!T308)","v":""},287]
[{"$f":"団体CSV!C289","v":""},{"$f":"団体CSV!D289","v":""},{"$f":"団体CSV!E289","v":" "},{"$f":"IFERROR(VLOOKUP(競技者一覧!I309,Sheet4!$J$2:$K$3,2,FALSE),\"\")","v":""},{"$f":"IF(OR(競技者一覧!J309=0, ISERROR(競技者一覧!J309)), \"\", 競技者一覧!J309)","v":""},{"$f":"IF(OR(競技者一覧!K309=0, ISERROR(競技者一覧!K309)), \"\", 競技者一覧!K309)","v":""},{"$f":"IF(OR(競技者一覧!L309=0, ISERROR(競技者一覧!L309)), \"\", 競技者一覧!L309)","v":""},{"$f":"IF(OR(競技者一覧!M309=0, ISERROR(競技者一覧!M309)), \"\", 競技者一覧!M309)","v":""},{"$f":"IF(OR(競技者一覧!N309=0, ISERROR(競技者一覧!N309)), \"\", 競技者一覧!N309)","v":""},{"$f":"IF(OR(競技者一覧!O309=0, ISERROR(競技者一覧!O309)), \"\", 競技者一覧!O309)","v":""},{"$f":"IF(OR(競技者一覧!P309=0, ISERROR(競技者一覧!P309)), \"\", 競技者一覧!P309)","v":""},{"$f":"IF(OR(競技者一覧!Q309=0, ISERROR(競技者一覧!Q309)), \"\", 競技者一覧!Q309)","v":""},{"$f":"IF(OR(競技者一覧!R309=0, ISERROR(競技者一覧!R309)), \"\", 競技者一覧!R309)","v":""},{"$f":"IF(OR(競技者一覧!S309=0, ISERROR(競技者一覧!S309)), \"\", 競技者一覧!S309)","v":""},{"$f":"IF(OR(競技者一覧!T309=0, ISERROR(競技者一覧!T309)), \"\", 競技者一覧!T309)","v":""},288]
[{"$f":"団体CSV!C290","v":""},{"$f":"団体CSV!D290","v":""},{"$f":"団体CSV!E290","v":" "},{"$f":"IFERROR(VLOOKUP(競技者一覧!I310,Sheet4!$J$2:$K$3,2,FALSE),\"\")","v":""},{"$f":"IF(OR(競技者一覧!J310=0, ISERROR(競技者一覧!J310)), \"\", 競技者一覧!J310)","v":""},{"$f":"IF(OR(競技者一覧!K310=0, ISERROR(競技者一覧!K310)), \"\", 競技者一覧!K310)","v":""},{"$f":"IF(OR(競技者一覧!L310=0, ISERROR(競技者一覧!L310)), \"\", 競技者一覧!L310)","v":""},{"$f":"IF(OR(競技者一覧!M310=0, ISERROR(競技者一覧!M310)), \"\", 競技者一覧!M310)","v":""},{"$f":"IF(OR(競技者一覧!N310=0, ISERROR(競技者一覧!N310)), \"\", 競技者一覧!N310)","v":""},{"$f":"IF(OR(競技者一覧!O310=0, ISERROR(競技者一覧!O310)), \"\", 競技者一覧!O310)","v":""},{"$f":"IF(OR(競技者一覧!P310=0, ISERROR(競技者一覧!P310)), \"\", 競技者一覧!P310)","v":""},{"$f":"IF(OR(競技者一覧!Q310=0, ISERROR(競技者一覧!Q310)), \"\", 競技者一覧!Q310)","v":""},{"$f":"IF(OR(競技者一覧!R310=0, ISERROR(競技者一覧!R310)), \"\", 競技者一覧!R310)","v":""},{"$f":"IF(OR(競技者一覧!S310=0, ISERROR(競技者一覧!S310)), \"\", 競技者一覧!S310)","v":""},{"$f":"IF(OR(競技者一覧!T310=0, ISERROR(競技者一覧!T310)), \"\", 競技者一覧!T310)","v":""},289]
[{"$f":"団体CSV!C291","v":""},{"$f":"団体CSV!D291","v":""},{"$f":"団体CSV!E291","v":" "},{"$f":"IFERROR(VLOOKUP(競技者一覧!I311,Sheet4!$J$2:$K$3,2,FALSE),\"\")","v":""},{"$f":"IF(OR(競技者一覧!J311=0, ISERROR(競技者一覧!J311)), \"\", 競技者一覧!J311)","v":""},{"$f":"IF(OR(競技者一覧!K311=0, ISERROR(競技者一覧!K311)), \"\", 競技者一覧!K311)","v":""},{"$f":"IF(OR(競技者一覧!L311=0, ISERROR(競技者一覧!L311)), \"\", 競技者一覧!L311)","v":""},{"$f":"IF(OR(競技者一覧!M311=0, ISERROR(競技者一覧!M311)), \"\", 競技者一覧!M311)","v":""},{"$f":"IF(OR(競技者一覧!N311=0, ISERROR(競技者一覧!N311)), \"\", 競技者一覧!N311)","v":""},{"$f":"IF(OR(競技者一覧!O311=0, ISERROR(競技者一覧!O311)), \"\", 競技者一覧!O311)","v":""},{"$f":"IF(OR(競技者一覧!P311=0, ISERROR(競技者一覧!P311)), \"\", 競技者一覧!P311)","v":""},{"$f":"IF(OR(競技者一覧!Q311=0, ISERROR(競技者一覧!Q311)), \"\", 競技者一覧!Q311)","v":""},{"$f":"IF(OR(競技者一覧!R311=0, ISERROR(競技者一覧!R311)), \"\", 競技者一覧!R311)","v":""},{"$f":"IF(OR(競技者一覧!S311=0, ISERROR(競技者一覧!S311)), \"\", 競技者一覧!S311)","v":""},{"$f":"IF(OR(競技者一覧!T311=0, ISERROR(競技者一覧!T311)), \"\", 競技者一覧!T311)","v":""},290]
[{"$f":"団体CSV!C292","v":""},{"$f":"団体CSV!D292","v":""},{"$f":"団体CSV!E292","v":" "},{"$f":"IFERROR(VLOOKUP(競技者一覧!I312,Sheet4!$J$2:$K$3,2,FALSE),\"\")","v":""},{"$f":"IF(OR(競技者一覧!J312=0, ISERROR(競技者一覧!J312)), \"\", 競技者一覧!J312)","v":""},{"$f":"IF(OR(競技者一覧!K312=0, ISERROR(競技者一覧!K312)), \"\", 競技者一覧!K312)","v":""},{"$f":"IF(OR(競技者一覧!L312=0, ISERROR(競技者一覧!L312)), \"\", 競技者一覧!L312)","v":""},{"$f":"IF(OR(競技者一覧!M312=0, ISERROR(競技者一覧!M312)), \"\", 競技者一覧!M312)","v":""},{"$f":"IF(OR(競技者一覧!N312=0, ISERROR(競技者一覧!N312)), \"\", 競技者一覧!N312)","v":""},{"$f":"IF(OR(競技者一覧!O312=0, ISERROR(競技者一覧!O312)), \"\", 競技者一覧!O312)","v":""},{"$f":"IF(OR(競技者一覧!P312=0, ISERROR(競技者一覧!P312)), \"\", 競技者一覧!P312)","v":""},{"$f":"IF(OR(競技者一覧!Q312=0, ISERROR(競技者一覧!Q312)), \"\", 競技者一覧!Q312)","v":""},{"$f":"IF(OR(競技者一覧!R312=0, ISERROR(競技者一覧!R312)), \"\", 競技者一覧!R312)","v":""},{"$f":"IF(OR(競技者一覧!S312=0, ISERROR(競技者一覧!S312)), \"\", 競技者一覧!S312)","v":""},{"$f":"IF(OR(競技者一覧!T312=0, ISERROR(競技者一覧!T312)), \"\", 競技者一覧!T312)","v":""},291]
[{"$f":"団体CSV!C293","v":""},{"$f":"団体CSV!D293","v":""},{"$f":"団体CSV!E293","v":" "},{"$f":"IFERROR(VLOOKUP(競技者一覧!I313,Sheet4!$J$2:$K$3,2,FALSE),\"\")","v":""},{"$f":"IF(OR(競技者一覧!J313=0, ISERROR(競技者一覧!J313)), \"\", 競技者一覧!J313)","v":""},{"$f":"IF(OR(競技者一覧!K313=0, ISERROR(競技者一覧!K313)), \"\", 競技者一覧!K313)","v":""},{"$f":"IF(OR(競技者一覧!L313=0, ISERROR(競技者一覧!L313)), \"\", 競技者一覧!L313)","v":""},{"$f":"IF(OR(競技者一覧!M313=0, ISERROR(競技者一覧!M313)), \"\", 競技者一覧!M313)","v":""},{"$f":"IF(OR(競技者一覧!N313=0, ISERROR(競技者一覧!N313)), \"\", 競技者一覧!N313)","v":""},{"$f":"IF(OR(競技者一覧!O313=0, ISERROR(競技者一覧!O313)), \"\", 競技者一覧!O313)","v":""},{"$f":"IF(OR(競技者一覧!P313=0, ISERROR(競技者一覧!P313)), \"\", 競技者一覧!P313)","v":""},{"$f":"IF(OR(競技者一覧!Q313=0, ISERROR(競技者一覧!Q313)), \"\", 競技者一覧!Q313)","v":""},{"$f":"IF(OR(競技者一覧!R313=0, ISERROR(競技者一覧!R313)), \"\", 競技者一覧!R313)","v":""},{"$f":"IF(OR(競技者一覧!S313=0, ISERROR(競技者一覧!S313)), \"\", 競技者一覧!S313)","v":""},{"$f":"IF(OR(競技者一覧!T313=0, ISERROR(競技者一覧!T313)), \"\", 競技者一覧!T313)","v":""},292]
[{"$f":"団体CSV!C294","v":""},{"$f":"団体CSV!D294","v":""},{"$f":"団体CSV!E294","v":" "},{"$f":"IFERROR(VLOOKUP(競技者一覧!I314,Sheet4!$J$2:$K$3,2,FALSE),\"\")","v":""},{"$f":"IF(OR(競技者一覧!J314=0, ISERROR(競技者一覧!J314)), \"\", 競技者一覧!J314)","v":""},{"$f":"IF(OR(競技者一覧!K314=0, ISERROR(競技者一覧!K314)), \"\", 競技者一覧!K314)","v":""},{"$f":"IF(OR(競技者一覧!L314=0, ISERROR(競技者一覧!L314)), \"\", 競技者一覧!L314)","v":""},{"$f":"IF(OR(競技者一覧!M314=0, ISERROR(競技者一覧!M314)), \"\", 競技者一覧!M314)","v":""},{"$f":"IF(OR(競技者一覧!N314=0, ISERROR(競技者一覧!N314)), \"\", 競技者一覧!N314)","v":""},{"$f":"IF(OR(競技者一覧!O314=0, ISERROR(競技者一覧!O314)), \"\", 競技者一覧!O314)","v":""},{"$f":"IF(OR(競技者一覧!P314=0, ISERROR(競技者一覧!P314)), \"\", 競技者一覧!P314)","v":""},{"$f":"IF(OR(競技者一覧!Q314=0, ISERROR(競技者一覧!Q314)), \"\", 競技者一覧!Q314)","v":""},{"$f":"IF(OR(競技者一覧!R314=0, ISERROR(競技者一覧!R314)), \"\", 競技者一覧!R314)","v":""},{"$f":"IF(OR(競技者一覧!S314=0, ISERROR(競技者一覧!S314)), \"\", 競技者一覧!S314)","v":""},{"$f":"IF(OR(競技者一覧!T314=0, ISERROR(競技者一覧!T314)), \"\", 競技者一覧!T314)","v":""},293]
[{"$f":"団体CSV!C295","v":""},{"$f":"団体CSV!D295","v":""},{"$f":"団体CSV!E295","v":" "},{"$f":"IFERROR(VLOOKUP(競技者一覧!I315,Sheet4!$J$2:$K$3,2,FALSE),\"\")","v":""},{"$f":"IF(OR(競技者一覧!J315=0, ISERROR(競技者一覧!J315)), \"\", 競技者一覧!J315)","v":""},{"$f":"IF(OR(競技者一覧!K315=0, ISERROR(競技者一覧!K315)), \"\", 競技者一覧!K315)","v":""},{"$f":"IF(OR(競技者一覧!L315=0, ISERROR(競技者一覧!L315)), \"\", 競技者一覧!L315)","v":""},{"$f":"IF(OR(競技者一覧!M315=0, ISERROR(競技者一覧!M315)), \"\", 競技者一覧!M315)","v":""},{"$f":"IF(OR(競技者一覧!N315=0, ISERROR(競技者一覧!N315)), \"\", 競技者一覧!N315)","v":""},{"$f":"IF(OR(競技者一覧!O315=0, ISERROR(競技者一覧!O315)), \"\", 競技者一覧!O315)","v":""},{"$f":"IF(OR(競技者一覧!P315=0, ISERROR(競技者一覧!P315)), \"\", 競技者一覧!P315)","v":""},{"$f":"IF(OR(競技者一覧!Q315=0, ISERROR(競技者一覧!Q315)), \"\", 競技者一覧!Q315)","v":""},{"$f":"IF(OR(競技者一覧!R315=0, ISERROR(競技者一覧!R315)), \"\", 競技者一覧!R315)","v":""},{"$f":"IF(OR(競技者一覧!S315=0, ISERROR(競技者一覧!S315)), \"\", 競技者一覧!S315)","v":""},{"$f":"IF(OR(競技者一覧!T315=0, ISERROR(競技者一覧!T315)), \"\", 競技者一覧!T315)","v":""},294]
[{"$f":"団体CSV!C296","v":""},{"$f":"団体CSV!D296","v":""},{"$f":"団体CSV!E296","v":" "},{"$f":"IFERROR(VLOOKUP(競技者一覧!I316,Sheet4!$J$2:$K$3,2,FALSE),\"\")","v":""},{"$f":"IF(OR(競技者一覧!J316=0, ISERROR(競技者一覧!J316)), \"\", 競技者一覧!J316)","v":""},{"$f":"IF(OR(競技者一覧!K316=0, ISERROR(競技者一覧!K316)), \"\", 競技者一覧!K316)","v":""},{"$f":"IF(OR(競技者一覧!L316=0, ISERROR(競技者一覧!L316)), \"\", 競技者一覧!L316)","v":""},{"$f":"IF(OR(競技者一覧!M316=0, ISERROR(競技者一覧!M316)), \"\", 競技者一覧!M316)","v":""},{"$f":"IF(OR(競技者一覧!N316=0, ISERROR(競技者一覧!N316)), \"\", 競技者一覧!N316)","v":""},{"$f":"IF(OR(競技者一覧!O316=0, ISERROR(競技者一覧!O316)), \"\", 競技者一覧!O316)","v":""},{"$f":"IF(OR(競技者一覧!P316=0, ISERROR(競技者一覧!P316)), \"\", 競技者一覧!P316)","v":""},{"$f":"IF(OR(競技者一覧!Q316=0, ISERROR(競技者一覧!Q316)), \"\", 競技者一覧!Q316)","v":""},{"$f":"IF(OR(競技者一覧!R316=0, ISERROR(競技者一覧!R316)), \"\", 競技者一覧!R316)","v":""},{"$f":"IF(OR(競技者一覧!S316=0, ISERROR(競技者一覧!S316)), \"\", 競技者一覧!S316)","v":""},{"$f":"IF(OR(競技者一覧!T316=0, ISERROR(競技者一覧!T316)), \"\", 競技者一覧!T316)","v":""},295]
[{"$f":"団体CSV!C297","v":""},{"$f":"団体CSV!D297","v":""},{"$f":"団体CSV!E297","v":" "},{"$f":"IFERROR(VLOOKUP(競技者一覧!I317,Sheet4!$J$2:$K$3,2,FALSE),\"\")","v":""},{"$f":"IF(OR(競技者一覧!J317=0, ISERROR(競技者一覧!J317)), \"\", 競技者一覧!J317)","v":""},{"$f":"IF(OR(競技者一覧!K317=0, ISERROR(競技者一覧!K317)), \"\", 競技者一覧!K317)","v":""},{"$f":"IF(OR(競技者一覧!L317=0, ISERROR(競技者一覧!L317)), \"\", 競技者一覧!L317)","v":""},{"$f":"IF(OR(競技者一覧!M317=0, ISERROR(競技者一覧!M317)), \"\", 競技者一覧!M317)","v":""},{"$f":"IF(OR(競技者一覧!N317=0, ISERROR(競技者一覧!N317)), \"\", 競技者一覧!N317)","v":""},{"$f":"IF(OR(競技者一覧!O317=0, ISERROR(競技者一覧!O317)), \"\", 競技者一覧!O317)","v":""},{"$f":"IF(OR(競技者一覧!P317=0, ISERROR(競技者一覧!P317)), \"\", 競技者一覧!P317)","v":""},{"$f":"IF(OR(競技者一覧!Q317=0, ISERROR(競技者一覧!Q317)), \"\", 競技者一覧!Q317)","v":""},{"$f":"IF(OR(競技者一覧!R317=0, ISERROR(競技者一覧!R317)), \"\", 競技者一覧!R317)","v":""},{"$f":"IF(OR(競技者一覧!S317=0, ISERROR(競技者一覧!S317)), \"\", 競技者一覧!S317)","v":""},{"$f":"IF(OR(競技者一覧!T317=0, ISERROR(競技者一覧!T317)), \"\", 競技者一覧!T317)","v":""},296]
[{"$f":"団体CSV!C298","v":""},{"$f":"団体CSV!D298","v":""},{"$f":"団体CSV!E298","v":" "},{"$f":"IFERROR(VLOOKUP(競技者一覧!I318,Sheet4!$J$2:$K$3,2,FALSE),\"\")","v":""},{"$f":"IF(OR(競技者一覧!J318=0, ISERROR(競技者一覧!J318)), \"\", 競技者一覧!J318)","v":""},{"$f":"IF(OR(競技者一覧!K318=0, ISERROR(競技者一覧!K318)), \"\", 競技者一覧!K318)","v":""},{"$f":"IF(OR(競技者一覧!L318=0, ISERROR(競技者一覧!L318)), \"\", 競技者一覧!L318)","v":""},{"$f":"IF(OR(競技者一覧!M318=0, ISERROR(競技者一覧!M318)), \"\", 競技者一覧!M318)","v":""},{"$f":"IF(OR(競技者一覧!N318=0, ISERROR(競技者一覧!N318)), \"\", 競技者一覧!N318)","v":""},{"$f":"IF(OR(競技者一覧!O318=0, ISERROR(競技者一覧!O318)), \"\", 競技者一覧!O318)","v":""},{"$f":"IF(OR(競技者一覧!P318=0, ISERROR(競技者一覧!P318)), \"\", 競技者一覧!P318)","v":""},{"$f":"IF(OR(競技者一覧!Q318=0, ISERROR(競技者一覧!Q318)), \"\", 競技者一覧!Q318)","v":""},{"$f":"IF(OR(競技者一覧!R318=0, ISERROR(競技者一覧!R318)), \"\", 競技者一覧!R318)","v":""},{"$f":"IF(OR(競技者一覧!S318=0, ISERROR(競技者一覧!S318)), \"\", 競技者一覧!S318)","v":""},{"$f":"IF(OR(競技者一覧!T318=0, ISERROR(競技者一覧!T318)), \"\", 競技者一覧!T318)","v":""},297]
[{"$f":"団体CSV!C299","v":""},{"$f":"団体CSV!D299","v":""},{"$f":"団体CSV!E299","v":" "},{"$f":"IFERROR(VLOOKUP(競技者一覧!I319,Sheet4!$J$2:$K$3,2,FALSE),\"\")","v":""},{"$f":"IF(OR(競技者一覧!J319=0, ISERROR(競技者一覧!J319)), \"\", 競技者一覧!J319)","v":""},{"$f":"IF(OR(競技者一覧!K319=0, ISERROR(競技者一覧!K319)), \"\", 競技者一覧!K319)","v":""},{"$f":"IF(OR(競技者一覧!L319=0, ISERROR(競技者一覧!L319)), \"\", 競技者一覧!L319)","v":""},{"$f":"IF(OR(競技者一覧!M319=0, ISERROR(競技者一覧!M319)), \"\", 競技者一覧!M319)","v":""},{"$f":"IF(OR(競技者一覧!N319=0, ISERROR(競技者一覧!N319)), \"\", 競技者一覧!N319)","v":""},{"$f":"IF(OR(競技者一覧!O319=0, ISERROR(競技者一覧!O319)), \"\", 競技者一覧!O319)","v":""},{"$f":"IF(OR(競技者一覧!P319=0, ISERROR(競技者一覧!P319)), \"\", 競技者一覧!P319)","v":""},{"$f":"IF(OR(競技者一覧!Q319=0, ISERROR(競技者一覧!Q319)), \"\", 競技者一覧!Q319)","v":""},{"$f":"IF(OR(競技者一覧!R319=0, ISERROR(競技者一覧!R319)), \"\", 競技者一覧!R319)","v":""},{"$f":"IF(OR(競技者一覧!S319=0, ISERROR(競技者一覧!S319)), \"\", 競技者一覧!S319)","v":""},{"$f":"IF(OR(競技者一覧!T319=0, ISERROR(競技者一覧!T319)), \"\", 競技者一覧!T319)","v":""},298]
[{"$f":"団体CSV!C300","v":""},{"$f":"団体CSV!D300","v":""},{"$f":"団体CSV!E300","v":" "},{"$f":"IFERROR(VLOOKUP(競技者一覧!I320,Sheet4!$J$2:$K$3,2,FALSE),\"\")","v":""},{"$f":"IF(OR(競技者一覧!J320=0, ISERROR(競技者一覧!J320)), \"\", 競技者一覧!J320)","v":""},{"$f":"IF(OR(競技者一覧!K320=0, ISERROR(競技者一覧!K320)), \"\", 競技者一覧!K320)","v":""},{"$f":"IF(OR(競技者一覧!L320=0, ISERROR(競技者一覧!L320)), \"\", 競技者一覧!L320)","v":""},{"$f":"IF(OR(競技者一覧!M320=0, ISERROR(競技者一覧!M320)), \"\", 競技者一覧!M320)","v":""},{"$f":"IF(OR(競技者一覧!N320=0, ISERROR(競技者一覧!N320)), \"\", 競技者一覧!N320)","v":""},{"$f":"IF(OR(競技者一覧!O320=0, ISERROR(競技者一覧!O320)), \"\", 競技者一覧!O320)","v":""},{"$f":"IF(OR(競技者一覧!P320=0, ISERROR(競技者一覧!P320)), \"\", 競技者一覧!P320)","v":""},{"$f":"IF(OR(競技者一覧!Q320=0, ISERROR(競技者一覧!Q320)), \"\", 競技者一覧!Q320)","v":""},{"$f":"IF(OR(競技者一覧!R320=0, ISERROR(競技者一覧!R320)), \"\", 競技者一覧!R320)","v":""},{"$f":"IF(OR(競技者一覧!S320=0, ISERROR(競技者一覧!S320)), \"\", 競技者一覧!S320)","v":""},{"$f":"IF(OR(競技者一覧!T320=0, ISERROR(競技者一覧!T320)), \"\", 競技者一覧!T320)","v":""},299]
[{"$f":"団体CSV!C301","v":""},{"$f":"団体CSV!D301","v":""},{"$f":"団体CSV!E301","v":" "},{"$f":"IFERROR(VLOOKUP(競技者一覧!I321,Sheet4!$J$2:$K$3,2,FALSE),\"\")","v":""},{"$f":"IF(OR(競技者一覧!J321=0, ISERROR(競技者一覧!J321)), \"\", 競技者一覧!J321)","v":""},{"$f":"IF(OR(競技者一覧!K321=0, ISERROR(競技者一覧!K321)), \"\", 競技者一覧!K321)","v":""},{"$f":"IF(OR(競技者一覧!L321=0, ISERROR(競技者一覧!L321)), \"\", 競技者一覧!L321)","v":""},{"$f":"IF(OR(競技者一覧!M321=0, ISERROR(競技者一覧!M321)), \"\", 競技者一覧!M321)","v":""},{"$f":"IF(OR(競技者一覧!N321=0, ISERROR(競技者一覧!N321)), \"\", 競技者一覧!N321)","v":""},{"$f":"IF(OR(競技者一覧!O321=0, ISERROR(競技者一覧!O321)), \"\", 競技者一覧!O321)","v":""},{"$f":"IF(OR(競技者一覧!P321=0, ISERROR(競技者一覧!P321)), \"\", 競技者一覧!P321)","v":""},{"$f":"IF(OR(競技者一覧!Q321=0, ISERROR(競技者一覧!Q321)), \"\", 競技者一覧!Q321)","v":""},{"$f":"IF(OR(競技者一覧!R321=0, ISERROR(競技者一覧!R321)), \"\", 競技者一覧!R321)","v":""},{"$f":"IF(OR(競技者一覧!S321=0, ISERROR(競技者一覧!S321)), \"\", 競技者一覧!S321)","v":""},{"$f":"IF(OR(競技者一覧!T321=0, ISERROR(競技者一覧!T321)), \"\", 競技者一覧!T321)","v":""},300]
[{"$f":"団体CSV!C302","v":""},{"$f":"団体CSV!D302","v":""},{"$f":"団体CSV!E302","v":" "},{"$f":"IFERROR(VLOOKUP(競技者一覧!I322,Sheet4!$J$2:$K$3,2,FALSE),\"\")","v":""},{"$f":"IF(OR(競技者一覧!J322=0, ISERROR(競技者一覧!J322)), \"\", 競技者一覧!J322)","v":""},{"$f":"IF(OR(競技者一覧!K322=0, ISERROR(競技者一覧!K322)), \"\", 競技者一覧!K322)","v":""},{"$f":"IF(OR(競技者一覧!L322=0, ISERROR(競技者一覧!L322)), \"\", 競技者一覧!L322)","v":""},{"$f":"IF(OR(競技者一覧!M322=0, ISERROR(競技者一覧!M322)), \"\", 競技者一覧!M322)","v":""},{"$f":"IF(OR(競技者一覧!N322=0, ISERROR(競技者一覧!N322)), \"\", 競技者一覧!N322)","v":""},{"$f":"IF(OR(競技者一覧!O322=0, ISERROR(競技者一覧!O322)), \"\", 競技者一覧!O322)","v":""},{"$f":"IF(OR(競技者一覧!P322=0, ISERROR(競技者一覧!P322)), \"\", 競技者一覧!P322)","v":""},{"$f":"IF(OR(競技者一覧!Q322=0, ISERROR(競技者一覧!Q322)), \"\", 競技者一覧!Q322)","v":""},{"$f":"IF(OR(競技者一覧!R322=0, ISERROR(競技者一覧!R322)), \"\", 競技者一覧!R322)","v":""},{"$f":"IF(OR(競技者一覧!S322=0, ISERROR(競技者一覧!S322)), \"\", 競技者一覧!S322)","v":""},{"$f":"IF(OR(競技者一覧!T322=0, ISERROR(競技者一覧!T322)), \"\", 競技者一覧!T322)","v":""},301]
[{"$f":"団体CSV!C303","v":""},{"$f":"団体CSV!D303","v":""},{"$f":"団体CSV!E303","v":" "},{"$f":"IFERROR(VLOOKUP(競技者一覧!I323,Sheet4!$J$2:$K$3,2,FALSE),\"\")","v":""},{"$f":"IF(OR(競技者一覧!J323=0, ISERROR(競技者一覧!J323)), \"\", 競技者一覧!J323)","v":""},{"$f":"IF(OR(競技者一覧!K323=0, ISERROR(競技者一覧!K323)), \"\", 競技者一覧!K323)","v":""},{"$f":"IF(OR(競技者一覧!L323=0, ISERROR(競技者一覧!L323)), \"\", 競技者一覧!L323)","v":""},{"$f":"IF(OR(競技者一覧!M323=0, ISERROR(競技者一覧!M323)), \"\", 競技者一覧!M323)","v":""},{"$f":"IF(OR(競技者一覧!N323=0, ISERROR(競技者一覧!N323)), \"\", 競技者一覧!N323)","v":""},{"$f":"IF(OR(競技者一覧!O323=0, ISERROR(競技者一覧!O323)), \"\", 競技者一覧!O323)","v":""},{"$f":"IF(OR(競技者一覧!P323=0, ISERROR(競技者一覧!P323)), \"\", 競技者一覧!P323)","v":""},{"$f":"IF(OR(競技者一覧!Q323=0, ISERROR(競技者一覧!Q323)), \"\", 競技者一覧!Q323)","v":""},{"$f":"IF(OR(競技者一覧!R323=0, ISERROR(競技者一覧!R323)), \"\", 競技者一覧!R323)","v":""},{"$f":"IF(OR(競技者一覧!S323=0, ISERROR(競技者一覧!S323)), \"\", 競技者一覧!S323)","v":""},{"$f":"IF(OR(競技者一覧!T323=0, ISERROR(競技者一覧!T323)), \"\", 競技者一覧!T323)","v":""},302]
[{"$f":"団体CSV!C304","v":""},{"$f":"団体CSV!D304","v":""},{"$f":"団体CSV!E304","v":" "},{"$f":"IFERROR(VLOOKUP(競技者一覧!I324,Sheet4!$J$2:$K$3,2,FALSE),\"\")","v":""},{"$f":"IF(OR(競技者一覧!J324=0, ISERROR(競技者一覧!J324)), \"\", 競技者一覧!J324)","v":""},{"$f":"IF(OR(競技者一覧!K324=0, ISERROR(競技者一覧!K324)), \"\", 競技者一覧!K324)","v":""},{"$f":"IF(OR(競技者一覧!L324=0, ISERROR(競技者一覧!L324)), \"\", 競技者一覧!L324)","v":""},{"$f":"IF(OR(競技者一覧!M324=0, ISERROR(競技者一覧!M324)), \"\", 競技者一覧!M324)","v":""},{"$f":"IF(OR(競技者一覧!N324=0, ISERROR(競技者一覧!N324)), \"\", 競技者一覧!N324)","v":""},{"$f":"IF(OR(競技者一覧!O324=0, ISERROR(競技者一覧!O324)), \"\", 競技者一覧!O324)","v":""},{"$f":"IF(OR(競技者一覧!P324=0, ISERROR(競技者一覧!P324)), \"\", 競技者一覧!P324)","v":""},{"$f":"IF(OR(競技者一覧!Q324=0, ISERROR(競技者一覧!Q324)), \"\", 競技者一覧!Q324)","v":""},{"$f":"IF(OR(競技者一覧!R324=0, ISERROR(競技者一覧!R324)), \"\", 競技者一覧!R324)","v":""},{"$f":"IF(OR(競技者一覧!S324=0, ISERROR(競技者一覧!S324)), \"\", 競技者一覧!S324)","v":""},{"$f":"IF(OR(競技者一覧!T324=0, ISERROR(競技者一覧!T324)), \"\", 競技者一覧!T324)","v":""},303]
[{"$f":"団体CSV!C305","v":""},{"$f":"団体CSV!D305","v":""},{"$f":"団体CSV!E305","v":" "},{"$f":"IFERROR(VLOOKUP(競技者一覧!I325,Sheet4!$J$2:$K$3,2,FALSE),\"\")","v":""},{"$f":"IF(OR(競技者一覧!J325=0, ISERROR(競技者一覧!J325)), \"\", 競技者一覧!J325)","v":""},{"$f":"IF(OR(競技者一覧!K325=0, ISERROR(競技者一覧!K325)), \"\", 競技者一覧!K325)","v":""},{"$f":"IF(OR(競技者一覧!L325=0, ISERROR(競技者一覧!L325)), \"\", 競技者一覧!L325)","v":""},{"$f":"IF(OR(競技者一覧!M325=0, ISERROR(競技者一覧!M325)), \"\", 競技者一覧!M325)","v":""},{"$f":"IF(OR(競技者一覧!N325=0, ISERROR(競技者一覧!N325)), \"\", 競技者一覧!N325)","v":""},{"$f":"IF(OR(競技者一覧!O325=0, ISERROR(競技者一覧!O325)), \"\", 競技者一覧!O325)","v":""},{"$f":"IF(OR(競技者一覧!P325=0, ISERROR(競技者一覧!P325)), \"\", 競技者一覧!P325)","v":""},{"$f":"IF(OR(競技者一覧!Q325=0, ISERROR(競技者一覧!Q325)), \"\", 競技者一覧!Q325)","v":""},{"$f":"IF(OR(競技者一覧!R325=0, ISERROR(競技者一覧!R325)), \"\", 競技者一覧!R325)","v":""},{"$f":"IF(OR(競技者一覧!S325=0, ISERROR(競技者一覧!S325)), \"\", 競技者一覧!S325)","v":""},{"$f":"IF(OR(競技者一覧!T325=0, ISERROR(競技者一覧!T325)), \"\", 競技者一覧!T325)","v":""},304]
[{"$f":"団体CSV!C306","v":""},{"$f":"団体CSV!D306","v":""},{"$f":"団体CSV!E306","v":" "},{"$f":"IFERROR(VLOOKUP(競技者一覧!I326,Sheet4!$J$2:$K$3,2,FALSE),\"\")","v":""},{"$f":"IF(OR(競技者一覧!J326=0, ISERROR(競技者一覧!J326)), \"\", 競技者一覧!J326)","v":""},{"$f":"IF(OR(競技者一覧!K326=0, ISERROR(競技者一覧!K326)), \"\", 競技者一覧!K326)","v":""},{"$f":"IF(OR(競技者一覧!L326=0, ISERROR(競技者一覧!L326)), \"\", 競技者一覧!L326)","v":""},{"$f":"IF(OR(競技者一覧!M326=0, ISERROR(競技者一覧!M326)), \"\", 競技者一覧!M326)","v":""},{"$f":"IF(OR(競技者一覧!N326=0, ISERROR(競技者一覧!N326)), \"\", 競技者一覧!N326)","v":""},{"$f":"IF(OR(競技者一覧!O326=0, ISERROR(競技者一覧!O326)), \"\", 競技者一覧!O326)","v":""},{"$f":"IF(OR(競技者一覧!P326=0, ISERROR(競技者一覧!P326)), \"\", 競技者一覧!P326)","v":""},{"$f":"IF(OR(競技者一覧!Q326=0, ISERROR(競技者一覧!Q326)), \"\", 競技者一覧!Q326)","v":""},{"$f":"IF(OR(競技者一覧!R326=0, ISERROR(競技者一覧!R326)), \"\", 競技者一覧!R326)","v":""},{"$f":"IF(OR(競技者一覧!S326=0, ISERROR(競技者一覧!S326)), \"\", 競技者一覧!S326)","v":""},{"$f":"IF(OR(競技者一覧!T326=0, ISERROR(競技者一覧!T326)), \"\", 競技者一覧!T326)","v":""},305]
[{"$f":"団体CSV!C307","v":""},{"$f":"団体CSV!D307","v":""},{"$f":"団体CSV!E307","v":" "},{"$f":"IFERROR(VLOOKUP(競技者一覧!I327,Sheet4!$J$2:$K$3,2,FALSE),\"\")","v":""},{"$f":"IF(OR(競技者一覧!J327=0, ISERROR(競技者一覧!J327)), \"\", 競技者一覧!J327)","v":""},{"$f":"IF(OR(競技者一覧!K327=0, ISERROR(競技者一覧!K327)), \"\", 競技者一覧!K327)","v":""},{"$f":"IF(OR(競技者一覧!L327=0, ISERROR(競技者一覧!L327)), \"\", 競技者一覧!L327)","v":""},{"$f":"IF(OR(競技者一覧!M327=0, ISERROR(競技者一覧!M327)), \"\", 競技者一覧!M327)","v":""},{"$f":"IF(OR(競技者一覧!N327=0, ISERROR(競技者一覧!N327)), \"\", 競技者一覧!N327)","v":""},{"$f":"IF(OR(競技者一覧!O327=0, ISERROR(競技者一覧!O327)), \"\", 競技者一覧!O327)","v":""},{"$f":"IF(OR(競技者一覧!P327=0, ISERROR(競技者一覧!P327)), \"\", 競技者一覧!P327)","v":""},{"$f":"IF(OR(競技者一覧!Q327=0, ISERROR(競技者一覧!Q327)), \"\", 競技者一覧!Q327)","v":""},{"$f":"IF(OR(競技者一覧!R327=0, ISERROR(競技者一覧!R327)), \"\", 競技者一覧!R327)","v":""},{"$f":"IF(OR(競技者一覧!S327=0, ISERROR(競技者一覧!S327)), \"\", 競技者一覧!S327)","v":""},{"$f":"IF(OR(競技者一覧!T327=0, ISERROR(競技者一覧!T327)), \"\", 競技者一覧!T327)","v":""},306]
[{"$f":"団体CSV!C308","v":""},{"$f":"団体CSV!D308","v":""},{"$f":"団体CSV!E308","v":" "},{"$f":"IFERROR(VLOOKUP(競技者一覧!I328,Sheet4!$J$2:$K$3,2,FALSE),\"\")","v":""},{"$f":"IF(OR(競技者一覧!J328=0, ISERROR(競技者一覧!J328)), \"\", 競技者一覧!J328)","v":""},{"$f":"IF(OR(競技者一覧!K328=0, ISERROR(競技者一覧!K328)), \"\", 競技者一覧!K328)","v":""},{"$f":"IF(OR(競技者一覧!L328=0, ISERROR(競技者一覧!L328)), \"\", 競技者一覧!L328)","v":""},{"$f":"IF(OR(競技者一覧!M328=0, ISERROR(競技者一覧!M328)), \"\", 競技者一覧!M328)","v":""},{"$f":"IF(OR(競技者一覧!N328=0, ISERROR(競技者一覧!N328)), \"\", 競技者一覧!N328)","v":""},{"$f":"IF(OR(競技者一覧!O328=0, ISERROR(競技者一覧!O328)), \"\", 競技者一覧!O328)","v":""},{"$f":"IF(OR(競技者一覧!P328=0, ISERROR(競技者一覧!P328)), \"\", 競技者一覧!P328)","v":""},{"$f":"IF(OR(競技者一覧!Q328=0, ISERROR(競技者一覧!Q328)), \"\", 競技者一覧!Q328)","v":""},{"$f":"IF(OR(競技者一覧!R328=0, ISERROR(競技者一覧!R328)), \"\", 競技者一覧!R328)","v":""},{"$f":"IF(OR(競技者一覧!S328=0, ISERROR(競技者一覧!S328)), \"\", 競技者一覧!S328)","v":""},{"$f":"IF(OR(競技者一覧!T328=0, ISERROR(競技者一覧!T328)), \"\", 競技者一覧!T328)","v":""},307]
[{"$f":"団体CSV!C309","v":""},{"$f":"団体CSV!D309","v":""},{"$f":"団体CSV!E309","v":" "},{"$f":"IFERROR(VLOOKUP(競技者一覧!I329,Sheet4!$J$2:$K$3,2,FALSE),\"\")","v":""},{"$f":"IF(OR(競技者一覧!J329=0, ISERROR(競技者一覧!J329)), \"\", 競技者一覧!J329)","v":""},{"$f":"IF(OR(競技者一覧!K329=0, ISERROR(競技者一覧!K329)), \"\", 競技者一覧!K329)","v":""},{"$f":"IF(OR(競技者一覧!L329=0, ISERROR(競技者一覧!L329)), \"\", 競技者一覧!L329)","v":""},{"$f":"IF(OR(競技者一覧!M329=0, ISERROR(競技者一覧!M329)), \"\", 競技者一覧!M329)","v":""},{"$f":"IF(OR(競技者一覧!N329=0, ISERROR(競技者一覧!N329)), \"\", 競技者一覧!N329)","v":""},{"$f":"IF(OR(競技者一覧!O329=0, ISERROR(競技者一覧!O329)), \"\", 競技者一覧!O329)","v":""},{"$f":"IF(OR(競技者一覧!P329=0, ISERROR(競技者一覧!P329)), \"\", 競技者一覧!P329)","v":""},{"$f":"IF(OR(競技者一覧!Q329=0, ISERROR(競技者一覧!Q329)), \"\", 競技者一覧!Q329)","v":""},{"$f":"IF(OR(競技者一覧!R329=0, ISERROR(競技者一覧!R329)), \"\", 競技者一覧!R329)","v":""},{"$f":"IF(OR(競技者一覧!S329=0, ISERROR(競技者一覧!S329)), \"\", 競技者一覧!S329)","v":""},{"$f":"IF(OR(競技者一覧!T329=0, ISERROR(競技者一覧!T329)), \"\", 競技者一覧!T329)","v":""},308]
[{"$f":"団体CSV!C310","v":""},{"$f":"団体CSV!D310","v":""},{"$f":"団体CSV!E310","v":" "},{"$f":"IFERROR(VLOOKUP(競技者一覧!I330,Sheet4!$J$2:$K$3,2,FALSE),\"\")","v":""},{"$f":"IF(OR(競技者一覧!J330=0, ISERROR(競技者一覧!J330)), \"\", 競技者一覧!J330)","v":""},{"$f":"IF(OR(競技者一覧!K330=0, ISERROR(競技者一覧!K330)), \"\", 競技者一覧!K330)","v":""},{"$f":"IF(OR(競技者一覧!L330=0, ISERROR(競技者一覧!L330)), \"\", 競技者一覧!L330)","v":""},{"$f":"IF(OR(競技者一覧!M330=0, ISERROR(競技者一覧!M330)), \"\", 競技者一覧!M330)","v":""},{"$f":"IF(OR(競技者一覧!N330=0, ISERROR(競技者一覧!N330)), \"\", 競技者一覧!N330)","v":""},{"$f":"IF(OR(競技者一覧!O330=0, ISERROR(競技者一覧!O330)), \"\", 競技者一覧!O330)","v":""},{"$f":"IF(OR(競技者一覧!P330=0, ISERROR(競技者一覧!P330)), \"\", 競技者一覧!P330)","v":""},{"$f":"IF(OR(競技者一覧!Q330=0, ISERROR(競技者一覧!Q330)), \"\", 競技者一覧!Q330)","v":""},{"$f":"IF(OR(競技者一覧!R330=0, ISERROR(競技者一覧!R330)), \"\", 競技者一覧!R330)","v":""},{"$f":"IF(OR(競技者一覧!S330=0, ISERROR(競技者一覧!S330)), \"\", 競技者一覧!S330)","v":""},{"$f":"IF(OR(競技者一覧!T330=0, ISERROR(競技者一覧!T330)), \"\", 競技者一覧!T330)","v":""},309]
[{"$f":"団体CSV!C311","v":""},{"$f":"団体CSV!D311","v":""},{"$f":"団体CSV!E311","v":" "},{"$f":"IFERROR(VLOOKUP(競技者一覧!I331,Sheet4!$J$2:$K$3,2,FALSE),\"\")","v":""},{"$f":"IF(OR(競技者一覧!J331=0, ISERROR(競技者一覧!J331)), \"\", 競技者一覧!J331)","v":""},{"$f":"IF(OR(競技者一覧!K331=0, ISERROR(競技者一覧!K331)), \"\", 競技者一覧!K331)","v":""},{"$f":"IF(OR(競技者一覧!L331=0, ISERROR(競技者一覧!L331)), \"\", 競技者一覧!L331)","v":""},{"$f":"IF(OR(競技者一覧!M331=0, ISERROR(競技者一覧!M331)), \"\", 競技者一覧!M331)","v":""},{"$f":"IF(OR(競技者一覧!N331=0, ISERROR(競技者一覧!N331)), \"\", 競技者一覧!N331)","v":""},{"$f":"IF(OR(競技者一覧!O331=0, ISERROR(競技者一覧!O331)), \"\", 競技者一覧!O331)","v":""},{"$f":"IF(OR(競技者一覧!P331=0, ISERROR(競技者一覧!P331)), \"\", 競技者一覧!P331)","v":""},{"$f":"IF(OR(競技者一覧!Q331=0, ISERROR(競技者一覧!Q331)), \"\", 競技者一覧!Q331)","v":""},{"$f":"IF(OR(競技者一覧!R331=0, ISERROR(競技者一覧!R331)), \"\", 競技者一覧!R331)","v":""},{"$f":"IF(OR(競技者一覧!S331=0, ISERROR(競技者一覧!S331)), \"\", 競技者一覧!S331)","v":""},{"$f":"IF(OR(競技者一覧!T331=0, ISERROR(競技者一覧!T331)), \"\", 競技者一覧!T331)","v":""},310]
[{"$f":"団体CSV!C312","v":""},{"$f":"団体CSV!D312","v":""},{"$f":"団体CSV!E312","v":" "},{"$f":"IFERROR(VLOOKUP(競技者一覧!I332,Sheet4!$J$2:$K$3,2,FALSE),\"\")","v":""},{"$f":"IF(OR(競技者一覧!J332=0, ISERROR(競技者一覧!J332)), \"\", 競技者一覧!J332)","v":""},{"$f":"IF(OR(競技者一覧!K332=0, ISERROR(競技者一覧!K332)), \"\", 競技者一覧!K332)","v":""},{"$f":"IF(OR(競技者一覧!L332=0, ISERROR(競技者一覧!L332)), \"\", 競技者一覧!L332)","v":""},{"$f":"IF(OR(競技者一覧!M332=0, ISERROR(競技者一覧!M332)), \"\", 競技者一覧!M332)","v":""},{"$f":"IF(OR(競技者一覧!N332=0, ISERROR(競技者一覧!N332)), \"\", 競技者一覧!N332)","v":""},{"$f":"IF(OR(競技者一覧!O332=0, ISERROR(競技者一覧!O332)), \"\", 競技者一覧!O332)","v":""},{"$f":"IF(OR(競技者一覧!P332=0, ISERROR(競技者一覧!P332)), \"\", 競技者一覧!P332)","v":""},{"$f":"IF(OR(競技者一覧!Q332=0, ISERROR(競技者一覧!Q332)), \"\", 競技者一覧!Q332)","v":""},{"$f":"IF(OR(競技者一覧!R332=0, ISERROR(競技者一覧!R332)), \"\", 競技者一覧!R332)","v":""},{"$f":"IF(OR(競技者一覧!S332=0, ISERROR(競技者一覧!S332)), \"\", 競技者一覧!S332)","v":""},{"$f":"IF(OR(競技者一覧!T332=0, ISERROR(競技者一覧!T332)), \"\", 競技者一覧!T332)","v":""},311]
[{"$f":"団体CSV!C313","v":""},{"$f":"団体CSV!D313","v":""},{"$f":"団体CSV!E313","v":" "},{"$f":"IFERROR(VLOOKUP(競技者一覧!I333,Sheet4!$J$2:$K$3,2,FALSE),\"\")","v":""},{"$f":"IF(OR(競技者一覧!J333=0, ISERROR(競技者一覧!J333)), \"\", 競技者一覧!J333)","v":""},{"$f":"IF(OR(競技者一覧!K333=0, ISERROR(競技者一覧!K333)), \"\", 競技者一覧!K333)","v":""},{"$f":"IF(OR(競技者一覧!L333=0, ISERROR(競技者一覧!L333)), \"\", 競技者一覧!L333)","v":""},{"$f":"IF(OR(競技者一覧!M333=0, ISERROR(競技者一覧!M333)), \"\", 競技者一覧!M333)","v":""},{"$f":"IF(OR(競技者一覧!N333=0, ISERROR(競技者一覧!N333)), \"\", 競技者一覧!N333)","v":""},{"$f":"IF(OR(競技者一覧!O333=0, ISERROR(競技者一覧!O333)), \"\", 競技者一覧!O333)","v":""},{"$f":"IF(OR(競技者一覧!P333=0, ISERROR(競技者一覧!P333)), \"\", 競技者一覧!P333)","v":""},{"$f":"IF(OR(競技者一覧!Q333=0, ISERROR(競技者一覧!Q333)), \"\", 競技者一覧!Q333)","v":""},{"$f":"IF(OR(競技者一覧!R333=0, ISERROR(競技者一覧!R333)), \"\", 競技者一覧!R333)","v":""},{"$f":"IF(OR(競技者一覧!S333=0, ISERROR(競技者一覧!S333)), \"\", 競技者一覧!S333)","v":""},{"$f":"IF(OR(競技者一覧!T333=0, ISERROR(競技者一覧!T333)), \"\", 競技者一覧!T333)","v":""},312]
[{"$f":"団体CSV!C314","v":""},{"$f":"団体CSV!D314","v":""},{"$f":"団体CSV!E314","v":" "},{"$f":"IFERROR(VLOOKUP(競技者一覧!I334,Sheet4!$J$2:$K$3,2,FALSE),\"\")","v":""},{"$f":"IF(OR(競技者一覧!J334=0, ISERROR(競技者一覧!J334)), \"\", 競技者一覧!J334)","v":""},{"$f":"IF(OR(競技者一覧!K334=0, ISERROR(競技者一覧!K334)), \"\", 競技者一覧!K334)","v":""},{"$f":"IF(OR(競技者一覧!L334=0, ISERROR(競技者一覧!L334)), \"\", 競技者一覧!L334)","v":""},{"$f":"IF(OR(競技者一覧!M334=0, ISERROR(競技者一覧!M334)), \"\", 競技者一覧!M334)","v":""},{"$f":"IF(OR(競技者一覧!N334=0, ISERROR(競技者一覧!N334)), \"\", 競技者一覧!N334)","v":""},{"$f":"IF(OR(競技者一覧!O334=0, ISERROR(競技者一覧!O334)), \"\", 競技者一覧!O334)","v":""},{"$f":"IF(OR(競技者一覧!P334=0, ISERROR(競技者一覧!P334)), \"\", 競技者一覧!P334)","v":""},{"$f":"IF(OR(競技者一覧!Q334=0, ISERROR(競技者一覧!Q334)), \"\", 競技者一覧!Q334)","v":""},{"$f":"IF(OR(競技者一覧!R334=0, ISERROR(競技者一覧!R334)), \"\", 競技者一覧!R334)","v":""},{"$f":"IF(OR(競技者一覧!S334=0, ISERROR(競技者一覧!S334)), \"\", 競技者一覧!S334)","v":""},{"$f":"IF(OR(競技者一覧!T334=0, ISERROR(競技者一覧!T334)), \"\", 競技者一覧!T334)","v":""},313]
[{"$f":"団体CSV!C315","v":""},{"$f":"団体CSV!D315","v":""},{"$f":"団体CSV!E315","v":" "},{"$f":"IFERROR(VLOOKUP(競技者一覧!I335,Sheet4!$J$2:$K$3,2,FALSE),\"\")","v":""},{"$f":"IF(OR(競技者一覧!J335=0, ISERROR(競技者一覧!J335)), \"\", 競技者一覧!J335)","v":""},{"$f":"IF(OR(競技者一覧!K335=0, ISERROR(競技者一覧!K335)), \"\", 競技者一覧!K335)","v":""},{"$f":"IF(OR(競技者一覧!L335=0, ISERROR(競技者一覧!L335)), \"\", 競技者一覧!L335)","v":""},{"$f":"IF(OR(競技者一覧!M335=0, ISERROR(競技者一覧!M335)), \"\", 競技者一覧!M335)","v":""},{"$f":"IF(OR(競技者一覧!N335=0, ISERROR(競技者一覧!N335)), \"\", 競技者一覧!N335)","v":""},{"$f":"IF(OR(競技者一覧!O335=0, ISERROR(競技者一覧!O335)), \"\", 競技者一覧!O335)","v":""},{"$f":"IF(OR(競技者一覧!P335=0, ISERROR(競技者一覧!P335)), \"\", 競技者一覧!P335)","v":""},{"$f":"IF(OR(競技者一覧!Q335=0, ISERROR(競技者一覧!Q335)), \"\", 競技者一覧!Q335)","v":""},{"$f":"IF(OR(競技者一覧!R335=0, ISERROR(競技者一覧!R335)), \"\", 競技者一覧!R335)","v":""},{"$f":"IF(OR(競技者一覧!S335=0, ISERROR(競技者一覧!S335)), \"\", 競技者一覧!S335)","v":""},{"$f":"IF(OR(競技者一覧!T335=0, ISERROR(競技者一覧!T335)), \"\", 競技者一覧!T335)","v":""},314]
[{"$f":"団体CSV!C316","v":""},{"$f":"団体CSV!D316","v":""},{"$f":"団体CSV!E316","v":" "},{"$f":"IFERROR(VLOOKUP(競技者一覧!I336,Sheet4!$J$2:$K$3,2,FALSE),\"\")","v":""},{"$f":"IF(OR(競技者一覧!J336=0, ISERROR(競技者一覧!J336)), \"\", 競技者一覧!J336)","v":""},{"$f":"IF(OR(競技者一覧!K336=0, ISERROR(競技者一覧!K336)), \"\", 競技者一覧!K336)","v":""},{"$f":"IF(OR(競技者一覧!L336=0, ISERROR(競技者一覧!L336)), \"\", 競技者一覧!L336)","v":""},{"$f":"IF(OR(競技者一覧!M336=0, ISERROR(競技者一覧!M336)), \"\", 競技者一覧!M336)","v":""},{"$f":"IF(OR(競技者一覧!N336=0, ISERROR(競技者一覧!N336)), \"\", 競技者一覧!N336)","v":""},{"$f":"IF(OR(競技者一覧!O336=0, ISERROR(競技者一覧!O336)), \"\", 競技者一覧!O336)","v":""},{"$f":"IF(OR(競技者一覧!P336=0, ISERROR(競技者一覧!P336)), \"\", 競技者一覧!P336)","v":""},{"$f":"IF(OR(競技者一覧!Q336=0, ISERROR(競技者一覧!Q336)), \"\", 競技者一覧!Q336)","v":""},{"$f":"IF(OR(競技者一覧!R336=0, ISERROR(競技者一覧!R336)), \"\", 競技者一覧!R336)","v":""},{"$f":"IF(OR(競技者一覧!S336=0, ISERROR(競技者一覧!S336)), \"\", 競技者一覧!S336)","v":""},{"$f":"IF(OR(競技者一覧!T336=0, ISERROR(競技者一覧!T336)), \"\", 競技者一覧!T336)","v":""},315]
[{"$f":"団体CSV!C317","v":""},{"$f":"団体CSV!D317","v":""},{"$f":"団体CSV!E317","v":" "},{"$f":"IFERROR(VLOOKUP(競技者一覧!I337,Sheet4!$J$2:$K$3,2,FALSE),\"\")","v":""},{"$f":"IF(OR(競技者一覧!J337=0, ISERROR(競技者一覧!J337)), \"\", 競技者一覧!J337)","v":""},{"$f":"IF(OR(競技者一覧!K337=0, ISERROR(競技者一覧!K337)), \"\", 競技者一覧!K337)","v":""},{"$f":"IF(OR(競技者一覧!L337=0, ISERROR(競技者一覧!L337)), \"\", 競技者一覧!L337)","v":""},{"$f":"IF(OR(競技者一覧!M337=0, ISERROR(競技者一覧!M337)), \"\", 競技者一覧!M337)","v":""},{"$f":"IF(OR(競技者一覧!N337=0, ISERROR(競技者一覧!N337)), \"\", 競技者一覧!N337)","v":""},{"$f":"IF(OR(競技者一覧!O337=0, ISERROR(競技者一覧!O337)), \"\", 競技者一覧!O337)","v":""},{"$f":"IF(OR(競技者一覧!P337=0, ISERROR(競技者一覧!P337)), \"\", 競技者一覧!P337)","v":""},{"$f":"IF(OR(競技者一覧!Q337=0, ISERROR(競技者一覧!Q337)), \"\", 競技者一覧!Q337)","v":""},{"$f":"IF(OR(競技者一覧!R337=0, ISERROR(競技者一覧!R337)), \"\", 競技者一覧!R337)","v":""},{"$f":"IF(OR(競技者一覧!S337=0, ISERROR(競技者一覧!S337)), \"\", 競技者一覧!S337)","v":""},{"$f":"IF(OR(競技者一覧!T337=0, ISERROR(競技者一覧!T337)), \"\", 競技者一覧!T337)","v":""},316]
[{"$f":"団体CSV!C318","v":""},{"$f":"団体CSV!D318","v":""},{"$f":"団体CSV!E318","v":" "},{"$f":"IFERROR(VLOOKUP(競技者一覧!I338,Sheet4!$J$2:$K$3,2,FALSE),\"\")","v":""},{"$f":"IF(OR(競技者一覧!J338=0, ISERROR(競技者一覧!J338)), \"\", 競技者一覧!J338)","v":""},{"$f":"IF(OR(競技者一覧!K338=0, ISERROR(競技者一覧!K338)), \"\", 競技者一覧!K338)","v":""},{"$f":"IF(OR(競技者一覧!L338=0, ISERROR(競技者一覧!L338)), \"\", 競技者一覧!L338)","v":""},{"$f":"IF(OR(競技者一覧!M338=0, ISERROR(競技者一覧!M338)), \"\", 競技者一覧!M338)","v":""},{"$f":"IF(OR(競技者一覧!N338=0, ISERROR(競技者一覧!N338)), \"\", 競技者一覧!N338)","v":""},{"$f":"IF(OR(競技者一覧!O338=0, ISERROR(競技者一覧!O338)), \"\", 競技者一覧!O338)","v":""},{"$f":"IF(OR(競技者一覧!P338=0, ISERROR(競技者一覧!P338)), \"\", 競技者一覧!P338)","v":""},{"$f":"IF(OR(競技者一覧!Q338=0, ISERROR(競技者一覧!Q338)), \"\", 競技者一覧!Q338)","v":""},{"$f":"IF(OR(競技者一覧!R338=0, ISERROR(競技者一覧!R338)), \"\", 競技者一覧!R338)","v":""},{"$f":"IF(OR(競技者一覧!S338=0, ISERROR(競技者一覧!S338)), \"\", 競技者一覧!S338)","v":""},{"$f":"IF(OR(競技者一覧!T338=0, ISERROR(競技者一覧!T338)), \"\", 競技者一覧!T338)","v":""},317]
[{"$f":"団体CSV!C319","v":""},{"$f":"団体CSV!D319","v":""},{"$f":"団体CSV!E319","v":" "},{"$f":"IFERROR(VLOOKUP(競技者一覧!I339,Sheet4!$J$2:$K$3,2,FALSE),\"\")","v":""},{"$f":"IF(OR(競技者一覧!J339=0, ISERROR(競技者一覧!J339)), \"\", 競技者一覧!J339)","v":""},{"$f":"IF(OR(競技者一覧!K339=0, ISERROR(競技者一覧!K339)), \"\", 競技者一覧!K339)","v":""},{"$f":"IF(OR(競技者一覧!L339=0, ISERROR(競技者一覧!L339)), \"\", 競技者一覧!L339)","v":""},{"$f":"IF(OR(競技者一覧!M339=0, ISERROR(競技者一覧!M339)), \"\", 競技者一覧!M339)","v":""},{"$f":"IF(OR(競技者一覧!N339=0, ISERROR(競技者一覧!N339)), \"\", 競技者一覧!N339)","v":""},{"$f":"IF(OR(競技者一覧!O339=0, ISERROR(競技者一覧!O339)), \"\", 競技者一覧!O339)","v":""},{"$f":"IF(OR(競技者一覧!P339=0, ISERROR(競技者一覧!P339)), \"\", 競技者一覧!P339)","v":""},{"$f":"IF(OR(競技者一覧!Q339=0, ISERROR(競技者一覧!Q339)), \"\", 競技者一覧!Q339)","v":""},{"$f":"IF(OR(競技者一覧!R339=0, ISERROR(競技者一覧!R339)), \"\", 競技者一覧!R339)","v":""},{"$f":"IF(OR(競技者一覧!S339=0, ISERROR(競技者一覧!S339)), \"\", 競技者一覧!S339)","v":""},{"$f":"IF(OR(競技者一覧!T339=0, ISERROR(競技者一覧!T339)), \"\", 競技者一覧!T339)","v":""},318]

{"sheet":"競技者一覧","index":3,"n_rows":328,"n_cols":38,"rows_kept":328,"cut":false,"hidden":false,"merged":[[4,11,4,12],[19,15,20,15],[19,16,20,16],[19,3,20,3],[9,3,9,6],[8,3,8,6],[13,1,17,9],[19,2,20,2],[19,1,20,1],[19,9,20,9],[19,7,20,7],[19,10,20,10],[19,11,20,11],[19,12,20,12],[19,13,20,13],[19,8,20,8],[7,11,7,12],[6,11,6,12],[19,17,20,17],[19,18,20,18],[19,19,20,19],[19,14,20,14],[5,3,5,6],[19,4,19,5],[19,6,20,6],[9,1,9,2],[8,1,8,2],[3,1,3,8],[1,0,2,3],[1,4,2,5],[3,14,3,15],[18,14,18,15],[5,9,7,9],[1,6,2,12],[4,3,4,6],[18,1,18,9],[11,4,12,14],[5,11,5,12],[7,1,7,2],[6,1,6,2],[5,1,5,2],[7,3,7,6],[6,3,6,6],[18,20,18,21],[18,22,18,23],[18,24,18,25],[18,18,18,19],[18,10,18,11],[18,12,18,13],[18,16,18,17]]}
[]
["第36回奈良市陸上サーキット",null,null,null,"第2日目",null,"　競技者参加申込一覧表"]
[]
[null,"　　",null,null,null,null,null,null,null,null,null,null,null,null,"参加種目数"]
[null,null,null,null,null,null,null,null,null,null,"希望パート","名前",null,null,"個人種目(混成以外)","リレー"]
[null,"都道府県名",null,null,null,null,null,null,null,"役員",null,null,null,null,{"$f":"SUM(個人種目出場種目数!J2:J11,個人種目出場種目数!J13:J22,個人種目出場種目数!J24:J29,個人種目出場種目数!J31:J35,個人種目出場種目数!J37:J52)","v":0},{"$f":"COUNTA(リレー!C8:C37)","v":0}]
[null,"団体名",null,null,null,null,null,null,null,null,null,null,null,null,"混成種目"]
[null,"ﾌﾘｶﾞﾅ",null,null,null,null,null,null,null,null,null,null,null,null,{"$f":"個人種目出場種目数!J53-競技者一覧!O6","v":0}]
[null,"緊急時メールアドレス"]
[null,"緊急時電話番号"]
[]
[null,null,null,null,{"$f":"IF(OR(個人種目出場種目数!J11,個人種目出場種目数!J22,個人種目出場種目数!J24,個人種目出場種目数!J31,個人種目出場種目数!J37,個人種目出場種目数!J46),\"棒高跳及び４００ｍＨについては、競技役員１名以上、補助員３名以上を出せる団体のみ出場可能です\",\"\")","v":""}]
[]
[null,"生年月日は、2000年10月10日生まれの場合は、「20001010」と入力してください。\nまた、ローマ字に関しては、ヘボン式で入力し、姓はすべて半角大文字で記入ください。\n名は、1文字目のみ大文字で、その他は、半角小文字で入力してください。"]
[]
[]
[]
[]
[null,"登　　録　　選　　手",null,null,null,null,null,null,null,null,"個人種目1",null,"個人種目2",null,"個人種目3",null,"個人種目4",null,"個人種目5",null,"個人種目6",null,"個人種目7",null,"個人種目8",null,null,null,null,null,1,1,"リレーカーニバル"]
[null,"ナンバー","名　　　前","ﾌﾘｶﾞﾅ","ローマ字",null,"生年月日","学年","性別","登録都道府県","種目","最近の最高記録","種目","最近の最高記録","種目","最近の最高記録","種目","最近の最高記録","種目","最近の最高記録","種目","最近の最高記録","種目","最近の最高記録","種目","最近の最高記録",null,null,null,null,2,2,"リレーカーニバル","北海道",null,null,null,"おまかせ"]
[null,null,null,null,"姓","名",null,null,null,null,null,null,null,null,null,null,null,null,null,null,"種目","最近の最高記録","種目","最近の最高記録","種目","最近の最高記録",null,null,null,null,null,2,"リレーカーニバル","北海道",null,null,null,"おまかせ"]
[1,null,null,null,null,null,null,null,null,null,null,null,null,null,null,null,null,null,null,null,null,null,null,null,null,null,null,null,null,null,null,3,"第2日目","青森",null,null,null,"出発係"]
[2,null,null,null,null,null,null,null,null,null,null,null,null,null,null,null,null,null,null,null,null,null,null,null,null,null,null,null,null,null,null,4,"第３日目","岩手",null,null,null,"決勝・周回"]
[3,null,null,null,null,null,null,null,null,null,null,null,null,null,null,null,null,null,null,null,null,null,null,null,null,null,null,null,null,null,null,0,"第４日目","宮城",null,null,null,"監察"]
[4,null,null,null,null,null,null,null,null,null,null,null,null,null,null,null,null,null,null,null,null,null,null,null,null,null,null,null,null,null,null,null,"第５日目","秋田",null,null,null,"マーシャル"]
[5,null,null,null,null,null,null,null,null,null,null,null,null,null,null,null,null,null,null,null,null,null,null,null,null,null,null,null,null,null,null,null,"第６日目","山形",null,null,null,"スターター"]
[6,null,null,null,null,null,null,null,null,null,null,null,null,null,null,null,null,null,null,null,null,null,null,null,null,null,null,null,null,null,null,null,"第７日目","福島",null,null,null,"風力計測"]
[7,null,null,null,null,null,null,null,null,null,null,null,null,null,null,null,null,null,null,null,null,null,null,null,null,null,null,null,null,null,null,null,"第８日目","茨城",null,null,null,"写真判定"]
[8,null,null,null,null,null,null,null,null,null,null,null,null,null,null,null,null,null,null,null,null,null,null,null,null,null,null,null,null,null,null,null,null,"栃木",null,null,null,"跳躍"]
[9,null,null,null,null,null,null,null,null,null,null,null,null,null,null,null,null,null,null,null,null,null,null,null,null,null,null,null,null,null,null,null,null,"群馬",null,null,null,"投てき"]
[10,null,null,null,null,null,null,null,null,null,null,null,null,null,null,null,null,null,null,null,null,null,null,null,null,null,null,null,null,null,null,null,null,"埼玉"]
[11,null,null,null,null,null,null,null,null,null,null,null,null,null,null,null,null,null,null,null,null,null,null,null,null,null,null,null,null,null,null,null,null,"千葉"]
[12,null,null,null,null,null,null,null,null,null,null,null,null,null,null,null,null,null,null,null,null,null,null,null,null,null,null,null,null,null,null,null,null,"東京"]
[13,null,null,null,null,null,null,null,null,null,null,null,null,null,null,null,null,null,null,null,null,null,null,null,null,null,null,null,null,null,null,null,null,"神奈川"]
[14,null,null,null,null,null,null,null,null,null,null,null,null,null,null,null,null,null,null,null,null,null,null,null,null,null,null,null,null,null,null,null,null,"新潟"]
[15,null,null,null,null,null,null,null,null,null,null,null,null,null,null,null,null,null,null,null,null,null,null,null,null,null,null,null,null,null,null,null,null,"富山"]
[16,null,null,null,null,null,null,null,null,null,null,null,null,null,null,null,null,null,null,null,null,null,null,null,null,null,null,null,null,null,null,null,null,"石川"]
[17,null,null,null,null,null,null,null,null,null,null,null,null,null,null,null,null,null,null,null,null,null,null,null,null,null,null,null,null,null,null,null,null,"福井"]
[18,null,null,null,null,null,null,null,null,null,null,null,null,null,null,null,null,null,null,null,null,null,null,null,null,null,null,null,null,null,null,null,null,"山梨"]
[19,null,null,null,null,null,null,null,null,null,null,null,null,null,null,null,null,null,null,null,null,null,null,null,null,null,null,null,null,null,null,null,null,"長野"]
[20,null,null,null,null,null,null,null,null,null,null,null,null,null,null,null,null,null,null,null,null,null,null,null,null,null,null,null,null,null,null,null,null,"岐阜"]
[21,null,null,null,null,null,null,null,null,null,null,null,null,null,null,null,null,null,null,null,null,null,null,null,null,null,null,null,null,null,null,null,null,"静岡"]
[22,null,null,null,null,null,null,null,null,null,null,null,null,null,null,null,null,null,null,null,null,null,null,null,null,null,null,null,null,null,null,null,null,"愛知"]
[23,null,null,null,null,null,null,null,null,null,null,null,null,null,null,null,null,null,null,null,null,null,null,null,null,null,null,null,null,null,null,null,null,"三重"]
[24,null,null,null,null,null,null,null,null,null,null,null,null,null,null,null,null,null,null,null,null,null,null,null,null,null,null,null,null,null,null,null,null,"滋賀"]
[25,null,null,null,null,null,null,null,null,null,null,null,null,null,null,null,null,null,null,null,null,null,null,null,null,null,null,null,null,null,null,null,null,"京都"]
[26,null,null,null,null,null,null,null,null,null,null,null,null,null,null,null,null,null,null,null,null,null,null,null,null,null,null,null,null,null,null,null,null,"大阪"]
[27,null,null,null,null,null,null,null,null,null,null,null,null,null,null,null,null,null,null,null,null,null,null,null,null,null,null,null,null,null,null,null,null,"兵庫"]
[28,null,null,null,null,null,null,null,null,null,null,null,null,null,null,null,null,null,null,null,null,null,null,null,null,null,null,null,null,null,null,null,null,"奈良"]
[29,null,null,null,null,null,null,null,null,null,null,null,null,null,null,null,null,null,null,null,null,null,null,null,null,null,null,null,null,null,null,null,null,"和歌山"]
[30,null,null,null,null,null,null,null,null,null,null,null,null,null,null,null,null,null,null,null,null,null,null,null,null,null,null,null,null,null,null,null,null,"鳥取"]
[31,null,null,null,null,null,null,null,null,null,null,null,null,null,null,null,null,null,null,null,null,null,null,null,null,null,null,null,null,null,null,null,null,"島根"]
[32,null,null,null,null,null,null,null,null,null,null,null,null,null,null,null,null,null,null,null,null,null,null,null,null,null,null,null,null,null,null,null,null,"岡山"]
[33,null,null,null,null,null,null,null,null,null,null,null,null,null,null,null,null,null,null,null,null,null,null,null,null,null,null,null,null,null,null,null,null,"広島"]
[34,null,null,null,null,null,null,null,null,null,null,null,null,null,null,null,null,null,null,null,null,null,null,null,null,null,null,null,null,null,null,null,null,"山口"]
[35,null,null,null,null,null,null,null,null,null,null,null,null,null,null,null,null,null,null,null,null,null,null,null,null,null,null,null,null,null,null,null,null,"徳島"]
[36,null,null,null,null,null,null,null,null,null,null,null,null,null,null,null,null,null,null,null,null,null,null,null,null,null,null,null,null,null,null,null,null,"香川"]
[37,null,null,null,null,null,null,null,null,null,null,null,null,null,null,null,null,null,null,null,null,null,null,null,null,null,null,null,null,null,null,null,null,"愛媛"]
[38,null,null,null,null,null,null,null,null,null,null,null,null,null,null,null,null,null,null,null,null,null,null,null,null,null,null,null,null,null,null,null,null,"高知"]
[39,null,null,null,null,null,null,null,null,null,null,null,null,null,null,null,null,null,null,null,null,null,null,null,null,null,null,null,null,null,null,null,null,"福岡"]
[40,null,null,null,null,null,null,null,null,null,null,null,null,null,null,null,null,null,null,null,null,null,null,null,null,null,null,null,null,null,null,null,null,"佐賀"]
[41,null,null,null,null,null,null,null,null,null,null,null,null,null,null,null,null,null,null,null,null,null,null,null,null,null,null,null,null,null,null,null,null,"長崎"]
[42,null,null,null,null,null,null,null,null,null,null,null,null,null,null,null,null,null,null,null,null,null,null,null,null,null,null,null,null,null,null,null,null,"熊本"]
[43,null,null,null,null,null,null,null,null,null,null,null,null,null,null,null,null,null,null,null,null,null,null,null,null,null,null,null,null,null,null,null,null,"大分"]
[44,null,null,null,null,null,null,null,null,null,null,null,null,null,null,null,null,null,null,null,null,null,null,null,null,null,null,null,null,null,null,null,null,"宮崎"]
[45,null,null,null,null,null,null,null,null,null,null,null,null,null,null,null,null,null,null,null,null,null,null,null,null,null,null,null,null,null,null,null,null,"鹿児島"]
[46,null,null,null,null,null,null,null,null,null,null,null,null,null,null,null,null,null,null,null,null,null,null,null,null,null,null,null,null,null,null,null,null,"沖縄"]
[47,null,null,null,null,null,null,null,null,null,null,null,null,null,null,null,null,null,null,null,null,null,null,null,null,null,null,null,null,null,null,null,null,"学連"]
[48]
[49]
[50]
[51]
[52]
[53]
[54]
[55]
[56]
[57]
[58]
[59]
[60]
[61]
[62]
[63]
[64]
[65]
[66]
[67]
[68]
[69]
[70]
[71]
[72]
[73]
[74]
[75]
[76]
[77]
[78]
[79]
[80]
[81]
[82]
[83]
[84]
[85]
[86]
[87]
[88]
[89]
[90]
[91]
[92]
[93]
[94]
[95]
[96]
[97]
[98]
[99]
[100]
[101]
[102]
[103]
[104]
[105]
[106]
[107]
[108]
[109]
[110]
[111]
[112]
[113]
[114]
[115]
[116]
[117]
[118]
[119]
[120]
[121]
[122]
[123]
[124]
[125]
[126]
[127]
[128]
[129]
[130]
[131]
[132]
[133]
[134]
[135]
[136]
[137]
[138]
[139]
[140]
[141]
[142]
[143]
[144]
[145]
[146]
[147]
[148]
[149]
[150]
[151]
[152]
[153]
[154]
[155]
[156]
[157]
[158]
[159]
[160]
[161]
[162]
[163]
[164]
[165]
[166]
[167]
[168]
[169]
[170]
[171]
[172]
[173]
[174]
[175]
[176]
[177]
[178]
[179]
[180]
[181]
[182]
[183]
[184]
[185]
[186]
[187]
[188]
[189]
[190]
[191]
[192]
[193]
[194]
[195]
[196]
[197]
[198]
[199]
[200]
[201]
[202]
[203]
[204]
[205]
[206]
[207]
[208]
[209]
[210]
[211]
[212]
[213]
[214]
[215]
[216]
[217]
[218]
[219]
[220]
[221]
[222]
[223]
[224]
[225]
[226]
[227]
[228]
[229]
[230]
[231]
[232]
[233]
[234]
[235]
[236]
[237]
[238]
[239]
[240]
[241]
[242]
[243]
[244]
[245]
[246]
[247]
[248]
[249]
[250]
[251]
[252]
[253]
[254]
[255]
[256]
[257]
[258]
[259]
[260]
[261]
[262]
[263]
[264]
[265]
[266]
[267]
[268]
[269]
[270]
[271]
[272]
[273]
[274]
[275]
[276]
[277]
[278]
[279]
[280]
[281]
[282]
[283]
[284]
[285]
[286]
[287]
[288]
[289]
[290]
[291]
[292]
[293]
[294]
[295]
[296]
[297]
[298]
[299]
[300]
[301]
[302]
[303]
[304]
[305]
[306]
[307]

{"sheet":"リレー","index":4,"n_rows":89,"n_cols":15,"rows_kept":89,"cut":false,"hidden":true,"merged":[]}
[]
[null,"リレー　エントリーファイル"]
[null,"＊リレーのみに参加する選手に関しても、競技者一覧に入力してください＊"]
[null,"＊競技者一覧に入力すると選手名選択に名前が表示されます。＊"]
[null,"＊選手名はプルダウンを使用して入力してください"]
[]
[null,"チーム名","コード","最近の最高記録","選手1","選手2","選手3","選手4","選手5","選手6",null,"種目",null,null,"選手名"]
[1,null,null,null,null,null,null,null,null,null,null,"共通男子4X100mR",null,null,{"$f":"IF(競技者一覧!C22=0,\"\",競技者一覧!C22)","v":""}]
[2,null,null,null,null,null,null,null,null,null,null,"共通女子4X100mR",null,null,{"$f":"IF(競技者一覧!C23=0,\"\",競技者一覧!C23)","v":""}]
[3,null,null,null,null,null,null,null,null,null,null,null,113,null,{"$f":"IF(競技者一覧!C24=0,\"\",競技者一覧!C24)","v":""}]
[4,null,null,null,null,null,null,null,null,null,null,null,204,null,{"$f":"IF(競技者一覧!C25=0,\"\",競技者一覧!C25)","v":""}]
[5,null,null,null,null,null,null,null,null,null,null,null,213,null,{"$f":"IF(競技者一覧!C26=0,\"\",競技者一覧!C26)","v":""}]
[6,null,null,null,null,null,null,null,null,null,null,null,308,null,{"$f":"IF(競技者一覧!C27=0,\"\",競技者一覧!C27)","v":""}]
[7,null,null,null,null,null,null,null,null,null,null,null,407,null,{"$f":"IF(競技者一覧!C28=0,\"\",競技者一覧!C28)","v":""}]
[8,null,null,null,null,null,null,null,null,null,null,null,null,null,{"$f":"IF(競技者一覧!C29=0,\"\",競技者一覧!C29)","v":""}]
[9,null,null,null,null,null,null,null,null,null,null,null,null,null,{"$f":"IF(競技者一覧!C30=0,\"\",競技者一覧!C30)","v":""}]
[10,null,null,null,null,null,null,null,null,null,null,null,null,null,{"$f":"IF(競技者一覧!C31=0,\"\",競技者一覧!C31)","v":""}]
[11,null,null,null,null,null,null,null,null,null,null,null,null,null,{"$f":"IF(競技者一覧!C32=0,\"\",競技者一覧!C32)","v":""}]
[12,null,null,null,null,null,null,null,null,null,null,null,null,null,{"$f":"IF(競技者一覧!C33=0,\"\",競技者一覧!C33)","v":""}]
[13,null,null,null,null,null,null,null,null,null,null,null,null,null,{"$f":"IF(競技者一覧!C34=0,\"\",競技者一覧!C34)","v":""}]
[14,null,null,null,null,null,null,null,null,null,null,null,null,null,{"$f":"IF(競技者一覧!C35=0,\"\",競技者一覧!C35)","v":""}]
[15,null,null,null,null,null,null,null,null,null,null,null,null,null,{"$f":"IF(競技者一覧!C36=0,\"\",競技者一覧!C36)","v":""}]
[16,null,null,null,null,null,null,null,null,null,null,null,null,null,{"$f":"IF(競技者一覧!C37=0,\"\",競技者一覧!C37)","v":""}]
[17,null,null,null,null,null,null,null,null,null,null,null,null,null,{"$f":"IF(競技者一覧!C38=0,\"\",競技者一覧!C38)","v":""}]
[18,null,null,null,null,null,null,null,null,null,null,null,null,null,{"$f":"IF(競技者一覧!C39=0,\"\",競技者一覧!C39)","v":""}]
[19,null,null,null,null,null,null,null,null,null,null,null,null,null,{"$f":"IF(競技者一覧!C40=0,\"\",競技者一覧!C40)","v":""}]
[20,null,null,null,null,null,null,null,null,null,null,null,null,null,{"$f":"IF(競技者一覧!C41=0,\"\",競技者一覧!C41)","v":""}]
[21,null,null,null,null,null,null,null,null,null,null,null,null,null,{"$f":"IF(競技者一覧!C42=0,\"\",競技者一覧!C42)","v":""}]
[22,null,null,null,null,null,null,null,null,null,null,null,null,null,{"$f":"IF(競技者一覧!C43=0,\"\",競技者一覧!C43)","v":""}]
[23,null,null,null,null,null,null,null,null,null,null,null,null,null,{"$f":"IF(競技者一覧!C44=0,\"\",競技者一覧!C44)","v":""}]
[24,null,null,null,null,null,null,null,null,null,null,null,null,null,{"$f":"IF(競技者一覧!C45=0,\"\",競技者一覧!C45)","v":""}]
[25,null,null,null,null,null,null,null,null,null,null,null,null,null,{"$f":"IF(競技者一覧!C46=0,\"\",競技者一覧!C46)","v":""}]
[26,null,null,null,null,null,null,null,null,null,null,null,null,null,{"$f":"IF(競技者一覧!C47=0,\"\",競技者一覧!C47)","v":""}]
[27,null,null,null,null,null,null,null,null,null,null,null,null,null,{"$f":"IF(競技者一覧!C48=0,\"\",競技者一覧!C48)","v":""}]
[28,null,null,null,null,null,null,null,null,null,null,null,null,null,{"$f":"IF(競技者一覧!C49=0,\"\",競技者一覧!C49)","v":""}]
[29,null,null,null,null,null,null,null,null,null,null,null,null,null,{"$f":"IF(競技者一覧!C50=0,\"\",競技者一覧!C50)","v":""}]
[30,null,null,null,null,null,null,null,null,null,null,null,null,null,{"$f":"IF(競技者一覧!C51=0,\"\",競技者一覧!C51)","v":""}]
[null,null,null,null,null,null,null,null,null,null,null,null,null,null,{"$f":"IF(競技者一覧!C52=0,\"\",競技者一覧!C52)","v":""}]
[null,null,null,null,null,null,null,null,null,null,null,null,null,null,{"$f":"IF(競技者一覧!C53=0,\"\",競技者一覧!C53)","v":""}]
[null,null,null,null,null,null,null,null,null,null,null,null,null,null,{"$f":"IF(競技者一覧!C54=0,\"\",競技者一覧!C54)","v":""}]
[null,null,null,null,null,null,null,null,null,null,null,null,null,null,{"$f":"IF(競技者一覧!C55=0,\"\",競技者一覧!C55)","v":""}]
[null,null,null,null,null,null,null,null,null,null,null,null,null,null,{"$f":"IF(競技者一覧!C56=0,\"\",競技者一覧!C56)","v":""}]
[null,null,null,null,null,null,null,null,null,null,null,null,null,null,{"$f":"IF(競技者一覧!C57=0,\"\",競技者一覧!C57)","v":""}]
[null,null,null,null,null,null,null,null,null,null,null,null,null,null,{"$f":"IF(競技者一覧!C58=0,\"\",競技者一覧!C58)","v":""}]
[null,null,null,null,null,null,null,null,null,null,null,null,null,null,{"$f":"IF(競技者一覧!C59=0,\"\",競技者一覧!C59)","v":""}]
[null,null,null,null,null,null,null,null,null,null,null,null,null,null,{"$f":"IF(競技者一覧!C60=0,\"\",競技者一覧!C60)","v":""}]
[null,null,null,null,null,null,null,null,null,null,null,null,null,null,{"$f":"IF(競技者一覧!C61=0,\"\",競技者一覧!C61)","v":""}]
[null,null,null,null,null,null,null,null,null,null,null,null,null,null,{"$f":"IF(競技者一覧!C62=0,\"\",競技者一覧!C62)","v":""}]
[null,null,null,null,null,null,null,null,null,null,null,null,null,null,{"$f":"IF(競技者一覧!C63=0,\"\",競技者一覧!C63)","v":""}]
[null,null,null,null,null,null,null,null,null,null,null,null,null,null,{"$f":"IF(競技者一覧!C64=0,\"\",競技者一覧!C64)","v":""}]
[null,null,null,null,null,null,null,null,null,null,null,null,null,null,{"$f":"IF(競技者一覧!C65=0,\"\",競技者一覧!C65)","v":""}]
[null,null,null,null,null,null,null,null,null,null,null,null,null,null,{"$f":"IF(競技者一覧!C66=0,\"\",競技者一覧!C66)","v":""}]
[null,null,null,null,null,null,null,null,null,null,null,null,null,null,{"$f":"IF(競技者一覧!C67=0,\"\",競技者一覧!C67)","v":""}]
[null,null,null,null,null,null,null,null,null,null,null,null,null,null,{"$f":"IF(競技者一覧!C68=0,\"\",競技者一覧!C68)","v":""}]
[null,null,null,null,null,null,null,null,null,null,null,null,null,null,{"$f":"IF(競技者一覧!C69=0,\"\",競技者一覧!C69)","v":""}]
[null,null,null,null,null,null,null,null,null,null,null,null,null,null,{"$f":"IF(競技者一覧!C70=0,\"\",競技者一覧!C70)","v":""}]
[null,null,null,null,null,null,null,null,null,null,null,null,null,null,{"$f":"IF(競技者一覧!C71=0,\"\",競技者一覧!C71)","v":""}]
[null,null,null,null,null,null,null,null,null,null,null,null,null,null,{"$f":"IF(競技者一覧!C72=0,\"\",競技者一覧!C72)","v":""}]
[null,null,null,null,null,null,null,null,null,null,null,null,null,null,{"$f":"IF(競技者一覧!C73=0,\"\",競技者一覧!C73)","v":""}]
[null,null,null,null,null,null,null,null,null,null,null,null,null,null,{"$f":"IF(競技者一覧!C74=0,\"\",競技者一覧!C74)","v":""}]
[null,null,null,null,null,null,null,null,null,null,null,null,null,null,{"$f":"IF(競技者一覧!C75=0,\"\",競技者一覧!C75)","v":""}]
[null,null,null,null,null,null,null,null,null,null,null,null,null,null,{"$f":"IF(競技者一覧!C76=0,\"\",競技者一覧!C76)","v":""}]
[null,null,null,null,null,null,null,null,null,null,null,null,null,null,{"$f":"IF(競技者一覧!C77=0,\"\",競技者一覧!C77)","v":""}]
[null,null,null,null,null,null,null,null,null,null,null,null,null,null,{"$f":"IF(競技者一覧!C78=0,\"\",競技者一覧!C78)","v":""}]
[null,null,null,null,null,null,null,null,null,null,null,null,null,null,{"$f":"IF(競技者一覧!C79=0,\"\",競技者一覧!C79)","v":""}]
[null,null,null,null,null,null,null,null,null,null,null,null,null,null,{"$f":"IF(競技者一覧!C80=0,\"\",競技者一覧!C80)","v":""}]
[null,null,null,null,null,null,null,null,null,null,null,null,null,null,{"$f":"IF(競技者一覧!C81=0,\"\",競技者一覧!C81)","v":""}]
[null,null,null,null,null,null,null,null,null,null,null,null,null,null,{"$f":"IF(競技者一覧!C82=0,\"\",競技者一覧!C82)","v":""}]
[null,null,null,null,null,null,null,null,null,null,null,null,null,null,{"$f":"IF(競技者一覧!C83=0,\"\",競技者一覧!C83)","v":""}]
[null,null,null,null,null,null,null,null,null,null,null,null,null,null,{"$f":"IF(競技者一覧!C84=0,\"\",競技者一覧!C84)","v":""}]
[null,null,null,null,null,null,null,null,null,null,null,null,null,null,{"$f":"IF(競技者一覧!C85=0,\"\",競技者一覧!C85)","v":""}]
[null,null,null,null,null,null,null,null,null,null,null,null,null,null,{"$f":"IF(競技者一覧!C86=0,\"\",競技者一覧!C86)","v":""}]
[null,null,null,null,null,null,null,null,null,null,null,null,null,null,{"$f":"IF(競技者一覧!C87=0,\"\",競技者一覧!C87)","v":""}]
[null,null,null,null,null,null,null,null,null,null,null,null,null,null,{"$f":"IF(競技者一覧!C88=0,\"\",競技者一覧!C88)","v":""}]
[null,null,null,null,null,null,null,null,null,null,null,null,null,null,{"$f":"IF(競技者一覧!C89=0,\"\",競技者一覧!C89)","v":""}]
[null,null,null,null,null,null,null,null,null,null,null,null,null,null,{"$f":"IF(競技者一覧!C90=0,\"\",競技者一覧!C90)","v":""}]
[null,null,null,null,null,null,null,null,null,null,null,null,null,null,{"$f":"IF(競技者一覧!C91=0,\"\",競技者一覧!C91)","v":""}]
[null,null,null,null,null,null,null,null,null,null,null,null,null,null,{"$f":"IF(競技者一覧!C92=0,\"\",競技者一覧!C92)","v":""}]
[null,null,null,null,null,null,null,null,null,null,null,null,null,null,{"$f":"IF(競技者一覧!C93=0,\"\",競技者一覧!C93)","v":""}]
[null,null,null,null,null,null,null,null,null,null,null,null,null,null,{"$f":"IF(競技者一覧!C94=0,\"\",競技者一覧!C94)","v":""}]
[null,null,null,null,null,null,null,null,null,null,null,null,null,null,{"$f":"IF(競技者一覧!C95=0,\"\",競技者一覧!C95)","v":""}]
[null,null,null,null,null,null,null,null,null,null,null,null,null,null,{"$f":"IF(競技者一覧!C96=0,\"\",競技者一覧!C96)","v":""}]
[null,null,null,null,null,null,null,null,null,null,null,null,null,null,{"$f":"IF(競技者一覧!C97=0,\"\",競技者一覧!C97)","v":""}]
[null,null,null,null,null,null,null,null,null,null,null,null,null,null,{"$f":"IF(競技者一覧!C98=0,\"\",競技者一覧!C98)","v":""}]
[null,null,null,null,null,null,null,null,null,null,null,null,null,null,{"$f":"IF(競技者一覧!C99=0,\"\",競技者一覧!C99)","v":""}]
[null,null,null,null,null,null,null,null,null,null,null,null,null,null,{"$f":"IF(競技者一覧!C100=0,\"\",競技者一覧!C100)","v":""}]
[null,null,null,null,null,null,null,null,null,null,null,null,null,null,{"$f":"IF(競技者一覧!C101=0,\"\",競技者一覧!C101)","v":""}]
[null,null,null,null,null,null,null,null,null,null,null,null,null,null,{"$f":"IF(競技者一覧!C102=0,\"\",競技者一覧!C102)","v":""}]
[null,null,null,null,null,null,null,null,null,null,null,null,null,null,{"$f":"IF(競技者一覧!C103=0,\"\",競技者一覧!C103)","v":""}]

{"sheet":"個人種目出場種目数","index":5,"n_rows":53,"n_cols":10,"rows_kept":53,"cut":false,"hidden":true,"merged":[]}
[null,null,null,null,null,null,null,null,null,"計"]
["小学男子100ｍ",{"$f":"COUNTIF(競技者一覧!$K$22:$K$121,A2)","v":0},{"$f":"COUNTIF(競技者一覧!$M$22:$M$121,A2)","v":0},{"$f":"COUNTIF(競技者一覧!$O$22:$O$121,A2)","v":0},{"$f":"COUNTIF(競技者一覧!$Q$22:$Q$121,A2)","v":0},{"$f":"COUNTIF(競技者一覧!$S$22:$S$121,A2)","v":0},{"$f":"COUNTIF(競技者一覧!$U$22:$U$121,A2)","v":0},{"$f":"COUNTIF(競技者一覧!$W$22:$W$121,A2)","v":0},{"$f":"COUNTIF(競技者一覧!$Y$22:$Y$121,A2)","v":0},{"$f":"SUM(B2:I2)","v":0}]
["小学男子走幅跳",{"$f":"COUNTIF(競技者一覧!$K$22:$K$121,A3)","v":0},{"$f":"COUNTIF(競技者一覧!$M$22:$M$121,A3)","v":0},{"$f":"COUNTIF(競技者一覧!$O$22:$O$121,A3)","v":0},{"$f":"COUNTIF(競技者一覧!$Q$22:$Q$121,A3)","v":0},{"$f":"COUNTIF(競技者一覧!$S$22:$S$121,A3)","v":0},{"$f":"COUNTIF(競技者一覧!$U$22:$U$121,A3)","v":0},{"$f":"COUNTIF(競技者一覧!$W$22:$W$121,A3)","v":0},{"$f":"COUNTIF(競技者一覧!$Y$22:$Y$121,A3)","v":0},0]
["共通男子100ｍ",{"$f":"COUNTIF(競技者一覧!$K$22:$K$121,A4)","v":0},{"$f":"COUNTIF(競技者一覧!$M$22:$M$121,A4)","v":0},{"$f":"COUNTIF(競技者一覧!$O$22:$O$121,A4)","v":0},{"$f":"COUNTIF(競技者一覧!$Q$22:$Q$121,A4)","v":0},{"$f":"COUNTIF(競技者一覧!$S$22:$S$121,A4)","v":0},{"$f":"COUNTIF(競技者一覧!$U$22:$U$121,A4)","v":0},{"$f":"COUNTIF(競技者一覧!$W$22:$W$121,A4)","v":0},{"$f":"COUNTIF(競技者一覧!$Y$22:$Y$121,A4)","v":0},0]
["共通男子200ｍ",{"$f":"COUNTIF(競技者一覧!$K$22:$K$121,A5)","v":0},{"$f":"COUNTIF(競技者一覧!$M$22:$M$121,A5)","v":0},{"$f":"COUNTIF(競技者一覧!$O$22:$O$121,A5)","v":0},{"$f":"COUNTIF(競技者一覧!$Q$22:$Q$121,A5)","v":0},{"$f":"COUNTIF(競技者一覧!$S$22:$S$121,A5)","v":0},{"$f":"COUNTIF(競技者一覧!$U$22:$U$121,A5)","v":0},{"$f":"COUNTIF(競技者一覧!$W$22:$W$121,A5)","v":0},{"$f":"COUNTIF(競技者一覧!$Y$22:$Y$121,A5)","v":0},0]
["共通男子400ｍ",{"$f":"COUNTIF(競技者一覧!$K$22:$K$121,A6)","v":0},{"$f":"COUNTIF(競技者一覧!$M$22:$M$121,A6)","v":0},{"$f":"COUNTIF(競技者一覧!$O$22:$O$121,A6)","v":0},{"$f":"COUNTIF(競技者一覧!$Q$22:$Q$121,A6)","v":0},{"$f":"COUNTIF(競技者一覧!$S$22:$S$121,A6)","v":0},{"$f":"COUNTIF(競技者一覧!$U$22:$U$121,A6)","v":0},{"$f":"COUNTIF(競技者一覧!$W$22:$W$121,A6)","v":0},{"$f":"COUNTIF(競技者一覧!$Y$22:$Y$121,A6)","v":0},0]
["共通男子800ｍ",{"$f":"COUNTIF(競技者一覧!$K$22:$K$121,A7)","v":0},{"$f":"COUNTIF(競技者一覧!$M$22:$M$121,A7)","v":0},{"$f":"COUNTIF(競技者一覧!$O$22:$O$121,A7)","v":0},{"$f":"COUNTIF(競技者一覧!$Q$22:$Q$121,A7)","v":0},{"$f":"COUNTIF(競技者一覧!$S$22:$S$121,A7)","v":0},{"$f":"COUNTIF(競技者一覧!$U$22:$U$121,A7)","v":0},{"$f":"COUNTIF(競技者一覧!$W$22:$W$121,A7)","v":0},{"$f":"COUNTIF(競技者一覧!$Y$22:$Y$121,A7)","v":0},0]
["共通男子1500ｍ",{"$f":"COUNTIF(競技者一覧!$K$22:$K$121,A8)","v":0},{"$f":"COUNTIF(競技者一覧!$M$22:$M$121,A8)","v":0},{"$f":"COUNTIF(競技者一覧!$O$22:$O$121,A8)","v":0},{"$f":"COUNTIF(競技者一覧!$Q$22:$Q$121,A8)","v":0},{"$f":"COUNTIF(競技者一覧!$S$22:$S$121,A8)","v":0},{"$f":"COUNTIF(競技者一覧!$U$22:$U$121,A8)","v":0},{"$f":"COUNTIF(競技者一覧!$W$22:$W$121,A8)","v":0},{"$f":"COUNTIF(競技者一覧!$Y$22:$Y$121,A8)","v":0},0]
["共通男子3000ｍ",{"$f":"COUNTIF(競技者一覧!$K$22:$K$121,A9)","v":0},{"$f":"COUNTIF(競技者一覧!$M$22:$M$121,A9)","v":0},{"$f":"COUNTIF(競技者一覧!$O$22:$O$121,A9)","v":0},{"$f":"COUNTIF(競技者一覧!$Q$22:$Q$121,A9)","v":0},{"$f":"COUNTIF(競技者一覧!$S$22:$S$121,A9)","v":0},{"$f":"COUNTIF(競技者一覧!$U$22:$U$121,A9)","v":0},{"$f":"COUNTIF(競技者一覧!$W$22:$W$121,A9)","v":0},{"$f":"COUNTIF(競技者一覧!$Y$22:$Y$121,A9)","v":0},0]
["中学男子走高跳",{"$f":"COUNTIF(競技者一覧!$K$22:$K$121,A10)","v":0},{"$f":"COUNTIF(競技者一覧!$M$22:$M$121,A10)","v":0},{"$f":"COUNTIF(競技者一覧!$O$22:$O$121,A10)","v":0},{"$f":"COUNTIF(競技者一覧!$Q$22:$Q$121,A10)","v":0},{"$f":"COUNTIF(競技者一覧!$S$22:$S$121,A10)","v":0},{"$f":"COUNTIF(競技者一覧!$U$22:$U$121,A10)","v":0},{"$f":"COUNTIF(競技者一覧!$W$22:$W$121,A10)","v":0},{"$f":"COUNTIF(競技者一覧!$Y$22:$Y$121,A10)","v":0},0]
["中学男子走幅跳",{"$f":"COUNTIF(競技者一覧!$K$22:$K$121,A11)","v":0},{"$f":"COUNTIF(競技者一覧!$M$22:$M$121,A11)","v":0},{"$f":"COUNTIF(競技者一覧!$O$22:$O$121,A11)","v":0},{"$f":"COUNTIF(競技者一覧!$Q$22:$Q$121,A11)","v":0},{"$f":"COUNTIF(競技者一覧!$S$22:$S$121,A11)","v":0},{"$f":"COUNTIF(競技者一覧!$U$22:$U$121,A11)","v":0},{"$f":"COUNTIF(競技者一覧!$W$22:$W$121,A11)","v":0},{"$f":"COUNTIF(競技者一覧!$Y$22:$Y$121,A11)","v":0},0]
["中学男子砲丸投(5.0㎏)",{"$f":"COUNTIF(競技者一覧!$K$22:$K$121,A12)","v":0},{"$f":"COUNTIF(競技者一覧!$M$22:$M$121,A12)","v":0},{"$f":"COUNTIF(競技者一覧!$O$22:$O$121,A12)","v":0},{"$f":"COUNTIF(競技者一覧!$Q$22:$Q$121,A12)","v":0},{"$f":"COUNTIF(競技者一覧!$S$22:$S$121,A12)","v":0},{"$f":"COUNTIF(競技者一覧!$U$22:$U$121,A12)","v":0},{"$f":"COUNTIF(競技者一覧!$W$22:$W$121,A12)","v":0},{"$f":"COUNTIF(競技者一覧!$Y$22:$Y$121,A12)","v":0},0]
["高校男子走高跳",{"$f":"COUNTIF(競技者一覧!$K$22:$K$121,A13)","v":0},{"$f":"COUNTIF(競技者一覧!$M$22:$M$121,A13)","v":0},{"$f":"COUNTIF(競技者一覧!$O$22:$O$121,A13)","v":0},{"$f":"COUNTIF(競技者一覧!$Q$22:$Q$121,A13)","v":0},{"$f":"COUNTIF(競技者一覧!$S$22:$S$121,A13)","v":0},{"$f":"COUNTIF(競技者一覧!$U$22:$U$121,A13)","v":0},{"$f":"COUNTIF(競技者一覧!$W$22:$W$121,A13)","v":0},{"$f":"COUNTIF(競技者一覧!$Y$22:$Y$121,A13)","v":0},0]
["高校男子走幅跳",{"$f":"COUNTIF(競技者一覧!$K$22:$K$121,A14)","v":0},{"$f":"COUNTIF(競技者一覧!$M$22:$M$121,A14)","v":0},{"$f":"COUNTIF(競技者一覧!$O$22:$O$121,A14)","v":0},{"$f":"COUNTIF(競技者一覧!$Q$22:$Q$121,A14)","v":0},{"$f":"COUNTIF(競技者一覧!$S$22:$S$121,A14)","v":0},{"$f":"COUNTIF(競技者一覧!$U$22:$U$121,A14)","v":0},{"$f":"COUNTIF(競技者一覧!$W$22:$W$121,A14)","v":0},{"$f":"COUNTIF(競技者一覧!$Y$22:$Y$121,A14)","v":0},0]
["高校男子砲丸投(6.0Kg)",{"$f":"COUNTIF(競技者一覧!$K$22:$K$121,A15)","v":0},{"$f":"COUNTIF(競技者一覧!$M$22:$M$121,A15)","v":0},{"$f":"COUNTIF(競技者一覧!$O$22:$O$121,A15)","v":0},{"$f":"COUNTIF(競技者一覧!$Q$22:$Q$121,A15)","v":0},{"$f":"COUNTIF(競技者一覧!$S$22:$S$121,A15)","v":0},{"$f":"COUNTIF(競技者一覧!$U$22:$U$121,A15)","v":0},{"$f":"COUNTIF(競技者一覧!$W$22:$W$121,A15)","v":0},{"$f":"COUNTIF(競技者一覧!$Y$22:$Y$121,A15)","v":0},0]
["小学女子100ｍ",{"$f":"COUNTIF(競技者一覧!$K$22:$K$121,A16)","v":0},{"$f":"COUNTIF(競技者一覧!$M$22:$M$121,A16)","v":0},{"$f":"COUNTIF(競技者一覧!$O$22:$O$121,A16)","v":0},{"$f":"COUNTIF(競技者一覧!$Q$22:$Q$121,A16)","v":0},{"$f":"COUNTIF(競技者一覧!$S$22:$S$121,A16)","v":0},{"$f":"COUNTIF(競技者一覧!$U$22:$U$121,A16)","v":0},{"$f":"COUNTIF(競技者一覧!$W$22:$W$121,A16)","v":0},{"$f":"COUNTIF(競技者一覧!$Y$22:$Y$121,A16)","v":0},0]
["小学女子走幅跳",{"$f":"COUNTIF(競技者一覧!$K$22:$K$121,A17)","v":0},{"$f":"COUNTIF(競技者一覧!$M$22:$M$121,A17)","v":0},{"$f":"COUNTIF(競技者一覧!$O$22:$O$121,A17)","v":0},{"$f":"COUNTIF(競技者一覧!$Q$22:$Q$121,A17)","v":0},{"$f":"COUNTIF(競技者一覧!$S$22:$S$121,A17)","v":0},{"$f":"COUNTIF(競技者一覧!$U$22:$U$121,A17)","v":0},{"$f":"COUNTIF(競技者一覧!$W$22:$W$121,A17)","v":0},{"$f":"COUNTIF(競技者一覧!$Y$22:$Y$121,A17)","v":0},0]
["共通女子100ｍ",{"$f":"COUNTIF(競技者一覧!$K$22:$K$121,A18)","v":0},{"$f":"COUNTIF(競技者一覧!$M$22:$M$121,A18)","v":0},{"$f":"COUNTIF(競技者一覧!$O$22:$O$121,A18)","v":0},{"$f":"COUNTIF(競技者一覧!$Q$22:$Q$121,A18)","v":0},{"$f":"COUNTIF(競技者一覧!$S$22:$S$121,A18)","v":0},{"$f":"COUNTIF(競技者一覧!$U$22:$U$121,A18)","v":0},{"$f":"COUNTIF(競技者一覧!$W$22:$W$121,A18)","v":0},{"$f":"COUNTIF(競技者一覧!$Y$22:$Y$121,A18)","v":0},0]
["共通女子200ｍ",{"$f":"COUNTIF(競技者一覧!$K$22:$K$121,A19)","v":0},{"$f":"COUNTIF(競技者一覧!$M$22:$M$121,A19)","v":0},{"$f":"COUNTIF(競技者一覧!$O$22:$O$121,A19)","v":0},{"$f":"COUNTIF(競技者一覧!$Q$22:$Q$121,A19)","v":0},{"$f":"COUNTIF(競技者一覧!$S$22:$S$121,A19)","v":0},{"$f":"COUNTIF(競技者一覧!$U$22:$U$121,A19)","v":0},{"$f":"COUNTIF(競技者一覧!$W$22:$W$121,A19)","v":0},{"$f":"COUNTIF(競技者一覧!$Y$22:$Y$121,A19)","v":0},0]
["共通女子800ｍ",{"$f":"COUNTIF(競技者一覧!$K$22:$K$121,A20)","v":0},{"$f":"COUNTIF(競技者一覧!$M$22:$M$121,A20)","v":0},{"$f":"COUNTIF(競技者一覧!$O$22:$O$121,A20)","v":0},{"$f":"COUNTIF(競技者一覧!$Q$22:$Q$121,A20)","v":0},{"$f":"COUNTIF(競技者一覧!$S$22:$S$121,A20)","v":0},{"$f":"COUNTIF(競技者一覧!$U$22:$U$121,A20)","v":0},{"$f":"COUNTIF(競技者一覧!$W$22:$W$121,A20)","v":0},{"$f":"COUNTIF(競技者一覧!$Y$22:$Y$121,A20)","v":0},0]
["共通女子1500ｍ",{"$f":"COUNTIF(競技者一覧!$K$22:$K$121,A21)","v":0},{"$f":"COUNTIF(競技者一覧!$M$22:$M$121,A21)","v":0},{"$f":"COUNTIF(競技者一覧!$O$22:$O$121,A21)","v":0},{"$f":"COUNTIF(競技者一覧!$Q$22:$Q$121,A21)","v":0},{"$f":"COUNTIF(競技者一覧!$S$22:$S$121,A21)","v":0},{"$f":"COUNTIF(競技者一覧!$U$22:$U$121,A21)","v":0},{"$f":"COUNTIF(競技者一覧!$W$22:$W$121,A21)","v":0},{"$f":"COUNTIF(競技者一覧!$Y$22:$Y$121,A21)","v":0},0]
["中学女子走高跳",{"$f":"COUNTIF(競技者一覧!$K$22:$K$121,A22)","v":0},{"$f":"COUNTIF(競技者一覧!$M$22:$M$121,A22)","v":0},{"$f":"COUNTIF(競技者一覧!$O$22:$O$121,A22)","v":0},{"$f":"COUNTIF(競技者一覧!$Q$22:$Q$121,A22)","v":0},{"$f":"COUNTIF(競技者一覧!$S$22:$S$121,A22)","v":0},{"$f":"COUNTIF(競技者一覧!$U$22:$U$121,A22)","v":0},{"$f":"COUNTIF(競技者一覧!$W$22:$W$121,A22)","v":0},{"$f":"COUNTIF(競技者一覧!$Y$22:$Y$121,A22)","v":0},0]
["中学女子走幅跳",{"$f":"COUNTIF(競技者一覧!$K$22:$K$121,A23)","v":0},{"$f":"COUNTIF(競技者一覧!$M$22:$M$121,A23)","v":0},{"$f":"COUNTIF(競技者一覧!$O$22:$O$121,A23)","v":0},{"$f":"COUNTIF(競技者一覧!$Q$22:$Q$121,A23)","v":0},{"$f":"COUNTIF(競技者一覧!$S$22:$S$121,A23)","v":0},{"$f":"COUNTIF(競技者一覧!$U$22:$U$121,A23)","v":0},{"$f":"COUNTIF(競技者一覧!$W$22:$W$121,A23)","v":0},{"$f":"COUNTIF(競技者一覧!$Y$22:$Y$121,A23)","v":0},0]
["中学女子砲丸投(2.7㎏)",{"$f":"COUNTIF(競技者一覧!$K$22:$K$121,A24)","v":0},{"$f":"COUNTIF(競技者一覧!$M$22:$M$121,A24)","v":0},{"$f":"COUNTIF(競技者一覧!$O$22:$O$121,A24)","v":0},{"$f":"COUNTIF(競技者一覧!$Q$22:$Q$121,A24)","v":0},{"$f":"COUNTIF(競技者一覧!$S$22:$S$121,A24)","v":0},{"$f":"COUNTIF(競技者一覧!$U$22:$U$121,A24)","v":0},{"$f":"COUNTIF(競技者一覧!$W$22:$W$121,A24)","v":0},{"$f":"COUNTIF(競技者一覧!$Y$22:$Y$121,A24)","v":0},0]
["高校女子走高跳",{"$f":"COUNTIF(競技者一覧!$K$22:$K$121,A25)","v":0},{"$f":"COUNTIF(競技者一覧!$M$22:$M$121,A25)","v":0},{"$f":"COUNTIF(競技者一覧!$O$22:$O$121,A25)","v":0},{"$f":"COUNTIF(競技者一覧!$Q$22:$Q$121,A25)","v":0},{"$f":"COUNTIF(競技者一覧!$S$22:$S$121,A25)","v":0},{"$f":"COUNTIF(競技者一覧!$U$22:$U$121,A25)","v":0},{"$f":"COUNTIF(競技者一覧!$W$22:$W$121,A25)","v":0},{"$f":"COUNTIF(競技者一覧!$Y$22:$Y$121,A25)","v":0},0]
["高校女子走幅跳",{"$f":"COUNTIF(競技者一覧!$K$22:$K$121,A26)","v":0},{"$f":"COUNTIF(競技者一覧!$M$22:$M$121,A26)","v":0},{"$f":"COUNTIF(競技者一覧!$O$22:$O$121,A26)","v":0},{"$f":"COUNTIF(競技者一覧!$Q$22:$Q$121,A26)","v":0},{"$f":"COUNTIF(競技者一覧!$S$22:$S$121,A26)","v":0},{"$f":"COUNTIF(競技者一覧!$U$22:$U$121,A26)","v":0},{"$f":"COUNTIF(競技者一覧!$W$22:$W$121,A26)","v":0},{"$f":"COUNTIF(競技者一覧!$Y$22:$Y$121,A26)","v":0},0]
["高校女子砲丸投(4.0Kg)",{"$f":"COUNTIF(競技者一覧!$K$22:$K$121,A27)","v":0},{"$f":"COUNTIF(競技者一覧!$M$22:$M$121,A27)","v":0},{"$f":"COUNTIF(競技者一覧!$O$22:$O$121,A27)","v":0},{"$f":"COUNTIF(競技者一覧!$Q$22:$Q$121,A27)","v":0},{"$f":"COUNTIF(競技者一覧!$S$22:$S$121,A27)","v":0},{"$f":"COUNTIF(競技者一覧!$U$22:$U$121,A27)","v":0},{"$f":"COUNTIF(競技者一覧!$W$22:$W$121,A27)","v":0},{"$f":"COUNTIF(競技者一覧!$Y$22:$Y$121,A27)","v":0},0]
[]
[]
[]
[]
[]
[]
[]
[]
[]
[]
[]
[]
[]
[]
[]
[]
[]
[]
[]
[]
[]
[]
[]
[]
[]
[null,null,null,null,null,null,null,null,null,{"$f":"SUM(J2:J52)","v":0}]

{"sheet":"(毎年更新)種目一覧シート","index":6,"n_rows":47,"n_cols":17,"rows_kept":47,"cut":false,"hidden":true,"merged":[[1,15,1,16],[1,1,1,2],[1,13,1,14],[1,11,1,12],[1,9,1,10],[1,7,1,8],[1,5,1,6],[1,3,1,4]]}
[]
[null,"第1日目",null,"第2日目",null,"第3日目",null,"第4日目",null,"第5日目",null,"第6日目",null,"第7日目",null,"第8日目"]
[null,"男子","女子","男子","女子","男子","女子","男子","女子","男子","女子","男子","女子","男子","女子","男子","女子"]
[null,"小学男子100ｍ","小学女子100ｍ","ナイター小学男子100m","ナイター小学女子100m","中学男子 100m","中学女子 100m","中学男子 100m","中学女子 100m","中学男子 100m","中学女子 100m","中学男子 100m","中学女子 100m","中学男子 100m","中学女子 100m","中学男子 100m","中学女子 100m"]
[null,"小学男子走幅跳","小学女子走幅跳","ナイター小学男子1500m","ナイター小学女子1500m","中学男子 200m","中学女子 200m","中学男子 200m","中学女子 200m","中学男子 200m","中学女子 200m","中学男子 110mH(0.914m_9.14m)","中学女子 100mH(0.762m_8.50m)","中学男子 200m","中学女子 200m","中学男子 200m","中学女子 200m"]
[null,"共通男子100ｍ","共通女子100ｍ","ナイター小学男子走幅跳","ナイター小学女子走幅跳","中学男子 400m","中学女子 800m","中学男子 400m","中学女子 800m","中学男子 400m","中学女子 800m","中学男子 棒高跳","中学女子 棒高跳","中学男子 400m","中学女子 800m","中学男子 400m","中学女子 800m"]
[null,"共通男子200ｍ","共通女子200ｍ",null,null,"中学男子 800m","中学女子 1500m","中学男子 800m","中学女子 1500m","中学男子 800m","中学女子 1500m","一般･高校男子 100m","一般･高校女子 100m","中学男子 800m","中学女子 1500m","中学男子 800m","中学女子 1500m"]
[null,"共通男子400ｍ","共通女子800ｍ",null,null,"中学男子 1500m","中学女子 100mH(0.762m_8.00m)","中学男子 1500m","中学女子 100mH(0.762m_8.50m)","中学男子 1500m","中学女子 100mH(0.762m_8.50m)","一般･高校男子 110mH(1.067m_9.14m)","一般･高校女子 100mH(0.838m_8.50m)","中学男子 1500m","中学女子 100mH(0.762m_8.00m)","中学男子 1500m","中学女子 100mH(0.762m_8.00m)"]
[null,"共通男子800ｍ","共通女子1500ｍ",null,null,"中学男子 3000m","中学女子 100mH(0.762m_8.50m)","中学男子 3000m","中学女子 棒高跳","中学男子 3000m","中学女子 棒高跳","一般･高校男子 棒高跳","一般･高校女子 棒高跳","中学男子 3000m","中学女子 100mH(0.762m_8.50m)","中学男子 3000m","中学女子 100mH(0.762m_8.50m)"]
[null,"共通男子1500ｍ","中学女子走高跳",null,null,"中学男子 100mH(0.838m_8.50m)","中学女子 棒高跳","中学男子 110mH(0.914m_9.14m)","中学女子 走高跳","中学男子 110mH(0.914m_9.14m)","中学女子 走高跳","","","中学男子 110mH(0.914m_9.14m)","中学女子 棒高跳","中学男子 110mH(0.914m_9.14m)","中学女子 棒高跳"]
[null,"共通男子3000ｍ","中学女子走幅跳",null,null,"中学男子 110mH(0.914m_9.14m)","中学女子 走高跳","中学男子 棒高跳","中学女子 走幅跳","中学男子 棒高跳","中学女子 走幅跳","","","中学男子 110mH(0.991m_9.14m)","中学女子 走高跳","中学男子 110mH(0.991m_9.14m)","中学女子 走高跳"]
[null,"中学男子走高跳","中学女子砲丸投(2.7㎏)",null,null,"中学男子 110mH(0.991m_9.14m)","中学女子 走幅跳","中学男子 走高跳","中学女子 砲丸投(2.7㎏)","中学男子 走高跳","中学女子 砲丸投(2.7㎏)","","","中学男子 棒高跳","中学女子 走幅跳","中学男子 棒高跳","中学女子 走幅跳"]
[null,"中学男子走幅跳","高校女子走高跳",null,null,"中学男子 棒高跳","中学女子 砲丸投(2.7㎏)","中学男子 走幅跳","中学女子 円盤投","中学男子 走幅跳","中学女子 円盤投","","","中学男子 走高跳","中学女子 砲丸投(2.7㎏)","中学男子 走高跳","中学女子 砲丸投(2.7㎏)"]
[null,"中学男子砲丸投(5.0㎏)","高校女子走幅跳",null,null,"中学男子 走高跳","中学女子 円盤投","中学男子 三段跳","中学女子 四種競技","中学男子 三段跳","中学女子 四種競技","","","中学男子 走幅跳","中学女子 円盤投","中学男子 走幅跳","中学女子 円盤投"]
[null,"高校男子走高跳","高校女子砲丸投(4.0Kg)",null,null,"中学男子 走幅跳","中学女子 四種競技","中学男子 砲丸投(5.0㎏)","一般･高校女子 100m","中学男子 砲丸投(5.0㎏)","一般･高校女子 100m","","","中学男子 三段跳","中学女子 四種競技","中学男子 三段跳","中学女子 四種競技"]
[null,"高校男子走幅跳",null,null,null,"中学男子 三段跳","一般･高校女子 100m","中学男子 円盤投(1.5kg)","一般･高校女子 200m","中学男子 円盤投(1.5kg)","一般･高校女子 200m","","","中学男子 砲丸投(5.0㎏)","一般･高校女子 100m","中学男子 砲丸投(5.0㎏)","一般･高校女子 100m"]
[null,"高校男子砲丸投(6.0Kg)",null,null,null,"中学男子 1年砲丸投(2.7㎏)","一般･高校女子 200m","中学男子 四種競技","一般･高校女子 400m","中学男子 四種競技","一般･高校女子 400m","","","中学男子 円盤投(1.5kg)","一般･高校女子 200m","中学男子 円盤投(1.5kg)","一般･高校女子 200m"]
[null,null,null,null,null,"中学男子 砲丸投(5.0㎏)","一般･高校女子 400m","一般･高校男子 100m","一般･高校女子 800m","一般･高校男子 100m","一般･高校女子 800m","","","中学男子 四種競技","一般･高校女子 400m","中学男子 四種競技","一般･高校女子 400m"]
[null,null,null,null,null,"中学男子 1年円盤投(1.0kg)","一般･高校女子 800m","一般･高校男子 200m","一般･高校女子 1500m","一般･高校男子 200m","一般･高校女子 1500m","","","一般･高校男子 100m","一般･高校女子 800m","一般･高校男子 100m","一般･高校女子 800m"]
[null,null,null,null,null,"中学男子 円盤投(1.5kg)","一般･高校女子 1500m","一般･高校男子 400m","一般･高校女子 3000m","一般･高校男子 400m","一般･高校女子 3000m","","","一般･高校男子 200m","一般･高校女子 1500m","一般･高校男子 200m","一般･高校女子 1500m"]
[null,null,null,null,null,"中学男子 四種競技","一般･高校女子 3000m","一般･高校男子 800m","一般･高校女子 100mH(0.762m_8.50m)","一般･高校男子 800m","一般･高校女子 100mH(0.762m_8.50m)","","","一般･高校男子 400m","一般･高校女子 3000m","一般･高校男子 400m","一般･高校女子 3000m"]
[null,null,null,null,null,"一般･高校男子 100m","一般･高校女子 100mH(0.762m_8.50m)","一般･高校男子 1500m","一般･高校女子 100mH(0.838m_8.50m)","一般･高校男子 1500m","一般･高校女子 100mH(0.838m_8.50m)","","","一般･高校男子 800m","一般･高校女子 100mH(0.762m_8.50m)","一般･高校男子 800m","一般･高校女子 100mH(0.762m_8.50m)"]
[null,null,null,null,null,"一般･高校男子 200m","一般･高校女子 100mH(0.838m_8.50m)","一般･高校男子 3000m","一般･高校女子 400mH","一般･高校男子 3000m","一般･高校女子 400mH","","","一般･高校男子 1500m","一般･高校女子 100mH(0.838m_8.50m)","一般･高校男子 1500m","一般･高校女子 100mH(0.838m_8.50m)"]
[null,null,null,null,null,"一般･高校男子 400m","一般･高校女子 400mH","一般･高校男子 110mH(0.991m_9.14m)","一般･高校女子 棒高跳","一般･高校男子 110mH(0.991m_9.14m)","一般･高校女子 棒高跳","","","一般･高校男子 3000m","一般･高校女子 400mH","一般･高校男子 3000m","一般･高校女子 400mH"]
[null,null,null,null,null,"一般･高校男子 800m","一般･高校女子 棒高跳","一般･高校男子 110mH(1.067m_9.14m)","一般･高校女子 走高跳","一般･高校男子 110mH(1.067m_9.14m)","一般･高校女子 走高跳","","","一般･高校男子 110mH(0.991m_9.14m)","一般･高校女子 棒高跳","一般･高校男子 110mH(0.991m_9.14m)","一般･高校女子 棒高跳"]
[null,null,null,null,null,"一般･高校男子 1500m","一般･高校女子 走高跳","一般･高校男子 400mH","一般･高校女子 走幅跳","一般･高校男子 400mH","一般･高校女子 走幅跳","","","一般･高校男子 110mH(1.067m_9.14m)","一般･高校女子 走高跳","一般･高校男子 110mH(1.067m_9.14m)","一般･高校女子 走高跳"]
[null,null,null,null,null,"一般･高校男子 3000m","一般･高校女子 走幅跳","一般･高校男子 棒高跳","一般･高校女子 三段跳","一般･高校男子 棒高跳","一般･高校女子 三段跳","","","一般･高校男子 400mH","一般･高校女子 走幅跳","一般･高校男子 400mH","一般･高校女子 走幅跳"]
[null,null,null,null,null,"一般･高校男子 110mH(0.991m_9.14m)","一般･高校女子 三段跳","一般･高校男子 走高跳","一般･高校女子 砲丸投(4.0㎏)","一般･高校男子 走高跳","一般･高校女子 砲丸投(4.0㎏)","","","一般･高校男子 棒高跳","一般･高校女子 三段跳","一般･高校男子 棒高跳","一般･高校女子 三段跳"]
[null,null,null,null,null,"一般･高校男子 110mH(1.067m_9.14m)","一般･高校女子 砲丸投(4.0㎏)","一般･高校男子 走幅跳","一般･高校女子 円盤投(1.0㎏)","一般･高校男子 走幅跳","一般･高校女子 円盤投(1.0㎏)","","","一般･高校男子 走高跳","一般･高校女子 砲丸投(4.0㎏)","一般･高校男子 走高跳","一般･高校女子 砲丸投(4.0㎏)"]
[null,null,null,null,null,"一般･高校男子 400mH","一般･高校女子 円盤投(1.0㎏)","一般･高校男子 三段跳","一般･高校女子 やり投","一般･高校男子 三段跳","一般･高校女子 やり投","","","一般･高校男子 走幅跳","一般･高校女子 円盤投(1.0㎏)","一般･高校男子 走幅跳","一般･高校女子 円盤投(1.0㎏)"]
[null,null,null,null,null,"一般･高校男子 棒高跳","一般･高校女子 やり投","一般･高校男子 砲丸投(6.0Kg)","","一般･高校男子 砲丸投(6.0Kg)","","","","一般･高校男子 三段跳","一般･高校女子 やり投","一般･高校男子 三段跳","一般･高校女子 やり投"]
[null,null,null,null,null,"一般･高校男子 走高跳",null,"一般･高校男子 砲丸投(7.26Kg)","","一般･高校男子 砲丸投(7.26Kg)","","","","一般･高校男子 砲丸投(6.0Kg)","","一般･高校男子 砲丸投(6.0Kg)",""]
[null,null,null,null,null,"一般･高校男子 走幅跳",null,"一般･高校男子 円盤投(1.75kg)","","一般･高校男子 円盤投(1.75kg)","","","","一般･高校男子 砲丸投(7.26Kg)","","一般･高校男子 砲丸投(7.26Kg)",""]
[null,null,null,null,null,"一般･高校男子 三段跳",null,"一般･高校男子 円盤投(2.0kg)","","一般･高校男子 円盤投(2.0kg)","","","","一般･高校男子 円盤投(1.75kg)","","一般･高校男子 円盤投(1.75kg)",""]
[null,null,null,null,null,"一般･高校男子 砲丸投(6.0Kg)",null,"一般･高校男子 やり投","","一般･高校男子 やり投","","","","一般･高校男子 円盤投(2.0kg)","","一般･高校男子 円盤投(2.0kg)",""]
[null,null,null,null,null,"一般･高校男子 砲丸投(7.26Kg)",null,"","",null,"","","","一般･高校男子 やり投","","一般･高校男子 やり投",""]
[null,null,null,null,null,"一般･高校男子 円盤投(1.75kg)",null,"","","","","","","","","",""]
[null,null,null,null,null,"一般･高校男子 円盤投(2.0kg)",null,"","","","","","","","","",""]
[null,null,null,null,null,"一般･高校男子 やり投",null,"","","","","","","","","",""]
[null,null,null,null,"",null,"","","","","","","","","","",""]
[null,null,null,null,"",null,"","","","","","","","","","",""]
[null,null,null,null,"",null,"","","","","","","","","","",""]
[null,null,null,null,"",null,"","","","","","","","","","",""]
[null,null,null,null,"",null,"","","","","","","","","","",""]
[null,null,null,null,"",null,"","",null,"","","","","","","",""]
[null,null,null,null,"",null,"",null,null,"","","","","","","",""]
[null,null,null,null,null,null,null,null,null,""]

{"sheet":"種目コード一覧","index":7,"n_rows":51,"n_cols":3,"rows_kept":51,"cut":false,"hidden":true,"merged":[]}
["共通男子 100m","00250",7]
["共通男子 200m","00350",7]
["共通男子 400m","00550",7]
["共通男子 800m","00650",7]
["共通男子 1500m","00850",7]
["共通男子 3000m","01050",7]
["共通男子 110mH(0.914m_9.14m)","03250",7]
["共通男子 110mH(0.991m_9.14m)","03350",7]
["共通男子 110mH(1.067m_9.14m)","03450",7]
["共通男子 400mH","03750",7]
["共通男子 4×100mR","60150"]
["共通女子 100m","00250",7]
["共通女子 200m","00350",7]
["共通女子 400m","00550",7]
["共通女子 800m","00650",7]
["共通女子 1500m","00850",7]
["共通女子 3000m","01050",7]
["共通女子 100mH(0.762m_8.00m)","04250",7]
["共通女子 100mH(0.762m_8.50m)","04350",7]
["共通女子 100mH(0.838m_8.50m)","04450",7]
["共通女子 400mH","04650",7]
["共通女子 4×100mR","60150"]
["中学男子 棒高跳","07210",5]
["中学男子 走高跳","07110",5]
["中学男子 走幅跳","07310",5]
["中学男子 三段跳","07410",5]
["中学男子 砲丸投(5.0㎏)","08310",5]
["中学男子 円盤投(1.5kg)","09610",5]
["中学男子 四種競技","21310",5]
["中学女子 棒高跳","07210",5]
["中学女子 走高跳","07110",5]
["中学女子 走幅跳","07310",5]
["中学女子 砲丸投(2.7㎏)","08510",5]
["中学女子 円盤投","08810",5]
["中学女子 四種競技","21410",5]
["一般･高校男子 棒高跳","07230",5]
["一般･高校男子 走高跳","07130",5]
["一般･高校男子 走幅跳","07330",5]
["一般･高校男子 三段跳","07430",5]
["一般･高校男子 砲丸投(6.0Kg)","08230",5]
["一般･高校男子 砲丸投(7.26Kg)","08130",5]
["一般･高校男子 円盤投(1.75kg)","08730",5]
["一般･高校男子 円盤投(2.0kg)","08630",5]
["一般･高校男子 やり投","09230",5]
["一般･高校女子 棒高跳","07230",5]
["一般･高校女子 走高跳","07130",5]
["一般･高校女子 走幅跳","07330",5]
["一般･高校女子 三段跳","07430",5]
["一般･高校女子 砲丸投(4.0㎏)","08430",5]
["一般･高校女子 円盤投(1.0㎏)","08830",5]
["一般･高校女子 やり投","09330",5]

{"sheet":"団体CSV","index":8,"n_rows":323,"n_cols":17,"rows_kept":323,"cut":false,"hidden":true,"merged":[]}
[null,"DB","N1","N2","N3","SX","KC","MC","ZK","S1","S2","S3","S4","S5","S6","S7","S8"]
[{"$f":"IFERROR(CONCATENATE(競技者一覧!$D$7), \"\")","v":""},{"$f":"IFERROR(CONCATENATE($H$2,Sheet4!B2),\"\")","v":"001"},{"$f":"競技者一覧!C22&IF(OR(競技者一覧!H22=\"\",競技者一覧!H22=9),\"\",\"(\" & 競技者一覧!H22 & \")\")","v":""},{"$f":"ASC(競技者一覧!D22 &IF(OR(MID(競技者一覧!G22,3,2)=\"\", MID(競技者一覧!G22,3,2)=\"0\"),\"\",\"(\" & MID(競技者一覧!G22,3,2) & \")\"))","v":""},{"$f":"ASC(競技者一覧!E22 & \" \" & 競技者一覧!F22 & IF(OR(MID(競技者一覧!G22,3,2)=\"\", MID(競技者一覧!G22,3,2)=\"0\"),\"\",\"(\" & MID(競技者一覧!G22,3,2) & \")\"))","v":" "},{"$f":"CONCATENATE(競技者一覧!I22)","v":""},{"$f":"IFERROR(IF(競技者一覧!$D$6=\"学連\",VLOOKUP(競技者一覧!J22,Sheet4!$D$2:$E$48,2,FALSE),学校名簿!D2),\"\")","v":""},{"$f":"IFERROR(VLOOKUP(競技者一覧!$D$7,学校番号表!$B$2:$C$65536,2,FALSE),\"\")","v":""},{"$f":"CONCATENATE(競技者一覧!B22)","v":""},{"$f":"IFERROR(CONCATENATE(VLOOKUP(競技者一覧!K22,種目コード一覧!$A$1:$B$51,2,FALSE),\" \",REPT(\"0\",VLOOKUP(競技者一覧!K22,種目コード一覧!$A$1:$C$51,3,FALSE)-LEN(競技者一覧!L22)),競技者一覧!L22),\"\")","v":""},{"$f":"IFERROR(CONCATENATE(VLOOKUP(競技者一覧!M22,種目コード一覧!$A$1:$C$51,2,FALSE),\" \",REPT(\"0\",VLOOKUP(競技者一覧!M22,種目コード一覧!$A$1:$C$51,3,FALSE)-LEN(競技者一覧!N22)),競技者一覧!N22),\"\")","v":""},{"$f":"IFERROR(CONCATENATE(VLOOKUP(競技者一覧!O22,種目コード一覧!$A$1:$C$51,2,FALSE),\" \",REPT(\"0\",VLOOKUP(競技者一覧!O22,種目コード一覧!$A$1:$C$51,3,FALSE)-LEN(競技者一覧!P22)),競技者一覧!P22),\"\")","v":""},{"$f":"IFERROR(CONCATENATE(VLOOKUP(競技者一覧!Q22,種目コード一覧!$A$1:$C$51,2,FALSE),\" \",REPT(\"0\",VLOOKUP(競技者一覧!Q22,種目コード一覧!$A$1:$C$51,3,FALSE)-LEN(競技者一覧!R22)),競技者一覧!R22),\"\")","v":""},{"$f":"IFERROR(CONCATENATE(VLOOKUP(競技者一覧!S22,種目コード一覧!$A$1:$C$51,2,FALSE),\" \",REPT(\"0\",VLOOKUP(競技者一覧!S22,種目コード一覧!$A$1:$C$51,3,FALSE)-LEN(競技者一覧!T22)),競技者一覧!T22),\"\")","v":""},{"$f":"IFERROR(CONCATENATE(VLOOKUP(競技者一覧!U22,種目コード一覧!$A$1:$C$51,2,FALSE),\" \",REPT(\"0\",VLOOKUP(競技者一覧!U22,種目コード一覧!$A$1:$C$51,3,FALSE)-LEN(競技者一覧!V22)),競技者一覧!V22),\"\")","v":""},{"$f":"IFERROR(CONCATENATE(VLOOKUP(競技者一覧!W22,種目コード一覧!$A$1:$C$51,2,FALSE),\" \",REPT(\"0\",VLOOKUP(競技者一覧!W22,種目コード一覧!$A$1:$C$51,3,FALSE)-LEN(競技者一覧!X22)),競技者一覧!X22),\"\")","v":""},{"$f":"IFERROR(CONCATENATE(VLOOKUP(競技者一覧!Y22,種目コード一覧!$A$1:$C$51,2,FALSE),\" \",REPT(\"0\",VLOOKUP(競技者一覧!Y22,種目コード一覧!$A$1:$C$51,3,FALSE)-LEN(競技者一覧!Z22)),競技者一覧!Z22),\"\")","v":""}]
[{"$f":"IFERROR(CONCATENATE(競技者一覧!$D$7), \"\")","v":""},{"$f":"IFERROR(CONCATENATE($H$2,Sheet4!B3),\"\")","v":"002"},{"$f":"競技者一覧!C23&IF(OR(競技者一覧!H23=\"\",競技者一覧!H23=9),\"\",\"(\" & 競技者一覧!H23 & \")\")","v":""},{"$f":"競技者一覧!D23 &IF(OR(MID(競技者一覧!G23,3,2)=\"\", MID(競技者一覧!G23,3,2)=\"0\"),\"\",\"(\" & MID(競技者一覧!G23,3,2) & \")\")","v":""},{"$f":"ASC(競技者一覧!E23 & \" \" & 競技者一覧!F23 & IF(OR(MID(競技者一覧!G23,3,2)=\"\", MID(競技者一覧!G23,3,2)=\"0\"),\"\",\"(\" & MID(競技者一覧!G23,3,2) & \")\"))","v":" "},{"$f":"CONCATENATE(競技者一覧!I23)","v":""},{"$f":"IFERROR(IF(競技者一覧!$D$6=\"学連\",VLOOKUP(競技者一覧!J23,Sheet4!$D$2:$E$48,2,FALSE),学校名簿!D3),\"\")","v":""},{"$f":"IFERROR(VLOOKUP(競技者一覧!$D$7,学校番号表!$B$2:$C$65536,2,FALSE),\"\")","v":""},{"$f":"CONCATENATE(競技者一覧!B23)","v":""},{"$f":"IFERROR(CONCATENATE(VLOOKUP(競技者一覧!K23,種目コード一覧!$A$1:$C$51,2,FALSE),\" \",REPT(\"0\",VLOOKUP(競技者一覧!K23,種目コード一覧!$A$1:$C$51,3,FALSE)-LEN(競技者一覧!L23)),競技者一覧!L23),\"\")","v":""},{"$f":"IFERROR(CONCATENATE(VLOOKUP(競技者一覧!M23,種目コード一覧!$A$1:$C$51,2,FALSE),\" \",REPT(\"0\",VLOOKUP(競技者一覧!M23,種目コード一覧!$A$1:$C$51,3,FALSE)-LEN(競技者一覧!N23)),競技者一覧!N23),\"\")","v":""},{"$f":"IFERROR(CONCATENATE(VLOOKUP(競技者一覧!O23,種目コード一覧!$A$1:$C$51,2,FALSE),\" \",REPT(\"0\",VLOOKUP(競技者一覧!O23,種目コード一覧!$A$1:$C$51,3,FALSE)-LEN(競技者一覧!P23)),競技者一覧!P23),\"\")","v":""},{"$f":"IFERROR(CONCATENATE(VLOOKUP(競技者一覧!Q23,種目コード一覧!$A$1:$C$51,2,FALSE),\" \",REPT(\"0\",VLOOKUP(競技者一覧!Q23,種目コード一覧!$A$1:$C$51,3,FALSE)-LEN(競技者一覧!R23)),競技者一覧!R23),\"\")","v":""},{"$f":"IFERROR(CONCATENATE(VLOOKUP(競技者一覧!S23,種目コード一覧!$A$1:$C$51,2,FALSE),\" \",REPT(\"0\",VLOOKUP(競技者一覧!S23,種目コード一覧!$A$1:$C$51,3,FALSE)-LEN(競技者一覧!T23)),競技者一覧!T23),\"\")","v":""},{"$f":"IFERROR(CONCATENATE(VLOOKUP(競技者一覧!U23,種目コード一覧!$A$1:$C$51,2,FALSE),\" \",REPT(\"0\",VLOOKUP(競技者一覧!U23,種目コード一覧!$A$1:$C$51,3,FALSE)-LEN(競技者一覧!V23)),競技者一覧!V23),\"\")","v":""},{"$f":"IFERROR(CONCATENATE(VLOOKUP(競技者一覧!W23,種目コード一覧!$A$1:$C$51,2,FALSE),\" \",REPT(\"0\",VLOOKUP(競技者一覧!W23,種目コード一覧!$A$1:$C$51,3,FALSE)-LEN(競技者一覧!X23)),競技者一覧!X23),\"\")","v":""},{"$f":"IFERROR(CONCATENATE(VLOOKUP(競技者一覧!Y23,種目コード一覧!$A$1:$C$51,2,FALSE),\" \",REPT(\"0\",VLOOKUP(競技者一覧!Y23,種目コード一覧!$A$1:$C$51,3,FALSE)-LEN(競技者一覧!Z23)),競技者一覧!Z23),\"\")","v":""}]
[{"$f":"IFERROR(CONCATENATE(競技者一覧!$D$7), \"\")","v":""},{"$f":"IFERROR(CONCATENATE($H$2,Sheet4!B4),\"\")","v":"003"},{"$f":"競技者一覧!C24&IF(OR(競技者一覧!H24=\"\",競技者一覧!H24=9),\"\",\"(\" & 競技者一覧!H24 & \")\")","v":""},{"$f":"ASC(競技者一覧!D24 &IF(OR(MID(競技者一覧!G24,3,2)=\"\", MID(競技者一覧!G24,3,2)=\"0\"),\"\",\"(\" & MID(競技者一覧!G24,3,2) & \")\"))","v":""},{"$f":"ASC(競技者一覧!E24 & \" \" & 競技者一覧!F24 & IF(OR(MID(競技者一覧!G24,3,2)=\"\", MID(競技者一覧!G24,3,2)=\"0\"),\"\",\"(\" & MID(競技者一覧!G24,3,2) & \")\"))","v":" "},{"$f":"CONCATENATE(競技者一覧!I24)","v":""},{"$f":"IFERROR(IF(競技者一覧!$D$6=\"学連\",VLOOKUP(競技者一覧!J24,Sheet4!$D$2:$E$48,2,FALSE),学校名簿!D4),\"\")","v":""},{"$f":"IFERROR(VLOOKUP(競技者一覧!$D$7,学校番号表!$B$2:$C$65536,2,FALSE),\"\")","v":""},{"$f":"CONCATENATE(競技者一覧!B24)","v":""},{"$f":"IFERROR(CONCATENATE(VLOOKUP(競技者一覧!K24,種目コード一覧!$A$1:$B$51,2,FALSE),\" \",REPT(\"0\",VLOOKUP(競技者一覧!K24,種目コード一覧!$A$1:$C$51,3,FALSE)-LEN(競技者一覧!L24)),競技者一覧!L24),\"\")","v":""},{"$f":"IFERROR(CONCATENATE(VLOOKUP(競技者一覧!M24,種目コード一覧!$A$1:$C$51,2,FALSE),\" \",REPT(\"0\",VLOOKUP(競技者一覧!M24,種目コード一覧!$A$1:$C$51,3,FALSE)-LEN(競技者一覧!N24)),競技者一覧!N24),\"\")","v":""},{"$f":"IFERROR(CONCATENATE(VLOOKUP(競技者一覧!O24,種目コード一覧!$A$1:$C$51,2,FALSE),\" \",REPT(\"0\",VLOOKUP(競技者一覧!O24,種目コード一覧!$A$1:$C$51,3,FALSE)-LEN(競技者一覧!P24)),競技者一覧!P24),\"\")","v":""},{"$f":"IFERROR(CONCATENATE(VLOOKUP(競技者一覧!Q24,種目コード一覧!$A$1:$C$51,2,FALSE),\" \",REPT(\"0\",VLOOKUP(競技者一覧!Q24,種目コード一覧!$A$1:$C$51,3,FALSE)-LEN(競技者一覧!R24)),競技者一覧!R24),\"\")","v":""},{"$f":"IFERROR(CONCATENATE(VLOOKUP(競技者一覧!S24,種目コード一覧!$A$1:$C$51,2,FALSE),\" \",REPT(\"0\",VLOOKUP(競技者一覧!S24,種目コード一覧!$A$1:$C$51,3,FALSE)-LEN(競技者一覧!T24)),競技者一覧!T24),\"\")","v":""},{"$f":"IFERROR(CONCATENATE(VLOOKUP(競技者一覧!U24,種目コード一覧!$A$1:$C$51,2,FALSE),\" \",REPT(\"0\",VLOOKUP(競技者一覧!U24,種目コード一覧!$A$1:$C$51,3,FALSE)-LEN(競技者一覧!V24)),競技者一覧!V24),\"\")","v":""},{"$f":"IFERROR(CONCATENATE(VLOOKUP(競技者一覧!W24,種目コード一覧!$A$1:$C$51,2,FALSE),\" \",REPT(\"0\",VLOOKUP(競技者一覧!W24,種目コード一覧!$A$1:$C$51,3,FALSE)-LEN(競技者一覧!X24)),競技者一覧!X24),\"\")","v":""},{"$f":"IFERROR(CONCATENATE(VLOOKUP(競技者一覧!Y24,種目コード一覧!$A$1:$C$51,2,FALSE),\" \",REPT(\"0\",VLOOKUP(競技者一覧!Y24,種目コード一覧!$A$1:$C$51,3,FALSE)-LEN(競技者一覧!Z24)),競技者一覧!Z24),\"\")","v":""}]
[{"$f":"IFERROR(CONCATENATE(競技者一覧!$D$7), \"\")","v":""},{"$f":"IFERROR(CONCATENATE($H$2,Sheet4!B5),\"\")","v":"004"},{"$f":"競技者一覧!C25&IF(OR(競技者一覧!H25=\"\",競技者一覧!H25=9),\"\",\"(\" & 競技者一覧!H25 & \")\")","v":""},{"$f":"競技者一覧!D25 &IF(OR(MID(競技者一覧!G25,3,2)=\"\", MID(競技者一覧!G25,3,2)=\"0\"),\"\",\"(\" & MID(競技者一覧!G25,3,2) & \")\")","v":""},{"$f":"ASC(競技者一覧!E25 & \" \" & 競技者一覧!F25 & IF(OR(MID(競技者一覧!G25,3,2)=\"\", MID(競技者一覧!G25,3,2)=\"0\"),\"\",\"(\" & MID(競技者一覧!G25,3,2) & \")\"))","v":" "},{"$f":"CONCATENATE(競技者一覧!I25)","v":""},{"$f":"IFERROR(IF(競技者一覧!$D$6=\"学連\",VLOOKUP(競技者一覧!J25,Sheet4!$D$2:$E$48,2,FALSE),学校名簿!D5),\"\")","v":""},{"$f":"IFERROR(VLOOKUP(競技者一覧!$D$7,学校番号表!$B$2:$C$65536,2,FALSE),\"\")","v":""},{"$f":"CONCATENATE(競技者一覧!B25)","v":""},{"$f":"IFERROR(CONCATENATE(VLOOKUP(競技者一覧!K25,種目コード一覧!$A$1:$C$51,2,FALSE),\" \",REPT(\"0\",VLOOKUP(競技者一覧!K25,種目コード一覧!$A$1:$C$51,3,FALSE)-LEN(競技者一覧!L25)),競技者一覧!L25),\"\")","v":""},{"$f":"IFERROR(CONCATENATE(VLOOKUP(競技者一覧!M25,種目コード一覧!$A$1:$C$51,2,FALSE),\" \",REPT(\"0\",VLOOKUP(競技者一覧!M25,種目コード一覧!$A$1:$C$51,3,FALSE)-LEN(競技者一覧!N25)),競技者一覧!N25),\"\")","v":""},{"$f":"IFERROR(CONCATENATE(VLOOKUP(競技者一覧!O25,種目コード一覧!$A$1:$C$51,2,FALSE),\" \",REPT(\"0\",VLOOKUP(競技者一覧!O25,種目コード一覧!$A$1:$C$51,3,FALSE)-LEN(競技者一覧!P25)),競技者一覧!P25),\"\")","v":""},{"$f":"IFERROR(CONCATENATE(VLOOKUP(競技者一覧!Q25,種目コード一覧!$A$1:$C$51,2,FALSE),\" \",REPT(\"0\",VLOOKUP(競技者一覧!Q25,種目コード一覧!$A$1:$C$51,3,FALSE)-LEN(競技者一覧!R25)),競技者一覧!R25),\"\")","v":""},{"$f":"IFERROR(CONCATENATE(VLOOKUP(競技者一覧!S25,種目コード一覧!$A$1:$C$51,2,FALSE),\" \",REPT(\"0\",VLOOKUP(競技者一覧!S25,種目コード一覧!$A$1:$C$51,3,FALSE)-LEN(競技者一覧!T25)),競技者一覧!T25),\"\")","v":""},{"$f":"IFERROR(CONCATENATE(VLOOKUP(競技者一覧!U25,種目コード一覧!$A$1:$C$51,2,FALSE),\" \",REPT(\"0\",VLOOKUP(競技者一覧!U25,種目コード一覧!$A$1:$C$51,3,FALSE)-LEN(競技者一覧!V25)),競技者一覧!V25),\"\")","v":""},{"$f":"IFERROR(CONCATENATE(VLOOKUP(競技者一覧!W25,種目コード一覧!$A$1:$C$51,2,FALSE),\" \",REPT(\"0\",VLOOKUP(競技者一覧!W25,種目コード一覧!$A$1:$C$51,3,FALSE)-LEN(競技者一覧!X25)),競技者一覧!X25),\"\")","v":""},{"$f":"IFERROR(CONCATENATE(VLOOKUP(競技者一覧!Y25,種目コード一覧!$A$1:$C$51,2,FALSE),\" \",REPT(\"0\",VLOOKUP(競技者一覧!Y25,種目コード一覧!$A$1:$C$51,3,FALSE)-LEN(競技者一覧!Z25)),競技者一覧!Z25),\"\")","v":""}]
[{"$f":"IFERROR(CONCATENATE(競技者一覧!$D$7), \"\")","v":""},{"$f":"IFERROR(CONCATENATE($H$2,Sheet4!B6),\"\")","v":"005"},{"$f":"競技者一覧!C26&IF(OR(競技者一覧!H26=\"\",競技者一覧!H26=9),\"\",\"(\" & 競技者一覧!H26 & \")\")","v":""},{"$f":"ASC(競技者一覧!D26 &IF(OR(MID(競技者一覧!G26,3,2)=\"\", MID(競技者一覧!G26,3,2)=\"0\"),\"\",\"(\" & MID(競技者一覧!G26,3,2) & \")\"))","v":""},{"$f":"ASC(競技者一覧!E26 & \" \" & 競技者一覧!F26 & IF(OR(MID(競技者一覧!G26,3,2)=\"\", MID(競技者一覧!G26,3,2)=\"0\"),\"\",\"(\" & MID(競技者一覧!G26,3,2) & \")\"))","v":" "},{"$f":"CONCATENATE(競技者一覧!I26)","v":""},{"$f":"IFERROR(IF(競技者一覧!$D$6=\"学連\",VLOOKUP(競技者一覧!J26,Sheet4!$D$2:$E$48,2,FALSE),学校名簿!D6),\"\")","v":""},{"$f":"IFERROR(VLOOKUP(競技者一覧!$D$7,学校番号表!$B$2:$C$65536,2,FALSE),\"\")","v":""},{"$f":"CONCATENATE(競技者一覧!B26)","v":""},{"$f":"IFERROR(CONCATENATE(VLOOKUP(競技者一覧!K26,種目コード一覧!$A$1:$B$51,2,FALSE),\" \",REPT(\"0\",VLOOKUP(競技者一覧!K26,種目コード一覧!$A$1:$C$51,3,FALSE)-LEN(競技者一覧!L26)),競技者一覧!L26),\"\")","v":""},{"$f":"IFERROR(CONCATENATE(VLOOKUP(競技者一覧!M26,種目コード一覧!$A$1:$C$51,2,FALSE),\" \",REPT(\"0\",VLOOKUP(競技者一覧!M26,種目コード一覧!$A$1:$C$51,3,FALSE)-LEN(競技者一覧!N26)),競技者一覧!N26),\"\")","v":""},{"$f":"IFERROR(CONCATENATE(VLOOKUP(競技者一覧!O26,種目コード一覧!$A$1:$C$51,2,FALSE),\" \",REPT(\"0\",VLOOKUP(競技者一覧!O26,種目コード一覧!$A$1:$C$51,3,FALSE)-LEN(競技者一覧!P26)),競技者一覧!P26),\"\")","v":""},{"$f":"IFERROR(CONCATENATE(VLOOKUP(競技者一覧!Q26,種目コード一覧!$A$1:$C$51,2,FALSE),\" \",REPT(\"0\",VLOOKUP(競技者一覧!Q26,種目コード一覧!$A$1:$C$51,3,FALSE)-LEN(競技者一覧!R26)),競技者一覧!R26),\"\")","v":""},{"$f":"IFERROR(CONCATENATE(VLOOKUP(競技者一覧!S26,種目コード一覧!$A$1:$C$51,2,FALSE),\" \",REPT(\"0\",VLOOKUP(競技者一覧!S26,種目コード一覧!$A$1:$C$51,3,FALSE)-LEN(競技者一覧!T26)),競技者一覧!T26),\"\")","v":""},{"$f":"IFERROR(CONCATENATE(VLOOKUP(競技者一覧!U26,種目コード一覧!$A$1:$C$51,2,FALSE),\" \",REPT(\"0\",VLOOKUP(競技者一覧!U26,種目コード一覧!$A$1:$C$51,3,FALSE)-LEN(競技者一覧!V26)),競技者一覧!V26),\"\")","v":""},{"$f":"IFERROR(CONCATENATE(VLOOKUP(競技者一覧!W26,種目コード一覧!$A$1:$C$51,2,FALSE),\" \",REPT(\"0\",VLOOKUP(競技者一覧!W26,種目コード一覧!$A$1:$C$51,3,FALSE)-LEN(競技者一覧!X26)),競技者一覧!X26),\"\")","v":""},{"$f":"IFERROR(CONCATENATE(VLOOKUP(競技者一覧!Y26,種目コード一覧!$A$1:$C$51,2,FALSE),\" \",REPT(\"0\",VLOOKUP(競技者一覧!Y26,種目コード一覧!$A$1:$C$51,3,FALSE)-LEN(競技者一覧!Z26)),競技者一覧!Z26),\"\")","v":""}]
[{"$f":"IFERROR(CONCATENATE(競技者一覧!$D$7), \"\")","v":""},{"$f":"IFERROR(CONCATENATE($H$2,Sheet4!B7),\"\")","v":"006"},{"$f":"競技者一覧!C27&IF(OR(競技者一覧!H27=\"\",競技者一覧!H27=9),\"\",\"(\" & 競技者一覧!H27 & \")\")","v":""},{"$f":"競技者一覧!D27 &IF(OR(MID(競技者一覧!G27,3,2)=\"\", MID(競技者一覧!G27,3,2)=\"0\"),\"\",\"(\" & MID(競技者一覧!G27,3,2) & \")\")","v":""},{"$f":"ASC(競技者一覧!E27 & \" \" & 競技者一覧!F27 & IF(OR(MID(競技者一覧!G27,3,2)=\"\", MID(競技者一覧!G27,3,2)=\"0\"),\"\",\"(\" & MID(競技者一覧!G27,3,2) & \")\"))","v":" "},{"$f":"CONCATENATE(競技者一覧!I27)","v":""},{"$f":"IFERROR(IF(競技者一覧!$D$6=\"学連\",VLOOKUP(競技者一覧!J27,Sheet4!$D$2:$E$48,2,FALSE),学校名簿!D7),\"\")","v":""},{"$f":"IFERROR(VLOOKUP(競技者一覧!$D$7,学校番号表!$B$2:$C$65536,2,FALSE),\"\")","v":""},{"$f":"CONCATENATE(競技者一覧!B27)","v":""},{"$f":"IFERROR(CONCATENATE(VLOOKUP(競技者一覧!K27,種目コード一覧!$A$1:$C$51,2,FALSE),\" \",REPT(\"0\",VLOOKUP(競技者一覧!K27,種目コード一覧!$A$1:$C$51,3,FALSE)-LEN(競技者一覧!L27)),競技者一覧!L27),\"\")","v":""},{"$f":"IFERROR(CONCATENATE(VLOOKUP(競技者一覧!M27,種目コード一覧!$A$1:$C$51,2,FALSE),\" \",REPT(\"0\",VLOOKUP(競技者一覧!M27,種目コード一覧!$A$1:$C$51,3,FALSE)-LEN(競技者一覧!N27)),競技者一覧!N27),\"\")","v":""},{"$f":"IFERROR(CONCATENATE(VLOOKUP(競技者一覧!O27,種目コード一覧!$A$1:$C$51,2,FALSE),\" \",REPT(\"0\",VLOOKUP(競技者一覧!O27,種目コード一覧!$A$1:$C$51,3,FALSE)-LEN(競技者一覧!P27)),競技者一覧!P27),\"\")","v":""},{"$f":"IFERROR(CONCATENATE(VLOOKUP(競技者一覧!Q27,種目コード一覧!$A$1:$C$51,2,FALSE),\" \",REPT(\"0\",VLOOKUP(競技者一覧!Q27,種目コード一覧!$A$1:$C$51,3,FALSE)-LEN(競技者一覧!R27)),競技者一覧!R27),\"\")","v":""},{"$f":"IFERROR(CONCATENATE(VLOOKUP(競技者一覧!S27,種目コード一覧!$A$1:$C$51,2,FALSE),\" \",REPT(\"0\",VLOOKUP(競技者一覧!S27,種目コード一覧!$A$1:$C$51,3,FALSE)-LEN(競技者一覧!T27)),競技者一覧!T27),\"\")","v":""},{"$f":"IFERROR(CONCATENATE(VLOOKUP(競技者一覧!U27,種目コード一覧!$A$1:$C$51,2,FALSE),\" \",REPT(\"0\",VLOOKUP(競技者一覧!U27,種目コード一覧!$A$1:$C$51,3,FALSE)-LEN(競技者一覧!V27)),競技者一覧!V27),\"\")","v":""},{"$f":"IFERROR(CONCATENATE(VLOOKUP(競技者一覧!W27,種目コード一覧!$A$1:$C$51,2,FALSE),\" \",REPT(\"0\",VLOOKUP(競技者一覧!W27,種目コード一覧!$A$1:$C$51,3,FALSE)-LEN(競技者一覧!X27)),競技者一覧!X27),\"\")","v":""},{"$f":"IFERROR(CONCATENATE(VLOOKUP(競技者一覧!Y27,種目コード一覧!$A$1:$C$51,2,FALSE),\" \",REPT(\"0\",VLOOKUP(競技者一覧!Y27,種目コード一覧!$A$1:$C$51,3,FALSE)-LEN(競技者一覧!Z27)),競技者一覧!Z27),\"\")","v":""}]
[{"$f":"IFERROR(CONCATENATE(競技者一覧!$D$7), \"\")","v":""},{"$f":"IFERROR(CONCATENATE($H$2,Sheet4!B8),\"\")","v":"007"},{"$f":"競技者一覧!C28&IF(OR(競技者一覧!H28=\"\",競技者一覧!H28=9),\"\",\"(\" & 競技者一覧!H28 & \")\")","v":""},{"$f":"ASC(競技者一覧!D28 &IF(OR(MID(競技者一覧!G28,3,2)=\"\", MID(競技者一覧!G28,3,2)=\"0\"),\"\",\"(\" & MID(競技者一覧!G28,3,2) & \")\"))","v":""},{"$f":"ASC(競技者一覧!E28 & \" \" & 競技者一覧!F28 & IF(OR(MID(競技者一覧!G28,3,2)=\"\", MID(競技者一覧!G28,3,2)=\"0\"),\"\",\"(\" & MID(競技者一覧!G28,3,2) & \")\"))","v":" "},{"$f":"CONCATENATE(競技者一覧!I28)","v":""},{"$f":"IFERROR(IF(競技者一覧!$D$6=\"学連\",VLOOKUP(競技者一覧!J28,Sheet4!$D$2:$E$48,2,FALSE),学校名簿!D8),\"\")","v":""},{"$f":"IFERROR(VLOOKUP(競技者一覧!$D$7,学校番号表!$B$2:$C$65536,2,FALSE),\"\")","v":""},{"$f":"CONCATENATE(競技者一覧!B28)","v":""},{"$f":"IFERROR(CONCATENATE(VLOOKUP(競技者一覧!K28,種目コード一覧!$A$1:$B$51,2,FALSE),\" \",REPT(\"0\",VLOOKUP(競技者一覧!K28,種目コード一覧!$A$1:$C$51,3,FALSE)-LEN(競技者一覧!L28)),競技者一覧!L28),\"\")","v":""},{"$f":"IFERROR(CONCATENATE(VLOOKUP(競技者一覧!M28,種目コード一覧!$A$1:$C$51,2,FALSE),\" \",REPT(\"0\",VLOOKUP(競技者一覧!M28,種目コード一覧!$A$1:$C$51,3,FALSE)-LEN(競技者一覧!N28)),競技者一覧!N28),\"\")","v":""},{"$f":"IFERROR(CONCATENATE(VLOOKUP(競技者一覧!O28,種目コード一覧!$A$1:$C$51,2,FALSE),\" \",REPT(\"0\",VLOOKUP(競技者一覧!O28,種目コード一覧!$A$1:$C$51,3,FALSE)-LEN(競技者一覧!P28)),競技者一覧!P28),\"\")","v":""},{"$f":"IFERROR(CONCATENATE(VLOOKUP(競技者一覧!Q28,種目コード一覧!$A$1:$C$51,2,FALSE),\" \",REPT(\"0\",VLOOKUP(競技者一覧!Q28,種目コード一覧!$A$1:$C$51,3,FALSE)-LEN(競技者一覧!R28)),競技者一覧!R28),\"\")","v":""},{"$f":"IFERROR(CONCATENATE(VLOOKUP(競技者一覧!S28,種目コード一覧!$A$1:$C$51,2,FALSE),\" \",REPT(\"0\",VLOOKUP(競技者一覧!S28,種目コード一覧!$A$1:$C$51,3,FALSE)-LEN(競技者一覧!T28)),競技者一覧!T28),\"\")","v":""},{"$f":"IFERROR(CONCATENATE(VLOOKUP(競技者一覧!U28,種目コード一覧!$A$1:$C$51,2,FALSE),\" \",REPT(\"0\",VLOOKUP(競技者一覧!U28,種目コード一覧!$A$1:$C$51,3,FALSE)-LEN(競技者一覧!V28)),競技者一覧!V28),\"\")","v":""},{"$f":"IFERROR(CONCATENATE(VLOOKUP(競技者一覧!W28,種目コード一覧!$A$1:$C$51,2,FALSE),\" \",REPT(\"0\",VLOOKUP(競技者一覧!W28,種目コード一覧!$A$1:$C$51,3,FALSE)-LEN(競技者一覧!X28)),競技者一覧!X28),\"\")","v":""},{"$f":"IFERROR(CONCATENATE(VLOOKUP(競技者一覧!Y28,種目コード一覧!$A$1:$C$51,2,FALSE),\" \",REPT(\"0\",VLOOKUP(競技者一覧!Y28,種目コード一覧!$A$1:$C$51,3,FALSE)-LEN(競技者一覧!Z28)),競技者一覧!Z28),\"\")","v":""}]
[{"$f":"IFERROR(CONCATENATE(競技者一覧!$D$7), \"\")","v":""},{"$f":"IFERROR(CONCATENATE($H$2,Sheet4!B9),\"\")","v":"008"},{"$f":"競技者一覧!C29&IF(OR(競技者一覧!H29=\"\",競技者一覧!H29=9),\"\",\"(\" & 競技者一覧!H29 & \")\")","v":""},{"$f":"競技者一覧!D29 &IF(OR(MID(競技者一覧!G29,3,2)=\"\", MID(競技者一覧!G29,3,2)=\"0\"),\"\",\"(\" & MID(競技者一覧!G29,3,2) & \")\")","v":""},{"$f":"ASC(競技者一覧!E29 & \" \" & 競技者一覧!F29 & IF(OR(MID(競技者一覧!G29,3,2)=\"\", MID(競技者一覧!G29,3,2)=\"0\"),\"\",\"(\" & MID(競技者一覧!G29,3,2) & \")\"))","v":" "},{"$f":"CONCATENATE(競技者一覧!I29)","v":""},{"$f":"IFERROR(IF(競技者一覧!$D$6=\"学連\",VLOOKUP(競技者一覧!J29,Sheet4!$D$2:$E$48,2,FALSE),学校名簿!D9),\"\")","v":""},{"$f":"IFERROR(VLOOKUP(競技者一覧!$D$7,学校番号表!$B$2:$C$65536,2,FALSE),\"\")","v":""},{"$f":"CONCATENATE(競技者一覧!B29)","v":""},{"$f":"IFERROR(CONCATENATE(VLOOKUP(競技者一覧!K29,種目コード一覧!$A$1:$C$51,2,FALSE),\" \",REPT(\"0\",VLOOKUP(競技者一覧!K29,種目コード一覧!$A$1:$C$51,3,FALSE)-LEN(競技者一覧!L29)),競技者一覧!L29),\"\")","v":""},{"$f":"IFERROR(CONCATENATE(VLOOKUP(競技者一覧!M29,種目コード一覧!$A$1:$C$51,2,FALSE),\" \",REPT(\"0\",VLOOKUP(競技者一覧!M29,種目コード一覧!$A$1:$C$51,3,FALSE)-LEN(競技者一覧!N29)),競技者一覧!N29),\"\")","v":""},{"$f":"IFERROR(CONCATENATE(VLOOKUP(競技者一覧!O29,種目コード一覧!$A$1:$C$51,2,FALSE),\" \",REPT(\"0\",VLOOKUP(競技者一覧!O29,種目コード一覧!$A$1:$C$51,3,FALSE)-LEN(競技者一覧!P29)),競技者一覧!P29),\"\")","v":""},{"$f":"IFERROR(CONCATENATE(VLOOKUP(競技者一覧!Q29,種目コード一覧!$A$1:$C$51,2,FALSE),\" \",REPT(\"0\",VLOOKUP(競技者一覧!Q29,種目コード一覧!$A$1:$C$51,3,FALSE)-LEN(競技者一覧!R29)),競技者一覧!R29),\"\")","v":""},{"$f":"IFERROR(CONCATENATE(VLOOKUP(競技者一覧!S29,種目コード一覧!$A$1:$C$51,2,FALSE),\" \",REPT(\"0\",VLOOKUP(競技者一覧!S29,種目コード一覧!$A$1:$C$51,3,FALSE)-LEN(競技者一覧!T29)),競技者一覧!T29),\"\")","v":""},{"$f":"IFERROR(CONCATENATE(VLOOKUP(競技者一覧!U29,種目コード一覧!$A$1:$C$51,2,FALSE),\" \",REPT(\"0\",VLOOKUP(競技者一覧!U29,種目コード一覧!$A$1:$C$51,3,FALSE)-LEN(競技者一覧!V29)),競技者一覧!V29),\"\")","v":""},{"$f":"IFERROR(CONCATENATE(VLOOKUP(競技者一覧!W29,種目コード一覧!$A$1:$C$51,2,FALSE),\" \",REPT(\"0\",VLOOKUP(競技者一覧!W29,種目コード一覧!$A$1:$C$51,3,FALSE)-LEN(競技者一覧!X29)),競技者一覧!X29),\"\")","v":""},{"$f":"IFERROR(CONCATENATE(VLOOKUP(競技者一覧!Y29,種目コード一覧!$A$1:$C$51,2,FALSE),\" \",REPT(\"0\",VLOOKUP(競技者一覧!Y29,種目コード一覧!$A$1:$C$51,3,FALSE)-LEN(競技者一覧!Z29)),競技者一覧!Z29),\"\")","v":""}]
[{"$f":"IFERROR(CONCATENATE(競技者一覧!$D$7), \"\")","v":""},{"$f":"IFERROR(CONCATENATE($H$2,Sheet4!B10),\"\")","v":"009"},{"$f":"競技者一覧!C30&IF(OR(競技者一覧!H30=\"\",競技者一覧!H30=9),\"\",\"(\" & 競技者一覧!H30 & \")\")","v":""},{"$f":"ASC(競技者一覧!D30 &IF(OR(MID(競技者一覧!G30,3,2)=\"\", MID(競技者一覧!G30,3,2)=\"0\"),\"\",\"(\" & MID(競技者一覧!G30,3,2) & \")\"))","v":""},{"$f":"ASC(競技者一覧!E30 & \" \" & 競技者一覧!F30 & IF(OR(MID(競技者一覧!G30,3,2)=\"\", MID(競技者一覧!G30,3,2)=\"0\"),\"\",\"(\" & MID(競技者一覧!G30,3,2) & \")\"))","v":" "},{"$f":"CONCATENATE(競技者一覧!I30)","v":""},{"$f":"IFERROR(IF(競技者一覧!$D$6=\"学連\",VLOOKUP(競技者一覧!J30,Sheet4!$D$2:$E$48,2,FALSE),学校名簿!D10),\"\")","v":""},{"$f":"IFERROR(VLOOKUP(競技者一覧!$D$7,学校番号表!$B$2:$C$65536,2,FALSE),\"\")","v":""},{"$f":"CONCATENATE(競技者一覧!B30)","v":""},{"$f":"IFERROR(CONCATENATE(VLOOKUP(競技者一覧!K30,種目コード一覧!$A$1:$B$51,2,FALSE),\" \",REPT(\"0\",VLOOKUP(競技者一覧!K30,種目コード一覧!$A$1:$C$51,3,FALSE)-LEN(競技者一覧!L30)),競技者一覧!L30),\"\")","v":""},{"$f":"IFERROR(CONCATENATE(VLOOKUP(競技者一覧!M30,種目コード一覧!$A$1:$C$51,2,FALSE),\" \",REPT(\"0\",VLOOKUP(競技者一覧!M30,種目コード一覧!$A$1:$C$51,3,FALSE)-LEN(競技者一覧!N30)),競技者一覧!N30),\"\")","v":""},{"$f":"IFERROR(CONCATENATE(VLOOKUP(競技者一覧!O30,種目コード一覧!$A$1:$C$51,2,FALSE),\" \",REPT(\"0\",VLOOKUP(競技者一覧!O30,種目コード一覧!$A$1:$C$51,3,FALSE)-LEN(競技者一覧!P30)),競技者一覧!P30),\"\")","v":""},{"$f":"IFERROR(CONCATENATE(VLOOKUP(競技者一覧!Q30,種目コード一覧!$A$1:$C$51,2,FALSE),\" \",REPT(\"0\",VLOOKUP(競技者一覧!Q30,種目コード一覧!$A$1:$C$51,3,FALSE)-LEN(競技者一覧!R30)),競技者一覧!R30),\"\")","v":""},{"$f":"IFERROR(CONCATENATE(VLOOKUP(競技者一覧!S30,種目コード一覧!$A$1:$C$51,2,FALSE),\" \",REPT(\"0\",VLOOKUP(競技者一覧!S30,種目コード一覧!$A$1:$C$51,3,FALSE)-LEN(競技者一覧!T30)),競技者一覧!T30),\"\")","v":""},{"$f":"IFERROR(CONCATENATE(VLOOKUP(競技者一覧!U30,種目コード一覧!$A$1:$C$51,2,FALSE),\" \",REPT(\"0\",VLOOKUP(競技者一覧!U30,種目コード一覧!$A$1:$C$51,3,FALSE)-LEN(競技者一覧!V30)),競技者一覧!V30),\"\")","v":""},{"$f":"IFERROR(CONCATENATE(VLOOKUP(競技者一覧!W30,種目コード一覧!$A$1:$C$51,2,FALSE),\" \",REPT(\"0\",VLOOKUP(競技者一覧!W30,種目コード一覧!$A$1:$C$51,3,FALSE)-LEN(競技者一覧!X30)),競技者一覧!X30),\"\")","v":""},{"$f":"IFERROR(CONCATENATE(VLOOKUP(競技者一覧!Y30,種目コード一覧!$A$1:$C$51,2,FALSE),\" \",REPT(\"0\",VLOOKUP(競技者一覧!Y30,種目コード一覧!$A$1:$C$51,3,FALSE)-LEN(競技者一覧!Z30)),競技者一覧!Z30),\"\")","v":""}]
[{"$f":"IFERROR(CONCATENATE(競技者一覧!$D$7), \"\")","v":""},{"$f":"IFERROR(CONCATENATE($H$2,Sheet4!B11),\"\")","v":"010"},{"$f":"競技者一覧!C31&IF(OR(競技者一覧!H31=\"\",競技者一覧!H31=9),\"\",\"(\" & 競技者一覧!H31 & \")\")","v":""},{"$f":"競技者一覧!D31 &IF(OR(MID(競技者一覧!G31,3,2)=\"\", MID(競技者一覧!G31,3,2)=\"0\"),\"\",\"(\" & MID(競技者一覧!G31,3,2) & \")\")","v":""},{"$f":"ASC(競技者一覧!E31 & \" \" & 競技者一覧!F31 & IF(OR(MID(競技者一覧!G31,3,2)=\"\", MID(競技者一覧!G31,3,2)=\"0\"),\"\",\"(\" & MID(競技者一覧!G31,3,2) & \")\"))","v":" "},{"$f":"CONCATENATE(競技者一覧!I31)","v":""},{"$f":"IFERROR(IF(競技者一覧!$D$6=\"学連\",VLOOKUP(競技者一覧!J31,Sheet4!$D$2:$E$48,2,FALSE),学校名簿!D11),\"\")","v":""},{"$f":"IFERROR(VLOOKUP(競技者一覧!$D$7,学校番号表!$B$2:$C$65536,2,FALSE),\"\")","v":""},{"$f":"CONCATENATE(競技者一覧!B31)","v":""},{"$f":"IFERROR(CONCATENATE(VLOOKUP(競技者一覧!K31,種目コード一覧!$A$1:$C$51,2,FALSE),\" \",REPT(\"0\",VLOOKUP(競技者一覧!K31,種目コード一覧!$A$1:$C$51,3,FALSE)-LEN(競技者一覧!L31)),競技者一覧!L31),\"\")","v":""},{"$f":"IFERROR(CONCATENATE(VLOOKUP(競技者一覧!M31,種目コード一覧!$A$1:$C$51,2,FALSE),\" \",REPT(\"0\",VLOOKUP(競技者一覧!M31,種目コード一覧!$A$1:$C$51,3,FALSE)-LEN(競技者一覧!N31)),競技者一覧!N31),\"\")","v":""},{"$f":"IFERROR(CONCATENATE(VLOOKUP(競技者一覧!O31,種目コード一覧!$A$1:$C$51,2,FALSE),\" \",REPT(\"0\",VLOOKUP(競技者一覧!O31,種目コード一覧!$A$1:$C$51,3,FALSE)-LEN(競技者一覧!P31)),競技者一覧!P31),\"\")","v":""},{"$f":"IFERROR(CONCATENATE(VLOOKUP(競技者一覧!Q31,種目コード一覧!$A$1:$C$51,2,FALSE),\" \",REPT(\"0\",VLOOKUP(競技者一覧!Q31,種目コード一覧!$A$1:$C$51,3,FALSE)-LEN(競技者一覧!R31)),競技者一覧!R31),\"\")","v":""},{"$f":"IFERROR(CONCATENATE(VLOOKUP(競技者一覧!S31,種目コード一覧!$A$1:$C$51,2,FALSE),\" \",REPT(\"0\",VLOOKUP(競技者一覧!S31,種目コード一覧!$A$1:$C$51,3,FALSE)-LEN(競技者一覧!T31)),競技者一覧!T31),\"\")","v":""},{"$f":"IFERROR(CONCATENATE(VLOOKUP(競技者一覧!U31,種目コード一覧!$A$1:$C$51,2,FALSE),\" \",REPT(\"0\",VLOOKUP(競技者一覧!U31,種目コード一覧!$A$1:$C$51,3,FALSE)-LEN(競技者一覧!V31)),競技者一覧!V31),\"\")","v":""},{"$f":"IFERROR(CONCATENATE(VLOOKUP(競技者一覧!W31,種目コード一覧!$A$1:$C$51,2,FALSE),\" \",REPT(\"0\",VLOOKUP(競技者一覧!W31,種目コード一覧!$A$1:$C$51,3,FALSE)-LEN(競技者一覧!X31)),競技者一覧!X31),\"\")","v":""},{"$f":"IFERROR(CONCATENATE(VLOOKUP(競技者一覧!Y31,種目コード一覧!$A$1:$C$51,2,FALSE),\" \",REPT(\"0\",VLOOKUP(競技者一覧!Y31,種目コード一覧!$A$1:$C$51,3,FALSE)-LEN(競技者一覧!Z31)),競技者一覧!Z31),\"\")","v":""}]
[{"$f":"IFERROR(CONCATENATE(競技者一覧!$D$7), \"\")","v":""},{"$f":"IFERROR(CONCATENATE($H$2,Sheet4!B12),\"\")","v":"011"},{"$f":"競技者一覧!C32&IF(OR(競技者一覧!H32=\"\",競技者一覧!H32=9),\"\",\"(\" & 競技者一覧!H32 & \")\")","v":""},{"$f":"ASC(競技者一覧!D32 &IF(OR(MID(競技者一覧!G32,3,2)=\"\", MID(競技者一覧!G32,3,2)=\"0\"),\"\",\"(\" & MID(競技者一覧!G32,3,2) & \")\"))","v":""},{"$f":"ASC(競技者一覧!E32 & \" \" & 競技者一覧!F32 & IF(OR(MID(競技者一覧!G32,3,2)=\"\", MID(競技者一覧!G32,3,2)=\"0\"),\"\",\"(\" & MID(競技者一覧!G32,3,2) & \")\"))","v":" "},{"$f":"CONCATENATE(競技者一覧!I32)","v":""},{"$f":"IFERROR(IF(競技者一覧!$D$6=\"学連\",VLOOKUP(競技者一覧!J32,Sheet4!$D$2:$E$48,2,FALSE),学校名簿!D12),\"\")","v":""},{"$f":"IFERROR(VLOOKUP(競技者一覧!$D$7,学校番号表!$B$2:$C$65536,2,FALSE),\"\")","v":""},{"$f":"CONCATENATE(競技者一覧!B32)","v":""},{"$f":"IFERROR(CONCATENATE(VLOOKUP(競技者一覧!K32,種目コード一覧!$A$1:$B$51,2,FALSE),\" \",REPT(\"0\",VLOOKUP(競技者一覧!K32,種目コード一覧!$A$1:$C$51,3,FALSE)-LEN(競技者一覧!L32)),競技者一覧!L32),\"\")","v":""},{"$f":"IFERROR(CONCATENATE(VLOOKUP(競技者一覧!M32,種目コード一覧!$A$1:$C$51,2,FALSE),\" \",REPT(\"0\",VLOOKUP(競技者一覧!M32,種目コード一覧!$A$1:$C$51,3,FALSE)-LEN(競技者一覧!N32)),競技者一覧!N32),\"\")","v":""},{"$f":"IFERROR(CONCATENATE(VLOOKUP(競技者一覧!O32,種目コード一覧!$A$1:$C$51,2,FALSE),\" \",REPT(\"0\",VLOOKUP(競技者一覧!O32,種目コード一覧!$A$1:$C$51,3,FALSE)-LEN(競技者一覧!P32)),競技者一覧!P32),\"\")","v":""},{"$f":"IFERROR(CONCATENATE(VLOOKUP(競技者一覧!Q32,種目コード一覧!$A$1:$C$51,2,FALSE),\" \",REPT(\"0\",VLOOKUP(競技者一覧!Q32,種目コード一覧!$A$1:$C$51,3,FALSE)-LEN(競技者一覧!R32)),競技者一覧!R32),\"\")","v":""},{"$f":"IFERROR(CONCATENATE(VLOOKUP(競技者一覧!S32,種目コード一覧!$A$1:$C$51,2,FALSE),\" \",REPT(\"0\",VLOOKUP(競技者一覧!S32,種目コード一覧!$A$1:$C$51,3,FALSE)-LEN(競技者一覧!T32)),競技者一覧!T32),\"\")","v":""},{"$f":"IFERROR(CONCATENATE(VLOOKUP(競技者一覧!U32,種目コード一覧!$A$1:$C$51,2,FALSE),\" \",REPT(\"0\",VLOOKUP(競技者一覧!U32,種目コード一覧!$A$1:$C$51,3,FALSE)-LEN(競技者一覧!V32)),競技者一覧!V32),\"\")","v":""},{"$f":"IFERROR(CONCATENATE(VLOOKUP(競技者一覧!W32,種目コード一覧!$A$1:$C$51,2,FALSE),\" \",REPT(\"0\",VLOOKUP(競技者一覧!W32,種目コード一覧!$A$1:$C$51,3,FALSE)-LEN(競技者一覧!X32)),競技者一覧!X32),\"\")","v":""},{"$f":"IFERROR(CONCATENATE(VLOOKUP(競技者一覧!Y32,種目コード一覧!$A$1:$C$51,2,FALSE),\" \",REPT(\"0\",VLOOKUP(競技者一覧!Y32,種目コード一覧!$A$1:$C$51,3,FALSE)-LEN(競技者一覧!Z32)),競技者一覧!Z32),\"\")","v":""}]
[{"$f":"IFERROR(CONCATENATE(競技者一覧!$D$7), \"\")","v":""},{"$f":"IFERROR(CONCATENATE($H$2,Sheet4!B13),\"\")","v":"012"},{"$f":"競技者一覧!C33&IF(OR(競技者一覧!H33=\"\",競技者一覧!H33=9),\"\",\"(\" & 競技者一覧!H33 & \")\")","v":""},{"$f":"競技者一覧!D33 &IF(OR(MID(競技者一覧!G33,3,2)=\"\", MID(競技者一覧!G33,3,2)=\"0\"),\"\",\"(\" & MID(競技者一覧!G33,3,2) & \")\")","v":""},{"$f":"ASC(競技者一覧!E33 & \" \" & 競技者一覧!F33 & IF(OR(MID(競技者一覧!G33,3,2)=\"\", MID(競技者一覧!G33,3,2)=\"0\"),\"\",\"(\" & MID(競技者一覧!G33,3,2) & \")\"))","v":" "},{"$f":"CONCATENATE(競技者一覧!I33)","v":""},{"$f":"IFERROR(IF(競技者一覧!$D$6=\"学連\",VLOOKUP(競技者一覧!J33,Sheet4!$D$2:$E$48,2,FALSE),学校名簿!D13),\"\")","v":""},{"$f":"IFERROR(VLOOKUP(競技者一覧!$D$7,学校番号表!$B$2:$C$65536,2,FALSE),\"\")","v":""},{"$f":"CONCATENATE(競技者一覧!B33)","v":""},{"$f":"IFERROR(CONCATENATE(VLOOKUP(競技者一覧!K33,種目コード一覧!$A$1:$C$51,2,FALSE),\" \",REPT(\"0\",VLOOKUP(競技者一覧!K33,種目コード一覧!$A$1:$C$51,3,FALSE)-LEN(競技者一覧!L33)),競技者一覧!L33),\"\")","v":""},{"$f":"IFERROR(CONCATENATE(VLOOKUP(競技者一覧!M33,種目コード一覧!$A$1:$C$51,2,FALSE),\" \",REPT(\"0\",VLOOKUP(競技者一覧!M33,種目コード一覧!$A$1:$C$51,3,FALSE)-LEN(競技者一覧!N33)),競技者一覧!N33),\"\")","v":""},{"$f":"IFERROR(CONCATENATE(VLOOKUP(競技者一覧!O33,種目コード一覧!$A$1:$C$51,2,FALSE),\" \",REPT(\"0\",VLOOKUP(競技者一覧!O33,種目コード一覧!$A$1:$C$51,3,FALSE)-LEN(競技者一覧!P33)),競技者一覧!P33),\"\")","v":""},{"$f":"IFERROR(CONCATENATE(VLOOKUP(競技者一覧!Q33,種目コード一覧!$A$1:$C$51,2,FALSE),\" \",REPT(\"0\",VLOOKUP(競技者一覧!Q33,種目コード一覧!$A$1:$C$51,3,FALSE)-LEN(競技者一覧!R33)),競技者一覧!R33),\"\")","v":""},{"$f":"IFERROR(CONCATENATE(VLOOKUP(競技者一覧!S33,種目コード一覧!$A$1:$C$51,2,FALSE),\" \",REPT(\"0\",VLOOKUP(競技者一覧!S33,種目コード一覧!$A$1:$C$51,3,FALSE)-LEN(競技者一覧!T33)),競技者一覧!T33),\"\")","v":""},{"$f":"IFERROR(CONCATENATE(VLOOKUP(競技者一覧!U33,種目コード一覧!$A$1:$C$51,2,FALSE),\" \",REPT(\"0\",VLOOKUP(競技者一覧!U33,種目コード一覧!$A$1:$C$51,3,FALSE)-LEN(競技者一覧!V33)),競技者一覧!V33),\"\")","v":""},{"$f":"IFERROR(CONCATENATE(VLOOKUP(競技者一覧!W33,種目コード一覧!$A$1:$C$51,2,FALSE),\" \",REPT(\"0\",VLOOKUP(競技者一覧!W33,種目コード一覧!$A$1:$C$51,3,FALSE)-LEN(競技者一覧!X33)),競技者一覧!X33),\"\")","v":""},{"$f":"IFERROR(CONCATENATE(VLOOKUP(競技者一覧!Y33,種目コード一覧!$A$1:$C$51,2,FALSE),\" \",REPT(\"0\",VLOOKUP(競技者一覧!Y33,種目コード一覧!$A$1:$C$51,3,FALSE)-LEN(競技者一覧!Z33)),競技者一覧!Z33),\"\")","v":""}]
[{"$f":"IFERROR(CONCATENATE(競技者一覧!$D$7), \"\")","v":""},{"$f":"IFERROR(CONCATENATE($H$2,Sheet4!B14),\"\")","v":"013"},{"$f":"競技者一覧!C34&IF(OR(競技者一覧!H34=\"\",競技者一覧!H34=9),\"\",\"(\" & 競技者一覧!H34 & \")\")","v":""},{"$f":"ASC(競技者一覧!D34 &IF(OR(MID(競技者一覧!G34,3,2)=\"\", MID(競技者一覧!G34,3,2)=\"0\"),\"\",\"(\" & MID(競技者一覧!G34,3,2) & \")\"))","v":""},{"$f":"ASC(競技者一覧!E34 & \" \" & 競技者一覧!F34 & IF(OR(MID(競技者一覧!G34,3,2)=\"\", MID(競技者一覧!G34,3,2)=\"0\"),\"\",\"(\" & MID(競技者一覧!G34,3,2) & \")\"))","v":" "},{"$f":"CONCATENATE(競技者一覧!I34)","v":""},{"$f":"IFERROR(IF(競技者一覧!$D$6=\"学連\",VLOOKUP(競技者一覧!J34,Sheet4!$D$2:$E$48,2,FALSE),学校名簿!D14),\"\")","v":""},{"$f":"IFERROR(VLOOKUP(競技者一覧!$D$7,学校番号表!$B$2:$C$65536,2,FALSE),\"\")","v":""},{"$f":"CONCATENATE(競技者一覧!B34)","v":""},{"$f":"IFERROR(CONCATENATE(VLOOKUP(競技者一覧!K34,種目コード一覧!$A$1:$B$51,2,FALSE),\" \",REPT(\"0\",VLOOKUP(競技者一覧!K34,種目コード一覧!$A$1:$C$51,3,FALSE)-LEN(競技者一覧!L34)),競技者一覧!L34),\"\")","v":""},{"$f":"IFERROR(CONCATENATE(VLOOKUP(競技者一覧!M34,種目コード一覧!$A$1:$C$51,2,FALSE),\" \",REPT(\"0\",VLOOKUP(競技者一覧!M34,種目コード一覧!$A$1:$C$51,3,FALSE)-LEN(競技者一覧!N34)),競技者一覧!N34),\"\")","v":""},{"$f":"IFERROR(CONCATENATE(VLOOKUP(競技者一覧!O34,種目コード一覧!$A$1:$C$51,2,FALSE),\" \",REPT(\"0\",VLOOKUP(競技者一覧!O34,種目コード一覧!$A$1:$C$51,3,FALSE)-LEN(競技者一覧!P34)),競技者一覧!P34),\"\")","v":""},{"$f":"IFERROR(CONCATENATE(VLOOKUP(競技者一覧!Q34,種目コード一覧!$A$1:$C$51,2,FALSE),\" \",REPT(\"0\",VLOOKUP(競技者一覧!Q34,種目コード一覧!$A$1:$C$51,3,FALSE)-LEN(競技者一覧!R34)),競技者一覧!R34),\"\")","v":""},{"$f":"IFERROR(CONCATENATE(VLOOKUP(競技者一覧!S34,種目コード一覧!$A$1:$C$51,2,FALSE),\" \",REPT(\"0\",VLOOKUP(競技者一覧!S34,種目コード一覧!$A$1:$C$51,3,FALSE)-LEN(競技者一覧!T34)),競技者一覧!T34),\"\")","v":""},{"$f":"IFERROR(CONCATENATE(VLOOKUP(競技者一覧!U34,種目コード一覧!$A$1:$C$51,2,FALSE),\" \",REPT(\"0\",VLOOKUP(競技者一覧!U34,種目コード一覧!$A$1:$C$51,3,FALSE)-LEN(競技者一覧!V34)),競技者一覧!V34),\"\")","v":""},{"$f":"IFERROR(CONCATENATE(VLOOKUP(競技者一覧!W34,種目コード一覧!$A$1:$C$51,2,FALSE),\" \",REPT(\"0\",VLOOKUP(競技者一覧!W34,種目コード一覧!$A$1:$C$51,3,FALSE)-LEN(競技者一覧!X34)),競技者一覧!X34),\"\")","v":""},{"$f":"IFERROR(CONCATENATE(VLOOKUP(競技者一覧!Y34,種目コード一覧!$A$1:$C$51,2,FALSE),\" \",REPT(\"0\",VLOOKUP(競技者一覧!Y34,種目コード一覧!$A$1:$C$51,3,FALSE)-LEN(競技者一覧!Z34)),競技者一覧!Z34),\"\")","v":""}]
[{"$f":"IFERROR(CONCATENATE(競技者一覧!$D$7), \"\")","v":""},{"$f":"IFERROR(CONCATENATE($H$2,Sheet4!B15),\"\")","v":"014"},{"$f":"競技者一覧!C35&IF(OR(競技者一覧!H35=\"\",競技者一覧!H35=9),\"\",\"(\" & 競技者一覧!H35 & \")\")","v":""},{"$f":"競技者一覧!D35 &IF(OR(MID(競技者一覧!G35,3,2)=\"\", MID(競技者一覧!G35,3,2)=\"0\"),\"\",\"(\" & MID(競技者一覧!G35,3,2) & \")\")","v":""},{"$f":"ASC(競技者一覧!E35 & \" \" & 競技者一覧!F35 & IF(OR(MID(競技者一覧!G35,3,2)=\"\", MID(競技者一覧!G35,3,2)=\"0\"),\"\",\"(\" & MID(競技者一覧!G35,3,2) & \")\"))","v":" "},{"$f":"CONCATENATE(競技者一覧!I35)","v":""},{"$f":"IFERROR(IF(競技者一覧!$D$6=\"学連\",VLOOKUP(競技者一覧!J35,Sheet4!$D$2:$E$48,2,FALSE),学校名簿!D15),\"\")","v":""},{"$f":"IFERROR(VLOOKUP(競技者一覧!$D$7,学校番号表!$B$2:$C$65536,2,FALSE),\"\")","v":""},{"$f":"CONCATENATE(競技者一覧!B35)","v":""},{"$f":"IFERROR(CONCATENATE(VLOOKUP(競技者一覧!K35,種目コード一覧!$A$1:$C$51,2,FALSE),\" \",REPT(\"0\",VLOOKUP(競技者一覧!K35,種目コード一覧!$A$1:$C$51,3,FALSE)-LEN(競技者一覧!L35)),競技者一覧!L35),\"\")","v":""},{"$f":"IFERROR(CONCATENATE(VLOOKUP(競技者一覧!M35,種目コード一覧!$A$1:$C$51,2,FALSE),\" \",REPT(\"0\",VLOOKUP(競技者一覧!M35,種目コード一覧!$A$1:$C$51,3,FALSE)-LEN(競技者一覧!N35)),競技者一覧!N35),\"\")","v":""},{"$f":"IFERROR(CONCATENATE(VLOOKUP(競技者一覧!O35,種目コード一覧!$A$1:$C$51,2,FALSE),\" \",REPT(\"0\",VLOOKUP(競技者一覧!O35,種目コード一覧!$A$1:$C$51,3,FALSE)-LEN(競技者一覧!P35)),競技者一覧!P35),\"\")","v":""},{"$f":"IFERROR(CONCATENATE(VLOOKUP(競技者一覧!Q35,種目コード一覧!$A$1:$C$51,2,FALSE),\" \",REPT(\"0\",VLOOKUP(競技者一覧!Q35,種目コード一覧!$A$1:$C$51,3,FALSE)-LEN(競技者一覧!R35)),競技者一覧!R35),\"\")","v":""},{"$f":"IFERROR(CONCATENATE(VLOOKUP(競技者一覧!S35,種目コード一覧!$A$1:$C$51,2,FALSE),\" \",REPT(\"0\",VLOOKUP(競技者一覧!S35,種目コード一覧!$A$1:$C$51,3,FALSE)-LEN(競技者一覧!T35)),競技者一覧!T35),\"\")","v":""},{"$f":"IFERROR(CONCATENATE(VLOOKUP(競技者一覧!U35,種目コード一覧!$A$1:$C$51,2,FALSE),\" \",REPT(\"0\",VLOOKUP(競技者一覧!U35,種目コード一覧!$A$1:$C$51,3,FALSE)-LEN(競技者一覧!V35)),競技者一覧!V35),\"\")","v":""},{"$f":"IFERROR(CONCATENATE(VLOOKUP(競技者一覧!W35,種目コード一覧!$A$1:$C$51,2,FALSE),\" \",REPT(\"0\",VLOOKUP(競技者一覧!W35,種目コード一覧!$A$1:$C$51,3,FALSE)-LEN(競技者一覧!X35)),競技者一覧!X35),\"\")","v":""},{"$f":"IFERROR(CONCATENATE(VLOOKUP(競技者一覧!Y35,種目コード一覧!$A$1:$C$51,2,FALSE),\" \",REPT(\"0\",VLOOKUP(競技者一覧!Y35,種目コード一覧!$A$1:$C$51,3,FALSE)-LEN(競技者一覧!Z35)),競技者一覧!Z35),\"\")","v":""}]
[{"$f":"IFERROR(CONCATENATE(競技者一覧!$D$7), \"\")","v":""},{"$f":"IFERROR(CONCATENATE($H$2,Sheet4!B16),\"\")","v":"015"},{"$f":"競技者一覧!C36&IF(OR(競技者一覧!H36=\"\",競技者一覧!H36=9),\"\",\"(\" & 競技者一覧!H36 & \")\")","v":""},{"$f":"ASC(競技者一覧!D36 &IF(OR(MID(競技者一覧!G36,3,2)=\"\", MID(競技者一覧!G36,3,2)=\"0\"),\"\",\"(\" & MID(競技者一覧!G36,3,2) & \")\"))","v":""},{"$f":"ASC(競技者一覧!E36 & \" \" & 競技者一覧!F36 & IF(OR(MID(競技者一覧!G36,3,2)=\"\", MID(競技者一覧!G36,3,2)=\"0\"),\"\",\"(\" & MID(競技者一覧!G36,3,2) & \")\"))","v":" "},{"$f":"CONCATENATE(競技者一覧!I36)","v":""},{"$f":"IFERROR(IF(競技者一覧!$D$6=\"学連\",VLOOKUP(競技者一覧!J36,Sheet4!$D$2:$E$48,2,FALSE),学校名簿!D16),\"\")","v":""},{"$f":"IFERROR(VLOOKUP(競技者一覧!$D$7,学校番号表!$B$2:$C$65536,2,FALSE),\"\")","v":""},{"$f":"CONCATENATE(競技者一覧!B36)","v":""},{"$f":"IFERROR(CONCATENATE(VLOOKUP(競技者一覧!K36,種目コード一覧!$A$1:$B$51,2,FALSE),\" \",REPT(\"0\",VLOOKUP(競技者一覧!K36,種目コード一覧!$A$1:$C$51,3,FALSE)-LEN(競技者一覧!L36)),競技者一覧!L36),\"\")","v":""},{"$f":"IFERROR(CONCATENATE(VLOOKUP(競技者一覧!M36,種目コード一覧!$A$1:$C$51,2,FALSE),\" \",REPT(\"0\",VLOOKUP(競技者一覧!M36,種目コード一覧!$A$1:$C$51,3,FALSE)-LEN(競技者一覧!N36)),競技者一覧!N36),\"\")","v":""},{"$f":"IFERROR(CONCATENATE(VLOOKUP(競技者一覧!O36,種目コード一覧!$A$1:$C$51,2,FALSE),\" \",REPT(\"0\",VLOOKUP(競技者一覧!O36,種目コード一覧!$A$1:$C$51,3,FALSE)-LEN(競技者一覧!P36)),競技者一覧!P36),\"\")","v":""},{"$f":"IFERROR(CONCATENATE(VLOOKUP(競技者一覧!Q36,種目コード一覧!$A$1:$C$51,2,FALSE),\" \",REPT(\"0\",VLOOKUP(競技者一覧!Q36,種目コード一覧!$A$1:$C$51,3,FALSE)-LEN(競技者一覧!R36)),競技者一覧!R36),\"\")","v":""},{"$f":"IFERROR(CONCATENATE(VLOOKUP(競技者一覧!S36,種目コード一覧!$A$1:$C$51,2,FALSE),\" \",REPT(\"0\",VLOOKUP(競技者一覧!S36,種目コード一覧!$A$1:$C$51,3,FALSE)-LEN(競技者一覧!T36)),競技者一覧!T36),\"\")","v":""},{"$f":"IFERROR(CONCATENATE(VLOOKUP(競技者一覧!U36,種目コード一覧!$A$1:$C$51,2,FALSE),\" \",REPT(\"0\",VLOOKUP(競技者一覧!U36,種目コード一覧!$A$1:$C$51,3,FALSE)-LEN(競技者一覧!V36)),競技者一覧!V36),\"\")","v":""},{"$f":"IFERROR(CONCATENATE(VLOOKUP(競技者一覧!W36,種目コード一覧!$A$1:$C$51,2,FALSE),\" \",REPT(\"0\",VLOOKUP(競技者一覧!W36,種目コード一覧!$A$1:$C$51,3,FALSE)-LEN(競技者一覧!X36)),競技者一覧!X36),\"\")","v":""},{"$f":"IFERROR(CONCATENATE(VLOOKUP(競技者一覧!Y36,種目コード一覧!$A$1:$C$51,2,FALSE),\" \",REPT(\"0\",VLOOKUP(競技者一覧!Y36,種目コード一覧!$A$1:$C$51,3,FALSE)-LEN(競技者一覧!Z36)),競技者一覧!Z36),\"\")","v":""}]
[{"$f":"IFERROR(CONCATENATE(競技者一覧!$D$7), \"\")","v":""},{"$f":"IFERROR(CONCATENATE($H$2,Sheet4!B17),\"\")","v":"016"},{"$f":"競技者一覧!C37&IF(OR(競技者一覧!H37=\"\",競技者一覧!H37=9),\"\",\"(\" & 競技者一覧!H37 & \")\")","v":""},{"$f":"競技者一覧!D37 &IF(OR(MID(競技者一覧!G37,3,2)=\"\", MID(競技者一覧!G37,3,2)=\"0\"),\"\",\"(\" & MID(競技者一覧!G37,3,2) & \")\")","v":""},{"$f":"ASC(競技者一覧!E37 & \" \" & 競技者一覧!F37 & IF(OR(MID(競技者一覧!G37,3,2)=\"\", MID(競技者一覧!G37,3,2)=\"0\"),\"\",\"(\" & MID(競技者一覧!G37,3,2) & \")\"))","v":" "},{"$f":"CONCATENATE(競技者一覧!I37)","v":""},{"$f":"IFERROR(IF(競技者一覧!$D$6=\"学連\",VLOOKUP(競技者一覧!J37,Sheet4!$D$2:$E$48,2,FALSE),学校名簿!D17),\"\")","v":""},{"$f":"IFERROR(VLOOKUP(競技者一覧!$D$7,学校番号表!$B$2:$C$65536,2,FALSE),\"\")","v":""},{"$f":"CONCATENATE(競技者一覧!B37)","v":""},{"$f":"IFERROR(CONCATENATE(VLOOKUP(競技者一覧!K37,種目コード一覧!$A$1:$C$51,2,FALSE),\" \",REPT(\"0\",VLOOKUP(競技者一覧!K37,種目コード一覧!$A$1:$C$51,3,FALSE)-LEN(競技者一覧!L37)),競技者一覧!L37),\"\")","v":""},{"$f":"IFERROR(CONCATENATE(VLOOKUP(競技者一覧!M37,種目コード一覧!$A$1:$C$51,2,FALSE),\" \",REPT(\"0\",VLOOKUP(競技者一覧!M37,種目コード一覧!$A$1:$C$51,3,FALSE)-LEN(競技者一覧!N37)),競技者一覧!N37),\"\")","v":""},{"$f":"IFERROR(CONCATENATE(VLOOKUP(競技者一覧!O37,種目コード一覧!$A$1:$C$51,2,FALSE),\" \",REPT(\"0\",VLOOKUP(競技者一覧!O37,種目コード一覧!$A$1:$C$51,3,FALSE)-LEN(競技者一覧!P37)),競技者一覧!P37),\"\")","v":""},{"$f":"IFERROR(CONCATENATE(VLOOKUP(競技者一覧!Q37,種目コード一覧!$A$1:$C$51,2,FALSE),\" \",REPT(\"0\",VLOOKUP(競技者一覧!Q37,種目コード一覧!$A$1:$C$51,3,FALSE)-LEN(競技者一覧!R37)),競技者一覧!R37),\"\")","v":""},{"$f":"IFERROR(CONCATENATE(VLOOKUP(競技者一覧!S37,種目コード一覧!$A$1:$C$51,2,FALSE),\" \",REPT(\"0\",VLOOKUP(競技者一覧!S37,種目コード一覧!$A$1:$C$51,3,FALSE)-LEN(競技者一覧!T37)),競技者一覧!T37),\"\")","v":""},{"$f":"IFERROR(CONCATENATE(VLOOKUP(競技者一覧!U37,種目コード一覧!$A$1:$C$51,2,FALSE),\" \",REPT(\"0\",VLOOKUP(競技者一覧!U37,種目コード一覧!$A$1:$C$51,3,FALSE)-LEN(競技者一覧!V37)),競技者一覧!V37),\"\")","v":""},{"$f":"IFERROR(CONCATENATE(VLOOKUP(競技者一覧!W37,種目コード一覧!$A$1:$C$51,2,FALSE),\" \",REPT(\"0\",VLOOKUP(競技者一覧!W37,種目コード一覧!$A$1:$C$51,3,FALSE)-LEN(競技者一覧!X37)),競技者一覧!X37),\"\")","v":""},{"$f":"IFERROR(CONCATENATE(VLOOKUP(競技者一覧!Y37,種目コード一覧!$A$1:$C$51,2,FALSE),\" \",REPT(\"0\",VLOOKUP(競技者一覧!Y37,種目コード一覧!$A$1:$C$51,3,FALSE)-LEN(競技者一覧!Z37)),競技者一覧!Z37),\"\")","v":""}]
[{"$f":"IFERROR(CONCATENATE(競技者一覧!$D$7), \"\")","v":""},{"$f":"IFERROR(CONCATENATE($H$2,Sheet4!B18),\"\")","v":"017"},{"$f":"競技者一覧!C38&IF(OR(競技者一覧!H38=\"\",競技者一覧!H38=9),\"\",\"(\" & 競技者一覧!H38 & \")\")","v":""},{"$f":"ASC(競技者一覧!D38 &IF(OR(MID(競技者一覧!G38,3,2)=\"\", MID(競技者一覧!G38,3,2)=\"0\"),\"\",\"(\" & MID(競技者一覧!G38,3,2) & \")\"))","v":""},{"$f":"ASC(競技者一覧!E38 & \" \" & 競技者一覧!F38 & IF(OR(MID(競技者一覧!G38,3,2)=\"\", MID(競技者一覧!G38,3,2)=\"0\"),\"\",\"(\" & MID(競技者一覧!G38,3,2) & \")\"))","v":" "},{"$f":"CONCATENATE(競技者一覧!I38)","v":""},{"$f":"IFERROR(IF(競技者一覧!$D$6=\"学連\",VLOOKUP(競技者一覧!J38,Sheet4!$D$2:$E$48,2,FALSE),学校名簿!D18),\"\")","v":""},{"$f":"IFERROR(VLOOKUP(競技者一覧!$D$7,学校番号表!$B$2:$C$65536,2,FALSE),\"\")","v":""},{"$f":"CONCATENATE(競技者一覧!B38)","v":""},{"$f":"IFERROR(CONCATENATE(VLOOKUP(競技者一覧!K38,種目コード一覧!$A$1:$B$51,2,FALSE),\" \",REPT(\"0\",VLOOKUP(競技者一覧!K38,種目コード一覧!$A$1:$C$51,3,FALSE)-LEN(競技者一覧!L38)),競技者一覧!L38),\"\")","v":""},{"$f":"IFERROR(CONCATENATE(VLOOKUP(競技者一覧!M38,種目コード一覧!$A$1:$C$51,2,FALSE),\" \",REPT(\"0\",VLOOKUP(競技者一覧!M38,種目コード一覧!$A$1:$C$51,3,FALSE)-LEN(競技者一覧!N38)),競技者一覧!N38),\"\")","v":""},{"$f":"IFERROR(CONCATENATE(VLOOKUP(競技者一覧!O38,種目コード一覧!$A$1:$C$51,2,FALSE),\" \",REPT(\"0\",VLOOKUP(競技者一覧!O38,種目コード一覧!$A$1:$C$51,3,FALSE)-LEN(競技者一覧!P38)),競技者一覧!P38),\"\")","v":""},{"$f":"IFERROR(CONCATENATE(VLOOKUP(競技者一覧!Q38,種目コード一覧!$A$1:$C$51,2,FALSE),\" \",REPT(\"0\",VLOOKUP(競技者一覧!Q38,種目コード一覧!$A$1:$C$51,3,FALSE)-LEN(競技者一覧!R38)),競技者一覧!R38),\"\")","v":""},{"$f":"IFERROR(CONCATENATE(VLOOKUP(競技者一覧!S38,種目コード一覧!$A$1:$C$51,2,FALSE),\" \",REPT(\"0\",VLOOKUP(競技者一覧!S38,種目コード一覧!$A$1:$C$51,3,FALSE)-LEN(競技者一覧!T38)),競技者一覧!T38),\"\")","v":""},{"$f":"IFERROR(CONCATENATE(VLOOKUP(競技者一覧!U38,種目コード一覧!$A$1:$C$51,2,FALSE),\" \",REPT(\"0\",VLOOKUP(競技者一覧!U38,種目コード一覧!$A$1:$C$51,3,FALSE)-LEN(競技者一覧!V38)),競技者一覧!V38),\"\")","v":""},{"$f":"IFERROR(CONCATENATE(VLOOKUP(競技者一覧!W38,種目コード一覧!$A$1:$C$51,2,FALSE),\" \",REPT(\"0\",VLOOKUP(競技者一覧!W38,種目コード一覧!$A$1:$C$51,3,FALSE)-LEN(競技者一覧!X38)),競技者一覧!X38),\"\")","v":""},{"$f":"IFERROR(CONCATENATE(VLOOKUP(競技者一覧!Y38,種目コード一覧!$A$1:$C$51,2,FALSE),\" \",REPT(\"0\",VLOOKUP(競技者一覧!Y38,種目コード一覧!$A$1:$C$51,3,FALSE)-LEN(競技者一覧!Z38)),競技者一覧!Z38),\"\")","v":""}]
[{"$f":"IFERROR(CONCATENATE(競技者一覧!$D$7), \"\")","v":""},{"$f":"IFERROR(CONCATENATE($H$2,Sheet4!B19),\"\")","v":"018"},{"$f":"競技者一覧!C39&IF(OR(競技者一覧!H39=\"\",競技者一覧!H39=9),\"\",\"(\" & 競技者一覧!H39 & \")\")","v":""},{"$f":"競技者一覧!D39 &IF(OR(MID(競技者一覧!G39,3,2)=\"\", MID(競技者一覧!G39,3,2)=\"0\"),\"\",\"(\" & MID(競技者一覧!G39,3,2) & \")\")","v":""},{"$f":"ASC(競技者一覧!E39 & \" \" & 競技者一覧!F39 & IF(OR(MID(競技者一覧!G39,3,2)=\"\", MID(競技者一覧!G39,3,2)=\"0\"),\"\",\"(\" & MID(競技者一覧!G39,3,2) & \")\"))","v":" "},{"$f":"CONCATENATE(競技者一覧!I39)","v":""},{"$f":"IFERROR(IF(競技者一覧!$D$6=\"学連\",VLOOKUP(競技者一覧!J39,Sheet4!$D$2:$E$48,2,FALSE),学校名簿!D19),\"\")","v":""},{"$f":"IFERROR(VLOOKUP(競技者一覧!$D$7,学校番号表!$B$2:$C$65536,2,FALSE),\"\")","v":""},{"$f":"CONCATENATE(競技者一覧!B39)","v":""},{"$f":"IFERROR(CONCATENATE(VLOOKUP(競技者一覧!K39,種目コード一覧!$A$1:$C$51,2,FALSE),\" \",REPT(\"0\",VLOOKUP(競技者一覧!K39,種目コード一覧!$A$1:$C$51,3,FALSE)-LEN(競技者一覧!L39)),競技者一覧!L39),\"\")","v":""},{"$f":"IFERROR(CONCATENATE(VLOOKUP(競技者一覧!M39,種目コード一覧!$A$1:$C$51,2,FALSE),\" \",REPT(\"0\",VLOOKUP(競技者一覧!M39,種目コード一覧!$A$1:$C$51,3,FALSE)-LEN(競技者一覧!N39)),競技者一覧!N39),\"\")","v":""},{"$f":"IFERROR(CONCATENATE(VLOOKUP(競技者一覧!O39,種目コード一覧!$A$1:$C$51,2,FALSE),\" \",REPT(\"0\",VLOOKUP(競技者一覧!O39,種目コード一覧!$A$1:$C$51,3,FALSE)-LEN(競技者一覧!P39)),競技者一覧!P39),\"\")","v":""},{"$f":"IFERROR(CONCATENATE(VLOOKUP(競技者一覧!Q39,種目コード一覧!$A$1:$C$51,2,FALSE),\" \",REPT(\"0\",VLOOKUP(競技者一覧!Q39,種目コード一覧!$A$1:$C$51,3,FALSE)-LEN(競技者一覧!R39)),競技者一覧!R39),\"\")","v":""},{"$f":"IFERROR(CONCATENATE(VLOOKUP(競技者一覧!S39,種目コード一覧!$A$1:$C$51,2,FALSE),\" \",REPT(\"0\",VLOOKUP(競技者一覧!S39,種目コード一覧!$A$1:$C$51,3,FALSE)-LEN(競技者一覧!T39)),競技者一覧!T39),\"\")","v":""},{"$f":"IFERROR(CONCATENATE(VLOOKUP(競技者一覧!U39,種目コード一覧!$A$1:$C$51,2,FALSE),\" \",REPT(\"0\",VLOOKUP(競技者一覧!U39,種目コード一覧!$A$1:$C$51,3,FALSE)-LEN(競技者一覧!V39)),競技者一覧!V39),\"\")","v":""},{"$f":"IFERROR(CONCATENATE(VLOOKUP(競技者一覧!W39,種目コード一覧!$A$1:$C$51,2,FALSE),\" \",REPT(\"0\",VLOOKUP(競技者一覧!W39,種目コード一覧!$A$1:$C$51,3,FALSE)-LEN(競技者一覧!X39)),競技者一覧!X39),\"\")","v":""},{"$f":"IFERROR(CONCATENATE(VLOOKUP(競技者一覧!Y39,種目コード一覧!$A$1:$C$51,2,FALSE),\" \",REPT(\"0\",VLOOKUP(競技者一覧!Y39,種目コード一覧!$A$1:$C$51,3,FALSE)-LEN(競技者一覧!Z39)),競技者一覧!Z39),\"\")","v":""}]
[{"$f":"IFERROR(CONCATENATE(競技者一覧!$D$7), \"\")","v":""},{"$f":"IFERROR(CONCATENATE($H$2,Sheet4!B20),\"\")","v":"019"},{"$f":"競技者一覧!C40&IF(OR(競技者一覧!H40=\"\",競技者一覧!H40=9),\"\",\"(\" & 競技者一覧!H40 & \")\")","v":""},{"$f":"ASC(競技者一覧!D40 &IF(OR(MID(競技者一覧!G40,3,2)=\"\", MID(競技者一覧!G40,3,2)=\"0\"),\"\",\"(\" & MID(競技者一覧!G40,3,2) & \")\"))","v":""},{"$f":"ASC(競技者一覧!E40 & \" \" & 競技者一覧!F40 & IF(OR(MID(競技者一覧!G40,3,2)=\"\", MID(競技者一覧!G40,3,2)=\"0\"),\"\",\"(\" & MID(競技者一覧!G40,3,2) & \")\"))","v":" "},{"$f":"CONCATENATE(競技者一覧!I40)","v":""},{"$f":"IFERROR(IF(競技者一覧!$D$6=\"学連\",VLOOKUP(競技者一覧!J40,Sheet4!$D$2:$E$48,2,FALSE),学校名簿!D20),\"\")","v":""},{"$f":"IFERROR(VLOOKUP(競技者一覧!$D$7,学校番号表!$B$2:$C$65536,2,FALSE),\"\")","v":""},{"$f":"CONCATENATE(競技者一覧!B40)","v":""},{"$f":"IFERROR(CONCATENATE(VLOOKUP(競技者一覧!K40,種目コード一覧!$A$1:$B$51,2,FALSE),\" \",REPT(\"0\",VLOOKUP(競技者一覧!K40,種目コード一覧!$A$1:$C$51,3,FALSE)-LEN(競技者一覧!L40)),競技者一覧!L40),\"\")","v":""},{"$f":"IFERROR(CONCATENATE(VLOOKUP(競技者一覧!M40,種目コード一覧!$A$1:$C$51,2,FALSE),\" \",REPT(\"0\",VLOOKUP(競技者一覧!M40,種目コード一覧!$A$1:$C$51,3,FALSE)-LEN(競技者一覧!N40)),競技者一覧!N40),\"\")","v":""},{"$f":"IFERROR(CONCATENATE(VLOOKUP(競技者一覧!O40,種目コード一覧!$A$1:$C$51,2,FALSE),\" \",REPT(\"0\",VLOOKUP(競技者一覧!O40,種目コード一覧!$A$1:$C$51,3,FALSE)-LEN(競技者一覧!P40)),競技者一覧!P40),\"\")","v":""},{"$f":"IFERROR(CONCATENATE(VLOOKUP(競技者一覧!Q40,種目コード一覧!$A$1:$C$51,2,FALSE),\" \",REPT(\"0\",VLOOKUP(競技者一覧!Q40,種目コード一覧!$A$1:$C$51,3,FALSE)-LEN(競技者一覧!R40)),競技者一覧!R40),\"\")","v":""},{"$f":"IFERROR(CONCATENATE(VLOOKUP(競技者一覧!S40,種目コード一覧!$A$1:$C$51,2,FALSE),\" \",REPT(\"0\",VLOOKUP(競技者一覧!S40,種目コード一覧!$A$1:$C$51,3,FALSE)-LEN(競技者一覧!T40)),競技者一覧!T40),\"\")","v":""},{"$f":"IFERROR(CONCATENATE(VLOOKUP(競技者一覧!U40,種目コード一覧!$A$1:$C$51,2,FALSE),\" \",REPT(\"0\",VLOOKUP(競技者一覧!U40,種目コード一覧!$A$1:$C$51,3,FALSE)-LEN(競技者一覧!V40)),競技者一覧!V40),\"\")","v":""},{"$f":"IFERROR(CONCATENATE(VLOOKUP(競技者一覧!W40,種目コード一覧!$A$1:$C$51,2,FALSE),\" \",REPT(\"0\",VLOOKUP(競技者一覧!W40,種目コード一覧!$A$1:$C$51,3,FALSE)-LEN(競技者一覧!X40)),競技者一覧!X40),\"\")","v":""},{"$f":"IFERROR(CONCATENATE(VLOOKUP(競技者一覧!Y40,種目コード一覧!$A$1:$C$51,2,FALSE),\" \",REPT(\"0\",VLOOKUP(競技者一覧!Y40,種目コード一覧!$A$1:$C$51,3,FALSE)-LEN(競技者一覧!Z40)),競技者一覧!Z40),\"\")","v":""}]
[{"$f":"IFERROR(CONCATENATE(競技者一覧!$D$7), \"\")","v":""},{"$f":"IFERROR(CONCATENATE($H$2,Sheet4!B21),\"\")","v":"020"},{"$f":"競技者一覧!C41&IF(OR(競技者一覧!H41=\"\",競技者一覧!H41=9),\"\",\"(\" & 競技者一覧!H41 & \")\")","v":""},{"$f":"競技者一覧!D41 &IF(OR(MID(競技者一覧!G41,3,2)=\"\", MID(競技者一覧!G41,3,2)=\"0\"),\"\",\"(\" & MID(競技者一覧!G41,3,2) & \")\")","v":""},{"$f":"ASC(競技者一覧!E41 & \" \" & 競技者一覧!F41 & IF(OR(MID(競技者一覧!G41,3,2)=\"\", MID(競技者一覧!G41,3,2)=\"0\"),\"\",\"(\" & MID(競技者一覧!G41,3,2) & \")\"))","v":" "},{"$f":"CONCATENATE(競技者一覧!I41)","v":""},{"$f":"IFERROR(IF(競技者一覧!$D$6=\"学連\",VLOOKUP(競技者一覧!J41,Sheet4!$D$2:$E$48,2,FALSE),学校名簿!D21),\"\")","v":""},{"$f":"IFERROR(VLOOKUP(競技者一覧!$D$7,学校番号表!$B$2:$C$65536,2,FALSE),\"\")","v":""},{"$f":"CONCATENATE(競技者一覧!B41)","v":""},{"$f":"IFERROR(CONCATENATE(VLOOKUP(競技者一覧!K41,種目コード一覧!$A$1:$C$51,2,FALSE),\" \",REPT(\"0\",VLOOKUP(競技者一覧!K41,種目コード一覧!$A$1:$C$51,3,FALSE)-LEN(競技者一覧!L41)),競技者一覧!L41),\"\")","v":""},{"$f":"IFERROR(CONCATENATE(VLOOKUP(競技者一覧!M41,種目コード一覧!$A$1:$C$51,2,FALSE),\" \",REPT(\"0\",VLOOKUP(競技者一覧!M41,種目コード一覧!$A$1:$C$51,3,FALSE)-LEN(競技者一覧!N41)),競技者一覧!N41),\"\")","v":""},{"$f":"IFERROR(CONCATENATE(VLOOKUP(競技者一覧!O41,種目コード一覧!$A$1:$C$51,2,FALSE),\" \",REPT(\"0\",VLOOKUP(競技者一覧!O41,種目コード一覧!$A$1:$C$51,3,FALSE)-LEN(競技者一覧!P41)),競技者一覧!P41),\"\")","v":""},{"$f":"IFERROR(CONCATENATE(VLOOKUP(競技者一覧!Q41,種目コード一覧!$A$1:$C$51,2,FALSE),\" \",REPT(\"0\",VLOOKUP(競技者一覧!Q41,種目コード一覧!$A$1:$C$51,3,FALSE)-LEN(競技者一覧!R41)),競技者一覧!R41),\"\")","v":""},{"$f":"IFERROR(CONCATENATE(VLOOKUP(競技者一覧!S41,種目コード一覧!$A$1:$C$51,2,FALSE),\" \",REPT(\"0\",VLOOKUP(競技者一覧!S41,種目コード一覧!$A$1:$C$51,3,FALSE)-LEN(競技者一覧!T41)),競技者一覧!T41),\"\")","v":""},{"$f":"IFERROR(CONCATENATE(VLOOKUP(競技者一覧!U41,種目コード一覧!$A$1:$C$51,2,FALSE),\" \",REPT(\"0\",VLOOKUP(競技者一覧!U41,種目コード一覧!$A$1:$C$51,3,FALSE)-LEN(競技者一覧!V41)),競技者一覧!V41),\"\")","v":""},{"$f":"IFERROR(CONCATENATE(VLOOKUP(競技者一覧!W41,種目コード一覧!$A$1:$C$51,2,FALSE),\" \",REPT(\"0\",VLOOKUP(競技者一覧!W41,種目コード一覧!$A$1:$C$51,3,FALSE)-LEN(競技者一覧!X41)),競技者一覧!X41),\"\")","v":""},{"$f":"IFERROR(CONCATENATE(VLOOKUP(競技者一覧!Y41,種目コード一覧!$A$1:$C$51,2,FALSE),\" \",REPT(\"0\",VLOOKUP(競技者一覧!Y41,種目コード一覧!$A$1:$C$51,3,FALSE)-LEN(競技者一覧!Z41)),競技者一覧!Z41),\"\")","v":""}]
[{"$f":"IFERROR(CONCATENATE(競技者一覧!$D$7), \"\")","v":""},{"$f":"IFERROR(CONCATENATE($H$2,Sheet4!B22),\"\")","v":"021"},{"$f":"競技者一覧!C42&IF(OR(競技者一覧!H42=\"\",競技者一覧!H42=9),\"\",\"(\" & 競技者一覧!H42 & \")\")","v":""},{"$f":"ASC(競技者一覧!D42 &IF(OR(MID(競技者一覧!G42,3,2)=\"\", MID(競技者一覧!G42,3,2)=\"0\"),\"\",\"(\" & MID(競技者一覧!G42,3,2) & \")\"))","v":""},{"$f":"ASC(競技者一覧!E42 & \" \" & 競技者一覧!F42 & IF(OR(MID(競技者一覧!G42,3,2)=\"\", MID(競技者一覧!G42,3,2)=\"0\"),\"\",\"(\" & MID(競技者一覧!G42,3,2) & \")\"))","v":" "},{"$f":"CONCATENATE(競技者一覧!I42)","v":""},{"$f":"IFERROR(IF(競技者一覧!$D$6=\"学連\",VLOOKUP(競技者一覧!J42,Sheet4!$D$2:$E$48,2,FALSE),学校名簿!D22),\"\")","v":""},{"$f":"IFERROR(VLOOKUP(競技者一覧!$D$7,学校番号表!$B$2:$C$65536,2,FALSE),\"\")","v":""},{"$f":"CONCATENATE(競技者一覧!B42)","v":""},{"$f":"IFERROR(CONCATENATE(VLOOKUP(競技者一覧!K42,種目コード一覧!$A$1:$B$51,2,FALSE),\" \",REPT(\"0\",VLOOKUP(競技者一覧!K42,種目コード一覧!$A$1:$C$51,3,FALSE)-LEN(競技者一覧!L42)),競技者一覧!L42),\"\")","v":""},{"$f":"IFERROR(CONCATENATE(VLOOKUP(競技者一覧!M42,種目コード一覧!$A$1:$C$51,2,FALSE),\" \",REPT(\"0\",VLOOKUP(競技者一覧!M42,種目コード一覧!$A$1:$C$51,3,FALSE)-LEN(競技者一覧!N42)),競技者一覧!N42),\"\")","v":""},{"$f":"IFERROR(CONCATENATE(VLOOKUP(競技者一覧!O42,種目コード一覧!$A$1:$C$51,2,FALSE),\" \",REPT(\"0\",VLOOKUP(競技者一覧!O42,種目コード一覧!$A$1:$C$51,3,FALSE)-LEN(競技者一覧!P42)),競技者一覧!P42),\"\")","v":""},{"$f":"IFERROR(CONCATENATE(VLOOKUP(競技者一覧!Q42,種目コード一覧!$A$1:$C$51,2,FALSE),\" \",REPT(\"0\",VLOOKUP(競技者一覧!Q42,種目コード一覧!$A$1:$C$51,3,FALSE)-LEN(競技者一覧!R42)),競技者一覧!R42),\"\")","v":""},{"$f":"IFERROR(CONCATENATE(VLOOKUP(競技者一覧!S42,種目コード一覧!$A$1:$C$51,2,FALSE),\" \",REPT(\"0\",VLOOKUP(競技者一覧!S42,種目コード一覧!$A$1:$C$51,3,FALSE)-LEN(競技者一覧!T42)),競技者一覧!T42),\"\")","v":""},{"$f":"IFERROR(CONCATENATE(VLOOKUP(競技者一覧!U42,種目コード一覧!$A$1:$C$51,2,FALSE),\" \",REPT(\"0\",VLOOKUP(競技者一覧!U42,種目コード一覧!$A$1:$C$51,3,FALSE)-LEN(競技者一覧!V42)),競技者一覧!V42),\"\")","v":""},{"$f":"IFERROR(CONCATENATE(VLOOKUP(競技者一覧!W42,種目コード一覧!$A$1:$C$51,2,FALSE),\" \",REPT(\"0\",VLOOKUP(競技者一覧!W42,種目コード一覧!$A$1:$C$51,3,FALSE)-LEN(競技者一覧!X42)),競技者一覧!X42),\"\")","v":""},{"$f":"IFERROR(CONCATENATE(VLOOKUP(競技者一覧!Y42,種目コード一覧!$A$1:$C$51,2,FALSE),\" \",REPT(\"0\",VLOOKUP(競技者一覧!Y42,種目コード一覧!$A$1:$C$51,3,FALSE)-LEN(競技者一覧!Z42)),競技者一覧!Z42),\"\")","v":""}]
[{"$f":"IFERROR(CONCATENATE(競技者一覧!$D$7), \"\")","v":""},{"$f":"IFERROR(CONCATENATE($H$2,Sheet4!B23),\"\")","v":"022"},{"$f":"競技者一覧!C43&IF(OR(競技者一覧!H43=\"\",競技者一覧!H43=9),\"\",\"(\" & 競技者一覧!H43 & \")\")","v":""},{"$f":"競技者一覧!D43 &IF(OR(MID(競技者一覧!G43,3,2)=\"\", MID(競技者一覧!G43,3,2)=\"0\"),\"\",\"(\" & MID(競技者一覧!G43,3,2) & \")\")","v":""},{"$f":"ASC(競技者一覧!E43 & \" \" & 競技者一覧!F43 & IF(OR(MID(競技者一覧!G43,3,2)=\"\", MID(競技者一覧!G43,3,2)=\"0\"),\"\",\"(\" & MID(競技者一覧!G43,3,2) & \")\"))","v":" "},{"$f":"CONCATENATE(競技者一覧!I43)","v":""},{"$f":"IFERROR(IF(競技者一覧!$D$6=\"学連\",VLOOKUP(競技者一覧!J43,Sheet4!$D$2:$E$48,2,FALSE),学校名簿!D23),\"\")","v":""},{"$f":"IFERROR(VLOOKUP(競技者一覧!$D$7,学校番号表!$B$2:$C$65536,2,FALSE),\"\")","v":""},{"$f":"CONCATENATE(競技者一覧!B43)","v":""},{"$f":"IFERROR(CONCATENATE(VLOOKUP(競技者一覧!K43,種目コード一覧!$A$1:$C$51,2,FALSE),\" \",REPT(\"0\",VLOOKUP(競技者一覧!K43,種目コード一覧!$A$1:$C$51,3,FALSE)-LEN(競技者一覧!L43)),競技者一覧!L43),\"\")","v":""},{"$f":"IFERROR(CONCATENATE(VLOOKUP(競技者一覧!M43,種目コード一覧!$A$1:$C$51,2,FALSE),\" \",REPT(\"0\",VLOOKUP(競技者一覧!M43,種目コード一覧!$A$1:$C$51,3,FALSE)-LEN(競技者一覧!N43)),競技者一覧!N43),\"\")","v":""},{"$f":"IFERROR(CONCATENATE(VLOOKUP(競技者一覧!O43,種目コード一覧!$A$1:$C$51,2,FALSE),\" \",REPT(\"0\",VLOOKUP(競技者一覧!O43,種目コード一覧!$A$1:$C$51,3,FALSE)-LEN(競技者一覧!P43)),競技者一覧!P43),\"\")","v":""},{"$f":"IFERROR(CONCATENATE(VLOOKUP(競技者一覧!Q43,種目コード一覧!$A$1:$C$51,2,FALSE),\" \",REPT(\"0\",VLOOKUP(競技者一覧!Q43,種目コード一覧!$A$1:$C$51,3,FALSE)-LEN(競技者一覧!R43)),競技者一覧!R43),\"\")","v":""},{"$f":"IFERROR(CONCATENATE(VLOOKUP(競技者一覧!S43,種目コード一覧!$A$1:$C$51,2,FALSE),\" \",REPT(\"0\",VLOOKUP(競技者一覧!S43,種目コード一覧!$A$1:$C$51,3,FALSE)-LEN(競技者一覧!T43)),競技者一覧!T43),\"\")","v":""},{"$f":"IFERROR(CONCATENATE(VLOOKUP(競技者一覧!U43,種目コード一覧!$A$1:$C$51,2,FALSE),\" \",REPT(\"0\",VLOOKUP(競技者一覧!U43,種目コード一覧!$A$1:$C$51,3,FALSE)-LEN(競技者一覧!V43)),競技者一覧!V43),\"\")","v":""},{"$f":"IFERROR(CONCATENATE(VLOOKUP(競技者一覧!W43,種目コード一覧!$A$1:$C$51,2,FALSE),\" \",REPT(\"0\",VLOOKUP(競技者一覧!W43,種目コード一覧!$A$1:$C$51,3,FALSE)-LEN(競技者一覧!X43)),競技者一覧!X43),\"\")","v":""},{"$f":"IFERROR(CONCATENATE(VLOOKUP(競技者一覧!Y43,種目コード一覧!$A$1:$C$51,2,FALSE),\" \",REPT(\"0\",VLOOKUP(競技者一覧!Y43,種目コード一覧!$A$1:$C$51,3,FALSE)-LEN(競技者一覧!Z43)),競技者一覧!Z43),\"\")","v":""}]
[{"$f":"IFERROR(CONCATENATE(競技者一覧!$D$7), \"\")","v":""},{"$f":"IFERROR(CONCATENATE($H$2,Sheet4!B24),\"\")","v":"023"},{"$f":"競技者一覧!C44&IF(OR(競技者一覧!H44=\"\",競技者一覧!H44=9),\"\",\"(\" & 競技者一覧!H44 & \")\")","v":""},{"$f":"ASC(競技者一覧!D44 &IF(OR(MID(競技者一覧!G44,3,2)=\"\", MID(競技者一覧!G44,3,2)=\"0\"),\"\",\"(\" & MID(競技者一覧!G44,3,2) & \")\"))","v":""},{"$f":"ASC(競技者一覧!E44 & \" \" & 競技者一覧!F44 & IF(OR(MID(競技者一覧!G44,3,2)=\"\", MID(競技者一覧!G44,3,2)=\"0\"),\"\",\"(\" & MID(競技者一覧!G44,3,2) & \")\"))","v":" "},{"$f":"CONCATENATE(競技者一覧!I44)","v":""},{"$f":"IFERROR(IF(競技者一覧!$D$6=\"学連\",VLOOKUP(競技者一覧!J44,Sheet4!$D$2:$E$48,2,FALSE),学校名簿!D24),\"\")","v":""},{"$f":"IFERROR(VLOOKUP(競技者一覧!$D$7,学校番号表!$B$2:$C$65536,2,FALSE),\"\")","v":""},{"$f":"CONCATENATE(競技者一覧!B44)","v":""},{"$f":"IFERROR(CONCATENATE(VLOOKUP(競技者一覧!K44,種目コード一覧!$A$1:$B$51,2,FALSE),\" \",REPT(\"0\",VLOOKUP(競技者一覧!K44,種目コード一覧!$A$1:$C$51,3,FALSE)-LEN(競技者一覧!L44)),競技者一覧!L44),\"\")","v":""},{"$f":"IFERROR(CONCATENATE(VLOOKUP(競技者一覧!M44,種目コード一覧!$A$1:$C$51,2,FALSE),\" \",REPT(\"0\",VLOOKUP(競技者一覧!M44,種目コード一覧!$A$1:$C$51,3,FALSE)-LEN(競技者一覧!N44)),競技者一覧!N44),\"\")","v":""},{"$f":"IFERROR(CONCATENATE(VLOOKUP(競技者一覧!O44,種目コード一覧!$A$1:$C$51,2,FALSE),\" \",REPT(\"0\",VLOOKUP(競技者一覧!O44,種目コード一覧!$A$1:$C$51,3,FALSE)-LEN(競技者一覧!P44)),競技者一覧!P44),\"\")","v":""},{"$f":"IFERROR(CONCATENATE(VLOOKUP(競技者一覧!Q44,種目コード一覧!$A$1:$C$51,2,FALSE),\" \",REPT(\"0\",VLOOKUP(競技者一覧!Q44,種目コード一覧!$A$1:$C$51,3,FALSE)-LEN(競技者一覧!R44)),競技者一覧!R44),\"\")","v":""},{"$f":"IFERROR(CONCATENATE(VLOOKUP(競技者一覧!S44,種目コード一覧!$A$1:$C$51,2,FALSE),\" \",REPT(\"0\",VLOOKUP(競技者一覧!S44,種目コード一覧!$A$1:$C$51,3,FALSE)-LEN(競技者一覧!T44)),競技者一覧!T44),\"\")","v":""},{"$f":"IFERROR(CONCATENATE(VLOOKUP(競技者一覧!U44,種目コード一覧!$A$1:$C$51,2,FALSE),\" \",REPT(\"0\",VLOOKUP(競技者一覧!U44,種目コード一覧!$A$1:$C$51,3,FALSE)-LEN(競技者一覧!V44)),競技者一覧!V44),\"\")","v":""},{"$f":"IFERROR(CONCATENATE(VLOOKUP(競技者一覧!W44,種目コード一覧!$A$1:$C$51,2,FALSE),\" \",REPT(\"0\",VLOOKUP(競技者一覧!W44,種目コード一覧!$A$1:$C$51,3,FALSE)-LEN(競技者一覧!X44)),競技者一覧!X44),\"\")","v":""},{"$f":"IFERROR(CONCATENATE(VLOOKUP(競技者一覧!Y44,種目コード一覧!$A$1:$C$51,2,FALSE),\" \",REPT(\"0\",VLOOKUP(競技者一覧!Y44,種目コード一覧!$A$1:$C$51,3,FALSE)-LEN(競技者一覧!Z44)),競技者一覧!Z44),\"\")","v":""}]
[{"$f":"IFERROR(CONCATENATE(競技者一覧!$D$7), \"\")","v":""},{"$f":"IFERROR(CONCATENATE($H$2,Sheet4!B25),\"\")","v":"024"},{"$f":"競技者一覧!C45&IF(OR(競技者一覧!H45=\"\",競技者一覧!H45=9),\"\",\"(\" & 競技者一覧!H45 & \")\")","v":""},{"$f":"競技者一覧!D45 &IF(OR(MID(競技者一覧!G45,3,2)=\"\", MID(競技者一覧!G45,3,2)=\"0\"),\"\",\"(\" & MID(競技者一覧!G45,3,2) & \")\")","v":""},{"$f":"ASC(競技者一覧!E45 & \" \" & 競技者一覧!F45 & IF(OR(MID(競技者一覧!G45,3,2)=\"\", MID(競技者一覧!G45,3,2)=\"0\"),\"\",\"(\" & MID(競技者一覧!G45,3,2) & \")\"))","v":" "},{"$f":"CONCATENATE(競技者一覧!I45)","v":""},{"$f":"IFERROR(IF(競技者一覧!$D$6=\"学連\",VLOOKUP(競技者一覧!J45,Sheet4!$D$2:$E$48,2,FALSE),学校名簿!D25),\"\")","v":""},{"$f":"IFERROR(VLOOKUP(競技者一覧!$D$7,学校番号表!$B$2:$C$65536,2,FALSE),\"\")","v":""},{"$f":"CONCATENATE(競技者一覧!B45)","v":""},{"$f":"IFERROR(CONCATENATE(VLOOKUP(競技者一覧!K45,種目コード一覧!$A$1:$C$51,2,FALSE),\" \",REPT(\"0\",VLOOKUP(競技者一覧!K45,種目コード一覧!$A$1:$C$51,3,FALSE)-LEN(競技者一覧!L45)),競技者一覧!L45),\"\")","v":""},{"$f":"IFERROR(CONCATENATE(VLOOKUP(競技者一覧!M45,種目コード一覧!$A$1:$C$51,2,FALSE),\" \",REPT(\"0\",VLOOKUP(競技者一覧!M45,種目コード一覧!$A$1:$C$51,3,FALSE)-LEN(競技者一覧!N45)),競技者一覧!N45),\"\")","v":""},{"$f":"IFERROR(CONCATENATE(VLOOKUP(競技者一覧!O45,種目コード一覧!$A$1:$C$51,2,FALSE),\" \",REPT(\"0\",VLOOKUP(競技者一覧!O45,種目コード一覧!$A$1:$C$51,3,FALSE)-LEN(競技者一覧!P45)),競技者一覧!P45),\"\")","v":""},{"$f":"IFERROR(CONCATENATE(VLOOKUP(競技者一覧!Q45,種目コード一覧!$A$1:$C$51,2,FALSE),\" \",REPT(\"0\",VLOOKUP(競技者一覧!Q45,種目コード一覧!$A$1:$C$51,3,FALSE)-LEN(競技者一覧!R45)),競技者一覧!R45),\"\")","v":""},{"$f":"IFERROR(CONCATENATE(VLOOKUP(競技者一覧!S45,種目コード一覧!$A$1:$C$51,2,FALSE),\" \",REPT(\"0\",VLOOKUP(競技者一覧!S45,種目コード一覧!$A$1:$C$51,3,FALSE)-LEN(競技者一覧!T45)),競技者一覧!T45),\"\")","v":""},{"$f":"IFERROR(CONCATENATE(VLOOKUP(競技者一覧!U45,種目コード一覧!$A$1:$C$51,2,FALSE),\" \",REPT(\"0\",VLOOKUP(競技者一覧!U45,種目コード一覧!$A$1:$C$51,3,FALSE)-LEN(競技者一覧!V45)),競技者一覧!V45),\"\")","v":""},{"$f":"IFERROR(CONCATENATE(VLOOKUP(競技者一覧!W45,種目コード一覧!$A$1:$C$51,2,FALSE),\" \",REPT(\"0\",VLOOKUP(競技者一覧!W45,種目コード一覧!$A$1:$C$51,3,FALSE)-LEN(競技者一覧!X45)),競技者一覧!X45),\"\")","v":""},{"$f":"IFERROR(CONCATENATE(VLOOKUP(競技者一覧!Y45,種目コード一覧!$A$1:$C$51,2,FALSE),\" \",REPT(\"0\",VLOOKUP(競技者一覧!Y45,種目コード一覧!$A$1:$C$51,3,FALSE)-LEN(競技者一覧!Z45)),競技者一覧!Z45),\"\")","v":""}]
[{"$f":"IFERROR(CONCATENATE(競技者一覧!$D$7), \"\")","v":""},{"$f":"IFERROR(CONCATENATE($H$2,Sheet4!B26),\"\")","v":"025"},{"$f":"競技者一覧!C46&IF(OR(競技者一覧!H46=\"\",競技者一覧!H46=9),\"\",\"(\" & 競技者一覧!H46 & \")\")","v":""},{"$f":"ASC(競技者一覧!D46 &IF(OR(MID(競技者一覧!G46,3,2)=\"\", MID(競技者一覧!G46,3,2)=\"0\"),\"\",\"(\" & MID(競技者一覧!G46,3,2) & \")\"))","v":""},{"$f":"ASC(競技者一覧!E46 & \" \" & 競技者一覧!F46 & IF(OR(MID(競技者一覧!G46,3,2)=\"\", MID(競技者一覧!G46,3,2)=\"0\"),\"\",\"(\" & MID(競技者一覧!G46,3,2) & \")\"))","v":" "},{"$f":"CONCATENATE(競技者一覧!I46)","v":""},{"$f":"IFERROR(IF(競技者一覧!$D$6=\"学連\",VLOOKUP(競技者一覧!J46,Sheet4!$D$2:$E$48,2,FALSE),学校名簿!D26),\"\")","v":""},{"$f":"IFERROR(VLOOKUP(競技者一覧!$D$7,学校番号表!$B$2:$C$65536,2,FALSE),\"\")","v":""},{"$f":"CONCATENATE(競技者一覧!B46)","v":""},{"$f":"IFERROR(CONCATENATE(VLOOKUP(競技者一覧!K46,種目コード一覧!$A$1:$B$51,2,FALSE),\" \",REPT(\"0\",VLOOKUP(競技者一覧!K46,種目コード一覧!$A$1:$C$51,3,FALSE)-LEN(競技者一覧!L46)),競技者一覧!L46),\"\")","v":""},{"$f":"IFERROR(CONCATENATE(VLOOKUP(競技者一覧!M46,種目コード一覧!$A$1:$C$51,2,FALSE),\" \",REPT(\"0\",VLOOKUP(競技者一覧!M46,種目コード一覧!$A$1:$C$51,3,FALSE)-LEN(競技者一覧!N46)),競技者一覧!N46),\"\")","v":""},{"$f":"IFERROR(CONCATENATE(VLOOKUP(競技者一覧!O46,種目コード一覧!$A$1:$C$51,2,FALSE),\" \",REPT(\"0\",VLOOKUP(競技者一覧!O46,種目コード一覧!$A$1:$C$51,3,FALSE)-LEN(競技者一覧!P46)),競技者一覧!P46),\"\")","v":""},{"$f":"IFERROR(CONCATENATE(VLOOKUP(競技者一覧!Q46,種目コード一覧!$A$1:$C$51,2,FALSE),\" \",REPT(\"0\",VLOOKUP(競技者一覧!Q46,種目コード一覧!$A$1:$C$51,3,FALSE)-LEN(競技者一覧!R46)),競技者一覧!R46),\"\")","v":""},{"$f":"IFERROR(CONCATENATE(VLOOKUP(競技者一覧!S46,種目コード一覧!$A$1:$C$51,2,FALSE),\" \",REPT(\"0\",VLOOKUP(競技者一覧!S46,種目コード一覧!$A$1:$C$51,3,FALSE)-LEN(競技者一覧!T46)),競技者一覧!T46),\"\")","v":""},{"$f":"IFERROR(CONCATENATE(VLOOKUP(競技者一覧!U46,種目コード一覧!$A$1:$C$51,2,FALSE),\" \",REPT(\"0\",VLOOKUP(競技者一覧!U46,種目コード一覧!$A$1:$C$51,3,FALSE)-LEN(競技者一覧!V46)),競技者一覧!V46),\"\")","v":""},{"$f":"IFERROR(CONCATENATE(VLOOKUP(競技者一覧!W46,種目コード一覧!$A$1:$C$51,2,FALSE),\" \",REPT(\"0\",VLOOKUP(競技者一覧!W46,種目コード一覧!$A$1:$C$51,3,FALSE)-LEN(競技者一覧!X46)),競技者一覧!X46),\"\")","v":""},{"$f":"IFERROR(CONCATENATE(VLOOKUP(競技者一覧!Y46,種目コード一覧!$A$1:$C$51,2,FALSE),\" \",REPT(\"0\",VLOOKUP(競技者一覧!Y46,種目コード一覧!$A$1:$C$51,3,FALSE)-LEN(競技者一覧!Z46)),競技者一覧!Z46),\"\")","v":""}]
[{"$f":"IFERROR(CONCATENATE(競技者一覧!$D$7), \"\")","v":""},{"$f":"IFERROR(CONCATENATE($H$2,Sheet4!B27),\"\")","v":"026"},{"$f":"競技者一覧!C47&IF(OR(競技者一覧!H47=\"\",競技者一覧!H47=9),\"\",\"(\" & 競技者一覧!H47 & \")\")","v":""},{"$f":"競技者一覧!D47 &IF(OR(MID(競技者一覧!G47,3,2)=\"\", MID(競技者一覧!G47,3,2)=\"0\"),\"\",\"(\" & MID(競技者一覧!G47,3,2) & \")\")","v":""},{"$f":"ASC(競技者一覧!E47 & \" \" & 競技者一覧!F47 & IF(OR(MID(競技者一覧!G47,3,2)=\"\", MID(競技者一覧!G47,3,2)=\"0\"),\"\",\"(\" & MID(競技者一覧!G47,3,2) & \")\"))","v":" "},{"$f":"CONCATENATE(競技者一覧!I47)","v":""},{"$f":"IFERROR(IF(競技者一覧!$D$6=\"学連\",VLOOKUP(競技者一覧!J47,Sheet4!$D$2:$E$48,2,FALSE),学校名簿!D27),\"\")","v":""},{"$f":"IFERROR(VLOOKUP(競技者一覧!$D$7,学校番号表!$B$2:$C$65536,2,FALSE),\"\")","v":""},{"$f":"CONCATENATE(競技者一覧!B47)","v":""},{"$f":"IFERROR(CONCATENATE(VLOOKUP(競技者一覧!K47,種目コード一覧!$A$1:$C$51,2,FALSE),\" \",REPT(\"0\",VLOOKUP(競技者一覧!K47,種目コード一覧!$A$1:$C$51,3,FALSE)-LEN(競技者一覧!L47)),競技者一覧!L47),\"\")","v":""},{"$f":"IFERROR(CONCATENATE(VLOOKUP(競技者一覧!M47,種目コード一覧!$A$1:$C$51,2,FALSE),\" \",REPT(\"0\",VLOOKUP(競技者一覧!M47,種目コード一覧!$A$1:$C$51,3,FALSE)-LEN(競技者一覧!N47)),競技者一覧!N47),\"\")","v":""},{"$f":"IFERROR(CONCATENATE(VLOOKUP(競技者一覧!O47,種目コード一覧!$A$1:$C$51,2,FALSE),\" \",REPT(\"0\",VLOOKUP(競技者一覧!O47,種目コード一覧!$A$1:$C$51,3,FALSE)-LEN(競技者一覧!P47)),競技者一覧!P47),\"\")","v":""},{"$f":"IFERROR(CONCATENATE(VLOOKUP(競技者一覧!Q47,種目コード一覧!$A$1:$C$51,2,FALSE),\" \",REPT(\"0\",VLOOKUP(競技者一覧!Q47,種目コード一覧!$A$1:$C$51,3,FALSE)-LEN(競技者一覧!R47)),競技者一覧!R47),\"\")","v":""},{"$f":"IFERROR(CONCATENATE(VLOOKUP(競技者一覧!S47,種目コード一覧!$A$1:$C$51,2,FALSE),\" \",REPT(\"0\",VLOOKUP(競技者一覧!S47,種目コード一覧!$A$1:$C$51,3,FALSE)-LEN(競技者一覧!T47)),競技者一覧!T47),\"\")","v":""},{"$f":"IFERROR(CONCATENATE(VLOOKUP(競技者一覧!U47,種目コード一覧!$A$1:$C$51,2,FALSE),\" \",REPT(\"0\",VLOOKUP(競技者一覧!U47,種目コード一覧!$A$1:$C$51,3,FALSE)-LEN(競技者一覧!V47)),競技者一覧!V47),\"\")","v":""},{"$f":"IFERROR(CONCATENATE(VLOOKUP(競技者一覧!W47,種目コード一覧!$A$1:$C$51,2,FALSE),\" \",REPT(\"0\",VLOOKUP(競技者一覧!W47,種目コード一覧!$A$1:$C$51,3,FALSE)-LEN(競技者一覧!X47)),競技者一覧!X47),\"\")","v":""},{"$f":"IFERROR(CONCATENATE(VLOOKUP(競技者一覧!Y47,種目コード一覧!$A$1:$C$51,2,FALSE),\" \",REPT(\"0\",VLOOKUP(競技者一覧!Y47,種目コード一覧!$A$1:$C$51,3,FALSE)-LEN(競技者一覧!Z47)),競技者一覧!Z47),\"\")","v":""}]
[{"$f":"IFERROR(CONCATENATE(競技者一覧!$D$7), \"\")","v":""},{"$f":"IFERROR(CONCATENATE($H$2,Sheet4!B28),\"\")","v":"027"},{"$f":"競技者一覧!C48&IF(OR(競技者一覧!H48=\"\",競技者一覧!H48=9),\"\",\"(\" & 競技者一覧!H48 & \")\")","v":""},{"$f":"ASC(競技者一覧!D48 &IF(OR(MID(競技者一覧!G48,3,2)=\"\", MID(競技者一覧!G48,3,2)=\"0\"),\"\",\"(\" & MID(競技者一覧!G48,3,2) & \")\"))","v":""},{"$f":"ASC(競技者一覧!E48 & \" \" & 競技者一覧!F48 & IF(OR(MID(競技者一覧!G48,3,2)=\"\", MID(競技者一覧!G48,3,2)=\"0\"),\"\",\"(\" & MID(競技者一覧!G48,3,2) & \")\"))","v":" "},{"$f":"CONCATENATE(競技者一覧!I48)","v":""},{"$f":"IFERROR(IF(競技者一覧!$D$6=\"学連\",VLOOKUP(競技者一覧!J48,Sheet4!$D$2:$E$48,2,FALSE),学校名簿!D28),\"\")","v":""},{"$f":"IFERROR(VLOOKUP(競技者一覧!$D$7,学校番号表!$B$2:$C$65536,2,FALSE),\"\")","v":""},{"$f":"CONCATENATE(競技者一覧!B48)","v":""},{"$f":"IFERROR(CONCATENATE(VLOOKUP(競技者一覧!K48,種目コード一覧!$A$1:$B$51,2,FALSE),\" \",REPT(\"0\",VLOOKUP(競技者一覧!K48,種目コード一覧!$A$1:$C$51,3,FALSE)-LEN(競技者一覧!L48)),競技者一覧!L48),\"\")","v":""},{"$f":"IFERROR(CONCATENATE(VLOOKUP(競技者一覧!M48,種目コード一覧!$A$1:$C$51,2,FALSE),\" \",REPT(\"0\",VLOOKUP(競技者一覧!M48,種目コード一覧!$A$1:$C$51,3,FALSE)-LEN(競技者一覧!N48)),競技者一覧!N48),\"\")","v":""},{"$f":"IFERROR(CONCATENATE(VLOOKUP(競技者一覧!O48,種目コード一覧!$A$1:$C$51,2,FALSE),\" \",REPT(\"0\",VLOOKUP(競技者一覧!O48,種目コード一覧!$A$1:$C$51,3,FALSE)-LEN(競技者一覧!P48)),競技者一覧!P48),\"\")","v":""},{"$f":"IFERROR(CONCATENATE(VLOOKUP(競技者一覧!Q48,種目コード一覧!$A$1:$C$51,2,FALSE),\" \",REPT(\"0\",VLOOKUP(競技者一覧!Q48,種目コード一覧!$A$1:$C$51,3,FALSE)-LEN(競技者一覧!R48)),競技者一覧!R48),\"\")","v":""},{"$f":"IFERROR(CONCATENATE(VLOOKUP(競技者一覧!S48,種目コード一覧!$A$1:$C$51,2,FALSE),\" \",REPT(\"0\",VLOOKUP(競技者一覧!S48,種目コード一覧!$A$1:$C$51,3,FALSE)-LEN(競技者一覧!T48)),競技者一覧!T48),\"\")","v":""},{"$f":"IFERROR(CONCATENATE(VLOOKUP(競技者一覧!U48,種目コード一覧!$A$1:$C$51,2,FALSE),\" \",REPT(\"0\",VLOOKUP(競技者一覧!U48,種目コード一覧!$A$1:$C$51,3,FALSE)-LEN(競技者一覧!V48)),競技者一覧!V48),\"\")","v":""},{"$f":"IFERROR(CONCATENATE(VLOOKUP(競技者一覧!W48,種目コード一覧!$A$1:$C$51,2,FALSE),\" \",REPT(\"0\",VLOOKUP(競技者一覧!W48,種目コード一覧!$A$1:$C$51,3,FALSE)-LEN(競技者一覧!X48)),競技者一覧!X48),\"\")","v":""},{"$f":"IFERROR(CONCATENATE(VLOOKUP(競技者一覧!Y48,種目コード一覧!$A$1:$C$51,2,FALSE),\" \",REPT(\"0\",VLOOKUP(競技者一覧!Y48,種目コード一覧!$A$1:$C$51,3,FALSE)-LEN(競技者一覧!Z48)),競技者一覧!Z48),\"\")","v":""}]
[{"$f":"IFERROR(CONCATENATE(競技者一覧!$D$7), \"\")","v":""},{"$f":"IFERROR(CONCATENATE($H$2,Sheet4!B29),\"\")","v":"028"},{"$f":"競技者一覧!C49&IF(OR(競技者一覧!H49=\"\",競技者一覧!H49=9),\"\",\"(\" & 競技者一覧!H49 & \")\")","v":""},{"$f":"競技者一覧!D49 &IF(OR(MID(競技者一覧!G49,3,2)=\"\", MID(競技者一覧!G49,3,2)=\"0\"),\"\",\"(\" & MID(競技者一覧!G49,3,2) & \")\")","v":""},{"$f":"ASC(競技者一覧!E49 & \" \" & 競技者一覧!F49 & IF(OR(MID(競技者一覧!G49,3,2)=\"\", MID(競技者一覧!G49,3,2)=\"0\"),\"\",\"(\" & MID(競技者一覧!G49,3,2) & \")\"))","v":" "},{"$f":"CONCATENATE(競技者一覧!I49)","v":""},{"$f":"IFERROR(IF(競技者一覧!$D$6=\"学連\",VLOOKUP(競技者一覧!J49,Sheet4!$D$2:$E$48,2,FALSE),学校名簿!D29),\"\")","v":""},{"$f":"IFERROR(VLOOKUP(競技者一覧!$D$7,学校番号表!$B$2:$C$65536,2,FALSE),\"\")","v":""},{"$f":"CONCATENATE(競技者一覧!B49)","v":""},{"$f":"IFERROR(CONCATENATE(VLOOKUP(競技者一覧!K49,種目コード一覧!$A$1:$C$51,2,FALSE),\" \",REPT(\"0\",VLOOKUP(競技者一覧!K49,種目コード一覧!$A$1:$C$51,3,FALSE)-LEN(競技者一覧!L49)),競技者一覧!L49),\"\")","v":""},{"$f":"IFERROR(CONCATENATE(VLOOKUP(競技者一覧!M49,種目コード一覧!$A$1:$C$51,2,FALSE),\" \",REPT(\"0\",VLOOKUP(競技者一覧!M49,種目コード一覧!$A$1:$C$51,3,FALSE)-LEN(競技者一覧!N49)),競技者一覧!N49),\"\")","v":""},{"$f":"IFERROR(CONCATENATE(VLOOKUP(競技者一覧!O49,種目コード一覧!$A$1:$C$51,2,FALSE),\" \",REPT(\"0\",VLOOKUP(競技者一覧!O49,種目コード一覧!$A$1:$C$51,3,FALSE)-LEN(競技者一覧!P49)),競技者一覧!P49),\"\")","v":""},{"$f":"IFERROR(CONCATENATE(VLOOKUP(競技者一覧!Q49,種目コード一覧!$A$1:$C$51,2,FALSE),\" \",REPT(\"0\",VLOOKUP(競技者一覧!Q49,種目コード一覧!$A$1:$C$51,3,FALSE)-LEN(競技者一覧!R49)),競技者一覧!R49),\"\")","v":""},{"$f":"IFERROR(CONCATENATE(VLOOKUP(競技者一覧!S49,種目コード一覧!$A$1:$C$51,2,FALSE),\" \",REPT(\"0\",VLOOKUP(競技者一覧!S49,種目コード一覧!$A$1:$C$51,3,FALSE)-LEN(競技者一覧!T49)),競技者一覧!T49),\"\")","v":""},{"$f":"IFERROR(CONCATENATE(VLOOKUP(競技者一覧!U49,種目コード一覧!$A$1:$C$51,2,FALSE),\" \",REPT(\"0\",VLOOKUP(競技者一覧!U49,種目コード一覧!$A$1:$C$51,3,FALSE)-LEN(競技者一覧!V49)),競技者一覧!V49),\"\")","v":""},{"$f":"IFERROR(CONCATENATE(VLOOKUP(競技者一覧!W49,種目コード一覧!$A$1:$C$51,2,FALSE),\" \",REPT(\"0\",VLOOKUP(競技者一覧!W49,種目コード一覧!$A$1:$C$51,3,FALSE)-LEN(競技者一覧!X49)),競技者一覧!X49),\"\")","v":""},{"$f":"IFERROR(CONCATENATE(VLOOKUP(競技者一覧!Y49,種目コード一覧!$A$1:$C$51,2,FALSE),\" \",REPT(\"0\",VLOOKUP(競技者一覧!Y49,種目コード一覧!$A$1:$C$51,3,FALSE)-LEN(競技者一覧!Z49)),競技者一覧!Z49),\"\")","v":""}]
[{"$f":"IFERROR(CONCATENATE(競技者一覧!$D$7), \"\")","v":""},{"$f":"IFERROR(CONCATENATE($H$2,Sheet4!B30),\"\")","v":"029"},{"$f":"競技者一覧!C50&IF(OR(競技者一覧!H50=\"\",競技者一覧!H50=9),\"\",\"(\" & 競技者一覧!H50 & \")\")","v":""},{"$f":"ASC(競技者一覧!D50 &IF(OR(MID(競技者一覧!G50,3,2)=\"\", MID(競技者一覧!G50,3,2)=\"0\"),\"\",\"(\" & MID(競技者一覧!G50,3,2) & \")\"))","v":""},{"$f":"ASC(競技者一覧!E50 & \" \" & 競技者一覧!F50 & IF(OR(MID(競技者一覧!G50,3,2)=\"\", MID(競技者一覧!G50,3,2)=\"0\"),\"\",\"(\" & MID(競技者一覧!G50,3,2) & \")\"))","v":" "},{"$f":"CONCATENATE(競技者一覧!I50)","v":""},{"$f":"IFERROR(IF(競技者一覧!$D$6=\"学連\",VLOOKUP(競技者一覧!J50,Sheet4!$D$2:$E$48,2,FALSE),学校名簿!D30),\"\")","v":""},{"$f":"IFERROR(VLOOKUP(競技者一覧!$D$7,学校番号表!$B$2:$C$65536,2,FALSE),\"\")","v":""},{"$f":"CONCATENATE(競技者一覧!B50)","v":""},{"$f":"IFERROR(CONCATENATE(VLOOKUP(競技者一覧!K50,種目コード一覧!$A$1:$B$51,2,FALSE),\" \",REPT(\"0\",VLOOKUP(競技者一覧!K50,種目コード一覧!$A$1:$C$51,3,FALSE)-LEN(競技者一覧!L50)),競技者一覧!L50),\"\")","v":""},{"$f":"IFERROR(CONCATENATE(VLOOKUP(競技者一覧!M50,種目コード一覧!$A$1:$C$51,2,FALSE),\" \",REPT(\"0\",VLOOKUP(競技者一覧!M50,種目コード一覧!$A$1:$C$51,3,FALSE)-LEN(競技者一覧!N50)),競技者一覧!N50),\"\")","v":""},{"$f":"IFERROR(CONCATENATE(VLOOKUP(競技者一覧!O50,種目コード一覧!$A$1:$C$51,2,FALSE),\" \",REPT(\"0\",VLOOKUP(競技者一覧!O50,種目コード一覧!$A$1:$C$51,3,FALSE)-LEN(競技者一覧!P50)),競技者一覧!P50),\"\")","v":""},{"$f":"IFERROR(CONCATENATE(VLOOKUP(競技者一覧!Q50,種目コード一覧!$A$1:$C$51,2,FALSE),\" \",REPT(\"0\",VLOOKUP(競技者一覧!Q50,種目コード一覧!$A$1:$C$51,3,FALSE)-LEN(競技者一覧!R50)),競技者一覧!R50),\"\")","v":""},{"$f":"IFERROR(CONCATENATE(VLOOKUP(競技者一覧!S50,種目コード一覧!$A$1:$C$51,2,FALSE),\" \",REPT(\"0\",VLOOKUP(競技者一覧!S50,種目コード一覧!$A$1:$C$51,3,FALSE)-LEN(競技者一覧!T50)),競技者一覧!T50),\"\")","v":""},{"$f":"IFERROR(CONCATENATE(VLOOKUP(競技者一覧!U50,種目コード一覧!$A$1:$C$51,2,FALSE),\" \",REPT(\"0\",VLOOKUP(競技者一覧!U50,種目コード一覧!$A$1:$C$51,3,FALSE)-LEN(競技者一覧!V50)),競技者一覧!V50),\"\")","v":""},{"$f":"IFERROR(CONCATENATE(VLOOKUP(競技者一覧!W50,種目コード一覧!$A$1:$C$51,2,FALSE),\" \",REPT(\"0\",VLOOKUP(競技者一覧!W50,種目コード一覧!$A$1:$C$51,3,FALSE)-LEN(競技者一覧!X50)),競技者一覧!X50),\"\")","v":""},{"$f":"IFERROR(CONCATENATE(VLOOKUP(競技者一覧!Y50,種目コード一覧!$A$1:$C$51,2,FALSE),\" \",REPT(\"0\",VLOOKUP(競技者一覧!Y50,種目コード一覧!$A$1:$C$51,3,FALSE)-LEN(競技者一覧!Z50)),競技者一覧!Z50),\"\")","v":""}]
[{"$f":"IFERROR(CONCATENATE(競技者一覧!$D$7), \"\")","v":""},{"$f":"IFERROR(CONCATENATE($H$2,Sheet4!B31),\"\")","v":"030"},{"$f":"競技者一覧!C51&IF(OR(競技者一覧!H51=\"\",競技者一覧!H51=9),\"\",\"(\" & 競技者一覧!H51 & \")\")","v":""},{"$f":"競技者一覧!D51 &IF(OR(MID(競技者一覧!G51,3,2)=\"\", MID(競技者一覧!G51,3,2)=\"0\"),\"\",\"(\" & MID(競技者一覧!G51,3,2) & \")\")","v":""},{"$f":"ASC(競技者一覧!E51 & \" \" & 競技者一覧!F51 & IF(OR(MID(競技者一覧!G51,3,2)=\"\", MID(競技者一覧!G51,3,2)=\"0\"),\"\",\"(\" & MID(競技者一覧!G51,3,2) & \")\"))","v":" "},{"$f":"CONCATENATE(競技者一覧!I51)","v":""},{"$f":"IFERROR(IF(競技者一覧!$D$6=\"学連\",VLOOKUP(競技者一覧!J51,Sheet4!$D$2:$E$48,2,FALSE),学校名簿!D31),\"\")","v":""},{"$f":"IFERROR(VLOOKUP(競技者一覧!$D$7,学校番号表!$B$2:$C$65536,2,FALSE),\"\")","v":""},{"$f":"CONCATENATE(競技者一覧!B51)","v":""},{"$f":"IFERROR(CONCATENATE(VLOOKUP(競技者一覧!K51,種目コード一覧!$A$1:$C$51,2,FALSE),\" \",REPT(\"0\",VLOOKUP(競技者一覧!K51,種目コード一覧!$A$1:$C$51,3,FALSE)-LEN(競技者一覧!L51)),競技者一覧!L51),\"\")","v":""},{"$f":"IFERROR(CONCATENATE(VLOOKUP(競技者一覧!M51,種目コード一覧!$A$1:$C$51,2,FALSE),\" \",REPT(\"0\",VLOOKUP(競技者一覧!M51,種目コード一覧!$A$1:$C$51,3,FALSE)-LEN(競技者一覧!N51)),競技者一覧!N51),\"\")","v":""},{"$f":"IFERROR(CONCATENATE(VLOOKUP(競技者一覧!O51,種目コード一覧!$A$1:$C$51,2,FALSE),\" \",REPT(\"0\",VLOOKUP(競技者一覧!O51,種目コード一覧!$A$1:$C$51,3,FALSE)-LEN(競技者一覧!P51)),競技者一覧!P51),\"\")","v":""},{"$f":"IFERROR(CONCATENATE(VLOOKUP(競技者一覧!Q51,種目コード一覧!$A$1:$C$51,2,FALSE),\" \",REPT(\"0\",VLOOKUP(競技者一覧!Q51,種目コード一覧!$A$1:$C$51,3,FALSE)-LEN(競技者一覧!R51)),競技者一覧!R51),\"\")","v":""},{"$f":"IFERROR(CONCATENATE(VLOOKUP(競技者一覧!S51,種目コード一覧!$A$1:$C$51,2,FALSE),\" \",REPT(\"0\",VLOOKUP(競技者一覧!S51,種目コード一覧!$A$1:$C$51,3,FALSE)-LEN(競技者一覧!T51)),競技者一覧!T51),\"\")","v":""},{"$f":"IFERROR(CONCATENATE(VLOOKUP(競技者一覧!U51,種目コード一覧!$A$1:$C$51,2,FALSE),\" \",REPT(\"0\",VLOOKUP(競技者一覧!U51,種目コード一覧!$A$1:$C$51,3,FALSE)-LEN(競技者一覧!V51)),競技者一覧!V51),\"\")","v":""},{"$f":"IFERROR(CONCATENATE(VLOOKUP(競技者一覧!W51,種目コード一覧!$A$1:$C$51,2,FALSE),\" \",REPT(\"0\",VLOOKUP(競技者一覧!W51,種目コード一覧!$A$1:$C$51,3,FALSE)-LEN(競技者一覧!X51)),競技者一覧!X51),\"\")","v":""},{"$f":"IFERROR(CONCATENATE(VLOOKUP(競技者一覧!Y51,種目コード一覧!$A$1:$C$51,2,FALSE),\" \",REPT(\"0\",VLOOKUP(競技者一覧!Y51,種目コード一覧!$A$1:$C$51,3,FALSE)-LEN(競技者一覧!Z51)),競技者一覧!Z51),\"\")","v":""}]
[{"$f":"IFERROR(CONCATENATE(競技者一覧!$D$7), \"\")","v":""},{"$f":"IFERROR(CONCATENATE($H$2,Sheet4!B32),\"\")","v":"031"},{"$f":"競技者一覧!C52&IF(OR(競技者一覧!H52=\"\",競技者一覧!H52=9),\"\",\"(\" & 競技者一覧!H52 & \")\")","v":""},{"$f":"ASC(競技者一覧!D52 &IF(OR(MID(競技者一覧!G52,3,2)=\"\", MID(競技者一覧!G52,3,2)=\"0\"),\"\",\"(\" & MID(競技者一覧!G52,3,2) & \")\"))","v":""},{"$f":"ASC(競技者一覧!E52 & \" \" & 競技者一覧!F52 & IF(OR(MID(競技者一覧!G52,3,2)=\"\", MID(競技者一覧!G52,3,2)=\"0\"),\"\",\"(\" & MID(競技者一覧!G52,3,2) & \")\"))","v":" "},{"$f":"CONCATENATE(競技者一覧!I52)","v":""},{"$f":"IFERROR(IF(競技者一覧!$D$6=\"学連\",VLOOKUP(競技者一覧!J52,Sheet4!$D$2:$E$48,2,FALSE),学校名簿!D32),\"\")","v":""},{"$f":"IFERROR(VLOOKUP(競技者一覧!$D$7,学校番号表!$B$2:$C$65536,2,FALSE),\"\")","v":""},{"$f":"CONCATENATE(競技者一覧!B52)","v":""},{"$f":"IFERROR(CONCATENATE(VLOOKUP(競技者一覧!K52,種目コード一覧!$A$1:$B$51,2,FALSE),\" \",REPT(\"0\",VLOOKUP(競技者一覧!K52,種目コード一覧!$A$1:$C$51,3,FALSE)-LEN(競技者一覧!L52)),競技者一覧!L52),\"\")","v":""},{"$f":"IFERROR(CONCATENATE(VLOOKUP(競技者一覧!M52,種目コード一覧!$A$1:$C$51,2,FALSE),\" \",REPT(\"0\",VLOOKUP(競技者一覧!M52,種目コード一覧!$A$1:$C$51,3,FALSE)-LEN(競技者一覧!N52)),競技者一覧!N52),\"\")","v":""},{"$f":"IFERROR(CONCATENATE(VLOOKUP(競技者一覧!O52,種目コード一覧!$A$1:$C$51,2,FALSE),\" \",REPT(\"0\",VLOOKUP(競技者一覧!O52,種目コード一覧!$A$1:$C$51,3,FALSE)-LEN(競技者一覧!P52)),競技者一覧!P52),\"\")","v":""},{"$f":"IFERROR(CONCATENATE(VLOOKUP(競技者一覧!Q52,種目コード一覧!$A$1:$C$51,2,FALSE),\" \",REPT(\"0\",VLOOKUP(競技者一覧!Q52,種目コード一覧!$A$1:$C$51,3,FALSE)-LEN(競技者一覧!R52)),競技者一覧!R52),\"\")","v":""},{"$f":"IFERROR(CONCATENATE(VLOOKUP(競技者一覧!S52,種目コード一覧!$A$1:$C$51,2,FALSE),\" \",REPT(\"0\",VLOOKUP(競技者一覧!S52,種目コード一覧!$A$1:$C$51,3,FALSE)-LEN(競技者一覧!T52)),競技者一覧!T52),\"\")","v":""},{"$f":"IFERROR(CONCATENATE(VLOOKUP(競技者一覧!U52,種目コード一覧!$A$1:$C$51,2,FALSE),\" \",REPT(\"0\",VLOOKUP(競技者一覧!U52,種目コード一覧!$A$1:$C$51,3,FALSE)-LEN(競技者一覧!V52)),競技者一覧!V52),\"\")","v":""},{"$f":"IFERROR(CONCATENATE(VLOOKUP(競技者一覧!W52,種目コード一覧!$A$1:$C$51,2,FALSE),\" \",REPT(\"0\",VLOOKUP(競技者一覧!W52,種目コード一覧!$A$1:$C$51,3,FALSE)-LEN(競技者一覧!X52)),競技者一覧!X52),\"\")","v":""},{"$f":"IFERROR(CONCATENATE(VLOOKUP(競技者一覧!Y52,種目コード一覧!$A$1:$C$51,2,FALSE),\" \",REPT(\"0\",VLOOKUP(競技者一覧!Y52,種目コード一覧!$A$1:$C$51,3,FALSE)-LEN(競技者一覧!Z52)),競技者一覧!Z52),\"\")","v":""}]
[{"$f":"IFERROR(CONCATENATE(競技者一覧!$D$7), \"\")","v":""},{"$f":"IFERROR(CONCATENATE($H$2,Sheet4!B33),\"\")","v":"032"},{"$f":"競技者一覧!C53&IF(OR(競技者一覧!H53=\"\",競技者一覧!H53=9),\"\",\"(\" & 競技者一覧!H53 & \")\")","v":""},{"$f":"競技者一覧!D53 &IF(OR(MID(競技者一覧!G53,3,2)=\"\", MID(競技者一覧!G53,3,2)=\"0\"),\"\",\"(\" & MID(競技者一覧!G53,3,2) & \")\")","v":""},{"$f":"ASC(競技者一覧!E53 & \" \" & 競技者一覧!F53 & IF(OR(MID(競技者一覧!G53,3,2)=\"\", MID(競技者一覧!G53,3,2)=\"0\"),\"\",\"(\" & MID(競技者一覧!G53,3,2) & \")\"))","v":" "},{"$f":"CONCATENATE(競技者一覧!I53)","v":""},{"$f":"IFERROR(IF(競技者一覧!$D$6=\"学連\",VLOOKUP(競技者一覧!J53,Sheet4!$D$2:$E$48,2,FALSE),学校名簿!D33),\"\")","v":""},{"$f":"IFERROR(VLOOKUP(競技者一覧!$D$7,学校番号表!$B$2:$C$65536,2,FALSE),\"\")","v":""},{"$f":"CONCATENATE(競技者一覧!B53)","v":""},{"$f":"IFERROR(CONCATENATE(VLOOKUP(競技者一覧!K53,種目コード一覧!$A$1:$C$51,2,FALSE),\" \",REPT(\"0\",VLOOKUP(競技者一覧!K53,種目コード一覧!$A$1:$C$51,3,FALSE)-LEN(競技者一覧!L53)),競技者一覧!L53),\"\")","v":""},{"$f":"IFERROR(CONCATENATE(VLOOKUP(競技者一覧!M53,種目コード一覧!$A$1:$C$51,2,FALSE),\" \",REPT(\"0\",VLOOKUP(競技者一覧!M53,種目コード一覧!$A$1:$C$51,3,FALSE)-LEN(競技者一覧!N53)),競技者一覧!N53),\"\")","v":""},{"$f":"IFERROR(CONCATENATE(VLOOKUP(競技者一覧!O53,種目コード一覧!$A$1:$C$51,2,FALSE),\" \",REPT(\"0\",VLOOKUP(競技者一覧!O53,種目コード一覧!$A$1:$C$51,3,FALSE)-LEN(競技者一覧!P53)),競技者一覧!P53),\"\")","v":""},{"$f":"IFERROR(CONCATENATE(VLOOKUP(競技者一覧!Q53,種目コード一覧!$A$1:$C$51,2,FALSE),\" \",REPT(\"0\",VLOOKUP(競技者一覧!Q53,種目コード一覧!$A$1:$C$51,3,FALSE)-LEN(競技者一覧!R53)),競技者一覧!R53),\"\")","v":""},{"$f":"IFERROR(CONCATENATE(VLOOKUP(競技者一覧!S53,種目コード一覧!$A$1:$C$51,2,FALSE),\" \",REPT(\"0\",VLOOKUP(競技者一覧!S53,種目コード一覧!$A$1:$C$51,3,FALSE)-LEN(競技者一覧!T53)),競技者一覧!T53),\"\")","v":""},{"$f":"IFERROR(CONCATENATE(VLOOKUP(競技者一覧!U53,種目コード一覧!$A$1:$C$51,2,FALSE),\" \",REPT(\"0\",VLOOKUP(競技者一覧!U53,種目コード一覧!$A$1:$C$51,3,FALSE)-LEN(競技者一覧!V53)),競技者一覧!V53),\"\")","v":""},{"$f":"IFERROR(CONCATENATE(VLOOKUP(競技者一覧!W53,種目コード一覧!$A$1:$C$51,2,FALSE),\" \",REPT(\"0\",VLOOKUP(競技者一覧!W53,種目コード一覧!$A$1:$C$51,3,FALSE)-LEN(競技者一覧!X53)),競技者一覧!X53),\"\")","v":""},{"$f":"IFERROR(CONCATENATE(VLOOKUP(競技者一覧!Y53,種目コード一覧!$A$1:$C$51,2,FALSE),\" \",REPT(\"0\",VLOOKUP(競技者一覧!Y53,種目コード一覧!$A$1:$C$51,3,FALSE)-LEN(競技者一覧!Z53)),競技者一覧!Z53),\"\")","v":""}]
[{"$f":"IFERROR(CONCATENATE(競技者一覧!$D$7), \"\")","v":""},{"$f":"IFERROR(CONCATENATE($H$2,Sheet4!B34),\"\")","v":"033"},{"$f":"競技者一覧!C54&IF(OR(競技者一覧!H54=\"\",競技者一覧!H54=9),\"\",\"(\" & 競技者一覧!H54 & \")\")","v":""},{"$f":"ASC(競技者一覧!D54 &IF(OR(MID(競技者一覧!G54,3,2)=\"\", MID(競技者一覧!G54,3,2)=\"0\"),\"\",\"(\" & MID(競技者一覧!G54,3,2) & \")\"))","v":""},{"$f":"ASC(競技者一覧!E54 & \" \" & 競技者一覧!F54 & IF(OR(MID(競技者一覧!G54,3,2)=\"\", MID(競技者一覧!G54,3,2)=\"0\"),\"\",\"(\" & MID(競技者一覧!G54,3,2) & \")\"))","v":" "},{"$f":"CONCATENATE(競技者一覧!I54)","v":""},{"$f":"IFERROR(IF(競技者一覧!$D$6=\"学連\",VLOOKUP(競技者一覧!J54,Sheet4!$D$2:$E$48,2,FALSE),学校名簿!D34),\"\")","v":""},{"$f":"IFERROR(VLOOKUP(競技者一覧!$D$7,学校番号表!$B$2:$C$65536,2,FALSE),\"\")","v":""},{"$f":"CONCATENATE(競技者一覧!B54)","v":""},{"$f":"IFERROR(CONCATENATE(VLOOKUP(競技者一覧!K54,種目コード一覧!$A$1:$B$51,2,FALSE),\" \",REPT(\"0\",VLOOKUP(競技者一覧!K54,種目コード一覧!$A$1:$C$51,3,FALSE)-LEN(競技者一覧!L54)),競技者一覧!L54),\"\")","v":""},{"$f":"IFERROR(CONCATENATE(VLOOKUP(競技者一覧!M54,種目コード一覧!$A$1:$C$51,2,FALSE),\" \",REPT(\"0\",VLOOKUP(競技者一覧!M54,種目コード一覧!$A$1:$C$51,3,FALSE)-LEN(競技者一覧!N54)),競技者一覧!N54),\"\")","v":""},{"$f":"IFERROR(CONCATENATE(VLOOKUP(競技者一覧!O54,種目コード一覧!$A$1:$C$51,2,FALSE),\" \",REPT(\"0\",VLOOKUP(競技者一覧!O54,種目コード一覧!$A$1:$C$51,3,FALSE)-LEN(競技者一覧!P54)),競技者一覧!P54),\"\")","v":""},{"$f":"IFERROR(CONCATENATE(VLOOKUP(競技者一覧!Q54,種目コード一覧!$A$1:$C$51,2,FALSE),\" \",REPT(\"0\",VLOOKUP(競技者一覧!Q54,種目コード一覧!$A$1:$C$51,3,FALSE)-LEN(競技者一覧!R54)),競技者一覧!R54),\"\")","v":""},{"$f":"IFERROR(CONCATENATE(VLOOKUP(競技者一覧!S54,種目コード一覧!$A$1:$C$51,2,FALSE),\" \",REPT(\"0\",VLOOKUP(競技者一覧!S54,種目コード一覧!$A$1:$C$51,3,FALSE)-LEN(競技者一覧!T54)),競技者一覧!T54),\"\")","v":""},{"$f":"IFERROR(CONCATENATE(VLOOKUP(競技者一覧!U54,種目コード一覧!$A$1:$C$51,2,FALSE),\" \",REPT(\"0\",VLOOKUP(競技者一覧!U54,種目コード一覧!$A$1:$C$51,3,FALSE)-LEN(競技者一覧!V54)),競技者一覧!V54),\"\")","v":""},{"$f":"IFERROR(CONCATENATE(VLOOKUP(競技者一覧!W54,種目コード一覧!$A$1:$C$51,2,FALSE),\" \",REPT(\"0\",VLOOKUP(競技者一覧!W54,種目コード一覧!$A$1:$C$51,3,FALSE)-LEN(競技者一覧!X54)),競技者一覧!X54),\"\")","v":""},{"$f":"IFERROR(CONCATENATE(VLOOKUP(競技者一覧!Y54,種目コード一覧!$A$1:$C$51,2,FALSE),\" \",REPT(\"0\",VLOOKUP(競技者一覧!Y54,種目コード一覧!$A$1:$C$51,3,FALSE)-LEN(競技者一覧!Z54)),競技者一覧!Z54),\"\")","v":""}]
[{"$f":"IFERROR(CONCATENATE(競技者一覧!$D$7), \"\")","v":""},{"$f":"IFERROR(CONCATENATE($H$2,Sheet4!B35),\"\")","v":"034"},{"$f":"競技者一覧!C55&IF(OR(競技者一覧!H55=\"\",競技者一覧!H55=9),\"\",\"(\" & 競技者一覧!H55 & \")\")","v":""},{"$f":"競技者一覧!D55 &IF(OR(MID(競技者一覧!G55,3,2)=\"\", MID(競技者一覧!G55,3,2)=\"0\"),\"\",\"(\" & MID(競技者一覧!G55,3,2) & \")\")","v":""},{"$f":"ASC(競技者一覧!E55 & \" \" & 競技者一覧!F55 & IF(OR(MID(競技者一覧!G55,3,2)=\"\", MID(競技者一覧!G55,3,2)=\"0\"),\"\",\"(\" & MID(競技者一覧!G55,3,2) & \")\"))","v":" "},{"$f":"CONCATENATE(競技者一覧!I55)","v":""},{"$f":"IFERROR(IF(競技者一覧!$D$6=\"学連\",VLOOKUP(競技者一覧!J55,Sheet4!$D$2:$E$48,2,FALSE),学校名簿!D35),\"\")","v":""},{"$f":"IFERROR(VLOOKUP(競技者一覧!$D$7,学校番号表!$B$2:$C$65536,2,FALSE),\"\")","v":""},{"$f":"CONCATENATE(競技者一覧!B55)","v":""},{"$f":"IFERROR(CONCATENATE(VLOOKUP(競技者一覧!K55,種目コード一覧!$A$1:$C$51,2,FALSE),\" \",REPT(\"0\",VLOOKUP(競技者一覧!K55,種目コード一覧!$A$1:$C$51,3,FALSE)-LEN(競技者一覧!L55)),競技者一覧!L55),\"\")","v":""},{"$f":"IFERROR(CONCATENATE(VLOOKUP(競技者一覧!M55,種目コード一覧!$A$1:$C$51,2,FALSE),\" \",REPT(\"0\",VLOOKUP(競技者一覧!M55,種目コード一覧!$A$1:$C$51,3,FALSE)-LEN(競技者一覧!N55)),競技者一覧!N55),\"\")","v":""},{"$f":"IFERROR(CONCATENATE(VLOOKUP(競技者一覧!O55,種目コード一覧!$A$1:$C$51,2,FALSE),\" \",REPT(\"0\",VLOOKUP(競技者一覧!O55,種目コード一覧!$A$1:$C$51,3,FALSE)-LEN(競技者一覧!P55)),競技者一覧!P55),\"\")","v":""},{"$f":"IFERROR(CONCATENATE(VLOOKUP(競技者一覧!Q55,種目コード一覧!$A$1:$C$51,2,FALSE),\" \",REPT(\"0\",VLOOKUP(競技者一覧!Q55,種目コード一覧!$A$1:$C$51,3,FALSE)-LEN(競技者一覧!R55)),競技者一覧!R55),\"\")","v":""},{"$f":"IFERROR(CONCATENATE(VLOOKUP(競技者一覧!S55,種目コード一覧!$A$1:$C$51,2,FALSE),\" \",REPT(\"0\",VLOOKUP(競技者一覧!S55,種目コード一覧!$A$1:$C$51,3,FALSE)-LEN(競技者一覧!T55)),競技者一覧!T55),\"\")","v":""},{"$f":"IFERROR(CONCATENATE(VLOOKUP(競技者一覧!U55,種目コード一覧!$A$1:$C$51,2,FALSE),\" \",REPT(\"0\",VLOOKUP(競技者一覧!U55,種目コード一覧!$A$1:$C$51,3,FALSE)-LEN(競技者一覧!V55)),競技者一覧!V55),\"\")","v":""},{"$f":"IFERROR(CONCATENATE(VLOOKUP(競技者一覧!W55,種目コード一覧!$A$1:$C$51,2,FALSE),\" \",REPT(\"0\",VLOOKUP(競技者一覧!W55,種目コード一覧!$A$1:$C$51,3,FALSE)-LEN(競技者一覧!X55)),競技者一覧!X55),\"\")","v":""},{"$f":"IFERROR(CONCATENATE(VLOOKUP(競技者一覧!Y55,種目コード一覧!$A$1:$C$51,2,FALSE),\" \",REPT(\"0\",VLOOKUP(競技者一覧!Y55,種目コード一覧!$A$1:$C$51,3,FALSE)-LEN(競技者一覧!Z55)),競技者一覧!Z55),\"\")","v":""}]
[{"$f":"IFERROR(CONCATENATE(競技者一覧!$D$7), \"\")","v":""},{"$f":"IFERROR(CONCATENATE($H$2,Sheet4!B36),\"\")","v":"035"},{"$f":"競技者一覧!C56&IF(OR(競技者一覧!H56=\"\",競技者一覧!H56=9),\"\",\"(\" & 競技者一覧!H56 & \")\")","v":""},{"$f":"ASC(競技者一覧!D56 &IF(OR(MID(競技者一覧!G56,3,2)=\"\", MID(競技者一覧!G56,3,2)=\"0\"),\"\",\"(\" & MID(競技者一覧!G56,3,2) & \")\"))","v":""},{"$f":"ASC(競技者一覧!E56 & \" \" & 競技者一覧!F56 & IF(OR(MID(競技者一覧!G56,3,2)=\"\", MID(競技者一覧!G56,3,2)=\"0\"),\"\",\"(\" & MID(競技者一覧!G56,3,2) & \")\"))","v":" "},{"$f":"CONCATENATE(競技者一覧!I56)","v":""},{"$f":"IFERROR(IF(競技者一覧!$D$6=\"学連\",VLOOKUP(競技者一覧!J56,Sheet4!$D$2:$E$48,2,FALSE),学校名簿!D36),\"\")","v":""},{"$f":"IFERROR(VLOOKUP(競技者一覧!$D$7,学校番号表!$B$2:$C$65536,2,FALSE),\"\")","v":""},{"$f":"CONCATENATE(競技者一覧!B56)","v":""},{"$f":"IFERROR(CONCATENATE(VLOOKUP(競技者一覧!K56,種目コード一覧!$A$1:$B$51,2,FALSE),\" \",REPT(\"0\",VLOOKUP(競技者一覧!K56,種目コード一覧!$A$1:$C$51,3,FALSE)-LEN(競技者一覧!L56)),競技者一覧!L56),\"\")","v":""},{"$f":"IFERROR(CONCATENATE(VLOOKUP(競技者一覧!M56,種目コード一覧!$A$1:$C$51,2,FALSE),\" \",REPT(\"0\",VLOOKUP(競技者一覧!M56,種目コード一覧!$A$1:$C$51,3,FALSE)-LEN(競技者一覧!N56)),競技者一覧!N56),\"\")","v":""},{"$f":"IFERROR(CONCATENATE(VLOOKUP(競技者一覧!O56,種目コード一覧!$A$1:$C$51,2,FALSE),\" \",REPT(\"0\",VLOOKUP(競技者一覧!O56,種目コード一覧!$A$1:$C$51,3,FALSE)-LEN(競技者一覧!P56)),競技者一覧!P56),\"\")","v":""},{"$f":"IFERROR(CONCATENATE(VLOOKUP(競技者一覧!Q56,種目コード一覧!$A$1:$C$51,2,FALSE),\" \",REPT(\"0\",VLOOKUP(競技者一覧!Q56,種目コード一覧!$A$1:$C$51,3,FALSE)-LEN(競技者一覧!R56)),競技者一覧!R56),\"\")","v":""},{"$f":"IFERROR(CONCATENATE(VLOOKUP(競技者一覧!S56,種目コード一覧!$A$1:$C$51,2,FALSE),\" \",REPT(\"0\",VLOOKUP(競技者一覧!S56,種目コード一覧!$A$1:$C$51,3,FALSE)-LEN(競技者一覧!T56)),競技者一覧!T56),\"\")","v":""},{"$f":"IFERROR(CONCATENATE(VLOOKUP(競技者一覧!U56,種目コード一覧!$A$1:$C$51,2,FALSE),\" \",REPT(\"0\",VLOOKUP(競技者一覧!U56,種目コード一覧!$A$1:$C$51,3,FALSE)-LEN(競技者一覧!V56)),競技者一覧!V56),\"\")","v":""},{"$f":"IFERROR(CONCATENATE(VLOOKUP(競技者一覧!W56,種目コード一覧!$A$1:$C$51,2,FALSE),\" \",REPT(\"0\",VLOOKUP(競技者一覧!W56,種目コード一覧!$A$1:$C$51,3,FALSE)-LEN(競技者一覧!X56)),競技者一覧!X56),\"\")","v":""},{"$f":"IFERROR(CONCATENATE(VLOOKUP(競技者一覧!Y56,種目コード一覧!$A$1:$C$51,2,FALSE),\" \",REPT(\"0\",VLOOKUP(競技者一覧!Y56,種目コード一覧!$A$1:$C$51,3,FALSE)-LEN(競技者一覧!Z56)),競技者一覧!Z56),\"\")","v":""}]
[{"$f":"IFERROR(CONCATENATE(競技者一覧!$D$7), \"\")","v":""},{"$f":"IFERROR(CONCATENATE($H$2,Sheet4!B37),\"\")","v":"036"},{"$f":"競技者一覧!C57&IF(OR(競技者一覧!H57=\"\",競技者一覧!H57=9),\"\",\"(\" & 競技者一覧!H57 & \")\")","v":""},{"$f":"競技者一覧!D57 &IF(OR(MID(競技者一覧!G57,3,2)=\"\", MID(競技者一覧!G57,3,2)=\"0\"),\"\",\"(\" & MID(競技者一覧!G57,3,2) & \")\")","v":""},{"$f":"ASC(競技者一覧!E57 & \" \" & 競技者一覧!F57 & IF(OR(MID(競技者一覧!G57,3,2)=\"\", MID(競技者一覧!G57,3,2)=\"0\"),\"\",\"(\" & MID(競技者一覧!G57,3,2) & \")\"))","v":" "},{"$f":"CONCATENATE(競技者一覧!I57)","v":""},{"$f":"IFERROR(IF(競技者一覧!$D$6=\"学連\",VLOOKUP(競技者一覧!J57,Sheet4!$D$2:$E$48,2,FALSE),学校名簿!D37),\"\")","v":""},{"$f":"IFERROR(VLOOKUP(競技者一覧!$D$7,学校番号表!$B$2:$C$65536,2,FALSE),\"\")","v":""},{"$f":"CONCATENATE(競技者一覧!B57)","v":""},{"$f":"IFERROR(CONCATENATE(VLOOKUP(競技者一覧!K57,種目コード一覧!$A$1:$C$51,2,FALSE),\" \",REPT(\"0\",VLOOKUP(競技者一覧!K57,種目コード一覧!$A$1:$C$51,3,FALSE)-LEN(競技者一覧!L57)),競技者一覧!L57),\"\")","v":""},{"$f":"IFERROR(CONCATENATE(VLOOKUP(競技者一覧!M57,種目コード一覧!$A$1:$C$51,2,FALSE),\" \",REPT(\"0\",VLOOKUP(競技者一覧!M57,種目コード一覧!$A$1:$C$51,3,FALSE)-LEN(競技者一覧!N57)),競技者一覧!N57),\"\")","v":""},{"$f":"IFERROR(CONCATENATE(VLOOKUP(競技者一覧!O57,種目コード一覧!$A$1:$C$51,2,FALSE),\" \",REPT(\"0\",VLOOKUP(競技者一覧!O57,種目コード一覧!$A$1:$C$51,3,FALSE)-LEN(競技者一覧!P57)),競技者一覧!P57),\"\")","v":""},{"$f":"IFERROR(CONCATENATE(VLOOKUP(競技者一覧!Q57,種目コード一覧!$A$1:$C$51,2,FALSE),\" \",REPT(\"0\",VLOOKUP(競技者一覧!Q57,種目コード一覧!$A$1:$C$51,3,FALSE)-LEN(競技者一覧!R57)),競技者一覧!R57),\"\")","v":""},{"$f":"IFERROR(CONCATENATE(VLOOKUP(競技者一覧!S57,種目コード一覧!$A$1:$C$51,2,FALSE),\" \",REPT(\"0\",VLOOKUP(競技者一覧!S57,種目コード一覧!$A$1:$C$51,3,FALSE)-LEN(競技者一覧!T57)),競技者一覧!T57),\"\")","v":""},{"$f":"IFERROR(CONCATENATE(VLOOKUP(競技者一覧!U57,種目コード一覧!$A$1:$C$51,2,FALSE),\" \",REPT(\"0\",VLOOKUP(競技者一覧!U57,種目コード一覧!$A$1:$C$51,3,FALSE)-LEN(競技者一覧!V57)),競技者一覧!V57),\"\")","v":""},{"$f":"IFERROR(CONCATENATE(VLOOKUP(競技者一覧!W57,種目コード一覧!$A$1:$C$51,2,FALSE),\" \",REPT(\"0\",VLOOKUP(競技者一覧!W57,種目コード一覧!$A$1:$C$51,3,FALSE)-LEN(競技者一覧!X57)),競技者一覧!X57),\"\")","v":""},{"$f":"IFERROR(CONCATENATE(VLOOKUP(競技者一覧!Y57,種目コード一覧!$A$1:$C$51,2,FALSE),\" \",REPT(\"0\",VLOOKUP(競技者一覧!Y57,種目コード一覧!$A$1:$C$51,3,FALSE)-LEN(競技者一覧!Z57)),競技者一覧!Z57),\"\")","v":""}]
[{"$f":"IFERROR(CONCATENATE(競技者一覧!$D$7), \"\")","v":""},{"$f":"IFERROR(CONCATENATE($H$2,Sheet4!B38),\"\")","v":"037"},{"$f":"競技者一覧!C58&IF(OR(競技者一覧!H58=\"\",競技者一覧!H58=9),\"\",\"(\" & 競技者一覧!H58 & \")\")","v":""},{"$f":"ASC(競技者一覧!D58 &IF(OR(MID(競技者一覧!G58,3,2)=\"\", MID(競技者一覧!G58,3,2)=\"0\"),\"\",\"(\" & MID(競技者一覧!G58,3,2) & \")\"))","v":""},{"$f":"ASC(競技者一覧!E58 & \" \" & 競技者一覧!F58 & IF(OR(MID(競技者一覧!G58,3,2)=\"\", MID(競技者一覧!G58,3,2)=\"0\"),\"\",\"(\" & MID(競技者一覧!G58,3,2) & \")\"))","v":" "},{"$f":"CONCATENATE(競技者一覧!I58)","v":""},{"$f":"IFERROR(IF(競技者一覧!$D$6=\"学連\",VLOOKUP(競技者一覧!J58,Sheet4!$D$2:$E$48,2,FALSE),学校名簿!D38),\"\")","v":""},{"$f":"IFERROR(VLOOKUP(競技者一覧!$D$7,学校番号表!$B$2:$C$65536,2,FALSE),\"\")","v":""},{"$f":"CONCATENATE(競技者一覧!B58)","v":""},{"$f":"IFERROR(CONCATENATE(VLOOKUP(競技者一覧!K58,種目コード一覧!$A$1:$B$51,2,FALSE),\" \",REPT(\"0\",VLOOKUP(競技者一覧!K58,種目コード一覧!$A$1:$C$51,3,FALSE)-LEN(競技者一覧!L58)),競技者一覧!L58),\"\")","v":""},{"$f":"IFERROR(CONCATENATE(VLOOKUP(競技者一覧!M58,種目コード一覧!$A$1:$C$51,2,FALSE),\" \",REPT(\"0\",VLOOKUP(競技者一覧!M58,種目コード一覧!$A$1:$C$51,3,FALSE)-LEN(競技者一覧!N58)),競技者一覧!N58),\"\")","v":""},{"$f":"IFERROR(CONCATENATE(VLOOKUP(競技者一覧!O58,種目コード一覧!$A$1:$C$51,2,FALSE),\" \",REPT(\"0\",VLOOKUP(競技者一覧!O58,種目コード一覧!$A$1:$C$51,3,FALSE)-LEN(競技者一覧!P58)),競技者一覧!P58),\"\")","v":""},{"$f":"IFERROR(CONCATENATE(VLOOKUP(競技者一覧!Q58,種目コード一覧!$A$1:$C$51,2,FALSE),\" \",REPT(\"0\",VLOOKUP(競技者一覧!Q58,種目コード一覧!$A$1:$C$51,3,FALSE)-LEN(競技者一覧!R58)),競技者一覧!R58),\"\")","v":""},{"$f":"IFERROR(CONCATENATE(VLOOKUP(競技者一覧!S58,種目コード一覧!$A$1:$C$51,2,FALSE),\" \",REPT(\"0\",VLOOKUP(競技者一覧!S58,種目コード一覧!$A$1:$C$51,3,FALSE)-LEN(競技者一覧!T58)),競技者一覧!T58),\"\")","v":""},{"$f":"IFERROR(CONCATENATE(VLOOKUP(競技者一覧!U58,種目コード一覧!$A$1:$C$51,2,FALSE),\" \",REPT(\"0\",VLOOKUP(競技者一覧!U58,種目コード一覧!$A$1:$C$51,3,FALSE)-LEN(競技者一覧!V58)),競技者一覧!V58),\"\")","v":""},{"$f":"IFERROR(CONCATENATE(VLOOKUP(競技者一覧!W58,種目コード一覧!$A$1:$C$51,2,FALSE),\" \",REPT(\"0\",VLOOKUP(競技者一覧!W58,種目コード一覧!$A$1:$C$51,3,FALSE)-LEN(競技者一覧!X58)),競技者一覧!X58),\"\")","v":""},{"$f":"IFERROR(CONCATENATE(VLOOKUP(競技者一覧!Y58,種目コード一覧!$A$1:$C$51,2,FALSE),\" \",REPT(\"0\",VLOOKUP(競技者一覧!Y58,種目コード一覧!$A$1:$C$51,3,FALSE)-LEN(競技者一覧!Z58)),競技者一覧!Z58),\"\")","v":""}]
[{"$f":"IFERROR(CONCATENATE(競技者一覧!$D$7), \"\")","v":""},{"$f":"IFERROR(CONCATENATE($H$2,Sheet4!B39),\"\")","v":"038"},{"$f":"競技者一覧!C59&IF(OR(競技者一覧!H59=\"\",競技者一覧!H59=9),\"\",\"(\" & 競技者一覧!H59 & \")\")","v":""},{"$f":"競技者一覧!D59 &IF(OR(MID(競技者一覧!G59,3,2)=\"\", MID(競技者一覧!G59,3,2)=\"0\"),\"\",\"(\" & MID(競技者一覧!G59,3,2) & \")\")","v":""},{"$f":"ASC(競技者一覧!E59 & \" \" & 競技者一覧!F59 & IF(OR(MID(競技者一覧!G59,3,2)=\"\", MID(競技者一覧!G59,3,2)=\"0\"),\"\",\"(\" & MID(競技者一覧!G59,3,2) & \")\"))","v":" "},{"$f":"CONCATENATE(競技者一覧!I59)","v":""},{"$f":"IFERROR(IF(競技者一覧!$D$6=\"学連\",VLOOKUP(競技者一覧!J59,Sheet4!$D$2:$E$48,2,FALSE),学校名簿!D39),\"\")","v":""},{"$f":"IFERROR(VLOOKUP(競技者一覧!$D$7,学校番号表!$B$2:$C$65536,2,FALSE),\"\")","v":""},{"$f":"CONCATENATE(競技者一覧!B59)","v":""},{"$f":"IFERROR(CONCATENATE(VLOOKUP(競技者一覧!K59,種目コード一覧!$A$1:$C$51,2,FALSE),\" \",REPT(\"0\",VLOOKUP(競技者一覧!K59,種目コード一覧!$A$1:$C$51,3,FALSE)-LEN(競技者一覧!L59)),競技者一覧!L59),\"\")","v":""},{"$f":"IFERROR(CONCATENATE(VLOOKUP(競技者一覧!M59,種目コード一覧!$A$1:$C$51,2,FALSE),\" \",REPT(\"0\",VLOOKUP(競技者一覧!M59,種目コード一覧!$A$1:$C$51,3,FALSE)-LEN(競技者一覧!N59)),競技者一覧!N59),\"\")","v":""},{"$f":"IFERROR(CONCATENATE(VLOOKUP(競技者一覧!O59,種目コード一覧!$A$1:$C$51,2,FALSE),\" \",REPT(\"0\",VLOOKUP(競技者一覧!O59,種目コード一覧!$A$1:$C$51,3,FALSE)-LEN(競技者一覧!P59)),競技者一覧!P59),\"\")","v":""},{"$f":"IFERROR(CONCATENATE(VLOOKUP(競技者一覧!Q59,種目コード一覧!$A$1:$C$51,2,FALSE),\" \",REPT(\"0\",VLOOKUP(競技者一覧!Q59,種目コード一覧!$A$1:$C$51,3,FALSE)-LEN(競技者一覧!R59)),競技者一覧!R59),\"\")","v":""},{"$f":"IFERROR(CONCATENATE(VLOOKUP(競技者一覧!S59,種目コード一覧!$A$1:$C$51,2,FALSE),\" \",REPT(\"0\",VLOOKUP(競技者一覧!S59,種目コード一覧!$A$1:$C$51,3,FALSE)-LEN(競技者一覧!T59)),競技者一覧!T59),\"\")","v":""},{"$f":"IFERROR(CONCATENATE(VLOOKUP(競技者一覧!U59,種目コード一覧!$A$1:$C$51,2,FALSE),\" \",REPT(\"0\",VLOOKUP(競技者一覧!U59,種目コード一覧!$A$1:$C$51,3,FALSE)-LEN(競技者一覧!V59)),競技者一覧!V59),\"\")","v":""},{"$f":"IFERROR(CONCATENATE(VLOOKUP(競技者一覧!W59,種目コード一覧!$A$1:$C$51,2,FALSE),\" \",REPT(\"0\",VLOOKUP(競技者一覧!W59,種目コード一覧!$A$1:$C$51,3,FALSE)-LEN(競技者一覧!X59)),競技者一覧!X59),\"\")","v":""},{"$f":"IFERROR(CONCATENATE(VLOOKUP(競技者一覧!Y59,種目コード一覧!$A$1:$C$51,2,FALSE),\" \",REPT(\"0\",VLOOKUP(競技者一覧!Y59,種目コード一覧!$A$1:$C$51,3,FALSE)-LEN(競技者一覧!Z59)),競技者一覧!Z59),\"\")","v":""}]
[{"$f":"IFERROR(CONCATENATE(競技者一覧!$D$7), \"\")","v":""},{"$f":"IFERROR(CONCATENATE($H$2,Sheet4!B40),\"\")","v":"039"},{"$f":"競技者一覧!C60&IF(OR(競技者一覧!H60=\"\",競技者一覧!H60=9),\"\",\"(\" & 競技者一覧!H60 & \")\")","v":""},{"$f":"ASC(競技者一覧!D60 &IF(OR(MID(競技者一覧!G60,3,2)=\"\", MID(競技者一覧!G60,3,2)=\"0\"),\"\",\"(\" & MID(競技者一覧!G60,3,2) & \")\"))","v":""},{"$f":"ASC(競技者一覧!E60 & \" \" & 競技者一覧!F60 & IF(OR(MID(競技者一覧!G60,3,2)=\"\", MID(競技者一覧!G60,3,2)=\"0\"),\"\",\"(\" & MID(競技者一覧!G60,3,2) & \")\"))","v":" "},{"$f":"CONCATENATE(競技者一覧!I60)","v":""},{"$f":"IFERROR(IF(競技者一覧!$D$6=\"学連\",VLOOKUP(競技者一覧!J60,Sheet4!$D$2:$E$48,2,FALSE),学校名簿!D40),\"\")","v":""},{"$f":"IFERROR(VLOOKUP(競技者一覧!$D$7,学校番号表!$B$2:$C$65536,2,FALSE),\"\")","v":""},{"$f":"CONCATENATE(競技者一覧!B60)","v":""},{"$f":"IFERROR(CONCATENATE(VLOOKUP(競技者一覧!K60,種目コード一覧!$A$1:$B$51,2,FALSE),\" \",REPT(\"0\",VLOOKUP(競技者一覧!K60,種目コード一覧!$A$1:$C$51,3,FALSE)-LEN(競技者一覧!L60)),競技者一覧!L60),\"\")","v":""},{"$f":"IFERROR(CONCATENATE(VLOOKUP(競技者一覧!M60,種目コード一覧!$A$1:$C$51,2,FALSE),\" \",REPT(\"0\",VLOOKUP(競技者一覧!M60,種目コード一覧!$A$1:$C$51,3,FALSE)-LEN(競技者一覧!N60)),競技者一覧!N60),\"\")","v":""},{"$f":"IFERROR(CONCATENATE(VLOOKUP(競技者一覧!O60,種目コード一覧!$A$1:$C$51,2,FALSE),\" \",REPT(\"0\",VLOOKUP(競技者一覧!O60,種目コード一覧!$A$1:$C$51,3,FALSE)-LEN(競技者一覧!P60)),競技者一覧!P60),\"\")","v":""},{"$f":"IFERROR(CONCATENATE(VLOOKUP(競技者一覧!Q60,種目コード一覧!$A$1:$C$51,2,FALSE),\" \",REPT(\"0\",VLOOKUP(競技者一覧!Q60,種目コード一覧!$A$1:$C$51,3,FALSE)-LEN(競技者一覧!R60)),競技者一覧!R60),\"\")","v":""},{"$f":"IFERROR(CONCATENATE(VLOOKUP(競技者一覧!S60,種目コード一覧!$A$1:$C$51,2,FALSE),\" \",REPT(\"0\",VLOOKUP(競技者一覧!S60,種目コード一覧!$A$1:$C$51,3,FALSE)-LEN(競技者一覧!T60)),競技者一覧!T60),\"\")","v":""},{"$f":"IFERROR(CONCATENATE(VLOOKUP(競技者一覧!U60,種目コード一覧!$A$1:$C$51,2,FALSE),\" \",REPT(\"0\",VLOOKUP(競技者一覧!U60,種目コード一覧!$A$1:$C$51,3,FALSE)-LEN(競技者一覧!V60)),競技者一覧!V60),\"\")","v":""},{"$f":"IFERROR(CONCATENATE(VLOOKUP(競技者一覧!W60,種目コード一覧!$A$1:$C$51,2,FALSE),\" \",REPT(\"0\",VLOOKUP(競技者一覧!W60,種目コード一覧!$A$1:$C$51,3,FALSE)-LEN(競技者一覧!X60)),競技者一覧!X60),\"\")","v":""},{"$f":"IFERROR(CONCATENATE(VLOOKUP(競技者一覧!Y60,種目コード一覧!$A$1:$C$51,2,FALSE),\" \",REPT(\"0\",VLOOKUP(競技者一覧!Y60,種目コード一覧!$A$1:$C$51,3,FALSE)-LEN(競技者一覧!Z60)),競技者一覧!Z60),\"\")","v":""}]
[{"$f":"IFERROR(CONCATENATE(競技者一覧!$D$7), \"\")","v":""},{"$f":"IFERROR(CONCATENATE($H$2,Sheet4!B41),\"\")","v":"040"},{"$f":"競技者一覧!C61&IF(OR(競技者一覧!H61=\"\",競技者一覧!H61=9),\"\",\"(\" & 競技者一覧!H61 & \")\")","v":""},{"$f":"競技者一覧!D61 &IF(OR(MID(競技者一覧!G61,3,2)=\"\", MID(競技者一覧!G61,3,2)=\"0\"),\"\",\"(\" & MID(競技者一覧!G61,3,2) & \")\")","v":""},{"$f":"ASC(競技者一覧!E61 & \" \" & 競技者一覧!F61 & IF(OR(MID(競技者一覧!G61,3,2)=\"\", MID(競技者一覧!G61,3,2)=\"0\"),\"\",\"(\" & MID(競技者一覧!G61,3,2) & \")\"))","v":" "},{"$f":"CONCATENATE(競技者一覧!I61)","v":""},{"$f":"IFERROR(IF(競技者一覧!$D$6=\"学連\",VLOOKUP(競技者一覧!J61,Sheet4!$D$2:$E$48,2,FALSE),学校名簿!D41),\"\")","v":""},{"$f":"IFERROR(VLOOKUP(競技者一覧!$D$7,学校番号表!$B$2:$C$65536,2,FALSE),\"\")","v":""},{"$f":"CONCATENATE(競技者一覧!B61)","v":""},{"$f":"IFERROR(CONCATENATE(VLOOKUP(競技者一覧!K61,種目コード一覧!$A$1:$C$51,2,FALSE),\" \",REPT(\"0\",VLOOKUP(競技者一覧!K61,種目コード一覧!$A$1:$C$51,3,FALSE)-LEN(競技者一覧!L61)),競技者一覧!L61),\"\")","v":""},{"$f":"IFERROR(CONCATENATE(VLOOKUP(競技者一覧!M61,種目コード一覧!$A$1:$C$51,2,FALSE),\" \",REPT(\"0\",VLOOKUP(競技者一覧!M61,種目コード一覧!$A$1:$C$51,3,FALSE)-LEN(競技者一覧!N61)),競技者一覧!N61),\"\")","v":""},{"$f":"IFERROR(CONCATENATE(VLOOKUP(競技者一覧!O61,種目コード一覧!$A$1:$C$51,2,FALSE),\" \",REPT(\"0\",VLOOKUP(競技者一覧!O61,種目コード一覧!$A$1:$C$51,3,FALSE)-LEN(競技者一覧!P61)),競技者一覧!P61),\"\")","v":""},{"$f":"IFERROR(CONCATENATE(VLOOKUP(競技者一覧!Q61,種目コード一覧!$A$1:$C$51,2,FALSE),\" \",REPT(\"0\",VLOOKUP(競技者一覧!Q61,種目コード一覧!$A$1:$C$51,3,FALSE)-LEN(競技者一覧!R61)),競技者一覧!R61),\"\")","v":""},{"$f":"IFERROR(CONCATENATE(VLOOKUP(競技者一覧!S61,種目コード一覧!$A$1:$C$51,2,FALSE),\" \",REPT(\"0\",VLOOKUP(競技者一覧!S61,種目コード一覧!$A$1:$C$51,3,FALSE)-LEN(競技者一覧!T61)),競技者一覧!T61),\"\")","v":""},{"$f":"IFERROR(CONCATENATE(VLOOKUP(競技者一覧!U61,種目コード一覧!$A$1:$C$51,2,FALSE),\" \",REPT(\"0\",VLOOKUP(競技者一覧!U61,種目コード一覧!$A$1:$C$51,3,FALSE)-LEN(競技者一覧!V61)),競技者一覧!V61),\"\")","v":""},{"$f":"IFERROR(CONCATENATE(VLOOKUP(競技者一覧!W61,種目コード一覧!$A$1:$C$51,2,FALSE),\" \",REPT(\"0\",VLOOKUP(競技者一覧!W61,種目コード一覧!$A$1:$C$51,3,FALSE)-LEN(競技者一覧!X61)),競技者一覧!X61),\"\")","v":""},{"$f":"IFERROR(CONCATENATE(VLOOKUP(競技者一覧!Y61,種目コード一覧!$A$1:$C$51,2,FALSE),\" \",REPT(\"0\",VLOOKUP(競技者一覧!Y61,種目コード一覧!$A$1:$C$51,3,FALSE)-LEN(競技者一覧!Z61)),競技者一覧!Z61),\"\")","v":""}]
[{"$f":"IFERROR(CONCATENATE(競技者一覧!$D$7), \"\")","v":""},{"$f":"IFERROR(CONCATENATE($H$2,Sheet4!B42),\"\")","v":"041"},{"$f":"競技者一覧!C62&IF(OR(競技者一覧!H62=\"\",競技者一覧!H62=9),\"\",\"(\" & 競技者一覧!H62 & \")\")","v":""},{"$f":"ASC(競技者一覧!D62 &IF(OR(MID(競技者一覧!G62,3,2)=\"\", MID(競技者一覧!G62,3,2)=\"0\"),\"\",\"(\" & MID(競技者一覧!G62,3,2) & \")\"))","v":""},{"$f":"ASC(競技者一覧!E62 & \" \" & 競技者一覧!F62 & IF(OR(MID(競技者一覧!G62,3,2)=\"\", MID(競技者一覧!G62,3,2)=\"0\"),\"\",\"(\" & MID(競技者一覧!G62,3,2) & \")\"))","v":" "},{"$f":"CONCATENATE(競技者一覧!I62)","v":""},{"$f":"IFERROR(IF(競技者一覧!$D$6=\"学連\",VLOOKUP(競技者一覧!J62,Sheet4!$D$2:$E$48,2,FALSE),学校名簿!D42),\"\")","v":""},{"$f":"IFERROR(VLOOKUP(競技者一覧!$D$7,学校番号表!$B$2:$C$65536,2,FALSE),\"\")","v":""},{"$f":"CONCATENATE(競技者一覧!B62)","v":""},{"$f":"IFERROR(CONCATENATE(VLOOKUP(競技者一覧!K62,種目コード一覧!$A$1:$B$51,2,FALSE),\" \",REPT(\"0\",VLOOKUP(競技者一覧!K62,種目コード一覧!$A$1:$C$51,3,FALSE)-LEN(競技者一覧!L62)),競技者一覧!L62),\"\")","v":""},{"$f":"IFERROR(CONCATENATE(VLOOKUP(競技者一覧!M62,種目コード一覧!$A$1:$C$51,2,FALSE),\" \",REPT(\"0\",VLOOKUP(競技者一覧!M62,種目コード一覧!$A$1:$C$51,3,FALSE)-LEN(競技者一覧!N62)),競技者一覧!N62),\"\")","v":""},{"$f":"IFERROR(CONCATENATE(VLOOKUP(競技者一覧!O62,種目コード一覧!$A$1:$C$51,2,FALSE),\" \",REPT(\"0\",VLOOKUP(競技者一覧!O62,種目コード一覧!$A$1:$C$51,3,FALSE)-LEN(競技者一覧!P62)),競技者一覧!P62),\"\")","v":""},{"$f":"IFERROR(CONCATENATE(VLOOKUP(競技者一覧!Q62,種目コード一覧!$A$1:$C$51,2,FALSE),\" \",REPT(\"0\",VLOOKUP(競技者一覧!Q62,種目コード一覧!$A$1:$C$51,3,FALSE)-LEN(競技者一覧!R62)),競技者一覧!R62),\"\")","v":""},{"$f":"IFERROR(CONCATENATE(VLOOKUP(競技者一覧!S62,種目コード一覧!$A$1:$C$51,2,FALSE),\" \",REPT(\"0\",VLOOKUP(競技者一覧!S62,種目コード一覧!$A$1:$C$51,3,FALSE)-LEN(競技者一覧!T62)),競技者一覧!T62),\"\")","v":""},{"$f":"IFERROR(CONCATENATE(VLOOKUP(競技者一覧!U62,種目コード一覧!$A$1:$C$51,2,FALSE),\" \",REPT(\"0\",VLOOKUP(競技者一覧!U62,種目コード一覧!$A$1:$C$51,3,FALSE)-LEN(競技者一覧!V62)),競技者一覧!V62),\"\")","v":""},{"$f":"IFERROR(CONCATENATE(VLOOKUP(競技者一覧!W62,種目コード一覧!$A$1:$C$51,2,FALSE),\" \",REPT(\"0\",VLOOKUP(競技者一覧!W62,種目コード一覧!$A$1:$C$51,3,FALSE)-LEN(競技者一覧!X62)),競技者一覧!X62),\"\")","v":""},{"$f":"IFERROR(CONCATENATE(VLOOKUP(競技者一覧!Y62,種目コード一覧!$A$1:$C$51,2,FALSE),\" \",REPT(\"0\",VLOOKUP(競技者一覧!Y62,種目コード一覧!$A$1:$C$51,3,FALSE)-LEN(競技者一覧!Z62)),競技者一覧!Z62),\"\")","v":""}]
[{"$f":"IFERROR(CONCATENATE(競技者一覧!$D$7), \"\")","v":""},{"$f":"IFERROR(CONCATENATE($H$2,Sheet4!B43),\"\")","v":"042"},{"$f":"競技者一覧!C63&IF(OR(競技者一覧!H63=\"\",競技者一覧!H63=9),\"\",\"(\" & 競技者一覧!H63 & \")\")","v":""},{"$f":"競技者一覧!D63 &IF(OR(MID(競技者一覧!G63,3,2)=\"\", MID(競技者一覧!G63,3,2)=\"0\"),\"\",\"(\" & MID(競技者一覧!G63,3,2) & \")\")","v":""},{"$f":"ASC(競技者一覧!E63 & \" \" & 競技者一覧!F63 & IF(OR(MID(競技者一覧!G63,3,2)=\"\", MID(競技者一覧!G63,3,2)=\"0\"),\"\",\"(\" & MID(競技者一覧!G63,3,2) & \")\"))","v":" "},{"$f":"CONCATENATE(競技者一覧!I63)","v":""},{"$f":"IFERROR(IF(競技者一覧!$D$6=\"学連\",VLOOKUP(競技者一覧!J63,Sheet4!$D$2:$E$48,2,FALSE),学校名簿!D43),\"\")","v":""},{"$f":"IFERROR(VLOOKUP(競技者一覧!$D$7,学校番号表!$B$2:$C$65536,2,FALSE),\"\")","v":""},{"$f":"CONCATENATE(競技者一覧!B63)","v":""},{"$f":"IFERROR(CONCATENATE(VLOOKUP(競技者一覧!K63,種目コード一覧!$A$1:$C$51,2,FALSE),\" \",REPT(\"0\",VLOOKUP(競技者一覧!K63,種目コード一覧!$A$1:$C$51,3,FALSE)-LEN(競技者一覧!L63)),競技者一覧!L63),\"\")","v":""},{"$f":"IFERROR(CONCATENATE(VLOOKUP(競技者一覧!M63,種目コード一覧!$A$1:$C$51,2,FALSE),\" \",REPT(\"0\",VLOOKUP(競技者一覧!M63,種目コード一覧!$A$1:$C$51,3,FALSE)-LEN(競技者一覧!N63)),競技者一覧!N63),\"\")","v":""},{"$f":"IFERROR(CONCATENATE(VLOOKUP(競技者一覧!O63,種目コード一覧!$A$1:$C$51,2,FALSE),\" \",REPT(\"0\",VLOOKUP(競技者一覧!O63,種目コード一覧!$A$1:$C$51,3,FALSE)-LEN(競技者一覧!P63)),競技者一覧!P63),\"\")","v":""},{"$f":"IFERROR(CONCATENATE(VLOOKUP(競技者一覧!Q63,種目コード一覧!$A$1:$C$51,2,FALSE),\" \",REPT(\"0\",VLOOKUP(競技者一覧!Q63,種目コード一覧!$A$1:$C$51,3,FALSE)-LEN(競技者一覧!R63)),競技者一覧!R63),\"\")","v":""},{"$f":"IFERROR(CONCATENATE(VLOOKUP(競技者一覧!S63,種目コード一覧!$A$1:$C$51,2,FALSE),\" \",REPT(\"0\",VLOOKUP(競技者一覧!S63,種目コード一覧!$A$1:$C$51,3,FALSE)-LEN(競技者一覧!T63)),競技者一覧!T63),\"\")","v":""},{"$f":"IFERROR(CONCATENATE(VLOOKUP(競技者一覧!U63,種目コード一覧!$A$1:$C$51,2,FALSE),\" \",REPT(\"0\",VLOOKUP(競技者一覧!U63,種目コード一覧!$A$1:$C$51,3,FALSE)-LEN(競技者一覧!V63)),競技者一覧!V63),\"\")","v":""},{"$f":"IFERROR(CONCATENATE(VLOOKUP(競技者一覧!W63,種目コード一覧!$A$1:$C$51,2,FALSE),\" \",REPT(\"0\",VLOOKUP(競技者一覧!W63,種目コード一覧!$A$1:$C$51,3,FALSE)-LEN(競技者一覧!X63)),競技者一覧!X63),\"\")","v":""},{"$f":"IFERROR(CONCATENATE(VLOOKUP(競技者一覧!Y63,種目コード一覧!$A$1:$C$51,2,FALSE),\" \",REPT(\"0\",VLOOKUP(競技者一覧!Y63,種目コード一覧!$A$1:$C$51,3,FALSE)-LEN(競技者一覧!Z63)),競技者一覧!Z63),\"\")","v":""}]
[{"$f":"IFERROR(CONCATENATE(競技者一覧!$D$7), \"\")","v":""},{"$f":"IFERROR(CONCATENATE($H$2,Sheet4!B44),\"\")","v":"043"},{"$f":"競技者一覧!C64&IF(OR(競技者一覧!H64=\"\",競技者一覧!H64=9),\"\",\"(\" & 競技者一覧!H64 & \")\")","v":""},{"$f":"ASC(競技者一覧!D64 &IF(OR(MID(競技者一覧!G64,3,2)=\"\", MID(競技者一覧!G64,3,2)=\"0\"),\"\",\"(\" & MID(競技者一覧!G64,3,2) & \")\"))","v":""},{"$f":"ASC(競技者一覧!E64 & \" \" & 競技者一覧!F64 & IF(OR(MID(競技者一覧!G64,3,2)=\"\", MID(競技者一覧!G64,3,2)=\"0\"),\"\",\"(\" & MID(競技者一覧!G64,3,2) & \")\"))","v":" "},{"$f":"CONCATENATE(競技者一覧!I64)","v":""},{"$f":"IFERROR(IF(競技者一覧!$D$6=\"学連\",VLOOKUP(競技者一覧!J64,Sheet4!$D$2:$E$48,2,FALSE),学校名簿!D44),\"\")","v":""},{"$f":"IFERROR(VLOOKUP(競技者一覧!$D$7,学校番号表!$B$2:$C$65536,2,FALSE),\"\")","v":""},{"$f":"CONCATENATE(競技者一覧!B64)","v":""},{"$f":"IFERROR(CONCATENATE(VLOOKUP(競技者一覧!K64,種目コード一覧!$A$1:$B$51,2,FALSE),\" \",REPT(\"0\",VLOOKUP(競技者一覧!K64,種目コード一覧!$A$1:$C$51,3,FALSE)-LEN(競技者一覧!L64)),競技者一覧!L64),\"\")","v":""},{"$f":"IFERROR(CONCATENATE(VLOOKUP(競技者一覧!M64,種目コード一覧!$A$1:$C$51,2,FALSE),\" \",REPT(\"0\",VLOOKUP(競技者一覧!M64,種目コード一覧!$A$1:$C$51,3,FALSE)-LEN(競技者一覧!N64)),競技者一覧!N64),\"\")","v":""},{"$f":"IFERROR(CONCATENATE(VLOOKUP(競技者一覧!O64,種目コード一覧!$A$1:$C$51,2,FALSE),\" \",REPT(\"0\",VLOOKUP(競技者一覧!O64,種目コード一覧!$A$1:$C$51,3,FALSE)-LEN(競技者一覧!P64)),競技者一覧!P64),\"\")","v":""},{"$f":"IFERROR(CONCATENATE(VLOOKUP(競技者一覧!Q64,種目コード一覧!$A$1:$C$51,2,FALSE),\" \",REPT(\"0\",VLOOKUP(競技者一覧!Q64,種目コード一覧!$A$1:$C$51,3,FALSE)-LEN(競技者一覧!R64)),競技者一覧!R64),\"\")","v":""},{"$f":"IFERROR(CONCATENATE(VLOOKUP(競技者一覧!S64,種目コード一覧!$A$1:$C$51,2,FALSE),\" \",REPT(\"0\",VLOOKUP(競技者一覧!S64,種目コード一覧!$A$1:$C$51,3,FALSE)-LEN(競技者一覧!T64)),競技者一覧!T64),\"\")","v":""},{"$f":"IFERROR(CONCATENATE(VLOOKUP(競技者一覧!U64,種目コード一覧!$A$1:$C$51,2,FALSE),\" \",REPT(\"0\",VLOOKUP(競技者一覧!U64,種目コード一覧!$A$1:$C$51,3,FALSE)-LEN(競技者一覧!V64)),競技者一覧!V64),\"\")","v":""},{"$f":"IFERROR(CONCATENATE(VLOOKUP(競技者一覧!W64,種目コード一覧!$A$1:$C$51,2,FALSE),\" \",REPT(\"0\",VLOOKUP(競技者一覧!W64,種目コード一覧!$A$1:$C$51,3,FALSE)-LEN(競技者一覧!X64)),競技者一覧!X64),\"\")","v":""},{"$f":"IFERROR(CONCATENATE(VLOOKUP(競技者一覧!Y64,種目コード一覧!$A$1:$C$51,2,FALSE),\" \",REPT(\"0\",VLOOKUP(競技者一覧!Y64,種目コード一覧!$A$1:$C$51,3,FALSE)-LEN(競技者一覧!Z64)),競技者一覧!Z64),\"\")","v":""}]
[{"$f":"IFERROR(CONCATENATE(競技者一覧!$D$7), \"\")","v":""},{"$f":"IFERROR(CONCATENATE($H$2,Sheet4!B45),\"\")","v":"044"},{"$f":"競技者一覧!C65&IF(OR(競技者一覧!H65=\"\",競技者一覧!H65=9),\"\",\"(\" & 競技者一覧!H65 & \")\")","v":""},{"$f":"競技者一覧!D65 &IF(OR(MID(競技者一覧!G65,3,2)=\"\", MID(競技者一覧!G65,3,2)=\"0\"),\"\",\"(\" & MID(競技者一覧!G65,3,2) & \")\")","v":""},{"$f":"ASC(競技者一覧!E65 & \" \" & 競技者一覧!F65 & IF(OR(MID(競技者一覧!G65,3,2)=\"\", MID(競技者一覧!G65,3,2)=\"0\"),\"\",\"(\" & MID(競技者一覧!G65,3,2) & \")\"))","v":" "},{"$f":"CONCATENATE(競技者一覧!I65)","v":""},{"$f":"IFERROR(IF(競技者一覧!$D$6=\"学連\",VLOOKUP(競技者一覧!J65,Sheet4!$D$2:$E$48,2,FALSE),学校名簿!D45),\"\")","v":""},{"$f":"IFERROR(VLOOKUP(競技者一覧!$D$7,学校番号表!$B$2:$C$65536,2,FALSE),\"\")","v":""},{"$f":"CONCATENATE(競技者一覧!B65)","v":""},{"$f":"IFERROR(CONCATENATE(VLOOKUP(競技者一覧!K65,種目コード一覧!$A$1:$C$51,2,FALSE),\" \",REPT(\"0\",VLOOKUP(競技者一覧!K65,種目コード一覧!$A$1:$C$51,3,FALSE)-LEN(競技者一覧!L65)),競技者一覧!L65),\"\")","v":""},{"$f":"IFERROR(CONCATENATE(VLOOKUP(競技者一覧!M65,種目コード一覧!$A$1:$C$51,2,FALSE),\" \",REPT(\"0\",VLOOKUP(競技者一覧!M65,種目コード一覧!$A$1:$C$51,3,FALSE)-LEN(競技者一覧!N65)),競技者一覧!N65),\"\")","v":""},{"$f":"IFERROR(CONCATENATE(VLOOKUP(競技者一覧!O65,種目コード一覧!$A$1:$C$51,2,FALSE),\" \",REPT(\"0\",VLOOKUP(競技者一覧!O65,種目コード一覧!$A$1:$C$51,3,FALSE)-LEN(競技者一覧!P65)),競技者一覧!P65),\"\")","v":""},{"$f":"IFERROR(CONCATENATE(VLOOKUP(競技者一覧!Q65,種目コード一覧!$A$1:$C$51,2,FALSE),\" \",REPT(\"0\",VLOOKUP(競技者一覧!Q65,種目コード一覧!$A$1:$C$51,3,FALSE)-LEN(競技者一覧!R65)),競技者一覧!R65),\"\")","v":""},{"$f":"IFERROR(CONCATENATE(VLOOKUP(競技者一覧!S65,種目コード一覧!$A$1:$C$51,2,FALSE),\" \",REPT(\"0\",VLOOKUP(競技者一覧!S65,種目コード一覧!$A$1:$C$51,3,FALSE)-LEN(競技者一覧!T65)),競技者一覧!T65),\"\")","v":""},{"$f":"IFERROR(CONCATENATE(VLOOKUP(競技者一覧!U65,種目コード一覧!$A$1:$C$51,2,FALSE),\" \",REPT(\"0\",VLOOKUP(競技者一覧!U65,種目コード一覧!$A$1:$C$51,3,FALSE)-LEN(競技者一覧!V65)),競技者一覧!V65),\"\")","v":""},{"$f":"IFERROR(CONCATENATE(VLOOKUP(競技者一覧!W65,種目コード一覧!$A$1:$C$51,2,FALSE),\" \",REPT(\"0\",VLOOKUP(競技者一覧!W65,種目コード一覧!$A$1:$C$51,3,FALSE)-LEN(競技者一覧!X65)),競技者一覧!X65),\"\")","v":""},{"$f":"IFERROR(CONCATENATE(VLOOKUP(競技者一覧!Y65,種目コード一覧!$A$1:$C$51,2,FALSE),\" \",REPT(\"0\",VLOOKUP(競技者一覧!Y65,種目コード一覧!$A$1:$C$51,3,FALSE)-LEN(競技者一覧!Z65)),競技者一覧!Z65),\"\")","v":""}]
[{"$f":"IFERROR(CONCATENATE(競技者一覧!$D$7), \"\")","v":""},{"$f":"IFERROR(CONCATENATE($H$2,Sheet4!B46),\"\")","v":"045"},{"$f":"競技者一覧!C66&IF(OR(競技者一覧!H66=\"\",競技者一覧!H66=9),\"\",\"(\" & 競技者一覧!H66 & \")\")","v":""},{"$f":"ASC(競技者一覧!D66 &IF(OR(MID(競技者一覧!G66,3,2)=\"\", MID(競技者一覧!G66,3,2)=\"0\"),\"\",\"(\" & MID(競技者一覧!G66,3,2) & \")\"))","v":""},{"$f":"ASC(競技者一覧!E66 & \" \" & 競技者一覧!F66 & IF(OR(MID(競技者一覧!G66,3,2)=\"\", MID(競技者一覧!G66,3,2)=\"0\"),\"\",\"(\" & MID(競技者一覧!G66,3,2) & \")\"))","v":" "},{"$f":"CONCATENATE(競技者一覧!I66)","v":""},{"$f":"IFERROR(IF(競技者一覧!$D$6=\"学連\",VLOOKUP(競技者一覧!J66,Sheet4!$D$2:$E$48,2,FALSE),学校名簿!D46),\"\")","v":""},{"$f":"IFERROR(VLOOKUP(競技者一覧!$D$7,学校番号表!$B$2:$C$65536,2,FALSE),\"\")","v":""},{"$f":"CONCATENATE(競技者一覧!B66)","v":""},{"$f":"IFERROR(CONCATENATE(VLOOKUP(競技者一覧!K66,種目コード一覧!$A$1:$B$51,2,FALSE),\" \",REPT(\"0\",VLOOKUP(競技者一覧!K66,種目コード一覧!$A$1:$C$51,3,FALSE)-LEN(競技者一覧!L66)),競技者一覧!L66),\"\")","v":""},{"$f":"IFERROR(CONCATENATE(VLOOKUP(競技者一覧!M66,種目コード一覧!$A$1:$C$51,2,FALSE),\" \",REPT(\"0\",VLOOKUP(競技者一覧!M66,種目コード一覧!$A$1:$C$51,3,FALSE)-LEN(競技者一覧!N66)),競技者一覧!N66),\"\")","v":""},{"$f":"IFERROR(CONCATENATE(VLOOKUP(競技者一覧!O66,種目コード一覧!$A$1:$C$51,2,FALSE),\" \",REPT(\"0\",VLOOKUP(競技者一覧!O66,種目コード一覧!$A$1:$C$51,3,FALSE)-LEN(競技者一覧!P66)),競技者一覧!P66),\"\")","v":""},{"$f":"IFERROR(CONCATENATE(VLOOKUP(競技者一覧!Q66,種目コード一覧!$A$1:$C$51,2,FALSE),\" \",REPT(\"0\",VLOOKUP(競技者一覧!Q66,種目コード一覧!$A$1:$C$51,3,FALSE)-LEN(競技者一覧!R66)),競技者一覧!R66),\"\")","v":""},{"$f":"IFERROR(CONCATENATE(VLOOKUP(競技者一覧!S66,種目コード一覧!$A$1:$C$51,2,FALSE),\" \",REPT(\"0\",VLOOKUP(競技者一覧!S66,種目コード一覧!$A$1:$C$51,3,FALSE)-LEN(競技者一覧!T66)),競技者一覧!T66),\"\")","v":""},{"$f":"IFERROR(CONCATENATE(VLOOKUP(競技者一覧!U66,種目コード一覧!$A$1:$C$51,2,FALSE),\" \",REPT(\"0\",VLOOKUP(競技者一覧!U66,種目コード一覧!$A$1:$C$51,3,FALSE)-LEN(競技者一覧!V66)),競技者一覧!V66),\"\")","v":""},{"$f":"IFERROR(CONCATENATE(VLOOKUP(競技者一覧!W66,種目コード一覧!$A$1:$C$51,2,FALSE),\" \",REPT(\"0\",VLOOKUP(競技者一覧!W66,種目コード一覧!$A$1:$C$51,3,FALSE)-LEN(競技者一覧!X66)),競技者一覧!X66),\"\")","v":""},{"$f":"IFERROR(CONCATENATE(VLOOKUP(競技者一覧!Y66,種目コード一覧!$A$1:$C$51,2,FALSE),\" \",REPT(\"0\",VLOOKUP(競技者一覧!Y66,種目コード一覧!$A$1:$C$51,3,FALSE)-LEN(競技者一覧!Z66)),競技者一覧!Z66),\"\")","v":""}]
[{"$f":"IFERROR(CONCATENATE(競技者一覧!$D$7), \"\")","v":""},{"$f":"IFERROR(CONCATENATE($H$2,Sheet4!B47),\"\")","v":"046"},{"$f":"競技者一覧!C67&IF(OR(競技者一覧!H67=\"\",競技者一覧!H67=9),\"\",\"(\" & 競技者一覧!H67 & \")\")","v":""},{"$f":"競技者一覧!D67 &IF(OR(MID(競技者一覧!G67,3,2)=\"\", MID(競技者一覧!G67,3,2)=\"0\"),\"\",\"(\" & MID(競技者一覧!G67,3,2) & \")\")","v":""},{"$f":"ASC(競技者一覧!E67 & \" \" & 競技者一覧!F67 & IF(OR(MID(競技者一覧!G67,3,2)=\"\", MID(競技者一覧!G67,3,2)=\"0\"),\"\",\"(\" & MID(競技者一覧!G67,3,2) & \")\"))","v":" "},{"$f":"CONCATENATE(競技者一覧!I67)","v":""},{"$f":"IFERROR(IF(競技者一覧!$D$6=\"学連\",VLOOKUP(競技者一覧!J67,Sheet4!$D$2:$E$48,2,FALSE),学校名簿!D47),\"\")","v":""},{"$f":"IFERROR(VLOOKUP(競技者一覧!$D$7,学校番号表!$B$2:$C$65536,2,FALSE),\"\")","v":""},{"$f":"CONCATENATE(競技者一覧!B67)","v":""},{"$f":"IFERROR(CONCATENATE(VLOOKUP(競技者一覧!K67,種目コード一覧!$A$1:$C$51,2,FALSE),\" \",REPT(\"0\",VLOOKUP(競技者一覧!K67,種目コード一覧!$A$1:$C$51,3,FALSE)-LEN(競技者一覧!L67)),競技者一覧!L67),\"\")","v":""},{"$f":"IFERROR(CONCATENATE(VLOOKUP(競技者一覧!M67,種目コード一覧!$A$1:$C$51,2,FALSE),\" \",REPT(\"0\",VLOOKUP(競技者一覧!M67,種目コード一覧!$A$1:$C$51,3,FALSE)-LEN(競技者一覧!N67)),競技者一覧!N67),\"\")","v":""},{"$f":"IFERROR(CONCATENATE(VLOOKUP(競技者一覧!O67,種目コード一覧!$A$1:$C$51,2,FALSE),\" \",REPT(\"0\",VLOOKUP(競技者一覧!O67,種目コード一覧!$A$1:$C$51,3,FALSE)-LEN(競技者一覧!P67)),競技者一覧!P67),\"\")","v":""},{"$f":"IFERROR(CONCATENATE(VLOOKUP(競技者一覧!Q67,種目コード一覧!$A$1:$C$51,2,FALSE),\" \",REPT(\"0\",VLOOKUP(競技者一覧!Q67,種目コード一覧!$A$1:$C$51,3,FALSE)-LEN(競技者一覧!R67)),競技者一覧!R67),\"\")","v":""},{"$f":"IFERROR(CONCATENATE(VLOOKUP(競技者一覧!S67,種目コード一覧!$A$1:$C$51,2,FALSE),\" \",REPT(\"0\",VLOOKUP(競技者一覧!S67,種目コード一覧!$A$1:$C$51,3,FALSE)-LEN(競技者一覧!T67)),競技者一覧!T67),\"\")","v":""},{"$f":"IFERROR(CONCATENATE(VLOOKUP(競技者一覧!U67,種目コード一覧!$A$1:$C$51,2,FALSE),\" \",REPT(\"0\",VLOOKUP(競技者一覧!U67,種目コード一覧!$A$1:$C$51,3,FALSE)-LEN(競技者一覧!V67)),競技者一覧!V67),\"\")","v":""},{"$f":"IFERROR(CONCATENATE(VLOOKUP(競技者一覧!W67,種目コード一覧!$A$1:$C$51,2,FALSE),\" \",REPT(\"0\",VLOOKUP(競技者一覧!W67,種目コード一覧!$A$1:$C$51,3,FALSE)-LEN(競技者一覧!X67)),競技者一覧!X67),\"\")","v":""},{"$f":"IFERROR(CONCATENATE(VLOOKUP(競技者一覧!Y67,種目コード一覧!$A$1:$C$51,2,FALSE),\" \",REPT(\"0\",VLOOKUP(競技者一覧!Y67,種目コード一覧!$A$1:$C$51,3,FALSE)-LEN(競技者一覧!Z67)),競技者一覧!Z67),\"\")","v":""}]
[{"$f":"IFERROR(CONCATENATE(競技者一覧!$D$7), \"\")","v":""},{"$f":"IFERROR(CONCATENATE($H$2,Sheet4!B48),\"\")","v":"047"},{"$f":"競技者一覧!C68&IF(OR(競技者一覧!H68=\"\",競技者一覧!H68=9),\"\",\"(\" & 競技者一覧!H68 & \")\")","v":""},{"$f":"ASC(競技者一覧!D68 &IF(OR(MID(競技者一覧!G68,3,2)=\"\", MID(競技者一覧!G68,3,2)=\"0\"),\"\",\"(\" & MID(競技者一覧!G68,3,2) & \")\"))","v":""},{"$f":"ASC(競技者一覧!E68 & \" \" & 競技者一覧!F68 & IF(OR(MID(競技者一覧!G68,3,2)=\"\", MID(競技者一覧!G68,3,2)=\"0\"),\"\",\"(\" & MID(競技者一覧!G68,3,2) & \")\"))","v":" "},{"$f":"CONCATENATE(競技者一覧!I68)","v":""},{"$f":"IFERROR(IF(競技者一覧!$D$6=\"学連\",VLOOKUP(競技者一覧!J68,Sheet4!$D$2:$E$48,2,FALSE),学校名簿!D48),\"\")","v":""},{"$f":"IFERROR(VLOOKUP(競技者一覧!$D$7,学校番号表!$B$2:$C$65536,2,FALSE),\"\")","v":""},{"$f":"CONCATENATE(競技者一覧!B68)","v":""},{"$f":"IFERROR(CONCATENATE(VLOOKUP(競技者一覧!K68,種目コード一覧!$A$1:$B$51,2,FALSE),\" \",REPT(\"0\",VLOOKUP(競技者一覧!K68,種目コード一覧!$A$1:$C$51,3,FALSE)-LEN(競技者一覧!L68)),競技者一覧!L68),\"\")","v":""},{"$f":"IFERROR(CONCATENATE(VLOOKUP(競技者一覧!M68,種目コード一覧!$A$1:$C$51,2,FALSE),\" \",REPT(\"0\",VLOOKUP(競技者一覧!M68,種目コード一覧!$A$1:$C$51,3,FALSE)-LEN(競技者一覧!N68)),競技者一覧!N68),\"\")","v":""},{"$f":"IFERROR(CONCATENATE(VLOOKUP(競技者一覧!O68,種目コード一覧!$A$1:$C$51,2,FALSE),\" \",REPT(\"0\",VLOOKUP(競技者一覧!O68,種目コード一覧!$A$1:$C$51,3,FALSE)-LEN(競技者一覧!P68)),競技者一覧!P68),\"\")","v":""},{"$f":"IFERROR(CONCATENATE(VLOOKUP(競技者一覧!Q68,種目コード一覧!$A$1:$C$51,2,FALSE),\" \",REPT(\"0\",VLOOKUP(競技者一覧!Q68,種目コード一覧!$A$1:$C$51,3,FALSE)-LEN(競技者一覧!R68)),競技者一覧!R68),\"\")","v":""},{"$f":"IFERROR(CONCATENATE(VLOOKUP(競技者一覧!S68,種目コード一覧!$A$1:$C$51,2,FALSE),\" \",REPT(\"0\",VLOOKUP(競技者一覧!S68,種目コード一覧!$A$1:$C$51,3,FALSE)-LEN(競技者一覧!T68)),競技者一覧!T68),\"\")","v":""},{"$f":"IFERROR(CONCATENATE(VLOOKUP(競技者一覧!U68,種目コード一覧!$A$1:$C$51,2,FALSE),\" \",REPT(\"0\",VLOOKUP(競技者一覧!U68,種目コード一覧!$A$1:$C$51,3,FALSE)-LEN(競技者一覧!V68)),競技者一覧!V68),\"\")","v":""},{"$f":"IFERROR(CONCATENATE(VLOOKUP(競技者一覧!W68,種目コード一覧!$A$1:$C$51,2,FALSE),\" \",REPT(\"0\",VLOOKUP(競技者一覧!W68,種目コード一覧!$A$1:$C$51,3,FALSE)-LEN(競技者一覧!X68)),競技者一覧!X68),\"\")","v":""},{"$f":"IFERROR(CONCATENATE(VLOOKUP(競技者一覧!Y68,種目コード一覧!$A$1:$C$51,2,FALSE),\" \",REPT(\"0\",VLOOKUP(競技者一覧!Y68,種目コード一覧!$A$1:$C$51,3,FALSE)-LEN(競技者一覧!Z68)),競技者一覧!Z68),\"\")","v":""}]
[{"$f":"IFERROR(CONCATENATE(競技者一覧!$D$7), \"\")","v":""},{"$f":"IFERROR(CONCATENATE($H$2,Sheet4!B49),\"\")","v":"048"},{"$f":"競技者一覧!C69&IF(OR(競技者一覧!H69=\"\",競技者一覧!H69=9),\"\",\"(\" & 競技者一覧!H69 & \")\")","v":""},{"$f":"競技者一覧!D69 &IF(OR(MID(競技者一覧!G69,3,2)=\"\", MID(競技者一覧!G69,3,2)=\"0\"),\"\",\"(\" & MID(競技者一覧!G69,3,2) & \")\")","v":""},{"$f":"ASC(競技者一覧!E69 & \" \" & 競技者一覧!F69 & IF(OR(MID(競技者一覧!G69,3,2)=\"\", MID(競技者一覧!G69,3,2)=\"0\"),\"\",\"(\" & MID(競技者一覧!G69,3,2) & \")\"))","v":" "},{"$f":"CONCATENATE(競技者一覧!I69)","v":""},{"$f":"IFERROR(IF(競技者一覧!$D$6=\"学連\",VLOOKUP(競技者一覧!J69,Sheet4!$D$2:$E$48,2,FALSE),学校名簿!D49),\"\")","v":""},{"$f":"IFERROR(VLOOKUP(競技者一覧!$D$7,学校番号表!$B$2:$C$65536,2,FALSE),\"\")","v":""},{"$f":"CONCATENATE(競技者一覧!B69)","v":""},{"$f":"IFERROR(CONCATENATE(VLOOKUP(競技者一覧!K69,種目コード一覧!$A$1:$C$51,2,FALSE),\" \",REPT(\"0\",VLOOKUP(競技者一覧!K69,種目コード一覧!$A$1:$C$51,3,FALSE)-LEN(競技者一覧!L69)),競技者一覧!L69),\"\")","v":""},{"$f":"IFERROR(CONCATENATE(VLOOKUP(競技者一覧!M69,種目コード一覧!$A$1:$C$51,2,FALSE),\" \",REPT(\"0\",VLOOKUP(競技者一覧!M69,種目コード一覧!$A$1:$C$51,3,FALSE)-LEN(競技者一覧!N69)),競技者一覧!N69),\"\")","v":""},{"$f":"IFERROR(CONCATENATE(VLOOKUP(競技者一覧!O69,種目コード一覧!$A$1:$C$51,2,FALSE),\" \",REPT(\"0\",VLOOKUP(競技者一覧!O69,種目コード一覧!$A$1:$C$51,3,FALSE)-LEN(競技者一覧!P69)),競技者一覧!P69),\"\")","v":""},{"$f":"IFERROR(CONCATENATE(VLOOKUP(競技者一覧!Q69,種目コード一覧!$A$1:$C$51,2,FALSE),\" \",REPT(\"0\",VLOOKUP(競技者一覧!Q69,種目コード一覧!$A$1:$C$51,3,FALSE)-LEN(競技者一覧!R69)),競技者一覧!R69),\"\")","v":""},{"$f":"IFERROR(CONCATENATE(VLOOKUP(競技者一覧!S69,種目コード一覧!$A$1:$C$51,2,FALSE),\" \",REPT(\"0\",VLOOKUP(競技者一覧!S69,種目コード一覧!$A$1:$C$51,3,FALSE)-LEN(競技者一覧!T69)),競技者一覧!T69),\"\")","v":""},{"$f":"IFERROR(CONCATENATE(VLOOKUP(競技者一覧!U69,種目コード一覧!$A$1:$C$51,2,FALSE),\" \",REPT(\"0\",VLOOKUP(競技者一覧!U69,種目コード一覧!$A$1:$C$51,3,FALSE)-LEN(競技者一覧!V69)),競技者一覧!V69),\"\")","v":""},{"$f":"IFERROR(CONCATENATE(VLOOKUP(競技者一覧!W69,種目コード一覧!$A$1:$C$51,2,FALSE),\" \",REPT(\"0\",VLOOKUP(競技者一覧!W69,種目コード一覧!$A$1:$C$51,3,FALSE)-LEN(競技者一覧!X69)),競技者一覧!X69),\"\")","v":""},{"$f":"IFERROR(CONCATENATE(VLOOKUP(競技者一覧!Y69,種目コード一覧!$A$1:$C$51,2,FALSE),\" \",REPT(\"0\",VLOOKUP(競技者一覧!Y69,種目コード一覧!$A$1:$C$51,3,FALSE)-LEN(競技者一覧!Z69)),競技者一覧!Z69),\"\")","v":""}]
[{"$f":"IFERROR(CONCATENATE(競技者一覧!$D$7), \"\")","v":""},{"$f":"IFERROR(CONCATENATE($H$2,Sheet4!B50),\"\")","v":"049"},{"$f":"競技者一覧!C70&IF(OR(競技者一覧!H70=\"\",競技者一覧!H70=9),\"\",\"(\" & 競技者一覧!H70 & \")\")","v":""},{"$f":"ASC(競技者一覧!D70 &IF(OR(MID(競技者一覧!G70,3,2)=\"\", MID(競技者一覧!G70,3,2)=\"0\"),\"\",\"(\" & MID(競技者一覧!G70,3,2) & \")\"))","v":""},{"$f":"ASC(競技者一覧!E70 & \" \" & 競技者一覧!F70 & IF(OR(MID(競技者一覧!G70,3,2)=\"\", MID(競技者一覧!G70,3,2)=\"0\"),\"\",\"(\" & MID(競技者一覧!G70,3,2) & \")\"))","v":" "},{"$f":"CONCATENATE(競技者一覧!I70)","v":""},{"$f":"IFERROR(IF(競技者一覧!$D$6=\"学連\",VLOOKUP(競技者一覧!J70,Sheet4!$D$2:$E$48,2,FALSE),学校名簿!D50),\"\")","v":""},{"$f":"IFERROR(VLOOKUP(競技者一覧!$D$7,学校番号表!$B$2:$C$65536,2,FALSE),\"\")","v":""},{"$f":"CONCATENATE(競技者一覧!B70)","v":""},{"$f":"IFERROR(CONCATENATE(VLOOKUP(競技者一覧!K70,種目コード一覧!$A$1:$B$51,2,FALSE),\" \",REPT(\"0\",VLOOKUP(競技者一覧!K70,種目コード一覧!$A$1:$C$51,3,FALSE)-LEN(競技者一覧!L70)),競技者一覧!L70),\"\")","v":""},{"$f":"IFERROR(CONCATENATE(VLOOKUP(競技者一覧!M70,種目コード一覧!$A$1:$C$51,2,FALSE),\" \",REPT(\"0\",VLOOKUP(競技者一覧!M70,種目コード一覧!$A$1:$C$51,3,FALSE)-LEN(競技者一覧!N70)),競技者一覧!N70),\"\")","v":""},{"$f":"IFERROR(CONCATENATE(VLOOKUP(競技者一覧!O70,種目コード一覧!$A$1:$C$51,2,FALSE),\" \",REPT(\"0\",VLOOKUP(競技者一覧!O70,種目コード一覧!$A$1:$C$51,3,FALSE)-LEN(競技者一覧!P70)),競技者一覧!P70),\"\")","v":""},{"$f":"IFERROR(CONCATENATE(VLOOKUP(競技者一覧!Q70,種目コード一覧!$A$1:$C$51,2,FALSE),\" \",REPT(\"0\",VLOOKUP(競技者一覧!Q70,種目コード一覧!$A$1:$C$51,3,FALSE)-LEN(競技者一覧!R70)),競技者一覧!R70),\"\")","v":""},{"$f":"IFERROR(CONCATENATE(VLOOKUP(競技者一覧!S70,種目コード一覧!$A$1:$C$51,2,FALSE),\" \",REPT(\"0\",VLOOKUP(競技者一覧!S70,種目コード一覧!$A$1:$C$51,3,FALSE)-LEN(競技者一覧!T70)),競技者一覧!T70),\"\")","v":""},{"$f":"IFERROR(CONCATENATE(VLOOKUP(競技者一覧!U70,種目コード一覧!$A$1:$C$51,2,FALSE),\" \",REPT(\"0\",VLOOKUP(競技者一覧!U70,種目コード一覧!$A$1:$C$51,3,FALSE)-LEN(競技者一覧!V70)),競技者一覧!V70),\"\")","v":""},{"$f":"IFERROR(CONCATENATE(VLOOKUP(競技者一覧!W70,種目コード一覧!$A$1:$C$51,2,FALSE),\" \",REPT(\"0\",VLOOKUP(競技者一覧!W70,種目コード一覧!$A$1:$C$51,3,FALSE)-LEN(競技者一覧!X70)),競技者一覧!X70),\"\")","v":""},{"$f":"IFERROR(CONCATENATE(VLOOKUP(競技者一覧!Y70,種目コード一覧!$A$1:$C$51,2,FALSE),\" \",REPT(\"0\",VLOOKUP(競技者一覧!Y70,種目コード一覧!$A$1:$C$51,3,FALSE)-LEN(競技者一覧!Z70)),競技者一覧!Z70),\"\")","v":""}]
[{"$f":"IFERROR(CONCATENATE(競技者一覧!$D$7), \"\")","v":""},{"$f":"IFERROR(CONCATENATE($H$2,Sheet4!B51),\"\")","v":"050"},{"$f":"競技者一覧!C71&IF(OR(競技者一覧!H71=\"\",競技者一覧!H71=9),\"\",\"(\" & 競技者一覧!H71 & \")\")","v":""},{"$f":"競技者一覧!D71 &IF(OR(MID(競技者一覧!G71,3,2)=\"\", MID(競技者一覧!G71,3,2)=\"0\"),\"\",\"(\" & MID(競技者一覧!G71,3,2) & \")\")","v":""},{"$f":"ASC(競技者一覧!E71 & \" \" & 競技者一覧!F71 & IF(OR(MID(競技者一覧!G71,3,2)=\"\", MID(競技者一覧!G71,3,2)=\"0\"),\"\",\"(\" & MID(競技者一覧!G71,3,2) & \")\"))","v":" "},{"$f":"CONCATENATE(競技者一覧!I71)","v":""},{"$f":"IFERROR(IF(競技者一覧!$D$6=\"学連\",VLOOKUP(競技者一覧!J71,Sheet4!$D$2:$E$48,2,FALSE),学校名簿!D51),\"\")","v":""},{"$f":"IFERROR(VLOOKUP(競技者一覧!$D$7,学校番号表!$B$2:$C$65536,2,FALSE),\"\")","v":""},{"$f":"CONCATENATE(競技者一覧!B71)","v":""},{"$f":"IFERROR(CONCATENATE(VLOOKUP(競技者一覧!K71,種目コード一覧!$A$1:$C$51,2,FALSE),\" \",REPT(\"0\",VLOOKUP(競技者一覧!K71,種目コード一覧!$A$1:$C$51,3,FALSE)-LEN(競技者一覧!L71)),競技者一覧!L71),\"\")","v":""},{"$f":"IFERROR(CONCATENATE(VLOOKUP(競技者一覧!M71,種目コード一覧!$A$1:$C$51,2,FALSE),\" \",REPT(\"0\",VLOOKUP(競技者一覧!M71,種目コード一覧!$A$1:$C$51,3,FALSE)-LEN(競技者一覧!N71)),競技者一覧!N71),\"\")","v":""},{"$f":"IFERROR(CONCATENATE(VLOOKUP(競技者一覧!O71,種目コード一覧!$A$1:$C$51,2,FALSE),\" \",REPT(\"0\",VLOOKUP(競技者一覧!O71,種目コード一覧!$A$1:$C$51,3,FALSE)-LEN(競技者一覧!P71)),競技者一覧!P71),\"\")","v":""},{"$f":"IFERROR(CONCATENATE(VLOOKUP(競技者一覧!Q71,種目コード一覧!$A$1:$C$51,2,FALSE),\" \",REPT(\"0\",VLOOKUP(競技者一覧!Q71,種目コード一覧!$A$1:$C$51,3,FALSE)-LEN(競技者一覧!R71)),競技者一覧!R71),\"\")","v":""},{"$f":"IFERROR(CONCATENATE(VLOOKUP(競技者一覧!S71,種目コード一覧!$A$1:$C$51,2,FALSE),\" \",REPT(\"0\",VLOOKUP(競技者一覧!S71,種目コード一覧!$A$1:$C$51,3,FALSE)-LEN(競技者一覧!T71)),競技者一覧!T71),\"\")","v":""},{"$f":"IFERROR(CONCATENATE(VLOOKUP(競技者一覧!U71,種目コード一覧!$A$1:$C$51,2,FALSE),\" \",REPT(\"0\",VLOOKUP(競技者一覧!U71,種目コード一覧!$A$1:$C$51,3,FALSE)-LEN(競技者一覧!V71)),競技者一覧!V71),\"\")","v":""},{"$f":"IFERROR(CONCATENATE(VLOOKUP(競技者一覧!W71,種目コード一覧!$A$1:$C$51,2,FALSE),\" \",REPT(\"0\",VLOOKUP(競技者一覧!W71,種目コード一覧!$A$1:$C$51,3,FALSE)-LEN(競技者一覧!X71)),競技者一覧!X71),\"\")","v":""},{"$f":"IFERROR(CONCATENATE(VLOOKUP(競技者一覧!Y71,種目コード一覧!$A$1:$C$51,2,FALSE),\" \",REPT(\"0\",VLOOKUP(競技者一覧!Y71,種目コード一覧!$A$1:$C$51,3,FALSE)-LEN(競技者一覧!Z71)),競技者一覧!Z71),\"\")","v":""}]
[{"$f":"IFERROR(CONCATENATE(競技者一覧!$D$7), \"\")","v":""},{"$f":"IFERROR(CONCATENATE($H$2,Sheet4!B52),\"\")","v":"051"},{"$f":"競技者一覧!C72&IF(OR(競技者一覧!H72=\"\",競技者一覧!H72=9),\"\",\"(\" & 競技者一覧!H72 & \")\")","v":""},{"$f":"ASC(競技者一覧!D72 &IF(OR(MID(競技者一覧!G72,3,2)=\"\", MID(競技者一覧!G72,3,2)=\"0\"),\"\",\"(\" & MID(競技者一覧!G72,3,2) & \")\"))","v":""},{"$f":"ASC(競技者一覧!E72 & \" \" & 競技者一覧!F72 & IF(OR(MID(競技者一覧!G72,3,2)=\"\", MID(競技者一覧!G72,3,2)=\"0\"),\"\",\"(\" & MID(競技者一覧!G72,3,2) & \")\"))","v":" "},{"$f":"CONCATENATE(競技者一覧!I72)","v":""},{"$f":"IFERROR(IF(競技者一覧!$D$6=\"学連\",VLOOKUP(競技者一覧!J72,Sheet4!$D$2:$E$48,2,FALSE),学校名簿!D52),\"\")","v":""},{"$f":"IFERROR(VLOOKUP(競技者一覧!$D$7,学校番号表!$B$2:$C$65536,2,FALSE),\"\")","v":""},{"$f":"CONCATENATE(競技者一覧!B72)","v":""},{"$f":"IFERROR(CONCATENATE(VLOOKUP(競技者一覧!K72,種目コード一覧!$A$1:$B$51,2,FALSE),\" \",REPT(\"0\",VLOOKUP(競技者一覧!K72,種目コード一覧!$A$1:$C$51,3,FALSE)-LEN(競技者一覧!L72)),競技者一覧!L72),\"\")","v":""},{"$f":"IFERROR(CONCATENATE(VLOOKUP(競技者一覧!M72,種目コード一覧!$A$1:$C$51,2,FALSE),\" \",REPT(\"0\",VLOOKUP(競技者一覧!M72,種目コード一覧!$A$1:$C$51,3,FALSE)-LEN(競技者一覧!N72)),競技者一覧!N72),\"\")","v":""},{"$f":"IFERROR(CONCATENATE(VLOOKUP(競技者一覧!O72,種目コード一覧!$A$1:$C$51,2,FALSE),\" \",REPT(\"0\",VLOOKUP(競技者一覧!O72,種目コード一覧!$A$1:$C$51,3,FALSE)-LEN(競技者一覧!P72)),競技者一覧!P72),\"\")","v":""},{"$f":"IFERROR(CONCATENATE(VLOOKUP(競技者一覧!Q72,種目コード一覧!$A$1:$C$51,2,FALSE),\" \",REPT(\"0\",VLOOKUP(競技者一覧!Q72,種目コード一覧!$A$1:$C$51,3,FALSE)-LEN(競技者一覧!R72)),競技者一覧!R72),\"\")","v":""},{"$f":"IFERROR(CONCATENATE(VLOOKUP(競技者一覧!S72,種目コード一覧!$A$1:$C$51,2,FALSE),\" \",REPT(\"0\",VLOOKUP(競技者一覧!S72,種目コード一覧!$A$1:$C$51,3,FALSE)-LEN(競技者一覧!T72)),競技者一覧!T72),\"\")","v":""},{"$f":"IFERROR(CONCATENATE(VLOOKUP(競技者一覧!U72,種目コード一覧!$A$1:$C$51,2,FALSE),\" \",REPT(\"0\",VLOOKUP(競技者一覧!U72,種目コード一覧!$A$1:$C$51,3,FALSE)-LEN(競技者一覧!V72)),競技者一覧!V72),\"\")","v":""},{"$f":"IFERROR(CONCATENATE(VLOOKUP(競技者一覧!W72,種目コード一覧!$A$1:$C$51,2,FALSE),\" \",REPT(\"0\",VLOOKUP(競技者一覧!W72,種目コード一覧!$A$1:$C$51,3,FALSE)-LEN(競技者一覧!X72)),競技者一覧!X72),\"\")","v":""},{"$f":"IFERROR(CONCATENATE(VLOOKUP(競技者一覧!Y72,種目コード一覧!$A$1:$C$51,2,FALSE),\" \",REPT(\"0\",VLOOKUP(競技者一覧!Y72,種目コード一覧!$A$1:$C$51,3,FALSE)-LEN(競技者一覧!Z72)),競技者一覧!Z72),\"\")","v":""}]
[{"$f":"IFERROR(CONCATENATE(競技者一覧!$D$7), \"\")","v":""},{"$f":"IFERROR(CONCATENATE($H$2,Sheet4!B53),\"\")","v":"052"},{"$f":"競技者一覧!C73&IF(OR(競技者一覧!H73=\"\",競技者一覧!H73=9),\"\",\"(\" & 競技者一覧!H73 & \")\")","v":""},{"$f":"競技者一覧!D73 &IF(OR(MID(競技者一覧!G73,3,2)=\"\", MID(競技者一覧!G73,3,2)=\"0\"),\"\",\"(\" & MID(競技者一覧!G73,3,2) & \")\")","v":""},{"$f":"ASC(競技者一覧!E73 & \" \" & 競技者一覧!F73 & IF(OR(MID(競技者一覧!G73,3,2)=\"\", MID(競技者一覧!G73,3,2)=\"0\"),\"\",\"(\" & MID(競技者一覧!G73,3,2) & \")\"))","v":" "},{"$f":"CONCATENATE(競技者一覧!I73)","v":""},{"$f":"IFERROR(IF(競技者一覧!$D$6=\"学連\",VLOOKUP(競技者一覧!J73,Sheet4!$D$2:$E$48,2,FALSE),学校名簿!D53),\"\")","v":""},{"$f":"IFERROR(VLOOKUP(競技者一覧!$D$7,学校番号表!$B$2:$C$65536,2,FALSE),\"\")","v":""},{"$f":"CONCATENATE(競技者一覧!B73)","v":""},{"$f":"IFERROR(CONCATENATE(VLOOKUP(競技者一覧!K73,種目コード一覧!$A$1:$C$51,2,FALSE),\" \",REPT(\"0\",VLOOKUP(競技者一覧!K73,種目コード一覧!$A$1:$C$51,3,FALSE)-LEN(競技者一覧!L73)),競技者一覧!L73),\"\")","v":""},{"$f":"IFERROR(CONCATENATE(VLOOKUP(競技者一覧!M73,種目コード一覧!$A$1:$C$51,2,FALSE),\" \",REPT(\"0\",VLOOKUP(競技者一覧!M73,種目コード一覧!$A$1:$C$51,3,FALSE)-LEN(競技者一覧!N73)),競技者一覧!N73),\"\")","v":""},{"$f":"IFERROR(CONCATENATE(VLOOKUP(競技者一覧!O73,種目コード一覧!$A$1:$C$51,2,FALSE),\" \",REPT(\"0\",VLOOKUP(競技者一覧!O73,種目コード一覧!$A$1:$C$51,3,FALSE)-LEN(競技者一覧!P73)),競技者一覧!P73),\"\")","v":""},{"$f":"IFERROR(CONCATENATE(VLOOKUP(競技者一覧!Q73,種目コード一覧!$A$1:$C$51,2,FALSE),\" \",REPT(\"0\",VLOOKUP(競技者一覧!Q73,種目コード一覧!$A$1:$C$51,3,FALSE)-LEN(競技者一覧!R73)),競技者一覧!R73),\"\")","v":""},{"$f":"IFERROR(CONCATENATE(VLOOKUP(競技者一覧!S73,種目コード一覧!$A$1:$C$51,2,FALSE),\" \",REPT(\"0\",VLOOKUP(競技者一覧!S73,種目コード一覧!$A$1:$C$51,3,FALSE)-LEN(競技者一覧!T73)),競技者一覧!T73),\"\")","v":""},{"$f":"IFERROR(CONCATENATE(VLOOKUP(競技者一覧!U73,種目コード一覧!$A$1:$C$51,2,FALSE),\" \",REPT(\"0\",VLOOKUP(競技者一覧!U73,種目コード一覧!$A$1:$C$51,3,FALSE)-LEN(競技者一覧!V73)),競技者一覧!V73),\"\")","v":""},{"$f":"IFERROR(CONCATENATE(VLOOKUP(競技者一覧!W73,種目コード一覧!$A$1:$C$51,2,FALSE),\" \",REPT(\"0\",VLOOKUP(競技者一覧!W73,種目コード一覧!$A$1:$C$51,3,FALSE)-LEN(競技者一覧!X73)),競技者一覧!X73),\"\")","v":""},{"$f":"IFERROR(CONCATENATE(VLOOKUP(競技者一覧!Y73,種目コード一覧!$A$1:$C$51,2,FALSE),\" \",REPT(\"0\",VLOOKUP(競技者一覧!Y73,種目コード一覧!$A$1:$C$51,3,FALSE)-LEN(競技者一覧!Z73)),競技者一覧!Z73),\"\")","v":""}]
[{"$f":"IFERROR(CONCATENATE(競技者一覧!$D$7), \"\")","v":""},{"$f":"IFERROR(CONCATENATE($H$2,Sheet4!B54),\"\")","v":"053"},{"$f":"競技者一覧!C74&IF(OR(競技者一覧!H74=\"\",競技者一覧!H74=9),\"\",\"(\" & 競技者一覧!H74 & \")\")","v":""},{"$f":"ASC(競技者一覧!D74 &IF(OR(MID(競技者一覧!G74,3,2)=\"\", MID(競技者一覧!G74,3,2)=\"0\"),\"\",\"(\" & MID(競技者一覧!G74,3,2) & \")\"))","v":""},{"$f":"ASC(競技者一覧!E74 & \" \" & 競技者一覧!F74 & IF(OR(MID(競技者一覧!G74,3,2)=\"\", MID(競技者一覧!G74,3,2)=\"0\"),\"\",\"(\" & MID(競技者一覧!G74,3,2) & \")\"))","v":" "},{"$f":"CONCATENATE(競技者一覧!I74)","v":""},{"$f":"IFERROR(IF(競技者一覧!$D$6=\"学連\",VLOOKUP(競技者一覧!J74,Sheet4!$D$2:$E$48,2,FALSE),学校名簿!D54),\"\")","v":""},{"$f":"IFERROR(VLOOKUP(競技者一覧!$D$7,学校番号表!$B$2:$C$65536,2,FALSE),\"\")","v":""},{"$f":"CONCATENATE(競技者一覧!B74)","v":""},{"$f":"IFERROR(CONCATENATE(VLOOKUP(競技者一覧!K74,種目コード一覧!$A$1:$B$51,2,FALSE),\" \",REPT(\"0\",VLOOKUP(競技者一覧!K74,種目コード一覧!$A$1:$C$51,3,FALSE)-LEN(競技者一覧!L74)),競技者一覧!L74),\"\")","v":""},{"$f":"IFERROR(CONCATENATE(VLOOKUP(競技者一覧!M74,種目コード一覧!$A$1:$C$51,2,FALSE),\" \",REPT(\"0\",VLOOKUP(競技者一覧!M74,種目コード一覧!$A$1:$C$51,3,FALSE)-LEN(競技者一覧!N74)),競技者一覧!N74),\"\")","v":""},{"$f":"IFERROR(CONCATENATE(VLOOKUP(競技者一覧!O74,種目コード一覧!$A$1:$C$51,2,FALSE),\" \",REPT(\"0\",VLOOKUP(競技者一覧!O74,種目コード一覧!$A$1:$C$51,3,FALSE)-LEN(競技者一覧!P74)),競技者一覧!P74),\"\")","v":""},{"$f":"IFERROR(CONCATENATE(VLOOKUP(競技者一覧!Q74,種目コード一覧!$A$1:$C$51,2,FALSE),\" \",REPT(\"0\",VLOOKUP(競技者一覧!Q74,種目コード一覧!$A$1:$C$51,3,FALSE)-LEN(競技者一覧!R74)),競技者一覧!R74),\"\")","v":""},{"$f":"IFERROR(CONCATENATE(VLOOKUP(競技者一覧!S74,種目コード一覧!$A$1:$C$51,2,FALSE),\" \",REPT(\"0\",VLOOKUP(競技者一覧!S74,種目コード一覧!$A$1:$C$51,3,FALSE)-LEN(競技者一覧!T74)),競技者一覧!T74),\"\")","v":""},{"$f":"IFERROR(CONCATENATE(VLOOKUP(競技者一覧!U74,種目コード一覧!$A$1:$C$51,2,FALSE),\" \",REPT(\"0\",VLOOKUP(競技者一覧!U74,種目コード一覧!$A$1:$C$51,3,FALSE)-LEN(競技者一覧!V74)),競技者一覧!V74),\"\")","v":""},{"$f":"IFERROR(CONCATENATE(VLOOKUP(競技者一覧!W74,種目コード一覧!$A$1:$C$51,2,FALSE),\" \",REPT(\"0\",VLOOKUP(競技者一覧!W74,種目コード一覧!$A$1:$C$51,3,FALSE)-LEN(競技者一覧!X74)),競技者一覧!X74),\"\")","v":""},{"$f":"IFERROR(CONCATENATE(VLOOKUP(競技者一覧!Y74,種目コード一覧!$A$1:$C$51,2,FALSE),\" \",REPT(\"0\",VLOOKUP(競技者一覧!Y74,種目コード一覧!$A$1:$C$51,3,FALSE)-LEN(競技者一覧!Z74)),競技者一覧!Z74),\"\")","v":""}]
[{"$f":"IFERROR(CONCATENATE(競技者一覧!$D$7), \"\")","v":""},{"$f":"IFERROR(CONCATENATE($H$2,Sheet4!B55),\"\")","v":"054"},{"$f":"競技者一覧!C75&IF(OR(競技者一覧!H75=\"\",競技者一覧!H75=9),\"\",\"(\" & 競技者一覧!H75 & \")\")","v":""},{"$f":"競技者一覧!D75 &IF(OR(MID(競技者一覧!G75,3,2)=\"\", MID(競技者一覧!G75,3,2)=\"0\"),\"\",\"(\" & MID(競技者一覧!G75,3,2) & \")\")","v":""},{"$f":"ASC(競技者一覧!E75 & \" \" & 競技者一覧!F75 & IF(OR(MID(競技者一覧!G75,3,2)=\"\", MID(競技者一覧!G75,3,2)=\"0\"),\"\",\"(\" & MID(競技者一覧!G75,3,2) & \")\"))","v":" "},{"$f":"CONCATENATE(競技者一覧!I75)","v":""},{"$f":"IFERROR(IF(競技者一覧!$D$6=\"学連\",VLOOKUP(競技者一覧!J75,Sheet4!$D$2:$E$48,2,FALSE),学校名簿!D55),\"\")","v":""},{"$f":"IFERROR(VLOOKUP(競技者一覧!$D$7,学校番号表!$B$2:$C$65536,2,FALSE),\"\")","v":""},{"$f":"CONCATENATE(競技者一覧!B75)","v":""},{"$f":"IFERROR(CONCATENATE(VLOOKUP(競技者一覧!K75,種目コード一覧!$A$1:$C$51,2,FALSE),\" \",REPT(\"0\",VLOOKUP(競技者一覧!K75,種目コード一覧!$A$1:$C$51,3,FALSE)-LEN(競技者一覧!L75)),競技者一覧!L75),\"\")","v":""},{"$f":"IFERROR(CONCATENATE(VLOOKUP(競技者一覧!M75,種目コード一覧!$A$1:$C$51,2,FALSE),\" \",REPT(\"0\",VLOOKUP(競技者一覧!M75,種目コード一覧!$A$1:$C$51,3,FALSE)-LEN(競技者一覧!N75)),競技者一覧!N75),\"\")","v":""},{"$f":"IFERROR(CONCATENATE(VLOOKUP(競技者一覧!O75,種目コード一覧!$A$1:$C$51,2,FALSE),\" \",REPT(\"0\",VLOOKUP(競技者一覧!O75,種目コード一覧!$A$1:$C$51,3,FALSE)-LEN(競技者一覧!P75)),競技者一覧!P75),\"\")","v":""},{"$f":"IFERROR(CONCATENATE(VLOOKUP(競技者一覧!Q75,種目コード一覧!$A$1:$C$51,2,FALSE),\" \",REPT(\"0\",VLOOKUP(競技者一覧!Q75,種目コード一覧!$A$1:$C$51,3,FALSE)-LEN(競技者一覧!R75)),競技者一覧!R75),\"\")","v":""},{"$f":"IFERROR(CONCATENATE(VLOOKUP(競技者一覧!S75,種目コード一覧!$A$1:$C$51,2,FALSE),\" \",REPT(\"0\",VLOOKUP(競技者一覧!S75,種目コード一覧!$A$1:$C$51,3,FALSE)-LEN(競技者一覧!T75)),競技者一覧!T75),\"\")","v":""},{"$f":"IFERROR(CONCATENATE(VLOOKUP(競技者一覧!U75,種目コード一覧!$A$1:$C$51,2,FALSE),\" \",REPT(\"0\",VLOOKUP(競技者一覧!U75,種目コード一覧!$A$1:$C$51,3,FALSE)-LEN(競技者一覧!V75)),競技者一覧!V75),\"\")","v":""},{"$f":"IFERROR(CONCATENATE(VLOOKUP(競技者一覧!W75,種目コード一覧!$A$1:$C$51,2,FALSE),\" \",REPT(\"0\",VLOOKUP(競技者一覧!W75,種目コード一覧!$A$1:$C$51,3,FALSE)-LEN(競技者一覧!X75)),競技者一覧!X75),\"\")","v":""},{"$f":"IFERROR(CONCATENATE(VLOOKUP(競技者一覧!Y75,種目コード一覧!$A$1:$C$51,2,FALSE),\" \",REPT(\"0\",VLOOKUP(競技者一覧!Y75,種目コード一覧!$A$1:$C$51,3,FALSE)-LEN(競技者一覧!Z75)),競技者一覧!Z75),\"\")","v":""}]
[{"$f":"IFERROR(CONCATENATE(競技者一覧!$D$7), \"\")","v":""},{"$f":"IFERROR(CONCATENATE($H$2,Sheet4!B56),\"\")","v":"055"},{"$f":"競技者一覧!C76&IF(OR(競技者一覧!H76=\"\",競技者一覧!H76=9),\"\",\"(\" & 競技者一覧!H76 & \")\")","v":""},{"$f":"ASC(競技者一覧!D76 &IF(OR(MID(競技者一覧!G76,3,2)=\"\", MID(競技者一覧!G76,3,2)=\"0\"),\"\",\"(\" & MID(競技者一覧!G76,3,2) & \")\"))","v":""},{"$f":"ASC(競技者一覧!E76 & \" \" & 競技者一覧!F76 & IF(OR(MID(競技者一覧!G76,3,2)=\"\", MID(競技者一覧!G76,3,2)=\"0\"),\"\",\"(\" & MID(競技者一覧!G76,3,2) & \")\"))","v":" "},{"$f":"CONCATENATE(競技者一覧!I76)","v":""},{"$f":"IFERROR(IF(競技者一覧!$D$6=\"学連\",VLOOKUP(競技者一覧!J76,Sheet4!$D$2:$E$48,2,FALSE),学校名簿!D56),\"\")","v":""},{"$f":"IFERROR(VLOOKUP(競技者一覧!$D$7,学校番号表!$B$2:$C$65536,2,FALSE),\"\")","v":""},{"$f":"CONCATENATE(競技者一覧!B76)","v":""},{"$f":"IFERROR(CONCATENATE(VLOOKUP(競技者一覧!K76,種目コード一覧!$A$1:$B$51,2,FALSE),\" \",REPT(\"0\",VLOOKUP(競技者一覧!K76,種目コード一覧!$A$1:$C$51,3,FALSE)-LEN(競技者一覧!L76)),競技者一覧!L76),\"\")","v":""},{"$f":"IFERROR(CONCATENATE(VLOOKUP(競技者一覧!M76,種目コード一覧!$A$1:$C$51,2,FALSE),\" \",REPT(\"0\",VLOOKUP(競技者一覧!M76,種目コード一覧!$A$1:$C$51,3,FALSE)-LEN(競技者一覧!N76)),競技者一覧!N76),\"\")","v":""},{"$f":"IFERROR(CONCATENATE(VLOOKUP(競技者一覧!O76,種目コード一覧!$A$1:$C$51,2,FALSE),\" \",REPT(\"0\",VLOOKUP(競技者一覧!O76,種目コード一覧!$A$1:$C$51,3,FALSE)-LEN(競技者一覧!P76)),競技者一覧!P76),\"\")","v":""},{"$f":"IFERROR(CONCATENATE(VLOOKUP(競技者一覧!Q76,種目コード一覧!$A$1:$C$51,2,FALSE),\" \",REPT(\"0\",VLOOKUP(競技者一覧!Q76,種目コード一覧!$A$1:$C$51,3,FALSE)-LEN(競技者一覧!R76)),競技者一覧!R76),\"\")","v":""},{"$f":"IFERROR(CONCATENATE(VLOOKUP(競技者一覧!S76,種目コード一覧!$A$1:$C$51,2,FALSE),\" \",REPT(\"0\",VLOOKUP(競技者一覧!S76,種目コード一覧!$A$1:$C$51,3,FALSE)-LEN(競技者一覧!T76)),競技者一覧!T76),\"\")","v":""},{"$f":"IFERROR(CONCATENATE(VLOOKUP(競技者一覧!U76,種目コード一覧!$A$1:$C$51,2,FALSE),\" \",REPT(\"0\",VLOOKUP(競技者一覧!U76,種目コード一覧!$A$1:$C$51,3,FALSE)-LEN(競技者一覧!V76)),競技者一覧!V76),\"\")","v":""},{"$f":"IFERROR(CONCATENATE(VLOOKUP(競技者一覧!W76,種目コード一覧!$A$1:$C$51,2,FALSE),\" \",REPT(\"0\",VLOOKUP(競技者一覧!W76,種目コード一覧!$A$1:$C$51,3,FALSE)-LEN(競技者一覧!X76)),競技者一覧!X76),\"\")","v":""},{"$f":"IFERROR(CONCATENATE(VLOOKUP(競技者一覧!Y76,種目コード一覧!$A$1:$C$51,2,FALSE),\" \",REPT(\"0\",VLOOKUP(競技者一覧!Y76,種目コード一覧!$A$1:$C$51,3,FALSE)-LEN(競技者一覧!Z76)),競技者一覧!Z76),\"\")","v":""}]
[{"$f":"IFERROR(CONCATENATE(競技者一覧!$D$7), \"\")","v":""},{"$f":"IFERROR(CONCATENATE($H$2,Sheet4!B57),\"\")","v":"056"},{"$f":"競技者一覧!C77&IF(OR(競技者一覧!H77=\"\",競技者一覧!H77=9),\"\",\"(\" & 競技者一覧!H77 & \")\")","v":""},{"$f":"競技者一覧!D77 &IF(OR(MID(競技者一覧!G77,3,2)=\"\", MID(競技者一覧!G77,3,2)=\"0\"),\"\",\"(\" & MID(競技者一覧!G77,3,2) & \")\")","v":""},{"$f":"ASC(競技者一覧!E77 & \" \" & 競技者一覧!F77 & IF(OR(MID(競技者一覧!G77,3,2)=\"\", MID(競技者一覧!G77,3,2)=\"0\"),\"\",\"(\" & MID(競技者一覧!G77,3,2) & \")\"))","v":" "},{"$f":"CONCATENATE(競技者一覧!I77)","v":""},{"$f":"IFERROR(IF(競技者一覧!$D$6=\"学連\",VLOOKUP(競技者一覧!J77,Sheet4!$D$2:$E$48,2,FALSE),学校名簿!D57),\"\")","v":""},{"$f":"IFERROR(VLOOKUP(競技者一覧!$D$7,学校番号表!$B$2:$C$65536,2,FALSE),\"\")","v":""},{"$f":"CONCATENATE(競技者一覧!B77)","v":""},{"$f":"IFERROR(CONCATENATE(VLOOKUP(競技者一覧!K77,種目コード一覧!$A$1:$C$51,2,FALSE),\" \",REPT(\"0\",VLOOKUP(競技者一覧!K77,種目コード一覧!$A$1:$C$51,3,FALSE)-LEN(競技者一覧!L77)),競技者一覧!L77),\"\")","v":""},{"$f":"IFERROR(CONCATENATE(VLOOKUP(競技者一覧!M77,種目コード一覧!$A$1:$C$51,2,FALSE),\" \",REPT(\"0\",VLOOKUP(競技者一覧!M77,種目コード一覧!$A$1:$C$51,3,FALSE)-LEN(競技者一覧!N77)),競技者一覧!N77),\"\")","v":""},{"$f":"IFERROR(CONCATENATE(VLOOKUP(競技者一覧!O77,種目コード一覧!$A$1:$C$51,2,FALSE),\" \",REPT(\"0\",VLOOKUP(競技者一覧!O77,種目コード一覧!$A$1:$C$51,3,FALSE)-LEN(競技者一覧!P77)),競技者一覧!P77),\"\")","v":""},{"$f":"IFERROR(CONCATENATE(VLOOKUP(競技者一覧!Q77,種目コード一覧!$A$1:$C$51,2,FALSE),\" \",REPT(\"0\",VLOOKUP(競技者一覧!Q77,種目コード一覧!$A$1:$C$51,3,FALSE)-LEN(競技者一覧!R77)),競技者一覧!R77),\"\")","v":""},{"$f":"IFERROR(CONCATENATE(VLOOKUP(競技者一覧!S77,種目コード一覧!$A$1:$C$51,2,FALSE),\" \",REPT(\"0\",VLOOKUP(競技者一覧!S77,種目コード一覧!$A$1:$C$51,3,FALSE)-LEN(競技者一覧!T77)),競技者一覧!T77),\"\")","v":""},{"$f":"IFERROR(CONCATENATE(VLOOKUP(競技者一覧!U77,種目コード一覧!$A$1:$C$51,2,FALSE),\" \",REPT(\"0\",VLOOKUP(競技者一覧!U77,種目コード一覧!$A$1:$C$51,3,FALSE)-LEN(競技者一覧!V77)),競技者一覧!V77),\"\")","v":""},{"$f":"IFERROR(CONCATENATE(VLOOKUP(競技者一覧!W77,種目コード一覧!$A$1:$C$51,2,FALSE),\" \",REPT(\"0\",VLOOKUP(競技者一覧!W77,種目コード一覧!$A$1:$C$51,3,FALSE)-LEN(競技者一覧!X77)),競技者一覧!X77),\"\")","v":""},{"$f":"IFERROR(CONCATENATE(VLOOKUP(競技者一覧!Y77,種目コード一覧!$A$1:$C$51,2,FALSE),\" \",REPT(\"0\",VLOOKUP(競技者一覧!Y77,種目コード一覧!$A$1:$C$51,3,FALSE)-LEN(競技者一覧!Z77)),競技者一覧!Z77),\"\")","v":""}]
[{"$f":"IFERROR(CONCATENATE(競技者一覧!$D$7), \"\")","v":""},{"$f":"IFERROR(CONCATENATE($H$2,Sheet4!B58),\"\")","v":"057"},{"$f":"競技者一覧!C78&IF(OR(競技者一覧!H78=\"\",競技者一覧!H78=9),\"\",\"(\" & 競技者一覧!H78 & \")\")","v":""},{"$f":"ASC(競技者一覧!D78 &IF(OR(MID(競技者一覧!G78,3,2)=\"\", MID(競技者一覧!G78,3,2)=\"0\"),\"\",\"(\" & MID(競技者一覧!G78,3,2) & \")\"))","v":""},{"$f":"ASC(競技者一覧!E78 & \" \" & 競技者一覧!F78 & IF(OR(MID(競技者一覧!G78,3,2)=\"\", MID(競技者一覧!G78,3,2)=\"0\"),\"\",\"(\" & MID(競技者一覧!G78,3,2) & \")\"))","v":" "},{"$f":"CONCATENATE(競技者一覧!I78)","v":""},{"$f":"IFERROR(IF(競技者一覧!$D$6=\"学連\",VLOOKUP(競技者一覧!J78,Sheet4!$D$2:$E$48,2,FALSE),学校名簿!D58),\"\")","v":""},{"$f":"IFERROR(VLOOKUP(競技者一覧!$D$7,学校番号表!$B$2:$C$65536,2,FALSE),\"\")","v":""},{"$f":"CONCATENATE(競技者一覧!B78)","v":""},{"$f":"IFERROR(CONCATENATE(VLOOKUP(競技者一覧!K78,種目コード一覧!$A$1:$B$51,2,FALSE),\" \",REPT(\"0\",VLOOKUP(競技者一覧!K78,種目コード一覧!$A$1:$C$51,3,FALSE)-LEN(競技者一覧!L78)),競技者一覧!L78),\"\")","v":""},{"$f":"IFERROR(CONCATENATE(VLOOKUP(競技者一覧!M78,種目コード一覧!$A$1:$C$51,2,FALSE),\" \",REPT(\"0\",VLOOKUP(競技者一覧!M78,種目コード一覧!$A$1:$C$51,3,FALSE)-LEN(競技者一覧!N78)),競技者一覧!N78),\"\")","v":""},{"$f":"IFERROR(CONCATENATE(VLOOKUP(競技者一覧!O78,種目コード一覧!$A$1:$C$51,2,FALSE),\" \",REPT(\"0\",VLOOKUP(競技者一覧!O78,種目コード一覧!$A$1:$C$51,3,FALSE)-LEN(競技者一覧!P78)),競技者一覧!P78),\"\")","v":""},{"$f":"IFERROR(CONCATENATE(VLOOKUP(競技者一覧!Q78,種目コード一覧!$A$1:$C$51,2,FALSE),\" \",REPT(\"0\",VLOOKUP(競技者一覧!Q78,種目コード一覧!$A$1:$C$51,3,FALSE)-LEN(競技者一覧!R78)),競技者一覧!R78),\"\")","v":""},{"$f":"IFERROR(CONCATENATE(VLOOKUP(競技者一覧!S78,種目コード一覧!$A$1:$C$51,2,FALSE),\" \",REPT(\"0\",VLOOKUP(競技者一覧!S78,種目コード一覧!$A$1:$C$51,3,FALSE)-LEN(競技者一覧!T78)),競技者一覧!T78),\"\")","v":""},{"$f":"IFERROR(CONCATENATE(VLOOKUP(競技者一覧!U78,種目コード一覧!$A$1:$C$51,2,FALSE),\" \",REPT(\"0\",VLOOKUP(競技者一覧!U78,種目コード一覧!$A$1:$C$51,3,FALSE)-LEN(競技者一覧!V78)),競技者一覧!V78),\"\")","v":""},{"$f":"IFERROR(CONCATENATE(VLOOKUP(競技者一覧!W78,種目コード一覧!$A$1:$C$51,2,FALSE),\" \",REPT(\"0\",VLOOKUP(競技者一覧!W78,種目コード一覧!$A$1:$C$51,3,FALSE)-LEN(競技者一覧!X78)),競技者一覧!X78),\"\")","v":""},{"$f":"IFERROR(CONCATENATE(VLOOKUP(競技者一覧!Y78,種目コード一覧!$A$1:$C$51,2,FALSE),\" \",REPT(\"0\",VLOOKUP(競技者一覧!Y78,種目コード一覧!$A$1:$C$51,3,FALSE)-LEN(競技者一覧!Z78)),競技者一覧!Z78),\"\")","v":""}]
[{"$f":"IFERROR(CONCATENATE(競技者一覧!$D$7), \"\")","v":""},{"$f":"IFERROR(CONCATENATE($H$2,Sheet4!B59),\"\")","v":"058"},{"$f":"競技者一覧!C79&IF(OR(競技者一覧!H79=\"\",競技者一覧!H79=9),\"\",\"(\" & 競技者一覧!H79 & \")\")","v":""},{"$f":"競技者一覧!D79 &IF(OR(MID(競技者一覧!G79,3,2)=\"\", MID(競技者一覧!G79,3,2)=\"0\"),\"\",\"(\" & MID(競技者一覧!G79,3,2) & \")\")","v":""},{"$f":"ASC(競技者一覧!E79 & \" \" & 競技者一覧!F79 & IF(OR(MID(競技者一覧!G79,3,2)=\"\", MID(競技者一覧!G79,3,2)=\"0\"),\"\",\"(\" & MID(競技者一覧!G79,3,2) & \")\"))","v":" "},{"$f":"CONCATENATE(競技者一覧!I79)","v":""},{"$f":"IFERROR(IF(競技者一覧!$D$6=\"学連\",VLOOKUP(競技者一覧!J79,Sheet4!$D$2:$E$48,2,FALSE),学校名簿!D59),\"\")","v":""},{"$f":"IFERROR(VLOOKUP(競技者一覧!$D$7,学校番号表!$B$2:$C$65536,2,FALSE),\"\")","v":""},{"$f":"CONCATENATE(競技者一覧!B79)","v":""},{"$f":"IFERROR(CONCATENATE(VLOOKUP(競技者一覧!K79,種目コード一覧!$A$1:$C$51,2,FALSE),\" \",REPT(\"0\",VLOOKUP(競技者一覧!K79,種目コード一覧!$A$1:$C$51,3,FALSE)-LEN(競技者一覧!L79)),競技者一覧!L79),\"\")","v":""},{"$f":"IFERROR(CONCATENATE(VLOOKUP(競技者一覧!M79,種目コード一覧!$A$1:$C$51,2,FALSE),\" \",REPT(\"0\",VLOOKUP(競技者一覧!M79,種目コード一覧!$A$1:$C$51,3,FALSE)-LEN(競技者一覧!N79)),競技者一覧!N79),\"\")","v":""},{"$f":"IFERROR(CONCATENATE(VLOOKUP(競技者一覧!O79,種目コード一覧!$A$1:$C$51,2,FALSE),\" \",REPT(\"0\",VLOOKUP(競技者一覧!O79,種目コード一覧!$A$1:$C$51,3,FALSE)-LEN(競技者一覧!P79)),競技者一覧!P79),\"\")","v":""},{"$f":"IFERROR(CONCATENATE(VLOOKUP(競技者一覧!Q79,種目コード一覧!$A$1:$C$51,2,FALSE),\" \",REPT(\"0\",VLOOKUP(競技者一覧!Q79,種目コード一覧!$A$1:$C$51,3,FALSE)-LEN(競技者一覧!R79)),競技者一覧!R79),\"\")","v":""},{"$f":"IFERROR(CONCATENATE(VLOOKUP(競技者一覧!S79,種目コード一覧!$A$1:$C$51,2,FALSE),\" \",REPT(\"0\",VLOOKUP(競技者一覧!S79,種目コード一覧!$A$1:$C$51,3,FALSE)-LEN(競技者一覧!T79)),競技者一覧!T79),\"\")","v":""},{"$f":"IFERROR(CONCATENATE(VLOOKUP(競技者一覧!U79,種目コード一覧!$A$1:$C$51,2,FALSE),\" \",REPT(\"0\",VLOOKUP(競技者一覧!U79,種目コード一覧!$A$1:$C$51,3,FALSE)-LEN(競技者一覧!V79)),競技者一覧!V79),\"\")","v":""},{"$f":"IFERROR(CONCATENATE(VLOOKUP(競技者一覧!W79,種目コード一覧!$A$1:$C$51,2,FALSE),\" \",REPT(\"0\",VLOOKUP(競技者一覧!W79,種目コード一覧!$A$1:$C$51,3,FALSE)-LEN(競技者一覧!X79)),競技者一覧!X79),\"\")","v":""},{"$f":"IFERROR(CONCATENATE(VLOOKUP(競技者一覧!Y79,種目コード一覧!$A$1:$C$51,2,FALSE),\" \",REPT(\"0\",VLOOKUP(競技者一覧!Y79,種目コード一覧!$A$1:$C$51,3,FALSE)-LEN(競技者一覧!Z79)),競技者一覧!Z79),\"\")","v":""}]
[{"$f":"IFERROR(CONCATENATE(競技者一覧!$D$7), \"\")","v":""},{"$f":"IFERROR(CONCATENATE($H$2,Sheet4!B60),\"\")","v":"059"},{"$f":"競技者一覧!C80&IF(OR(競技者一覧!H80=\"\",競技者一覧!H80=9),\"\",\"(\" & 競技者一覧!H80 & \")\")","v":""},{"$f":"ASC(競技者一覧!D80 &IF(OR(MID(競技者一覧!G80,3,2)=\"\", MID(競技者一覧!G80,3,2)=\"0\"),\"\",\"(\" & MID(競技者一覧!G80,3,2) & \")\"))","v":""},{"$f":"ASC(競技者一覧!E80 & \" \" & 競技者一覧!F80 & IF(OR(MID(競技者一覧!G80,3,2)=\"\", MID(競技者一覧!G80,3,2)=\"0\"),\"\",\"(\" & MID(競技者一覧!G80,3,2) & \")\"))","v":" "},{"$f":"CONCATENATE(競技者一覧!I80)","v":""},{"$f":"IFERROR(IF(競技者一覧!$D$6=\"学連\",VLOOKUP(競技者一覧!J80,Sheet4!$D$2:$E$48,2,FALSE),学校名簿!D60),\"\")","v":""},{"$f":"IFERROR(VLOOKUP(競技者一覧!$D$7,学校番号表!$B$2:$C$65536,2,FALSE),\"\")","v":""},{"$f":"CONCATENATE(競技者一覧!B80)","v":""},{"$f":"IFERROR(CONCATENATE(VLOOKUP(競技者一覧!K80,種目コード一覧!$A$1:$B$51,2,FALSE),\" \",REPT(\"0\",VLOOKUP(競技者一覧!K80,種目コード一覧!$A$1:$C$51,3,FALSE)-LEN(競技者一覧!L80)),競技者一覧!L80),\"\")","v":""},{"$f":"IFERROR(CONCATENATE(VLOOKUP(競技者一覧!M80,種目コード一覧!$A$1:$C$51,2,FALSE),\" \",REPT(\"0\",VLOOKUP(競技者一覧!M80,種目コード一覧!$A$1:$C$51,3,FALSE)-LEN(競技者一覧!N80)),競技者一覧!N80),\"\")","v":""},{"$f":"IFERROR(CONCATENATE(VLOOKUP(競技者一覧!O80,種目コード一覧!$A$1:$C$51,2,FALSE),\" \",REPT(\"0\",VLOOKUP(競技者一覧!O80,種目コード一覧!$A$1:$C$51,3,FALSE)-LEN(競技者一覧!P80)),競技者一覧!P80),\"\")","v":""},{"$f":"IFERROR(CONCATENATE(VLOOKUP(競技者一覧!Q80,種目コード一覧!$A$1:$C$51,2,FALSE),\" \",REPT(\"0\",VLOOKUP(競技者一覧!Q80,種目コード一覧!$A$1:$C$51,3,FALSE)-LEN(競技者一覧!R80)),競技者一覧!R80),\"\")","v":""},{"$f":"IFERROR(CONCATENATE(VLOOKUP(競技者一覧!S80,種目コード一覧!$A$1:$C$51,2,FALSE),\" \",REPT(\"0\",VLOOKUP(競技者一覧!S80,種目コード一覧!$A$1:$C$51,3,FALSE)-LEN(競技者一覧!T80)),競技者一覧!T80),\"\")","v":""},{"$f":"IFERROR(CONCATENATE(VLOOKUP(競技者一覧!U80,種目コード一覧!$A$1:$C$51,2,FALSE),\" \",REPT(\"0\",VLOOKUP(競技者一覧!U80,種目コード一覧!$A$1:$C$51,3,FALSE)-LEN(競技者一覧!V80)),競技者一覧!V80),\"\")","v":""},{"$f":"IFERROR(CONCATENATE(VLOOKUP(競技者一覧!W80,種目コード一覧!$A$1:$C$51,2,FALSE),\" \",REPT(\"0\",VLOOKUP(競技者一覧!W80,種目コード一覧!$A$1:$C$51,3,FALSE)-LEN(競技者一覧!X80)),競技者一覧!X80),\"\")","v":""},{"$f":"IFERROR(CONCATENATE(VLOOKUP(競技者一覧!Y80,種目コード一覧!$A$1:$C$51,2,FALSE),\" \",REPT(\"0\",VLOOKUP(競技者一覧!Y80,種目コード一覧!$A$1:$C$51,3,FALSE)-LEN(競技者一覧!Z80)),競技者一覧!Z80),\"\")","v":""}]
[{"$f":"IFERROR(CONCATENATE(競技者一覧!$D$7), \"\")","v":""},{"$f":"IFERROR(CONCATENATE($H$2,Sheet4!B61),\"\")","v":"060"},{"$f":"競技者一覧!C81&IF(OR(競技者一覧!H81=\"\",競技者一覧!H81=9),\"\",\"(\" & 競技者一覧!H81 & \")\")","v":""},{"$f":"競技者一覧!D81 &IF(OR(MID(競技者一覧!G81,3,2)=\"\", MID(競技者一覧!G81,3,2)=\"0\"),\"\",\"(\" & MID(競技者一覧!G81,3,2) & \")\")","v":""},{"$f":"ASC(競技者一覧!E81 & \" \" & 競技者一覧!F81 & IF(OR(MID(競技者一覧!G81,3,2)=\"\", MID(競技者一覧!G81,3,2)=\"0\"),\"\",\"(\" & MID(競技者一覧!G81,3,2) & \")\"))","v":" "},{"$f":"CONCATENATE(競技者一覧!I81)","v":""},{"$f":"IFERROR(IF(競技者一覧!$D$6=\"学連\",VLOOKUP(競技者一覧!J81,Sheet4!$D$2:$E$48,2,FALSE),学校名簿!D61),\"\")","v":""},{"$f":"IFERROR(VLOOKUP(競技者一覧!$D$7,学校番号表!$B$2:$C$65536,2,FALSE),\"\")","v":""},{"$f":"CONCATENATE(競技者一覧!B81)","v":""},{"$f":"IFERROR(CONCATENATE(VLOOKUP(競技者一覧!K81,種目コード一覧!$A$1:$C$51,2,FALSE),\" \",REPT(\"0\",VLOOKUP(競技者一覧!K81,種目コード一覧!$A$1:$C$51,3,FALSE)-LEN(競技者一覧!L81)),競技者一覧!L81),\"\")","v":""},{"$f":"IFERROR(CONCATENATE(VLOOKUP(競技者一覧!M81,種目コード一覧!$A$1:$C$51,2,FALSE),\" \",REPT(\"0\",VLOOKUP(競技者一覧!M81,種目コード一覧!$A$1:$C$51,3,FALSE)-LEN(競技者一覧!N81)),競技者一覧!N81),\"\")","v":""},{"$f":"IFERROR(CONCATENATE(VLOOKUP(競技者一覧!O81,種目コード一覧!$A$1:$C$51,2,FALSE),\" \",REPT(\"0\",VLOOKUP(競技者一覧!O81,種目コード一覧!$A$1:$C$51,3,FALSE)-LEN(競技者一覧!P81)),競技者一覧!P81),\"\")","v":""},{"$f":"IFERROR(CONCATENATE(VLOOKUP(競技者一覧!Q81,種目コード一覧!$A$1:$C$51,2,FALSE),\" \",REPT(\"0\",VLOOKUP(競技者一覧!Q81,種目コード一覧!$A$1:$C$51,3,FALSE)-LEN(競技者一覧!R81)),競技者一覧!R81),\"\")","v":""},{"$f":"IFERROR(CONCATENATE(VLOOKUP(競技者一覧!S81,種目コード一覧!$A$1:$C$51,2,FALSE),\" \",REPT(\"0\",VLOOKUP(競技者一覧!S81,種目コード一覧!$A$1:$C$51,3,FALSE)-LEN(競技者一覧!T81)),競技者一覧!T81),\"\")","v":""},{"$f":"IFERROR(CONCATENATE(VLOOKUP(競技者一覧!U81,種目コード一覧!$A$1:$C$51,2,FALSE),\" \",REPT(\"0\",VLOOKUP(競技者一覧!U81,種目コード一覧!$A$1:$C$51,3,FALSE)-LEN(競技者一覧!V81)),競技者一覧!V81),\"\")","v":""},{"$f":"IFERROR(CONCATENATE(VLOOKUP(競技者一覧!W81,種目コード一覧!$A$1:$C$51,2,FALSE),\" \",REPT(\"0\",VLOOKUP(競技者一覧!W81,種目コード一覧!$A$1:$C$51,3,FALSE)-LEN(競技者一覧!X81)),競技者一覧!X81),\"\")","v":""},{"$f":"IFERROR(CONCATENATE(VLOOKUP(競技者一覧!Y81,種目コード一覧!$A$1:$C$51,2,FALSE),\" \",REPT(\"0\",VLOOKUP(競技者一覧!Y81,種目コード一覧!$A$1:$C$51,3,FALSE)-LEN(競技者一覧!Z81)),競技者一覧!Z81),\"\")","v":""}]
[{"$f":"IFERROR(CONCATENATE(競技者一覧!$D$7), \"\")","v":""},{"$f":"IFERROR(CONCATENATE($H$2,Sheet4!B62),\"\")","v":"061"},{"$f":"競技者一覧!C82&IF(OR(競技者一覧!H82=\"\",競技者一覧!H82=9),\"\",\"(\" & 競技者一覧!H82 & \")\")","v":""},{"$f":"ASC(競技者一覧!D82 &IF(OR(MID(競技者一覧!G82,3,2)=\"\", MID(競技者一覧!G82,3,2)=\"0\"),\"\",\"(\" & MID(競技者一覧!G82,3,2) & \")\"))","v":""},{"$f":"ASC(競技者一覧!E82 & \" \" & 競技者一覧!F82 & IF(OR(MID(競技者一覧!G82,3,2)=\"\", MID(競技者一覧!G82,3,2)=\"0\"),\"\",\"(\" & MID(競技者一覧!G82,3,2) & \")\"))","v":" "},{"$f":"CONCATENATE(競技者一覧!I82)","v":""},{"$f":"IFERROR(IF(競技者一覧!$D$6=\"学連\",VLOOKUP(競技者一覧!J82,Sheet4!$D$2:$E$48,2,FALSE),学校名簿!D62),\"\")","v":""},{"$f":"IFERROR(VLOOKUP(競技者一覧!$D$7,学校番号表!$B$2:$C$65536,2,FALSE),\"\")","v":""},{"$f":"CONCATENATE(競技者一覧!B82)","v":""},{"$f":"IFERROR(CONCATENATE(VLOOKUP(競技者一覧!K82,種目コード一覧!$A$1:$B$51,2,FALSE),\" \",REPT(\"0\",VLOOKUP(競技者一覧!K82,種目コード一覧!$A$1:$C$51,3,FALSE)-LEN(競技者一覧!L82)),競技者一覧!L82),\"\")","v":""},{"$f":"IFERROR(CONCATENATE(VLOOKUP(競技者一覧!M82,種目コード一覧!$A$1:$C$51,2,FALSE),\" \",REPT(\"0\",VLOOKUP(競技者一覧!M82,種目コード一覧!$A$1:$C$51,3,FALSE)-LEN(競技者一覧!N82)),競技者一覧!N82),\"\")","v":""},{"$f":"IFERROR(CONCATENATE(VLOOKUP(競技者一覧!O82,種目コード一覧!$A$1:$C$51,2,FALSE),\" \",REPT(\"0\",VLOOKUP(競技者一覧!O82,種目コード一覧!$A$1:$C$51,3,FALSE)-LEN(競技者一覧!P82)),競技者一覧!P82),\"\")","v":""},{"$f":"IFERROR(CONCATENATE(VLOOKUP(競技者一覧!Q82,種目コード一覧!$A$1:$C$51,2,FALSE),\" \",REPT(\"0\",VLOOKUP(競技者一覧!Q82,種目コード一覧!$A$1:$C$51,3,FALSE)-LEN(競技者一覧!R82)),競技者一覧!R82),\"\")","v":""},{"$f":"IFERROR(CONCATENATE(VLOOKUP(競技者一覧!S82,種目コード一覧!$A$1:$C$51,2,FALSE),\" \",REPT(\"0\",VLOOKUP(競技者一覧!S82,種目コード一覧!$A$1:$C$51,3,FALSE)-LEN(競技者一覧!T82)),競技者一覧!T82),\"\")","v":""},{"$f":"IFERROR(CONCATENATE(VLOOKUP(競技者一覧!U82,種目コード一覧!$A$1:$C$51,2,FALSE),\" \",REPT(\"0\",VLOOKUP(競技者一覧!U82,種目コード一覧!$A$1:$C$51,3,FALSE)-LEN(競技者一覧!V82)),競技者一覧!V82),\"\")","v":""},{"$f":"IFERROR(CONCATENATE(VLOOKUP(競技者一覧!W82,種目コード一覧!$A$1:$C$51,2,FALSE),\" \",REPT(\"0\",VLOOKUP(競技者一覧!W82,種目コード一覧!$A$1:$C$51,3,FALSE)-LEN(競技者一覧!X82)),競技者一覧!X82),\"\")","v":""},{"$f":"IFERROR(CONCATENATE(VLOOKUP(競技者一覧!Y82,種目コード一覧!$A$1:$C$51,2,FALSE),\" \",REPT(\"0\",VLOOKUP(競技者一覧!Y82,種目コード一覧!$A$1:$C$51,3,FALSE)-LEN(競技者一覧!Z82)),競技者一覧!Z82),\"\")","v":""}]
[{"$f":"IFERROR(CONCATENATE(競技者一覧!$D$7), \"\")","v":""},{"$f":"IFERROR(CONCATENATE($H$2,Sheet4!B63),\"\")","v":"062"},{"$f":"競技者一覧!C83&IF(OR(競技者一覧!H83=\"\",競技者一覧!H83=9),\"\",\"(\" & 競技者一覧!H83 & \")\")","v":""},{"$f":"競技者一覧!D83 &IF(OR(MID(競技者一覧!G83,3,2)=\"\", MID(競技者一覧!G83,3,2)=\"0\"),\"\",\"(\" & MID(競技者一覧!G83,3,2) & \")\")","v":""},{"$f":"ASC(競技者一覧!E83 & \" \" & 競技者一覧!F83 & IF(OR(MID(競技者一覧!G83,3,2)=\"\", MID(競技者一覧!G83,3,2)=\"0\"),\"\",\"(\" & MID(競技者一覧!G83,3,2) & \")\"))","v":" "},{"$f":"CONCATENATE(競技者一覧!I83)","v":""},{"$f":"IFERROR(IF(競技者一覧!$D$6=\"学連\",VLOOKUP(競技者一覧!J83,Sheet4!$D$2:$E$48,2,FALSE),学校名簿!D63),\"\")","v":""},{"$f":"IFERROR(VLOOKUP(競技者一覧!$D$7,学校番号表!$B$2:$C$65536,2,FALSE),\"\")","v":""},{"$f":"CONCATENATE(競技者一覧!B83)","v":""},{"$f":"IFERROR(CONCATENATE(VLOOKUP(競技者一覧!K83,種目コード一覧!$A$1:$C$51,2,FALSE),\" \",REPT(\"0\",VLOOKUP(競技者一覧!K83,種目コード一覧!$A$1:$C$51,3,FALSE)-LEN(競技者一覧!L83)),競技者一覧!L83),\"\")","v":""},{"$f":"IFERROR(CONCATENATE(VLOOKUP(競技者一覧!M83,種目コード一覧!$A$1:$C$51,2,FALSE),\" \",REPT(\"0\",VLOOKUP(競技者一覧!M83,種目コード一覧!$A$1:$C$51,3,FALSE)-LEN(競技者一覧!N83)),競技者一覧!N83),\"\")","v":""},{"$f":"IFERROR(CONCATENATE(VLOOKUP(競技者一覧!O83,種目コード一覧!$A$1:$C$51,2,FALSE),\" \",REPT(\"0\",VLOOKUP(競技者一覧!O83,種目コード一覧!$A$1:$C$51,3,FALSE)-LEN(競技者一覧!P83)),競技者一覧!P83),\"\")","v":""},{"$f":"IFERROR(CONCATENATE(VLOOKUP(競技者一覧!Q83,種目コード一覧!$A$1:$C$51,2,FALSE),\" \",REPT(\"0\",VLOOKUP(競技者一覧!Q83,種目コード一覧!$A$1:$C$51,3,FALSE)-LEN(競技者一覧!R83)),競技者一覧!R83),\"\")","v":""},{"$f":"IFERROR(CONCATENATE(VLOOKUP(競技者一覧!S83,種目コード一覧!$A$1:$C$51,2,FALSE),\" \",REPT(\"0\",VLOOKUP(競技者一覧!S83,種目コード一覧!$A$1:$C$51,3,FALSE)-LEN(競技者一覧!T83)),競技者一覧!T83),\"\")","v":""},{"$f":"IFERROR(CONCATENATE(VLOOKUP(競技者一覧!U83,種目コード一覧!$A$1:$C$51,2,FALSE),\" \",REPT(\"0\",VLOOKUP(競技者一覧!U83,種目コード一覧!$A$1:$C$51,3,FALSE)-LEN(競技者一覧!V83)),競技者一覧!V83),\"\")","v":""},{"$f":"IFERROR(CONCATENATE(VLOOKUP(競技者一覧!W83,種目コード一覧!$A$1:$C$51,2,FALSE),\" \",REPT(\"0\",VLOOKUP(競技者一覧!W83,種目コード一覧!$A$1:$C$51,3,FALSE)-LEN(競技者一覧!X83)),競技者一覧!X83),\"\")","v":""},{"$f":"IFERROR(CONCATENATE(VLOOKUP(競技者一覧!Y83,種目コード一覧!$A$1:$C$51,2,FALSE),\" \",REPT(\"0\",VLOOKUP(競技者一覧!Y83,種目コード一覧!$A$1:$C$51,3,FALSE)-LEN(競技者一覧!Z83)),競技者一覧!Z83),\"\")","v":""}]
[{"$f":"IFERROR(CONCATENATE(競技者一覧!$D$7), \"\")","v":""},{"$f":"IFERROR(CONCATENATE($H$2,Sheet4!B64),\"\")","v":"063"},{"$f":"競技者一覧!C84&IF(OR(競技者一覧!H84=\"\",競技者一覧!H84=9),\"\",\"(\" & 競技者一覧!H84 & \")\")","v":""},{"$f":"ASC(競技者一覧!D84 &IF(OR(MID(競技者一覧!G84,3,2)=\"\", MID(競技者一覧!G84,3,2)=\"0\"),\"\",\"(\" & MID(競技者一覧!G84,3,2) & \")\"))","v":""},{"$f":"ASC(競技者一覧!E84 & \" \" & 競技者一覧!F84 & IF(OR(MID(競技者一覧!G84,3,2)=\"\", MID(競技者一覧!G84,3,2)=\"0\"),\"\",\"(\" & MID(競技者一覧!G84,3,2) & \")\"))","v":" "},{"$f":"CONCATENATE(競技者一覧!I84)","v":""},{"$f":"IFERROR(IF(競技者一覧!$D$6=\"学連\",VLOOKUP(競技者一覧!J84,Sheet4!$D$2:$E$48,2,FALSE),学校名簿!D64),\"\")","v":""},{"$f":"IFERROR(VLOOKUP(競技者一覧!$D$7,学校番号表!$B$2:$C$65536,2,FALSE),\"\")","v":""},{"$f":"CONCATENATE(競技者一覧!B84)","v":""},{"$f":"IFERROR(CONCATENATE(VLOOKUP(競技者一覧!K84,種目コード一覧!$A$1:$B$51,2,FALSE),\" \",REPT(\"0\",VLOOKUP(競技者一覧!K84,種目コード一覧!$A$1:$C$51,3,FALSE)-LEN(競技者一覧!L84)),競技者一覧!L84),\"\")","v":""},{"$f":"IFERROR(CONCATENATE(VLOOKUP(競技者一覧!M84,種目コード一覧!$A$1:$C$51,2,FALSE),\" \",REPT(\"0\",VLOOKUP(競技者一覧!M84,種目コード一覧!$A$1:$C$51,3,FALSE)-LEN(競技者一覧!N84)),競技者一覧!N84),\"\")","v":""},{"$f":"IFERROR(CONCATENATE(VLOOKUP(競技者一覧!O84,種目コード一覧!$A$1:$C$51,2,FALSE),\" \",REPT(\"0\",VLOOKUP(競技者一覧!O84,種目コード一覧!$A$1:$C$51,3,FALSE)-LEN(競技者一覧!P84)),競技者一覧!P84),\"\")","v":""},{"$f":"IFERROR(CONCATENATE(VLOOKUP(競技者一覧!Q84,種目コード一覧!$A$1:$C$51,2,FALSE),\" \",REPT(\"0\",VLOOKUP(競技者一覧!Q84,種目コード一覧!$A$1:$C$51,3,FALSE)-LEN(競技者一覧!R84)),競技者一覧!R84),\"\")","v":""},{"$f":"IFERROR(CONCATENATE(VLOOKUP(競技者一覧!S84,種目コード一覧!$A$1:$C$51,2,FALSE),\" \",REPT(\"0\",VLOOKUP(競技者一覧!S84,種目コード一覧!$A$1:$C$51,3,FALSE)-LEN(競技者一覧!T84)),競技者一覧!T84),\"\")","v":""},{"$f":"IFERROR(CONCATENATE(VLOOKUP(競技者一覧!U84,種目コード一覧!$A$1:$C$51,2,FALSE),\" \",REPT(\"0\",VLOOKUP(競技者一覧!U84,種目コード一覧!$A$1:$C$51,3,FALSE)-LEN(競技者一覧!V84)),競技者一覧!V84),\"\")","v":""},{"$f":"IFERROR(CONCATENATE(VLOOKUP(競技者一覧!W84,種目コード一覧!$A$1:$C$51,2,FALSE),\" \",REPT(\"0\",VLOOKUP(競技者一覧!W84,種目コード一覧!$A$1:$C$51,3,FALSE)-LEN(競技者一覧!X84)),競技者一覧!X84),\"\")","v":""},{"$f":"IFERROR(CONCATENATE(VLOOKUP(競技者一覧!Y84,種目コード一覧!$A$1:$C$51,2,FALSE),\" \",REPT(\"0\",VLOOKUP(競技者一覧!Y84,種目コード一覧!$A$1:$C$51,3,FALSE)-LEN(競技者一覧!Z84)),競技者一覧!Z84),\"\")","v":""}]
[{"$f":"IFERROR(CONCATENATE(競技者一覧!$D$7), \"\")","v":""},{"$f":"IFERROR(CONCATENATE($H$2,Sheet4!B65),\"\")","v":"064"},{"$f":"競技者一覧!C85&IF(OR(競技者一覧!H85=\"\",競技者一覧!H85=9),\"\",\"(\" & 競技者一覧!H85 & \")\")","v":""},{"$f":"競技者一覧!D85 &IF(OR(MID(競技者一覧!G85,3,2)=\"\", MID(競技者一覧!G85,3,2)=\"0\"),\"\",\"(\" & MID(競技者一覧!G85,3,2) & \")\")","v":""},{"$f":"ASC(競技者一覧!E85 & \" \" & 競技者一覧!F85 & IF(OR(MID(競技者一覧!G85,3,2)=\"\", MID(競技者一覧!G85,3,2)=\"0\"),\"\",\"(\" & MID(競技者一覧!G85,3,2) & \")\"))","v":" "},{"$f":"CONCATENATE(競技者一覧!I85)","v":""},{"$f":"IFERROR(IF(競技者一覧!$D$6=\"学連\",VLOOKUP(競技者一覧!J85,Sheet4!$D$2:$E$48,2,FALSE),学校名簿!D65),\"\")","v":""},{"$f":"IFERROR(VLOOKUP(競技者一覧!$D$7,学校番号表!$B$2:$C$65536,2,FALSE),\"\")","v":""},{"$f":"CONCATENATE(競技者一覧!B85)","v":""},{"$f":"IFERROR(CONCATENATE(VLOOKUP(競技者一覧!K85,種目コード一覧!$A$1:$C$51,2,FALSE),\" \",REPT(\"0\",VLOOKUP(競技者一覧!K85,種目コード一覧!$A$1:$C$51,3,FALSE)-LEN(競技者一覧!L85)),競技者一覧!L85),\"\")","v":""},{"$f":"IFERROR(CONCATENATE(VLOOKUP(競技者一覧!M85,種目コード一覧!$A$1:$C$51,2,FALSE),\" \",REPT(\"0\",VLOOKUP(競技者一覧!M85,種目コード一覧!$A$1:$C$51,3,FALSE)-LEN(競技者一覧!N85)),競技者一覧!N85),\"\")","v":""},{"$f":"IFERROR(CONCATENATE(VLOOKUP(競技者一覧!O85,種目コード一覧!$A$1:$C$51,2,FALSE),\" \",REPT(\"0\",VLOOKUP(競技者一覧!O85,種目コード一覧!$A$1:$C$51,3,FALSE)-LEN(競技者一覧!P85)),競技者一覧!P85),\"\")","v":""},{"$f":"IFERROR(CONCATENATE(VLOOKUP(競技者一覧!Q85,種目コード一覧!$A$1:$C$51,2,FALSE),\" \",REPT(\"0\",VLOOKUP(競技者一覧!Q85,種目コード一覧!$A$1:$C$51,3,FALSE)-LEN(競技者一覧!R85)),競技者一覧!R85),\"\")","v":""},{"$f":"IFERROR(CONCATENATE(VLOOKUP(競技者一覧!S85,種目コード一覧!$A$1:$C$51,2,FALSE),\" \",REPT(\"0\",VLOOKUP(競技者一覧!S85,種目コード一覧!$A$1:$C$51,3,FALSE)-LEN(競技者一覧!T85)),競技者一覧!T85),\"\")","v":""},{"$f":"IFERROR(CONCATENATE(VLOOKUP(競技者一覧!U85,種目コード一覧!$A$1:$C$51,2,FALSE),\" \",REPT(\"0\",VLOOKUP(競技者一覧!U85,種目コード一覧!$A$1:$C$51,3,FALSE)-LEN(競技者一覧!V85)),競技者一覧!V85),\"\")","v":""},{"$f":"IFERROR(CONCATENATE(VLOOKUP(競技者一覧!W85,種目コード一覧!$A$1:$C$51,2,FALSE),\" \",REPT(\"0\",VLOOKUP(競技者一覧!W85,種目コード一覧!$A$1:$C$51,3,FALSE)-LEN(競技者一覧!X85)),競技者一覧!X85),\"\")","v":""},{"$f":"IFERROR(CONCATENATE(VLOOKUP(競技者一覧!Y85,種目コード一覧!$A$1:$C$51,2,FALSE),\" \",REPT(\"0\",VLOOKUP(競技者一覧!Y85,種目コード一覧!$A$1:$C$51,3,FALSE)-LEN(競技者一覧!Z85)),競技者一覧!Z85),\"\")","v":""}]
[{"$f":"IFERROR(CONCATENATE(競技者一覧!$D$7), \"\")","v":""},{"$f":"IFERROR(CONCATENATE($H$2,Sheet4!B66),\"\")","v":"065"},{"$f":"競技者一覧!C86&IF(OR(競技者一覧!H86=\"\",競技者一覧!H86=9),\"\",\"(\" & 競技者一覧!H86 & \")\")","v":""},{"$f":"ASC(競技者一覧!D86 &IF(OR(MID(競技者一覧!G86,3,2)=\"\", MID(競技者一覧!G86,3,2)=\"0\"),\"\",\"(\" & MID(競技者一覧!G86,3,2) & \")\"))","v":""},{"$f":"ASC(競技者一覧!E86 & \" \" & 競技者一覧!F86 & IF(OR(MID(競技者一覧!G86,3,2)=\"\", MID(競技者一覧!G86,3,2)=\"0\"),\"\",\"(\" & MID(競技者一覧!G86,3,2) & \")\"))","v":" "},{"$f":"CONCATENATE(競技者一覧!I86)","v":""},{"$f":"IFERROR(IF(競技者一覧!$D$6=\"学連\",VLOOKUP(競技者一覧!J86,Sheet4!$D$2:$E$48,2,FALSE),学校名簿!D66),\"\")","v":""},{"$f":"IFERROR(VLOOKUP(競技者一覧!$D$7,学校番号表!$B$2:$C$65536,2,FALSE),\"\")","v":""},{"$f":"CONCATENATE(競技者一覧!B86)","v":""},{"$f":"IFERROR(CONCATENATE(VLOOKUP(競技者一覧!K86,種目コード一覧!$A$1:$B$51,2,FALSE),\" \",REPT(\"0\",VLOOKUP(競技者一覧!K86,種目コード一覧!$A$1:$C$51,3,FALSE)-LEN(競技者一覧!L86)),競技者一覧!L86),\"\")","v":""},{"$f":"IFERROR(CONCATENATE(VLOOKUP(競技者一覧!M86,種目コード一覧!$A$1:$C$51,2,FALSE),\" \",REPT(\"0\",VLOOKUP(競技者一覧!M86,種目コード一覧!$A$1:$C$51,3,FALSE)-LEN(競技者一覧!N86)),競技者一覧!N86),\"\")","v":""},{"$f":"IFERROR(CONCATENATE(VLOOKUP(競技者一覧!O86,種目コード一覧!$A$1:$C$51,2,FALSE),\" \",REPT(\"0\",VLOOKUP(競技者一覧!O86,種目コード一覧!$A$1:$C$51,3,FALSE)-LEN(競技者一覧!P86)),競技者一覧!P86),\"\")","v":""},{"$f":"IFERROR(CONCATENATE(VLOOKUP(競技者一覧!Q86,種目コード一覧!$A$1:$C$51,2,FALSE),\" \",REPT(\"0\",VLOOKUP(競技者一覧!Q86,種目コード一覧!$A$1:$C$51,3,FALSE)-LEN(競技者一覧!R86)),競技者一覧!R86),\"\")","v":""},{"$f":"IFERROR(CONCATENATE(VLOOKUP(競技者一覧!S86,種目コード一覧!$A$1:$C$51,2,FALSE),\" \",REPT(\"0\",VLOOKUP(競技者一覧!S86,種目コード一覧!$A$1:$C$51,3,FALSE)-LEN(競技者一覧!T86)),競技者一覧!T86),\"\")","v":""},{"$f":"IFERROR(CONCATENATE(VLOOKUP(競技者一覧!U86,種目コード一覧!$A$1:$C$51,2,FALSE),\" \",REPT(\"0\",VLOOKUP(競技者一覧!U86,種目コード一覧!$A$1:$C$51,3,FALSE)-LEN(競技者一覧!V86)),競技者一覧!V86),\"\")","v":""},{"$f":"IFERROR(CONCATENATE(VLOOKUP(競技者一覧!W86,種目コード一覧!$A$1:$C$51,2,FALSE),\" \",REPT(\"0\",VLOOKUP(競技者一覧!W86,種目コード一覧!$A$1:$C$51,3,FALSE)-LEN(競技者一覧!X86)),競技者一覧!X86),\"\")","v":""},{"$f":"IFERROR(CONCATENATE(VLOOKUP(競技者一覧!Y86,種目コード一覧!$A$1:$C$51,2,FALSE),\" \",REPT(\"0\",VLOOKUP(競技者一覧!Y86,種目コード一覧!$A$1:$C$51,3,FALSE)-LEN(競技者一覧!Z86)),競技者一覧!Z86),\"\")","v":""}]
[{"$f":"IFERROR(CONCATENATE(競技者一覧!$D$7), \"\")","v":""},{"$f":"IFERROR(CONCATENATE($H$2,Sheet4!B67),\"\")","v":"066"},{"$f":"競技者一覧!C87&IF(OR(競技者一覧!H87=\"\",競技者一覧!H87=9),\"\",\"(\" & 競技者一覧!H87 & \")\")","v":""},{"$f":"競技者一覧!D87 &IF(OR(MID(競技者一覧!G87,3,2)=\"\", MID(競技者一覧!G87,3,2)=\"0\"),\"\",\"(\" & MID(競技者一覧!G87,3,2) & \")\")","v":""},{"$f":"ASC(競技者一覧!E87 & \" \" & 競技者一覧!F87 & IF(OR(MID(競技者一覧!G87,3,2)=\"\", MID(競技者一覧!G87,3,2)=\"0\"),\"\",\"(\" & MID(競技者一覧!G87,3,2) & \")\"))","v":" "},{"$f":"CONCATENATE(競技者一覧!I87)","v":""},{"$f":"IFERROR(IF(競技者一覧!$D$6=\"学連\",VLOOKUP(競技者一覧!J87,Sheet4!$D$2:$E$48,2,FALSE),学校名簿!D67),\"\")","v":""},{"$f":"IFERROR(VLOOKUP(競技者一覧!$D$7,学校番号表!$B$2:$C$65536,2,FALSE),\"\")","v":""},{"$f":"CONCATENATE(競技者一覧!B87)","v":""},{"$f":"IFERROR(CONCATENATE(VLOOKUP(競技者一覧!K87,種目コード一覧!$A$1:$C$51,2,FALSE),\" \",REPT(\"0\",VLOOKUP(競技者一覧!K87,種目コード一覧!$A$1:$C$51,3,FALSE)-LEN(競技者一覧!L87)),競技者一覧!L87),\"\")","v":""},{"$f":"IFERROR(CONCATENATE(VLOOKUP(競技者一覧!M87,種目コード一覧!$A$1:$C$51,2,FALSE),\" \",REPT(\"0\",VLOOKUP(競技者一覧!M87,種目コード一覧!$A$1:$C$51,3,FALSE)-LEN(競技者一覧!N87)),競技者一覧!N87),\"\")","v":""},{"$f":"IFERROR(CONCATENATE(VLOOKUP(競技者一覧!O87,種目コード一覧!$A$1:$C$51,2,FALSE),\" \",REPT(\"0\",VLOOKUP(競技者一覧!O87,種目コード一覧!$A$1:$C$51,3,FALSE)-LEN(競技者一覧!P87)),競技者一覧!P87),\"\")","v":""},{"$f":"IFERROR(CONCATENATE(VLOOKUP(競技者一覧!Q87,種目コード一覧!$A$1:$C$51,2,FALSE),\" \",REPT(\"0\",VLOOKUP(競技者一覧!Q87,種目コード一覧!$A$1:$C$51,3,FALSE)-LEN(競技者一覧!R87)),競技者一覧!R87),\"\")","v":""},{"$f":"IFERROR(CONCATENATE(VLOOKUP(競技者一覧!S87,種目コード一覧!$A$1:$C$51,2,FALSE),\" \",REPT(\"0\",VLOOKUP(競技者一覧!S87,種目コード一覧!$A$1:$C$51,3,FALSE)-LEN(競技者一覧!T87)),競技者一覧!T87),\"\")","v":""},{"$f":"IFERROR(CONCATENATE(VLOOKUP(競技者一覧!U87,種目コード一覧!$A$1:$C$51,2,FALSE),\" \",REPT(\"0\",VLOOKUP(競技者一覧!U87,種目コード一覧!$A$1:$C$51,3,FALSE)-LEN(競技者一覧!V87)),競技者一覧!V87),\"\")","v":""},{"$f":"IFERROR(CONCATENATE(VLOOKUP(競技者一覧!W87,種目コード一覧!$A$1:$C$51,2,FALSE),\" \",REPT(\"0\",VLOOKUP(競技者一覧!W87,種目コード一覧!$A$1:$C$51,3,FALSE)-LEN(競技者一覧!X87)),競技者一覧!X87),\"\")","v":""},{"$f":"IFERROR(CONCATENATE(VLOOKUP(競技者一覧!Y87,種目コード一覧!$A$1:$C$51,2,FALSE),\" \",REPT(\"0\",VLOOKUP(競技者一覧!Y87,種目コード一覧!$A$1:$C$51,3,FALSE)-LEN(競技者一覧!Z87)),競技者一覧!Z87),\"\")","v":""}]
[{"$f":"IFERROR(CONCATENATE(競技者一覧!$D$7), \"\")","v":""},{"$f":"IFERROR(CONCATENATE($H$2,Sheet4!B68),\"\")","v":"067"},{"$f":"競技者一覧!C88&IF(OR(競技者一覧!H88=\"\",競技者一覧!H88=9),\"\",\"(\" & 競技者一覧!H88 & \")\")","v":""},{"$f":"ASC(競技者一覧!D88 &IF(OR(MID(競技者一覧!G88,3,2)=\"\", MID(競技者一覧!G88,3,2)=\"0\"),\"\",\"(\" & MID(競技者一覧!G88,3,2) & \")\"))","v":""},{"$f":"ASC(競技者一覧!E88 & \" \" & 競技者一覧!F88 & IF(OR(MID(競技者一覧!G88,3,2)=\"\", MID(競技者一覧!G88,3,2)=\"0\"),\"\",\"(\" & MID(競技者一覧!G88,3,2) & \")\"))","v":" "},{"$f":"CONCATENATE(競技者一覧!I88)","v":""},{"$f":"IFERROR(IF(競技者一覧!$D$6=\"学連\",VLOOKUP(競技者一覧!J88,Sheet4!$D$2:$E$48,2,FALSE),学校名簿!D68),\"\")","v":""},{"$f":"IFERROR(VLOOKUP(競技者一覧!$D$7,学校番号表!$B$2:$C$65536,2,FALSE),\"\")","v":""},{"$f":"CONCATENATE(競技者一覧!B88)","v":""},{"$f":"IFERROR(CONCATENATE(VLOOKUP(競技者一覧!K88,種目コード一覧!$A$1:$B$51,2,FALSE),\" \",REPT(\"0\",VLOOKUP(競技者一覧!K88,種目コード一覧!$A$1:$C$51,3,FALSE)-LEN(競技者一覧!L88)),競技者一覧!L88),\"\")","v":""},{"$f":"IFERROR(CONCATENATE(VLOOKUP(競技者一覧!M88,種目コード一覧!$A$1:$C$51,2,FALSE),\" \",REPT(\"0\",VLOOKUP(競技者一覧!M88,種目コード一覧!$A$1:$C$51,3,FALSE)-LEN(競技者一覧!N88)),競技者一覧!N88),\"\")","v":""},{"$f":"IFERROR(CONCATENATE(VLOOKUP(競技者一覧!O88,種目コード一覧!$A$1:$C$51,2,FALSE),\" \",REPT(\"0\",VLOOKUP(競技者一覧!O88,種目コード一覧!$A$1:$C$51,3,FALSE)-LEN(競技者一覧!P88)),競技者一覧!P88),\"\")","v":""},{"$f":"IFERROR(CONCATENATE(VLOOKUP(競技者一覧!Q88,種目コード一覧!$A$1:$C$51,2,FALSE),\" \",REPT(\"0\",VLOOKUP(競技者一覧!Q88,種目コード一覧!$A$1:$C$51,3,FALSE)-LEN(競技者一覧!R88)),競技者一覧!R88),\"\")","v":""},{"$f":"IFERROR(CONCATENATE(VLOOKUP(競技者一覧!S88,種目コード一覧!$A$1:$C$51,2,FALSE),\" \",REPT(\"0\",VLOOKUP(競技者一覧!S88,種目コード一覧!$A$1:$C$51,3,FALSE)-LEN(競技者一覧!T88)),競技者一覧!T88),\"\")","v":""},{"$f":"IFERROR(CONCATENATE(VLOOKUP(競技者一覧!U88,種目コード一覧!$A$1:$C$51,2,FALSE),\" \",REPT(\"0\",VLOOKUP(競技者一覧!U88,種目コード一覧!$A$1:$C$51,3,FALSE)-LEN(競技者一覧!V88)),競技者一覧!V88),\"\")","v":""},{"$f":"IFERROR(CONCATENATE(VLOOKUP(競技者一覧!W88,種目コード一覧!$A$1:$C$51,2,FALSE),\" \",REPT(\"0\",VLOOKUP(競技者一覧!W88,種目コード一覧!$A$1:$C$51,3,FALSE)-LEN(競技者一覧!X88)),競技者一覧!X88),\"\")","v":""},{"$f":"IFERROR(CONCATENATE(VLOOKUP(競技者一覧!Y88,種目コード一覧!$A$1:$C$51,2,FALSE),\" \",REPT(\"0\",VLOOKUP(競技者一覧!Y88,種目コード一覧!$A$1:$C$51,3,FALSE)-LEN(競技者一覧!Z88)),競技者一覧!Z88),\"\")","v":""}]
[{"$f":"IFERROR(CONCATENATE(競技者一覧!$D$7), \"\")","v":""},{"$f":"IFERROR(CONCATENATE($H$2,Sheet4!B69),\"\")","v":"068"},{"$f":"競技者一覧!C89&IF(OR(競技者一覧!H89=\"\",競技者一覧!H89=9),\"\",\"(\" & 競技者一覧!H89 & \")\")","v":""},{"$f":"競技者一覧!D89 &IF(OR(MID(競技者一覧!G89,3,2)=\"\", MID(競技者一覧!G89,3,2)=\"0\"),\"\",\"(\" & MID(競技者一覧!G89,3,2) & \")\")","v":""},{"$f":"ASC(競技者一覧!E89 & \" \" & 競技者一覧!F89 & IF(OR(MID(競技者一覧!G89,3,2)=\"\", MID(競技者一覧!G89,3,2)=\"0\"),\"\",\"(\" & MID(競技者一覧!G89,3,2) & \")\"))","v":" "},{"$f":"CONCATENATE(競技者一覧!I89)","v":""},{"$f":"IFERROR(IF(競技者一覧!$D$6=\"学連\",VLOOKUP(競技者一覧!J89,Sheet4!$D$2:$E$48,2,FALSE),学校名簿!D69),\"\")","v":""},{"$f":"IFERROR(VLOOKUP(競技者一覧!$D$7,学校番号表!$B$2:$C$65536,2,FALSE),\"\")","v":""},{"$f":"CONCATENATE(競技者一覧!B89)","v":""},{"$f":"IFERROR(CONCATENATE(VLOOKUP(競技者一覧!K89,種目コード一覧!$A$1:$C$51,2,FALSE),\" \",REPT(\"0\",VLOOKUP(競技者一覧!K89,種目コード一覧!$A$1:$C$51,3,FALSE)-LEN(競技者一覧!L89)),競技者一覧!L89),\"\")","v":""},{"$f":"IFERROR(CONCATENATE(VLOOKUP(競技者一覧!M89,種目コード一覧!$A$1:$C$51,2,FALSE),\" \",REPT(\"0\",VLOOKUP(競技者一覧!M89,種目コード一覧!$A$1:$C$51,3,FALSE)-LEN(競技者一覧!N89)),競技者一覧!N89),\"\")","v":""},{"$f":"IFERROR(CONCATENATE(VLOOKUP(競技者一覧!O89,種目コード一覧!$A$1:$C$51,2,FALSE),\" \",REPT(\"0\",VLOOKUP(競技者一覧!O89,種目コード一覧!$A$1:$C$51,3,FALSE)-LEN(競技者一覧!P89)),競技者一覧!P89),\"\")","v":""},{"$f":"IFERROR(CONCATENATE(VLOOKUP(競技者一覧!Q89,種目コード一覧!$A$1:$C$51,2,FALSE),\" \",REPT(\"0\",VLOOKUP(競技者一覧!Q89,種目コード一覧!$A$1:$C$51,3,FALSE)-LEN(競技者一覧!R89)),競技者一覧!R89),\"\")","v":""},{"$f":"IFERROR(CONCATENATE(VLOOKUP(競技者一覧!S89,種目コード一覧!$A$1:$C$51,2,FALSE),\" \",REPT(\"0\",VLOOKUP(競技者一覧!S89,種目コード一覧!$A$1:$C$51,3,FALSE)-LEN(競技者一覧!T89)),競技者一覧!T89),\"\")","v":""},{"$f":"IFERROR(CONCATENATE(VLOOKUP(競技者一覧!U89,種目コード一覧!$A$1:$C$51,2,FALSE),\" \",REPT(\"0\",VLOOKUP(競技者一覧!U89,種目コード一覧!$A$1:$C$51,3,FALSE)-LEN(競技者一覧!V89)),競技者一覧!V89),\"\")","v":""},{"$f":"IFERROR(CONCATENATE(VLOOKUP(競技者一覧!W89,種目コード一覧!$A$1:$C$51,2,FALSE),\" \",REPT(\"0\",VLOOKUP(競技者一覧!W89,種目コード一覧!$A$1:$C$51,3,FALSE)-LEN(競技者一覧!X89)),競技者一覧!X89),\"\")","v":""},{"$f":"IFERROR(CONCATENATE(VLOOKUP(競技者一覧!Y89,種目コード一覧!$A$1:$C$51,2,FALSE),\" \",REPT(\"0\",VLOOKUP(競技者一覧!Y89,種目コード一覧!$A$1:$C$51,3,FALSE)-LEN(競技者一覧!Z89)),競技者一覧!Z89),\"\")","v":""}]
[{"$f":"IFERROR(CONCATENATE(競技者一覧!$D$7), \"\")","v":""},{"$f":"IFERROR(CONCATENATE($H$2,Sheet4!B70),\"\")","v":"069"},{"$f":"競技者一覧!C90&IF(OR(競技者一覧!H90=\"\",競技者一覧!H90=9),\"\",\"(\" & 競技者一覧!H90 & \")\")","v":""},{"$f":"ASC(競技者一覧!D90 &IF(OR(MID(競技者一覧!G90,3,2)=\"\", MID(競技者一覧!G90,3,2)=\"0\"),\"\",\"(\" & MID(競技者一覧!G90,3,2) & \")\"))","v":""},{"$f":"ASC(競技者一覧!E90 & \" \" & 競技者一覧!F90 & IF(OR(MID(競技者一覧!G90,3,2)=\"\", MID(競技者一覧!G90,3,2)=\"0\"),\"\",\"(\" & MID(競技者一覧!G90,3,2) & \")\"))","v":" "},{"$f":"CONCATENATE(競技者一覧!I90)","v":""},{"$f":"IFERROR(IF(競技者一覧!$D$6=\"学連\",VLOOKUP(競技者一覧!J90,Sheet4!$D$2:$E$48,2,FALSE),学校名簿!D70),\"\")","v":""},{"$f":"IFERROR(VLOOKUP(競技者一覧!$D$7,学校番号表!$B$2:$C$65536,2,FALSE),\"\")","v":""},{"$f":"CONCATENATE(競技者一覧!B90)","v":""},{"$f":"IFERROR(CONCATENATE(VLOOKUP(競技者一覧!K90,種目コード一覧!$A$1:$B$51,2,FALSE),\" \",REPT(\"0\",VLOOKUP(競技者一覧!K90,種目コード一覧!$A$1:$C$51,3,FALSE)-LEN(競技者一覧!L90)),競技者一覧!L90),\"\")","v":""},{"$f":"IFERROR(CONCATENATE(VLOOKUP(競技者一覧!M90,種目コード一覧!$A$1:$C$51,2,FALSE),\" \",REPT(\"0\",VLOOKUP(競技者一覧!M90,種目コード一覧!$A$1:$C$51,3,FALSE)-LEN(競技者一覧!N90)),競技者一覧!N90),\"\")","v":""},{"$f":"IFERROR(CONCATENATE(VLOOKUP(競技者一覧!O90,種目コード一覧!$A$1:$C$51,2,FALSE),\" \",REPT(\"0\",VLOOKUP(競技者一覧!O90,種目コード一覧!$A$1:$C$51,3,FALSE)-LEN(競技者一覧!P90)),競技者一覧!P90),\"\")","v":""},{"$f":"IFERROR(CONCATENATE(VLOOKUP(競技者一覧!Q90,種目コード一覧!$A$1:$C$51,2,FALSE),\" \",REPT(\"0\",VLOOKUP(競技者一覧!Q90,種目コード一覧!$A$1:$C$51,3,FALSE)-LEN(競技者一覧!R90)),競技者一覧!R90),\"\")","v":""},{"$f":"IFERROR(CONCATENATE(VLOOKUP(競技者一覧!S90,種目コード一覧!$A$1:$C$51,2,FALSE),\" \",REPT(\"0\",VLOOKUP(競技者一覧!S90,種目コード一覧!$A$1:$C$51,3,FALSE)-LEN(競技者一覧!T90)),競技者一覧!T90),\"\")","v":""},{"$f":"IFERROR(CONCATENATE(VLOOKUP(競技者一覧!U90,種目コード一覧!$A$1:$C$51,2,FALSE),\" \",REPT(\"0\",VLOOKUP(競技者一覧!U90,種目コード一覧!$A$1:$C$51,3,FALSE)-LEN(競技者一覧!V90)),競技者一覧!V90),\"\")","v":""},{"$f":"IFERROR(CONCATENATE(VLOOKUP(競技者一覧!W90,種目コード一覧!$A$1:$C$51,2,FALSE),\" \",REPT(\"0\",VLOOKUP(競技者一覧!W90,種目コード一覧!$A$1:$C$51,3,FALSE)-LEN(競技者一覧!X90)),競技者一覧!X90),\"\")","v":""},{"$f":"IFERROR(CONCATENATE(VLOOKUP(競技者一覧!Y90,種目コード一覧!$A$1:$C$51,2,FALSE),\" \",REPT(\"0\",VLOOKUP(競技者一覧!Y90,種目コード一覧!$A$1:$C$51,3,FALSE)-LEN(競技者一覧!Z90)),競技者一覧!Z90),\"\")","v":""}]
[{"$f":"IFERROR(CONCATENATE(競技者一覧!$D$7), \"\")","v":""},{"$f":"IFERROR(CONCATENATE($H$2,Sheet4!B71),\"\")","v":"070"},{"$f":"競技者一覧!C91&IF(OR(競技者一覧!H91=\"\",競技者一覧!H91=9),\"\",\"(\" & 競技者一覧!H91 & \")\")","v":""},{"$f":"競技者一覧!D91 &IF(OR(MID(競技者一覧!G91,3,2)=\"\", MID(競技者一覧!G91,3,2)=\"0\"),\"\",\"(\" & MID(競技者一覧!G91,3,2) & \")\")","v":""},{"$f":"ASC(競技者一覧!E91 & \" \" & 競技者一覧!F91 & IF(OR(MID(競技者一覧!G91,3,2)=\"\", MID(競技者一覧!G91,3,2)=\"0\"),\"\",\"(\" & MID(競技者一覧!G91,3,2) & \")\"))","v":" "},{"$f":"CONCATENATE(競技者一覧!I91)","v":""},{"$f":"IFERROR(IF(競技者一覧!$D$6=\"学連\",VLOOKUP(競技者一覧!J91,Sheet4!$D$2:$E$48,2,FALSE),学校名簿!D71),\"\")","v":""},{"$f":"IFERROR(VLOOKUP(競技者一覧!$D$7,学校番号表!$B$2:$C$65536,2,FALSE),\"\")","v":""},{"$f":"CONCATENATE(競技者一覧!B91)","v":""},{"$f":"IFERROR(CONCATENATE(VLOOKUP(競技者一覧!K91,種目コード一覧!$A$1:$C$51,2,FALSE),\" \",REPT(\"0\",VLOOKUP(競技者一覧!K91,種目コード一覧!$A$1:$C$51,3,FALSE)-LEN(競技者一覧!L91)),競技者一覧!L91),\"\")","v":""},{"$f":"IFERROR(CONCATENATE(VLOOKUP(競技者一覧!M91,種目コード一覧!$A$1:$C$51,2,FALSE),\" \",REPT(\"0\",VLOOKUP(競技者一覧!M91,種目コード一覧!$A$1:$C$51,3,FALSE)-LEN(競技者一覧!N91)),競技者一覧!N91),\"\")","v":""},{"$f":"IFERROR(CONCATENATE(VLOOKUP(競技者一覧!O91,種目コード一覧!$A$1:$C$51,2,FALSE),\" \",REPT(\"0\",VLOOKUP(競技者一覧!O91,種目コード一覧!$A$1:$C$51,3,FALSE)-LEN(競技者一覧!P91)),競技者一覧!P91),\"\")","v":""},{"$f":"IFERROR(CONCATENATE(VLOOKUP(競技者一覧!Q91,種目コード一覧!$A$1:$C$51,2,FALSE),\" \",REPT(\"0\",VLOOKUP(競技者一覧!Q91,種目コード一覧!$A$1:$C$51,3,FALSE)-LEN(競技者一覧!R91)),競技者一覧!R91),\"\")","v":""},{"$f":"IFERROR(CONCATENATE(VLOOKUP(競技者一覧!S91,種目コード一覧!$A$1:$C$51,2,FALSE),\" \",REPT(\"0\",VLOOKUP(競技者一覧!S91,種目コード一覧!$A$1:$C$51,3,FALSE)-LEN(競技者一覧!T91)),競技者一覧!T91),\"\")","v":""},{"$f":"IFERROR(CONCATENATE(VLOOKUP(競技者一覧!U91,種目コード一覧!$A$1:$C$51,2,FALSE),\" \",REPT(\"0\",VLOOKUP(競技者一覧!U91,種目コード一覧!$A$1:$C$51,3,FALSE)-LEN(競技者一覧!V91)),競技者一覧!V91),\"\")","v":""},{"$f":"IFERROR(CONCATENATE(VLOOKUP(競技者一覧!W91,種目コード一覧!$A$1:$C$51,2,FALSE),\" \",REPT(\"0\",VLOOKUP(競技者一覧!W91,種目コード一覧!$A$1:$C$51,3,FALSE)-LEN(競技者一覧!X91)),競技者一覧!X91),\"\")","v":""},{"$f":"IFERROR(CONCATENATE(VLOOKUP(競技者一覧!Y91,種目コード一覧!$A$1:$C$51,2,FALSE),\" \",REPT(\"0\",VLOOKUP(競技者一覧!Y91,種目コード一覧!$A$1:$C$51,3,FALSE)-LEN(競技者一覧!Z91)),競技者一覧!Z91),\"\")","v":""}]
[{"$f":"IFERROR(CONCATENATE(競技者一覧!$D$7), \"\")","v":""},{"$f":"IFERROR(CONCATENATE($H$2,Sheet4!B72),\"\")","v":"071"},{"$f":"競技者一覧!C92&IF(OR(競技者一覧!H92=\"\",競技者一覧!H92=9),\"\",\"(\" & 競技者一覧!H92 & \")\")","v":""},{"$f":"ASC(競技者一覧!D92 &IF(OR(MID(競技者一覧!G92,3,2)=\"\", MID(競技者一覧!G92,3,2)=\"0\"),\"\",\"(\" & MID(競技者一覧!G92,3,2) & \")\"))","v":""},{"$f":"ASC(競技者一覧!E92 & \" \" & 競技者一覧!F92 & IF(OR(MID(競技者一覧!G92,3,2)=\"\", MID(競技者一覧!G92,3,2)=\"0\"),\"\",\"(\" & MID(競技者一覧!G92,3,2) & \")\"))","v":" "},{"$f":"CONCATENATE(競技者一覧!I92)","v":""},{"$f":"IFERROR(IF(競技者一覧!$D$6=\"学連\",VLOOKUP(競技者一覧!J92,Sheet4!$D$2:$E$48,2,FALSE),学校名簿!D72),\"\")","v":""},{"$f":"IFERROR(VLOOKUP(競技者一覧!$D$7,学校番号表!$B$2:$C$65536,2,FALSE),\"\")","v":""},{"$f":"CONCATENATE(競技者一覧!B92)","v":""},{"$f":"IFERROR(CONCATENATE(VLOOKUP(競技者一覧!K92,種目コード一覧!$A$1:$B$51,2,FALSE),\" \",REPT(\"0\",VLOOKUP(競技者一覧!K92,種目コード一覧!$A$1:$C$51,3,FALSE)-LEN(競技者一覧!L92)),競技者一覧!L92),\"\")","v":""},{"$f":"IFERROR(CONCATENATE(VLOOKUP(競技者一覧!M92,種目コード一覧!$A$1:$C$51,2,FALSE),\" \",REPT(\"0\",VLOOKUP(競技者一覧!M92,種目コード一覧!$A$1:$C$51,3,FALSE)-LEN(競技者一覧!N92)),競技者一覧!N92),\"\")","v":""},{"$f":"IFERROR(CONCATENATE(VLOOKUP(競技者一覧!O92,種目コード一覧!$A$1:$C$51,2,FALSE),\" \",REPT(\"0\",VLOOKUP(競技者一覧!O92,種目コード一覧!$A$1:$C$51,3,FALSE)-LEN(競技者一覧!P92)),競技者一覧!P92),\"\")","v":""},{"$f":"IFERROR(CONCATENATE(VLOOKUP(競技者一覧!Q92,種目コード一覧!$A$1:$C$51,2,FALSE),\" \",REPT(\"0\",VLOOKUP(競技者一覧!Q92,種目コード一覧!$A$1:$C$51,3,FALSE)-LEN(競技者一覧!R92)),競技者一覧!R92),\"\")","v":""},{"$f":"IFERROR(CONCATENATE(VLOOKUP(競技者一覧!S92,種目コード一覧!$A$1:$C$51,2,FALSE),\" \",REPT(\"0\",VLOOKUP(競技者一覧!S92,種目コード一覧!$A$1:$C$51,3,FALSE)-LEN(競技者一覧!T92)),競技者一覧!T92),\"\")","v":""},{"$f":"IFERROR(CONCATENATE(VLOOKUP(競技者一覧!U92,種目コード一覧!$A$1:$C$51,2,FALSE),\" \",REPT(\"0\",VLOOKUP(競技者一覧!U92,種目コード一覧!$A$1:$C$51,3,FALSE)-LEN(競技者一覧!V92)),競技者一覧!V92),\"\")","v":""},{"$f":"IFERROR(CONCATENATE(VLOOKUP(競技者一覧!W92,種目コード一覧!$A$1:$C$51,2,FALSE),\" \",REPT(\"0\",VLOOKUP(競技者一覧!W92,種目コード一覧!$A$1:$C$51,3,FALSE)-LEN(競技者一覧!X92)),競技者一覧!X92),\"\")","v":""},{"$f":"IFERROR(CONCATENATE(VLOOKUP(競技者一覧!Y92,種目コード一覧!$A$1:$C$51,2,FALSE),\" \",REPT(\"0\",VLOOKUP(競技者一覧!Y92,種目コード一覧!$A$1:$C$51,3,FALSE)-LEN(競技者一覧!Z92)),競技者一覧!Z92),\"\")","v":""}]
[{"$f":"IFERROR(CONCATENATE(競技者一覧!$D$7), \"\")","v":""},{"$f":"IFERROR(CONCATENATE($H$2,Sheet4!B73),\"\")","v":"072"},{"$f":"競技者一覧!C93&IF(OR(競技者一覧!H93=\"\",競技者一覧!H93=9),\"\",\"(\" & 競技者一覧!H93 & \")\")","v":""},{"$f":"競技者一覧!D93 &IF(OR(MID(競技者一覧!G93,3,2)=\"\", MID(競技者一覧!G93,3,2)=\"0\"),\"\",\"(\" & MID(競技者一覧!G93,3,2) & \")\")","v":""},{"$f":"ASC(競技者一覧!E93 & \" \" & 競技者一覧!F93 & IF(OR(MID(競技者一覧!G93,3,2)=\"\", MID(競技者一覧!G93,3,2)=\"0\"),\"\",\"(\" & MID(競技者一覧!G93,3,2) & \")\"))","v":" "},{"$f":"CONCATENATE(競技者一覧!I93)","v":""},{"$f":"IFERROR(IF(競技者一覧!$D$6=\"学連\",VLOOKUP(競技者一覧!J93,Sheet4!$D$2:$E$48,2,FALSE),学校名簿!D73),\"\")","v":""},{"$f":"IFERROR(VLOOKUP(競技者一覧!$D$7,学校番号表!$B$2:$C$65536,2,FALSE),\"\")","v":""},{"$f":"CONCATENATE(競技者一覧!B93)","v":""},{"$f":"IFERROR(CONCATENATE(VLOOKUP(競技者一覧!K93,種目コード一覧!$A$1:$C$51,2,FALSE),\" \",REPT(\"0\",VLOOKUP(競技者一覧!K93,種目コード一覧!$A$1:$C$51,3,FALSE)-LEN(競技者一覧!L93)),競技者一覧!L93),\"\")","v":""},{"$f":"IFERROR(CONCATENATE(VLOOKUP(競技者一覧!M93,種目コード一覧!$A$1:$C$51,2,FALSE),\" \",REPT(\"0\",VLOOKUP(競技者一覧!M93,種目コード一覧!$A$1:$C$51,3,FALSE)-LEN(競技者一覧!N93)),競技者一覧!N93),\"\")","v":""},{"$f":"IFERROR(CONCATENATE(VLOOKUP(競技者一覧!O93,種目コード一覧!$A$1:$C$51,2,FALSE),\" \",REPT(\"0\",VLOOKUP(競技者一覧!O93,種目コード一覧!$A$1:$C$51,3,FALSE)-LEN(競技者一覧!P93)),競技者一覧!P93),\"\")","v":""},{"$f":"IFERROR(CONCATENATE(VLOOKUP(競技者一覧!Q93,種目コード一覧!$A$1:$C$51,2,FALSE),\" \",REPT(\"0\",VLOOKUP(競技者一覧!Q93,種目コード一覧!$A$1:$C$51,3,FALSE)-LEN(競技者一覧!R93)),競技者一覧!R93),\"\")","v":""},{"$f":"IFERROR(CONCATENATE(VLOOKUP(競技者一覧!S93,種目コード一覧!$A$1:$C$51,2,FALSE),\" \",REPT(\"0\",VLOOKUP(競技者一覧!S93,種目コード一覧!$A$1:$C$51,3,FALSE)-LEN(競技者一覧!T93)),競技者一覧!T93),\"\")","v":""},{"$f":"IFERROR(CONCATENATE(VLOOKUP(競技者一覧!U93,種目コード一覧!$A$1:$C$51,2,FALSE),\" \",REPT(\"0\",VLOOKUP(競技者一覧!U93,種目コード一覧!$A$1:$C$51,3,FALSE)-LEN(競技者一覧!V93)),競技者一覧!V93),\"\")","v":""},{"$f":"IFERROR(CONCATENATE(VLOOKUP(競技者一覧!W93,種目コード一覧!$A$1:$C$51,2,FALSE),\" \",REPT(\"0\",VLOOKUP(競技者一覧!W93,種目コード一覧!$A$1:$C$51,3,FALSE)-LEN(競技者一覧!X93)),競技者一覧!X93),\"\")","v":""},{"$f":"IFERROR(CONCATENATE(VLOOKUP(競技者一覧!Y93,種目コード一覧!$A$1:$C$51,2,FALSE),\" \",REPT(\"0\",VLOOKUP(競技者一覧!Y93,種目コード一覧!$A$1:$C$51,3,FALSE)-LEN(競技者一覧!Z93)),競技者一覧!Z93),\"\")","v":""}]
[{"$f":"IFERROR(CONCATENATE(競技者一覧!$D$7), \"\")","v":""},{"$f":"IFERROR(CONCATENATE($H$2,Sheet4!B74),\"\")","v":"073"},{"$f":"競技者一覧!C94&IF(OR(競技者一覧!H94=\"\",競技者一覧!H94=9),\"\",\"(\" & 競技者一覧!H94 & \")\")","v":""},{"$f":"ASC(競技者一覧!D94 &IF(OR(MID(競技者一覧!G94,3,2)=\"\", MID(競技者一覧!G94,3,2)=\"0\"),\"\",\"(\" & MID(競技者一覧!G94,3,2) & \")\"))","v":""},{"$f":"ASC(競技者一覧!E94 & \" \" & 競技者一覧!F94 & IF(OR(MID(競技者一覧!G94,3,2)=\"\", MID(競技者一覧!G94,3,2)=\"0\"),\"\",\"(\" & MID(競技者一覧!G94,3,2) & \")\"))","v":" "},{"$f":"CONCATENATE(競技者一覧!I94)","v":""},{"$f":"IFERROR(IF(競技者一覧!$D$6=\"学連\",VLOOKUP(競技者一覧!J94,Sheet4!$D$2:$E$48,2,FALSE),学校名簿!D74),\"\")","v":""},{"$f":"IFERROR(VLOOKUP(競技者一覧!$D$7,学校番号表!$B$2:$C$65536,2,FALSE),\"\")","v":""},{"$f":"CONCATENATE(競技者一覧!B94)","v":""},{"$f":"IFERROR(CONCATENATE(VLOOKUP(競技者一覧!K94,種目コード一覧!$A$1:$B$51,2,FALSE),\" \",REPT(\"0\",VLOOKUP(競技者一覧!K94,種目コード一覧!$A$1:$C$51,3,FALSE)-LEN(競技者一覧!L94)),競技者一覧!L94),\"\")","v":""},{"$f":"IFERROR(CONCATENATE(VLOOKUP(競技者一覧!M94,種目コード一覧!$A$1:$C$51,2,FALSE),\" \",REPT(\"0\",VLOOKUP(競技者一覧!M94,種目コード一覧!$A$1:$C$51,3,FALSE)-LEN(競技者一覧!N94)),競技者一覧!N94),\"\")","v":""},{"$f":"IFERROR(CONCATENATE(VLOOKUP(競技者一覧!O94,種目コード一覧!$A$1:$C$51,2,FALSE),\" \",REPT(\"0\",VLOOKUP(競技者一覧!O94,種目コード一覧!$A$1:$C$51,3,FALSE)-LEN(競技者一覧!P94)),競技者一覧!P94),\"\")","v":""},{"$f":"IFERROR(CONCATENATE(VLOOKUP(競技者一覧!Q94,種目コード一覧!$A$1:$C$51,2,FALSE),\" \",REPT(\"0\",VLOOKUP(競技者一覧!Q94,種目コード一覧!$A$1:$C$51,3,FALSE)-LEN(競技者一覧!R94)),競技者一覧!R94),\"\")","v":""},{"$f":"IFERROR(CONCATENATE(VLOOKUP(競技者一覧!S94,種目コード一覧!$A$1:$C$51,2,FALSE),\" \",REPT(\"0\",VLOOKUP(競技者一覧!S94,種目コード一覧!$A$1:$C$51,3,FALSE)-LEN(競技者一覧!T94)),競技者一覧!T94),\"\")","v":""},{"$f":"IFERROR(CONCATENATE(VLOOKUP(競技者一覧!U94,種目コード一覧!$A$1:$C$51,2,FALSE),\" \",REPT(\"0\",VLOOKUP(競技者一覧!U94,種目コード一覧!$A$1:$C$51,3,FALSE)-LEN(競技者一覧!V94)),競技者一覧!V94),\"\")","v":""},{"$f":"IFERROR(CONCATENATE(VLOOKUP(競技者一覧!W94,種目コード一覧!$A$1:$C$51,2,FALSE),\" \",REPT(\"0\",VLOOKUP(競技者一覧!W94,種目コード一覧!$A$1:$C$51,3,FALSE)-LEN(競技者一覧!X94)),競技者一覧!X94),\"\")","v":""},{"$f":"IFERROR(CONCATENATE(VLOOKUP(競技者一覧!Y94,種目コード一覧!$A$1:$C$51,2,FALSE),\" \",REPT(\"0\",VLOOKUP(競技者一覧!Y94,種目コード一覧!$A$1:$C$51,3,FALSE)-LEN(競技者一覧!Z94)),競技者一覧!Z94),\"\")","v":""}]
[{"$f":"IFERROR(CONCATENATE(競技者一覧!$D$7), \"\")","v":""},{"$f":"IFERROR(CONCATENATE($H$2,Sheet4!B75),\"\")","v":"074"},{"$f":"競技者一覧!C95&IF(OR(競技者一覧!H95=\"\",競技者一覧!H95=9),\"\",\"(\" & 競技者一覧!H95 & \")\")","v":""},{"$f":"競技者一覧!D95 &IF(OR(MID(競技者一覧!G95,3,2)=\"\", MID(競技者一覧!G95,3,2)=\"0\"),\"\",\"(\" & MID(競技者一覧!G95,3,2) & \")\")","v":""},{"$f":"ASC(競技者一覧!E95 & \" \" & 競技者一覧!F95 & IF(OR(MID(競技者一覧!G95,3,2)=\"\", MID(競技者一覧!G95,3,2)=\"0\"),\"\",\"(\" & MID(競技者一覧!G95,3,2) & \")\"))","v":" "},{"$f":"CONCATENATE(競技者一覧!I95)","v":""},{"$f":"IFERROR(IF(競技者一覧!$D$6=\"学連\",VLOOKUP(競技者一覧!J95,Sheet4!$D$2:$E$48,2,FALSE),学校名簿!D75),\"\")","v":""},{"$f":"IFERROR(VLOOKUP(競技者一覧!$D$7,学校番号表!$B$2:$C$65536,2,FALSE),\"\")","v":""},{"$f":"CONCATENATE(競技者一覧!B95)","v":""},{"$f":"IFERROR(CONCATENATE(VLOOKUP(競技者一覧!K95,種目コード一覧!$A$1:$C$51,2,FALSE),\" \",REPT(\"0\",VLOOKUP(競技者一覧!K95,種目コード一覧!$A$1:$C$51,3,FALSE)-LEN(競技者一覧!L95)),競技者一覧!L95),\"\")","v":""},{"$f":"IFERROR(CONCATENATE(VLOOKUP(競技者一覧!M95,種目コード一覧!$A$1:$C$51,2,FALSE),\" \",REPT(\"0\",VLOOKUP(競技者一覧!M95,種目コード一覧!$A$1:$C$51,3,FALSE)-LEN(競技者一覧!N95)),競技者一覧!N95),\"\")","v":""},{"$f":"IFERROR(CONCATENATE(VLOOKUP(競技者一覧!O95,種目コード一覧!$A$1:$C$51,2,FALSE),\" \",REPT(\"0\",VLOOKUP(競技者一覧!O95,種目コード一覧!$A$1:$C$51,3,FALSE)-LEN(競技者一覧!P95)),競技者一覧!P95),\"\")","v":""},{"$f":"IFERROR(CONCATENATE(VLOOKUP(競技者一覧!Q95,種目コード一覧!$A$1:$C$51,2,FALSE),\" \",REPT(\"0\",VLOOKUP(競技者一覧!Q95,種目コード一覧!$A$1:$C$51,3,FALSE)-LEN(競技者一覧!R95)),競技者一覧!R95),\"\")","v":""},{"$f":"IFERROR(CONCATENATE(VLOOKUP(競技者一覧!S95,種目コード一覧!$A$1:$C$51,2,FALSE),\" \",REPT(\"0\",VLOOKUP(競技者一覧!S95,種目コード一覧!$A$1:$C$51,3,FALSE)-LEN(競技者一覧!T95)),競技者一覧!T95),\"\")","v":""},{"$f":"IFERROR(CONCATENATE(VLOOKUP(競技者一覧!U95,種目コード一覧!$A$1:$C$51,2,FALSE),\" \",REPT(\"0\",VLOOKUP(競技者一覧!U95,種目コード一覧!$A$1:$C$51,3,FALSE)-LEN(競技者一覧!V95)),競技者一覧!V95),\"\")","v":""},{"$f":"IFERROR(CONCATENATE(VLOOKUP(競技者一覧!W95,種目コード一覧!$A$1:$C$51,2,FALSE),\" \",REPT(\"0\",VLOOKUP(競技者一覧!W95,種目コード一覧!$A$1:$C$51,3,FALSE)-LEN(競技者一覧!X95)),競技者一覧!X95),\"\")","v":""},{"$f":"IFERROR(CONCATENATE(VLOOKUP(競技者一覧!Y95,種目コード一覧!$A$1:$C$51,2,FALSE),\" \",REPT(\"0\",VLOOKUP(競技者一覧!Y95,種目コード一覧!$A$1:$C$51,3,FALSE)-LEN(競技者一覧!Z95)),競技者一覧!Z95),\"\")","v":""}]
[{"$f":"IFERROR(CONCATENATE(競技者一覧!$D$7), \"\")","v":""},{"$f":"IFERROR(CONCATENATE($H$2,Sheet4!B76),\"\")","v":"075"},{"$f":"競技者一覧!C96&IF(OR(競技者一覧!H96=\"\",競技者一覧!H96=9),\"\",\"(\" & 競技者一覧!H96 & \")\")","v":""},{"$f":"ASC(競技者一覧!D96 &IF(OR(MID(競技者一覧!G96,3,2)=\"\", MID(競技者一覧!G96,3,2)=\"0\"),\"\",\"(\" & MID(競技者一覧!G96,3,2) & \")\"))","v":""},{"$f":"ASC(競技者一覧!E96 & \" \" & 競技者一覧!F96 & IF(OR(MID(競技者一覧!G96,3,2)=\"\", MID(競技者一覧!G96,3,2)=\"0\"),\"\",\"(\" & MID(競技者一覧!G96,3,2) & \")\"))","v":" "},{"$f":"CONCATENATE(競技者一覧!I96)","v":""},{"$f":"IFERROR(IF(競技者一覧!$D$6=\"学連\",VLOOKUP(競技者一覧!J96,Sheet4!$D$2:$E$48,2,FALSE),学校名簿!D76),\"\")","v":""},{"$f":"IFERROR(VLOOKUP(競技者一覧!$D$7,学校番号表!$B$2:$C$65536,2,FALSE),\"\")","v":""},{"$f":"CONCATENATE(競技者一覧!B96)","v":""},{"$f":"IFERROR(CONCATENATE(VLOOKUP(競技者一覧!K96,種目コード一覧!$A$1:$B$51,2,FALSE),\" \",REPT(\"0\",VLOOKUP(競技者一覧!K96,種目コード一覧!$A$1:$C$51,3,FALSE)-LEN(競技者一覧!L96)),競技者一覧!L96),\"\")","v":""},{"$f":"IFERROR(CONCATENATE(VLOOKUP(競技者一覧!M96,種目コード一覧!$A$1:$C$51,2,FALSE),\" \",REPT(\"0\",VLOOKUP(競技者一覧!M96,種目コード一覧!$A$1:$C$51,3,FALSE)-LEN(競技者一覧!N96)),競技者一覧!N96),\"\")","v":""},{"$f":"IFERROR(CONCATENATE(VLOOKUP(競技者一覧!O96,種目コード一覧!$A$1:$C$51,2,FALSE),\" \",REPT(\"0\",VLOOKUP(競技者一覧!O96,種目コード一覧!$A$1:$C$51,3,FALSE)-LEN(競技者一覧!P96)),競技者一覧!P96),\"\")","v":""},{"$f":"IFERROR(CONCATENATE(VLOOKUP(競技者一覧!Q96,種目コード一覧!$A$1:$C$51,2,FALSE),\" \",REPT(\"0\",VLOOKUP(競技者一覧!Q96,種目コード一覧!$A$1:$C$51,3,FALSE)-LEN(競技者一覧!R96)),競技者一覧!R96),\"\")","v":""},{"$f":"IFERROR(CONCATENATE(VLOOKUP(競技者一覧!S96,種目コード一覧!$A$1:$C$51,2,FALSE),\" \",REPT(\"0\",VLOOKUP(競技者一覧!S96,種目コード一覧!$A$1:$C$51,3,FALSE)-LEN(競技者一覧!T96)),競技者一覧!T96),\"\")","v":""},{"$f":"IFERROR(CONCATENATE(VLOOKUP(競技者一覧!U96,種目コード一覧!$A$1:$C$51,2,FALSE),\" \",REPT(\"0\",VLOOKUP(競技者一覧!U96,種目コード一覧!$A$1:$C$51,3,FALSE)-LEN(競技者一覧!V96)),競技者一覧!V96),\"\")","v":""},{"$f":"IFERROR(CONCATENATE(VLOOKUP(競技者一覧!W96,種目コード一覧!$A$1:$C$51,2,FALSE),\" \",REPT(\"0\",VLOOKUP(競技者一覧!W96,種目コード一覧!$A$1:$C$51,3,FALSE)-LEN(競技者一覧!X96)),競技者一覧!X96),\"\")","v":""},{"$f":"IFERROR(CONCATENATE(VLOOKUP(競技者一覧!Y96,種目コード一覧!$A$1:$C$51,2,FALSE),\" \",REPT(\"0\",VLOOKUP(競技者一覧!Y96,種目コード一覧!$A$1:$C$51,3,FALSE)-LEN(競技者一覧!Z96)),競技者一覧!Z96),\"\")","v":""}]
[{"$f":"IFERROR(CONCATENATE(競技者一覧!$D$7), \"\")","v":""},{"$f":"IFERROR(CONCATENATE($H$2,Sheet4!B77),\"\")","v":"076"},{"$f":"競技者一覧!C97&IF(OR(競技者一覧!H97=\"\",競技者一覧!H97=9),\"\",\"(\" & 競技者一覧!H97 & \")\")","v":""},{"$f":"競技者一覧!D97 &IF(OR(MID(競技者一覧!G97,3,2)=\"\", MID(競技者一覧!G97,3,2)=\"0\"),\"\",\"(\" & MID(競技者一覧!G97,3,2) & \")\")","v":""},{"$f":"ASC(競技者一覧!E97 & \" \" & 競技者一覧!F97 & IF(OR(MID(競技者一覧!G97,3,2)=\"\", MID(競技者一覧!G97,3,2)=\"0\"),\"\",\"(\" & MID(競技者一覧!G97,3,2) & \")\"))","v":" "},{"$f":"CONCATENATE(競技者一覧!I97)","v":""},{"$f":"IFERROR(IF(競技者一覧!$D$6=\"学連\",VLOOKUP(競技者一覧!J97,Sheet4!$D$2:$E$48,2,FALSE),学校名簿!D77),\"\")","v":""},{"$f":"IFERROR(VLOOKUP(競技者一覧!$D$7,学校番号表!$B$2:$C$65536,2,FALSE),\"\")","v":""},{"$f":"CONCATENATE(競技者一覧!B97)","v":""},{"$f":"IFERROR(CONCATENATE(VLOOKUP(競技者一覧!K97,種目コード一覧!$A$1:$C$51,2,FALSE),\" \",REPT(\"0\",VLOOKUP(競技者一覧!K97,種目コード一覧!$A$1:$C$51,3,FALSE)-LEN(競技者一覧!L97)),競技者一覧!L97),\"\")","v":""},{"$f":"IFERROR(CONCATENATE(VLOOKUP(競技者一覧!M97,種目コード一覧!$A$1:$C$51,2,FALSE),\" \",REPT(\"0\",VLOOKUP(競技者一覧!M97,種目コード一覧!$A$1:$C$51,3,FALSE)-LEN(競技者一覧!N97)),競技者一覧!N97),\"\")","v":""},{"$f":"IFERROR(CONCATENATE(VLOOKUP(競技者一覧!O97,種目コード一覧!$A$1:$C$51,2,FALSE),\" \",REPT(\"0\",VLOOKUP(競技者一覧!O97,種目コード一覧!$A$1:$C$51,3,FALSE)-LEN(競技者一覧!P97)),競技者一覧!P97),\"\")","v":""},{"$f":"IFERROR(CONCATENATE(VLOOKUP(競技者一覧!Q97,種目コード一覧!$A$1:$C$51,2,FALSE),\" \",REPT(\"0\",VLOOKUP(競技者一覧!Q97,種目コード一覧!$A$1:$C$51,3,FALSE)-LEN(競技者一覧!R97)),競技者一覧!R97),\"\")","v":""},{"$f":"IFERROR(CONCATENATE(VLOOKUP(競技者一覧!S97,種目コード一覧!$A$1:$C$51,2,FALSE),\" \",REPT(\"0\",VLOOKUP(競技者一覧!S97,種目コード一覧!$A$1:$C$51,3,FALSE)-LEN(競技者一覧!T97)),競技者一覧!T97),\"\")","v":""},{"$f":"IFERROR(CONCATENATE(VLOOKUP(競技者一覧!U97,種目コード一覧!$A$1:$C$51,2,FALSE),\" \",REPT(\"0\",VLOOKUP(競技者一覧!U97,種目コード一覧!$A$1:$C$51,3,FALSE)-LEN(競技者一覧!V97)),競技者一覧!V97),\"\")","v":""},{"$f":"IFERROR(CONCATENATE(VLOOKUP(競技者一覧!W97,種目コード一覧!$A$1:$C$51,2,FALSE),\" \",REPT(\"0\",VLOOKUP(競技者一覧!W97,種目コード一覧!$A$1:$C$51,3,FALSE)-LEN(競技者一覧!X97)),競技者一覧!X97),\"\")","v":""},{"$f":"IFERROR(CONCATENATE(VLOOKUP(競技者一覧!Y97,種目コード一覧!$A$1:$C$51,2,FALSE),\" \",REPT(\"0\",VLOOKUP(競技者一覧!Y97,種目コード一覧!$A$1:$C$51,3,FALSE)-LEN(競技者一覧!Z97)),競技者一覧!Z97),\"\")","v":""}]
[{"$f":"IFERROR(CONCATENATE(競技者一覧!$D$7), \"\")","v":""},{"$f":"IFERROR(CONCATENATE($H$2,Sheet4!B78),\"\")","v":"077"},{"$f":"競技者一覧!C98&IF(OR(競技者一覧!H98=\"\",競技者一覧!H98=9),\"\",\"(\" & 競技者一覧!H98 & \")\")","v":""},{"$f":"ASC(競技者一覧!D98 &IF(OR(MID(競技者一覧!G98,3,2)=\"\", MID(競技者一覧!G98,3,2)=\"0\"),\"\",\"(\" & MID(競技者一覧!G98,3,2) & \")\"))","v":""},{"$f":"ASC(競技者一覧!E98 & \" \" & 競技者一覧!F98 & IF(OR(MID(競技者一覧!G98,3,2)=\"\", MID(競技者一覧!G98,3,2)=\"0\"),\"\",\"(\" & MID(競技者一覧!G98,3,2) & \")\"))","v":" "},{"$f":"CONCATENATE(競技者一覧!I98)","v":""},{"$f":"IFERROR(IF(競技者一覧!$D$6=\"学連\",VLOOKUP(競技者一覧!J98,Sheet4!$D$2:$E$48,2,FALSE),学校名簿!D78),\"\")","v":""},{"$f":"IFERROR(VLOOKUP(競技者一覧!$D$7,学校番号表!$B$2:$C$65536,2,FALSE),\"\")","v":""},{"$f":"CONCATENATE(競技者一覧!B98)","v":""},{"$f":"IFERROR(CONCATENATE(VLOOKUP(競技者一覧!K98,種目コード一覧!$A$1:$B$51,2,FALSE),\" \",REPT(\"0\",VLOOKUP(競技者一覧!K98,種目コード一覧!$A$1:$C$51,3,FALSE)-LEN(競技者一覧!L98)),競技者一覧!L98),\"\")","v":""},{"$f":"IFERROR(CONCATENATE(VLOOKUP(競技者一覧!M98,種目コード一覧!$A$1:$C$51,2,FALSE),\" \",REPT(\"0\",VLOOKUP(競技者一覧!M98,種目コード一覧!$A$1:$C$51,3,FALSE)-LEN(競技者一覧!N98)),競技者一覧!N98),\"\")","v":""},{"$f":"IFERROR(CONCATENATE(VLOOKUP(競技者一覧!O98,種目コード一覧!$A$1:$C$51,2,FALSE),\" \",REPT(\"0\",VLOOKUP(競技者一覧!O98,種目コード一覧!$A$1:$C$51,3,FALSE)-LEN(競技者一覧!P98)),競技者一覧!P98),\"\")","v":""},{"$f":"IFERROR(CONCATENATE(VLOOKUP(競技者一覧!Q98,種目コード一覧!$A$1:$C$51,2,FALSE),\" \",REPT(\"0\",VLOOKUP(競技者一覧!Q98,種目コード一覧!$A$1:$C$51,3,FALSE)-LEN(競技者一覧!R98)),競技者一覧!R98),\"\")","v":""},{"$f":"IFERROR(CONCATENATE(VLOOKUP(競技者一覧!S98,種目コード一覧!$A$1:$C$51,2,FALSE),\" \",REPT(\"0\",VLOOKUP(競技者一覧!S98,種目コード一覧!$A$1:$C$51,3,FALSE)-LEN(競技者一覧!T98)),競技者一覧!T98),\"\")","v":""},{"$f":"IFERROR(CONCATENATE(VLOOKUP(競技者一覧!U98,種目コード一覧!$A$1:$C$51,2,FALSE),\" \",REPT(\"0\",VLOOKUP(競技者一覧!U98,種目コード一覧!$A$1:$C$51,3,FALSE)-LEN(競技者一覧!V98)),競技者一覧!V98),\"\")","v":""},{"$f":"IFERROR(CONCATENATE(VLOOKUP(競技者一覧!W98,種目コード一覧!$A$1:$C$51,2,FALSE),\" \",REPT(\"0\",VLOOKUP(競技者一覧!W98,種目コード一覧!$A$1:$C$51,3,FALSE)-LEN(競技者一覧!X98)),競技者一覧!X98),\"\")","v":""},{"$f":"IFERROR(CONCATENATE(VLOOKUP(競技者一覧!Y98,種目コード一覧!$A$1:$C$51,2,FALSE),\" \",REPT(\"0\",VLOOKUP(競技者一覧!Y98,種目コード一覧!$A$1:$C$51,3,FALSE)-LEN(競技者一覧!Z98)),競技者一覧!Z98),\"\")","v":""}]
[{"$f":"IFERROR(CONCATENATE(競技者一覧!$D$7), \"\")","v":""},{"$f":"IFERROR(CONCATENATE($H$2,Sheet4!B79),\"\")","v":"078"},{"$f":"競技者一覧!C99&IF(OR(競技者一覧!H99=\"\",競技者一覧!H99=9),\"\",\"(\" & 競技者一覧!H99 & \")\")","v":""},{"$f":"競技者一覧!D99 &IF(OR(MID(競技者一覧!G99,3,2)=\"\", MID(競技者一覧!G99,3,2)=\"0\"),\"\",\"(\" & MID(競技者一覧!G99,3,2) & \")\")","v":""},{"$f":"ASC(競技者一覧!E99 & \" \" & 競技者一覧!F99 & IF(OR(MID(競技者一覧!G99,3,2)=\"\", MID(競技者一覧!G99,3,2)=\"0\"),\"\",\"(\" & MID(競技者一覧!G99,3,2) & \")\"))","v":" "},{"$f":"CONCATENATE(競技者一覧!I99)","v":""},{"$f":"IFERROR(IF(競技者一覧!$D$6=\"学連\",VLOOKUP(競技者一覧!J99,Sheet4!$D$2:$E$48,2,FALSE),学校名簿!D79),\"\")","v":""},{"$f":"IFERROR(VLOOKUP(競技者一覧!$D$7,学校番号表!$B$2:$C$65536,2,FALSE),\"\")","v":""},{"$f":"CONCATENATE(競技者一覧!B99)","v":""},{"$f":"IFERROR(CONCATENATE(VLOOKUP(競技者一覧!K99,種目コード一覧!$A$1:$C$51,2,FALSE),\" \",REPT(\"0\",VLOOKUP(競技者一覧!K99,種目コード一覧!$A$1:$C$51,3,FALSE)-LEN(競技者一覧!L99)),競技者一覧!L99),\"\")","v":""},{"$f":"IFERROR(CONCATENATE(VLOOKUP(競技者一覧!M99,種目コード一覧!$A$1:$C$51,2,FALSE),\" \",REPT(\"0\",VLOOKUP(競技者一覧!M99,種目コード一覧!$A$1:$C$51,3,FALSE)-LEN(競技者一覧!N99)),競技者一覧!N99),\"\")","v":""},{"$f":"IFERROR(CONCATENATE(VLOOKUP(競技者一覧!O99,種目コード一覧!$A$1:$C$51,2,FALSE),\" \",REPT(\"0\",VLOOKUP(競技者一覧!O99,種目コード一覧!$A$1:$C$51,3,FALSE)-LEN(競技者一覧!P99)),競技者一覧!P99),\"\")","v":""},{"$f":"IFERROR(CONCATENATE(VLOOKUP(競技者一覧!Q99,種目コード一覧!$A$1:$C$51,2,FALSE),\" \",REPT(\"0\",VLOOKUP(競技者一覧!Q99,種目コード一覧!$A$1:$C$51,3,FALSE)-LEN(競技者一覧!R99)),競技者一覧!R99),\"\")","v":""},{"$f":"IFERROR(CONCATENATE(VLOOKUP(競技者一覧!S99,種目コード一覧!$A$1:$C$51,2,FALSE),\" \",REPT(\"0\",VLOOKUP(競技者一覧!S99,種目コード一覧!$A$1:$C$51,3,FALSE)-LEN(競技者一覧!T99)),競技者一覧!T99),\"\")","v":""},{"$f":"IFERROR(CONCATENATE(VLOOKUP(競技者一覧!U99,種目コード一覧!$A$1:$C$51,2,FALSE),\" \",REPT(\"0\",VLOOKUP(競技者一覧!U99,種目コード一覧!$A$1:$C$51,3,FALSE)-LEN(競技者一覧!V99)),競技者一覧!V99),\"\")","v":""},{"$f":"IFERROR(CONCATENATE(VLOOKUP(競技者一覧!W99,種目コード一覧!$A$1:$C$51,2,FALSE),\" \",REPT(\"0\",VLOOKUP(競技者一覧!W99,種目コード一覧!$A$1:$C$51,3,FALSE)-LEN(競技者一覧!X99)),競技者一覧!X99),\"\")","v":""},{"$f":"IFERROR(CONCATENATE(VLOOKUP(競技者一覧!Y99,種目コード一覧!$A$1:$C$51,2,FALSE),\" \",REPT(\"0\",VLOOKUP(競技者一覧!Y99,種目コード一覧!$A$1:$C$51,3,FALSE)-LEN(競技者一覧!Z99)),競技者一覧!Z99),\"\")","v":""}]
[{"$f":"IFERROR(CONCATENATE(競技者一覧!$D$7), \"\")","v":""},{"$f":"IFERROR(CONCATENATE($H$2,Sheet4!B80),\"\")","v":"079"},{"$f":"競技者一覧!C100&IF(OR(競技者一覧!H100=\"\",競技者一覧!H100=9),\"\",\"(\" & 競技者一覧!H100 & \")\")","v":""},{"$f":"ASC(競技者一覧!D100 &IF(OR(MID(競技者一覧!G100,3,2)=\"\", MID(競技者一覧!G100,3,2)=\"0\"),\"\",\"(\" & MID(競技者一覧!G100,3,2) & \")\"))","v":""},{"$f":"ASC(競技者一覧!E100 & \" \" & 競技者一覧!F100 & IF(OR(MID(競技者一覧!G100,3,2)=\"\", MID(競技者一覧!G100,3,2)=\"0\"),\"\",\"(\" & MID(競技者一覧!G100,3,2) & \")\"))","v":" "},{"$f":"CONCATENATE(競技者一覧!I100)","v":""},{"$f":"IFERROR(IF(競技者一覧!$D$6=\"学連\",VLOOKUP(競技者一覧!J100,Sheet4!$D$2:$E$48,2,FALSE),学校名簿!D80),\"\")","v":""},{"$f":"IFERROR(VLOOKUP(競技者一覧!$D$7,学校番号表!$B$2:$C$65536,2,FALSE),\"\")","v":""},{"$f":"CONCATENATE(競技者一覧!B100)","v":""},{"$f":"IFERROR(CONCATENATE(VLOOKUP(競技者一覧!K100,種目コード一覧!$A$1:$B$51,2,FALSE),\" \",REPT(\"0\",VLOOKUP(競技者一覧!K100,種目コード一覧!$A$1:$C$51,3,FALSE)-LEN(競技者一覧!L100)),競技者一覧!L100),\"\")","v":""},{"$f":"IFERROR(CONCATENATE(VLOOKUP(競技者一覧!M100,種目コード一覧!$A$1:$C$51,2,FALSE),\" \",REPT(\"0\",VLOOKUP(競技者一覧!M100,種目コード一覧!$A$1:$C$51,3,FALSE)-LEN(競技者一覧!N100)),競技者一覧!N100),\"\")","v":""},{"$f":"IFERROR(CONCATENATE(VLOOKUP(競技者一覧!O100,種目コード一覧!$A$1:$C$51,2,FALSE),\" \",REPT(\"0\",VLOOKUP(競技者一覧!O100,種目コード一覧!$A$1:$C$51,3,FALSE)-LEN(競技者一覧!P100)),競技者一覧!P100),\"\")","v":""},{"$f":"IFERROR(CONCATENATE(VLOOKUP(競技者一覧!Q100,種目コード一覧!$A$1:$C$51,2,FALSE),\" \",REPT(\"0\",VLOOKUP(競技者一覧!Q100,種目コード一覧!$A$1:$C$51,3,FALSE)-LEN(競技者一覧!R100)),競技者一覧!R100),\"\")","v":""},{"$f":"IFERROR(CONCATENATE(VLOOKUP(競技者一覧!S100,種目コード一覧!$A$1:$C$51,2,FALSE),\" \",REPT(\"0\",VLOOKUP(競技者一覧!S100,種目コード一覧!$A$1:$C$51,3,FALSE)-LEN(競技者一覧!T100)),競技者一覧!T100),\"\")","v":""},{"$f":"IFERROR(CONCATENATE(VLOOKUP(競技者一覧!U100,種目コード一覧!$A$1:$C$51,2,FALSE),\" \",REPT(\"0\",VLOOKUP(競技者一覧!U100,種目コード一覧!$A$1:$C$51,3,FALSE)-LEN(競技者一覧!V100)),競技者一覧!V100),\"\")","v":""},{"$f":"IFERROR(CONCATENATE(VLOOKUP(競技者一覧!W100,種目コード一覧!$A$1:$C$51,2,FALSE),\" \",REPT(\"0\",VLOOKUP(競技者一覧!W100,種目コード一覧!$A$1:$C$51,3,FALSE)-LEN(競技者一覧!X100)),競技者一覧!X100),\"\")","v":""},{"$f":"IFERROR(CONCATENATE(VLOOKUP(競技者一覧!Y100,種目コード一覧!$A$1:$C$51,2,FALSE),\" \",REPT(\"0\",VLOOKUP(競技者一覧!Y100,種目コード一覧!$A$1:$C$51,3,FALSE)-LEN(競技者一覧!Z100)),競技者一覧!Z100),\"\")","v":""}]
[{"$f":"IFERROR(CONCATENATE(競技者一覧!$D$7), \"\")","v":""},{"$f":"IFERROR(CONCATENATE($H$2,Sheet4!B81),\"\")","v":"080"},{"$f":"競技者一覧!C101&IF(OR(競技者一覧!H101=\"\",競技者一覧!H101=9),\"\",\"(\" & 競技者一覧!H101 & \")\")","v":""},{"$f":"競技者一覧!D101 &IF(OR(MID(競技者一覧!G101,3,2)=\"\", MID(競技者一覧!G101,3,2)=\"0\"),\"\",\"(\" & MID(競技者一覧!G101,3,2) & \")\")","v":""},{"$f":"ASC(競技者一覧!E101 & \" \" & 競技者一覧!F101 & IF(OR(MID(競技者一覧!G101,3,2)=\"\", MID(競技者一覧!G101,3,2)=\"0\"),\"\",\"(\" & MID(競技者一覧!G101,3,2) & \")\"))","v":" "},{"$f":"CONCATENATE(競技者一覧!I101)","v":""},{"$f":"IFERROR(IF(競技者一覧!$D$6=\"学連\",VLOOKUP(競技者一覧!J101,Sheet4!$D$2:$E$48,2,FALSE),学校名簿!D81),\"\")","v":""},{"$f":"IFERROR(VLOOKUP(競技者一覧!$D$7,学校番号表!$B$2:$C$65536,2,FALSE),\"\")","v":""},{"$f":"CONCATENATE(競技者一覧!B101)","v":""},{"$f":"IFERROR(CONCATENATE(VLOOKUP(競技者一覧!K101,種目コード一覧!$A$1:$C$51,2,FALSE),\" \",REPT(\"0\",VLOOKUP(競技者一覧!K101,種目コード一覧!$A$1:$C$51,3,FALSE)-LEN(競技者一覧!L101)),競技者一覧!L101),\"\")","v":""},{"$f":"IFERROR(CONCATENATE(VLOOKUP(競技者一覧!M101,種目コード一覧!$A$1:$C$51,2,FALSE),\" \",REPT(\"0\",VLOOKUP(競技者一覧!M101,種目コード一覧!$A$1:$C$51,3,FALSE)-LEN(競技者一覧!N101)),競技者一覧!N101),\"\")","v":""},{"$f":"IFERROR(CONCATENATE(VLOOKUP(競技者一覧!O101,種目コード一覧!$A$1:$C$51,2,FALSE),\" \",REPT(\"0\",VLOOKUP(競技者一覧!O101,種目コード一覧!$A$1:$C$51,3,FALSE)-LEN(競技者一覧!P101)),競技者一覧!P101),\"\")","v":""},{"$f":"IFERROR(CONCATENATE(VLOOKUP(競技者一覧!Q101,種目コード一覧!$A$1:$C$51,2,FALSE),\" \",REPT(\"0\",VLOOKUP(競技者一覧!Q101,種目コード一覧!$A$1:$C$51,3,FALSE)-LEN(競技者一覧!R101)),競技者一覧!R101),\"\")","v":""},{"$f":"IFERROR(CONCATENATE(VLOOKUP(競技者一覧!S101,種目コード一覧!$A$1:$C$51,2,FALSE),\" \",REPT(\"0\",VLOOKUP(競技者一覧!S101,種目コード一覧!$A$1:$C$51,3,FALSE)-LEN(競技者一覧!T101)),競技者一覧!T101),\"\")","v":""},{"$f":"IFERROR(CONCATENATE(VLOOKUP(競技者一覧!U101,種目コード一覧!$A$1:$C$51,2,FALSE),\" \",REPT(\"0\",VLOOKUP(競技者一覧!U101,種目コード一覧!$A$1:$C$51,3,FALSE)-LEN(競技者一覧!V101)),競技者一覧!V101),\"\")","v":""},{"$f":"IFERROR(CONCATENATE(VLOOKUP(競技者一覧!W101,種目コード一覧!$A$1:$C$51,2,FALSE),\" \",REPT(\"0\",VLOOKUP(競技者一覧!W101,種目コード一覧!$A$1:$C$51,3,FALSE)-LEN(競技者一覧!X101)),競技者一覧!X101),\"\")","v":""},{"$f":"IFERROR(CONCATENATE(VLOOKUP(競技者一覧!Y101,種目コード一覧!$A$1:$C$51,2,FALSE),\" \",REPT(\"0\",VLOOKUP(競技者一覧!Y101,種目コード一覧!$A$1:$C$51,3,FALSE)-LEN(競技者一覧!Z101)),競技者一覧!Z101),\"\")","v":""}]
[{"$f":"IFERROR(CONCATENATE(競技者一覧!$D$7), \"\")","v":""},{"$f":"IFERROR(CONCATENATE($H$2,Sheet4!B82),\"\")","v":"081"},{"$f":"競技者一覧!C102&IF(OR(競技者一覧!H102=\"\",競技者一覧!H102=9),\"\",\"(\" & 競技者一覧!H102 & \")\")","v":""},{"$f":"ASC(競技者一覧!D102 &IF(OR(MID(競技者一覧!G102,3,2)=\"\", MID(競技者一覧!G102,3,2)=\"0\"),\"\",\"(\" & MID(競技者一覧!G102,3,2) & \")\"))","v":""},{"$f":"ASC(競技者一覧!E102 & \" \" & 競技者一覧!F102 & IF(OR(MID(競技者一覧!G102,3,2)=\"\", MID(競技者一覧!G102,3,2)=\"0\"),\"\",\"(\" & MID(競技者一覧!G102,3,2) & \")\"))","v":" "},{"$f":"CONCATENATE(競技者一覧!I102)","v":""},{"$f":"IFERROR(IF(競技者一覧!$D$6=\"学連\",VLOOKUP(競技者一覧!J102,Sheet4!$D$2:$E$48,2,FALSE),学校名簿!D82),\"\")","v":""},{"$f":"IFERROR(VLOOKUP(競技者一覧!$D$7,学校番号表!$B$2:$C$65536,2,FALSE),\"\")","v":""},{"$f":"CONCATENATE(競技者一覧!B102)","v":""},{"$f":"IFERROR(CONCATENATE(VLOOKUP(競技者一覧!K102,種目コード一覧!$A$1:$B$51,2,FALSE),\" \",REPT(\"0\",VLOOKUP(競技者一覧!K102,種目コード一覧!$A$1:$C$51,3,FALSE)-LEN(競技者一覧!L102)),競技者一覧!L102),\"\")","v":""},{"$f":"IFERROR(CONCATENATE(VLOOKUP(競技者一覧!M102,種目コード一覧!$A$1:$C$51,2,FALSE),\" \",REPT(\"0\",VLOOKUP(競技者一覧!M102,種目コード一覧!$A$1:$C$51,3,FALSE)-LEN(競技者一覧!N102)),競技者一覧!N102),\"\")","v":""},{"$f":"IFERROR(CONCATENATE(VLOOKUP(競技者一覧!O102,種目コード一覧!$A$1:$C$51,2,FALSE),\" \",REPT(\"0\",VLOOKUP(競技者一覧!O102,種目コード一覧!$A$1:$C$51,3,FALSE)-LEN(競技者一覧!P102)),競技者一覧!P102),\"\")","v":""},{"$f":"IFERROR(CONCATENATE(VLOOKUP(競技者一覧!Q102,種目コード一覧!$A$1:$C$51,2,FALSE),\" \",REPT(\"0\",VLOOKUP(競技者一覧!Q102,種目コード一覧!$A$1:$C$51,3,FALSE)-LEN(競技者一覧!R102)),競技者一覧!R102),\"\")","v":""},{"$f":"IFERROR(CONCATENATE(VLOOKUP(競技者一覧!S102,種目コード一覧!$A$1:$C$51,2,FALSE),\" \",REPT(\"0\",VLOOKUP(競技者一覧!S102,種目コード一覧!$A$1:$C$51,3,FALSE)-LEN(競技者一覧!T102)),競技者一覧!T102),\"\")","v":""},{"$f":"IFERROR(CONCATENATE(VLOOKUP(競技者一覧!U102,種目コード一覧!$A$1:$C$51,2,FALSE),\" \",REPT(\"0\",VLOOKUP(競技者一覧!U102,種目コード一覧!$A$1:$C$51,3,FALSE)-LEN(競技者一覧!V102)),競技者一覧!V102),\"\")","v":""},{"$f":"IFERROR(CONCATENATE(VLOOKUP(競技者一覧!W102,種目コード一覧!$A$1:$C$51,2,FALSE),\" \",REPT(\"0\",VLOOKUP(競技者一覧!W102,種目コード一覧!$A$1:$C$51,3,FALSE)-LEN(競技者一覧!X102)),競技者一覧!X102),\"\")","v":""},{"$f":"IFERROR(CONCATENATE(VLOOKUP(競技者一覧!Y102,種目コード一覧!$A$1:$C$51,2,FALSE),\" \",REPT(\"0\",VLOOKUP(競技者一覧!Y102,種目コード一覧!$A$1:$C$51,3,FALSE)-LEN(競技者一覧!Z102)),競技者一覧!Z102),\"\")","v":""}]
[{"$f":"IFERROR(CONCATENATE(競技者一覧!$D$7), \"\")","v":""},{"$f":"IFERROR(CONCATENATE($H$2,Sheet4!B83),\"\")","v":"082"},{"$f":"競技者一覧!C103&IF(OR(競技者一覧!H103=\"\",競技者一覧!H103=9),\"\",\"(\" & 競技者一覧!H103 & \")\")","v":""},{"$f":"競技者一覧!D103 &IF(OR(MID(競技者一覧!G103,3,2)=\"\", MID(競技者一覧!G103,3,2)=\"0\"),\"\",\"(\" & MID(競技者一覧!G103,3,2) & \")\")","v":""},{"$f":"ASC(競技者一覧!E103 & \" \" & 競技者一覧!F103 & IF(OR(MID(競技者一覧!G103,3,2)=\"\", MID(競技者一覧!G103,3,2)=\"0\"),\"\",\"(\" & MID(競技者一覧!G103,3,2) & \")\"))","v":" "},{"$f":"CONCATENATE(競技者一覧!I103)","v":""},{"$f":"IFERROR(IF(競技者一覧!$D$6=\"学連\",VLOOKUP(競技者一覧!J103,Sheet4!$D$2:$E$48,2,FALSE),学校名簿!D83),\"\")","v":""},{"$f":"IFERROR(VLOOKUP(競技者一覧!$D$7,学校番号表!$B$2:$C$65536,2,FALSE),\"\")","v":""},{"$f":"CONCATENATE(競技者一覧!B103)","v":""},{"$f":"IFERROR(CONCATENATE(VLOOKUP(競技者一覧!K103,種目コード一覧!$A$1:$C$51,2,FALSE),\" \",REPT(\"0\",VLOOKUP(競技者一覧!K103,種目コード一覧!$A$1:$C$51,3,FALSE)-LEN(競技者一覧!L103)),競技者一覧!L103),\"\")","v":""},{"$f":"IFERROR(CONCATENATE(VLOOKUP(競技者一覧!M103,種目コード一覧!$A$1:$C$51,2,FALSE),\" \",REPT(\"0\",VLOOKUP(競技者一覧!M103,種目コード一覧!$A$1:$C$51,3,FALSE)-LEN(競技者一覧!N103)),競技者一覧!N103),\"\")","v":""},{"$f":"IFERROR(CONCATENATE(VLOOKUP(競技者一覧!O103,種目コード一覧!$A$1:$C$51,2,FALSE),\" \",REPT(\"0\",VLOOKUP(競技者一覧!O103,種目コード一覧!$A$1:$C$51,3,FALSE)-LEN(競技者一覧!P103)),競技者一覧!P103),\"\")","v":""},{"$f":"IFERROR(CONCATENATE(VLOOKUP(競技者一覧!Q103,種目コード一覧!$A$1:$C$51,2,FALSE),\" \",REPT(\"0\",VLOOKUP(競技者一覧!Q103,種目コード一覧!$A$1:$C$51,3,FALSE)-LEN(競技者一覧!R103)),競技者一覧!R103),\"\")","v":""},{"$f":"IFERROR(CONCATENATE(VLOOKUP(競技者一覧!S103,種目コード一覧!$A$1:$C$51,2,FALSE),\" \",REPT(\"0\",VLOOKUP(競技者一覧!S103,種目コード一覧!$A$1:$C$51,3,FALSE)-LEN(競技者一覧!T103)),競技者一覧!T103),\"\")","v":""},{"$f":"IFERROR(CONCATENATE(VLOOKUP(競技者一覧!U103,種目コード一覧!$A$1:$C$51,2,FALSE),\" \",REPT(\"0\",VLOOKUP(競技者一覧!U103,種目コード一覧!$A$1:$C$51,3,FALSE)-LEN(競技者一覧!V103)),競技者一覧!V103),\"\")","v":""},{"$f":"IFERROR(CONCATENATE(VLOOKUP(競技者一覧!W103,種目コード一覧!$A$1:$C$51,2,FALSE),\" \",REPT(\"0\",VLOOKUP(競技者一覧!W103,種目コード一覧!$A$1:$C$51,3,FALSE)-LEN(競技者一覧!X103)),競技者一覧!X103),\"\")","v":""},{"$f":"IFERROR(CONCATENATE(VLOOKUP(競技者一覧!Y103,種目コード一覧!$A$1:$C$51,2,FALSE),\" \",REPT(\"0\",VLOOKUP(競技者一覧!Y103,種目コード一覧!$A$1:$C$51,3,FALSE)-LEN(競技者一覧!Z103)),競技者一覧!Z103),\"\")","v":""}]
[{"$f":"IFERROR(CONCATENATE(競技者一覧!$D$7), \"\")","v":""},{"$f":"IFERROR(CONCATENATE($H$2,Sheet4!B84),\"\")","v":"083"},{"$f":"競技者一覧!C104&IF(OR(競技者一覧!H104=\"\",競技者一覧!H104=9),\"\",\"(\" & 競技者一覧!H104 & \")\")","v":""},{"$f":"ASC(競技者一覧!D104 &IF(OR(MID(競技者一覧!G104,3,2)=\"\", MID(競技者一覧!G104,3,2)=\"0\"),\"\",\"(\" & MID(競技者一覧!G104,3,2) & \")\"))","v":""},{"$f":"ASC(競技者一覧!E104 & \" \" & 競技者一覧!F104 & IF(OR(MID(競技者一覧!G104,3,2)=\"\", MID(競技者一覧!G104,3,2)=\"0\"),\"\",\"(\" & MID(競技者一覧!G104,3,2) & \")\"))","v":" "},{"$f":"CONCATENATE(競技者一覧!I104)","v":""},{"$f":"IFERROR(IF(競技者一覧!$D$6=\"学連\",VLOOKUP(競技者一覧!J104,Sheet4!$D$2:$E$48,2,FALSE),学校名簿!D84),\"\")","v":""},{"$f":"IFERROR(VLOOKUP(競技者一覧!$D$7,学校番号表!$B$2:$C$65536,2,FALSE),\"\")","v":""},{"$f":"CONCATENATE(競技者一覧!B104)","v":""},{"$f":"IFERROR(CONCATENATE(VLOOKUP(競技者一覧!K104,種目コード一覧!$A$1:$B$51,2,FALSE),\" \",REPT(\"0\",VLOOKUP(競技者一覧!K104,種目コード一覧!$A$1:$C$51,3,FALSE)-LEN(競技者一覧!L104)),競技者一覧!L104),\"\")","v":""},{"$f":"IFERROR(CONCATENATE(VLOOKUP(競技者一覧!M104,種目コード一覧!$A$1:$C$51,2,FALSE),\" \",REPT(\"0\",VLOOKUP(競技者一覧!M104,種目コード一覧!$A$1:$C$51,3,FALSE)-LEN(競技者一覧!N104)),競技者一覧!N104),\"\")","v":""},{"$f":"IFERROR(CONCATENATE(VLOOKUP(競技者一覧!O104,種目コード一覧!$A$1:$C$51,2,FALSE),\" \",REPT(\"0\",VLOOKUP(競技者一覧!O104,種目コード一覧!$A$1:$C$51,3,FALSE)-LEN(競技者一覧!P104)),競技者一覧!P104),\"\")","v":""},{"$f":"IFERROR(CONCATENATE(VLOOKUP(競技者一覧!Q104,種目コード一覧!$A$1:$C$51,2,FALSE),\" \",REPT(\"0\",VLOOKUP(競技者一覧!Q104,種目コード一覧!$A$1:$C$51,3,FALSE)-LEN(競技者一覧!R104)),競技者一覧!R104),\"\")","v":""},{"$f":"IFERROR(CONCATENATE(VLOOKUP(競技者一覧!S104,種目コード一覧!$A$1:$C$51,2,FALSE),\" \",REPT(\"0\",VLOOKUP(競技者一覧!S104,種目コード一覧!$A$1:$C$51,3,FALSE)-LEN(競技者一覧!T104)),競技者一覧!T104),\"\")","v":""},{"$f":"IFERROR(CONCATENATE(VLOOKUP(競技者一覧!U104,種目コード一覧!$A$1:$C$51,2,FALSE),\" \",REPT(\"0\",VLOOKUP(競技者一覧!U104,種目コード一覧!$A$1:$C$51,3,FALSE)-LEN(競技者一覧!V104)),競技者一覧!V104),\"\")","v":""},{"$f":"IFERROR(CONCATENATE(VLOOKUP(競技者一覧!W104,種目コード一覧!$A$1:$C$51,2,FALSE),\" \",REPT(\"0\",VLOOKUP(競技者一覧!W104,種目コード一覧!$A$1:$C$51,3,FALSE)-LEN(競技者一覧!X104)),競技者一覧!X104),\"\")","v":""},{"$f":"IFERROR(CONCATENATE(VLOOKUP(競技者一覧!Y104,種目コード一覧!$A$1:$C$51,2,FALSE),\" \",REPT(\"0\",VLOOKUP(競技者一覧!Y104,種目コード一覧!$A$1:$C$51,3,FALSE)-LEN(競技者一覧!Z104)),競技者一覧!Z104),\"\")","v":""}]
[{"$f":"IFERROR(CONCATENATE(競技者一覧!$D$7), \"\")","v":""},{"$f":"IFERROR(CONCATENATE($H$2,Sheet4!B85),\"\")","v":"084"},{"$f":"競技者一覧!C105&IF(OR(競技者一覧!H105=\"\",競技者一覧!H105=9),\"\",\"(\" & 競技者一覧!H105 & \")\")","v":""},{"$f":"競技者一覧!D105 &IF(OR(MID(競技者一覧!G105,3,2)=\"\", MID(競技者一覧!G105,3,2)=\"0\"),\"\",\"(\" & MID(競技者一覧!G105,3,2) & \")\")","v":""},{"$f":"ASC(競技者一覧!E105 & \" \" & 競技者一覧!F105 & IF(OR(MID(競技者一覧!G105,3,2)=\"\", MID(競技者一覧!G105,3,2)=\"0\"),\"\",\"(\" & MID(競技者一覧!G105,3,2) & \")\"))","v":" "},{"$f":"CONCATENATE(競技者一覧!I105)","v":""},{"$f":"IFERROR(IF(競技者一覧!$D$6=\"学連\",VLOOKUP(競技者一覧!J105,Sheet4!$D$2:$E$48,2,FALSE),学校名簿!D85),\"\")","v":""},{"$f":"IFERROR(VLOOKUP(競技者一覧!$D$7,学校番号表!$B$2:$C$65536,2,FALSE),\"\")","v":""},{"$f":"CONCATENATE(競技者一覧!B105)","v":""},{"$f":"IFERROR(CONCATENATE(VLOOKUP(競技者一覧!K105,種目コード一覧!$A$1:$C$51,2,FALSE),\" \",REPT(\"0\",VLOOKUP(競技者一覧!K105,種目コード一覧!$A$1:$C$51,3,FALSE)-LEN(競技者一覧!L105)),競技者一覧!L105),\"\")","v":""},{"$f":"IFERROR(CONCATENATE(VLOOKUP(競技者一覧!M105,種目コード一覧!$A$1:$C$51,2,FALSE),\" \",REPT(\"0\",VLOOKUP(競技者一覧!M105,種目コード一覧!$A$1:$C$51,3,FALSE)-LEN(競技者一覧!N105)),競技者一覧!N105),\"\")","v":""},{"$f":"IFERROR(CONCATENATE(VLOOKUP(競技者一覧!O105,種目コード一覧!$A$1:$C$51,2,FALSE),\" \",REPT(\"0\",VLOOKUP(競技者一覧!O105,種目コード一覧!$A$1:$C$51,3,FALSE)-LEN(競技者一覧!P105)),競技者一覧!P105),\"\")","v":""},{"$f":"IFERROR(CONCATENATE(VLOOKUP(競技者一覧!Q105,種目コード一覧!$A$1:$C$51,2,FALSE),\" \",REPT(\"0\",VLOOKUP(競技者一覧!Q105,種目コード一覧!$A$1:$C$51,3,FALSE)-LEN(競技者一覧!R105)),競技者一覧!R105),\"\")","v":""},{"$f":"IFERROR(CONCATENATE(VLOOKUP(競技者一覧!S105,種目コード一覧!$A$1:$C$51,2,FALSE),\" \",REPT(\"0\",VLOOKUP(競技者一覧!S105,種目コード一覧!$A$1:$C$51,3,FALSE)-LEN(競技者一覧!T105)),競技者一覧!T105),\"\")","v":""},{"$f":"IFERROR(CONCATENATE(VLOOKUP(競技者一覧!U105,種目コード一覧!$A$1:$C$51,2,FALSE),\" \",REPT(\"0\",VLOOKUP(競技者一覧!U105,種目コード一覧!$A$1:$C$51,3,FALSE)-LEN(競技者一覧!V105)),競技者一覧!V105),\"\")","v":""},{"$f":"IFERROR(CONCATENATE(VLOOKUP(競技者一覧!W105,種目コード一覧!$A$1:$C$51,2,FALSE),\" \",REPT(\"0\",VLOOKUP(競技者一覧!W105,種目コード一覧!$A$1:$C$51,3,FALSE)-LEN(競技者一覧!X105)),競技者一覧!X105),\"\")","v":""},{"$f":"IFERROR(CONCATENATE(VLOOKUP(競技者一覧!Y105,種目コード一覧!$A$1:$C$51,2,FALSE),\" \",REPT(\"0\",VLOOKUP(競技者一覧!Y105,種目コード一覧!$A$1:$C$51,3,FALSE)-LEN(競技者一覧!Z105)),競技者一覧!Z105),\"\")","v":""}]
[{"$f":"IFERROR(CONCATENATE(競技者一覧!$D$7), \"\")","v":""},{"$f":"IFERROR(CONCATENATE($H$2,Sheet4!B86),\"\")","v":"085"},{"$f":"競技者一覧!C106&IF(OR(競技者一覧!H106=\"\",競技者一覧!H106=9),\"\",\"(\" & 競技者一覧!H106 & \")\")","v":""},{"$f":"ASC(競技者一覧!D106 &IF(OR(MID(競技者一覧!G106,3,2)=\"\", MID(競技者一覧!G106,3,2)=\"0\"),\"\",\"(\" & MID(競技者一覧!G106,3,2) & \")\"))","v":""},{"$f":"ASC(競技者一覧!E106 & \" \" & 競技者一覧!F106 & IF(OR(MID(競技者一覧!G106,3,2)=\"\", MID(競技者一覧!G106,3,2)=\"0\"),\"\",\"(\" & MID(競技者一覧!G106,3,2) & \")\"))","v":" "},{"$f":"CONCATENATE(競技者一覧!I106)","v":""},{"$f":"IFERROR(IF(競技者一覧!$D$6=\"学連\",VLOOKUP(競技者一覧!J106,Sheet4!$D$2:$E$48,2,FALSE),学校名簿!D86),\"\")","v":""},{"$f":"IFERROR(VLOOKUP(競技者一覧!$D$7,学校番号表!$B$2:$C$65536,2,FALSE),\"\")","v":""},{"$f":"CONCATENATE(競技者一覧!B106)","v":""},{"$f":"IFERROR(CONCATENATE(VLOOKUP(競技者一覧!K106,種目コード一覧!$A$1:$B$51,2,FALSE),\" \",REPT(\"0\",VLOOKUP(競技者一覧!K106,種目コード一覧!$A$1:$C$51,3,FALSE)-LEN(競技者一覧!L106)),競技者一覧!L106),\"\")","v":""},{"$f":"IFERROR(CONCATENATE(VLOOKUP(競技者一覧!M106,種目コード一覧!$A$1:$C$51,2,FALSE),\" \",REPT(\"0\",VLOOKUP(競技者一覧!M106,種目コード一覧!$A$1:$C$51,3,FALSE)-LEN(競技者一覧!N106)),競技者一覧!N106),\"\")","v":""},{"$f":"IFERROR(CONCATENATE(VLOOKUP(競技者一覧!O106,種目コード一覧!$A$1:$C$51,2,FALSE),\" \",REPT(\"0\",VLOOKUP(競技者一覧!O106,種目コード一覧!$A$1:$C$51,3,FALSE)-LEN(競技者一覧!P106)),競技者一覧!P106),\"\")","v":""},{"$f":"IFERROR(CONCATENATE(VLOOKUP(競技者一覧!Q106,種目コード一覧!$A$1:$C$51,2,FALSE),\" \",REPT(\"0\",VLOOKUP(競技者一覧!Q106,種目コード一覧!$A$1:$C$51,3,FALSE)-LEN(競技者一覧!R106)),競技者一覧!R106),\"\")","v":""},{"$f":"IFERROR(CONCATENATE(VLOOKUP(競技者一覧!S106,種目コード一覧!$A$1:$C$51,2,FALSE),\" \",REPT(\"0\",VLOOKUP(競技者一覧!S106,種目コード一覧!$A$1:$C$51,3,FALSE)-LEN(競技者一覧!T106)),競技者一覧!T106),\"\")","v":""},{"$f":"IFERROR(CONCATENATE(VLOOKUP(競技者一覧!U106,種目コード一覧!$A$1:$C$51,2,FALSE),\" \",REPT(\"0\",VLOOKUP(競技者一覧!U106,種目コード一覧!$A$1:$C$51,3,FALSE)-LEN(競技者一覧!V106)),競技者一覧!V106),\"\")","v":""},{"$f":"IFERROR(CONCATENATE(VLOOKUP(競技者一覧!W106,種目コード一覧!$A$1:$C$51,2,FALSE),\" \",REPT(\"0\",VLOOKUP(競技者一覧!W106,種目コード一覧!$A$1:$C$51,3,FALSE)-LEN(競技者一覧!X106)),競技者一覧!X106),\"\")","v":""},{"$f":"IFERROR(CONCATENATE(VLOOKUP(競技者一覧!Y106,種目コード一覧!$A$1:$C$51,2,FALSE),\" \",REPT(\"0\",VLOOKUP(競技者一覧!Y106,種目コード一覧!$A$1:$C$51,3,FALSE)-LEN(競技者一覧!Z106)),競技者一覧!Z106),\"\")","v":""}]
[{"$f":"IFERROR(CONCATENATE(競技者一覧!$D$7), \"\")","v":""},{"$f":"IFERROR(CONCATENATE($H$2,Sheet4!B87),\"\")","v":"086"},{"$f":"競技者一覧!C107&IF(OR(競技者一覧!H107=\"\",競技者一覧!H107=9),\"\",\"(\" & 競技者一覧!H107 & \")\")","v":""},{"$f":"競技者一覧!D107 &IF(OR(MID(競技者一覧!G107,3,2)=\"\", MID(競技者一覧!G107,3,2)=\"0\"),\"\",\"(\" & MID(競技者一覧!G107,3,2) & \")\")","v":""},{"$f":"ASC(競技者一覧!E107 & \" \" & 競技者一覧!F107 & IF(OR(MID(競技者一覧!G107,3,2)=\"\", MID(競技者一覧!G107,3,2)=\"0\"),\"\",\"(\" & MID(競技者一覧!G107,3,2) & \")\"))","v":" "},{"$f":"CONCATENATE(競技者一覧!I107)","v":""},{"$f":"IFERROR(IF(競技者一覧!$D$6=\"学連\",VLOOKUP(競技者一覧!J107,Sheet4!$D$2:$E$48,2,FALSE),学校名簿!D87),\"\")","v":""},{"$f":"IFERROR(VLOOKUP(競技者一覧!$D$7,学校番号表!$B$2:$C$65536,2,FALSE),\"\")","v":""},{"$f":"CONCATENATE(競技者一覧!B107)","v":""},{"$f":"IFERROR(CONCATENATE(VLOOKUP(競技者一覧!K107,種目コード一覧!$A$1:$C$51,2,FALSE),\" \",REPT(\"0\",VLOOKUP(競技者一覧!K107,種目コード一覧!$A$1:$C$51,3,FALSE)-LEN(競技者一覧!L107)),競技者一覧!L107),\"\")","v":""},{"$f":"IFERROR(CONCATENATE(VLOOKUP(競技者一覧!M107,種目コード一覧!$A$1:$C$51,2,FALSE),\" \",REPT(\"0\",VLOOKUP(競技者一覧!M107,種目コード一覧!$A$1:$C$51,3,FALSE)-LEN(競技者一覧!N107)),競技者一覧!N107),\"\")","v":""},{"$f":"IFERROR(CONCATENATE(VLOOKUP(競技者一覧!O107,種目コード一覧!$A$1:$C$51,2,FALSE),\" \",REPT(\"0\",VLOOKUP(競技者一覧!O107,種目コード一覧!$A$1:$C$51,3,FALSE)-LEN(競技者一覧!P107)),競技者一覧!P107),\"\")","v":""},{"$f":"IFERROR(CONCATENATE(VLOOKUP(競技者一覧!Q107,種目コード一覧!$A$1:$C$51,2,FALSE),\" \",REPT(\"0\",VLOOKUP(競技者一覧!Q107,種目コード一覧!$A$1:$C$51,3,FALSE)-LEN(競技者一覧!R107)),競技者一覧!R107),\"\")","v":""},{"$f":"IFERROR(CONCATENATE(VLOOKUP(競技者一覧!S107,種目コード一覧!$A$1:$C$51,2,FALSE),\" \",REPT(\"0\",VLOOKUP(競技者一覧!S107,種目コード一覧!$A$1:$C$51,3,FALSE)-LEN(競技者一覧!T107)),競技者一覧!T107),\"\")","v":""},{"$f":"IFERROR(CONCATENATE(VLOOKUP(競技者一覧!U107,種目コード一覧!$A$1:$C$51,2,FALSE),\" \",REPT(\"0\",VLOOKUP(競技者一覧!U107,種目コード一覧!$A$1:$C$51,3,FALSE)-LEN(競技者一覧!V107)),競技者一覧!V107),\"\")","v":""},{"$f":"IFERROR(CONCATENATE(VLOOKUP(競技者一覧!W107,種目コード一覧!$A$1:$C$51,2,FALSE),\" \",REPT(\"0\",VLOOKUP(競技者一覧!W107,種目コード一覧!$A$1:$C$51,3,FALSE)-LEN(競技者一覧!X107)),競技者一覧!X107),\"\")","v":""},{"$f":"IFERROR(CONCATENATE(VLOOKUP(競技者一覧!Y107,種目コード一覧!$A$1:$C$51,2,FALSE),\" \",REPT(\"0\",VLOOKUP(競技者一覧!Y107,種目コード一覧!$A$1:$C$51,3,FALSE)-LEN(競技者一覧!Z107)),競技者一覧!Z107),\"\")","v":""}]
[{"$f":"IFERROR(CONCATENATE(競技者一覧!$D$7), \"\")","v":""},{"$f":"IFERROR(CONCATENATE($H$2,Sheet4!B88),\"\")","v":"087"},{"$f":"競技者一覧!C108&IF(OR(競技者一覧!H108=\"\",競技者一覧!H108=9),\"\",\"(\" & 競技者一覧!H108 & \")\")","v":""},{"$f":"ASC(競技者一覧!D108 &IF(OR(MID(競技者一覧!G108,3,2)=\"\", MID(競技者一覧!G108,3,2)=\"0\"),\"\",\"(\" & MID(競技者一覧!G108,3,2) & \")\"))","v":""},{"$f":"ASC(競技者一覧!E108 & \" \" & 競技者一覧!F108 & IF(OR(MID(競技者一覧!G108,3,2)=\"\", MID(競技者一覧!G108,3,2)=\"0\"),\"\",\"(\" & MID(競技者一覧!G108,3,2) & \")\"))","v":" "},{"$f":"CONCATENATE(競技者一覧!I108)","v":""},{"$f":"IFERROR(IF(競技者一覧!$D$6=\"学連\",VLOOKUP(競技者一覧!J108,Sheet4!$D$2:$E$48,2,FALSE),学校名簿!D88),\"\")","v":""},{"$f":"IFERROR(VLOOKUP(競技者一覧!$D$7,学校番号表!$B$2:$C$65536,2,FALSE),\"\")","v":""},{"$f":"CONCATENATE(競技者一覧!B108)","v":""},{"$f":"IFERROR(CONCATENATE(VLOOKUP(競技者一覧!K108,種目コード一覧!$A$1:$B$51,2,FALSE),\" \",REPT(\"0\",VLOOKUP(競技者一覧!K108,種目コード一覧!$A$1:$C$51,3,FALSE)-LEN(競技者一覧!L108)),競技者一覧!L108),\"\")","v":""},{"$f":"IFERROR(CONCATENATE(VLOOKUP(競技者一覧!M108,種目コード一覧!$A$1:$C$51,2,FALSE),\" \",REPT(\"0\",VLOOKUP(競技者一覧!M108,種目コード一覧!$A$1:$C$51,3,FALSE)-LEN(競技者一覧!N108)),競技者一覧!N108),\"\")","v":""},{"$f":"IFERROR(CONCATENATE(VLOOKUP(競技者一覧!O108,種目コード一覧!$A$1:$C$51,2,FALSE),\" \",REPT(\"0\",VLOOKUP(競技者一覧!O108,種目コード一覧!$A$1:$C$51,3,FALSE)-LEN(競技者一覧!P108)),競技者一覧!P108),\"\")","v":""},{"$f":"IFERROR(CONCATENATE(VLOOKUP(競技者一覧!Q108,種目コード一覧!$A$1:$C$51,2,FALSE),\" \",REPT(\"0\",VLOOKUP(競技者一覧!Q108,種目コード一覧!$A$1:$C$51,3,FALSE)-LEN(競技者一覧!R108)),競技者一覧!R108),\"\")","v":""},{"$f":"IFERROR(CONCATENATE(VLOOKUP(競技者一覧!S108,種目コード一覧!$A$1:$C$51,2,FALSE),\" \",REPT(\"0\",VLOOKUP(競技者一覧!S108,種目コード一覧!$A$1:$C$51,3,FALSE)-LEN(競技者一覧!T108)),競技者一覧!T108),\"\")","v":""},{"$f":"IFERROR(CONCATENATE(VLOOKUP(競技者一覧!U108,種目コード一覧!$A$1:$C$51,2,FALSE),\" \",REPT(\"0\",VLOOKUP(競技者一覧!U108,種目コード一覧!$A$1:$C$51,3,FALSE)-LEN(競技者一覧!V108)),競技者一覧!V108),\"\")","v":""},{"$f":"IFERROR(CONCATENATE(VLOOKUP(競技者一覧!W108,種目コード一覧!$A$1:$C$51,2,FALSE),\" \",REPT(\"0\",VLOOKUP(競技者一覧!W108,種目コード一覧!$A$1:$C$51,3,FALSE)-LEN(競技者一覧!X108)),競技者一覧!X108),\"\")","v":""},{"$f":"IFERROR(CONCATENATE(VLOOKUP(競技者一覧!Y108,種目コード一覧!$A$1:$C$51,2,FALSE),\" \",REPT(\"0\",VLOOKUP(競技者一覧!Y108,種目コード一覧!$A$1:$C$51,3,FALSE)-LEN(競技者一覧!Z108)),競技者一覧!Z108),\"\")","v":""}]
[{"$f":"IFERROR(CONCATENATE(競技者一覧!$D$7), \"\")","v":""},{"$f":"IFERROR(CONCATENATE($H$2,Sheet4!B89),\"\")","v":"088"},{"$f":"競技者一覧!C109&IF(OR(競技者一覧!H109=\"\",競技者一覧!H109=9),\"\",\"(\" & 競技者一覧!H109 & \")\")","v":""},{"$f":"競技者一覧!D109 &IF(OR(MID(競技者一覧!G109,3,2)=\"\", MID(競技者一覧!G109,3,2)=\"0\"),\"\",\"(\" & MID(競技者一覧!G109,3,2) & \")\")","v":""},{"$f":"ASC(競技者一覧!E109 & \" \" & 競技者一覧!F109 & IF(OR(MID(競技者一覧!G109,3,2)=\"\", MID(競技者一覧!G109,3,2)=\"0\"),\"\",\"(\" & MID(競技者一覧!G109,3,2) & \")\"))","v":" "},{"$f":"CONCATENATE(競技者一覧!I109)","v":""},{"$f":"IFERROR(IF(競技者一覧!$D$6=\"学連\",VLOOKUP(競技者一覧!J109,Sheet4!$D$2:$E$48,2,FALSE),学校名簿!D89),\"\")","v":""},{"$f":"IFERROR(VLOOKUP(競技者一覧!$D$7,学校番号表!$B$2:$C$65536,2,FALSE),\"\")","v":""},{"$f":"CONCATENATE(競技者一覧!B109)","v":""},{"$f":"IFERROR(CONCATENATE(VLOOKUP(競技者一覧!K109,種目コード一覧!$A$1:$C$51,2,FALSE),\" \",REPT(\"0\",VLOOKUP(競技者一覧!K109,種目コード一覧!$A$1:$C$51,3,FALSE)-LEN(競技者一覧!L109)),競技者一覧!L109),\"\")","v":""},{"$f":"IFERROR(CONCATENATE(VLOOKUP(競技者一覧!M109,種目コード一覧!$A$1:$C$51,2,FALSE),\" \",REPT(\"0\",VLOOKUP(競技者一覧!M109,種目コード一覧!$A$1:$C$51,3,FALSE)-LEN(競技者一覧!N109)),競技者一覧!N109),\"\")","v":""},{"$f":"IFERROR(CONCATENATE(VLOOKUP(競技者一覧!O109,種目コード一覧!$A$1:$C$51,2,FALSE),\" \",REPT(\"0\",VLOOKUP(競技者一覧!O109,種目コード一覧!$A$1:$C$51,3,FALSE)-LEN(競技者一覧!P109)),競技者一覧!P109),\"\")","v":""},{"$f":"IFERROR(CONCATENATE(VLOOKUP(競技者一覧!Q109,種目コード一覧!$A$1:$C$51,2,FALSE),\" \",REPT(\"0\",VLOOKUP(競技者一覧!Q109,種目コード一覧!$A$1:$C$51,3,FALSE)-LEN(競技者一覧!R109)),競技者一覧!R109),\"\")","v":""},{"$f":"IFERROR(CONCATENATE(VLOOKUP(競技者一覧!S109,種目コード一覧!$A$1:$C$51,2,FALSE),\" \",REPT(\"0\",VLOOKUP(競技者一覧!S109,種目コード一覧!$A$1:$C$51,3,FALSE)-LEN(競技者一覧!T109)),競技者一覧!T109),\"\")","v":""},{"$f":"IFERROR(CONCATENATE(VLOOKUP(競技者一覧!U109,種目コード一覧!$A$1:$C$51,2,FALSE),\" \",REPT(\"0\",VLOOKUP(競技者一覧!U109,種目コード一覧!$A$1:$C$51,3,FALSE)-LEN(競技者一覧!V109)),競技者一覧!V109),\"\")","v":""},{"$f":"IFERROR(CONCATENATE(VLOOKUP(競技者一覧!W109,種目コード一覧!$A$1:$C$51,2,FALSE),\" \",REPT(\"0\",VLOOKUP(競技者一覧!W109,種目コード一覧!$A$1:$C$51,3,FALSE)-LEN(競技者一覧!X109)),競技者一覧!X109),\"\")","v":""},{"$f":"IFERROR(CONCATENATE(VLOOKUP(競技者一覧!Y109,種目コード一覧!$A$1:$C$51,2,FALSE),\" \",REPT(\"0\",VLOOKUP(競技者一覧!Y109,種目コード一覧!$A$1:$C$51,3,FALSE)-LEN(競技者一覧!Z109)),競技者一覧!Z109),\"\")","v":""}]
[{"$f":"IFERROR(CONCATENATE(競技者一覧!$D$7), \"\")","v":""},{"$f":"IFERROR(CONCATENATE($H$2,Sheet4!B90),\"\")","v":"089"},{"$f":"競技者一覧!C110&IF(OR(競技者一覧!H110=\"\",競技者一覧!H110=9),\"\",\"(\" & 競技者一覧!H110 & \")\")","v":""},{"$f":"ASC(競技者一覧!D110 &IF(OR(MID(競技者一覧!G110,3,2)=\"\", MID(競技者一覧!G110,3,2)=\"0\"),\"\",\"(\" & MID(競技者一覧!G110,3,2) & \")\"))","v":""},{"$f":"ASC(競技者一覧!E110 & \" \" & 競技者一覧!F110 & IF(OR(MID(競技者一覧!G110,3,2)=\"\", MID(競技者一覧!G110,3,2)=\"0\"),\"\",\"(\" & MID(競技者一覧!G110,3,2) & \")\"))","v":" "},{"$f":"CONCATENATE(競技者一覧!I110)","v":""},{"$f":"IFERROR(IF(競技者一覧!$D$6=\"学連\",VLOOKUP(競技者一覧!J110,Sheet4!$D$2:$E$48,2,FALSE),学校名簿!D90),\"\")","v":""},{"$f":"IFERROR(VLOOKUP(競技者一覧!$D$7,学校番号表!$B$2:$C$65536,2,FALSE),\"\")","v":""},{"$f":"CONCATENATE(競技者一覧!B110)","v":""},{"$f":"IFERROR(CONCATENATE(VLOOKUP(競技者一覧!K110,種目コード一覧!$A$1:$B$51,2,FALSE),\" \",REPT(\"0\",VLOOKUP(競技者一覧!K110,種目コード一覧!$A$1:$C$51,3,FALSE)-LEN(競技者一覧!L110)),競技者一覧!L110),\"\")","v":""},{"$f":"IFERROR(CONCATENATE(VLOOKUP(競技者一覧!M110,種目コード一覧!$A$1:$C$51,2,FALSE),\" \",REPT(\"0\",VLOOKUP(競技者一覧!M110,種目コード一覧!$A$1:$C$51,3,FALSE)-LEN(競技者一覧!N110)),競技者一覧!N110),\"\")","v":""},{"$f":"IFERROR(CONCATENATE(VLOOKUP(競技者一覧!O110,種目コード一覧!$A$1:$C$51,2,FALSE),\" \",REPT(\"0\",VLOOKUP(競技者一覧!O110,種目コード一覧!$A$1:$C$51,3,FALSE)-LEN(競技者一覧!P110)),競技者一覧!P110),\"\")","v":""},{"$f":"IFERROR(CONCATENATE(VLOOKUP(競技者一覧!Q110,種目コード一覧!$A$1:$C$51,2,FALSE),\" \",REPT(\"0\",VLOOKUP(競技者一覧!Q110,種目コード一覧!$A$1:$C$51,3,FALSE)-LEN(競技者一覧!R110)),競技者一覧!R110),\"\")","v":""},{"$f":"IFERROR(CONCATENATE(VLOOKUP(競技者一覧!S110,種目コード一覧!$A$1:$C$51,2,FALSE),\" \",REPT(\"0\",VLOOKUP(競技者一覧!S110,種目コード一覧!$A$1:$C$51,3,FALSE)-LEN(競技者一覧!T110)),競技者一覧!T110),\"\")","v":""},{"$f":"IFERROR(CONCATENATE(VLOOKUP(競技者一覧!U110,種目コード一覧!$A$1:$C$51,2,FALSE),\" \",REPT(\"0\",VLOOKUP(競技者一覧!U110,種目コード一覧!$A$1:$C$51,3,FALSE)-LEN(競技者一覧!V110)),競技者一覧!V110),\"\")","v":""},{"$f":"IFERROR(CONCATENATE(VLOOKUP(競技者一覧!W110,種目コード一覧!$A$1:$C$51,2,FALSE),\" \",REPT(\"0\",VLOOKUP(競技者一覧!W110,種目コード一覧!$A$1:$C$51,3,FALSE)-LEN(競技者一覧!X110)),競技者一覧!X110),\"\")","v":""},{"$f":"IFERROR(CONCATENATE(VLOOKUP(競技者一覧!Y110,種目コード一覧!$A$1:$C$51,2,FALSE),\" \",REPT(\"0\",VLOOKUP(競技者一覧!Y110,種目コード一覧!$A$1:$C$51,3,FALSE)-LEN(競技者一覧!Z110)),競技者一覧!Z110),\"\")","v":""}]
[{"$f":"IFERROR(CONCATENATE(競技者一覧!$D$7), \"\")","v":""},{"$f":"IFERROR(CONCATENATE($H$2,Sheet4!B91),\"\")","v":"090"},{"$f":"競技者一覧!C111&IF(OR(競技者一覧!H111=\"\",競技者一覧!H111=9),\"\",\"(\" & 競技者一覧!H111 & \")\")","v":""},{"$f":"競技者一覧!D111 &IF(OR(MID(競技者一覧!G111,3,2)=\"\", MID(競技者一覧!G111,3,2)=\"0\"),\"\",\"(\" & MID(競技者一覧!G111,3,2) & \")\")","v":""},{"$f":"ASC(競技者一覧!E111 & \" \" & 競技者一覧!F111 & IF(OR(MID(競技者一覧!G111,3,2)=\"\", MID(競技者一覧!G111,3,2)=\"0\"),\"\",\"(\" & MID(競技者一覧!G111,3,2) & \")\"))","v":" "},{"$f":"CONCATENATE(競技者一覧!I111)","v":""},{"$f":"IFERROR(IF(競技者一覧!$D$6=\"学連\",VLOOKUP(競技者一覧!J111,Sheet4!$D$2:$E$48,2,FALSE),学校名簿!D91),\"\")","v":""},{"$f":"IFERROR(VLOOKUP(競技者一覧!$D$7,学校番号表!$B$2:$C$65536,2,FALSE),\"\")","v":""},{"$f":"CONCATENATE(競技者一覧!B111)","v":""},{"$f":"IFERROR(CONCATENATE(VLOOKUP(競技者一覧!K111,種目コード一覧!$A$1:$C$51,2,FALSE),\" \",REPT(\"0\",VLOOKUP(競技者一覧!K111,種目コード一覧!$A$1:$C$51,3,FALSE)-LEN(競技者一覧!L111)),競技者一覧!L111),\"\")","v":""},{"$f":"IFERROR(CONCATENATE(VLOOKUP(競技者一覧!M111,種目コード一覧!$A$1:$C$51,2,FALSE),\" \",REPT(\"0\",VLOOKUP(競技者一覧!M111,種目コード一覧!$A$1:$C$51,3,FALSE)-LEN(競技者一覧!N111)),競技者一覧!N111),\"\")","v":""},{"$f":"IFERROR(CONCATENATE(VLOOKUP(競技者一覧!O111,種目コード一覧!$A$1:$C$51,2,FALSE),\" \",REPT(\"0\",VLOOKUP(競技者一覧!O111,種目コード一覧!$A$1:$C$51,3,FALSE)-LEN(競技者一覧!P111)),競技者一覧!P111),\"\")","v":""},{"$f":"IFERROR(CONCATENATE(VLOOKUP(競技者一覧!Q111,種目コード一覧!$A$1:$C$51,2,FALSE),\" \",REPT(\"0\",VLOOKUP(競技者一覧!Q111,種目コード一覧!$A$1:$C$51,3,FALSE)-LEN(競技者一覧!R111)),競技者一覧!R111),\"\")","v":""},{"$f":"IFERROR(CONCATENATE(VLOOKUP(競技者一覧!S111,種目コード一覧!$A$1:$C$51,2,FALSE),\" \",REPT(\"0\",VLOOKUP(競技者一覧!S111,種目コード一覧!$A$1:$C$51,3,FALSE)-LEN(競技者一覧!T111)),競技者一覧!T111),\"\")","v":""},{"$f":"IFERROR(CONCATENATE(VLOOKUP(競技者一覧!U111,種目コード一覧!$A$1:$C$51,2,FALSE),\" \",REPT(\"0\",VLOOKUP(競技者一覧!U111,種目コード一覧!$A$1:$C$51,3,FALSE)-LEN(競技者一覧!V111)),競技者一覧!V111),\"\")","v":""},{"$f":"IFERROR(CONCATENATE(VLOOKUP(競技者一覧!W111,種目コード一覧!$A$1:$C$51,2,FALSE),\" \",REPT(\"0\",VLOOKUP(競技者一覧!W111,種目コード一覧!$A$1:$C$51,3,FALSE)-LEN(競技者一覧!X111)),競技者一覧!X111),\"\")","v":""},{"$f":"IFERROR(CONCATENATE(VLOOKUP(競技者一覧!Y111,種目コード一覧!$A$1:$C$51,2,FALSE),\" \",REPT(\"0\",VLOOKUP(競技者一覧!Y111,種目コード一覧!$A$1:$C$51,3,FALSE)-LEN(競技者一覧!Z111)),競技者一覧!Z111),\"\")","v":""}]
[{"$f":"IFERROR(CONCATENATE(競技者一覧!$D$7), \"\")","v":""},{"$f":"IFERROR(CONCATENATE($H$2,Sheet4!B92),\"\")","v":"091"},{"$f":"競技者一覧!C112&IF(OR(競技者一覧!H112=\"\",競技者一覧!H112=9),\"\",\"(\" & 競技者一覧!H112 & \")\")","v":""},{"$f":"ASC(競技者一覧!D112 &IF(OR(MID(競技者一覧!G112,3,2)=\"\", MID(競技者一覧!G112,3,2)=\"0\"),\"\",\"(\" & MID(競技者一覧!G112,3,2) & \")\"))","v":""},{"$f":"ASC(競技者一覧!E112 & \" \" & 競技者一覧!F112 & IF(OR(MID(競技者一覧!G112,3,2)=\"\", MID(競技者一覧!G112,3,2)=\"0\"),\"\",\"(\" & MID(競技者一覧!G112,3,2) & \")\"))","v":" "},{"$f":"CONCATENATE(競技者一覧!I112)","v":""},{"$f":"IFERROR(IF(競技者一覧!$D$6=\"学連\",VLOOKUP(競技者一覧!J112,Sheet4!$D$2:$E$48,2,FALSE),学校名簿!D92),\"\")","v":""},{"$f":"IFERROR(VLOOKUP(競技者一覧!$D$7,学校番号表!$B$2:$C$65536,2,FALSE),\"\")","v":""},{"$f":"CONCATENATE(競技者一覧!B112)","v":""},{"$f":"IFERROR(CONCATENATE(VLOOKUP(競技者一覧!K112,種目コード一覧!$A$1:$B$51,2,FALSE),\" \",REPT(\"0\",VLOOKUP(競技者一覧!K112,種目コード一覧!$A$1:$C$51,3,FALSE)-LEN(競技者一覧!L112)),競技者一覧!L112),\"\")","v":""},{"$f":"IFERROR(CONCATENATE(VLOOKUP(競技者一覧!M112,種目コード一覧!$A$1:$C$51,2,FALSE),\" \",REPT(\"0\",VLOOKUP(競技者一覧!M112,種目コード一覧!$A$1:$C$51,3,FALSE)-LEN(競技者一覧!N112)),競技者一覧!N112),\"\")","v":""},{"$f":"IFERROR(CONCATENATE(VLOOKUP(競技者一覧!O112,種目コード一覧!$A$1:$C$51,2,FALSE),\" \",REPT(\"0\",VLOOKUP(競技者一覧!O112,種目コード一覧!$A$1:$C$51,3,FALSE)-LEN(競技者一覧!P112)),競技者一覧!P112),\"\")","v":""},{"$f":"IFERROR(CONCATENATE(VLOOKUP(競技者一覧!Q112,種目コード一覧!$A$1:$C$51,2,FALSE),\" \",REPT(\"0\",VLOOKUP(競技者一覧!Q112,種目コード一覧!$A$1:$C$51,3,FALSE)-LEN(競技者一覧!R112)),競技者一覧!R112),\"\")","v":""},{"$f":"IFERROR(CONCATENATE(VLOOKUP(競技者一覧!S112,種目コード一覧!$A$1:$C$51,2,FALSE),\" \",REPT(\"0\",VLOOKUP(競技者一覧!S112,種目コード一覧!$A$1:$C$51,3,FALSE)-LEN(競技者一覧!T112)),競技者一覧!T112),\"\")","v":""},{"$f":"IFERROR(CONCATENATE(VLOOKUP(競技者一覧!U112,種目コード一覧!$A$1:$C$51,2,FALSE),\" \",REPT(\"0\",VLOOKUP(競技者一覧!U112,種目コード一覧!$A$1:$C$51,3,FALSE)-LEN(競技者一覧!V112)),競技者一覧!V112),\"\")","v":""},{"$f":"IFERROR(CONCATENATE(VLOOKUP(競技者一覧!W112,種目コード一覧!$A$1:$C$51,2,FALSE),\" \",REPT(\"0\",VLOOKUP(競技者一覧!W112,種目コード一覧!$A$1:$C$51,3,FALSE)-LEN(競技者一覧!X112)),競技者一覧!X112),\"\")","v":""},{"$f":"IFERROR(CONCATENATE(VLOOKUP(競技者一覧!Y112,種目コード一覧!$A$1:$C$51,2,FALSE),\" \",REPT(\"0\",VLOOKUP(競技者一覧!Y112,種目コード一覧!$A$1:$C$51,3,FALSE)-LEN(競技者一覧!Z112)),競技者一覧!Z112),\"\")","v":""}]
[{"$f":"IFERROR(CONCATENATE(競技者一覧!$D$7), \"\")","v":""},{"$f":"IFERROR(CONCATENATE($H$2,Sheet4!B93),\"\")","v":"092"},{"$f":"競技者一覧!C113&IF(OR(競技者一覧!H113=\"\",競技者一覧!H113=9),\"\",\"(\" & 競技者一覧!H113 & \")\")","v":""},{"$f":"競技者一覧!D113 &IF(OR(MID(競技者一覧!G113,3,2)=\"\", MID(競技者一覧!G113,3,2)=\"0\"),\"\",\"(\" & MID(競技者一覧!G113,3,2) & \")\")","v":""},{"$f":"ASC(競技者一覧!E113 & \" \" & 競技者一覧!F113 & IF(OR(MID(競技者一覧!G113,3,2)=\"\", MID(競技者一覧!G113,3,2)=\"0\"),\"\",\"(\" & MID(競技者一覧!G113,3,2) & \")\"))","v":" "},{"$f":"CONCATENATE(競技者一覧!I113)","v":""},{"$f":"IFERROR(IF(競技者一覧!$D$6=\"学連\",VLOOKUP(競技者一覧!J113,Sheet4!$D$2:$E$48,2,FALSE),学校名簿!D93),\"\")","v":""},{"$f":"IFERROR(VLOOKUP(競技者一覧!$D$7,学校番号表!$B$2:$C$65536,2,FALSE),\"\")","v":""},{"$f":"CONCATENATE(競技者一覧!B113)","v":""},{"$f":"IFERROR(CONCATENATE(VLOOKUP(競技者一覧!K113,種目コード一覧!$A$1:$C$51,2,FALSE),\" \",REPT(\"0\",VLOOKUP(競技者一覧!K113,種目コード一覧!$A$1:$C$51,3,FALSE)-LEN(競技者一覧!L113)),競技者一覧!L113),\"\")","v":""},{"$f":"IFERROR(CONCATENATE(VLOOKUP(競技者一覧!M113,種目コード一覧!$A$1:$C$51,2,FALSE),\" \",REPT(\"0\",VLOOKUP(競技者一覧!M113,種目コード一覧!$A$1:$C$51,3,FALSE)-LEN(競技者一覧!N113)),競技者一覧!N113),\"\")","v":""},{"$f":"IFERROR(CONCATENATE(VLOOKUP(競技者一覧!O113,種目コード一覧!$A$1:$C$51,2,FALSE),\" \",REPT(\"0\",VLOOKUP(競技者一覧!O113,種目コード一覧!$A$1:$C$51,3,FALSE)-LEN(競技者一覧!P113)),競技者一覧!P113),\"\")","v":""},{"$f":"IFERROR(CONCATENATE(VLOOKUP(競技者一覧!Q113,種目コード一覧!$A$1:$C$51,2,FALSE),\" \",REPT(\"0\",VLOOKUP(競技者一覧!Q113,種目コード一覧!$A$1:$C$51,3,FALSE)-LEN(競技者一覧!R113)),競技者一覧!R113),\"\")","v":""},{"$f":"IFERROR(CONCATENATE(VLOOKUP(競技者一覧!S113,種目コード一覧!$A$1:$C$51,2,FALSE),\" \",REPT(\"0\",VLOOKUP(競技者一覧!S113,種目コード一覧!$A$1:$C$51,3,FALSE)-LEN(競技者一覧!T113)),競技者一覧!T113),\"\")","v":""},{"$f":"IFERROR(CONCATENATE(VLOOKUP(競技者一覧!U113,種目コード一覧!$A$1:$C$51,2,FALSE),\" \",REPT(\"0\",VLOOKUP(競技者一覧!U113,種目コード一覧!$A$1:$C$51,3,FALSE)-LEN(競技者一覧!V113)),競技者一覧!V113),\"\")","v":""},{"$f":"IFERROR(CONCATENATE(VLOOKUP(競技者一覧!W113,種目コード一覧!$A$1:$C$51,2,FALSE),\" \",REPT(\"0\",VLOOKUP(競技者一覧!W113,種目コード一覧!$A$1:$C$51,3,FALSE)-LEN(競技者一覧!X113)),競技者一覧!X113),\"\")","v":""},{"$f":"IFERROR(CONCATENATE(VLOOKUP(競技者一覧!Y113,種目コード一覧!$A$1:$C$51,2,FALSE),\" \",REPT(\"0\",VLOOKUP(競技者一覧!Y113,種目コード一覧!$A$1:$C$51,3,FALSE)-LEN(競技者一覧!Z113)),競技者一覧!Z113),\"\")","v":""}]
[{"$f":"IFERROR(CONCATENATE(競技者一覧!$D$7), \"\")","v":""},{"$f":"IFERROR(CONCATENATE($H$2,Sheet4!B94),\"\")","v":"093"},{"$f":"競技者一覧!C114&IF(OR(競技者一覧!H114=\"\",競技者一覧!H114=9),\"\",\"(\" & 競技者一覧!H114 & \")\")","v":""},{"$f":"ASC(競技者一覧!D114 &IF(OR(MID(競技者一覧!G114,3,2)=\"\", MID(競技者一覧!G114,3,2)=\"0\"),\"\",\"(\" & MID(競技者一覧!G114,3,2) & \")\"))","v":""},{"$f":"ASC(競技者一覧!E114 & \" \" & 競技者一覧!F114 & IF(OR(MID(競技者一覧!G114,3,2)=\"\", MID(競技者一覧!G114,3,2)=\"0\"),\"\",\"(\" & MID(競技者一覧!G114,3,2) & \")\"))","v":" "},{"$f":"CONCATENATE(競技者一覧!I114)","v":""},{"$f":"IFERROR(IF(競技者一覧!$D$6=\"学連\",VLOOKUP(競技者一覧!J114,Sheet4!$D$2:$E$48,2,FALSE),学校名簿!D94),\"\")","v":""},{"$f":"IFERROR(VLOOKUP(競技者一覧!$D$7,学校番号表!$B$2:$C$65536,2,FALSE),\"\")","v":""},{"$f":"CONCATENATE(競技者一覧!B114)","v":""},{"$f":"IFERROR(CONCATENATE(VLOOKUP(競技者一覧!K114,種目コード一覧!$A$1:$B$51,2,FALSE),\" \",REPT(\"0\",VLOOKUP(競技者一覧!K114,種目コード一覧!$A$1:$C$51,3,FALSE)-LEN(競技者一覧!L114)),競技者一覧!L114),\"\")","v":""},{"$f":"IFERROR(CONCATENATE(VLOOKUP(競技者一覧!M114,種目コード一覧!$A$1:$C$51,2,FALSE),\" \",REPT(\"0\",VLOOKUP(競技者一覧!M114,種目コード一覧!$A$1:$C$51,3,FALSE)-LEN(競技者一覧!N114)),競技者一覧!N114),\"\")","v":""},{"$f":"IFERROR(CONCATENATE(VLOOKUP(競技者一覧!O114,種目コード一覧!$A$1:$C$51,2,FALSE),\" \",REPT(\"0\",VLOOKUP(競技者一覧!O114,種目コード一覧!$A$1:$C$51,3,FALSE)-LEN(競技者一覧!P114)),競技者一覧!P114),\"\")","v":""},{"$f":"IFERROR(CONCATENATE(VLOOKUP(競技者一覧!Q114,種目コード一覧!$A$1:$C$51,2,FALSE),\" \",REPT(\"0\",VLOOKUP(競技者一覧!Q114,種目コード一覧!$A$1:$C$51,3,FALSE)-LEN(競技者一覧!R114)),競技者一覧!R114),\"\")","v":""},{"$f":"IFERROR(CONCATENATE(VLOOKUP(競技者一覧!S114,種目コード一覧!$A$1:$C$51,2,FALSE),\" \",REPT(\"0\",VLOOKUP(競技者一覧!S114,種目コード一覧!$A$1:$C$51,3,FALSE)-LEN(競技者一覧!T114)),競技者一覧!T114),\"\")","v":""},{"$f":"IFERROR(CONCATENATE(VLOOKUP(競技者一覧!U114,種目コード一覧!$A$1:$C$51,2,FALSE),\" \",REPT(\"0\",VLOOKUP(競技者一覧!U114,種目コード一覧!$A$1:$C$51,3,FALSE)-LEN(競技者一覧!V114)),競技者一覧!V114),\"\")","v":""},{"$f":"IFERROR(CONCATENATE(VLOOKUP(競技者一覧!W114,種目コード一覧!$A$1:$C$51,2,FALSE),\" \",REPT(\"0\",VLOOKUP(競技者一覧!W114,種目コード一覧!$A$1:$C$51,3,FALSE)-LEN(競技者一覧!X114)),競技者一覧!X114),\"\")","v":""},{"$f":"IFERROR(CONCATENATE(VLOOKUP(競技者一覧!Y114,種目コード一覧!$A$1:$C$51,2,FALSE),\" \",REPT(\"0\",VLOOKUP(競技者一覧!Y114,種目コード一覧!$A$1:$C$51,3,FALSE)-LEN(競技者一覧!Z114)),競技者一覧!Z114),\"\")","v":""}]
[{"$f":"IFERROR(CONCATENATE(競技者一覧!$D$7), \"\")","v":""},{"$f":"IFERROR(CONCATENATE($H$2,Sheet4!B95),\"\")","v":"094"},{"$f":"競技者一覧!C115&IF(OR(競技者一覧!H115=\"\",競技者一覧!H115=9),\"\",\"(\" & 競技者一覧!H115 & \")\")","v":""},{"$f":"競技者一覧!D115 &IF(OR(MID(競技者一覧!G115,3,2)=\"\", MID(競技者一覧!G115,3,2)=\"0\"),\"\",\"(\" & MID(競技者一覧!G115,3,2) & \")\")","v":""},{"$f":"ASC(競技者一覧!E115 & \" \" & 競技者一覧!F115 & IF(OR(MID(競技者一覧!G115,3,2)=\"\", MID(競技者一覧!G115,3,2)=\"0\"),\"\",\"(\" & MID(競技者一覧!G115,3,2) & \")\"))","v":" "},{"$f":"CONCATENATE(競技者一覧!I115)","v":""},{"$f":"IFERROR(IF(競技者一覧!$D$6=\"学連\",VLOOKUP(競技者一覧!J115,Sheet4!$D$2:$E$48,2,FALSE),学校名簿!D95),\"\")","v":""},{"$f":"IFERROR(VLOOKUP(競技者一覧!$D$7,学校番号表!$B$2:$C$65536,2,FALSE),\"\")","v":""},{"$f":"CONCATENATE(競技者一覧!B115)","v":""},{"$f":"IFERROR(CONCATENATE(VLOOKUP(競技者一覧!K115,種目コード一覧!$A$1:$C$51,2,FALSE),\" \",REPT(\"0\",VLOOKUP(競技者一覧!K115,種目コード一覧!$A$1:$C$51,3,FALSE)-LEN(競技者一覧!L115)),競技者一覧!L115),\"\")","v":""},{"$f":"IFERROR(CONCATENATE(VLOOKUP(競技者一覧!M115,種目コード一覧!$A$1:$C$51,2,FALSE),\" \",REPT(\"0\",VLOOKUP(競技者一覧!M115,種目コード一覧!$A$1:$C$51,3,FALSE)-LEN(競技者一覧!N115)),競技者一覧!N115),\"\")","v":""},{"$f":"IFERROR(CONCATENATE(VLOOKUP(競技者一覧!O115,種目コード一覧!$A$1:$C$51,2,FALSE),\" \",REPT(\"0\",VLOOKUP(競技者一覧!O115,種目コード一覧!$A$1:$C$51,3,FALSE)-LEN(競技者一覧!P115)),競技者一覧!P115),\"\")","v":""},{"$f":"IFERROR(CONCATENATE(VLOOKUP(競技者一覧!Q115,種目コード一覧!$A$1:$C$51,2,FALSE),\" \",REPT(\"0\",VLOOKUP(競技者一覧!Q115,種目コード一覧!$A$1:$C$51,3,FALSE)-LEN(競技者一覧!R115)),競技者一覧!R115),\"\")","v":""},{"$f":"IFERROR(CONCATENATE(VLOOKUP(競技者一覧!S115,種目コード一覧!$A$1:$C$51,2,FALSE),\" \",REPT(\"0\",VLOOKUP(競技者一覧!S115,種目コード一覧!$A$1:$C$51,3,FALSE)-LEN(競技者一覧!T115)),競技者一覧!T115),\"\")","v":""},{"$f":"IFERROR(CONCATENATE(VLOOKUP(競技者一覧!U115,種目コード一覧!$A$1:$C$51,2,FALSE),\" \",REPT(\"0\",VLOOKUP(競技者一覧!U115,種目コード一覧!$A$1:$C$51,3,FALSE)-LEN(競技者一覧!V115)),競技者一覧!V115),\"\")","v":""},{"$f":"IFERROR(CONCATENATE(VLOOKUP(競技者一覧!W115,種目コード一覧!$A$1:$C$51,2,FALSE),\" \",REPT(\"0\",VLOOKUP(競技者一覧!W115,種目コード一覧!$A$1:$C$51,3,FALSE)-LEN(競技者一覧!X115)),競技者一覧!X115),\"\")","v":""},{"$f":"IFERROR(CONCATENATE(VLOOKUP(競技者一覧!Y115,種目コード一覧!$A$1:$C$51,2,FALSE),\" \",REPT(\"0\",VLOOKUP(競技者一覧!Y115,種目コード一覧!$A$1:$C$51,3,FALSE)-LEN(競技者一覧!Z115)),競技者一覧!Z115),\"\")","v":""}]
[{"$f":"IFERROR(CONCATENATE(競技者一覧!$D$7), \"\")","v":""},{"$f":"IFERROR(CONCATENATE($H$2,Sheet4!B96),\"\")","v":"095"},{"$f":"競技者一覧!C116&IF(OR(競技者一覧!H116=\"\",競技者一覧!H116=9),\"\",\"(\" & 競技者一覧!H116 & \")\")","v":""},{"$f":"ASC(競技者一覧!D116 &IF(OR(MID(競技者一覧!G116,3,2)=\"\", MID(競技者一覧!G116,3,2)=\"0\"),\"\",\"(\" & MID(競技者一覧!G116,3,2) & \")\"))","v":""},{"$f":"ASC(競技者一覧!E116 & \" \" & 競技者一覧!F116 & IF(OR(MID(競技者一覧!G116,3,2)=\"\", MID(競技者一覧!G116,3,2)=\"0\"),\"\",\"(\" & MID(競技者一覧!G116,3,2) & \")\"))","v":" "},{"$f":"CONCATENATE(競技者一覧!I116)","v":""},{"$f":"IFERROR(IF(競技者一覧!$D$6=\"学連\",VLOOKUP(競技者一覧!J116,Sheet4!$D$2:$E$48,2,FALSE),学校名簿!D96),\"\")","v":""},{"$f":"IFERROR(VLOOKUP(競技者一覧!$D$7,学校番号表!$B$2:$C$65536,2,FALSE),\"\")","v":""},{"$f":"CONCATENATE(競技者一覧!B116)","v":""},{"$f":"IFERROR(CONCATENATE(VLOOKUP(競技者一覧!K116,種目コード一覧!$A$1:$B$51,2,FALSE),\" \",REPT(\"0\",VLOOKUP(競技者一覧!K116,種目コード一覧!$A$1:$C$51,3,FALSE)-LEN(競技者一覧!L116)),競技者一覧!L116),\"\")","v":""},{"$f":"IFERROR(CONCATENATE(VLOOKUP(競技者一覧!M116,種目コード一覧!$A$1:$C$51,2,FALSE),\" \",REPT(\"0\",VLOOKUP(競技者一覧!M116,種目コード一覧!$A$1:$C$51,3,FALSE)-LEN(競技者一覧!N116)),競技者一覧!N116),\"\")","v":""},{"$f":"IFERROR(CONCATENATE(VLOOKUP(競技者一覧!O116,種目コード一覧!$A$1:$C$51,2,FALSE),\" \",REPT(\"0\",VLOOKUP(競技者一覧!O116,種目コード一覧!$A$1:$C$51,3,FALSE)-LEN(競技者一覧!P116)),競技者一覧!P116),\"\")","v":""},{"$f":"IFERROR(CONCATENATE(VLOOKUP(競技者一覧!Q116,種目コード一覧!$A$1:$C$51,2,FALSE),\" \",REPT(\"0\",VLOOKUP(競技者一覧!Q116,種目コード一覧!$A$1:$C$51,3,FALSE)-LEN(競技者一覧!R116)),競技者一覧!R116),\"\")","v":""},{"$f":"IFERROR(CONCATENATE(VLOOKUP(競技者一覧!S116,種目コード一覧!$A$1:$C$51,2,FALSE),\" \",REPT(\"0\",VLOOKUP(競技者一覧!S116,種目コード一覧!$A$1:$C$51,3,FALSE)-LEN(競技者一覧!T116)),競技者一覧!T116),\"\")","v":""},{"$f":"IFERROR(CONCATENATE(VLOOKUP(競技者一覧!U116,種目コード一覧!$A$1:$C$51,2,FALSE),\" \",REPT(\"0\",VLOOKUP(競技者一覧!U116,種目コード一覧!$A$1:$C$51,3,FALSE)-LEN(競技者一覧!V116)),競技者一覧!V116),\"\")","v":""},{"$f":"IFERROR(CONCATENATE(VLOOKUP(競技者一覧!W116,種目コード一覧!$A$1:$C$51,2,FALSE),\" \",REPT(\"0\",VLOOKUP(競技者一覧!W116,種目コード一覧!$A$1:$C$51,3,FALSE)-LEN(競技者一覧!X116)),競技者一覧!X116),\"\")","v":""},{"$f":"IFERROR(CONCATENATE(VLOOKUP(競技者一覧!Y116,種目コード一覧!$A$1:$C$51,2,FALSE),\" \",REPT(\"0\",VLOOKUP(競技者一覧!Y116,種目コード一覧!$A$1:$C$51,3,FALSE)-LEN(競技者一覧!Z116)),競技者一覧!Z116),\"\")","v":""}]
[{"$f":"IFERROR(CONCATENATE(競技者一覧!$D$7), \"\")","v":""},{"$f":"IFERROR(CONCATENATE($H$2,Sheet4!B97),\"\")","v":"096"},{"$f":"競技者一覧!C117&IF(OR(競技者一覧!H117=\"\",競技者一覧!H117=9),\"\",\"(\" & 競技者一覧!H117 & \")\")","v":""},{"$f":"競技者一覧!D117 &IF(OR(MID(競技者一覧!G117,3,2)=\"\", MID(競技者一覧!G117,3,2)=\"0\"),\"\",\"(\" & MID(競技者一覧!G117,3,2) & \")\")","v":""},{"$f":"ASC(競技者一覧!E117 & \" \" & 競技者一覧!F117 & IF(OR(MID(競技者一覧!G117,3,2)=\"\", MID(競技者一覧!G117,3,2)=\"0\"),\"\",\"(\" & MID(競技者一覧!G117,3,2) & \")\"))","v":" "},{"$f":"CONCATENATE(競技者一覧!I117)","v":""},{"$f":"IFERROR(IF(競技者一覧!$D$6=\"学連\",VLOOKUP(競技者一覧!J117,Sheet4!$D$2:$E$48,2,FALSE),学校名簿!D97),\"\")","v":""},{"$f":"IFERROR(VLOOKUP(競技者一覧!$D$7,学校番号表!$B$2:$C$65536,2,FALSE),\"\")","v":""},{"$f":"CONCATENATE(競技者一覧!B117)","v":""},{"$f":"IFERROR(CONCATENATE(VLOOKUP(競技者一覧!K117,種目コード一覧!$A$1:$C$51,2,FALSE),\" \",REPT(\"0\",VLOOKUP(競技者一覧!K117,種目コード一覧!$A$1:$C$51,3,FALSE)-LEN(競技者一覧!L117)),競技者一覧!L117),\"\")","v":""},{"$f":"IFERROR(CONCATENATE(VLOOKUP(競技者一覧!M117,種目コード一覧!$A$1:$C$51,2,FALSE),\" \",REPT(\"0\",VLOOKUP(競技者一覧!M117,種目コード一覧!$A$1:$C$51,3,FALSE)-LEN(競技者一覧!N117)),競技者一覧!N117),\"\")","v":""},{"$f":"IFERROR(CONCATENATE(VLOOKUP(競技者一覧!O117,種目コード一覧!$A$1:$C$51,2,FALSE),\" \",REPT(\"0\",VLOOKUP(競技者一覧!O117,種目コード一覧!$A$1:$C$51,3,FALSE)-LEN(競技者一覧!P117)),競技者一覧!P117),\"\")","v":""},{"$f":"IFERROR(CONCATENATE(VLOOKUP(競技者一覧!Q117,種目コード一覧!$A$1:$C$51,2,FALSE),\" \",REPT(\"0\",VLOOKUP(競技者一覧!Q117,種目コード一覧!$A$1:$C$51,3,FALSE)-LEN(競技者一覧!R117)),競技者一覧!R117),\"\")","v":""},{"$f":"IFERROR(CONCATENATE(VLOOKUP(競技者一覧!S117,種目コード一覧!$A$1:$C$51,2,FALSE),\" \",REPT(\"0\",VLOOKUP(競技者一覧!S117,種目コード一覧!$A$1:$C$51,3,FALSE)-LEN(競技者一覧!T117)),競技者一覧!T117),\"\")","v":""},{"$f":"IFERROR(CONCATENATE(VLOOKUP(競技者一覧!U117,種目コード一覧!$A$1:$C$51,2,FALSE),\" \",REPT(\"0\",VLOOKUP(競技者一覧!U117,種目コード一覧!$A$1:$C$51,3,FALSE)-LEN(競技者一覧!V117)),競技者一覧!V117),\"\")","v":""},{"$f":"IFERROR(CONCATENATE(VLOOKUP(競技者一覧!W117,種目コード一覧!$A$1:$C$51,2,FALSE),\" \",REPT(\"0\",VLOOKUP(競技者一覧!W117,種目コード一覧!$A$1:$C$51,3,FALSE)-LEN(競技者一覧!X117)),競技者一覧!X117),\"\")","v":""},{"$f":"IFERROR(CONCATENATE(VLOOKUP(競技者一覧!Y117,種目コード一覧!$A$1:$C$51,2,FALSE),\" \",REPT(\"0\",VLOOKUP(競技者一覧!Y117,種目コード一覧!$A$1:$C$51,3,FALSE)-LEN(競技者一覧!Z117)),競技者一覧!Z117),\"\")","v":""}]
[{"$f":"IFERROR(CONCATENATE(競技者一覧!$D$7), \"\")","v":""},{"$f":"IFERROR(CONCATENATE($H$2,Sheet4!B98),\"\")","v":"097"},{"$f":"競技者一覧!C118&IF(OR(競技者一覧!H118=\"\",競技者一覧!H118=9),\"\",\"(\" & 競技者一覧!H118 & \")\")","v":""},{"$f":"ASC(競技者一覧!D118 &IF(OR(MID(競技者一覧!G118,3,2)=\"\", MID(競技者一覧!G118,3,2)=\"0\"),\"\",\"(\" & MID(競技者一覧!G118,3,2) & \")\"))","v":""},{"$f":"ASC(競技者一覧!E118 & \" \" & 競技者一覧!F118 & IF(OR(MID(競技者一覧!G118,3,2)=\"\", MID(競技者一覧!G118,3,2)=\"0\"),\"\",\"(\" & MID(競技者一覧!G118,3,2) & \")\"))","v":" "},{"$f":"CONCATENATE(競技者一覧!I118)","v":""},{"$f":"IFERROR(IF(競技者一覧!$D$6=\"学連\",VLOOKUP(競技者一覧!J118,Sheet4!$D$2:$E$48,2,FALSE),学校名簿!D98),\"\")","v":""},{"$f":"IFERROR(VLOOKUP(競技者一覧!$D$7,学校番号表!$B$2:$C$65536,2,FALSE),\"\")","v":""},{"$f":"CONCATENATE(競技者一覧!B118)","v":""},{"$f":"IFERROR(CONCATENATE(VLOOKUP(競技者一覧!K118,種目コード一覧!$A$1:$B$51,2,FALSE),\" \",REPT(\"0\",VLOOKUP(競技者一覧!K118,種目コード一覧!$A$1:$C$51,3,FALSE)-LEN(競技者一覧!L118)),競技者一覧!L118),\"\")","v":""},{"$f":"IFERROR(CONCATENATE(VLOOKUP(競技者一覧!M118,種目コード一覧!$A$1:$C$51,2,FALSE),\" \",REPT(\"0\",VLOOKUP(競技者一覧!M118,種目コード一覧!$A$1:$C$51,3,FALSE)-LEN(競技者一覧!N118)),競技者一覧!N118),\"\")","v":""},{"$f":"IFERROR(CONCATENATE(VLOOKUP(競技者一覧!O118,種目コード一覧!$A$1:$C$51,2,FALSE),\" \",REPT(\"0\",VLOOKUP(競技者一覧!O118,種目コード一覧!$A$1:$C$51,3,FALSE)-LEN(競技者一覧!P118)),競技者一覧!P118),\"\")","v":""},{"$f":"IFERROR(CONCATENATE(VLOOKUP(競技者一覧!Q118,種目コード一覧!$A$1:$C$51,2,FALSE),\" \",REPT(\"0\",VLOOKUP(競技者一覧!Q118,種目コード一覧!$A$1:$C$51,3,FALSE)-LEN(競技者一覧!R118)),競技者一覧!R118),\"\")","v":""},{"$f":"IFERROR(CONCATENATE(VLOOKUP(競技者一覧!S118,種目コード一覧!$A$1:$C$51,2,FALSE),\" \",REPT(\"0\",VLOOKUP(競技者一覧!S118,種目コード一覧!$A$1:$C$51,3,FALSE)-LEN(競技者一覧!T118)),競技者一覧!T118),\"\")","v":""},{"$f":"IFERROR(CONCATENATE(VLOOKUP(競技者一覧!U118,種目コード一覧!$A$1:$C$51,2,FALSE),\" \",REPT(\"0\",VLOOKUP(競技者一覧!U118,種目コード一覧!$A$1:$C$51,3,FALSE)-LEN(競技者一覧!V118)),競技者一覧!V118),\"\")","v":""},{"$f":"IFERROR(CONCATENATE(VLOOKUP(競技者一覧!W118,種目コード一覧!$A$1:$C$51,2,FALSE),\" \",REPT(\"0\",VLOOKUP(競技者一覧!W118,種目コード一覧!$A$1:$C$51,3,FALSE)-LEN(競技者一覧!X118)),競技者一覧!X118),\"\")","v":""},{"$f":"IFERROR(CONCATENATE(VLOOKUP(競技者一覧!Y118,種目コード一覧!$A$1:$C$51,2,FALSE),\" \",REPT(\"0\",VLOOKUP(競技者一覧!Y118,種目コード一覧!$A$1:$C$51,3,FALSE)-LEN(競技者一覧!Z118)),競技者一覧!Z118),\"\")","v":""}]
[{"$f":"IFERROR(CONCATENATE(競技者一覧!$D$7), \"\")","v":""},{"$f":"IFERROR(CONCATENATE($H$2,Sheet4!B99),\"\")","v":"098"},{"$f":"競技者一覧!C119&IF(OR(競技者一覧!H119=\"\",競技者一覧!H119=9),\"\",\"(\" & 競技者一覧!H119 & \")\")","v":""},{"$f":"競技者一覧!D119 &IF(OR(MID(競技者一覧!G119,3,2)=\"\", MID(競技者一覧!G119,3,2)=\"0\"),\"\",\"(\" & MID(競技者一覧!G119,3,2) & \")\")","v":""},{"$f":"ASC(競技者一覧!E119 & \" \" & 競技者一覧!F119 & IF(OR(MID(競技者一覧!G119,3,2)=\"\", MID(競技者一覧!G119,3,2)=\"0\"),\"\",\"(\" & MID(競技者一覧!G119,3,2) & \")\"))","v":" "},{"$f":"CONCATENATE(競技者一覧!I119)","v":""},{"$f":"IFERROR(IF(競技者一覧!$D$6=\"学連\",VLOOKUP(競技者一覧!J119,Sheet4!$D$2:$E$48,2,FALSE),学校名簿!D99),\"\")","v":""},{"$f":"IFERROR(VLOOKUP(競技者一覧!$D$7,学校番号表!$B$2:$C$65536,2,FALSE),\"\")","v":""},{"$f":"CONCATENATE(競技者一覧!B119)","v":""},{"$f":"IFERROR(CONCATENATE(VLOOKUP(競技者一覧!K119,種目コード一覧!$A$1:$C$51,2,FALSE),\" \",REPT(\"0\",VLOOKUP(競技者一覧!K119,種目コード一覧!$A$1:$C$51,3,FALSE)-LEN(競技者一覧!L119)),競技者一覧!L119),\"\")","v":""},{"$f":"IFERROR(CONCATENATE(VLOOKUP(競技者一覧!M119,種目コード一覧!$A$1:$C$51,2,FALSE),\" \",REPT(\"0\",VLOOKUP(競技者一覧!M119,種目コード一覧!$A$1:$C$51,3,FALSE)-LEN(競技者一覧!N119)),競技者一覧!N119),\"\")","v":""},{"$f":"IFERROR(CONCATENATE(VLOOKUP(競技者一覧!O119,種目コード一覧!$A$1:$C$51,2,FALSE),\" \",REPT(\"0\",VLOOKUP(競技者一覧!O119,種目コード一覧!$A$1:$C$51,3,FALSE)-LEN(競技者一覧!P119)),競技者一覧!P119),\"\")","v":""},{"$f":"IFERROR(CONCATENATE(VLOOKUP(競技者一覧!Q119,種目コード一覧!$A$1:$C$51,2,FALSE),\" \",REPT(\"0\",VLOOKUP(競技者一覧!Q119,種目コード一覧!$A$1:$C$51,3,FALSE)-LEN(競技者一覧!R119)),競技者一覧!R119),\"\")","v":""},{"$f":"IFERROR(CONCATENATE(VLOOKUP(競技者一覧!S119,種目コード一覧!$A$1:$C$51,2,FALSE),\" \",REPT(\"0\",VLOOKUP(競技者一覧!S119,種目コード一覧!$A$1:$C$51,3,FALSE)-LEN(競技者一覧!T119)),競技者一覧!T119),\"\")","v":""},{"$f":"IFERROR(CONCATENATE(VLOOKUP(競技者一覧!U119,種目コード一覧!$A$1:$C$51,2,FALSE),\" \",REPT(\"0\",VLOOKUP(競技者一覧!U119,種目コード一覧!$A$1:$C$51,3,FALSE)-LEN(競技者一覧!V119)),競技者一覧!V119),\"\")","v":""},{"$f":"IFERROR(CONCATENATE(VLOOKUP(競技者一覧!W119,種目コード一覧!$A$1:$C$51,2,FALSE),\" \",REPT(\"0\",VLOOKUP(競技者一覧!W119,種目コード一覧!$A$1:$C$51,3,FALSE)-LEN(競技者一覧!X119)),競技者一覧!X119),\"\")","v":""},{"$f":"IFERROR(CONCATENATE(VLOOKUP(競技者一覧!Y119,種目コード一覧!$A$1:$C$51,2,FALSE),\" \",REPT(\"0\",VLOOKUP(競技者一覧!Y119,種目コード一覧!$A$1:$C$51,3,FALSE)-LEN(競技者一覧!Z119)),競技者一覧!Z119),\"\")","v":""}]
[{"$f":"IFERROR(CONCATENATE(競技者一覧!$D$7), \"\")","v":""},{"$f":"IFERROR(CONCATENATE($H$2,Sheet4!B100),\"\")","v":"099"},{"$f":"競技者一覧!C120&IF(OR(競技者一覧!H120=\"\",競技者一覧!H120=9),\"\",\"(\" & 競技者一覧!H120 & \")\")","v":""},{"$f":"ASC(競技者一覧!D120 &IF(OR(MID(競技者一覧!G120,3,2)=\"\", MID(競技者一覧!G120,3,2)=\"0\"),\"\",\"(\" & MID(競技者一覧!G120,3,2) & \")\"))","v":""},{"$f":"ASC(競技者一覧!E120 & \" \" & 競技者一覧!F120 & IF(OR(MID(競技者一覧!G120,3,2)=\"\", MID(競技者一覧!G120,3,2)=\"0\"),\"\",\"(\" & MID(競技者一覧!G120,3,2) & \")\"))","v":" "},{"$f":"CONCATENATE(競技者一覧!I120)","v":""},{"$f":"IFERROR(IF(競技者一覧!$D$6=\"学連\",VLOOKUP(競技者一覧!J120,Sheet4!$D$2:$E$48,2,FALSE),学校名簿!D100),\"\")","v":""},{"$f":"IFERROR(VLOOKUP(競技者一覧!$D$7,学校番号表!$B$2:$C$65536,2,FALSE),\"\")","v":""},{"$f":"CONCATENATE(競技者一覧!B120)","v":""},{"$f":"IFERROR(CONCATENATE(VLOOKUP(競技者一覧!K120,種目コード一覧!$A$1:$B$51,2,FALSE),\" \",REPT(\"0\",VLOOKUP(競技者一覧!K120,種目コード一覧!$A$1:$C$51,3,FALSE)-LEN(競技者一覧!L120)),競技者一覧!L120),\"\")","v":""},{"$f":"IFERROR(CONCATENATE(VLOOKUP(競技者一覧!M120,種目コード一覧!$A$1:$C$51,2,FALSE),\" \",REPT(\"0\",VLOOKUP(競技者一覧!M120,種目コード一覧!$A$1:$C$51,3,FALSE)-LEN(競技者一覧!N120)),競技者一覧!N120),\"\")","v":""},{"$f":"IFERROR(CONCATENATE(VLOOKUP(競技者一覧!O120,種目コード一覧!$A$1:$C$51,2,FALSE),\" \",REPT(\"0\",VLOOKUP(競技者一覧!O120,種目コード一覧!$A$1:$C$51,3,FALSE)-LEN(競技者一覧!P120)),競技者一覧!P120),\"\")","v":""},{"$f":"IFERROR(CONCATENATE(VLOOKUP(競技者一覧!Q120,種目コード一覧!$A$1:$C$51,2,FALSE),\" \",REPT(\"0\",VLOOKUP(競技者一覧!Q120,種目コード一覧!$A$1:$C$51,3,FALSE)-LEN(競技者一覧!R120)),競技者一覧!R120),\"\")","v":""},{"$f":"IFERROR(CONCATENATE(VLOOKUP(競技者一覧!S120,種目コード一覧!$A$1:$C$51,2,FALSE),\" \",REPT(\"0\",VLOOKUP(競技者一覧!S120,種目コード一覧!$A$1:$C$51,3,FALSE)-LEN(競技者一覧!T120)),競技者一覧!T120),\"\")","v":""},{"$f":"IFERROR(CONCATENATE(VLOOKUP(競技者一覧!U120,種目コード一覧!$A$1:$C$51,2,FALSE),\" \",REPT(\"0\",VLOOKUP(競技者一覧!U120,種目コード一覧!$A$1:$C$51,3,FALSE)-LEN(競技者一覧!V120)),競技者一覧!V120),\"\")","v":""},{"$f":"IFERROR(CONCATENATE(VLOOKUP(競技者一覧!W120,種目コード一覧!$A$1:$C$51,2,FALSE),\" \",REPT(\"0\",VLOOKUP(競技者一覧!W120,種目コード一覧!$A$1:$C$51,3,FALSE)-LEN(競技者一覧!X120)),競技者一覧!X120),\"\")","v":""},{"$f":"IFERROR(CONCATENATE(VLOOKUP(競技者一覧!Y120,種目コード一覧!$A$1:$C$51,2,FALSE),\" \",REPT(\"0\",VLOOKUP(競技者一覧!Y120,種目コード一覧!$A$1:$C$51,3,FALSE)-LEN(競技者一覧!Z120)),競技者一覧!Z120),\"\")","v":""}]
[{"$f":"IFERROR(CONCATENATE(競技者一覧!$D$7), \"\")","v":""},{"$f":"IFERROR(CONCATENATE($H$2,Sheet4!B101),\"\")","v":"100"},{"$f":"競技者一覧!C121&IF(OR(競技者一覧!H121=\"\",競技者一覧!H121=9),\"\",\"(\" & 競技者一覧!H121 & \")\")","v":""},{"$f":"競技者一覧!D121 &IF(OR(MID(競技者一覧!G121,3,2)=\"\", MID(競技者一覧!G121,3,2)=\"0\"),\"\",\"(\" & MID(競技者一覧!G121,3,2) & \")\")","v":""},{"$f":"ASC(競技者一覧!E121 & \" \" & 競技者一覧!F121 & IF(OR(MID(競技者一覧!G121,3,2)=\"\", MID(競技者一覧!G121,3,2)=\"0\"),\"\",\"(\" & MID(競技者一覧!G121,3,2) & \")\"))","v":" "},{"$f":"CONCATENATE(競技者一覧!I121)","v":""},{"$f":"IFERROR(IF(競技者一覧!$D$6=\"学連\",VLOOKUP(競技者一覧!J121,Sheet4!$D$2:$E$48,2,FALSE),学校名簿!D101),\"\")","v":""},{"$f":"IFERROR(VLOOKUP(競技者一覧!$D$7,学校番号表!$B$2:$C$65536,2,FALSE),\"\")","v":""},{"$f":"CONCATENATE(競技者一覧!B121)","v":""},{"$f":"IFERROR(CONCATENATE(VLOOKUP(競技者一覧!K121,種目コード一覧!$A$1:$C$51,2,FALSE),\" \",REPT(\"0\",VLOOKUP(競技者一覧!K121,種目コード一覧!$A$1:$C$51,3,FALSE)-LEN(競技者一覧!L121)),競技者一覧!L121),\"\")","v":""},{"$f":"IFERROR(CONCATENATE(VLOOKUP(競技者一覧!M121,種目コード一覧!$A$1:$C$51,2,FALSE),\" \",REPT(\"0\",VLOOKUP(競技者一覧!M121,種目コード一覧!$A$1:$C$51,3,FALSE)-LEN(競技者一覧!N121)),競技者一覧!N121),\"\")","v":""},{"$f":"IFERROR(CONCATENATE(VLOOKUP(競技者一覧!O121,種目コード一覧!$A$1:$C$51,2,FALSE),\" \",REPT(\"0\",VLOOKUP(競技者一覧!O121,種目コード一覧!$A$1:$C$51,3,FALSE)-LEN(競技者一覧!P121)),競技者一覧!P121),\"\")","v":""},{"$f":"IFERROR(CONCATENATE(VLOOKUP(競技者一覧!Q121,種目コード一覧!$A$1:$C$51,2,FALSE),\" \",REPT(\"0\",VLOOKUP(競技者一覧!Q121,種目コード一覧!$A$1:$C$51,3,FALSE)-LEN(競技者一覧!R121)),競技者一覧!R121),\"\")","v":""},{"$f":"IFERROR(CONCATENATE(VLOOKUP(競技者一覧!S121,種目コード一覧!$A$1:$C$51,2,FALSE),\" \",REPT(\"0\",VLOOKUP(競技者一覧!S121,種目コード一覧!$A$1:$C$51,3,FALSE)-LEN(競技者一覧!T121)),競技者一覧!T121),\"\")","v":""},{"$f":"IFERROR(CONCATENATE(VLOOKUP(競技者一覧!U121,種目コード一覧!$A$1:$C$51,2,FALSE),\" \",REPT(\"0\",VLOOKUP(競技者一覧!U121,種目コード一覧!$A$1:$C$51,3,FALSE)-LEN(競技者一覧!V121)),競技者一覧!V121),\"\")","v":""},{"$f":"IFERROR(CONCATENATE(VLOOKUP(競技者一覧!W121,種目コード一覧!$A$1:$C$51,2,FALSE),\" \",REPT(\"0\",VLOOKUP(競技者一覧!W121,種目コード一覧!$A$1:$C$51,3,FALSE)-LEN(競技者一覧!X121)),競技者一覧!X121),\"\")","v":""},{"$f":"IFERROR(CONCATENATE(VLOOKUP(競技者一覧!Y121,種目コード一覧!$A$1:$C$51,2,FALSE),\" \",REPT(\"0\",VLOOKUP(競技者一覧!Y121,種目コード一覧!$A$1:$C$51,3,FALSE)-LEN(競技者一覧!Z121)),競技者一覧!Z121),\"\")","v":""}]
[{"$f":"IFERROR(CONCATENATE(競技者一覧!$D$7), \"\")","v":""},{"$f":"IFERROR(CONCATENATE($H$2,Sheet4!B102),\"\")","v":""},{"$f":"競技者一覧!C122&IF(OR(競技者一覧!H122=\"\",競技者一覧!H122=9),\"\",\"(\" & 競技者一覧!H122 & \")\")","v":""},{"$f":"ASC(競技者一覧!D122 &IF(OR(MID(競技者一覧!G122,3,2)=\"\", MID(競技者一覧!G122,3,2)=\"0\"),\"\",\"(\" & MID(競技者一覧!G122,3,2) & \")\"))","v":""},{"$f":"ASC(競技者一覧!E122 & \" \" & 競技者一覧!F122 & IF(OR(MID(競技者一覧!G122,3,2)=\"\", MID(競技者一覧!G122,3,2)=\"0\"),\"\",\"(\" & MID(競技者一覧!G122,3,2) & \")\"))","v":" "},{"$f":"CONCATENATE(競技者一覧!I122)","v":""},{"$f":"IFERROR(IF(競技者一覧!$D$6=\"学連\",VLOOKUP(競技者一覧!J122,Sheet4!$D$2:$E$48,2,FALSE),学校名簿!D102),\"\")","v":0},{"$f":"IFERROR(VLOOKUP(競技者一覧!$D$7,学校番号表!$B$2:$C$65536,2,FALSE),\"\")","v":""},{"$f":"CONCATENATE(競技者一覧!B122)","v":""},{"$f":"IFERROR(CONCATENATE(VLOOKUP(競技者一覧!K122,種目コード一覧!$A$1:$B$51,2,FALSE),\" \",REPT(\"0\",VLOOKUP(競技者一覧!K122,種目コード一覧!$A$1:$C$51,3,FALSE)-LEN(競技者一覧!L122)),競技者一覧!L122),\"\")","v":""},{"$f":"IFERROR(CONCATENATE(VLOOKUP(競技者一覧!M122,種目コード一覧!$A$1:$C$51,2,FALSE),\" \",REPT(\"0\",VLOOKUP(競技者一覧!M122,種目コード一覧!$A$1:$C$51,3,FALSE)-LEN(競技者一覧!N122)),競技者一覧!N122),\"\")","v":""},{"$f":"IFERROR(CONCATENATE(VLOOKUP(競技者一覧!O122,種目コード一覧!$A$1:$C$51,2,FALSE),\" \",REPT(\"0\",VLOOKUP(競技者一覧!O122,種目コード一覧!$A$1:$C$51,3,FALSE)-LEN(競技者一覧!P122)),競技者一覧!P122),\"\")","v":""},{"$f":"IFERROR(CONCATENATE(VLOOKUP(競技者一覧!Q122,種目コード一覧!$A$1:$C$51,2,FALSE),\" \",REPT(\"0\",VLOOKUP(競技者一覧!Q122,種目コード一覧!$A$1:$C$51,3,FALSE)-LEN(競技者一覧!R122)),競技者一覧!R122),\"\")","v":""},{"$f":"IFERROR(CONCATENATE(VLOOKUP(競技者一覧!S122,種目コード一覧!$A$1:$C$51,2,FALSE),\" \",REPT(\"0\",VLOOKUP(競技者一覧!S122,種目コード一覧!$A$1:$C$51,3,FALSE)-LEN(競技者一覧!T122)),競技者一覧!T122),\"\")","v":""},{"$f":"IFERROR(CONCATENATE(VLOOKUP(競技者一覧!U122,種目コード一覧!$A$1:$C$51,2,FALSE),\" \",REPT(\"0\",VLOOKUP(競技者一覧!U122,種目コード一覧!$A$1:$C$51,3,FALSE)-LEN(競技者一覧!V122)),競技者一覧!V122),\"\")","v":""},{"$f":"IFERROR(CONCATENATE(VLOOKUP(競技者一覧!W122,種目コード一覧!$A$1:$C$51,2,FALSE),\" \",REPT(\"0\",VLOOKUP(競技者一覧!W122,種目コード一覧!$A$1:$C$51,3,FALSE)-LEN(競技者一覧!X122)),競技者一覧!X122),\"\")","v":""},{"$f":"IFERROR(CONCATENATE(VLOOKUP(競技者一覧!Y122,種目コード一覧!$A$1:$C$51,2,FALSE),\" \",REPT(\"0\",VLOOKUP(競技者一覧!Y122,種目コード一覧!$A$1:$C$51,3,FALSE)-LEN(競技者一覧!Z122)),競技者一覧!Z122),\"\")","v":""}]
[{"$f":"IFERROR(CONCATENATE(競技者一覧!$D$7), \"\")","v":""},{"$f":"IFERROR(CONCATENATE($H$2,Sheet4!B103),\"\")","v":""},{"$f":"競技者一覧!C123&IF(OR(競技者一覧!H123=\"\",競技者一覧!H123=9),\"\",\"(\" & 競技者一覧!H123 & \")\")","v":""},{"$f":"競技者一覧!D123 &IF(OR(MID(競技者一覧!G123,3,2)=\"\", MID(競技者一覧!G123,3,2)=\"0\"),\"\",\"(\" & MID(競技者一覧!G123,3,2) & \")\")","v":""},{"$f":"ASC(競技者一覧!E123 & \" \" & 競技者一覧!F123 & IF(OR(MID(競技者一覧!G123,3,2)=\"\", MID(競技者一覧!G123,3,2)=\"0\"),\"\",\"(\" & MID(競技者一覧!G123,3,2) & \")\"))","v":" "},{"$f":"CONCATENATE(競技者一覧!I123)","v":""},{"$f":"IFERROR(IF(競技者一覧!$D$6=\"学連\",VLOOKUP(競技者一覧!J123,Sheet4!$D$2:$E$48,2,FALSE),学校名簿!D103),\"\")","v":0},{"$f":"IFERROR(VLOOKUP(競技者一覧!$D$7,学校番号表!$B$2:$C$65536,2,FALSE),\"\")","v":""},{"$f":"CONCATENATE(競技者一覧!B123)","v":""},{"$f":"IFERROR(CONCATENATE(VLOOKUP(競技者一覧!K123,種目コード一覧!$A$1:$C$51,2,FALSE),\" \",REPT(\"0\",VLOOKUP(競技者一覧!K123,種目コード一覧!$A$1:$C$51,3,FALSE)-LEN(競技者一覧!L123)),競技者一覧!L123),\"\")","v":""},{"$f":"IFERROR(CONCATENATE(VLOOKUP(競技者一覧!M123,種目コード一覧!$A$1:$C$51,2,FALSE),\" \",REPT(\"0\",VLOOKUP(競技者一覧!M123,種目コード一覧!$A$1:$C$51,3,FALSE)-LEN(競技者一覧!N123)),競技者一覧!N123),\"\")","v":""},{"$f":"IFERROR(CONCATENATE(VLOOKUP(競技者一覧!O123,種目コード一覧!$A$1:$C$51,2,FALSE),\" \",REPT(\"0\",VLOOKUP(競技者一覧!O123,種目コード一覧!$A$1:$C$51,3,FALSE)-LEN(競技者一覧!P123)),競技者一覧!P123),\"\")","v":""},{"$f":"IFERROR(CONCATENATE(VLOOKUP(競技者一覧!Q123,種目コード一覧!$A$1:$C$51,2,FALSE),\" \",REPT(\"0\",VLOOKUP(競技者一覧!Q123,種目コード一覧!$A$1:$C$51,3,FALSE)-LEN(競技者一覧!R123)),競技者一覧!R123),\"\")","v":""},{"$f":"IFERROR(CONCATENATE(VLOOKUP(競技者一覧!S123,種目コード一覧!$A$1:$C$51,2,FALSE),\" \",REPT(\"0\",VLOOKUP(競技者一覧!S123,種目コード一覧!$A$1:$C$51,3,FALSE)-LEN(競技者一覧!T123)),競技者一覧!T123),\"\")","v":""},{"$f":"IFERROR(CONCATENATE(VLOOKUP(競技者一覧!U123,種目コード一覧!$A$1:$C$51,2,FALSE),\" \",REPT(\"0\",VLOOKUP(競技者一覧!U123,種目コード一覧!$A$1:$C$51,3,FALSE)-LEN(競技者一覧!V123)),競技者一覧!V123),\"\")","v":""},{"$f":"IFERROR(CONCATENATE(VLOOKUP(競技者一覧!W123,種目コード一覧!$A$1:$C$51,2,FALSE),\" \",REPT(\"0\",VLOOKUP(競技者一覧!W123,種目コード一覧!$A$1:$C$51,3,FALSE)-LEN(競技者一覧!X123)),競技者一覧!X123),\"\")","v":""},{"$f":"IFERROR(CONCATENATE(VLOOKUP(競技者一覧!Y123,種目コード一覧!$A$1:$C$51,2,FALSE),\" \",REPT(\"0\",VLOOKUP(競技者一覧!Y123,種目コード一覧!$A$1:$C$51,3,FALSE)-LEN(競技者一覧!Z123)),競技者一覧!Z123),\"\")","v":""}]
[{"$f":"IFERROR(CONCATENATE(競技者一覧!$D$7), \"\")","v":""},{"$f":"IFERROR(CONCATENATE($H$2,Sheet4!B104),\"\")","v":""},{"$f":"競技者一覧!C124&IF(OR(競技者一覧!H124=\"\",競技者一覧!H124=9),\"\",\"(\" & 競技者一覧!H124 & \")\")","v":""},{"$f":"ASC(競技者一覧!D124 &IF(OR(MID(競技者一覧!G124,3,2)=\"\", MID(競技者一覧!G124,3,2)=\"0\"),\"\",\"(\" & MID(競技者一覧!G124,3,2) & \")\"))","v":""},{"$f":"ASC(競技者一覧!E124 & \" \" & 競技者一覧!F124 & IF(OR(MID(競技者一覧!G124,3,2)=\"\", MID(競技者一覧!G124,3,2)=\"0\"),\"\",\"(\" & MID(競技者一覧!G124,3,2) & \")\"))","v":" "},{"$f":"CONCATENATE(競技者一覧!I124)","v":""},{"$f":"IFERROR(IF(競技者一覧!$D$6=\"学連\",VLOOKUP(競技者一覧!J124,Sheet4!$D$2:$E$48,2,FALSE),学校名簿!D104),\"\")","v":0},{"$f":"IFERROR(VLOOKUP(競技者一覧!$D$7,学校番号表!$B$2:$C$65536,2,FALSE),\"\")","v":""},{"$f":"CONCATENATE(競技者一覧!B124)","v":""},{"$f":"IFERROR(CONCATENATE(VLOOKUP(競技者一覧!K124,種目コード一覧!$A$1:$B$51,2,FALSE),\" \",REPT(\"0\",VLOOKUP(競技者一覧!K124,種目コード一覧!$A$1:$C$51,3,FALSE)-LEN(競技者一覧!L124)),競技者一覧!L124),\"\")","v":""},{"$f":"IFERROR(CONCATENATE(VLOOKUP(競技者一覧!M124,種目コード一覧!$A$1:$C$51,2,FALSE),\" \",REPT(\"0\",VLOOKUP(競技者一覧!M124,種目コード一覧!$A$1:$C$51,3,FALSE)-LEN(競技者一覧!N124)),競技者一覧!N124),\"\")","v":""},{"$f":"IFERROR(CONCATENATE(VLOOKUP(競技者一覧!O124,種目コード一覧!$A$1:$C$51,2,FALSE),\" \",REPT(\"0\",VLOOKUP(競技者一覧!O124,種目コード一覧!$A$1:$C$51,3,FALSE)-LEN(競技者一覧!P124)),競技者一覧!P124),\"\")","v":""},{"$f":"IFERROR(CONCATENATE(VLOOKUP(競技者一覧!Q124,種目コード一覧!$A$1:$C$51,2,FALSE),\" \",REPT(\"0\",VLOOKUP(競技者一覧!Q124,種目コード一覧!$A$1:$C$51,3,FALSE)-LEN(競技者一覧!R124)),競技者一覧!R124),\"\")","v":""},{"$f":"IFERROR(CONCATENATE(VLOOKUP(競技者一覧!S124,種目コード一覧!$A$1:$C$51,2,FALSE),\" \",REPT(\"0\",VLOOKUP(競技者一覧!S124,種目コード一覧!$A$1:$C$51,3,FALSE)-LEN(競技者一覧!T124)),競技者一覧!T124),\"\")","v":""},{"$f":"IFERROR(CONCATENATE(VLOOKUP(競技者一覧!U124,種目コード一覧!$A$1:$C$51,2,FALSE),\" \",REPT(\"0\",VLOOKUP(競技者一覧!U124,種目コード一覧!$A$1:$C$51,3,FALSE)-LEN(競技者一覧!V124)),競技者一覧!V124),\"\")","v":""},{"$f":"IFERROR(CONCATENATE(VLOOKUP(競技者一覧!W124,種目コード一覧!$A$1:$C$51,2,FALSE),\" \",REPT(\"0\",VLOOKUP(競技者一覧!W124,種目コード一覧!$A$1:$C$51,3,FALSE)-LEN(競技者一覧!X124)),競技者一覧!X124),\"\")","v":""},{"$f":"IFERROR(CONCATENATE(VLOOKUP(競技者一覧!Y124,種目コード一覧!$A$1:$C$51,2,FALSE),\" \",REPT(\"0\",VLOOKUP(競技者一覧!Y124,種目コード一覧!$A$1:$C$51,3,FALSE)-LEN(競技者一覧!Z124)),競技者一覧!Z124),\"\")","v":""}]
[{"$f":"IFERROR(CONCATENATE(競技者一覧!$D$7), \"\")","v":""},{"$f":"IFERROR(CONCATENATE($H$2,Sheet4!B105),\"\")","v":""},{"$f":"競技者一覧!C125&IF(OR(競技者一覧!H125=\"\",競技者一覧!H125=9),\"\",\"(\" & 競技者一覧!H125 & \")\")","v":""},{"$f":"競技者一覧!D125 &IF(OR(MID(競技者一覧!G125,3,2)=\"\", MID(競技者一覧!G125,3,2)=\"0\"),\"\",\"(\" & MID(競技者一覧!G125,3,2) & \")\")","v":""},{"$f":"ASC(競技者一覧!E125 & \" \" & 競技者一覧!F125 & IF(OR(MID(競技者一覧!G125,3,2)=\"\", MID(競技者一覧!G125,3,2)=\"0\"),\"\",\"(\" & MID(競技者一覧!G125,3,2) & \")\"))","v":" "},{"$f":"CONCATENATE(競技者一覧!I125)","v":""},{"$f":"IFERROR(IF(競技者一覧!$D$6=\"学連\",VLOOKUP(競技者一覧!J125,Sheet4!$D$2:$E$48,2,FALSE),学校名簿!D105),\"\")","v":0},{"$f":"IFERROR(VLOOKUP(競技者一覧!$D$7,学校番号表!$B$2:$C$65536,2,FALSE),\"\")","v":""},{"$f":"CONCATENATE(競技者一覧!B125)","v":""},{"$f":"IFERROR(CONCATENATE(VLOOKUP(競技者一覧!K125,種目コード一覧!$A$1:$C$51,2,FALSE),\" \",REPT(\"0\",VLOOKUP(競技者一覧!K125,種目コード一覧!$A$1:$C$51,3,FALSE)-LEN(競技者一覧!L125)),競技者一覧!L125),\"\")","v":""},{"$f":"IFERROR(CONCATENATE(VLOOKUP(競技者一覧!M125,種目コード一覧!$A$1:$C$51,2,FALSE),\" \",REPT(\"0\",VLOOKUP(競技者一覧!M125,種目コード一覧!$A$1:$C$51,3,FALSE)-LEN(競技者一覧!N125)),競技者一覧!N125),\"\")","v":""},{"$f":"IFERROR(CONCATENATE(VLOOKUP(競技者一覧!O125,種目コード一覧!$A$1:$C$51,2,FALSE),\" \",REPT(\"0\",VLOOKUP(競技者一覧!O125,種目コード一覧!$A$1:$C$51,3,FALSE)-LEN(競技者一覧!P125)),競技者一覧!P125),\"\")","v":""},{"$f":"IFERROR(CONCATENATE(VLOOKUP(競技者一覧!Q125,種目コード一覧!$A$1:$C$51,2,FALSE),\" \",REPT(\"0\",VLOOKUP(競技者一覧!Q125,種目コード一覧!$A$1:$C$51,3,FALSE)-LEN(競技者一覧!R125)),競技者一覧!R125),\"\")","v":""},{"$f":"IFERROR(CONCATENATE(VLOOKUP(競技者一覧!S125,種目コード一覧!$A$1:$C$51,2,FALSE),\" \",REPT(\"0\",VLOOKUP(競技者一覧!S125,種目コード一覧!$A$1:$C$51,3,FALSE)-LEN(競技者一覧!T125)),競技者一覧!T125),\"\")","v":""},{"$f":"IFERROR(CONCATENATE(VLOOKUP(競技者一覧!U125,種目コード一覧!$A$1:$C$51,2,FALSE),\" \",REPT(\"0\",VLOOKUP(競技者一覧!U125,種目コード一覧!$A$1:$C$51,3,FALSE)-LEN(競技者一覧!V125)),競技者一覧!V125),\"\")","v":""},{"$f":"IFERROR(CONCATENATE(VLOOKUP(競技者一覧!W125,種目コード一覧!$A$1:$C$51,2,FALSE),\" \",REPT(\"0\",VLOOKUP(競技者一覧!W125,種目コード一覧!$A$1:$C$51,3,FALSE)-LEN(競技者一覧!X125)),競技者一覧!X125),\"\")","v":""},{"$f":"IFERROR(CONCATENATE(VLOOKUP(競技者一覧!Y125,種目コード一覧!$A$1:$C$51,2,FALSE),\" \",REPT(\"0\",VLOOKUP(競技者一覧!Y125,種目コード一覧!$A$1:$C$51,3,FALSE)-LEN(競技者一覧!Z125)),競技者一覧!Z125),\"\")","v":""}]
[{"$f":"IFERROR(CONCATENATE(競技者一覧!$D$7), \"\")","v":""},{"$f":"IFERROR(CONCATENATE($H$2,Sheet4!B106),\"\")","v":""},{"$f":"競技者一覧!C126&IF(OR(競技者一覧!H126=\"\",競技者一覧!H126=9),\"\",\"(\" & 競技者一覧!H126 & \")\")","v":""},{"$f":"ASC(競技者一覧!D126 &IF(OR(MID(競技者一覧!G126,3,2)=\"\", MID(競技者一覧!G126,3,2)=\"0\"),\"\",\"(\" & MID(競技者一覧!G126,3,2) & \")\"))","v":""},{"$f":"ASC(競技者一覧!E126 & \" \" & 競技者一覧!F126 & IF(OR(MID(競技者一覧!G126,3,2)=\"\", MID(競技者一覧!G126,3,2)=\"0\"),\"\",\"(\" & MID(競技者一覧!G126,3,2) & \")\"))","v":" "},{"$f":"CONCATENATE(競技者一覧!I126)","v":""},{"$f":"IFERROR(IF(競技者一覧!$D$6=\"学連\",VLOOKUP(競技者一覧!J126,Sheet4!$D$2:$E$48,2,FALSE),学校名簿!D106),\"\")","v":0},{"$f":"IFERROR(VLOOKUP(競技者一覧!$D$7,学校番号表!$B$2:$C$65536,2,FALSE),\"\")","v":""},{"$f":"CONCATENATE(競技者一覧!B126)","v":""},{"$f":"IFERROR(CONCATENATE(VLOOKUP(競技者一覧!K126,種目コード一覧!$A$1:$B$51,2,FALSE),\" \",REPT(\"0\",VLOOKUP(競技者一覧!K126,種目コード一覧!$A$1:$C$51,3,FALSE)-LEN(競技者一覧!L126)),競技者一覧!L126),\"\")","v":""},{"$f":"IFERROR(CONCATENATE(VLOOKUP(競技者一覧!M126,種目コード一覧!$A$1:$C$51,2,FALSE),\" \",REPT(\"0\",VLOOKUP(競技者一覧!M126,種目コード一覧!$A$1:$C$51,3,FALSE)-LEN(競技者一覧!N126)),競技者一覧!N126),\"\")","v":""},{"$f":"IFERROR(CONCATENATE(VLOOKUP(競技者一覧!O126,種目コード一覧!$A$1:$C$51,2,FALSE),\" \",REPT(\"0\",VLOOKUP(競技者一覧!O126,種目コード一覧!$A$1:$C$51,3,FALSE)-LEN(競技者一覧!P126)),競技者一覧!P126),\"\")","v":""},{"$f":"IFERROR(CONCATENATE(VLOOKUP(競技者一覧!Q126,種目コード一覧!$A$1:$C$51,2,FALSE),\" \",REPT(\"0\",VLOOKUP(競技者一覧!Q126,種目コード一覧!$A$1:$C$51,3,FALSE)-LEN(競技者一覧!R126)),競技者一覧!R126),\"\")","v":""},{"$f":"IFERROR(CONCATENATE(VLOOKUP(競技者一覧!S126,種目コード一覧!$A$1:$C$51,2,FALSE),\" \",REPT(\"0\",VLOOKUP(競技者一覧!S126,種目コード一覧!$A$1:$C$51,3,FALSE)-LEN(競技者一覧!T126)),競技者一覧!T126),\"\")","v":""},{"$f":"IFERROR(CONCATENATE(VLOOKUP(競技者一覧!U126,種目コード一覧!$A$1:$C$51,2,FALSE),\" \",REPT(\"0\",VLOOKUP(競技者一覧!U126,種目コード一覧!$A$1:$C$51,3,FALSE)-LEN(競技者一覧!V126)),競技者一覧!V126),\"\")","v":""},{"$f":"IFERROR(CONCATENATE(VLOOKUP(競技者一覧!W126,種目コード一覧!$A$1:$C$51,2,FALSE),\" \",REPT(\"0\",VLOOKUP(競技者一覧!W126,種目コード一覧!$A$1:$C$51,3,FALSE)-LEN(競技者一覧!X126)),競技者一覧!X126),\"\")","v":""},{"$f":"IFERROR(CONCATENATE(VLOOKUP(競技者一覧!Y126,種目コード一覧!$A$1:$C$51,2,FALSE),\" \",REPT(\"0\",VLOOKUP(競技者一覧!Y126,種目コード一覧!$A$1:$C$51,3,FALSE)-LEN(競技者一覧!Z126)),競技者一覧!Z126),\"\")","v":""}]
[{"$f":"IFERROR(CONCATENATE(競技者一覧!$D$7), \"\")","v":""},{"$f":"IFERROR(CONCATENATE($H$2,Sheet4!B107),\"\")","v":""},{"$f":"競技者一覧!C127&IF(OR(競技者一覧!H127=\"\",競技者一覧!H127=9),\"\",\"(\" & 競技者一覧!H127 & \")\")","v":""},{"$f":"競技者一覧!D127 &IF(OR(MID(競技者一覧!G127,3,2)=\"\", MID(競技者一覧!G127,3,2)=\"0\"),\"\",\"(\" & MID(競技者一覧!G127,3,2) & \")\")","v":""},{"$f":"ASC(競技者一覧!E127 & \" \" & 競技者一覧!F127 & IF(OR(MID(競技者一覧!G127,3,2)=\"\", MID(競技者一覧!G127,3,2)=\"0\"),\"\",\"(\" & MID(競技者一覧!G127,3,2) & \")\"))","v":" "},{"$f":"CONCATENATE(競技者一覧!I127)","v":""},{"$f":"IFERROR(IF(競技者一覧!$D$6=\"学連\",VLOOKUP(競技者一覧!J127,Sheet4!$D$2:$E$48,2,FALSE),学校名簿!D107),\"\")","v":0},{"$f":"IFERROR(VLOOKUP(競技者一覧!$D$7,学校番号表!$B$2:$C$65536,2,FALSE),\"\")","v":""},{"$f":"CONCATENATE(競技者一覧!B127)","v":""},{"$f":"IFERROR(CONCATENATE(VLOOKUP(競技者一覧!K127,種目コード一覧!$A$1:$C$51,2,FALSE),\" \",REPT(\"0\",VLOOKUP(競技者一覧!K127,種目コード一覧!$A$1:$C$51,3,FALSE)-LEN(競技者一覧!L127)),競技者一覧!L127),\"\")","v":""},{"$f":"IFERROR(CONCATENATE(VLOOKUP(競技者一覧!M127,種目コード一覧!$A$1:$C$51,2,FALSE),\" \",REPT(\"0\",VLOOKUP(競技者一覧!M127,種目コード一覧!$A$1:$C$51,3,FALSE)-LEN(競技者一覧!N127)),競技者一覧!N127),\"\")","v":""},{"$f":"IFERROR(CONCATENATE(VLOOKUP(競技者一覧!O127,種目コード一覧!$A$1:$C$51,2,FALSE),\" \",REPT(\"0\",VLOOKUP(競技者一覧!O127,種目コード一覧!$A$1:$C$51,3,FALSE)-LEN(競技者一覧!P127)),競技者一覧!P127),\"\")","v":""},{"$f":"IFERROR(CONCATENATE(VLOOKUP(競技者一覧!Q127,種目コード一覧!$A$1:$C$51,2,FALSE),\" \",REPT(\"0\",VLOOKUP(競技者一覧!Q127,種目コード一覧!$A$1:$C$51,3,FALSE)-LEN(競技者一覧!R127)),競技者一覧!R127),\"\")","v":""},{"$f":"IFERROR(CONCATENATE(VLOOKUP(競技者一覧!S127,種目コード一覧!$A$1:$C$51,2,FALSE),\" \",REPT(\"0\",VLOOKUP(競技者一覧!S127,種目コード一覧!$A$1:$C$51,3,FALSE)-LEN(競技者一覧!T127)),競技者一覧!T127),\"\")","v":""},{"$f":"IFERROR(CONCATENATE(VLOOKUP(競技者一覧!U127,種目コード一覧!$A$1:$C$51,2,FALSE),\" \",REPT(\"0\",VLOOKUP(競技者一覧!U127,種目コード一覧!$A$1:$C$51,3,FALSE)-LEN(競技者一覧!V127)),競技者一覧!V127),\"\")","v":""},{"$f":"IFERROR(CONCATENATE(VLOOKUP(競技者一覧!W127,種目コード一覧!$A$1:$C$51,2,FALSE),\" \",REPT(\"0\",VLOOKUP(競技者一覧!W127,種目コード一覧!$A$1:$C$51,3,FALSE)-LEN(競技者一覧!X127)),競技者一覧!X127),\"\")","v":""},{"$f":"IFERROR(CONCATENATE(VLOOKUP(競技者一覧!Y127,種目コード一覧!$A$1:$C$51,2,FALSE),\" \",REPT(\"0\",VLOOKUP(競技者一覧!Y127,種目コード一覧!$A$1:$C$51,3,FALSE)-LEN(競技者一覧!Z127)),競技者一覧!Z127),\"\")","v":""}]
[{"$f":"IFERROR(CONCATENATE(競技者一覧!$D$7), \"\")","v":""},{"$f":"IFERROR(CONCATENATE($H$2,Sheet4!B108),\"\")","v":""},{"$f":"競技者一覧!C128&IF(OR(競技者一覧!H128=\"\",競技者一覧!H128=9),\"\",\"(\" & 競技者一覧!H128 & \")\")","v":""},{"$f":"ASC(競技者一覧!D128 &IF(OR(MID(競技者一覧!G128,3,2)=\"\", MID(競技者一覧!G128,3,2)=\"0\"),\"\",\"(\" & MID(競技者一覧!G128,3,2) & \")\"))","v":""},{"$f":"ASC(競技者一覧!E128 & \" \" & 競技者一覧!F128 & IF(OR(MID(競技者一覧!G128,3,2)=\"\", MID(競技者一覧!G128,3,2)=\"0\"),\"\",\"(\" & MID(競技者一覧!G128,3,2) & \")\"))","v":" "},{"$f":"CONCATENATE(競技者一覧!I128)","v":""},{"$f":"IFERROR(IF(競技者一覧!$D$6=\"学連\",VLOOKUP(競技者一覧!J128,Sheet4!$D$2:$E$48,2,FALSE),学校名簿!D108),\"\")","v":0},{"$f":"IFERROR(VLOOKUP(競技者一覧!$D$7,学校番号表!$B$2:$C$65536,2,FALSE),\"\")","v":""},{"$f":"CONCATENATE(競技者一覧!B128)","v":""},{"$f":"IFERROR(CONCATENATE(VLOOKUP(競技者一覧!K128,種目コード一覧!$A$1:$B$51,2,FALSE),\" \",REPT(\"0\",VLOOKUP(競技者一覧!K128,種目コード一覧!$A$1:$C$51,3,FALSE)-LEN(競技者一覧!L128)),競技者一覧!L128),\"\")","v":""},{"$f":"IFERROR(CONCATENATE(VLOOKUP(競技者一覧!M128,種目コード一覧!$A$1:$C$51,2,FALSE),\" \",REPT(\"0\",VLOOKUP(競技者一覧!M128,種目コード一覧!$A$1:$C$51,3,FALSE)-LEN(競技者一覧!N128)),競技者一覧!N128),\"\")","v":""},{"$f":"IFERROR(CONCATENATE(VLOOKUP(競技者一覧!O128,種目コード一覧!$A$1:$C$51,2,FALSE),\" \",REPT(\"0\",VLOOKUP(競技者一覧!O128,種目コード一覧!$A$1:$C$51,3,FALSE)-LEN(競技者一覧!P128)),競技者一覧!P128),\"\")","v":""},{"$f":"IFERROR(CONCATENATE(VLOOKUP(競技者一覧!Q128,種目コード一覧!$A$1:$C$51,2,FALSE),\" \",REPT(\"0\",VLOOKUP(競技者一覧!Q128,種目コード一覧!$A$1:$C$51,3,FALSE)-LEN(競技者一覧!R128)),競技者一覧!R128),\"\")","v":""},{"$f":"IFERROR(CONCATENATE(VLOOKUP(競技者一覧!S128,種目コード一覧!$A$1:$C$51,2,FALSE),\" \",REPT(\"0\",VLOOKUP(競技者一覧!S128,種目コード一覧!$A$1:$C$51,3,FALSE)-LEN(競技者一覧!T128)),競技者一覧!T128),\"\")","v":""},{"$f":"IFERROR(CONCATENATE(VLOOKUP(競技者一覧!U128,種目コード一覧!$A$1:$C$51,2,FALSE),\" \",REPT(\"0\",VLOOKUP(競技者一覧!U128,種目コード一覧!$A$1:$C$51,3,FALSE)-LEN(競技者一覧!V128)),競技者一覧!V128),\"\")","v":""},{"$f":"IFERROR(CONCATENATE(VLOOKUP(競技者一覧!W128,種目コード一覧!$A$1:$C$51,2,FALSE),\" \",REPT(\"0\",VLOOKUP(競技者一覧!W128,種目コード一覧!$A$1:$C$51,3,FALSE)-LEN(競技者一覧!X128)),競技者一覧!X128),\"\")","v":""},{"$f":"IFERROR(CONCATENATE(VLOOKUP(競技者一覧!Y128,種目コード一覧!$A$1:$C$51,2,FALSE),\" \",REPT(\"0\",VLOOKUP(競技者一覧!Y128,種目コード一覧!$A$1:$C$51,3,FALSE)-LEN(競技者一覧!Z128)),競技者一覧!Z128),\"\")","v":""}]
[{"$f":"IFERROR(CONCATENATE(競技者一覧!$D$7), \"\")","v":""},{"$f":"IFERROR(CONCATENATE($H$2,Sheet4!B109),\"\")","v":""},{"$f":"競技者一覧!C129&IF(OR(競技者一覧!H129=\"\",競技者一覧!H129=9),\"\",\"(\" & 競技者一覧!H129 & \")\")","v":""},{"$f":"競技者一覧!D129 &IF(OR(MID(競技者一覧!G129,3,2)=\"\", MID(競技者一覧!G129,3,2)=\"0\"),\"\",\"(\" & MID(競技者一覧!G129,3,2) & \")\")","v":""},{"$f":"ASC(競技者一覧!E129 & \" \" & 競技者一覧!F129 & IF(OR(MID(競技者一覧!G129,3,2)=\"\", MID(競技者一覧!G129,3,2)=\"0\"),\"\",\"(\" & MID(競技者一覧!G129,3,2) & \")\"))","v":" "},{"$f":"CONCATENATE(競技者一覧!I129)","v":""},{"$f":"IFERROR(IF(競技者一覧!$D$6=\"学連\",VLOOKUP(競技者一覧!J129,Sheet4!$D$2:$E$48,2,FALSE),学校名簿!D109),\"\")","v":0},{"$f":"IFERROR(VLOOKUP(競技者一覧!$D$7,学校番号表!$B$2:$C$65536,2,FALSE),\"\")","v":""},{"$f":"CONCATENATE(競技者一覧!B129)","v":""},{"$f":"IFERROR(CONCATENATE(VLOOKUP(競技者一覧!K129,種目コード一覧!$A$1:$C$51,2,FALSE),\" \",REPT(\"0\",VLOOKUP(競技者一覧!K129,種目コード一覧!$A$1:$C$51,3,FALSE)-LEN(競技者一覧!L129)),競技者一覧!L129),\"\")","v":""},{"$f":"IFERROR(CONCATENATE(VLOOKUP(競技者一覧!M129,種目コード一覧!$A$1:$C$51,2,FALSE),\" \",REPT(\"0\",VLOOKUP(競技者一覧!M129,種目コード一覧!$A$1:$C$51,3,FALSE)-LEN(競技者一覧!N129)),競技者一覧!N129),\"\")","v":""},{"$f":"IFERROR(CONCATENATE(VLOOKUP(競技者一覧!O129,種目コード一覧!$A$1:$C$51,2,FALSE),\" \",REPT(\"0\",VLOOKUP(競技者一覧!O129,種目コード一覧!$A$1:$C$51,3,FALSE)-LEN(競技者一覧!P129)),競技者一覧!P129),\"\")","v":""},{"$f":"IFERROR(CONCATENATE(VLOOKUP(競技者一覧!Q129,種目コード一覧!$A$1:$C$51,2,FALSE),\" \",REPT(\"0\",VLOOKUP(競技者一覧!Q129,種目コード一覧!$A$1:$C$51,3,FALSE)-LEN(競技者一覧!R129)),競技者一覧!R129),\"\")","v":""},{"$f":"IFERROR(CONCATENATE(VLOOKUP(競技者一覧!S129,種目コード一覧!$A$1:$C$51,2,FALSE),\" \",REPT(\"0\",VLOOKUP(競技者一覧!S129,種目コード一覧!$A$1:$C$51,3,FALSE)-LEN(競技者一覧!T129)),競技者一覧!T129),\"\")","v":""},{"$f":"IFERROR(CONCATENATE(VLOOKUP(競技者一覧!U129,種目コード一覧!$A$1:$C$51,2,FALSE),\" \",REPT(\"0\",VLOOKUP(競技者一覧!U129,種目コード一覧!$A$1:$C$51,3,FALSE)-LEN(競技者一覧!V129)),競技者一覧!V129),\"\")","v":""},{"$f":"IFERROR(CONCATENATE(VLOOKUP(競技者一覧!W129,種目コード一覧!$A$1:$C$51,2,FALSE),\" \",REPT(\"0\",VLOOKUP(競技者一覧!W129,種目コード一覧!$A$1:$C$51,3,FALSE)-LEN(競技者一覧!X129)),競技者一覧!X129),\"\")","v":""},{"$f":"IFERROR(CONCATENATE(VLOOKUP(競技者一覧!Y129,種目コード一覧!$A$1:$C$51,2,FALSE),\" \",REPT(\"0\",VLOOKUP(競技者一覧!Y129,種目コード一覧!$A$1:$C$51,3,FALSE)-LEN(競技者一覧!Z129)),競技者一覧!Z129),\"\")","v":""}]
[{"$f":"IFERROR(CONCATENATE(競技者一覧!$D$7), \"\")","v":""},{"$f":"IFERROR(CONCATENATE($H$2,Sheet4!B110),\"\")","v":""},{"$f":"競技者一覧!C130&IF(OR(競技者一覧!H130=\"\",競技者一覧!H130=9),\"\",\"(\" & 競技者一覧!H130 & \")\")","v":""},{"$f":"ASC(競技者一覧!D130 &IF(OR(MID(競技者一覧!G130,3,2)=\"\", MID(競技者一覧!G130,3,2)=\"0\"),\"\",\"(\" & MID(競技者一覧!G130,3,2) & \")\"))","v":""},{"$f":"ASC(競技者一覧!E130 & \" \" & 競技者一覧!F130 & IF(OR(MID(競技者一覧!G130,3,2)=\"\", MID(競技者一覧!G130,3,2)=\"0\"),\"\",\"(\" & MID(競技者一覧!G130,3,2) & \")\"))","v":" "},{"$f":"CONCATENATE(競技者一覧!I130)","v":""},{"$f":"IFERROR(IF(競技者一覧!$D$6=\"学連\",VLOOKUP(競技者一覧!J130,Sheet4!$D$2:$E$48,2,FALSE),学校名簿!D110),\"\")","v":0},{"$f":"IFERROR(VLOOKUP(競技者一覧!$D$7,学校番号表!$B$2:$C$65536,2,FALSE),\"\")","v":""},{"$f":"CONCATENATE(競技者一覧!B130)","v":""},{"$f":"IFERROR(CONCATENATE(VLOOKUP(競技者一覧!K130,種目コード一覧!$A$1:$B$51,2,FALSE),\" \",REPT(\"0\",VLOOKUP(競技者一覧!K130,種目コード一覧!$A$1:$C$51,3,FALSE)-LEN(競技者一覧!L130)),競技者一覧!L130),\"\")","v":""},{"$f":"IFERROR(CONCATENATE(VLOOKUP(競技者一覧!M130,種目コード一覧!$A$1:$C$51,2,FALSE),\" \",REPT(\"0\",VLOOKUP(競技者一覧!M130,種目コード一覧!$A$1:$C$51,3,FALSE)-LEN(競技者一覧!N130)),競技者一覧!N130),\"\")","v":""},{"$f":"IFERROR(CONCATENATE(VLOOKUP(競技者一覧!O130,種目コード一覧!$A$1:$C$51,2,FALSE),\" \",REPT(\"0\",VLOOKUP(競技者一覧!O130,種目コード一覧!$A$1:$C$51,3,FALSE)-LEN(競技者一覧!P130)),競技者一覧!P130),\"\")","v":""},{"$f":"IFERROR(CONCATENATE(VLOOKUP(競技者一覧!Q130,種目コード一覧!$A$1:$C$51,2,FALSE),\" \",REPT(\"0\",VLOOKUP(競技者一覧!Q130,種目コード一覧!$A$1:$C$51,3,FALSE)-LEN(競技者一覧!R130)),競技者一覧!R130),\"\")","v":""},{"$f":"IFERROR(CONCATENATE(VLOOKUP(競技者一覧!S130,種目コード一覧!$A$1:$C$51,2,FALSE),\" \",REPT(\"0\",VLOOKUP(競技者一覧!S130,種目コード一覧!$A$1:$C$51,3,FALSE)-LEN(競技者一覧!T130)),競技者一覧!T130),\"\")","v":""},{"$f":"IFERROR(CONCATENATE(VLOOKUP(競技者一覧!U130,種目コード一覧!$A$1:$C$51,2,FALSE),\" \",REPT(\"0\",VLOOKUP(競技者一覧!U130,種目コード一覧!$A$1:$C$51,3,FALSE)-LEN(競技者一覧!V130)),競技者一覧!V130),\"\")","v":""},{"$f":"IFERROR(CONCATENATE(VLOOKUP(競技者一覧!W130,種目コード一覧!$A$1:$C$51,2,FALSE),\" \",REPT(\"0\",VLOOKUP(競技者一覧!W130,種目コード一覧!$A$1:$C$51,3,FALSE)-LEN(競技者一覧!X130)),競技者一覧!X130),\"\")","v":""},{"$f":"IFERROR(CONCATENATE(VLOOKUP(競技者一覧!Y130,種目コード一覧!$A$1:$C$51,2,FALSE),\" \",REPT(\"0\",VLOOKUP(競技者一覧!Y130,種目コード一覧!$A$1:$C$51,3,FALSE)-LEN(競技者一覧!Z130)),競技者一覧!Z130),\"\")","v":""}]
[{"$f":"IFERROR(CONCATENATE(競技者一覧!$D$7), \"\")","v":""},{"$f":"IFERROR(CONCATENATE($H$2,Sheet4!B111),\"\")","v":""},{"$f":"競技者一覧!C131&IF(OR(競技者一覧!H131=\"\",競技者一覧!H131=9),\"\",\"(\" & 競技者一覧!H131 & \")\")","v":""},{"$f":"競技者一覧!D131 &IF(OR(MID(競技者一覧!G131,3,2)=\"\", MID(競技者一覧!G131,3,2)=\"0\"),\"\",\"(\" & MID(競技者一覧!G131,3,2) & \")\")","v":""},{"$f":"ASC(競技者一覧!E131 & \" \" & 競技者一覧!F131 & IF(OR(MID(競技者一覧!G131,3,2)=\"\", MID(競技者一覧!G131,3,2)=\"0\"),\"\",\"(\" & MID(競技者一覧!G131,3,2) & \")\"))","v":" "},{"$f":"CONCATENATE(競技者一覧!I131)","v":""},{"$f":"IFERROR(IF(競技者一覧!$D$6=\"学連\",VLOOKUP(競技者一覧!J131,Sheet4!$D$2:$E$48,2,FALSE),学校名簿!D111),\"\")","v":0},{"$f":"IFERROR(VLOOKUP(競技者一覧!$D$7,学校番号表!$B$2:$C$65536,2,FALSE),\"\")","v":""},{"$f":"CONCATENATE(競技者一覧!B131)","v":""},{"$f":"IFERROR(CONCATENATE(VLOOKUP(競技者一覧!K131,種目コード一覧!$A$1:$C$51,2,FALSE),\" \",REPT(\"0\",VLOOKUP(競技者一覧!K131,種目コード一覧!$A$1:$C$51,3,FALSE)-LEN(競技者一覧!L131)),競技者一覧!L131),\"\")","v":""},{"$f":"IFERROR(CONCATENATE(VLOOKUP(競技者一覧!M131,種目コード一覧!$A$1:$C$51,2,FALSE),\" \",REPT(\"0\",VLOOKUP(競技者一覧!M131,種目コード一覧!$A$1:$C$51,3,FALSE)-LEN(競技者一覧!N131)),競技者一覧!N131),\"\")","v":""},{"$f":"IFERROR(CONCATENATE(VLOOKUP(競技者一覧!O131,種目コード一覧!$A$1:$C$51,2,FALSE),\" \",REPT(\"0\",VLOOKUP(競技者一覧!O131,種目コード一覧!$A$1:$C$51,3,FALSE)-LEN(競技者一覧!P131)),競技者一覧!P131),\"\")","v":""},{"$f":"IFERROR(CONCATENATE(VLOOKUP(競技者一覧!Q131,種目コード一覧!$A$1:$C$51,2,FALSE),\" \",REPT(\"0\",VLOOKUP(競技者一覧!Q131,種目コード一覧!$A$1:$C$51,3,FALSE)-LEN(競技者一覧!R131)),競技者一覧!R131),\"\")","v":""},{"$f":"IFERROR(CONCATENATE(VLOOKUP(競技者一覧!S131,種目コード一覧!$A$1:$C$51,2,FALSE),\" \",REPT(\"0\",VLOOKUP(競技者一覧!S131,種目コード一覧!$A$1:$C$51,3,FALSE)-LEN(競技者一覧!T131)),競技者一覧!T131),\"\")","v":""},{"$f":"IFERROR(CONCATENATE(VLOOKUP(競技者一覧!U131,種目コード一覧!$A$1:$C$51,2,FALSE),\" \",REPT(\"0\",VLOOKUP(競技者一覧!U131,種目コード一覧!$A$1:$C$51,3,FALSE)-LEN(競技者一覧!V131)),競技者一覧!V131),\"\")","v":""},{"$f":"IFERROR(CONCATENATE(VLOOKUP(競技者一覧!W131,種目コード一覧!$A$1:$C$51,2,FALSE),\" \",REPT(\"0\",VLOOKUP(競技者一覧!W131,種目コード一覧!$A$1:$C$51,3,FALSE)-LEN(競技者一覧!X131)),競技者一覧!X131),\"\")","v":""},{"$f":"IFERROR(CONCATENATE(VLOOKUP(競技者一覧!Y131,種目コード一覧!$A$1:$C$51,2,FALSE),\" \",REPT(\"0\",VLOOKUP(競技者一覧!Y131,種目コード一覧!$A$1:$C$51,3,FALSE)-LEN(競技者一覧!Z131)),競技者一覧!Z131),\"\")","v":""}]
[{"$f":"IFERROR(CONCATENATE(競技者一覧!$D$7), \"\")","v":""},{"$f":"IFERROR(CONCATENATE($H$2,Sheet4!B112),\"\")","v":""},{"$f":"競技者一覧!C132&IF(OR(競技者一覧!H132=\"\",競技者一覧!H132=9),\"\",\"(\" & 競技者一覧!H132 & \")\")","v":""},{"$f":"ASC(競技者一覧!D132 &IF(OR(MID(競技者一覧!G132,3,2)=\"\", MID(競技者一覧!G132,3,2)=\"0\"),\"\",\"(\" & MID(競技者一覧!G132,3,2) & \")\"))","v":""},{"$f":"ASC(競技者一覧!E132 & \" \" & 競技者一覧!F132 & IF(OR(MID(競技者一覧!G132,3,2)=\"\", MID(競技者一覧!G132,3,2)=\"0\"),\"\",\"(\" & MID(競技者一覧!G132,3,2) & \")\"))","v":" "},{"$f":"CONCATENATE(競技者一覧!I132)","v":""},{"$f":"IFERROR(IF(競技者一覧!$D$6=\"学連\",VLOOKUP(競技者一覧!J132,Sheet4!$D$2:$E$48,2,FALSE),学校名簿!D112),\"\")","v":0},{"$f":"IFERROR(VLOOKUP(競技者一覧!$D$7,学校番号表!$B$2:$C$65536,2,FALSE),\"\")","v":""},{"$f":"CONCATENATE(競技者一覧!B132)","v":""},{"$f":"IFERROR(CONCATENATE(VLOOKUP(競技者一覧!K132,種目コード一覧!$A$1:$B$51,2,FALSE),\" \",REPT(\"0\",VLOOKUP(競技者一覧!K132,種目コード一覧!$A$1:$C$51,3,FALSE)-LEN(競技者一覧!L132)),競技者一覧!L132),\"\")","v":""},{"$f":"IFERROR(CONCATENATE(VLOOKUP(競技者一覧!M132,種目コード一覧!$A$1:$C$51,2,FALSE),\" \",REPT(\"0\",VLOOKUP(競技者一覧!M132,種目コード一覧!$A$1:$C$51,3,FALSE)-LEN(競技者一覧!N132)),競技者一覧!N132),\"\")","v":""},{"$f":"IFERROR(CONCATENATE(VLOOKUP(競技者一覧!O132,種目コード一覧!$A$1:$C$51,2,FALSE),\" \",REPT(\"0\",VLOOKUP(競技者一覧!O132,種目コード一覧!$A$1:$C$51,3,FALSE)-LEN(競技者一覧!P132)),競技者一覧!P132),\"\")","v":""},{"$f":"IFERROR(CONCATENATE(VLOOKUP(競技者一覧!Q132,種目コード一覧!$A$1:$C$51,2,FALSE),\" \",REPT(\"0\",VLOOKUP(競技者一覧!Q132,種目コード一覧!$A$1:$C$51,3,FALSE)-LEN(競技者一覧!R132)),競技者一覧!R132),\"\")","v":""},{"$f":"IFERROR(CONCATENATE(VLOOKUP(競技者一覧!S132,種目コード一覧!$A$1:$C$51,2,FALSE),\" \",REPT(\"0\",VLOOKUP(競技者一覧!S132,種目コード一覧!$A$1:$C$51,3,FALSE)-LEN(競技者一覧!T132)),競技者一覧!T132),\"\")","v":""},{"$f":"IFERROR(CONCATENATE(VLOOKUP(競技者一覧!U132,種目コード一覧!$A$1:$C$51,2,FALSE),\" \",REPT(\"0\",VLOOKUP(競技者一覧!U132,種目コード一覧!$A$1:$C$51,3,FALSE)-LEN(競技者一覧!V132)),競技者一覧!V132),\"\")","v":""},{"$f":"IFERROR(CONCATENATE(VLOOKUP(競技者一覧!W132,種目コード一覧!$A$1:$C$51,2,FALSE),\" \",REPT(\"0\",VLOOKUP(競技者一覧!W132,種目コード一覧!$A$1:$C$51,3,FALSE)-LEN(競技者一覧!X132)),競技者一覧!X132),\"\")","v":""},{"$f":"IFERROR(CONCATENATE(VLOOKUP(競技者一覧!Y132,種目コード一覧!$A$1:$C$51,2,FALSE),\" \",REPT(\"0\",VLOOKUP(競技者一覧!Y132,種目コード一覧!$A$1:$C$51,3,FALSE)-LEN(競技者一覧!Z132)),競技者一覧!Z132),\"\")","v":""}]
[{"$f":"IFERROR(CONCATENATE(競技者一覧!$D$7), \"\")","v":""},{"$f":"IFERROR(CONCATENATE($H$2,Sheet4!B113),\"\")","v":""},{"$f":"競技者一覧!C133&IF(OR(競技者一覧!H133=\"\",競技者一覧!H133=9),\"\",\"(\" & 競技者一覧!H133 & \")\")","v":""},{"$f":"競技者一覧!D133 &IF(OR(MID(競技者一覧!G133,3,2)=\"\", MID(競技者一覧!G133,3,2)=\"0\"),\"\",\"(\" & MID(競技者一覧!G133,3,2) & \")\")","v":""},{"$f":"ASC(競技者一覧!E133 & \" \" & 競技者一覧!F133 & IF(OR(MID(競技者一覧!G133,3,2)=\"\", MID(競技者一覧!G133,3,2)=\"0\"),\"\",\"(\" & MID(競技者一覧!G133,3,2) & \")\"))","v":" "},{"$f":"CONCATENATE(競技者一覧!I133)","v":""},{"$f":"IFERROR(IF(競技者一覧!$D$6=\"学連\",VLOOKUP(競技者一覧!J133,Sheet4!$D$2:$E$48,2,FALSE),学校名簿!D113),\"\")","v":0},{"$f":"IFERROR(VLOOKUP(競技者一覧!$D$7,学校番号表!$B$2:$C$65536,2,FALSE),\"\")","v":""},{"$f":"CONCATENATE(競技者一覧!B133)","v":""},{"$f":"IFERROR(CONCATENATE(VLOOKUP(競技者一覧!K133,種目コード一覧!$A$1:$C$51,2,FALSE),\" \",REPT(\"0\",VLOOKUP(競技者一覧!K133,種目コード一覧!$A$1:$C$51,3,FALSE)-LEN(競技者一覧!L133)),競技者一覧!L133),\"\")","v":""},{"$f":"IFERROR(CONCATENATE(VLOOKUP(競技者一覧!M133,種目コード一覧!$A$1:$C$51,2,FALSE),\" \",REPT(\"0\",VLOOKUP(競技者一覧!M133,種目コード一覧!$A$1:$C$51,3,FALSE)-LEN(競技者一覧!N133)),競技者一覧!N133),\"\")","v":""},{"$f":"IFERROR(CONCATENATE(VLOOKUP(競技者一覧!O133,種目コード一覧!$A$1:$C$51,2,FALSE),\" \",REPT(\"0\",VLOOKUP(競技者一覧!O133,種目コード一覧!$A$1:$C$51,3,FALSE)-LEN(競技者一覧!P133)),競技者一覧!P133),\"\")","v":""},{"$f":"IFERROR(CONCATENATE(VLOOKUP(競技者一覧!Q133,種目コード一覧!$A$1:$C$51,2,FALSE),\" \",REPT(\"0\",VLOOKUP(競技者一覧!Q133,種目コード一覧!$A$1:$C$51,3,FALSE)-LEN(競技者一覧!R133)),競技者一覧!R133),\"\")","v":""},{"$f":"IFERROR(CONCATENATE(VLOOKUP(競技者一覧!S133,種目コード一覧!$A$1:$C$51,2,FALSE),\" \",REPT(\"0\",VLOOKUP(競技者一覧!S133,種目コード一覧!$A$1:$C$51,3,FALSE)-LEN(競技者一覧!T133)),競技者一覧!T133),\"\")","v":""},{"$f":"IFERROR(CONCATENATE(VLOOKUP(競技者一覧!U133,種目コード一覧!$A$1:$C$51,2,FALSE),\" \",REPT(\"0\",VLOOKUP(競技者一覧!U133,種目コード一覧!$A$1:$C$51,3,FALSE)-LEN(競技者一覧!V133)),競技者一覧!V133),\"\")","v":""},{"$f":"IFERROR(CONCATENATE(VLOOKUP(競技者一覧!W133,種目コード一覧!$A$1:$C$51,2,FALSE),\" \",REPT(\"0\",VLOOKUP(競技者一覧!W133,種目コード一覧!$A$1:$C$51,3,FALSE)-LEN(競技者一覧!X133)),競技者一覧!X133),\"\")","v":""},{"$f":"IFERROR(CONCATENATE(VLOOKUP(競技者一覧!Y133,種目コード一覧!$A$1:$C$51,2,FALSE),\" \",REPT(\"0\",VLOOKUP(競技者一覧!Y133,種目コード一覧!$A$1:$C$51,3,FALSE)-LEN(競技者一覧!Z133)),競技者一覧!Z133),\"\")","v":""}]
[{"$f":"IFERROR(CONCATENATE(競技者一覧!$D$7), \"\")","v":""},{"$f":"IFERROR(CONCATENATE($H$2,Sheet4!B114),\"\")","v":""},{"$f":"競技者一覧!C134&IF(OR(競技者一覧!H134=\"\",競技者一覧!H134=9),\"\",\"(\" & 競技者一覧!H134 & \")\")","v":""},{"$f":"ASC(競技者一覧!D134 &IF(OR(MID(競技者一覧!G134,3,2)=\"\", MID(競技者一覧!G134,3,2)=\"0\"),\"\",\"(\" & MID(競技者一覧!G134,3,2) & \")\"))","v":""},{"$f":"ASC(競技者一覧!E134 & \" \" & 競技者一覧!F134 & IF(OR(MID(競技者一覧!G134,3,2)=\"\", MID(競技者一覧!G134,3,2)=\"0\"),\"\",\"(\" & MID(競技者一覧!G134,3,2) & \")\"))","v":" "},{"$f":"CONCATENATE(競技者一覧!I134)","v":""},{"$f":"IFERROR(IF(競技者一覧!$D$6=\"学連\",VLOOKUP(競技者一覧!J134,Sheet4!$D$2:$E$48,2,FALSE),学校名簿!D114),\"\")","v":0},{"$f":"IFERROR(VLOOKUP(競技者一覧!$D$7,学校番号表!$B$2:$C$65536,2,FALSE),\"\")","v":""},{"$f":"CONCATENATE(競技者一覧!B134)","v":""},{"$f":"IFERROR(CONCATENATE(VLOOKUP(競技者一覧!K134,種目コード一覧!$A$1:$B$51,2,FALSE),\" \",REPT(\"0\",VLOOKUP(競技者一覧!K134,種目コード一覧!$A$1:$C$51,3,FALSE)-LEN(競技者一覧!L134)),競技者一覧!L134),\"\")","v":""},{"$f":"IFERROR(CONCATENATE(VLOOKUP(競技者一覧!M134,種目コード一覧!$A$1:$C$51,2,FALSE),\" \",REPT(\"0\",VLOOKUP(競技者一覧!M134,種目コード一覧!$A$1:$C$51,3,FALSE)-LEN(競技者一覧!N134)),競技者一覧!N134),\"\")","v":""},{"$f":"IFERROR(CONCATENATE(VLOOKUP(競技者一覧!O134,種目コード一覧!$A$1:$C$51,2,FALSE),\" \",REPT(\"0\",VLOOKUP(競技者一覧!O134,種目コード一覧!$A$1:$C$51,3,FALSE)-LEN(競技者一覧!P134)),競技者一覧!P134),\"\")","v":""},{"$f":"IFERROR(CONCATENATE(VLOOKUP(競技者一覧!Q134,種目コード一覧!$A$1:$C$51,2,FALSE),\" \",REPT(\"0\",VLOOKUP(競技者一覧!Q134,種目コード一覧!$A$1:$C$51,3,FALSE)-LEN(競技者一覧!R134)),競技者一覧!R134),\"\")","v":""},{"$f":"IFERROR(CONCATENATE(VLOOKUP(競技者一覧!S134,種目コード一覧!$A$1:$C$51,2,FALSE),\" \",REPT(\"0\",VLOOKUP(競技者一覧!S134,種目コード一覧!$A$1:$C$51,3,FALSE)-LEN(競技者一覧!T134)),競技者一覧!T134),\"\")","v":""},{"$f":"IFERROR(CONCATENATE(VLOOKUP(競技者一覧!U134,種目コード一覧!$A$1:$C$51,2,FALSE),\" \",REPT(\"0\",VLOOKUP(競技者一覧!U134,種目コード一覧!$A$1:$C$51,3,FALSE)-LEN(競技者一覧!V134)),競技者一覧!V134),\"\")","v":""},{"$f":"IFERROR(CONCATENATE(VLOOKUP(競技者一覧!W134,種目コード一覧!$A$1:$C$51,2,FALSE),\" \",REPT(\"0\",VLOOKUP(競技者一覧!W134,種目コード一覧!$A$1:$C$51,3,FALSE)-LEN(競技者一覧!X134)),競技者一覧!X134),\"\")","v":""},{"$f":"IFERROR(CONCATENATE(VLOOKUP(競技者一覧!Y134,種目コード一覧!$A$1:$C$51,2,FALSE),\" \",REPT(\"0\",VLOOKUP(競技者一覧!Y134,種目コード一覧!$A$1:$C$51,3,FALSE)-LEN(競技者一覧!Z134)),競技者一覧!Z134),\"\")","v":""}]
[{"$f":"IFERROR(CONCATENATE(競技者一覧!$D$7), \"\")","v":""},{"$f":"IFERROR(CONCATENATE($H$2,Sheet4!B115),\"\")","v":""},{"$f":"競技者一覧!C135&IF(OR(競技者一覧!H135=\"\",競技者一覧!H135=9),\"\",\"(\" & 競技者一覧!H135 & \")\")","v":""},{"$f":"競技者一覧!D135 &IF(OR(MID(競技者一覧!G135,3,2)=\"\", MID(競技者一覧!G135,3,2)=\"0\"),\"\",\"(\" & MID(競技者一覧!G135,3,2) & \")\")","v":""},{"$f":"ASC(競技者一覧!E135 & \" \" & 競技者一覧!F135 & IF(OR(MID(競技者一覧!G135,3,2)=\"\", MID(競技者一覧!G135,3,2)=\"0\"),\"\",\"(\" & MID(競技者一覧!G135,3,2) & \")\"))","v":" "},{"$f":"CONCATENATE(競技者一覧!I135)","v":""},{"$f":"IFERROR(IF(競技者一覧!$D$6=\"学連\",VLOOKUP(競技者一覧!J135,Sheet4!$D$2:$E$48,2,FALSE),学校名簿!D115),\"\")","v":0},{"$f":"IFERROR(VLOOKUP(競技者一覧!$D$7,学校番号表!$B$2:$C$65536,2,FALSE),\"\")","v":""},{"$f":"CONCATENATE(競技者一覧!B135)","v":""},{"$f":"IFERROR(CONCATENATE(VLOOKUP(競技者一覧!K135,種目コード一覧!$A$1:$C$51,2,FALSE),\" \",REPT(\"0\",VLOOKUP(競技者一覧!K135,種目コード一覧!$A$1:$C$51,3,FALSE)-LEN(競技者一覧!L135)),競技者一覧!L135),\"\")","v":""},{"$f":"IFERROR(CONCATENATE(VLOOKUP(競技者一覧!M135,種目コード一覧!$A$1:$C$51,2,FALSE),\" \",REPT(\"0\",VLOOKUP(競技者一覧!M135,種目コード一覧!$A$1:$C$51,3,FALSE)-LEN(競技者一覧!N135)),競技者一覧!N135),\"\")","v":""},{"$f":"IFERROR(CONCATENATE(VLOOKUP(競技者一覧!O135,種目コード一覧!$A$1:$C$51,2,FALSE),\" \",REPT(\"0\",VLOOKUP(競技者一覧!O135,種目コード一覧!$A$1:$C$51,3,FALSE)-LEN(競技者一覧!P135)),競技者一覧!P135),\"\")","v":""},{"$f":"IFERROR(CONCATENATE(VLOOKUP(競技者一覧!Q135,種目コード一覧!$A$1:$C$51,2,FALSE),\" \",REPT(\"0\",VLOOKUP(競技者一覧!Q135,種目コード一覧!$A$1:$C$51,3,FALSE)-LEN(競技者一覧!R135)),競技者一覧!R135),\"\")","v":""},{"$f":"IFERROR(CONCATENATE(VLOOKUP(競技者一覧!S135,種目コード一覧!$A$1:$C$51,2,FALSE),\" \",REPT(\"0\",VLOOKUP(競技者一覧!S135,種目コード一覧!$A$1:$C$51,3,FALSE)-LEN(競技者一覧!T135)),競技者一覧!T135),\"\")","v":""},{"$f":"IFERROR(CONCATENATE(VLOOKUP(競技者一覧!U135,種目コード一覧!$A$1:$C$51,2,FALSE),\" \",REPT(\"0\",VLOOKUP(競技者一覧!U135,種目コード一覧!$A$1:$C$51,3,FALSE)-LEN(競技者一覧!V135)),競技者一覧!V135),\"\")","v":""},{"$f":"IFERROR(CONCATENATE(VLOOKUP(競技者一覧!W135,種目コード一覧!$A$1:$C$51,2,FALSE),\" \",REPT(\"0\",VLOOKUP(競技者一覧!W135,種目コード一覧!$A$1:$C$51,3,FALSE)-LEN(競技者一覧!X135)),競技者一覧!X135),\"\")","v":""},{"$f":"IFERROR(CONCATENATE(VLOOKUP(競技者一覧!Y135,種目コード一覧!$A$1:$C$51,2,FALSE),\" \",REPT(\"0\",VLOOKUP(競技者一覧!Y135,種目コード一覧!$A$1:$C$51,3,FALSE)-LEN(競技者一覧!Z135)),競技者一覧!Z135),\"\")","v":""}]
[{"$f":"IFERROR(CONCATENATE(競技者一覧!$D$7), \"\")","v":""},{"$f":"IFERROR(CONCATENATE($H$2,Sheet4!B116),\"\")","v":""},{"$f":"競技者一覧!C136&IF(OR(競技者一覧!H136=\"\",競技者一覧!H136=9),\"\",\"(\" & 競技者一覧!H136 & \")\")","v":""},{"$f":"ASC(競技者一覧!D136 &IF(OR(MID(競技者一覧!G136,3,2)=\"\", MID(競技者一覧!G136,3,2)=\"0\"),\"\",\"(\" & MID(競技者一覧!G136,3,2) & \")\"))","v":""},{"$f":"ASC(競技者一覧!E136 & \" \" & 競技者一覧!F136 & IF(OR(MID(競技者一覧!G136,3,2)=\"\", MID(競技者一覧!G136,3,2)=\"0\"),\"\",\"(\" & MID(競技者一覧!G136,3,2) & \")\"))","v":" "},{"$f":"CONCATENATE(競技者一覧!I136)","v":""},{"$f":"IFERROR(IF(競技者一覧!$D$6=\"学連\",VLOOKUP(競技者一覧!J136,Sheet4!$D$2:$E$48,2,FALSE),学校名簿!D116),\"\")","v":0},{"$f":"IFERROR(VLOOKUP(競技者一覧!$D$7,学校番号表!$B$2:$C$65536,2,FALSE),\"\")","v":""},{"$f":"CONCATENATE(競技者一覧!B136)","v":""},{"$f":"IFERROR(CONCATENATE(VLOOKUP(競技者一覧!K136,種目コード一覧!$A$1:$B$51,2,FALSE),\" \",REPT(\"0\",VLOOKUP(競技者一覧!K136,種目コード一覧!$A$1:$C$51,3,FALSE)-LEN(競技者一覧!L136)),競技者一覧!L136),\"\")","v":""},{"$f":"IFERROR(CONCATENATE(VLOOKUP(競技者一覧!M136,種目コード一覧!$A$1:$C$51,2,FALSE),\" \",REPT(\"0\",VLOOKUP(競技者一覧!M136,種目コード一覧!$A$1:$C$51,3,FALSE)-LEN(競技者一覧!N136)),競技者一覧!N136),\"\")","v":""},{"$f":"IFERROR(CONCATENATE(VLOOKUP(競技者一覧!O136,種目コード一覧!$A$1:$C$51,2,FALSE),\" \",REPT(\"0\",VLOOKUP(競技者一覧!O136,種目コード一覧!$A$1:$C$51,3,FALSE)-LEN(競技者一覧!P136)),競技者一覧!P136),\"\")","v":""},{"$f":"IFERROR(CONCATENATE(VLOOKUP(競技者一覧!Q136,種目コード一覧!$A$1:$C$51,2,FALSE),\" \",REPT(\"0\",VLOOKUP(競技者一覧!Q136,種目コード一覧!$A$1:$C$51,3,FALSE)-LEN(競技者一覧!R136)),競技者一覧!R136),\"\")","v":""},{"$f":"IFERROR(CONCATENATE(VLOOKUP(競技者一覧!S136,種目コード一覧!$A$1:$C$51,2,FALSE),\" \",REPT(\"0\",VLOOKUP(競技者一覧!S136,種目コード一覧!$A$1:$C$51,3,FALSE)-LEN(競技者一覧!T136)),競技者一覧!T136),\"\")","v":""},{"$f":"IFERROR(CONCATENATE(VLOOKUP(競技者一覧!U136,種目コード一覧!$A$1:$C$51,2,FALSE),\" \",REPT(\"0\",VLOOKUP(競技者一覧!U136,種目コード一覧!$A$1:$C$51,3,FALSE)-LEN(競技者一覧!V136)),競技者一覧!V136),\"\")","v":""},{"$f":"IFERROR(CONCATENATE(VLOOKUP(競技者一覧!W136,種目コード一覧!$A$1:$C$51,2,FALSE),\" \",REPT(\"0\",VLOOKUP(競技者一覧!W136,種目コード一覧!$A$1:$C$51,3,FALSE)-LEN(競技者一覧!X136)),競技者一覧!X136),\"\")","v":""},{"$f":"IFERROR(CONCATENATE(VLOOKUP(競技者一覧!Y136,種目コード一覧!$A$1:$C$51,2,FALSE),\" \",REPT(\"0\",VLOOKUP(競技者一覧!Y136,種目コード一覧!$A$1:$C$51,3,FALSE)-LEN(競技者一覧!Z136)),競技者一覧!Z136),\"\")","v":""}]
[{"$f":"IFERROR(CONCATENATE(競技者一覧!$D$7), \"\")","v":""},{"$f":"IFERROR(CONCATENATE($H$2,Sheet4!B117),\"\")","v":""},{"$f":"競技者一覧!C137&IF(OR(競技者一覧!H137=\"\",競技者一覧!H137=9),\"\",\"(\" & 競技者一覧!H137 & \")\")","v":""},{"$f":"競技者一覧!D137 &IF(OR(MID(競技者一覧!G137,3,2)=\"\", MID(競技者一覧!G137,3,2)=\"0\"),\"\",\"(\" & MID(競技者一覧!G137,3,2) & \")\")","v":""},{"$f":"ASC(競技者一覧!E137 & \" \" & 競技者一覧!F137 & IF(OR(MID(競技者一覧!G137,3,2)=\"\", MID(競技者一覧!G137,3,2)=\"0\"),\"\",\"(\" & MID(競技者一覧!G137,3,2) & \")\"))","v":" "},{"$f":"CONCATENATE(競技者一覧!I137)","v":""},{"$f":"IFERROR(IF(競技者一覧!$D$6=\"学連\",VLOOKUP(競技者一覧!J137,Sheet4!$D$2:$E$48,2,FALSE),学校名簿!D117),\"\")","v":0},{"$f":"IFERROR(VLOOKUP(競技者一覧!$D$7,学校番号表!$B$2:$C$65536,2,FALSE),\"\")","v":""},{"$f":"CONCATENATE(競技者一覧!B137)","v":""},{"$f":"IFERROR(CONCATENATE(VLOOKUP(競技者一覧!K137,種目コード一覧!$A$1:$C$51,2,FALSE),\" \",REPT(\"0\",VLOOKUP(競技者一覧!K137,種目コード一覧!$A$1:$C$51,3,FALSE)-LEN(競技者一覧!L137)),競技者一覧!L137),\"\")","v":""},{"$f":"IFERROR(CONCATENATE(VLOOKUP(競技者一覧!M137,種目コード一覧!$A$1:$C$51,2,FALSE),\" \",REPT(\"0\",VLOOKUP(競技者一覧!M137,種目コード一覧!$A$1:$C$51,3,FALSE)-LEN(競技者一覧!N137)),競技者一覧!N137),\"\")","v":""},{"$f":"IFERROR(CONCATENATE(VLOOKUP(競技者一覧!O137,種目コード一覧!$A$1:$C$51,2,FALSE),\" \",REPT(\"0\",VLOOKUP(競技者一覧!O137,種目コード一覧!$A$1:$C$51,3,FALSE)-LEN(競技者一覧!P137)),競技者一覧!P137),\"\")","v":""},{"$f":"IFERROR(CONCATENATE(VLOOKUP(競技者一覧!Q137,種目コード一覧!$A$1:$C$51,2,FALSE),\" \",REPT(\"0\",VLOOKUP(競技者一覧!Q137,種目コード一覧!$A$1:$C$51,3,FALSE)-LEN(競技者一覧!R137)),競技者一覧!R137),\"\")","v":""},{"$f":"IFERROR(CONCATENATE(VLOOKUP(競技者一覧!S137,種目コード一覧!$A$1:$C$51,2,FALSE),\" \",REPT(\"0\",VLOOKUP(競技者一覧!S137,種目コード一覧!$A$1:$C$51,3,FALSE)-LEN(競技者一覧!T137)),競技者一覧!T137),\"\")","v":""},{"$f":"IFERROR(CONCATENATE(VLOOKUP(競技者一覧!U137,種目コード一覧!$A$1:$C$51,2,FALSE),\" \",REPT(\"0\",VLOOKUP(競技者一覧!U137,種目コード一覧!$A$1:$C$51,3,FALSE)-LEN(競技者一覧!V137)),競技者一覧!V137),\"\")","v":""},{"$f":"IFERROR(CONCATENATE(VLOOKUP(競技者一覧!W137,種目コード一覧!$A$1:$C$51,2,FALSE),\" \",REPT(\"0\",VLOOKUP(競技者一覧!W137,種目コード一覧!$A$1:$C$51,3,FALSE)-LEN(競技者一覧!X137)),競技者一覧!X137),\"\")","v":""},{"$f":"IFERROR(CONCATENATE(VLOOKUP(競技者一覧!Y137,種目コード一覧!$A$1:$C$51,2,FALSE),\" \",REPT(\"0\",VLOOKUP(競技者一覧!Y137,種目コード一覧!$A$1:$C$51,3,FALSE)-LEN(競技者一覧!Z137)),競技者一覧!Z137),\"\")","v":""}]
[{"$f":"IFERROR(CONCATENATE(競技者一覧!$D$7), \"\")","v":""},{"$f":"IFERROR(CONCATENATE($H$2,Sheet4!B118),\"\")","v":""},{"$f":"競技者一覧!C138&IF(OR(競技者一覧!H138=\"\",競技者一覧!H138=9),\"\",\"(\" & 競技者一覧!H138 & \")\")","v":""},{"$f":"ASC(競技者一覧!D138 &IF(OR(MID(競技者一覧!G138,3,2)=\"\", MID(競技者一覧!G138,3,2)=\"0\"),\"\",\"(\" & MID(競技者一覧!G138,3,2) & \")\"))","v":""},{"$f":"ASC(競技者一覧!E138 & \" \" & 競技者一覧!F138 & IF(OR(MID(競技者一覧!G138,3,2)=\"\", MID(競技者一覧!G138,3,2)=\"0\"),\"\",\"(\" & MID(競技者一覧!G138,3,2) & \")\"))","v":" "},{"$f":"CONCATENATE(競技者一覧!I138)","v":""},{"$f":"IFERROR(IF(競技者一覧!$D$6=\"学連\",VLOOKUP(競技者一覧!J138,Sheet4!$D$2:$E$48,2,FALSE),学校名簿!D118),\"\")","v":0},{"$f":"IFERROR(VLOOKUP(競技者一覧!$D$7,学校番号表!$B$2:$C$65536,2,FALSE),\"\")","v":""},{"$f":"CONCATENATE(競技者一覧!B138)","v":""},{"$f":"IFERROR(CONCATENATE(VLOOKUP(競技者一覧!K138,種目コード一覧!$A$1:$B$51,2,FALSE),\" \",REPT(\"0\",VLOOKUP(競技者一覧!K138,種目コード一覧!$A$1:$C$51,3,FALSE)-LEN(競技者一覧!L138)),競技者一覧!L138),\"\")","v":""},{"$f":"IFERROR(CONCATENATE(VLOOKUP(競技者一覧!M138,種目コード一覧!$A$1:$C$51,2,FALSE),\" \",REPT(\"0\",VLOOKUP(競技者一覧!M138,種目コード一覧!$A$1:$C$51,3,FALSE)-LEN(競技者一覧!N138)),競技者一覧!N138),\"\")","v":""},{"$f":"IFERROR(CONCATENATE(VLOOKUP(競技者一覧!O138,種目コード一覧!$A$1:$C$51,2,FALSE),\" \",REPT(\"0\",VLOOKUP(競技者一覧!O138,種目コード一覧!$A$1:$C$51,3,FALSE)-LEN(競技者一覧!P138)),競技者一覧!P138),\"\")","v":""},{"$f":"IFERROR(CONCATENATE(VLOOKUP(競技者一覧!Q138,種目コード一覧!$A$1:$C$51,2,FALSE),\" \",REPT(\"0\",VLOOKUP(競技者一覧!Q138,種目コード一覧!$A$1:$C$51,3,FALSE)-LEN(競技者一覧!R138)),競技者一覧!R138),\"\")","v":""},{"$f":"IFERROR(CONCATENATE(VLOOKUP(競技者一覧!S138,種目コード一覧!$A$1:$C$51,2,FALSE),\" \",REPT(\"0\",VLOOKUP(競技者一覧!S138,種目コード一覧!$A$1:$C$51,3,FALSE)-LEN(競技者一覧!T138)),競技者一覧!T138),\"\")","v":""},{"$f":"IFERROR(CONCATENATE(VLOOKUP(競技者一覧!U138,種目コード一覧!$A$1:$C$51,2,FALSE),\" \",REPT(\"0\",VLOOKUP(競技者一覧!U138,種目コード一覧!$A$1:$C$51,3,FALSE)-LEN(競技者一覧!V138)),競技者一覧!V138),\"\")","v":""},{"$f":"IFERROR(CONCATENATE(VLOOKUP(競技者一覧!W138,種目コード一覧!$A$1:$C$51,2,FALSE),\" \",REPT(\"0\",VLOOKUP(競技者一覧!W138,種目コード一覧!$A$1:$C$51,3,FALSE)-LEN(競技者一覧!X138)),競技者一覧!X138),\"\")","v":""},{"$f":"IFERROR(CONCATENATE(VLOOKUP(競技者一覧!Y138,種目コード一覧!$A$1:$C$51,2,FALSE),\" \",REPT(\"0\",VLOOKUP(競技者一覧!Y138,種目コード一覧!$A$1:$C$51,3,FALSE)-LEN(競技者一覧!Z138)),競技者一覧!Z138),\"\")","v":""}]
[{"$f":"IFERROR(CONCATENATE(競技者一覧!$D$7), \"\")","v":""},{"$f":"IFERROR(CONCATENATE($H$2,Sheet4!B119),\"\")","v":""},{"$f":"競技者一覧!C139&IF(OR(競技者一覧!H139=\"\",競技者一覧!H139=9),\"\",\"(\" & 競技者一覧!H139 & \")\")","v":""},{"$f":"競技者一覧!D139 &IF(OR(MID(競技者一覧!G139,3,2)=\"\", MID(競技者一覧!G139,3,2)=\"0\"),\"\",\"(\" & MID(競技者一覧!G139,3,2) & \")\")","v":""},{"$f":"ASC(競技者一覧!E139 & \" \" & 競技者一覧!F139 & IF(OR(MID(競技者一覧!G139,3,2)=\"\", MID(競技者一覧!G139,3,2)=\"0\"),\"\",\"(\" & MID(競技者一覧!G139,3,2) & \")\"))","v":" "},{"$f":"CONCATENATE(競技者一覧!I139)","v":""},{"$f":"IFERROR(IF(競技者一覧!$D$6=\"学連\",VLOOKUP(競技者一覧!J139,Sheet4!$D$2:$E$48,2,FALSE),学校名簿!D119),\"\")","v":0},{"$f":"IFERROR(VLOOKUP(競技者一覧!$D$7,学校番号表!$B$2:$C$65536,2,FALSE),\"\")","v":""},{"$f":"CONCATENATE(競技者一覧!B139)","v":""},{"$f":"IFERROR(CONCATENATE(VLOOKUP(競技者一覧!K139,種目コード一覧!$A$1:$C$51,2,FALSE),\" \",REPT(\"0\",VLOOKUP(競技者一覧!K139,種目コード一覧!$A$1:$C$51,3,FALSE)-LEN(競技者一覧!L139)),競技者一覧!L139),\"\")","v":""},{"$f":"IFERROR(CONCATENATE(VLOOKUP(競技者一覧!M139,種目コード一覧!$A$1:$C$51,2,FALSE),\" \",REPT(\"0\",VLOOKUP(競技者一覧!M139,種目コード一覧!$A$1:$C$51,3,FALSE)-LEN(競技者一覧!N139)),競技者一覧!N139),\"\")","v":""},{"$f":"IFERROR(CONCATENATE(VLOOKUP(競技者一覧!O139,種目コード一覧!$A$1:$C$51,2,FALSE),\" \",REPT(\"0\",VLOOKUP(競技者一覧!O139,種目コード一覧!$A$1:$C$51,3,FALSE)-LEN(競技者一覧!P139)),競技者一覧!P139),\"\")","v":""},{"$f":"IFERROR(CONCATENATE(VLOOKUP(競技者一覧!Q139,種目コード一覧!$A$1:$C$51,2,FALSE),\" \",REPT(\"0\",VLOOKUP(競技者一覧!Q139,種目コード一覧!$A$1:$C$51,3,FALSE)-LEN(競技者一覧!R139)),競技者一覧!R139),\"\")","v":""},{"$f":"IFERROR(CONCATENATE(VLOOKUP(競技者一覧!S139,種目コード一覧!$A$1:$C$51,2,FALSE),\" \",REPT(\"0\",VLOOKUP(競技者一覧!S139,種目コード一覧!$A$1:$C$51,3,FALSE)-LEN(競技者一覧!T139)),競技者一覧!T139),\"\")","v":""},{"$f":"IFERROR(CONCATENATE(VLOOKUP(競技者一覧!U139,種目コード一覧!$A$1:$C$51,2,FALSE),\" \",REPT(\"0\",VLOOKUP(競技者一覧!U139,種目コード一覧!$A$1:$C$51,3,FALSE)-LEN(競技者一覧!V139)),競技者一覧!V139),\"\")","v":""},{"$f":"IFERROR(CONCATENATE(VLOOKUP(競技者一覧!W139,種目コード一覧!$A$1:$C$51,2,FALSE),\" \",REPT(\"0\",VLOOKUP(競技者一覧!W139,種目コード一覧!$A$1:$C$51,3,FALSE)-LEN(競技者一覧!X139)),競技者一覧!X139),\"\")","v":""},{"$f":"IFERROR(CONCATENATE(VLOOKUP(競技者一覧!Y139,種目コード一覧!$A$1:$C$51,2,FALSE),\" \",REPT(\"0\",VLOOKUP(競技者一覧!Y139,種目コード一覧!$A$1:$C$51,3,FALSE)-LEN(競技者一覧!Z139)),競技者一覧!Z139),\"\")","v":""}]
[{"$f":"IFERROR(CONCATENATE(競技者一覧!$D$7), \"\")","v":""},{"$f":"IFERROR(CONCATENATE($H$2,Sheet4!B120),\"\")","v":""},{"$f":"競技者一覧!C140&IF(OR(競技者一覧!H140=\"\",競技者一覧!H140=9),\"\",\"(\" & 競技者一覧!H140 & \")\")","v":""},{"$f":"ASC(競技者一覧!D140 &IF(OR(MID(競技者一覧!G140,3,2)=\"\", MID(競技者一覧!G140,3,2)=\"0\"),\"\",\"(\" & MID(競技者一覧!G140,3,2) & \")\"))","v":""},{"$f":"ASC(競技者一覧!E140 & \" \" & 競技者一覧!F140 & IF(OR(MID(競技者一覧!G140,3,2)=\"\", MID(競技者一覧!G140,3,2)=\"0\"),\"\",\"(\" & MID(競技者一覧!G140,3,2) & \")\"))","v":" "},{"$f":"CONCATENATE(競技者一覧!I140)","v":""},{"$f":"IFERROR(IF(競技者一覧!$D$6=\"学連\",VLOOKUP(競技者一覧!J140,Sheet4!$D$2:$E$48,2,FALSE),学校名簿!D120),\"\")","v":0},{"$f":"IFERROR(VLOOKUP(競技者一覧!$D$7,学校番号表!$B$2:$C$65536,2,FALSE),\"\")","v":""},{"$f":"CONCATENATE(競技者一覧!B140)","v":""},{"$f":"IFERROR(CONCATENATE(VLOOKUP(競技者一覧!K140,種目コード一覧!$A$1:$B$51,2,FALSE),\" \",REPT(\"0\",VLOOKUP(競技者一覧!K140,種目コード一覧!$A$1:$C$51,3,FALSE)-LEN(競技者一覧!L140)),競技者一覧!L140),\"\")","v":""},{"$f":"IFERROR(CONCATENATE(VLOOKUP(競技者一覧!M140,種目コード一覧!$A$1:$C$51,2,FALSE),\" \",REPT(\"0\",VLOOKUP(競技者一覧!M140,種目コード一覧!$A$1:$C$51,3,FALSE)-LEN(競技者一覧!N140)),競技者一覧!N140),\"\")","v":""},{"$f":"IFERROR(CONCATENATE(VLOOKUP(競技者一覧!O140,種目コード一覧!$A$1:$C$51,2,FALSE),\" \",REPT(\"0\",VLOOKUP(競技者一覧!O140,種目コード一覧!$A$1:$C$51,3,FALSE)-LEN(競技者一覧!P140)),競技者一覧!P140),\"\")","v":""},{"$f":"IFERROR(CONCATENATE(VLOOKUP(競技者一覧!Q140,種目コード一覧!$A$1:$C$51,2,FALSE),\" \",REPT(\"0\",VLOOKUP(競技者一覧!Q140,種目コード一覧!$A$1:$C$51,3,FALSE)-LEN(競技者一覧!R140)),競技者一覧!R140),\"\")","v":""},{"$f":"IFERROR(CONCATENATE(VLOOKUP(競技者一覧!S140,種目コード一覧!$A$1:$C$51,2,FALSE),\" \",REPT(\"0\",VLOOKUP(競技者一覧!S140,種目コード一覧!$A$1:$C$51,3,FALSE)-LEN(競技者一覧!T140)),競技者一覧!T140),\"\")","v":""},{"$f":"IFERROR(CONCATENATE(VLOOKUP(競技者一覧!U140,種目コード一覧!$A$1:$C$51,2,FALSE),\" \",REPT(\"0\",VLOOKUP(競技者一覧!U140,種目コード一覧!$A$1:$C$51,3,FALSE)-LEN(競技者一覧!V140)),競技者一覧!V140),\"\")","v":""},{"$f":"IFERROR(CONCATENATE(VLOOKUP(競技者一覧!W140,種目コード一覧!$A$1:$C$51,2,FALSE),\" \",REPT(\"0\",VLOOKUP(競技者一覧!W140,種目コード一覧!$A$1:$C$51,3,FALSE)-LEN(競技者一覧!X140)),競技者一覧!X140),\"\")","v":""},{"$f":"IFERROR(CONCATENATE(VLOOKUP(競技者一覧!Y140,種目コード一覧!$A$1:$C$51,2,FALSE),\" \",REPT(\"0\",VLOOKUP(競技者一覧!Y140,種目コード一覧!$A$1:$C$51,3,FALSE)-LEN(競技者一覧!Z140)),競技者一覧!Z140),\"\")","v":""}]
[{"$f":"IFERROR(CONCATENATE(競技者一覧!$D$7), \"\")","v":""},{"$f":"IFERROR(CONCATENATE($H$2,Sheet4!B121),\"\")","v":""},{"$f":"競技者一覧!C141&IF(OR(競技者一覧!H141=\"\",競技者一覧!H141=9),\"\",\"(\" & 競技者一覧!H141 & \")\")","v":""},{"$f":"競技者一覧!D141 &IF(OR(MID(競技者一覧!G141,3,2)=\"\", MID(競技者一覧!G141,3,2)=\"0\"),\"\",\"(\" & MID(競技者一覧!G141,3,2) & \")\")","v":""},{"$f":"ASC(競技者一覧!E141 & \" \" & 競技者一覧!F141 & IF(OR(MID(競技者一覧!G141,3,2)=\"\", MID(競技者一覧!G141,3,2)=\"0\"),\"\",\"(\" & MID(競技者一覧!G141,3,2) & \")\"))","v":" "},{"$f":"CONCATENATE(競技者一覧!I141)","v":""},{"$f":"IFERROR(IF(競技者一覧!$D$6=\"学連\",VLOOKUP(競技者一覧!J141,Sheet4!$D$2:$E$48,2,FALSE),学校名簿!D121),\"\")","v":0},{"$f":"IFERROR(VLOOKUP(競技者一覧!$D$7,学校番号表!$B$2:$C$65536,2,FALSE),\"\")","v":""},{"$f":"CONCATENATE(競技者一覧!B141)","v":""},{"$f":"IFERROR(CONCATENATE(VLOOKUP(競技者一覧!K141,種目コード一覧!$A$1:$C$51,2,FALSE),\" \",REPT(\"0\",VLOOKUP(競技者一覧!K141,種目コード一覧!$A$1:$C$51,3,FALSE)-LEN(競技者一覧!L141)),競技者一覧!L141),\"\")","v":""},{"$f":"IFERROR(CONCATENATE(VLOOKUP(競技者一覧!M141,種目コード一覧!$A$1:$C$51,2,FALSE),\" \",REPT(\"0\",VLOOKUP(競技者一覧!M141,種目コード一覧!$A$1:$C$51,3,FALSE)-LEN(競技者一覧!N141)),競技者一覧!N141),\"\")","v":""},{"$f":"IFERROR(CONCATENATE(VLOOKUP(競技者一覧!O141,種目コード一覧!$A$1:$C$51,2,FALSE),\" \",REPT(\"0\",VLOOKUP(競技者一覧!O141,種目コード一覧!$A$1:$C$51,3,FALSE)-LEN(競技者一覧!P141)),競技者一覧!P141),\"\")","v":""},{"$f":"IFERROR(CONCATENATE(VLOOKUP(競技者一覧!Q141,種目コード一覧!$A$1:$C$51,2,FALSE),\" \",REPT(\"0\",VLOOKUP(競技者一覧!Q141,種目コード一覧!$A$1:$C$51,3,FALSE)-LEN(競技者一覧!R141)),競技者一覧!R141),\"\")","v":""},{"$f":"IFERROR(CONCATENATE(VLOOKUP(競技者一覧!S141,種目コード一覧!$A$1:$C$51,2,FALSE),\" \",REPT(\"0\",VLOOKUP(競技者一覧!S141,種目コード一覧!$A$1:$C$51,3,FALSE)-LEN(競技者一覧!T141)),競技者一覧!T141),\"\")","v":""},{"$f":"IFERROR(CONCATENATE(VLOOKUP(競技者一覧!U141,種目コード一覧!$A$1:$C$51,2,FALSE),\" \",REPT(\"0\",VLOOKUP(競技者一覧!U141,種目コード一覧!$A$1:$C$51,3,FALSE)-LEN(競技者一覧!V141)),競技者一覧!V141),\"\")","v":""},{"$f":"IFERROR(CONCATENATE(VLOOKUP(競技者一覧!W141,種目コード一覧!$A$1:$C$51,2,FALSE),\" \",REPT(\"0\",VLOOKUP(競技者一覧!W141,種目コード一覧!$A$1:$C$51,3,FALSE)-LEN(競技者一覧!X141)),競技者一覧!X141),\"\")","v":""},{"$f":"IFERROR(CONCATENATE(VLOOKUP(競技者一覧!Y141,種目コード一覧!$A$1:$C$51,2,FALSE),\" \",REPT(\"0\",VLOOKUP(競技者一覧!Y141,種目コード一覧!$A$1:$C$51,3,FALSE)-LEN(競技者一覧!Z141)),競技者一覧!Z141),\"\")","v":""}]
[{"$f":"IFERROR(CONCATENATE(競技者一覧!$D$7), \"\")","v":""},{"$f":"IFERROR(CONCATENATE($H$2,Sheet4!B122),\"\")","v":""},{"$f":"競技者一覧!C142&IF(OR(競技者一覧!H142=\"\",競技者一覧!H142=9),\"\",\"(\" & 競技者一覧!H142 & \")\")","v":""},{"$f":"ASC(競技者一覧!D142 &IF(OR(MID(競技者一覧!G142,3,2)=\"\", MID(競技者一覧!G142,3,2)=\"0\"),\"\",\"(\" & MID(競技者一覧!G142,3,2) & \")\"))","v":""},{"$f":"ASC(競技者一覧!E142 & \" \" & 競技者一覧!F142 & IF(OR(MID(競技者一覧!G142,3,2)=\"\", MID(競技者一覧!G142,3,2)=\"0\"),\"\",\"(\" & MID(競技者一覧!G142,3,2) & \")\"))","v":" "},{"$f":"CONCATENATE(競技者一覧!I142)","v":""},{"$f":"IFERROR(IF(競技者一覧!$D$6=\"学連\",VLOOKUP(競技者一覧!J142,Sheet4!$D$2:$E$48,2,FALSE),学校名簿!D122),\"\")","v":0},{"$f":"IFERROR(VLOOKUP(競技者一覧!$D$7,学校番号表!$B$2:$C$65536,2,FALSE),\"\")","v":""},{"$f":"CONCATENATE(競技者一覧!B142)","v":""},{"$f":"IFERROR(CONCATENATE(VLOOKUP(競技者一覧!K142,種目コード一覧!$A$1:$B$51,2,FALSE),\" \",REPT(\"0\",VLOOKUP(競技者一覧!K142,種目コード一覧!$A$1:$C$51,3,FALSE)-LEN(競技者一覧!L142)),競技者一覧!L142),\"\")","v":""},{"$f":"IFERROR(CONCATENATE(VLOOKUP(競技者一覧!M142,種目コード一覧!$A$1:$C$51,2,FALSE),\" \",REPT(\"0\",VLOOKUP(競技者一覧!M142,種目コード一覧!$A$1:$C$51,3,FALSE)-LEN(競技者一覧!N142)),競技者一覧!N142),\"\")","v":""},{"$f":"IFERROR(CONCATENATE(VLOOKUP(競技者一覧!O142,種目コード一覧!$A$1:$C$51,2,FALSE),\" \",REPT(\"0\",VLOOKUP(競技者一覧!O142,種目コード一覧!$A$1:$C$51,3,FALSE)-LEN(競技者一覧!P142)),競技者一覧!P142),\"\")","v":""},{"$f":"IFERROR(CONCATENATE(VLOOKUP(競技者一覧!Q142,種目コード一覧!$A$1:$C$51,2,FALSE),\" \",REPT(\"0\",VLOOKUP(競技者一覧!Q142,種目コード一覧!$A$1:$C$51,3,FALSE)-LEN(競技者一覧!R142)),競技者一覧!R142),\"\")","v":""},{"$f":"IFERROR(CONCATENATE(VLOOKUP(競技者一覧!S142,種目コード一覧!$A$1:$C$51,2,FALSE),\" \",REPT(\"0\",VLOOKUP(競技者一覧!S142,種目コード一覧!$A$1:$C$51,3,FALSE)-LEN(競技者一覧!T142)),競技者一覧!T142),\"\")","v":""},{"$f":"IFERROR(CONCATENATE(VLOOKUP(競技者一覧!U142,種目コード一覧!$A$1:$C$51,2,FALSE),\" \",REPT(\"0\",VLOOKUP(競技者一覧!U142,種目コード一覧!$A$1:$C$51,3,FALSE)-LEN(競技者一覧!V142)),競技者一覧!V142),\"\")","v":""},{"$f":"IFERROR(CONCATENATE(VLOOKUP(競技者一覧!W142,種目コード一覧!$A$1:$C$51,2,FALSE),\" \",REPT(\"0\",VLOOKUP(競技者一覧!W142,種目コード一覧!$A$1:$C$51,3,FALSE)-LEN(競技者一覧!X142)),競技者一覧!X142),\"\")","v":""},{"$f":"IFERROR(CONCATENATE(VLOOKUP(競技者一覧!Y142,種目コード一覧!$A$1:$C$51,2,FALSE),\" \",REPT(\"0\",VLOOKUP(競技者一覧!Y142,種目コード一覧!$A$1:$C$51,3,FALSE)-LEN(競技者一覧!Z142)),競技者一覧!Z142),\"\")","v":""}]
[{"$f":"IFERROR(CONCATENATE(競技者一覧!$D$7), \"\")","v":""},{"$f":"IFERROR(CONCATENATE($H$2,Sheet4!B123),\"\")","v":""},{"$f":"競技者一覧!C143&IF(OR(競技者一覧!H143=\"\",競技者一覧!H143=9),\"\",\"(\" & 競技者一覧!H143 & \")\")","v":""},{"$f":"競技者一覧!D143 &IF(OR(MID(競技者一覧!G143,3,2)=\"\", MID(競技者一覧!G143,3,2)=\"0\"),\"\",\"(\" & MID(競技者一覧!G143,3,2) & \")\")","v":""},{"$f":"ASC(競技者一覧!E143 & \" \" & 競技者一覧!F143 & IF(OR(MID(競技者一覧!G143,3,2)=\"\", MID(競技者一覧!G143,3,2)=\"0\"),\"\",\"(\" & MID(競技者一覧!G143,3,2) & \")\"))","v":" "},{"$f":"CONCATENATE(競技者一覧!I143)","v":""},{"$f":"IFERROR(IF(競技者一覧!$D$6=\"学連\",VLOOKUP(競技者一覧!J143,Sheet4!$D$2:$E$48,2,FALSE),学校名簿!D123),\"\")","v":0},{"$f":"IFERROR(VLOOKUP(競技者一覧!$D$7,学校番号表!$B$2:$C$65536,2,FALSE),\"\")","v":""},{"$f":"CONCATENATE(競技者一覧!B143)","v":""},{"$f":"IFERROR(CONCATENATE(VLOOKUP(競技者一覧!K143,種目コード一覧!$A$1:$C$51,2,FALSE),\" \",REPT(\"0\",VLOOKUP(競技者一覧!K143,種目コード一覧!$A$1:$C$51,3,FALSE)-LEN(競技者一覧!L143)),競技者一覧!L143),\"\")","v":""},{"$f":"IFERROR(CONCATENATE(VLOOKUP(競技者一覧!M143,種目コード一覧!$A$1:$C$51,2,FALSE),\" \",REPT(\"0\",VLOOKUP(競技者一覧!M143,種目コード一覧!$A$1:$C$51,3,FALSE)-LEN(競技者一覧!N143)),競技者一覧!N143),\"\")","v":""},{"$f":"IFERROR(CONCATENATE(VLOOKUP(競技者一覧!O143,種目コード一覧!$A$1:$C$51,2,FALSE),\" \",REPT(\"0\",VLOOKUP(競技者一覧!O143,種目コード一覧!$A$1:$C$51,3,FALSE)-LEN(競技者一覧!P143)),競技者一覧!P143),\"\")","v":""},{"$f":"IFERROR(CONCATENATE(VLOOKUP(競技者一覧!Q143,種目コード一覧!$A$1:$C$51,2,FALSE),\" \",REPT(\"0\",VLOOKUP(競技者一覧!Q143,種目コード一覧!$A$1:$C$51,3,FALSE)-LEN(競技者一覧!R143)),競技者一覧!R143),\"\")","v":""},{"$f":"IFERROR(CONCATENATE(VLOOKUP(競技者一覧!S143,種目コード一覧!$A$1:$C$51,2,FALSE),\" \",REPT(\"0\",VLOOKUP(競技者一覧!S143,種目コード一覧!$A$1:$C$51,3,FALSE)-LEN(競技者一覧!T143)),競技者一覧!T143),\"\")","v":""},{"$f":"IFERROR(CONCATENATE(VLOOKUP(競技者一覧!U143,種目コード一覧!$A$1:$C$51,2,FALSE),\" \",REPT(\"0\",VLOOKUP(競技者一覧!U143,種目コード一覧!$A$1:$C$51,3,FALSE)-LEN(競技者一覧!V143)),競技者一覧!V143),\"\")","v":""},{"$f":"IFERROR(CONCATENATE(VLOOKUP(競技者一覧!W143,種目コード一覧!$A$1:$C$51,2,FALSE),\" \",REPT(\"0\",VLOOKUP(競技者一覧!W143,種目コード一覧!$A$1:$C$51,3,FALSE)-LEN(競技者一覧!X143)),競技者一覧!X143),\"\")","v":""},{"$f":"IFERROR(CONCATENATE(VLOOKUP(競技者一覧!Y143,種目コード一覧!$A$1:$C$51,2,FALSE),\" \",REPT(\"0\",VLOOKUP(競技者一覧!Y143,種目コード一覧!$A$1:$C$51,3,FALSE)-LEN(競技者一覧!Z143)),競技者一覧!Z143),\"\")","v":""}]
[{"$f":"IFERROR(CONCATENATE(競技者一覧!$D$7), \"\")","v":""},{"$f":"IFERROR(CONCATENATE($H$2,Sheet4!B124),\"\")","v":""},{"$f":"競技者一覧!C144&IF(OR(競技者一覧!H144=\"\",競技者一覧!H144=9),\"\",\"(\" & 競技者一覧!H144 & \")\")","v":""},{"$f":"ASC(競技者一覧!D144 &IF(OR(MID(競技者一覧!G144,3,2)=\"\", MID(競技者一覧!G144,3,2)=\"0\"),\"\",\"(\" & MID(競技者一覧!G144,3,2) & \")\"))","v":""},{"$f":"ASC(競技者一覧!E144 & \" \" & 競技者一覧!F144 & IF(OR(MID(競技者一覧!G144,3,2)=\"\", MID(競技者一覧!G144,3,2)=\"0\"),\"\",\"(\" & MID(競技者一覧!G144,3,2) & \")\"))","v":" "},{"$f":"CONCATENATE(競技者一覧!I144)","v":""},{"$f":"IFERROR(IF(競技者一覧!$D$6=\"学連\",VLOOKUP(競技者一覧!J144,Sheet4!$D$2:$E$48,2,FALSE),学校名簿!D124),\"\")","v":0},{"$f":"IFERROR(VLOOKUP(競技者一覧!$D$7,学校番号表!$B$2:$C$65536,2,FALSE),\"\")","v":""},{"$f":"CONCATENATE(競技者一覧!B144)","v":""},{"$f":"IFERROR(CONCATENATE(VLOOKUP(競技者一覧!K144,種目コード一覧!$A$1:$B$51,2,FALSE),\" \",REPT(\"0\",VLOOKUP(競技者一覧!K144,種目コード一覧!$A$1:$C$51,3,FALSE)-LEN(競技者一覧!L144)),競技者一覧!L144),\"\")","v":""},{"$f":"IFERROR(CONCATENATE(VLOOKUP(競技者一覧!M144,種目コード一覧!$A$1:$C$51,2,FALSE),\" \",REPT(\"0\",VLOOKUP(競技者一覧!M144,種目コード一覧!$A$1:$C$51,3,FALSE)-LEN(競技者一覧!N144)),競技者一覧!N144),\"\")","v":""},{"$f":"IFERROR(CONCATENATE(VLOOKUP(競技者一覧!O144,種目コード一覧!$A$1:$C$51,2,FALSE),\" \",REPT(\"0\",VLOOKUP(競技者一覧!O144,種目コード一覧!$A$1:$C$51,3,FALSE)-LEN(競技者一覧!P144)),競技者一覧!P144),\"\")","v":""},{"$f":"IFERROR(CONCATENATE(VLOOKUP(競技者一覧!Q144,種目コード一覧!$A$1:$C$51,2,FALSE),\" \",REPT(\"0\",VLOOKUP(競技者一覧!Q144,種目コード一覧!$A$1:$C$51,3,FALSE)-LEN(競技者一覧!R144)),競技者一覧!R144),\"\")","v":""},{"$f":"IFERROR(CONCATENATE(VLOOKUP(競技者一覧!S144,種目コード一覧!$A$1:$C$51,2,FALSE),\" \",REPT(\"0\",VLOOKUP(競技者一覧!S144,種目コード一覧!$A$1:$C$51,3,FALSE)-LEN(競技者一覧!T144)),競技者一覧!T144),\"\")","v":""},{"$f":"IFERROR(CONCATENATE(VLOOKUP(競技者一覧!U144,種目コード一覧!$A$1:$C$51,2,FALSE),\" \",REPT(\"0\",VLOOKUP(競技者一覧!U144,種目コード一覧!$A$1:$C$51,3,FALSE)-LEN(競技者一覧!V144)),競技者一覧!V144),\"\")","v":""},{"$f":"IFERROR(CONCATENATE(VLOOKUP(競技者一覧!W144,種目コード一覧!$A$1:$C$51,2,FALSE),\" \",REPT(\"0\",VLOOKUP(競技者一覧!W144,種目コード一覧!$A$1:$C$51,3,FALSE)-LEN(競技者一覧!X144)),競技者一覧!X144),\"\")","v":""},{"$f":"IFERROR(CONCATENATE(VLOOKUP(競技者一覧!Y144,種目コード一覧!$A$1:$C$51,2,FALSE),\" \",REPT(\"0\",VLOOKUP(競技者一覧!Y144,種目コード一覧!$A$1:$C$51,3,FALSE)-LEN(競技者一覧!Z144)),競技者一覧!Z144),\"\")","v":""}]
[{"$f":"IFERROR(CONCATENATE(競技者一覧!$D$7), \"\")","v":""},{"$f":"IFERROR(CONCATENATE($H$2,Sheet4!B125),\"\")","v":""},{"$f":"競技者一覧!C145&IF(OR(競技者一覧!H145=\"\",競技者一覧!H145=9),\"\",\"(\" & 競技者一覧!H145 & \")\")","v":""},{"$f":"競技者一覧!D145 &IF(OR(MID(競技者一覧!G145,3,2)=\"\", MID(競技者一覧!G145,3,2)=\"0\"),\"\",\"(\" & MID(競技者一覧!G145,3,2) & \")\")","v":""},{"$f":"ASC(競技者一覧!E145 & \" \" & 競技者一覧!F145 & IF(OR(MID(競技者一覧!G145,3,2)=\"\", MID(競技者一覧!G145,3,2)=\"0\"),\"\",\"(\" & MID(競技者一覧!G145,3,2) & \")\"))","v":" "},{"$f":"CONCATENATE(競技者一覧!I145)","v":""},{"$f":"IFERROR(IF(競技者一覧!$D$6=\"学連\",VLOOKUP(競技者一覧!J145,Sheet4!$D$2:$E$48,2,FALSE),学校名簿!D125),\"\")","v":0},{"$f":"IFERROR(VLOOKUP(競技者一覧!$D$7,学校番号表!$B$2:$C$65536,2,FALSE),\"\")","v":""},{"$f":"CONCATENATE(競技者一覧!B145)","v":""},{"$f":"IFERROR(CONCATENATE(VLOOKUP(競技者一覧!K145,種目コード一覧!$A$1:$C$51,2,FALSE),\" \",REPT(\"0\",VLOOKUP(競技者一覧!K145,種目コード一覧!$A$1:$C$51,3,FALSE)-LEN(競技者一覧!L145)),競技者一覧!L145),\"\")","v":""},{"$f":"IFERROR(CONCATENATE(VLOOKUP(競技者一覧!M145,種目コード一覧!$A$1:$C$51,2,FALSE),\" \",REPT(\"0\",VLOOKUP(競技者一覧!M145,種目コード一覧!$A$1:$C$51,3,FALSE)-LEN(競技者一覧!N145)),競技者一覧!N145),\"\")","v":""},{"$f":"IFERROR(CONCATENATE(VLOOKUP(競技者一覧!O145,種目コード一覧!$A$1:$C$51,2,FALSE),\" \",REPT(\"0\",VLOOKUP(競技者一覧!O145,種目コード一覧!$A$1:$C$51,3,FALSE)-LEN(競技者一覧!P145)),競技者一覧!P145),\"\")","v":""},{"$f":"IFERROR(CONCATENATE(VLOOKUP(競技者一覧!Q145,種目コード一覧!$A$1:$C$51,2,FALSE),\" \",REPT(\"0\",VLOOKUP(競技者一覧!Q145,種目コード一覧!$A$1:$C$51,3,FALSE)-LEN(競技者一覧!R145)),競技者一覧!R145),\"\")","v":""},{"$f":"IFERROR(CONCATENATE(VLOOKUP(競技者一覧!S145,種目コード一覧!$A$1:$C$51,2,FALSE),\" \",REPT(\"0\",VLOOKUP(競技者一覧!S145,種目コード一覧!$A$1:$C$51,3,FALSE)-LEN(競技者一覧!T145)),競技者一覧!T145),\"\")","v":""},{"$f":"IFERROR(CONCATENATE(VLOOKUP(競技者一覧!U145,種目コード一覧!$A$1:$C$51,2,FALSE),\" \",REPT(\"0\",VLOOKUP(競技者一覧!U145,種目コード一覧!$A$1:$C$51,3,FALSE)-LEN(競技者一覧!V145)),競技者一覧!V145),\"\")","v":""},{"$f":"IFERROR(CONCATENATE(VLOOKUP(競技者一覧!W145,種目コード一覧!$A$1:$C$51,2,FALSE),\" \",REPT(\"0\",VLOOKUP(競技者一覧!W145,種目コード一覧!$A$1:$C$51,3,FALSE)-LEN(競技者一覧!X145)),競技者一覧!X145),\"\")","v":""},{"$f":"IFERROR(CONCATENATE(VLOOKUP(競技者一覧!Y145,種目コード一覧!$A$1:$C$51,2,FALSE),\" \",REPT(\"0\",VLOOKUP(競技者一覧!Y145,種目コード一覧!$A$1:$C$51,3,FALSE)-LEN(競技者一覧!Z145)),競技者一覧!Z145),\"\")","v":""}]
[{"$f":"IFERROR(CONCATENATE(競技者一覧!$D$7), \"\")","v":""},{"$f":"IFERROR(CONCATENATE($H$2,Sheet4!B126),\"\")","v":""},{"$f":"競技者一覧!C146&IF(OR(競技者一覧!H146=\"\",競技者一覧!H146=9),\"\",\"(\" & 競技者一覧!H146 & \")\")","v":""},{"$f":"ASC(競技者一覧!D146 &IF(OR(MID(競技者一覧!G146,3,2)=\"\", MID(競技者一覧!G146,3,2)=\"0\"),\"\",\"(\" & MID(競技者一覧!G146,3,2) & \")\"))","v":""},{"$f":"ASC(競技者一覧!E146 & \" \" & 競技者一覧!F146 & IF(OR(MID(競技者一覧!G146,3,2)=\"\", MID(競技者一覧!G146,3,2)=\"0\"),\"\",\"(\" & MID(競技者一覧!G146,3,2) & \")\"))","v":" "},{"$f":"CONCATENATE(競技者一覧!I146)","v":""},{"$f":"IFERROR(IF(競技者一覧!$D$6=\"学連\",VLOOKUP(競技者一覧!J146,Sheet4!$D$2:$E$48,2,FALSE),学校名簿!D126),\"\")","v":0},{"$f":"IFERROR(VLOOKUP(競技者一覧!$D$7,学校番号表!$B$2:$C$65536,2,FALSE),\"\")","v":""},{"$f":"CONCATENATE(競技者一覧!B146)","v":""},{"$f":"IFERROR(CONCATENATE(VLOOKUP(競技者一覧!K146,種目コード一覧!$A$1:$B$51,2,FALSE),\" \",REPT(\"0\",VLOOKUP(競技者一覧!K146,種目コード一覧!$A$1:$C$51,3,FALSE)-LEN(競技者一覧!L146)),競技者一覧!L146),\"\")","v":""},{"$f":"IFERROR(CONCATENATE(VLOOKUP(競技者一覧!M146,種目コード一覧!$A$1:$C$51,2,FALSE),\" \",REPT(\"0\",VLOOKUP(競技者一覧!M146,種目コード一覧!$A$1:$C$51,3,FALSE)-LEN(競技者一覧!N146)),競技者一覧!N146),\"\")","v":""},{"$f":"IFERROR(CONCATENATE(VLOOKUP(競技者一覧!O146,種目コード一覧!$A$1:$C$51,2,FALSE),\" \",REPT(\"0\",VLOOKUP(競技者一覧!O146,種目コード一覧!$A$1:$C$51,3,FALSE)-LEN(競技者一覧!P146)),競技者一覧!P146),\"\")","v":""},{"$f":"IFERROR(CONCATENATE(VLOOKUP(競技者一覧!Q146,種目コード一覧!$A$1:$C$51,2,FALSE),\" \",REPT(\"0\",VLOOKUP(競技者一覧!Q146,種目コード一覧!$A$1:$C$51,3,FALSE)-LEN(競技者一覧!R146)),競技者一覧!R146),\"\")","v":""},{"$f":"IFERROR(CONCATENATE(VLOOKUP(競技者一覧!S146,種目コード一覧!$A$1:$C$51,2,FALSE),\" \",REPT(\"0\",VLOOKUP(競技者一覧!S146,種目コード一覧!$A$1:$C$51,3,FALSE)-LEN(競技者一覧!T146)),競技者一覧!T146),\"\")","v":""},{"$f":"IFERROR(CONCATENATE(VLOOKUP(競技者一覧!U146,種目コード一覧!$A$1:$C$51,2,FALSE),\" \",REPT(\"0\",VLOOKUP(競技者一覧!U146,種目コード一覧!$A$1:$C$51,3,FALSE)-LEN(競技者一覧!V146)),競技者一覧!V146),\"\")","v":""},{"$f":"IFERROR(CONCATENATE(VLOOKUP(競技者一覧!W146,種目コード一覧!$A$1:$C$51,2,FALSE),\" \",REPT(\"0\",VLOOKUP(競技者一覧!W146,種目コード一覧!$A$1:$C$51,3,FALSE)-LEN(競技者一覧!X146)),競技者一覧!X146),\"\")","v":""},{"$f":"IFERROR(CONCATENATE(VLOOKUP(競技者一覧!Y146,種目コード一覧!$A$1:$C$51,2,FALSE),\" \",REPT(\"0\",VLOOKUP(競技者一覧!Y146,種目コード一覧!$A$1:$C$51,3,FALSE)-LEN(競技者一覧!Z146)),競技者一覧!Z146),\"\")","v":""}]
[{"$f":"IFERROR(CONCATENATE(競技者一覧!$D$7), \"\")","v":""},{"$f":"IFERROR(CONCATENATE($H$2,Sheet4!B127),\"\")","v":""},{"$f":"競技者一覧!C147&IF(OR(競技者一覧!H147=\"\",競技者一覧!H147=9),\"\",\"(\" & 競技者一覧!H147 & \")\")","v":""},{"$f":"競技者一覧!D147 &IF(OR(MID(競技者一覧!G147,3,2)=\"\", MID(競技者一覧!G147,3,2)=\"0\"),\"\",\"(\" & MID(競技者一覧!G147,3,2) & \")\")","v":""},{"$f":"ASC(競技者一覧!E147 & \" \" & 競技者一覧!F147 & IF(OR(MID(競技者一覧!G147,3,2)=\"\", MID(競技者一覧!G147,3,2)=\"0\"),\"\",\"(\" & MID(競技者一覧!G147,3,2) & \")\"))","v":" "},{"$f":"CONCATENATE(競技者一覧!I147)","v":""},{"$f":"IFERROR(IF(競技者一覧!$D$6=\"学連\",VLOOKUP(競技者一覧!J147,Sheet4!$D$2:$E$48,2,FALSE),学校名簿!D127),\"\")","v":0},{"$f":"IFERROR(VLOOKUP(競技者一覧!$D$7,学校番号表!$B$2:$C$65536,2,FALSE),\"\")","v":""},{"$f":"CONCATENATE(競技者一覧!B147)","v":""},{"$f":"IFERROR(CONCATENATE(VLOOKUP(競技者一覧!K147,種目コード一覧!$A$1:$C$51,2,FALSE),\" \",REPT(\"0\",VLOOKUP(競技者一覧!K147,種目コード一覧!$A$1:$C$51,3,FALSE)-LEN(競技者一覧!L147)),競技者一覧!L147),\"\")","v":""},{"$f":"IFERROR(CONCATENATE(VLOOKUP(競技者一覧!M147,種目コード一覧!$A$1:$C$51,2,FALSE),\" \",REPT(\"0\",VLOOKUP(競技者一覧!M147,種目コード一覧!$A$1:$C$51,3,FALSE)-LEN(競技者一覧!N147)),競技者一覧!N147),\"\")","v":""},{"$f":"IFERROR(CONCATENATE(VLOOKUP(競技者一覧!O147,種目コード一覧!$A$1:$C$51,2,FALSE),\" \",REPT(\"0\",VLOOKUP(競技者一覧!O147,種目コード一覧!$A$1:$C$51,3,FALSE)-LEN(競技者一覧!P147)),競技者一覧!P147),\"\")","v":""},{"$f":"IFERROR(CONCATENATE(VLOOKUP(競技者一覧!Q147,種目コード一覧!$A$1:$C$51,2,FALSE),\" \",REPT(\"0\",VLOOKUP(競技者一覧!Q147,種目コード一覧!$A$1:$C$51,3,FALSE)-LEN(競技者一覧!R147)),競技者一覧!R147),\"\")","v":""},{"$f":"IFERROR(CONCATENATE(VLOOKUP(競技者一覧!S147,種目コード一覧!$A$1:$C$51,2,FALSE),\" \",REPT(\"0\",VLOOKUP(競技者一覧!S147,種目コード一覧!$A$1:$C$51,3,FALSE)-LEN(競技者一覧!T147)),競技者一覧!T147),\"\")","v":""},{"$f":"IFERROR(CONCATENATE(VLOOKUP(競技者一覧!U147,種目コード一覧!$A$1:$C$51,2,FALSE),\" \",REPT(\"0\",VLOOKUP(競技者一覧!U147,種目コード一覧!$A$1:$C$51,3,FALSE)-LEN(競技者一覧!V147)),競技者一覧!V147),\"\")","v":""},{"$f":"IFERROR(CONCATENATE(VLOOKUP(競技者一覧!W147,種目コード一覧!$A$1:$C$51,2,FALSE),\" \",REPT(\"0\",VLOOKUP(競技者一覧!W147,種目コード一覧!$A$1:$C$51,3,FALSE)-LEN(競技者一覧!X147)),競技者一覧!X147),\"\")","v":""},{"$f":"IFERROR(CONCATENATE(VLOOKUP(競技者一覧!Y147,種目コード一覧!$A$1:$C$51,2,FALSE),\" \",REPT(\"0\",VLOOKUP(競技者一覧!Y147,種目コード一覧!$A$1:$C$51,3,FALSE)-LEN(競技者一覧!Z147)),競技者一覧!Z147),\"\")","v":""}]
[{"$f":"IFERROR(CONCATENATE(競技者一覧!$D$7), \"\")","v":""},{"$f":"IFERROR(CONCATENATE($H$2,Sheet4!B128),\"\")","v":""},{"$f":"競技者一覧!C148&IF(OR(競技者一覧!H148=\"\",競技者一覧!H148=9),\"\",\"(\" & 競技者一覧!H148 & \")\")","v":""},{"$f":"ASC(競技者一覧!D148 &IF(OR(MID(競技者一覧!G148,3,2)=\"\", MID(競技者一覧!G148,3,2)=\"0\"),\"\",\"(\" & MID(競技者一覧!G148,3,2) & \")\"))","v":""},{"$f":"ASC(競技者一覧!E148 & \" \" & 競技者一覧!F148 & IF(OR(MID(競技者一覧!G148,3,2)=\"\", MID(競技者一覧!G148,3,2)=\"0\"),\"\",\"(\" & MID(競技者一覧!G148,3,2) & \")\"))","v":" "},{"$f":"CONCATENATE(競技者一覧!I148)","v":""},{"$f":"IFERROR(IF(競技者一覧!$D$6=\"学連\",VLOOKUP(競技者一覧!J148,Sheet4!$D$2:$E$48,2,FALSE),学校名簿!D128),\"\")","v":0},{"$f":"IFERROR(VLOOKUP(競技者一覧!$D$7,学校番号表!$B$2:$C$65536,2,FALSE),\"\")","v":""},{"$f":"CONCATENATE(競技者一覧!B148)","v":""},{"$f":"IFERROR(CONCATENATE(VLOOKUP(競技者一覧!K148,種目コード一覧!$A$1:$B$51,2,FALSE),\" \",REPT(\"0\",VLOOKUP(競技者一覧!K148,種目コード一覧!$A$1:$C$51,3,FALSE)-LEN(競技者一覧!L148)),競技者一覧!L148),\"\")","v":""},{"$f":"IFERROR(CONCATENATE(VLOOKUP(競技者一覧!M148,種目コード一覧!$A$1:$C$51,2,FALSE),\" \",REPT(\"0\",VLOOKUP(競技者一覧!M148,種目コード一覧!$A$1:$C$51,3,FALSE)-LEN(競技者一覧!N148)),競技者一覧!N148),\"\")","v":""},{"$f":"IFERROR(CONCATENATE(VLOOKUP(競技者一覧!O148,種目コード一覧!$A$1:$C$51,2,FALSE),\" \",REPT(\"0\",VLOOKUP(競技者一覧!O148,種目コード一覧!$A$1:$C$51,3,FALSE)-LEN(競技者一覧!P148)),競技者一覧!P148),\"\")","v":""},{"$f":"IFERROR(CONCATENATE(VLOOKUP(競技者一覧!Q148,種目コード一覧!$A$1:$C$51,2,FALSE),\" \",REPT(\"0\",VLOOKUP(競技者一覧!Q148,種目コード一覧!$A$1:$C$51,3,FALSE)-LEN(競技者一覧!R148)),競技者一覧!R148),\"\")","v":""},{"$f":"IFERROR(CONCATENATE(VLOOKUP(競技者一覧!S148,種目コード一覧!$A$1:$C$51,2,FALSE),\" \",REPT(\"0\",VLOOKUP(競技者一覧!S148,種目コード一覧!$A$1:$C$51,3,FALSE)-LEN(競技者一覧!T148)),競技者一覧!T148),\"\")","v":""},{"$f":"IFERROR(CONCATENATE(VLOOKUP(競技者一覧!U148,種目コード一覧!$A$1:$C$51,2,FALSE),\" \",REPT(\"0\",VLOOKUP(競技者一覧!U148,種目コード一覧!$A$1:$C$51,3,FALSE)-LEN(競技者一覧!V148)),競技者一覧!V148),\"\")","v":""},{"$f":"IFERROR(CONCATENATE(VLOOKUP(競技者一覧!W148,種目コード一覧!$A$1:$C$51,2,FALSE),\" \",REPT(\"0\",VLOOKUP(競技者一覧!W148,種目コード一覧!$A$1:$C$51,3,FALSE)-LEN(競技者一覧!X148)),競技者一覧!X148),\"\")","v":""},{"$f":"IFERROR(CONCATENATE(VLOOKUP(競技者一覧!Y148,種目コード一覧!$A$1:$C$51,2,FALSE),\" \",REPT(\"0\",VLOOKUP(競技者一覧!Y148,種目コード一覧!$A$1:$C$51,3,FALSE)-LEN(競技者一覧!Z148)),競技者一覧!Z148),\"\")","v":""}]
[{"$f":"IFERROR(CONCATENATE(競技者一覧!$D$7), \"\")","v":""},{"$f":"IFERROR(CONCATENATE($H$2,Sheet4!B129),\"\")","v":""},{"$f":"競技者一覧!C149&IF(OR(競技者一覧!H149=\"\",競技者一覧!H149=9),\"\",\"(\" & 競技者一覧!H149 & \")\")","v":""},{"$f":"競技者一覧!D149 &IF(OR(MID(競技者一覧!G149,3,2)=\"\", MID(競技者一覧!G149,3,2)=\"0\"),\"\",\"(\" & MID(競技者一覧!G149,3,2) & \")\")","v":""},{"$f":"ASC(競技者一覧!E149 & \" \" & 競技者一覧!F149 & IF(OR(MID(競技者一覧!G149,3,2)=\"\", MID(競技者一覧!G149,3,2)=\"0\"),\"\",\"(\" & MID(競技者一覧!G149,3,2) & \")\"))","v":" "},{"$f":"CONCATENATE(競技者一覧!I149)","v":""},{"$f":"IFERROR(IF(競技者一覧!$D$6=\"学連\",VLOOKUP(競技者一覧!J149,Sheet4!$D$2:$E$48,2,FALSE),学校名簿!D129),\"\")","v":0},{"$f":"IFERROR(VLOOKUP(競技者一覧!$D$7,学校番号表!$B$2:$C$65536,2,FALSE),\"\")","v":""},{"$f":"CONCATENATE(競技者一覧!B149)","v":""},{"$f":"IFERROR(CONCATENATE(VLOOKUP(競技者一覧!K149,種目コード一覧!$A$1:$C$51,2,FALSE),\" \",REPT(\"0\",VLOOKUP(競技者一覧!K149,種目コード一覧!$A$1:$C$51,3,FALSE)-LEN(競技者一覧!L149)),競技者一覧!L149),\"\")","v":""},{"$f":"IFERROR(CONCATENATE(VLOOKUP(競技者一覧!M149,種目コード一覧!$A$1:$C$51,2,FALSE),\" \",REPT(\"0\",VLOOKUP(競技者一覧!M149,種目コード一覧!$A$1:$C$51,3,FALSE)-LEN(競技者一覧!N149)),競技者一覧!N149),\"\")","v":""},{"$f":"IFERROR(CONCATENATE(VLOOKUP(競技者一覧!O149,種目コード一覧!$A$1:$C$51,2,FALSE),\" \",REPT(\"0\",VLOOKUP(競技者一覧!O149,種目コード一覧!$A$1:$C$51,3,FALSE)-LEN(競技者一覧!P149)),競技者一覧!P149),\"\")","v":""},{"$f":"IFERROR(CONCATENATE(VLOOKUP(競技者一覧!Q149,種目コード一覧!$A$1:$C$51,2,FALSE),\" \",REPT(\"0\",VLOOKUP(競技者一覧!Q149,種目コード一覧!$A$1:$C$51,3,FALSE)-LEN(競技者一覧!R149)),競技者一覧!R149),\"\")","v":""},{"$f":"IFERROR(CONCATENATE(VLOOKUP(競技者一覧!S149,種目コード一覧!$A$1:$C$51,2,FALSE),\" \",REPT(\"0\",VLOOKUP(競技者一覧!S149,種目コード一覧!$A$1:$C$51,3,FALSE)-LEN(競技者一覧!T149)),競技者一覧!T149),\"\")","v":""},{"$f":"IFERROR(CONCATENATE(VLOOKUP(競技者一覧!U149,種目コード一覧!$A$1:$C$51,2,FALSE),\" \",REPT(\"0\",VLOOKUP(競技者一覧!U149,種目コード一覧!$A$1:$C$51,3,FALSE)-LEN(競技者一覧!V149)),競技者一覧!V149),\"\")","v":""},{"$f":"IFERROR(CONCATENATE(VLOOKUP(競技者一覧!W149,種目コード一覧!$A$1:$C$51,2,FALSE),\" \",REPT(\"0\",VLOOKUP(競技者一覧!W149,種目コード一覧!$A$1:$C$51,3,FALSE)-LEN(競技者一覧!X149)),競技者一覧!X149),\"\")","v":""},{"$f":"IFERROR(CONCATENATE(VLOOKUP(競技者一覧!Y149,種目コード一覧!$A$1:$C$51,2,FALSE),\" \",REPT(\"0\",VLOOKUP(競技者一覧!Y149,種目コード一覧!$A$1:$C$51,3,FALSE)-LEN(競技者一覧!Z149)),競技者一覧!Z149),\"\")","v":""}]
[{"$f":"IFERROR(CONCATENATE(競技者一覧!$D$7), \"\")","v":""},{"$f":"IFERROR(CONCATENATE($H$2,Sheet4!B130),\"\")","v":""},{"$f":"競技者一覧!C150&IF(OR(競技者一覧!H150=\"\",競技者一覧!H150=9),\"\",\"(\" & 競技者一覧!H150 & \")\")","v":""},{"$f":"ASC(競技者一覧!D150 &IF(OR(MID(競技者一覧!G150,3,2)=\"\", MID(競技者一覧!G150,3,2)=\"0\"),\"\",\"(\" & MID(競技者一覧!G150,3,2) & \")\"))","v":""},{"$f":"ASC(競技者一覧!E150 & \" \" & 競技者一覧!F150 & IF(OR(MID(競技者一覧!G150,3,2)=\"\", MID(競技者一覧!G150,3,2)=\"0\"),\"\",\"(\" & MID(競技者一覧!G150,3,2) & \")\"))","v":" "},{"$f":"CONCATENATE(競技者一覧!I150)","v":""},{"$f":"IFERROR(IF(競技者一覧!$D$6=\"学連\",VLOOKUP(競技者一覧!J150,Sheet4!$D$2:$E$48,2,FALSE),学校名簿!D130),\"\")","v":0},{"$f":"IFERROR(VLOOKUP(競技者一覧!$D$7,学校番号表!$B$2:$C$65536,2,FALSE),\"\")","v":""},{"$f":"CONCATENATE(競技者一覧!B150)","v":""},{"$f":"IFERROR(CONCATENATE(VLOOKUP(競技者一覧!K150,種目コード一覧!$A$1:$B$51,2,FALSE),\" \",REPT(\"0\",VLOOKUP(競技者一覧!K150,種目コード一覧!$A$1:$C$51,3,FALSE)-LEN(競技者一覧!L150)),競技者一覧!L150),\"\")","v":""},{"$f":"IFERROR(CONCATENATE(VLOOKUP(競技者一覧!M150,種目コード一覧!$A$1:$C$51,2,FALSE),\" \",REPT(\"0\",VLOOKUP(競技者一覧!M150,種目コード一覧!$A$1:$C$51,3,FALSE)-LEN(競技者一覧!N150)),競技者一覧!N150),\"\")","v":""},{"$f":"IFERROR(CONCATENATE(VLOOKUP(競技者一覧!O150,種目コード一覧!$A$1:$C$51,2,FALSE),\" \",REPT(\"0\",VLOOKUP(競技者一覧!O150,種目コード一覧!$A$1:$C$51,3,FALSE)-LEN(競技者一覧!P150)),競技者一覧!P150),\"\")","v":""},{"$f":"IFERROR(CONCATENATE(VLOOKUP(競技者一覧!Q150,種目コード一覧!$A$1:$C$51,2,FALSE),\" \",REPT(\"0\",VLOOKUP(競技者一覧!Q150,種目コード一覧!$A$1:$C$51,3,FALSE)-LEN(競技者一覧!R150)),競技者一覧!R150),\"\")","v":""},{"$f":"IFERROR(CONCATENATE(VLOOKUP(競技者一覧!S150,種目コード一覧!$A$1:$C$51,2,FALSE),\" \",REPT(\"0\",VLOOKUP(競技者一覧!S150,種目コード一覧!$A$1:$C$51,3,FALSE)-LEN(競技者一覧!T150)),競技者一覧!T150),\"\")","v":""},{"$f":"IFERROR(CONCATENATE(VLOOKUP(競技者一覧!U150,種目コード一覧!$A$1:$C$51,2,FALSE),\" \",REPT(\"0\",VLOOKUP(競技者一覧!U150,種目コード一覧!$A$1:$C$51,3,FALSE)-LEN(競技者一覧!V150)),競技者一覧!V150),\"\")","v":""},{"$f":"IFERROR(CONCATENATE(VLOOKUP(競技者一覧!W150,種目コード一覧!$A$1:$C$51,2,FALSE),\" \",REPT(\"0\",VLOOKUP(競技者一覧!W150,種目コード一覧!$A$1:$C$51,3,FALSE)-LEN(競技者一覧!X150)),競技者一覧!X150),\"\")","v":""},{"$f":"IFERROR(CONCATENATE(VLOOKUP(競技者一覧!Y150,種目コード一覧!$A$1:$C$51,2,FALSE),\" \",REPT(\"0\",VLOOKUP(競技者一覧!Y150,種目コード一覧!$A$1:$C$51,3,FALSE)-LEN(競技者一覧!Z150)),競技者一覧!Z150),\"\")","v":""}]
[{"$f":"IFERROR(CONCATENATE(競技者一覧!$D$7), \"\")","v":""},{"$f":"IFERROR(CONCATENATE($H$2,Sheet4!B131),\"\")","v":""},{"$f":"競技者一覧!C151&IF(OR(競技者一覧!H151=\"\",競技者一覧!H151=9),\"\",\"(\" & 競技者一覧!H151 & \")\")","v":""},{"$f":"競技者一覧!D151 &IF(OR(MID(競技者一覧!G151,3,2)=\"\", MID(競技者一覧!G151,3,2)=\"0\"),\"\",\"(\" & MID(競技者一覧!G151,3,2) & \")\")","v":""},{"$f":"ASC(競技者一覧!E151 & \" \" & 競技者一覧!F151 & IF(OR(MID(競技者一覧!G151,3,2)=\"\", MID(競技者一覧!G151,3,2)=\"0\"),\"\",\"(\" & MID(競技者一覧!G151,3,2) & \")\"))","v":" "},{"$f":"CONCATENATE(競技者一覧!I151)","v":""},{"$f":"IFERROR(IF(競技者一覧!$D$6=\"学連\",VLOOKUP(競技者一覧!J151,Sheet4!$D$2:$E$48,2,FALSE),学校名簿!D131),\"\")","v":0},{"$f":"IFERROR(VLOOKUP(競技者一覧!$D$7,学校番号表!$B$2:$C$65536,2,FALSE),\"\")","v":""},{"$f":"CONCATENATE(競技者一覧!B151)","v":""},{"$f":"IFERROR(CONCATENATE(VLOOKUP(競技者一覧!K151,種目コード一覧!$A$1:$C$51,2,FALSE),\" \",REPT(\"0\",VLOOKUP(競技者一覧!K151,種目コード一覧!$A$1:$C$51,3,FALSE)-LEN(競技者一覧!L151)),競技者一覧!L151),\"\")","v":""},{"$f":"IFERROR(CONCATENATE(VLOOKUP(競技者一覧!M151,種目コード一覧!$A$1:$C$51,2,FALSE),\" \",REPT(\"0\",VLOOKUP(競技者一覧!M151,種目コード一覧!$A$1:$C$51,3,FALSE)-LEN(競技者一覧!N151)),競技者一覧!N151),\"\")","v":""},{"$f":"IFERROR(CONCATENATE(VLOOKUP(競技者一覧!O151,種目コード一覧!$A$1:$C$51,2,FALSE),\" \",REPT(\"0\",VLOOKUP(競技者一覧!O151,種目コード一覧!$A$1:$C$51,3,FALSE)-LEN(競技者一覧!P151)),競技者一覧!P151),\"\")","v":""},{"$f":"IFERROR(CONCATENATE(VLOOKUP(競技者一覧!Q151,種目コード一覧!$A$1:$C$51,2,FALSE),\" \",REPT(\"0\",VLOOKUP(競技者一覧!Q151,種目コード一覧!$A$1:$C$51,3,FALSE)-LEN(競技者一覧!R151)),競技者一覧!R151),\"\")","v":""},{"$f":"IFERROR(CONCATENATE(VLOOKUP(競技者一覧!S151,種目コード一覧!$A$1:$C$51,2,FALSE),\" \",REPT(\"0\",VLOOKUP(競技者一覧!S151,種目コード一覧!$A$1:$C$51,3,FALSE)-LEN(競技者一覧!T151)),競技者一覧!T151),\"\")","v":""},{"$f":"IFERROR(CONCATENATE(VLOOKUP(競技者一覧!U151,種目コード一覧!$A$1:$C$51,2,FALSE),\" \",REPT(\"0\",VLOOKUP(競技者一覧!U151,種目コード一覧!$A$1:$C$51,3,FALSE)-LEN(競技者一覧!V151)),競技者一覧!V151),\"\")","v":""},{"$f":"IFERROR(CONCATENATE(VLOOKUP(競技者一覧!W151,種目コード一覧!$A$1:$C$51,2,FALSE),\" \",REPT(\"0\",VLOOKUP(競技者一覧!W151,種目コード一覧!$A$1:$C$51,3,FALSE)-LEN(競技者一覧!X151)),競技者一覧!X151),\"\")","v":""},{"$f":"IFERROR(CONCATENATE(VLOOKUP(競技者一覧!Y151,種目コード一覧!$A$1:$C$51,2,FALSE),\" \",REPT(\"0\",VLOOKUP(競技者一覧!Y151,種目コード一覧!$A$1:$C$51,3,FALSE)-LEN(競技者一覧!Z151)),競技者一覧!Z151),\"\")","v":""}]
[{"$f":"IFERROR(CONCATENATE(競技者一覧!$D$7), \"\")","v":""},{"$f":"IFERROR(CONCATENATE($H$2,Sheet4!B132),\"\")","v":""},{"$f":"競技者一覧!C152&IF(OR(競技者一覧!H152=\"\",競技者一覧!H152=9),\"\",\"(\" & 競技者一覧!H152 & \")\")","v":""},{"$f":"ASC(競技者一覧!D152 &IF(OR(MID(競技者一覧!G152,3,2)=\"\", MID(競技者一覧!G152,3,2)=\"0\"),\"\",\"(\" & MID(競技者一覧!G152,3,2) & \")\"))","v":""},{"$f":"ASC(競技者一覧!E152 & \" \" & 競技者一覧!F152 & IF(OR(MID(競技者一覧!G152,3,2)=\"\", MID(競技者一覧!G152,3,2)=\"0\"),\"\",\"(\" & MID(競技者一覧!G152,3,2) & \")\"))","v":" "},{"$f":"CONCATENATE(競技者一覧!I152)","v":""},{"$f":"IFERROR(IF(競技者一覧!$D$6=\"学連\",VLOOKUP(競技者一覧!J152,Sheet4!$D$2:$E$48,2,FALSE),学校名簿!D132),\"\")","v":0},{"$f":"IFERROR(VLOOKUP(競技者一覧!$D$7,学校番号表!$B$2:$C$65536,2,FALSE),\"\")","v":""},{"$f":"CONCATENATE(競技者一覧!B152)","v":""},{"$f":"IFERROR(CONCATENATE(VLOOKUP(競技者一覧!K152,種目コード一覧!$A$1:$B$51,2,FALSE),\" \",REPT(\"0\",VLOOKUP(競技者一覧!K152,種目コード一覧!$A$1:$C$51,3,FALSE)-LEN(競技者一覧!L152)),競技者一覧!L152),\"\")","v":""},{"$f":"IFERROR(CONCATENATE(VLOOKUP(競技者一覧!M152,種目コード一覧!$A$1:$C$51,2,FALSE),\" \",REPT(\"0\",VLOOKUP(競技者一覧!M152,種目コード一覧!$A$1:$C$51,3,FALSE)-LEN(競技者一覧!N152)),競技者一覧!N152),\"\")","v":""},{"$f":"IFERROR(CONCATENATE(VLOOKUP(競技者一覧!O152,種目コード一覧!$A$1:$C$51,2,FALSE),\" \",REPT(\"0\",VLOOKUP(競技者一覧!O152,種目コード一覧!$A$1:$C$51,3,FALSE)-LEN(競技者一覧!P152)),競技者一覧!P152),\"\")","v":""},{"$f":"IFERROR(CONCATENATE(VLOOKUP(競技者一覧!Q152,種目コード一覧!$A$1:$C$51,2,FALSE),\" \",REPT(\"0\",VLOOKUP(競技者一覧!Q152,種目コード一覧!$A$1:$C$51,3,FALSE)-LEN(競技者一覧!R152)),競技者一覧!R152),\"\")","v":""},{"$f":"IFERROR(CONCATENATE(VLOOKUP(競技者一覧!S152,種目コード一覧!$A$1:$C$51,2,FALSE),\" \",REPT(\"0\",VLOOKUP(競技者一覧!S152,種目コード一覧!$A$1:$C$51,3,FALSE)-LEN(競技者一覧!T152)),競技者一覧!T152),\"\")","v":""},{"$f":"IFERROR(CONCATENATE(VLOOKUP(競技者一覧!U152,種目コード一覧!$A$1:$C$51,2,FALSE),\" \",REPT(\"0\",VLOOKUP(競技者一覧!U152,種目コード一覧!$A$1:$C$51,3,FALSE)-LEN(競技者一覧!V152)),競技者一覧!V152),\"\")","v":""},{"$f":"IFERROR(CONCATENATE(VLOOKUP(競技者一覧!W152,種目コード一覧!$A$1:$C$51,2,FALSE),\" \",REPT(\"0\",VLOOKUP(競技者一覧!W152,種目コード一覧!$A$1:$C$51,3,FALSE)-LEN(競技者一覧!X152)),競技者一覧!X152),\"\")","v":""},{"$f":"IFERROR(CONCATENATE(VLOOKUP(競技者一覧!Y152,種目コード一覧!$A$1:$C$51,2,FALSE),\" \",REPT(\"0\",VLOOKUP(競技者一覧!Y152,種目コード一覧!$A$1:$C$51,3,FALSE)-LEN(競技者一覧!Z152)),競技者一覧!Z152),\"\")","v":""}]
[{"$f":"IFERROR(CONCATENATE(競技者一覧!$D$7), \"\")","v":""},{"$f":"IFERROR(CONCATENATE($H$2,Sheet4!B133),\"\")","v":""},{"$f":"競技者一覧!C153&IF(OR(競技者一覧!H153=\"\",競技者一覧!H153=9),\"\",\"(\" & 競技者一覧!H153 & \")\")","v":""},{"$f":"競技者一覧!D153 &IF(OR(MID(競技者一覧!G153,3,2)=\"\", MID(競技者一覧!G153,3,2)=\"0\"),\"\",\"(\" & MID(競技者一覧!G153,3,2) & \")\")","v":""},{"$f":"ASC(競技者一覧!E153 & \" \" & 競技者一覧!F153 & IF(OR(MID(競技者一覧!G153,3,2)=\"\", MID(競技者一覧!G153,3,2)=\"0\"),\"\",\"(\" & MID(競技者一覧!G153,3,2) & \")\"))","v":" "},{"$f":"CONCATENATE(競技者一覧!I153)","v":""},{"$f":"IFERROR(IF(競技者一覧!$D$6=\"学連\",VLOOKUP(競技者一覧!J153,Sheet4!$D$2:$E$48,2,FALSE),学校名簿!D133),\"\")","v":0},{"$f":"IFERROR(VLOOKUP(競技者一覧!$D$7,学校番号表!$B$2:$C$65536,2,FALSE),\"\")","v":""},{"$f":"CONCATENATE(競技者一覧!B153)","v":""},{"$f":"IFERROR(CONCATENATE(VLOOKUP(競技者一覧!K153,種目コード一覧!$A$1:$C$51,2,FALSE),\" \",REPT(\"0\",VLOOKUP(競技者一覧!K153,種目コード一覧!$A$1:$C$51,3,FALSE)-LEN(競技者一覧!L153)),競技者一覧!L153),\"\")","v":""},{"$f":"IFERROR(CONCATENATE(VLOOKUP(競技者一覧!M153,種目コード一覧!$A$1:$C$51,2,FALSE),\" \",REPT(\"0\",VLOOKUP(競技者一覧!M153,種目コード一覧!$A$1:$C$51,3,FALSE)-LEN(競技者一覧!N153)),競技者一覧!N153),\"\")","v":""},{"$f":"IFERROR(CONCATENATE(VLOOKUP(競技者一覧!O153,種目コード一覧!$A$1:$C$51,2,FALSE),\" \",REPT(\"0\",VLOOKUP(競技者一覧!O153,種目コード一覧!$A$1:$C$51,3,FALSE)-LEN(競技者一覧!P153)),競技者一覧!P153),\"\")","v":""},{"$f":"IFERROR(CONCATENATE(VLOOKUP(競技者一覧!Q153,種目コード一覧!$A$1:$C$51,2,FALSE),\" \",REPT(\"0\",VLOOKUP(競技者一覧!Q153,種目コード一覧!$A$1:$C$51,3,FALSE)-LEN(競技者一覧!R153)),競技者一覧!R153),\"\")","v":""},{"$f":"IFERROR(CONCATENATE(VLOOKUP(競技者一覧!S153,種目コード一覧!$A$1:$C$51,2,FALSE),\" \",REPT(\"0\",VLOOKUP(競技者一覧!S153,種目コード一覧!$A$1:$C$51,3,FALSE)-LEN(競技者一覧!T153)),競技者一覧!T153),\"\")","v":""},{"$f":"IFERROR(CONCATENATE(VLOOKUP(競技者一覧!U153,種目コード一覧!$A$1:$C$51,2,FALSE),\" \",REPT(\"0\",VLOOKUP(競技者一覧!U153,種目コード一覧!$A$1:$C$51,3,FALSE)-LEN(競技者一覧!V153)),競技者一覧!V153),\"\")","v":""},{"$f":"IFERROR(CONCATENATE(VLOOKUP(競技者一覧!W153,種目コード一覧!$A$1:$C$51,2,FALSE),\" \",REPT(\"0\",VLOOKUP(競技者一覧!W153,種目コード一覧!$A$1:$C$51,3,FALSE)-LEN(競技者一覧!X153)),競技者一覧!X153),\"\")","v":""},{"$f":"IFERROR(CONCATENATE(VLOOKUP(競技者一覧!Y153,種目コード一覧!$A$1:$C$51,2,FALSE),\" \",REPT(\"0\",VLOOKUP(競技者一覧!Y153,種目コード一覧!$A$1:$C$51,3,FALSE)-LEN(競技者一覧!Z153)),競技者一覧!Z153),\"\")","v":""}]
[{"$f":"IFERROR(CONCATENATE(競技者一覧!$D$7), \"\")","v":""},{"$f":"IFERROR(CONCATENATE($H$2,Sheet4!B134),\"\")","v":""},{"$f":"競技者一覧!C154&IF(OR(競技者一覧!H154=\"\",競技者一覧!H154=9),\"\",\"(\" & 競技者一覧!H154 & \")\")","v":""},{"$f":"ASC(競技者一覧!D154 &IF(OR(MID(競技者一覧!G154,3,2)=\"\", MID(競技者一覧!G154,3,2)=\"0\"),\"\",\"(\" & MID(競技者一覧!G154,3,2) & \")\"))","v":""},{"$f":"ASC(競技者一覧!E154 & \" \" & 競技者一覧!F154 & IF(OR(MID(競技者一覧!G154,3,2)=\"\", MID(競技者一覧!G154,3,2)=\"0\"),\"\",\"(\" & MID(競技者一覧!G154,3,2) & \")\"))","v":" "},{"$f":"CONCATENATE(競技者一覧!I154)","v":""},{"$f":"IFERROR(IF(競技者一覧!$D$6=\"学連\",VLOOKUP(競技者一覧!J154,Sheet4!$D$2:$E$48,2,FALSE),学校名簿!D134),\"\")","v":0},{"$f":"IFERROR(VLOOKUP(競技者一覧!$D$7,学校番号表!$B$2:$C$65536,2,FALSE),\"\")","v":""},{"$f":"CONCATENATE(競技者一覧!B154)","v":""},{"$f":"IFERROR(CONCATENATE(VLOOKUP(競技者一覧!K154,種目コード一覧!$A$1:$B$51,2,FALSE),\" \",REPT(\"0\",VLOOKUP(競技者一覧!K154,種目コード一覧!$A$1:$C$51,3,FALSE)-LEN(競技者一覧!L154)),競技者一覧!L154),\"\")","v":""},{"$f":"IFERROR(CONCATENATE(VLOOKUP(競技者一覧!M154,種目コード一覧!$A$1:$C$51,2,FALSE),\" \",REPT(\"0\",VLOOKUP(競技者一覧!M154,種目コード一覧!$A$1:$C$51,3,FALSE)-LEN(競技者一覧!N154)),競技者一覧!N154),\"\")","v":""},{"$f":"IFERROR(CONCATENATE(VLOOKUP(競技者一覧!O154,種目コード一覧!$A$1:$C$51,2,FALSE),\" \",REPT(\"0\",VLOOKUP(競技者一覧!O154,種目コード一覧!$A$1:$C$51,3,FALSE)-LEN(競技者一覧!P154)),競技者一覧!P154),\"\")","v":""},{"$f":"IFERROR(CONCATENATE(VLOOKUP(競技者一覧!Q154,種目コード一覧!$A$1:$C$51,2,FALSE),\" \",REPT(\"0\",VLOOKUP(競技者一覧!Q154,種目コード一覧!$A$1:$C$51,3,FALSE)-LEN(競技者一覧!R154)),競技者一覧!R154),\"\")","v":""},{"$f":"IFERROR(CONCATENATE(VLOOKUP(競技者一覧!S154,種目コード一覧!$A$1:$C$51,2,FALSE),\" \",REPT(\"0\",VLOOKUP(競技者一覧!S154,種目コード一覧!$A$1:$C$51,3,FALSE)-LEN(競技者一覧!T154)),競技者一覧!T154),\"\")","v":""},{"$f":"IFERROR(CONCATENATE(VLOOKUP(競技者一覧!U154,種目コード一覧!$A$1:$C$51,2,FALSE),\" \",REPT(\"0\",VLOOKUP(競技者一覧!U154,種目コード一覧!$A$1:$C$51,3,FALSE)-LEN(競技者一覧!V154)),競技者一覧!V154),\"\")","v":""},{"$f":"IFERROR(CONCATENATE(VLOOKUP(競技者一覧!W154,種目コード一覧!$A$1:$C$51,2,FALSE),\" \",REPT(\"0\",VLOOKUP(競技者一覧!W154,種目コード一覧!$A$1:$C$51,3,FALSE)-LEN(競技者一覧!X154)),競技者一覧!X154),\"\")","v":""},{"$f":"IFERROR(CONCATENATE(VLOOKUP(競技者一覧!Y154,種目コード一覧!$A$1:$C$51,2,FALSE),\" \",REPT(\"0\",VLOOKUP(競技者一覧!Y154,種目コード一覧!$A$1:$C$51,3,FALSE)-LEN(競技者一覧!Z154)),競技者一覧!Z154),\"\")","v":""}]
[{"$f":"IFERROR(CONCATENATE(競技者一覧!$D$7), \"\")","v":""},{"$f":"IFERROR(CONCATENATE($H$2,Sheet4!B135),\"\")","v":""},{"$f":"競技者一覧!C155&IF(OR(競技者一覧!H155=\"\",競技者一覧!H155=9),\"\",\"(\" & 競技者一覧!H155 & \")\")","v":""},{"$f":"競技者一覧!D155 &IF(OR(MID(競技者一覧!G155,3,2)=\"\", MID(競技者一覧!G155,3,2)=\"0\"),\"\",\"(\" & MID(競技者一覧!G155,3,2) & \")\")","v":""},{"$f":"ASC(競技者一覧!E155 & \" \" & 競技者一覧!F155 & IF(OR(MID(競技者一覧!G155,3,2)=\"\", MID(競技者一覧!G155,3,2)=\"0\"),\"\",\"(\" & MID(競技者一覧!G155,3,2) & \")\"))","v":" "},{"$f":"CONCATENATE(競技者一覧!I155)","v":""},{"$f":"IFERROR(IF(競技者一覧!$D$6=\"学連\",VLOOKUP(競技者一覧!J155,Sheet4!$D$2:$E$48,2,FALSE),学校名簿!D135),\"\")","v":0},{"$f":"IFERROR(VLOOKUP(競技者一覧!$D$7,学校番号表!$B$2:$C$65536,2,FALSE),\"\")","v":""},{"$f":"CONCATENATE(競技者一覧!B155)","v":""},{"$f":"IFERROR(CONCATENATE(VLOOKUP(競技者一覧!K155,種目コード一覧!$A$1:$C$51,2,FALSE),\" \",REPT(\"0\",VLOOKUP(競技者一覧!K155,種目コード一覧!$A$1:$C$51,3,FALSE)-LEN(競技者一覧!L155)),競技者一覧!L155),\"\")","v":""},{"$f":"IFERROR(CONCATENATE(VLOOKUP(競技者一覧!M155,種目コード一覧!$A$1:$C$51,2,FALSE),\" \",REPT(\"0\",VLOOKUP(競技者一覧!M155,種目コード一覧!$A$1:$C$51,3,FALSE)-LEN(競技者一覧!N155)),競技者一覧!N155),\"\")","v":""},{"$f":"IFERROR(CONCATENATE(VLOOKUP(競技者一覧!O155,種目コード一覧!$A$1:$C$51,2,FALSE),\" \",REPT(\"0\",VLOOKUP(競技者一覧!O155,種目コード一覧!$A$1:$C$51,3,FALSE)-LEN(競技者一覧!P155)),競技者一覧!P155),\"\")","v":""},{"$f":"IFERROR(CONCATENATE(VLOOKUP(競技者一覧!Q155,種目コード一覧!$A$1:$C$51,2,FALSE),\" \",REPT(\"0\",VLOOKUP(競技者一覧!Q155,種目コード一覧!$A$1:$C$51,3,FALSE)-LEN(競技者一覧!R155)),競技者一覧!R155),\"\")","v":""},{"$f":"IFERROR(CONCATENATE(VLOOKUP(競技者一覧!S155,種目コード一覧!$A$1:$C$51,2,FALSE),\" \",REPT(\"0\",VLOOKUP(競技者一覧!S155,種目コード一覧!$A$1:$C$51,3,FALSE)-LEN(競技者一覧!T155)),競技者一覧!T155),\"\")","v":""},{"$f":"IFERROR(CONCATENATE(VLOOKUP(競技者一覧!U155,種目コード一覧!$A$1:$C$51,2,FALSE),\" \",REPT(\"0\",VLOOKUP(競技者一覧!U155,種目コード一覧!$A$1:$C$51,3,FALSE)-LEN(競技者一覧!V155)),競技者一覧!V155),\"\")","v":""},{"$f":"IFERROR(CONCATENATE(VLOOKUP(競技者一覧!W155,種目コード一覧!$A$1:$C$51,2,FALSE),\" \",REPT(\"0\",VLOOKUP(競技者一覧!W155,種目コード一覧!$A$1:$C$51,3,FALSE)-LEN(競技者一覧!X155)),競技者一覧!X155),\"\")","v":""},{"$f":"IFERROR(CONCATENATE(VLOOKUP(競技者一覧!Y155,種目コード一覧!$A$1:$C$51,2,FALSE),\" \",REPT(\"0\",VLOOKUP(競技者一覧!Y155,種目コード一覧!$A$1:$C$51,3,FALSE)-LEN(競技者一覧!Z155)),競技者一覧!Z155),\"\")","v":""}]
[{"$f":"IFERROR(CONCATENATE(競技者一覧!$D$7), \"\")","v":""},{"$f":"IFERROR(CONCATENATE($H$2,Sheet4!B136),\"\")","v":""},{"$f":"競技者一覧!C156&IF(OR(競技者一覧!H156=\"\",競技者一覧!H156=9),\"\",\"(\" & 競技者一覧!H156 & \")\")","v":""},{"$f":"ASC(競技者一覧!D156 &IF(OR(MID(競技者一覧!G156,3,2)=\"\", MID(競技者一覧!G156,3,2)=\"0\"),\"\",\"(\" & MID(競技者一覧!G156,3,2) & \")\"))","v":""},{"$f":"ASC(競技者一覧!E156 & \" \" & 競技者一覧!F156 & IF(OR(MID(競技者一覧!G156,3,2)=\"\", MID(競技者一覧!G156,3,2)=\"0\"),\"\",\"(\" & MID(競技者一覧!G156,3,2) & \")\"))","v":" "},{"$f":"CONCATENATE(競技者一覧!I156)","v":""},{"$f":"IFERROR(IF(競技者一覧!$D$6=\"学連\",VLOOKUP(競技者一覧!J156,Sheet4!$D$2:$E$48,2,FALSE),学校名簿!D136),\"\")","v":0},{"$f":"IFERROR(VLOOKUP(競技者一覧!$D$7,学校番号表!$B$2:$C$65536,2,FALSE),\"\")","v":""},{"$f":"CONCATENATE(競技者一覧!B156)","v":""},{"$f":"IFERROR(CONCATENATE(VLOOKUP(競技者一覧!K156,種目コード一覧!$A$1:$B$51,2,FALSE),\" \",REPT(\"0\",VLOOKUP(競技者一覧!K156,種目コード一覧!$A$1:$C$51,3,FALSE)-LEN(競技者一覧!L156)),競技者一覧!L156),\"\")","v":""},{"$f":"IFERROR(CONCATENATE(VLOOKUP(競技者一覧!M156,種目コード一覧!$A$1:$C$51,2,FALSE),\" \",REPT(\"0\",VLOOKUP(競技者一覧!M156,種目コード一覧!$A$1:$C$51,3,FALSE)-LEN(競技者一覧!N156)),競技者一覧!N156),\"\")","v":""},{"$f":"IFERROR(CONCATENATE(VLOOKUP(競技者一覧!O156,種目コード一覧!$A$1:$C$51,2,FALSE),\" \",REPT(\"0\",VLOOKUP(競技者一覧!O156,種目コード一覧!$A$1:$C$51,3,FALSE)-LEN(競技者一覧!P156)),競技者一覧!P156),\"\")","v":""},{"$f":"IFERROR(CONCATENATE(VLOOKUP(競技者一覧!Q156,種目コード一覧!$A$1:$C$51,2,FALSE),\" \",REPT(\"0\",VLOOKUP(競技者一覧!Q156,種目コード一覧!$A$1:$C$51,3,FALSE)-LEN(競技者一覧!R156)),競技者一覧!R156),\"\")","v":""},{"$f":"IFERROR(CONCATENATE(VLOOKUP(競技者一覧!S156,種目コード一覧!$A$1:$C$51,2,FALSE),\" \",REPT(\"0\",VLOOKUP(競技者一覧!S156,種目コード一覧!$A$1:$C$51,3,FALSE)-LEN(競技者一覧!T156)),競技者一覧!T156),\"\")","v":""},{"$f":"IFERROR(CONCATENATE(VLOOKUP(競技者一覧!U156,種目コード一覧!$A$1:$C$51,2,FALSE),\" \",REPT(\"0\",VLOOKUP(競技者一覧!U156,種目コード一覧!$A$1:$C$51,3,FALSE)-LEN(競技者一覧!V156)),競技者一覧!V156),\"\")","v":""},{"$f":"IFERROR(CONCATENATE(VLOOKUP(競技者一覧!W156,種目コード一覧!$A$1:$C$51,2,FALSE),\" \",REPT(\"0\",VLOOKUP(競技者一覧!W156,種目コード一覧!$A$1:$C$51,3,FALSE)-LEN(競技者一覧!X156)),競技者一覧!X156),\"\")","v":""},{"$f":"IFERROR(CONCATENATE(VLOOKUP(競技者一覧!Y156,種目コード一覧!$A$1:$C$51,2,FALSE),\" \",REPT(\"0\",VLOOKUP(競技者一覧!Y156,種目コード一覧!$A$1:$C$51,3,FALSE)-LEN(競技者一覧!Z156)),競技者一覧!Z156),\"\")","v":""}]
[{"$f":"IFERROR(CONCATENATE(競技者一覧!$D$7), \"\")","v":""},{"$f":"IFERROR(CONCATENATE($H$2,Sheet4!B137),\"\")","v":""},{"$f":"競技者一覧!C157&IF(OR(競技者一覧!H157=\"\",競技者一覧!H157=9),\"\",\"(\" & 競技者一覧!H157 & \")\")","v":""},{"$f":"競技者一覧!D157 &IF(OR(MID(競技者一覧!G157,3,2)=\"\", MID(競技者一覧!G157,3,2)=\"0\"),\"\",\"(\" & MID(競技者一覧!G157,3,2) & \")\")","v":""},{"$f":"ASC(競技者一覧!E157 & \" \" & 競技者一覧!F157 & IF(OR(MID(競技者一覧!G157,3,2)=\"\", MID(競技者一覧!G157,3,2)=\"0\"),\"\",\"(\" & MID(競技者一覧!G157,3,2) & \")\"))","v":" "},{"$f":"CONCATENATE(競技者一覧!I157)","v":""},{"$f":"IFERROR(IF(競技者一覧!$D$6=\"学連\",VLOOKUP(競技者一覧!J157,Sheet4!$D$2:$E$48,2,FALSE),学校名簿!D137),\"\")","v":0},{"$f":"IFERROR(VLOOKUP(競技者一覧!$D$7,学校番号表!$B$2:$C$65536,2,FALSE),\"\")","v":""},{"$f":"CONCATENATE(競技者一覧!B157)","v":""},{"$f":"IFERROR(CONCATENATE(VLOOKUP(競技者一覧!K157,種目コード一覧!$A$1:$C$51,2,FALSE),\" \",REPT(\"0\",VLOOKUP(競技者一覧!K157,種目コード一覧!$A$1:$C$51,3,FALSE)-LEN(競技者一覧!L157)),競技者一覧!L157),\"\")","v":""},{"$f":"IFERROR(CONCATENATE(VLOOKUP(競技者一覧!M157,種目コード一覧!$A$1:$C$51,2,FALSE),\" \",REPT(\"0\",VLOOKUP(競技者一覧!M157,種目コード一覧!$A$1:$C$51,3,FALSE)-LEN(競技者一覧!N157)),競技者一覧!N157),\"\")","v":""},{"$f":"IFERROR(CONCATENATE(VLOOKUP(競技者一覧!O157,種目コード一覧!$A$1:$C$51,2,FALSE),\" \",REPT(\"0\",VLOOKUP(競技者一覧!O157,種目コード一覧!$A$1:$C$51,3,FALSE)-LEN(競技者一覧!P157)),競技者一覧!P157),\"\")","v":""},{"$f":"IFERROR(CONCATENATE(VLOOKUP(競技者一覧!Q157,種目コード一覧!$A$1:$C$51,2,FALSE),\" \",REPT(\"0\",VLOOKUP(競技者一覧!Q157,種目コード一覧!$A$1:$C$51,3,FALSE)-LEN(競技者一覧!R157)),競技者一覧!R157),\"\")","v":""},{"$f":"IFERROR(CONCATENATE(VLOOKUP(競技者一覧!S157,種目コード一覧!$A$1:$C$51,2,FALSE),\" \",REPT(\"0\",VLOOKUP(競技者一覧!S157,種目コード一覧!$A$1:$C$51,3,FALSE)-LEN(競技者一覧!T157)),競技者一覧!T157),\"\")","v":""},{"$f":"IFERROR(CONCATENATE(VLOOKUP(競技者一覧!U157,種目コード一覧!$A$1:$C$51,2,FALSE),\" \",REPT(\"0\",VLOOKUP(競技者一覧!U157,種目コード一覧!$A$1:$C$51,3,FALSE)-LEN(競技者一覧!V157)),競技者一覧!V157),\"\")","v":""},{"$f":"IFERROR(CONCATENATE(VLOOKUP(競技者一覧!W157,種目コード一覧!$A$1:$C$51,2,FALSE),\" \",REPT(\"0\",VLOOKUP(競技者一覧!W157,種目コード一覧!$A$1:$C$51,3,FALSE)-LEN(競技者一覧!X157)),競技者一覧!X157),\"\")","v":""},{"$f":"IFERROR(CONCATENATE(VLOOKUP(競技者一覧!Y157,種目コード一覧!$A$1:$C$51,2,FALSE),\" \",REPT(\"0\",VLOOKUP(競技者一覧!Y157,種目コード一覧!$A$1:$C$51,3,FALSE)-LEN(競技者一覧!Z157)),競技者一覧!Z157),\"\")","v":""}]
[{"$f":"IFERROR(CONCATENATE(競技者一覧!$D$7), \"\")","v":""},{"$f":"IFERROR(CONCATENATE($H$2,Sheet4!B138),\"\")","v":""},{"$f":"競技者一覧!C158&IF(OR(競技者一覧!H158=\"\",競技者一覧!H158=9),\"\",\"(\" & 競技者一覧!H158 & \")\")","v":""},{"$f":"ASC(競技者一覧!D158 &IF(OR(MID(競技者一覧!G158,3,2)=\"\", MID(競技者一覧!G158,3,2)=\"0\"),\"\",\"(\" & MID(競技者一覧!G158,3,2) & \")\"))","v":""},{"$f":"ASC(競技者一覧!E158 & \" \" & 競技者一覧!F158 & IF(OR(MID(競技者一覧!G158,3,2)=\"\", MID(競技者一覧!G158,3,2)=\"0\"),\"\",\"(\" & MID(競技者一覧!G158,3,2) & \")\"))","v":" "},{"$f":"CONCATENATE(競技者一覧!I158)","v":""},{"$f":"IFERROR(IF(競技者一覧!$D$6=\"学連\",VLOOKUP(競技者一覧!J158,Sheet4!$D$2:$E$48,2,FALSE),学校名簿!D138),\"\")","v":0},{"$f":"IFERROR(VLOOKUP(競技者一覧!$D$7,学校番号表!$B$2:$C$65536,2,FALSE),\"\")","v":""},{"$f":"CONCATENATE(競技者一覧!B158)","v":""},{"$f":"IFERROR(CONCATENATE(VLOOKUP(競技者一覧!K158,種目コード一覧!$A$1:$B$51,2,FALSE),\" \",REPT(\"0\",VLOOKUP(競技者一覧!K158,種目コード一覧!$A$1:$C$51,3,FALSE)-LEN(競技者一覧!L158)),競技者一覧!L158),\"\")","v":""},{"$f":"IFERROR(CONCATENATE(VLOOKUP(競技者一覧!M158,種目コード一覧!$A$1:$C$51,2,FALSE),\" \",REPT(\"0\",VLOOKUP(競技者一覧!M158,種目コード一覧!$A$1:$C$51,3,FALSE)-LEN(競技者一覧!N158)),競技者一覧!N158),\"\")","v":""},{"$f":"IFERROR(CONCATENATE(VLOOKUP(競技者一覧!O158,種目コード一覧!$A$1:$C$51,2,FALSE),\" \",REPT(\"0\",VLOOKUP(競技者一覧!O158,種目コード一覧!$A$1:$C$51,3,FALSE)-LEN(競技者一覧!P158)),競技者一覧!P158),\"\")","v":""},{"$f":"IFERROR(CONCATENATE(VLOOKUP(競技者一覧!Q158,種目コード一覧!$A$1:$C$51,2,FALSE),\" \",REPT(\"0\",VLOOKUP(競技者一覧!Q158,種目コード一覧!$A$1:$C$51,3,FALSE)-LEN(競技者一覧!R158)),競技者一覧!R158),\"\")","v":""},{"$f":"IFERROR(CONCATENATE(VLOOKUP(競技者一覧!S158,種目コード一覧!$A$1:$C$51,2,FALSE),\" \",REPT(\"0\",VLOOKUP(競技者一覧!S158,種目コード一覧!$A$1:$C$51,3,FALSE)-LEN(競技者一覧!T158)),競技者一覧!T158),\"\")","v":""},{"$f":"IFERROR(CONCATENATE(VLOOKUP(競技者一覧!U158,種目コード一覧!$A$1:$C$51,2,FALSE),\" \",REPT(\"0\",VLOOKUP(競技者一覧!U158,種目コード一覧!$A$1:$C$51,3,FALSE)-LEN(競技者一覧!V158)),競技者一覧!V158),\"\")","v":""},{"$f":"IFERROR(CONCATENATE(VLOOKUP(競技者一覧!W158,種目コード一覧!$A$1:$C$51,2,FALSE),\" \",REPT(\"0\",VLOOKUP(競技者一覧!W158,種目コード一覧!$A$1:$C$51,3,FALSE)-LEN(競技者一覧!X158)),競技者一覧!X158),\"\")","v":""},{"$f":"IFERROR(CONCATENATE(VLOOKUP(競技者一覧!Y158,種目コード一覧!$A$1:$C$51,2,FALSE),\" \",REPT(\"0\",VLOOKUP(競技者一覧!Y158,種目コード一覧!$A$1:$C$51,3,FALSE)-LEN(競技者一覧!Z158)),競技者一覧!Z158),\"\")","v":""}]
[{"$f":"IFERROR(CONCATENATE(競技者一覧!$D$7), \"\")","v":""},{"$f":"IFERROR(CONCATENATE($H$2,Sheet4!B139),\"\")","v":""},{"$f":"競技者一覧!C159&IF(OR(競技者一覧!H159=\"\",競技者一覧!H159=9),\"\",\"(\" & 競技者一覧!H159 & \")\")","v":""},{"$f":"競技者一覧!D159 &IF(OR(MID(競技者一覧!G159,3,2)=\"\", MID(競技者一覧!G159,3,2)=\"0\"),\"\",\"(\" & MID(競技者一覧!G159,3,2) & \")\")","v":""},{"$f":"ASC(競技者一覧!E159 & \" \" & 競技者一覧!F159 & IF(OR(MID(競技者一覧!G159,3,2)=\"\", MID(競技者一覧!G159,3,2)=\"0\"),\"\",\"(\" & MID(競技者一覧!G159,3,2) & \")\"))","v":" "},{"$f":"CONCATENATE(競技者一覧!I159)","v":""},{"$f":"IFERROR(IF(競技者一覧!$D$6=\"学連\",VLOOKUP(競技者一覧!J159,Sheet4!$D$2:$E$48,2,FALSE),学校名簿!D139),\"\")","v":0},{"$f":"IFERROR(VLOOKUP(競技者一覧!$D$7,学校番号表!$B$2:$C$65536,2,FALSE),\"\")","v":""},{"$f":"CONCATENATE(競技者一覧!B159)","v":""},{"$f":"IFERROR(CONCATENATE(VLOOKUP(競技者一覧!K159,種目コード一覧!$A$1:$C$51,2,FALSE),\" \",REPT(\"0\",VLOOKUP(競技者一覧!K159,種目コード一覧!$A$1:$C$51,3,FALSE)-LEN(競技者一覧!L159)),競技者一覧!L159),\"\")","v":""},{"$f":"IFERROR(CONCATENATE(VLOOKUP(競技者一覧!M159,種目コード一覧!$A$1:$C$51,2,FALSE),\" \",REPT(\"0\",VLOOKUP(競技者一覧!M159,種目コード一覧!$A$1:$C$51,3,FALSE)-LEN(競技者一覧!N159)),競技者一覧!N159),\"\")","v":""},{"$f":"IFERROR(CONCATENATE(VLOOKUP(競技者一覧!O159,種目コード一覧!$A$1:$C$51,2,FALSE),\" \",REPT(\"0\",VLOOKUP(競技者一覧!O159,種目コード一覧!$A$1:$C$51,3,FALSE)-LEN(競技者一覧!P159)),競技者一覧!P159),\"\")","v":""},{"$f":"IFERROR(CONCATENATE(VLOOKUP(競技者一覧!Q159,種目コード一覧!$A$1:$C$51,2,FALSE),\" \",REPT(\"0\",VLOOKUP(競技者一覧!Q159,種目コード一覧!$A$1:$C$51,3,FALSE)-LEN(競技者一覧!R159)),競技者一覧!R159),\"\")","v":""},{"$f":"IFERROR(CONCATENATE(VLOOKUP(競技者一覧!S159,種目コード一覧!$A$1:$C$51,2,FALSE),\" \",REPT(\"0\",VLOOKUP(競技者一覧!S159,種目コード一覧!$A$1:$C$51,3,FALSE)-LEN(競技者一覧!T159)),競技者一覧!T159),\"\")","v":""},{"$f":"IFERROR(CONCATENATE(VLOOKUP(競技者一覧!U159,種目コード一覧!$A$1:$C$51,2,FALSE),\" \",REPT(\"0\",VLOOKUP(競技者一覧!U159,種目コード一覧!$A$1:$C$51,3,FALSE)-LEN(競技者一覧!V159)),競技者一覧!V159),\"\")","v":""},{"$f":"IFERROR(CONCATENATE(VLOOKUP(競技者一覧!W159,種目コード一覧!$A$1:$C$51,2,FALSE),\" \",REPT(\"0\",VLOOKUP(競技者一覧!W159,種目コード一覧!$A$1:$C$51,3,FALSE)-LEN(競技者一覧!X159)),競技者一覧!X159),\"\")","v":""},{"$f":"IFERROR(CONCATENATE(VLOOKUP(競技者一覧!Y159,種目コード一覧!$A$1:$C$51,2,FALSE),\" \",REPT(\"0\",VLOOKUP(競技者一覧!Y159,種目コード一覧!$A$1:$C$51,3,FALSE)-LEN(競技者一覧!Z159)),競技者一覧!Z159),\"\")","v":""}]
[{"$f":"IFERROR(CONCATENATE(競技者一覧!$D$7), \"\")","v":""},{"$f":"IFERROR(CONCATENATE($H$2,Sheet4!B140),\"\")","v":""},{"$f":"競技者一覧!C160&IF(OR(競技者一覧!H160=\"\",競技者一覧!H160=9),\"\",\"(\" & 競技者一覧!H160 & \")\")","v":""},{"$f":"ASC(競技者一覧!D160 &IF(OR(MID(競技者一覧!G160,3,2)=\"\", MID(競技者一覧!G160,3,2)=\"0\"),\"\",\"(\" & MID(競技者一覧!G160,3,2) & \")\"))","v":""},{"$f":"ASC(競技者一覧!E160 & \" \" & 競技者一覧!F160 & IF(OR(MID(競技者一覧!G160,3,2)=\"\", MID(競技者一覧!G160,3,2)=\"0\"),\"\",\"(\" & MID(競技者一覧!G160,3,2) & \")\"))","v":" "},{"$f":"CONCATENATE(競技者一覧!I160)","v":""},{"$f":"IFERROR(IF(競技者一覧!$D$6=\"学連\",VLOOKUP(競技者一覧!J160,Sheet4!$D$2:$E$48,2,FALSE),学校名簿!D140),\"\")","v":0},{"$f":"IFERROR(VLOOKUP(競技者一覧!$D$7,学校番号表!$B$2:$C$65536,2,FALSE),\"\")","v":""},{"$f":"CONCATENATE(競技者一覧!B160)","v":""},{"$f":"IFERROR(CONCATENATE(VLOOKUP(競技者一覧!K160,種目コード一覧!$A$1:$B$51,2,FALSE),\" \",REPT(\"0\",VLOOKUP(競技者一覧!K160,種目コード一覧!$A$1:$C$51,3,FALSE)-LEN(競技者一覧!L160)),競技者一覧!L160),\"\")","v":""},{"$f":"IFERROR(CONCATENATE(VLOOKUP(競技者一覧!M160,種目コード一覧!$A$1:$C$51,2,FALSE),\" \",REPT(\"0\",VLOOKUP(競技者一覧!M160,種目コード一覧!$A$1:$C$51,3,FALSE)-LEN(競技者一覧!N160)),競技者一覧!N160),\"\")","v":""},{"$f":"IFERROR(CONCATENATE(VLOOKUP(競技者一覧!O160,種目コード一覧!$A$1:$C$51,2,FALSE),\" \",REPT(\"0\",VLOOKUP(競技者一覧!O160,種目コード一覧!$A$1:$C$51,3,FALSE)-LEN(競技者一覧!P160)),競技者一覧!P160),\"\")","v":""},{"$f":"IFERROR(CONCATENATE(VLOOKUP(競技者一覧!Q160,種目コード一覧!$A$1:$C$51,2,FALSE),\" \",REPT(\"0\",VLOOKUP(競技者一覧!Q160,種目コード一覧!$A$1:$C$51,3,FALSE)-LEN(競技者一覧!R160)),競技者一覧!R160),\"\")","v":""},{"$f":"IFERROR(CONCATENATE(VLOOKUP(競技者一覧!S160,種目コード一覧!$A$1:$C$51,2,FALSE),\" \",REPT(\"0\",VLOOKUP(競技者一覧!S160,種目コード一覧!$A$1:$C$51,3,FALSE)-LEN(競技者一覧!T160)),競技者一覧!T160),\"\")","v":""},{"$f":"IFERROR(CONCATENATE(VLOOKUP(競技者一覧!U160,種目コード一覧!$A$1:$C$51,2,FALSE),\" \",REPT(\"0\",VLOOKUP(競技者一覧!U160,種目コード一覧!$A$1:$C$51,3,FALSE)-LEN(競技者一覧!V160)),競技者一覧!V160),\"\")","v":""},{"$f":"IFERROR(CONCATENATE(VLOOKUP(競技者一覧!W160,種目コード一覧!$A$1:$C$51,2,FALSE),\" \",REPT(\"0\",VLOOKUP(競技者一覧!W160,種目コード一覧!$A$1:$C$51,3,FALSE)-LEN(競技者一覧!X160)),競技者一覧!X160),\"\")","v":""},{"$f":"IFERROR(CONCATENATE(VLOOKUP(競技者一覧!Y160,種目コード一覧!$A$1:$C$51,2,FALSE),\" \",REPT(\"0\",VLOOKUP(競技者一覧!Y160,種目コード一覧!$A$1:$C$51,3,FALSE)-LEN(競技者一覧!Z160)),競技者一覧!Z160),\"\")","v":""}]
[{"$f":"IFERROR(CONCATENATE(競技者一覧!$D$7), \"\")","v":""},{"$f":"IFERROR(CONCATENATE($H$2,Sheet4!B141),\"\")","v":""},{"$f":"競技者一覧!C161&IF(OR(競技者一覧!H161=\"\",競技者一覧!H161=9),\"\",\"(\" & 競技者一覧!H161 & \")\")","v":""},{"$f":"競技者一覧!D161 &IF(OR(MID(競技者一覧!G161,3,2)=\"\", MID(競技者一覧!G161,3,2)=\"0\"),\"\",\"(\" & MID(競技者一覧!G161,3,2) & \")\")","v":""},{"$f":"ASC(競技者一覧!E161 & \" \" & 競技者一覧!F161 & IF(OR(MID(競技者一覧!G161,3,2)=\"\", MID(競技者一覧!G161,3,2)=\"0\"),\"\",\"(\" & MID(競技者一覧!G161,3,2) & \")\"))","v":" "},{"$f":"CONCATENATE(競技者一覧!I161)","v":""},{"$f":"IFERROR(IF(競技者一覧!$D$6=\"学連\",VLOOKUP(競技者一覧!J161,Sheet4!$D$2:$E$48,2,FALSE),学校名簿!D141),\"\")","v":0},{"$f":"IFERROR(VLOOKUP(競技者一覧!$D$7,学校番号表!$B$2:$C$65536,2,FALSE),\"\")","v":""},{"$f":"CONCATENATE(競技者一覧!B161)","v":""},{"$f":"IFERROR(CONCATENATE(VLOOKUP(競技者一覧!K161,種目コード一覧!$A$1:$C$51,2,FALSE),\" \",REPT(\"0\",VLOOKUP(競技者一覧!K161,種目コード一覧!$A$1:$C$51,3,FALSE)-LEN(競技者一覧!L161)),競技者一覧!L161),\"\")","v":""},{"$f":"IFERROR(CONCATENATE(VLOOKUP(競技者一覧!M161,種目コード一覧!$A$1:$C$51,2,FALSE),\" \",REPT(\"0\",VLOOKUP(競技者一覧!M161,種目コード一覧!$A$1:$C$51,3,FALSE)-LEN(競技者一覧!N161)),競技者一覧!N161),\"\")","v":""},{"$f":"IFERROR(CONCATENATE(VLOOKUP(競技者一覧!O161,種目コード一覧!$A$1:$C$51,2,FALSE),\" \",REPT(\"0\",VLOOKUP(競技者一覧!O161,種目コード一覧!$A$1:$C$51,3,FALSE)-LEN(競技者一覧!P161)),競技者一覧!P161),\"\")","v":""},{"$f":"IFERROR(CONCATENATE(VLOOKUP(競技者一覧!Q161,種目コード一覧!$A$1:$C$51,2,FALSE),\" \",REPT(\"0\",VLOOKUP(競技者一覧!Q161,種目コード一覧!$A$1:$C$51,3,FALSE)-LEN(競技者一覧!R161)),競技者一覧!R161),\"\")","v":""},{"$f":"IFERROR(CONCATENATE(VLOOKUP(競技者一覧!S161,種目コード一覧!$A$1:$C$51,2,FALSE),\" \",REPT(\"0\",VLOOKUP(競技者一覧!S161,種目コード一覧!$A$1:$C$51,3,FALSE)-LEN(競技者一覧!T161)),競技者一覧!T161),\"\")","v":""},{"$f":"IFERROR(CONCATENATE(VLOOKUP(競技者一覧!U161,種目コード一覧!$A$1:$C$51,2,FALSE),\" \",REPT(\"0\",VLOOKUP(競技者一覧!U161,種目コード一覧!$A$1:$C$51,3,FALSE)-LEN(競技者一覧!V161)),競技者一覧!V161),\"\")","v":""},{"$f":"IFERROR(CONCATENATE(VLOOKUP(競技者一覧!W161,種目コード一覧!$A$1:$C$51,2,FALSE),\" \",REPT(\"0\",VLOOKUP(競技者一覧!W161,種目コード一覧!$A$1:$C$51,3,FALSE)-LEN(競技者一覧!X161)),競技者一覧!X161),\"\")","v":""},{"$f":"IFERROR(CONCATENATE(VLOOKUP(競技者一覧!Y161,種目コード一覧!$A$1:$C$51,2,FALSE),\" \",REPT(\"0\",VLOOKUP(競技者一覧!Y161,種目コード一覧!$A$1:$C$51,3,FALSE)-LEN(競技者一覧!Z161)),競技者一覧!Z161),\"\")","v":""}]
[{"$f":"IFERROR(CONCATENATE(競技者一覧!$D$7), \"\")","v":""},{"$f":"IFERROR(CONCATENATE($H$2,Sheet4!B142),\"\")","v":""},{"$f":"競技者一覧!C162&IF(OR(競技者一覧!H162=\"\",競技者一覧!H162=9),\"\",\"(\" & 競技者一覧!H162 & \")\")","v":""},{"$f":"ASC(競技者一覧!D162 &IF(OR(MID(競技者一覧!G162,3,2)=\"\", MID(競技者一覧!G162,3,2)=\"0\"),\"\",\"(\" & MID(競技者一覧!G162,3,2) & \")\"))","v":""},{"$f":"ASC(競技者一覧!E162 & \" \" & 競技者一覧!F162 & IF(OR(MID(競技者一覧!G162,3,2)=\"\", MID(競技者一覧!G162,3,2)=\"0\"),\"\",\"(\" & MID(競技者一覧!G162,3,2) & \")\"))","v":" "},{"$f":"CONCATENATE(競技者一覧!I162)","v":""},{"$f":"IFERROR(IF(競技者一覧!$D$6=\"学連\",VLOOKUP(競技者一覧!J162,Sheet4!$D$2:$E$48,2,FALSE),学校名簿!D142),\"\")","v":0},{"$f":"IFERROR(VLOOKUP(競技者一覧!$D$7,学校番号表!$B$2:$C$65536,2,FALSE),\"\")","v":""},{"$f":"CONCATENATE(競技者一覧!B162)","v":""},{"$f":"IFERROR(CONCATENATE(VLOOKUP(競技者一覧!K162,種目コード一覧!$A$1:$B$51,2,FALSE),\" \",REPT(\"0\",VLOOKUP(競技者一覧!K162,種目コード一覧!$A$1:$C$51,3,FALSE)-LEN(競技者一覧!L162)),競技者一覧!L162),\"\")","v":""},{"$f":"IFERROR(CONCATENATE(VLOOKUP(競技者一覧!M162,種目コード一覧!$A$1:$C$51,2,FALSE),\" \",REPT(\"0\",VLOOKUP(競技者一覧!M162,種目コード一覧!$A$1:$C$51,3,FALSE)-LEN(競技者一覧!N162)),競技者一覧!N162),\"\")","v":""},{"$f":"IFERROR(CONCATENATE(VLOOKUP(競技者一覧!O162,種目コード一覧!$A$1:$C$51,2,FALSE),\" \",REPT(\"0\",VLOOKUP(競技者一覧!O162,種目コード一覧!$A$1:$C$51,3,FALSE)-LEN(競技者一覧!P162)),競技者一覧!P162),\"\")","v":""},{"$f":"IFERROR(CONCATENATE(VLOOKUP(競技者一覧!Q162,種目コード一覧!$A$1:$C$51,2,FALSE),\" \",REPT(\"0\",VLOOKUP(競技者一覧!Q162,種目コード一覧!$A$1:$C$51,3,FALSE)-LEN(競技者一覧!R162)),競技者一覧!R162),\"\")","v":""},{"$f":"IFERROR(CONCATENATE(VLOOKUP(競技者一覧!S162,種目コード一覧!$A$1:$C$51,2,FALSE),\" \",REPT(\"0\",VLOOKUP(競技者一覧!S162,種目コード一覧!$A$1:$C$51,3,FALSE)-LEN(競技者一覧!T162)),競技者一覧!T162),\"\")","v":""},{"$f":"IFERROR(CONCATENATE(VLOOKUP(競技者一覧!U162,種目コード一覧!$A$1:$C$51,2,FALSE),\" \",REPT(\"0\",VLOOKUP(競技者一覧!U162,種目コード一覧!$A$1:$C$51,3,FALSE)-LEN(競技者一覧!V162)),競技者一覧!V162),\"\")","v":""},{"$f":"IFERROR(CONCATENATE(VLOOKUP(競技者一覧!W162,種目コード一覧!$A$1:$C$51,2,FALSE),\" \",REPT(\"0\",VLOOKUP(競技者一覧!W162,種目コード一覧!$A$1:$C$51,3,FALSE)-LEN(競技者一覧!X162)),競技者一覧!X162),\"\")","v":""},{"$f":"IFERROR(CONCATENATE(VLOOKUP(競技者一覧!Y162,種目コード一覧!$A$1:$C$51,2,FALSE),\" \",REPT(\"0\",VLOOKUP(競技者一覧!Y162,種目コード一覧!$A$1:$C$51,3,FALSE)-LEN(競技者一覧!Z162)),競技者一覧!Z162),\"\")","v":""}]
[{"$f":"IFERROR(CONCATENATE(競技者一覧!$D$7), \"\")","v":""},{"$f":"IFERROR(CONCATENATE($H$2,Sheet4!B143),\"\")","v":""},{"$f":"競技者一覧!C163&IF(OR(競技者一覧!H163=\"\",競技者一覧!H163=9),\"\",\"(\" & 競技者一覧!H163 & \")\")","v":""},{"$f":"競技者一覧!D163 &IF(OR(MID(競技者一覧!G163,3,2)=\"\", MID(競技者一覧!G163,3,2)=\"0\"),\"\",\"(\" & MID(競技者一覧!G163,3,2) & \")\")","v":""},{"$f":"ASC(競技者一覧!E163 & \" \" & 競技者一覧!F163 & IF(OR(MID(競技者一覧!G163,3,2)=\"\", MID(競技者一覧!G163,3,2)=\"0\"),\"\",\"(\" & MID(競技者一覧!G163,3,2) & \")\"))","v":" "},{"$f":"CONCATENATE(競技者一覧!I163)","v":""},{"$f":"IFERROR(IF(競技者一覧!$D$6=\"学連\",VLOOKUP(競技者一覧!J163,Sheet4!$D$2:$E$48,2,FALSE),学校名簿!D143),\"\")","v":0},{"$f":"IFERROR(VLOOKUP(競技者一覧!$D$7,学校番号表!$B$2:$C$65536,2,FALSE),\"\")","v":""},{"$f":"CONCATENATE(競技者一覧!B163)","v":""},{"$f":"IFERROR(CONCATENATE(VLOOKUP(競技者一覧!K163,種目コード一覧!$A$1:$C$51,2,FALSE),\" \",REPT(\"0\",VLOOKUP(競技者一覧!K163,種目コード一覧!$A$1:$C$51,3,FALSE)-LEN(競技者一覧!L163)),競技者一覧!L163),\"\")","v":""},{"$f":"IFERROR(CONCATENATE(VLOOKUP(競技者一覧!M163,種目コード一覧!$A$1:$C$51,2,FALSE),\" \",REPT(\"0\",VLOOKUP(競技者一覧!M163,種目コード一覧!$A$1:$C$51,3,FALSE)-LEN(競技者一覧!N163)),競技者一覧!N163),\"\")","v":""},{"$f":"IFERROR(CONCATENATE(VLOOKUP(競技者一覧!O163,種目コード一覧!$A$1:$C$51,2,FALSE),\" \",REPT(\"0\",VLOOKUP(競技者一覧!O163,種目コード一覧!$A$1:$C$51,3,FALSE)-LEN(競技者一覧!P163)),競技者一覧!P163),\"\")","v":""},{"$f":"IFERROR(CONCATENATE(VLOOKUP(競技者一覧!Q163,種目コード一覧!$A$1:$C$51,2,FALSE),\" \",REPT(\"0\",VLOOKUP(競技者一覧!Q163,種目コード一覧!$A$1:$C$51,3,FALSE)-LEN(競技者一覧!R163)),競技者一覧!R163),\"\")","v":""},{"$f":"IFERROR(CONCATENATE(VLOOKUP(競技者一覧!S163,種目コード一覧!$A$1:$C$51,2,FALSE),\" \",REPT(\"0\",VLOOKUP(競技者一覧!S163,種目コード一覧!$A$1:$C$51,3,FALSE)-LEN(競技者一覧!T163)),競技者一覧!T163),\"\")","v":""},{"$f":"IFERROR(CONCATENATE(VLOOKUP(競技者一覧!U163,種目コード一覧!$A$1:$C$51,2,FALSE),\" \",REPT(\"0\",VLOOKUP(競技者一覧!U163,種目コード一覧!$A$1:$C$51,3,FALSE)-LEN(競技者一覧!V163)),競技者一覧!V163),\"\")","v":""},{"$f":"IFERROR(CONCATENATE(VLOOKUP(競技者一覧!W163,種目コード一覧!$A$1:$C$51,2,FALSE),\" \",REPT(\"0\",VLOOKUP(競技者一覧!W163,種目コード一覧!$A$1:$C$51,3,FALSE)-LEN(競技者一覧!X163)),競技者一覧!X163),\"\")","v":""},{"$f":"IFERROR(CONCATENATE(VLOOKUP(競技者一覧!Y163,種目コード一覧!$A$1:$C$51,2,FALSE),\" \",REPT(\"0\",VLOOKUP(競技者一覧!Y163,種目コード一覧!$A$1:$C$51,3,FALSE)-LEN(競技者一覧!Z163)),競技者一覧!Z163),\"\")","v":""}]
[{"$f":"IFERROR(CONCATENATE(競技者一覧!$D$7), \"\")","v":""},{"$f":"IFERROR(CONCATENATE($H$2,Sheet4!B144),\"\")","v":""},{"$f":"競技者一覧!C164&IF(OR(競技者一覧!H164=\"\",競技者一覧!H164=9),\"\",\"(\" & 競技者一覧!H164 & \")\")","v":""},{"$f":"ASC(競技者一覧!D164 &IF(OR(MID(競技者一覧!G164,3,2)=\"\", MID(競技者一覧!G164,3,2)=\"0\"),\"\",\"(\" & MID(競技者一覧!G164,3,2) & \")\"))","v":""},{"$f":"ASC(競技者一覧!E164 & \" \" & 競技者一覧!F164 & IF(OR(MID(競技者一覧!G164,3,2)=\"\", MID(競技者一覧!G164,3,2)=\"0\"),\"\",\"(\" & MID(競技者一覧!G164,3,2) & \")\"))","v":" "},{"$f":"CONCATENATE(競技者一覧!I164)","v":""},{"$f":"IFERROR(IF(競技者一覧!$D$6=\"学連\",VLOOKUP(競技者一覧!J164,Sheet4!$D$2:$E$48,2,FALSE),学校名簿!D144),\"\")","v":0},{"$f":"IFERROR(VLOOKUP(競技者一覧!$D$7,学校番号表!$B$2:$C$65536,2,FALSE),\"\")","v":""},{"$f":"CONCATENATE(競技者一覧!B164)","v":""},{"$f":"IFERROR(CONCATENATE(VLOOKUP(競技者一覧!K164,種目コード一覧!$A$1:$B$51,2,FALSE),\" \",REPT(\"0\",VLOOKUP(競技者一覧!K164,種目コード一覧!$A$1:$C$51,3,FALSE)-LEN(競技者一覧!L164)),競技者一覧!L164),\"\")","v":""},{"$f":"IFERROR(CONCATENATE(VLOOKUP(競技者一覧!M164,種目コード一覧!$A$1:$C$51,2,FALSE),\" \",REPT(\"0\",VLOOKUP(競技者一覧!M164,種目コード一覧!$A$1:$C$51,3,FALSE)-LEN(競技者一覧!N164)),競技者一覧!N164),\"\")","v":""},{"$f":"IFERROR(CONCATENATE(VLOOKUP(競技者一覧!O164,種目コード一覧!$A$1:$C$51,2,FALSE),\" \",REPT(\"0\",VLOOKUP(競技者一覧!O164,種目コード一覧!$A$1:$C$51,3,FALSE)-LEN(競技者一覧!P164)),競技者一覧!P164),\"\")","v":""},{"$f":"IFERROR(CONCATENATE(VLOOKUP(競技者一覧!Q164,種目コード一覧!$A$1:$C$51,2,FALSE),\" \",REPT(\"0\",VLOOKUP(競技者一覧!Q164,種目コード一覧!$A$1:$C$51,3,FALSE)-LEN(競技者一覧!R164)),競技者一覧!R164),\"\")","v":""},{"$f":"IFERROR(CONCATENATE(VLOOKUP(競技者一覧!S164,種目コード一覧!$A$1:$C$51,2,FALSE),\" \",REPT(\"0\",VLOOKUP(競技者一覧!S164,種目コード一覧!$A$1:$C$51,3,FALSE)-LEN(競技者一覧!T164)),競技者一覧!T164),\"\")","v":""},{"$f":"IFERROR(CONCATENATE(VLOOKUP(競技者一覧!U164,種目コード一覧!$A$1:$C$51,2,FALSE),\" \",REPT(\"0\",VLOOKUP(競技者一覧!U164,種目コード一覧!$A$1:$C$51,3,FALSE)-LEN(競技者一覧!V164)),競技者一覧!V164),\"\")","v":""},{"$f":"IFERROR(CONCATENATE(VLOOKUP(競技者一覧!W164,種目コード一覧!$A$1:$C$51,2,FALSE),\" \",REPT(\"0\",VLOOKUP(競技者一覧!W164,種目コード一覧!$A$1:$C$51,3,FALSE)-LEN(競技者一覧!X164)),競技者一覧!X164),\"\")","v":""},{"$f":"IFERROR(CONCATENATE(VLOOKUP(競技者一覧!Y164,種目コード一覧!$A$1:$C$51,2,FALSE),\" \",REPT(\"0\",VLOOKUP(競技者一覧!Y164,種目コード一覧!$A$1:$C$51,3,FALSE)-LEN(競技者一覧!Z164)),競技者一覧!Z164),\"\")","v":""}]
[{"$f":"IFERROR(CONCATENATE(競技者一覧!$D$7), \"\")","v":""},{"$f":"IFERROR(CONCATENATE($H$2,Sheet4!B145),\"\")","v":""},{"$f":"競技者一覧!C165&IF(OR(競技者一覧!H165=\"\",競技者一覧!H165=9),\"\",\"(\" & 競技者一覧!H165 & \")\")","v":""},{"$f":"競技者一覧!D165 &IF(OR(MID(競技者一覧!G165,3,2)=\"\", MID(競技者一覧!G165,3,2)=\"0\"),\"\",\"(\" & MID(競技者一覧!G165,3,2) & \")\")","v":""},{"$f":"ASC(競技者一覧!E165 & \" \" & 競技者一覧!F165 & IF(OR(MID(競技者一覧!G165,3,2)=\"\", MID(競技者一覧!G165,3,2)=\"0\"),\"\",\"(\" & MID(競技者一覧!G165,3,2) & \")\"))","v":" "},{"$f":"CONCATENATE(競技者一覧!I165)","v":""},{"$f":"IFERROR(IF(競技者一覧!$D$6=\"学連\",VLOOKUP(競技者一覧!J165,Sheet4!$D$2:$E$48,2,FALSE),学校名簿!D145),\"\")","v":0},{"$f":"IFERROR(VLOOKUP(競技者一覧!$D$7,学校番号表!$B$2:$C$65536,2,FALSE),\"\")","v":""},{"$f":"CONCATENATE(競技者一覧!B165)","v":""},{"$f":"IFERROR(CONCATENATE(VLOOKUP(競技者一覧!K165,種目コード一覧!$A$1:$C$51,2,FALSE),\" \",REPT(\"0\",VLOOKUP(競技者一覧!K165,種目コード一覧!$A$1:$C$51,3,FALSE)-LEN(競技者一覧!L165)),競技者一覧!L165),\"\")","v":""},{"$f":"IFERROR(CONCATENATE(VLOOKUP(競技者一覧!M165,種目コード一覧!$A$1:$C$51,2,FALSE),\" \",REPT(\"0\",VLOOKUP(競技者一覧!M165,種目コード一覧!$A$1:$C$51,3,FALSE)-LEN(競技者一覧!N165)),競技者一覧!N165),\"\")","v":""},{"$f":"IFERROR(CONCATENATE(VLOOKUP(競技者一覧!O165,種目コード一覧!$A$1:$C$51,2,FALSE),\" \",REPT(\"0\",VLOOKUP(競技者一覧!O165,種目コード一覧!$A$1:$C$51,3,FALSE)-LEN(競技者一覧!P165)),競技者一覧!P165),\"\")","v":""},{"$f":"IFERROR(CONCATENATE(VLOOKUP(競技者一覧!Q165,種目コード一覧!$A$1:$C$51,2,FALSE),\" \",REPT(\"0\",VLOOKUP(競技者一覧!Q165,種目コード一覧!$A$1:$C$51,3,FALSE)-LEN(競技者一覧!R165)),競技者一覧!R165),\"\")","v":""},{"$f":"IFERROR(CONCATENATE(VLOOKUP(競技者一覧!S165,種目コード一覧!$A$1:$C$51,2,FALSE),\" \",REPT(\"0\",VLOOKUP(競技者一覧!S165,種目コード一覧!$A$1:$C$51,3,FALSE)-LEN(競技者一覧!T165)),競技者一覧!T165),\"\")","v":""},{"$f":"IFERROR(CONCATENATE(VLOOKUP(競技者一覧!U165,種目コード一覧!$A$1:$C$51,2,FALSE),\" \",REPT(\"0\",VLOOKUP(競技者一覧!U165,種目コード一覧!$A$1:$C$51,3,FALSE)-LEN(競技者一覧!V165)),競技者一覧!V165),\"\")","v":""},{"$f":"IFERROR(CONCATENATE(VLOOKUP(競技者一覧!W165,種目コード一覧!$A$1:$C$51,2,FALSE),\" \",REPT(\"0\",VLOOKUP(競技者一覧!W165,種目コード一覧!$A$1:$C$51,3,FALSE)-LEN(競技者一覧!X165)),競技者一覧!X165),\"\")","v":""},{"$f":"IFERROR(CONCATENATE(VLOOKUP(競技者一覧!Y165,種目コード一覧!$A$1:$C$51,2,FALSE),\" \",REPT(\"0\",VLOOKUP(競技者一覧!Y165,種目コード一覧!$A$1:$C$51,3,FALSE)-LEN(競技者一覧!Z165)),競技者一覧!Z165),\"\")","v":""}]
[{"$f":"IFERROR(CONCATENATE(競技者一覧!$D$7), \"\")","v":""},{"$f":"IFERROR(CONCATENATE($H$2,Sheet4!B146),\"\")","v":""},{"$f":"競技者一覧!C166&IF(OR(競技者一覧!H166=\"\",競技者一覧!H166=9),\"\",\"(\" & 競技者一覧!H166 & \")\")","v":""},{"$f":"ASC(競技者一覧!D166 &IF(OR(MID(競技者一覧!G166,3,2)=\"\", MID(競技者一覧!G166,3,2)=\"0\"),\"\",\"(\" & MID(競技者一覧!G166,3,2) & \")\"))","v":""},{"$f":"ASC(競技者一覧!E166 & \" \" & 競技者一覧!F166 & IF(OR(MID(競技者一覧!G166,3,2)=\"\", MID(競技者一覧!G166,3,2)=\"0\"),\"\",\"(\" & MID(競技者一覧!G166,3,2) & \")\"))","v":" "},{"$f":"CONCATENATE(競技者一覧!I166)","v":""},{"$f":"IFERROR(IF(競技者一覧!$D$6=\"学連\",VLOOKUP(競技者一覧!J166,Sheet4!$D$2:$E$48,2,FALSE),学校名簿!D146),\"\")","v":0},{"$f":"IFERROR(VLOOKUP(競技者一覧!$D$7,学校番号表!$B$2:$C$65536,2,FALSE),\"\")","v":""},{"$f":"CONCATENATE(競技者一覧!B166)","v":""},{"$f":"IFERROR(CONCATENATE(VLOOKUP(競技者一覧!K166,種目コード一覧!$A$1:$B$51,2,FALSE),\" \",REPT(\"0\",VLOOKUP(競技者一覧!K166,種目コード一覧!$A$1:$C$51,3,FALSE)-LEN(競技者一覧!L166)),競技者一覧!L166),\"\")","v":""},{"$f":"IFERROR(CONCATENATE(VLOOKUP(競技者一覧!M166,種目コード一覧!$A$1:$C$51,2,FALSE),\" \",REPT(\"0\",VLOOKUP(競技者一覧!M166,種目コード一覧!$A$1:$C$51,3,FALSE)-LEN(競技者一覧!N166)),競技者一覧!N166),\"\")","v":""},{"$f":"IFERROR(CONCATENATE(VLOOKUP(競技者一覧!O166,種目コード一覧!$A$1:$C$51,2,FALSE),\" \",REPT(\"0\",VLOOKUP(競技者一覧!O166,種目コード一覧!$A$1:$C$51,3,FALSE)-LEN(競技者一覧!P166)),競技者一覧!P166),\"\")","v":""},{"$f":"IFERROR(CONCATENATE(VLOOKUP(競技者一覧!Q166,種目コード一覧!$A$1:$C$51,2,FALSE),\" \",REPT(\"0\",VLOOKUP(競技者一覧!Q166,種目コード一覧!$A$1:$C$51,3,FALSE)-LEN(競技者一覧!R166)),競技者一覧!R166),\"\")","v":""},{"$f":"IFERROR(CONCATENATE(VLOOKUP(競技者一覧!S166,種目コード一覧!$A$1:$C$51,2,FALSE),\" \",REPT(\"0\",VLOOKUP(競技者一覧!S166,種目コード一覧!$A$1:$C$51,3,FALSE)-LEN(競技者一覧!T166)),競技者一覧!T166),\"\")","v":""},{"$f":"IFERROR(CONCATENATE(VLOOKUP(競技者一覧!U166,種目コード一覧!$A$1:$C$51,2,FALSE),\" \",REPT(\"0\",VLOOKUP(競技者一覧!U166,種目コード一覧!$A$1:$C$51,3,FALSE)-LEN(競技者一覧!V166)),競技者一覧!V166),\"\")","v":""},{"$f":"IFERROR(CONCATENATE(VLOOKUP(競技者一覧!W166,種目コード一覧!$A$1:$C$51,2,FALSE),\" \",REPT(\"0\",VLOOKUP(競技者一覧!W166,種目コード一覧!$A$1:$C$51,3,FALSE)-LEN(競技者一覧!X166)),競技者一覧!X166),\"\")","v":""},{"$f":"IFERROR(CONCATENATE(VLOOKUP(競技者一覧!Y166,種目コード一覧!$A$1:$C$51,2,FALSE),\" \",REPT(\"0\",VLOOKUP(競技者一覧!Y166,種目コード一覧!$A$1:$C$51,3,FALSE)-LEN(競技者一覧!Z166)),競技者一覧!Z166),\"\")","v":""}]
[{"$f":"IFERROR(CONCATENATE(競技者一覧!$D$7), \"\")","v":""},{"$f":"IFERROR(CONCATENATE($H$2,Sheet4!B147),\"\")","v":""},{"$f":"競技者一覧!C167&IF(OR(競技者一覧!H167=\"\",競技者一覧!H167=9),\"\",\"(\" & 競技者一覧!H167 & \")\")","v":""},{"$f":"競技者一覧!D167 &IF(OR(MID(競技者一覧!G167,3,2)=\"\", MID(競技者一覧!G167,3,2)=\"0\"),\"\",\"(\" & MID(競技者一覧!G167,3,2) & \")\")","v":""},{"$f":"ASC(競技者一覧!E167 & \" \" & 競技者一覧!F167 & IF(OR(MID(競技者一覧!G167,3,2)=\"\", MID(競技者一覧!G167,3,2)=\"0\"),\"\",\"(\" & MID(競技者一覧!G167,3,2) & \")\"))","v":" "},{"$f":"CONCATENATE(競技者一覧!I167)","v":""},{"$f":"IFERROR(IF(競技者一覧!$D$6=\"学連\",VLOOKUP(競技者一覧!J167,Sheet4!$D$2:$E$48,2,FALSE),学校名簿!D147),\"\")","v":0},{"$f":"IFERROR(VLOOKUP(競技者一覧!$D$7,学校番号表!$B$2:$C$65536,2,FALSE),\"\")","v":""},{"$f":"CONCATENATE(競技者一覧!B167)","v":""},{"$f":"IFERROR(CONCATENATE(VLOOKUP(競技者一覧!K167,種目コード一覧!$A$1:$C$51,2,FALSE),\" \",REPT(\"0\",VLOOKUP(競技者一覧!K167,種目コード一覧!$A$1:$C$51,3,FALSE)-LEN(競技者一覧!L167)),競技者一覧!L167),\"\")","v":""},{"$f":"IFERROR(CONCATENATE(VLOOKUP(競技者一覧!M167,種目コード一覧!$A$1:$C$51,2,FALSE),\" \",REPT(\"0\",VLOOKUP(競技者一覧!M167,種目コード一覧!$A$1:$C$51,3,FALSE)-LEN(競技者一覧!N167)),競技者一覧!N167),\"\")","v":""},{"$f":"IFERROR(CONCATENATE(VLOOKUP(競技者一覧!O167,種目コード一覧!$A$1:$C$51,2,FALSE),\" \",REPT(\"0\",VLOOKUP(競技者一覧!O167,種目コード一覧!$A$1:$C$51,3,FALSE)-LEN(競技者一覧!P167)),競技者一覧!P167),\"\")","v":""},{"$f":"IFERROR(CONCATENATE(VLOOKUP(競技者一覧!Q167,種目コード一覧!$A$1:$C$51,2,FALSE),\" \",REPT(\"0\",VLOOKUP(競技者一覧!Q167,種目コード一覧!$A$1:$C$51,3,FALSE)-LEN(競技者一覧!R167)),競技者一覧!R167),\"\")","v":""},{"$f":"IFERROR(CONCATENATE(VLOOKUP(競技者一覧!S167,種目コード一覧!$A$1:$C$51,2,FALSE),\" \",REPT(\"0\",VLOOKUP(競技者一覧!S167,種目コード一覧!$A$1:$C$51,3,FALSE)-LEN(競技者一覧!T167)),競技者一覧!T167),\"\")","v":""},{"$f":"IFERROR(CONCATENATE(VLOOKUP(競技者一覧!U167,種目コード一覧!$A$1:$C$51,2,FALSE),\" \",REPT(\"0\",VLOOKUP(競技者一覧!U167,種目コード一覧!$A$1:$C$51,3,FALSE)-LEN(競技者一覧!V167)),競技者一覧!V167),\"\")","v":""},{"$f":"IFERROR(CONCATENATE(VLOOKUP(競技者一覧!W167,種目コード一覧!$A$1:$C$51,2,FALSE),\" \",REPT(\"0\",VLOOKUP(競技者一覧!W167,種目コード一覧!$A$1:$C$51,3,FALSE)-LEN(競技者一覧!X167)),競技者一覧!X167),\"\")","v":""},{"$f":"IFERROR(CONCATENATE(VLOOKUP(競技者一覧!Y167,種目コード一覧!$A$1:$C$51,2,FALSE),\" \",REPT(\"0\",VLOOKUP(競技者一覧!Y167,種目コード一覧!$A$1:$C$51,3,FALSE)-LEN(競技者一覧!Z167)),競技者一覧!Z167),\"\")","v":""}]
[{"$f":"IFERROR(CONCATENATE(競技者一覧!$D$7), \"\")","v":""},{"$f":"IFERROR(CONCATENATE($H$2,Sheet4!B148),\"\")","v":""},{"$f":"競技者一覧!C168&IF(OR(競技者一覧!H168=\"\",競技者一覧!H168=9),\"\",\"(\" & 競技者一覧!H168 & \")\")","v":""},{"$f":"ASC(競技者一覧!D168 &IF(OR(MID(競技者一覧!G168,3,2)=\"\", MID(競技者一覧!G168,3,2)=\"0\"),\"\",\"(\" & MID(競技者一覧!G168,3,2) & \")\"))","v":""},{"$f":"ASC(競技者一覧!E168 & \" \" & 競技者一覧!F168 & IF(OR(MID(競技者一覧!G168,3,2)=\"\", MID(競技者一覧!G168,3,2)=\"0\"),\"\",\"(\" & MID(競技者一覧!G168,3,2) & \")\"))","v":" "},{"$f":"CONCATENATE(競技者一覧!I168)","v":""},{"$f":"IFERROR(IF(競技者一覧!$D$6=\"学連\",VLOOKUP(競技者一覧!J168,Sheet4!$D$2:$E$48,2,FALSE),学校名簿!D148),\"\")","v":0},{"$f":"IFERROR(VLOOKUP(競技者一覧!$D$7,学校番号表!$B$2:$C$65536,2,FALSE),\"\")","v":""},{"$f":"CONCATENATE(競技者一覧!B168)","v":""},{"$f":"IFERROR(CONCATENATE(VLOOKUP(競技者一覧!K168,種目コード一覧!$A$1:$B$51,2,FALSE),\" \",REPT(\"0\",VLOOKUP(競技者一覧!K168,種目コード一覧!$A$1:$C$51,3,FALSE)-LEN(競技者一覧!L168)),競技者一覧!L168),\"\")","v":""},{"$f":"IFERROR(CONCATENATE(VLOOKUP(競技者一覧!M168,種目コード一覧!$A$1:$C$51,2,FALSE),\" \",REPT(\"0\",VLOOKUP(競技者一覧!M168,種目コード一覧!$A$1:$C$51,3,FALSE)-LEN(競技者一覧!N168)),競技者一覧!N168),\"\")","v":""},{"$f":"IFERROR(CONCATENATE(VLOOKUP(競技者一覧!O168,種目コード一覧!$A$1:$C$51,2,FALSE),\" \",REPT(\"0\",VLOOKUP(競技者一覧!O168,種目コード一覧!$A$1:$C$51,3,FALSE)-LEN(競技者一覧!P168)),競技者一覧!P168),\"\")","v":""},{"$f":"IFERROR(CONCATENATE(VLOOKUP(競技者一覧!Q168,種目コード一覧!$A$1:$C$51,2,FALSE),\" \",REPT(\"0\",VLOOKUP(競技者一覧!Q168,種目コード一覧!$A$1:$C$51,3,FALSE)-LEN(競技者一覧!R168)),競技者一覧!R168),\"\")","v":""},{"$f":"IFERROR(CONCATENATE(VLOOKUP(競技者一覧!S168,種目コード一覧!$A$1:$C$51,2,FALSE),\" \",REPT(\"0\",VLOOKUP(競技者一覧!S168,種目コード一覧!$A$1:$C$51,3,FALSE)-LEN(競技者一覧!T168)),競技者一覧!T168),\"\")","v":""},{"$f":"IFERROR(CONCATENATE(VLOOKUP(競技者一覧!U168,種目コード一覧!$A$1:$C$51,2,FALSE),\" \",REPT(\"0\",VLOOKUP(競技者一覧!U168,種目コード一覧!$A$1:$C$51,3,FALSE)-LEN(競技者一覧!V168)),競技者一覧!V168),\"\")","v":""},{"$f":"IFERROR(CONCATENATE(VLOOKUP(競技者一覧!W168,種目コード一覧!$A$1:$C$51,2,FALSE),\" \",REPT(\"0\",VLOOKUP(競技者一覧!W168,種目コード一覧!$A$1:$C$51,3,FALSE)-LEN(競技者一覧!X168)),競技者一覧!X168),\"\")","v":""},{"$f":"IFERROR(CONCATENATE(VLOOKUP(競技者一覧!Y168,種目コード一覧!$A$1:$C$51,2,FALSE),\" \",REPT(\"0\",VLOOKUP(競技者一覧!Y168,種目コード一覧!$A$1:$C$51,3,FALSE)-LEN(競技者一覧!Z168)),競技者一覧!Z168),\"\")","v":""}]
[{"$f":"IFERROR(CONCATENATE(競技者一覧!$D$7), \"\")","v":""},{"$f":"IFERROR(CONCATENATE($H$2,Sheet4!B149),\"\")","v":""},{"$f":"競技者一覧!C169&IF(OR(競技者一覧!H169=\"\",競技者一覧!H169=9),\"\",\"(\" & 競技者一覧!H169 & \")\")","v":""},{"$f":"競技者一覧!D169 &IF(OR(MID(競技者一覧!G169,3,2)=\"\", MID(競技者一覧!G169,3,2)=\"0\"),\"\",\"(\" & MID(競技者一覧!G169,3,2) & \")\")","v":""},{"$f":"ASC(競技者一覧!E169 & \" \" & 競技者一覧!F169 & IF(OR(MID(競技者一覧!G169,3,2)=\"\", MID(競技者一覧!G169,3,2)=\"0\"),\"\",\"(\" & MID(競技者一覧!G169,3,2) & \")\"))","v":" "},{"$f":"CONCATENATE(競技者一覧!I169)","v":""},{"$f":"IFERROR(IF(競技者一覧!$D$6=\"学連\",VLOOKUP(競技者一覧!J169,Sheet4!$D$2:$E$48,2,FALSE),学校名簿!D149),\"\")","v":0},{"$f":"IFERROR(VLOOKUP(競技者一覧!$D$7,学校番号表!$B$2:$C$65536,2,FALSE),\"\")","v":""},{"$f":"CONCATENATE(競技者一覧!B169)","v":""},{"$f":"IFERROR(CONCATENATE(VLOOKUP(競技者一覧!K169,種目コード一覧!$A$1:$C$51,2,FALSE),\" \",REPT(\"0\",VLOOKUP(競技者一覧!K169,種目コード一覧!$A$1:$C$51,3,FALSE)-LEN(競技者一覧!L169)),競技者一覧!L169),\"\")","v":""},{"$f":"IFERROR(CONCATENATE(VLOOKUP(競技者一覧!M169,種目コード一覧!$A$1:$C$51,2,FALSE),\" \",REPT(\"0\",VLOOKUP(競技者一覧!M169,種目コード一覧!$A$1:$C$51,3,FALSE)-LEN(競技者一覧!N169)),競技者一覧!N169),\"\")","v":""},{"$f":"IFERROR(CONCATENATE(VLOOKUP(競技者一覧!O169,種目コード一覧!$A$1:$C$51,2,FALSE),\" \",REPT(\"0\",VLOOKUP(競技者一覧!O169,種目コード一覧!$A$1:$C$51,3,FALSE)-LEN(競技者一覧!P169)),競技者一覧!P169),\"\")","v":""},{"$f":"IFERROR(CONCATENATE(VLOOKUP(競技者一覧!Q169,種目コード一覧!$A$1:$C$51,2,FALSE),\" \",REPT(\"0\",VLOOKUP(競技者一覧!Q169,種目コード一覧!$A$1:$C$51,3,FALSE)-LEN(競技者一覧!R169)),競技者一覧!R169),\"\")","v":""},{"$f":"IFERROR(CONCATENATE(VLOOKUP(競技者一覧!S169,種目コード一覧!$A$1:$C$51,2,FALSE),\" \",REPT(\"0\",VLOOKUP(競技者一覧!S169,種目コード一覧!$A$1:$C$51,3,FALSE)-LEN(競技者一覧!T169)),競技者一覧!T169),\"\")","v":""},{"$f":"IFERROR(CONCATENATE(VLOOKUP(競技者一覧!U169,種目コード一覧!$A$1:$C$51,2,FALSE),\" \",REPT(\"0\",VLOOKUP(競技者一覧!U169,種目コード一覧!$A$1:$C$51,3,FALSE)-LEN(競技者一覧!V169)),競技者一覧!V169),\"\")","v":""},{"$f":"IFERROR(CONCATENATE(VLOOKUP(競技者一覧!W169,種目コード一覧!$A$1:$C$51,2,FALSE),\" \",REPT(\"0\",VLOOKUP(競技者一覧!W169,種目コード一覧!$A$1:$C$51,3,FALSE)-LEN(競技者一覧!X169)),競技者一覧!X169),\"\")","v":""},{"$f":"IFERROR(CONCATENATE(VLOOKUP(競技者一覧!Y169,種目コード一覧!$A$1:$C$51,2,FALSE),\" \",REPT(\"0\",VLOOKUP(競技者一覧!Y169,種目コード一覧!$A$1:$C$51,3,FALSE)-LEN(競技者一覧!Z169)),競技者一覧!Z169),\"\")","v":""}]
[{"$f":"IFERROR(CONCATENATE(競技者一覧!$D$7), \"\")","v":""},{"$f":"IFERROR(CONCATENATE($H$2,Sheet4!B150),\"\")","v":""},{"$f":"競技者一覧!C170&IF(OR(競技者一覧!H170=\"\",競技者一覧!H170=9),\"\",\"(\" & 競技者一覧!H170 & \")\")","v":""},{"$f":"ASC(競技者一覧!D170 &IF(OR(MID(競技者一覧!G170,3,2)=\"\", MID(競技者一覧!G170,3,2)=\"0\"),\"\",\"(\" & MID(競技者一覧!G170,3,2) & \")\"))","v":""},{"$f":"ASC(競技者一覧!E170 & \" \" & 競技者一覧!F170 & IF(OR(MID(競技者一覧!G170,3,2)=\"\", MID(競技者一覧!G170,3,2)=\"0\"),\"\",\"(\" & MID(競技者一覧!G170,3,2) & \")\"))","v":" "},{"$f":"CONCATENATE(競技者一覧!I170)","v":""},{"$f":"IFERROR(IF(競技者一覧!$D$6=\"学連\",VLOOKUP(競技者一覧!J170,Sheet4!$D$2:$E$48,2,FALSE),学校名簿!D150),\"\")","v":0},{"$f":"IFERROR(VLOOKUP(競技者一覧!$D$7,学校番号表!$B$2:$C$65536,2,FALSE),\"\")","v":""},{"$f":"CONCATENATE(競技者一覧!B170)","v":""},{"$f":"IFERROR(CONCATENATE(VLOOKUP(競技者一覧!K170,種目コード一覧!$A$1:$B$51,2,FALSE),\" \",REPT(\"0\",VLOOKUP(競技者一覧!K170,種目コード一覧!$A$1:$C$51,3,FALSE)-LEN(競技者一覧!L170)),競技者一覧!L170),\"\")","v":""},{"$f":"IFERROR(CONCATENATE(VLOOKUP(競技者一覧!M170,種目コード一覧!$A$1:$C$51,2,FALSE),\" \",REPT(\"0\",VLOOKUP(競技者一覧!M170,種目コード一覧!$A$1:$C$51,3,FALSE)-LEN(競技者一覧!N170)),競技者一覧!N170),\"\")","v":""},{"$f":"IFERROR(CONCATENATE(VLOOKUP(競技者一覧!O170,種目コード一覧!$A$1:$C$51,2,FALSE),\" \",REPT(\"0\",VLOOKUP(競技者一覧!O170,種目コード一覧!$A$1:$C$51,3,FALSE)-LEN(競技者一覧!P170)),競技者一覧!P170),\"\")","v":""},{"$f":"IFERROR(CONCATENATE(VLOOKUP(競技者一覧!Q170,種目コード一覧!$A$1:$C$51,2,FALSE),\" \",REPT(\"0\",VLOOKUP(競技者一覧!Q170,種目コード一覧!$A$1:$C$51,3,FALSE)-LEN(競技者一覧!R170)),競技者一覧!R170),\"\")","v":""},{"$f":"IFERROR(CONCATENATE(VLOOKUP(競技者一覧!S170,種目コード一覧!$A$1:$C$51,2,FALSE),\" \",REPT(\"0\",VLOOKUP(競技者一覧!S170,種目コード一覧!$A$1:$C$51,3,FALSE)-LEN(競技者一覧!T170)),競技者一覧!T170),\"\")","v":""},{"$f":"IFERROR(CONCATENATE(VLOOKUP(競技者一覧!U170,種目コード一覧!$A$1:$C$51,2,FALSE),\" \",REPT(\"0\",VLOOKUP(競技者一覧!U170,種目コード一覧!$A$1:$C$51,3,FALSE)-LEN(競技者一覧!V170)),競技者一覧!V170),\"\")","v":""},{"$f":"IFERROR(CONCATENATE(VLOOKUP(競技者一覧!W170,種目コード一覧!$A$1:$C$51,2,FALSE),\" \",REPT(\"0\",VLOOKUP(競技者一覧!W170,種目コード一覧!$A$1:$C$51,3,FALSE)-LEN(競技者一覧!X170)),競技者一覧!X170),\"\")","v":""},{"$f":"IFERROR(CONCATENATE(VLOOKUP(競技者一覧!Y170,種目コード一覧!$A$1:$C$51,2,FALSE),\" \",REPT(\"0\",VLOOKUP(競技者一覧!Y170,種目コード一覧!$A$1:$C$51,3,FALSE)-LEN(競技者一覧!Z170)),競技者一覧!Z170),\"\")","v":""}]
[{"$f":"IFERROR(CONCATENATE(競技者一覧!$D$7), \"\")","v":""},{"$f":"IFERROR(CONCATENATE($H$2,Sheet4!B151),\"\")","v":""},{"$f":"競技者一覧!C171&IF(OR(競技者一覧!H171=\"\",競技者一覧!H171=9),\"\",\"(\" & 競技者一覧!H171 & \")\")","v":""},{"$f":"競技者一覧!D171 &IF(OR(MID(競技者一覧!G171,3,2)=\"\", MID(競技者一覧!G171,3,2)=\"0\"),\"\",\"(\" & MID(競技者一覧!G171,3,2) & \")\")","v":""},{"$f":"ASC(競技者一覧!E171 & \" \" & 競技者一覧!F171 & IF(OR(MID(競技者一覧!G171,3,2)=\"\", MID(競技者一覧!G171,3,2)=\"0\"),\"\",\"(\" & MID(競技者一覧!G171,3,2) & \")\"))","v":" "},{"$f":"CONCATENATE(競技者一覧!I171)","v":""},{"$f":"IFERROR(IF(競技者一覧!$D$6=\"学連\",VLOOKUP(競技者一覧!J171,Sheet4!$D$2:$E$48,2,FALSE),学校名簿!D151),\"\")","v":0},{"$f":"IFERROR(VLOOKUP(競技者一覧!$D$7,学校番号表!$B$2:$C$65536,2,FALSE),\"\")","v":""},{"$f":"CONCATENATE(競技者一覧!B171)","v":""},{"$f":"IFERROR(CONCATENATE(VLOOKUP(競技者一覧!K171,種目コード一覧!$A$1:$C$51,2,FALSE),\" \",REPT(\"0\",VLOOKUP(競技者一覧!K171,種目コード一覧!$A$1:$C$51,3,FALSE)-LEN(競技者一覧!L171)),競技者一覧!L171),\"\")","v":""},{"$f":"IFERROR(CONCATENATE(VLOOKUP(競技者一覧!M171,種目コード一覧!$A$1:$C$51,2,FALSE),\" \",REPT(\"0\",VLOOKUP(競技者一覧!M171,種目コード一覧!$A$1:$C$51,3,FALSE)-LEN(競技者一覧!N171)),競技者一覧!N171),\"\")","v":""},{"$f":"IFERROR(CONCATENATE(VLOOKUP(競技者一覧!O171,種目コード一覧!$A$1:$C$51,2,FALSE),\" \",REPT(\"0\",VLOOKUP(競技者一覧!O171,種目コード一覧!$A$1:$C$51,3,FALSE)-LEN(競技者一覧!P171)),競技者一覧!P171),\"\")","v":""},{"$f":"IFERROR(CONCATENATE(VLOOKUP(競技者一覧!Q171,種目コード一覧!$A$1:$C$51,2,FALSE),\" \",REPT(\"0\",VLOOKUP(競技者一覧!Q171,種目コード一覧!$A$1:$C$51,3,FALSE)-LEN(競技者一覧!R171)),競技者一覧!R171),\"\")","v":""},{"$f":"IFERROR(CONCATENATE(VLOOKUP(競技者一覧!S171,種目コード一覧!$A$1:$C$51,2,FALSE),\" \",REPT(\"0\",VLOOKUP(競技者一覧!S171,種目コード一覧!$A$1:$C$51,3,FALSE)-LEN(競技者一覧!T171)),競技者一覧!T171),\"\")","v":""},{"$f":"IFERROR(CONCATENATE(VLOOKUP(競技者一覧!U171,種目コード一覧!$A$1:$C$51,2,FALSE),\" \",REPT(\"0\",VLOOKUP(競技者一覧!U171,種目コード一覧!$A$1:$C$51,3,FALSE)-LEN(競技者一覧!V171)),競技者一覧!V171),\"\")","v":""},{"$f":"IFERROR(CONCATENATE(VLOOKUP(競技者一覧!W171,種目コード一覧!$A$1:$C$51,2,FALSE),\" \",REPT(\"0\",VLOOKUP(競技者一覧!W171,種目コード一覧!$A$1:$C$51,3,FALSE)-LEN(競技者一覧!X171)),競技者一覧!X171),\"\")","v":""},{"$f":"IFERROR(CONCATENATE(VLOOKUP(競技者一覧!Y171,種目コード一覧!$A$1:$C$51,2,FALSE),\" \",REPT(\"0\",VLOOKUP(競技者一覧!Y171,種目コード一覧!$A$1:$C$51,3,FALSE)-LEN(競技者一覧!Z171)),競技者一覧!Z171),\"\")","v":""}]
[{"$f":"IFERROR(CONCATENATE(競技者一覧!$D$7), \"\")","v":""},{"$f":"IFERROR(CONCATENATE($H$2,Sheet4!B152),\"\")","v":""},{"$f":"競技者一覧!C172&IF(OR(競技者一覧!H172=\"\",競技者一覧!H172=9),\"\",\"(\" & 競技者一覧!H172 & \")\")","v":""},{"$f":"ASC(競技者一覧!D172 &IF(OR(MID(競技者一覧!G172,3,2)=\"\", MID(競技者一覧!G172,3,2)=\"0\"),\"\",\"(\" & MID(競技者一覧!G172,3,2) & \")\"))","v":""},{"$f":"ASC(競技者一覧!E172 & \" \" & 競技者一覧!F172 & IF(OR(MID(競技者一覧!G172,3,2)=\"\", MID(競技者一覧!G172,3,2)=\"0\"),\"\",\"(\" & MID(競技者一覧!G172,3,2) & \")\"))","v":" "},{"$f":"CONCATENATE(競技者一覧!I172)","v":""},{"$f":"IFERROR(IF(競技者一覧!$D$6=\"学連\",VLOOKUP(競技者一覧!J172,Sheet4!$D$2:$E$48,2,FALSE),学校名簿!D152),\"\")","v":0},{"$f":"IFERROR(VLOOKUP(競技者一覧!$D$7,学校番号表!$B$2:$C$65536,2,FALSE),\"\")","v":""},{"$f":"CONCATENATE(競技者一覧!B172)","v":""},{"$f":"IFERROR(CONCATENATE(VLOOKUP(競技者一覧!K172,種目コード一覧!$A$1:$B$51,2,FALSE),\" \",REPT(\"0\",VLOOKUP(競技者一覧!K172,種目コード一覧!$A$1:$C$51,3,FALSE)-LEN(競技者一覧!L172)),競技者一覧!L172),\"\")","v":""},{"$f":"IFERROR(CONCATENATE(VLOOKUP(競技者一覧!M172,種目コード一覧!$A$1:$C$51,2,FALSE),\" \",REPT(\"0\",VLOOKUP(競技者一覧!M172,種目コード一覧!$A$1:$C$51,3,FALSE)-LEN(競技者一覧!N172)),競技者一覧!N172),\"\")","v":""},{"$f":"IFERROR(CONCATENATE(VLOOKUP(競技者一覧!O172,種目コード一覧!$A$1:$C$51,2,FALSE),\" \",REPT(\"0\",VLOOKUP(競技者一覧!O172,種目コード一覧!$A$1:$C$51,3,FALSE)-LEN(競技者一覧!P172)),競技者一覧!P172),\"\")","v":""},{"$f":"IFERROR(CONCATENATE(VLOOKUP(競技者一覧!Q172,種目コード一覧!$A$1:$C$51,2,FALSE),\" \",REPT(\"0\",VLOOKUP(競技者一覧!Q172,種目コード一覧!$A$1:$C$51,3,FALSE)-LEN(競技者一覧!R172)),競技者一覧!R172),\"\")","v":""},{"$f":"IFERROR(CONCATENATE(VLOOKUP(競技者一覧!S172,種目コード一覧!$A$1:$C$51,2,FALSE),\" \",REPT(\"0\",VLOOKUP(競技者一覧!S172,種目コード一覧!$A$1:$C$51,3,FALSE)-LEN(競技者一覧!T172)),競技者一覧!T172),\"\")","v":""},{"$f":"IFERROR(CONCATENATE(VLOOKUP(競技者一覧!U172,種目コード一覧!$A$1:$C$51,2,FALSE),\" \",REPT(\"0\",VLOOKUP(競技者一覧!U172,種目コード一覧!$A$1:$C$51,3,FALSE)-LEN(競技者一覧!V172)),競技者一覧!V172),\"\")","v":""},{"$f":"IFERROR(CONCATENATE(VLOOKUP(競技者一覧!W172,種目コード一覧!$A$1:$C$51,2,FALSE),\" \",REPT(\"0\",VLOOKUP(競技者一覧!W172,種目コード一覧!$A$1:$C$51,3,FALSE)-LEN(競技者一覧!X172)),競技者一覧!X172),\"\")","v":""},{"$f":"IFERROR(CONCATENATE(VLOOKUP(競技者一覧!Y172,種目コード一覧!$A$1:$C$51,2,FALSE),\" \",REPT(\"0\",VLOOKUP(競技者一覧!Y172,種目コード一覧!$A$1:$C$51,3,FALSE)-LEN(競技者一覧!Z172)),競技者一覧!Z172),\"\")","v":""}]
[{"$f":"IFERROR(CONCATENATE(競技者一覧!$D$7), \"\")","v":""},{"$f":"IFERROR(CONCATENATE($H$2,Sheet4!B153),\"\")","v":""},{"$f":"競技者一覧!C173&IF(OR(競技者一覧!H173=\"\",競技者一覧!H173=9),\"\",\"(\" & 競技者一覧!H173 & \")\")","v":""},{"$f":"競技者一覧!D173 &IF(OR(MID(競技者一覧!G173,3,2)=\"\", MID(競技者一覧!G173,3,2)=\"0\"),\"\",\"(\" & MID(競技者一覧!G173,3,2) & \")\")","v":""},{"$f":"ASC(競技者一覧!E173 & \" \" & 競技者一覧!F173 & IF(OR(MID(競技者一覧!G173,3,2)=\"\", MID(競技者一覧!G173,3,2)=\"0\"),\"\",\"(\" & MID(競技者一覧!G173,3,2) & \")\"))","v":" "},{"$f":"CONCATENATE(競技者一覧!I173)","v":""},{"$f":"IFERROR(IF(競技者一覧!$D$6=\"学連\",VLOOKUP(競技者一覧!J173,Sheet4!$D$2:$E$48,2,FALSE),学校名簿!D153),\"\")","v":0},{"$f":"IFERROR(VLOOKUP(競技者一覧!$D$7,学校番号表!$B$2:$C$65536,2,FALSE),\"\")","v":""},{"$f":"CONCATENATE(競技者一覧!B173)","v":""},{"$f":"IFERROR(CONCATENATE(VLOOKUP(競技者一覧!K173,種目コード一覧!$A$1:$C$51,2,FALSE),\" \",REPT(\"0\",VLOOKUP(競技者一覧!K173,種目コード一覧!$A$1:$C$51,3,FALSE)-LEN(競技者一覧!L173)),競技者一覧!L173),\"\")","v":""},{"$f":"IFERROR(CONCATENATE(VLOOKUP(競技者一覧!M173,種目コード一覧!$A$1:$C$51,2,FALSE),\" \",REPT(\"0\",VLOOKUP(競技者一覧!M173,種目コード一覧!$A$1:$C$51,3,FALSE)-LEN(競技者一覧!N173)),競技者一覧!N173),\"\")","v":""},{"$f":"IFERROR(CONCATENATE(VLOOKUP(競技者一覧!O173,種目コード一覧!$A$1:$C$51,2,FALSE),\" \",REPT(\"0\",VLOOKUP(競技者一覧!O173,種目コード一覧!$A$1:$C$51,3,FALSE)-LEN(競技者一覧!P173)),競技者一覧!P173),\"\")","v":""},{"$f":"IFERROR(CONCATENATE(VLOOKUP(競技者一覧!Q173,種目コード一覧!$A$1:$C$51,2,FALSE),\" \",REPT(\"0\",VLOOKUP(競技者一覧!Q173,種目コード一覧!$A$1:$C$51,3,FALSE)-LEN(競技者一覧!R173)),競技者一覧!R173),\"\")","v":""},{"$f":"IFERROR(CONCATENATE(VLOOKUP(競技者一覧!S173,種目コード一覧!$A$1:$C$51,2,FALSE),\" \",REPT(\"0\",VLOOKUP(競技者一覧!S173,種目コード一覧!$A$1:$C$51,3,FALSE)-LEN(競技者一覧!T173)),競技者一覧!T173),\"\")","v":""},{"$f":"IFERROR(CONCATENATE(VLOOKUP(競技者一覧!U173,種目コード一覧!$A$1:$C$51,2,FALSE),\" \",REPT(\"0\",VLOOKUP(競技者一覧!U173,種目コード一覧!$A$1:$C$51,3,FALSE)-LEN(競技者一覧!V173)),競技者一覧!V173),\"\")","v":""},{"$f":"IFERROR(CONCATENATE(VLOOKUP(競技者一覧!W173,種目コード一覧!$A$1:$C$51,2,FALSE),\" \",REPT(\"0\",VLOOKUP(競技者一覧!W173,種目コード一覧!$A$1:$C$51,3,FALSE)-LEN(競技者一覧!X173)),競技者一覧!X173),\"\")","v":""},{"$f":"IFERROR(CONCATENATE(VLOOKUP(競技者一覧!Y173,種目コード一覧!$A$1:$C$51,2,FALSE),\" \",REPT(\"0\",VLOOKUP(競技者一覧!Y173,種目コード一覧!$A$1:$C$51,3,FALSE)-LEN(競技者一覧!Z173)),競技者一覧!Z173),\"\")","v":""}]
[{"$f":"IFERROR(CONCATENATE(競技者一覧!$D$7), \"\")","v":""},{"$f":"IFERROR(CONCATENATE($H$2,Sheet4!B154),\"\")","v":""},{"$f":"競技者一覧!C174&IF(OR(競技者一覧!H174=\"\",競技者一覧!H174=9),\"\",\"(\" & 競技者一覧!H174 & \")\")","v":""},{"$f":"ASC(競技者一覧!D174 &IF(OR(MID(競技者一覧!G174,3,2)=\"\", MID(競技者一覧!G174,3,2)=\"0\"),\"\",\"(\" & MID(競技者一覧!G174,3,2) & \")\"))","v":""},{"$f":"ASC(競技者一覧!E174 & \" \" & 競技者一覧!F174 & IF(OR(MID(競技者一覧!G174,3,2)=\"\", MID(競技者一覧!G174,3,2)=\"0\"),\"\",\"(\" & MID(競技者一覧!G174,3,2) & \")\"))","v":" "},{"$f":"CONCATENATE(競技者一覧!I174)","v":""},{"$f":"IFERROR(IF(競技者一覧!$D$6=\"学連\",VLOOKUP(競技者一覧!J174,Sheet4!$D$2:$E$48,2,FALSE),学校名簿!D154),\"\")","v":0},{"$f":"IFERROR(VLOOKUP(競技者一覧!$D$7,学校番号表!$B$2:$C$65536,2,FALSE),\"\")","v":""},{"$f":"CONCATENATE(競技者一覧!B174)","v":""},{"$f":"IFERROR(CONCATENATE(VLOOKUP(競技者一覧!K174,種目コード一覧!$A$1:$B$51,2,FALSE),\" \",REPT(\"0\",VLOOKUP(競技者一覧!K174,種目コード一覧!$A$1:$C$51,3,FALSE)-LEN(競技者一覧!L174)),競技者一覧!L174),\"\")","v":""},{"$f":"IFERROR(CONCATENATE(VLOOKUP(競技者一覧!M174,種目コード一覧!$A$1:$C$51,2,FALSE),\" \",REPT(\"0\",VLOOKUP(競技者一覧!M174,種目コード一覧!$A$1:$C$51,3,FALSE)-LEN(競技者一覧!N174)),競技者一覧!N174),\"\")","v":""},{"$f":"IFERROR(CONCATENATE(VLOOKUP(競技者一覧!O174,種目コード一覧!$A$1:$C$51,2,FALSE),\" \",REPT(\"0\",VLOOKUP(競技者一覧!O174,種目コード一覧!$A$1:$C$51,3,FALSE)-LEN(競技者一覧!P174)),競技者一覧!P174),\"\")","v":""},{"$f":"IFERROR(CONCATENATE(VLOOKUP(競技者一覧!Q174,種目コード一覧!$A$1:$C$51,2,FALSE),\" \",REPT(\"0\",VLOOKUP(競技者一覧!Q174,種目コード一覧!$A$1:$C$51,3,FALSE)-LEN(競技者一覧!R174)),競技者一覧!R174),\"\")","v":""},{"$f":"IFERROR(CONCATENATE(VLOOKUP(競技者一覧!S174,種目コード一覧!$A$1:$C$51,2,FALSE),\" \",REPT(\"0\",VLOOKUP(競技者一覧!S174,種目コード一覧!$A$1:$C$51,3,FALSE)-LEN(競技者一覧!T174)),競技者一覧!T174),\"\")","v":""},{"$f":"IFERROR(CONCATENATE(VLOOKUP(競技者一覧!U174,種目コード一覧!$A$1:$C$51,2,FALSE),\" \",REPT(\"0\",VLOOKUP(競技者一覧!U174,種目コード一覧!$A$1:$C$51,3,FALSE)-LEN(競技者一覧!V174)),競技者一覧!V174),\"\")","v":""},{"$f":"IFERROR(CONCATENATE(VLOOKUP(競技者一覧!W174,種目コード一覧!$A$1:$C$51,2,FALSE),\" \",REPT(\"0\",VLOOKUP(競技者一覧!W174,種目コード一覧!$A$1:$C$51,3,FALSE)-LEN(競技者一覧!X174)),競技者一覧!X174),\"\")","v":""},{"$f":"IFERROR(CONCATENATE(VLOOKUP(競技者一覧!Y174,種目コード一覧!$A$1:$C$51,2,FALSE),\" \",REPT(\"0\",VLOOKUP(競技者一覧!Y174,種目コード一覧!$A$1:$C$51,3,FALSE)-LEN(競技者一覧!Z174)),競技者一覧!Z174),\"\")","v":""}]
[{"$f":"IFERROR(CONCATENATE(競技者一覧!$D$7), \"\")","v":""},{"$f":"IFERROR(CONCATENATE($H$2,Sheet4!B155),\"\")","v":""},{"$f":"競技者一覧!C175&IF(OR(競技者一覧!H175=\"\",競技者一覧!H175=9),\"\",\"(\" & 競技者一覧!H175 & \")\")","v":""},{"$f":"競技者一覧!D175 &IF(OR(MID(競技者一覧!G175,3,2)=\"\", MID(競技者一覧!G175,3,2)=\"0\"),\"\",\"(\" & MID(競技者一覧!G175,3,2) & \")\")","v":""},{"$f":"ASC(競技者一覧!E175 & \" \" & 競技者一覧!F175 & IF(OR(MID(競技者一覧!G175,3,2)=\"\", MID(競技者一覧!G175,3,2)=\"0\"),\"\",\"(\" & MID(競技者一覧!G175,3,2) & \")\"))","v":" "},{"$f":"CONCATENATE(競技者一覧!I175)","v":""},{"$f":"IFERROR(IF(競技者一覧!$D$6=\"学連\",VLOOKUP(競技者一覧!J175,Sheet4!$D$2:$E$48,2,FALSE),学校名簿!D155),\"\")","v":0},{"$f":"IFERROR(VLOOKUP(競技者一覧!$D$7,学校番号表!$B$2:$C$65536,2,FALSE),\"\")","v":""},{"$f":"CONCATENATE(競技者一覧!B175)","v":""},{"$f":"IFERROR(CONCATENATE(VLOOKUP(競技者一覧!K175,種目コード一覧!$A$1:$C$51,2,FALSE),\" \",REPT(\"0\",VLOOKUP(競技者一覧!K175,種目コード一覧!$A$1:$C$51,3,FALSE)-LEN(競技者一覧!L175)),競技者一覧!L175),\"\")","v":""},{"$f":"IFERROR(CONCATENATE(VLOOKUP(競技者一覧!M175,種目コード一覧!$A$1:$C$51,2,FALSE),\" \",REPT(\"0\",VLOOKUP(競技者一覧!M175,種目コード一覧!$A$1:$C$51,3,FALSE)-LEN(競技者一覧!N175)),競技者一覧!N175),\"\")","v":""},{"$f":"IFERROR(CONCATENATE(VLOOKUP(競技者一覧!O175,種目コード一覧!$A$1:$C$51,2,FALSE),\" \",REPT(\"0\",VLOOKUP(競技者一覧!O175,種目コード一覧!$A$1:$C$51,3,FALSE)-LEN(競技者一覧!P175)),競技者一覧!P175),\"\")","v":""},{"$f":"IFERROR(CONCATENATE(VLOOKUP(競技者一覧!Q175,種目コード一覧!$A$1:$C$51,2,FALSE),\" \",REPT(\"0\",VLOOKUP(競技者一覧!Q175,種目コード一覧!$A$1:$C$51,3,FALSE)-LEN(競技者一覧!R175)),競技者一覧!R175),\"\")","v":""},{"$f":"IFERROR(CONCATENATE(VLOOKUP(競技者一覧!S175,種目コード一覧!$A$1:$C$51,2,FALSE),\" \",REPT(\"0\",VLOOKUP(競技者一覧!S175,種目コード一覧!$A$1:$C$51,3,FALSE)-LEN(競技者一覧!T175)),競技者一覧!T175),\"\")","v":""},{"$f":"IFERROR(CONCATENATE(VLOOKUP(競技者一覧!U175,種目コード一覧!$A$1:$C$51,2,FALSE),\" \",REPT(\"0\",VLOOKUP(競技者一覧!U175,種目コード一覧!$A$1:$C$51,3,FALSE)-LEN(競技者一覧!V175)),競技者一覧!V175),\"\")","v":""},{"$f":"IFERROR(CONCATENATE(VLOOKUP(競技者一覧!W175,種目コード一覧!$A$1:$C$51,2,FALSE),\" \",REPT(\"0\",VLOOKUP(競技者一覧!W175,種目コード一覧!$A$1:$C$51,3,FALSE)-LEN(競技者一覧!X175)),競技者一覧!X175),\"\")","v":""},{"$f":"IFERROR(CONCATENATE(VLOOKUP(競技者一覧!Y175,種目コード一覧!$A$1:$C$51,2,FALSE),\" \",REPT(\"0\",VLOOKUP(競技者一覧!Y175,種目コード一覧!$A$1:$C$51,3,FALSE)-LEN(競技者一覧!Z175)),競技者一覧!Z175),\"\")","v":""}]
[{"$f":"IFERROR(CONCATENATE(競技者一覧!$D$7), \"\")","v":""},{"$f":"IFERROR(CONCATENATE($H$2,Sheet4!B156),\"\")","v":""},{"$f":"競技者一覧!C176&IF(OR(競技者一覧!H176=\"\",競技者一覧!H176=9),\"\",\"(\" & 競技者一覧!H176 & \")\")","v":""},{"$f":"ASC(競技者一覧!D176 &IF(OR(MID(競技者一覧!G176,3,2)=\"\", MID(競技者一覧!G176,3,2)=\"0\"),\"\",\"(\" & MID(競技者一覧!G176,3,2) & \")\"))","v":""},{"$f":"ASC(競技者一覧!E176 & \" \" & 競技者一覧!F176 & IF(OR(MID(競技者一覧!G176,3,2)=\"\", MID(競技者一覧!G176,3,2)=\"0\"),\"\",\"(\" & MID(競技者一覧!G176,3,2) & \")\"))","v":" "},{"$f":"CONCATENATE(競技者一覧!I176)","v":""},{"$f":"IFERROR(IF(競技者一覧!$D$6=\"学連\",VLOOKUP(競技者一覧!J176,Sheet4!$D$2:$E$48,2,FALSE),学校名簿!D156),\"\")","v":0},{"$f":"IFERROR(VLOOKUP(競技者一覧!$D$7,学校番号表!$B$2:$C$65536,2,FALSE),\"\")","v":""},{"$f":"CONCATENATE(競技者一覧!B176)","v":""},{"$f":"IFERROR(CONCATENATE(VLOOKUP(競技者一覧!K176,種目コード一覧!$A$1:$B$51,2,FALSE),\" \",REPT(\"0\",VLOOKUP(競技者一覧!K176,種目コード一覧!$A$1:$C$51,3,FALSE)-LEN(競技者一覧!L176)),競技者一覧!L176),\"\")","v":""},{"$f":"IFERROR(CONCATENATE(VLOOKUP(競技者一覧!M176,種目コード一覧!$A$1:$C$51,2,FALSE),\" \",REPT(\"0\",VLOOKUP(競技者一覧!M176,種目コード一覧!$A$1:$C$51,3,FALSE)-LEN(競技者一覧!N176)),競技者一覧!N176),\"\")","v":""},{"$f":"IFERROR(CONCATENATE(VLOOKUP(競技者一覧!O176,種目コード一覧!$A$1:$C$51,2,FALSE),\" \",REPT(\"0\",VLOOKUP(競技者一覧!O176,種目コード一覧!$A$1:$C$51,3,FALSE)-LEN(競技者一覧!P176)),競技者一覧!P176),\"\")","v":""},{"$f":"IFERROR(CONCATENATE(VLOOKUP(競技者一覧!Q176,種目コード一覧!$A$1:$C$51,2,FALSE),\" \",REPT(\"0\",VLOOKUP(競技者一覧!Q176,種目コード一覧!$A$1:$C$51,3,FALSE)-LEN(競技者一覧!R176)),競技者一覧!R176),\"\")","v":""},{"$f":"IFERROR(CONCATENATE(VLOOKUP(競技者一覧!S176,種目コード一覧!$A$1:$C$51,2,FALSE),\" \",REPT(\"0\",VLOOKUP(競技者一覧!S176,種目コード一覧!$A$1:$C$51,3,FALSE)-LEN(競技者一覧!T176)),競技者一覧!T176),\"\")","v":""},{"$f":"IFERROR(CONCATENATE(VLOOKUP(競技者一覧!U176,種目コード一覧!$A$1:$C$51,2,FALSE),\" \",REPT(\"0\",VLOOKUP(競技者一覧!U176,種目コード一覧!$A$1:$C$51,3,FALSE)-LEN(競技者一覧!V176)),競技者一覧!V176),\"\")","v":""},{"$f":"IFERROR(CONCATENATE(VLOOKUP(競技者一覧!W176,種目コード一覧!$A$1:$C$51,2,FALSE),\" \",REPT(\"0\",VLOOKUP(競技者一覧!W176,種目コード一覧!$A$1:$C$51,3,FALSE)-LEN(競技者一覧!X176)),競技者一覧!X176),\"\")","v":""},{"$f":"IFERROR(CONCATENATE(VLOOKUP(競技者一覧!Y176,種目コード一覧!$A$1:$C$51,2,FALSE),\" \",REPT(\"0\",VLOOKUP(競技者一覧!Y176,種目コード一覧!$A$1:$C$51,3,FALSE)-LEN(競技者一覧!Z176)),競技者一覧!Z176),\"\")","v":""}]
[{"$f":"IFERROR(CONCATENATE(競技者一覧!$D$7), \"\")","v":""},{"$f":"IFERROR(CONCATENATE($H$2,Sheet4!B157),\"\")","v":""},{"$f":"競技者一覧!C177&IF(OR(競技者一覧!H177=\"\",競技者一覧!H177=9),\"\",\"(\" & 競技者一覧!H177 & \")\")","v":""},{"$f":"競技者一覧!D177 &IF(OR(MID(競技者一覧!G177,3,2)=\"\", MID(競技者一覧!G177,3,2)=\"0\"),\"\",\"(\" & MID(競技者一覧!G177,3,2) & \")\")","v":""},{"$f":"ASC(競技者一覧!E177 & \" \" & 競技者一覧!F177 & IF(OR(MID(競技者一覧!G177,3,2)=\"\", MID(競技者一覧!G177,3,2)=\"0\"),\"\",\"(\" & MID(競技者一覧!G177,3,2) & \")\"))","v":" "},{"$f":"CONCATENATE(競技者一覧!I177)","v":""},{"$f":"IFERROR(IF(競技者一覧!$D$6=\"学連\",VLOOKUP(競技者一覧!J177,Sheet4!$D$2:$E$48,2,FALSE),学校名簿!D157),\"\")","v":0},{"$f":"IFERROR(VLOOKUP(競技者一覧!$D$7,学校番号表!$B$2:$C$65536,2,FALSE),\"\")","v":""},{"$f":"CONCATENATE(競技者一覧!B177)","v":""},{"$f":"IFERROR(CONCATENATE(VLOOKUP(競技者一覧!K177,種目コード一覧!$A$1:$C$51,2,FALSE),\" \",REPT(\"0\",VLOOKUP(競技者一覧!K177,種目コード一覧!$A$1:$C$51,3,FALSE)-LEN(競技者一覧!L177)),競技者一覧!L177),\"\")","v":""},{"$f":"IFERROR(CONCATENATE(VLOOKUP(競技者一覧!M177,種目コード一覧!$A$1:$C$51,2,FALSE),\" \",REPT(\"0\",VLOOKUP(競技者一覧!M177,種目コード一覧!$A$1:$C$51,3,FALSE)-LEN(競技者一覧!N177)),競技者一覧!N177),\"\")","v":""},{"$f":"IFERROR(CONCATENATE(VLOOKUP(競技者一覧!O177,種目コード一覧!$A$1:$C$51,2,FALSE),\" \",REPT(\"0\",VLOOKUP(競技者一覧!O177,種目コード一覧!$A$1:$C$51,3,FALSE)-LEN(競技者一覧!P177)),競技者一覧!P177),\"\")","v":""},{"$f":"IFERROR(CONCATENATE(VLOOKUP(競技者一覧!Q177,種目コード一覧!$A$1:$C$51,2,FALSE),\" \",REPT(\"0\",VLOOKUP(競技者一覧!Q177,種目コード一覧!$A$1:$C$51,3,FALSE)-LEN(競技者一覧!R177)),競技者一覧!R177),\"\")","v":""},{"$f":"IFERROR(CONCATENATE(VLOOKUP(競技者一覧!S177,種目コード一覧!$A$1:$C$51,2,FALSE),\" \",REPT(\"0\",VLOOKUP(競技者一覧!S177,種目コード一覧!$A$1:$C$51,3,FALSE)-LEN(競技者一覧!T177)),競技者一覧!T177),\"\")","v":""},{"$f":"IFERROR(CONCATENATE(VLOOKUP(競技者一覧!U177,種目コード一覧!$A$1:$C$51,2,FALSE),\" \",REPT(\"0\",VLOOKUP(競技者一覧!U177,種目コード一覧!$A$1:$C$51,3,FALSE)-LEN(競技者一覧!V177)),競技者一覧!V177),\"\")","v":""},{"$f":"IFERROR(CONCATENATE(VLOOKUP(競技者一覧!W177,種目コード一覧!$A$1:$C$51,2,FALSE),\" \",REPT(\"0\",VLOOKUP(競技者一覧!W177,種目コード一覧!$A$1:$C$51,3,FALSE)-LEN(競技者一覧!X177)),競技者一覧!X177),\"\")","v":""},{"$f":"IFERROR(CONCATENATE(VLOOKUP(競技者一覧!Y177,種目コード一覧!$A$1:$C$51,2,FALSE),\" \",REPT(\"0\",VLOOKUP(競技者一覧!Y177,種目コード一覧!$A$1:$C$51,3,FALSE)-LEN(競技者一覧!Z177)),競技者一覧!Z177),\"\")","v":""}]
[{"$f":"IFERROR(CONCATENATE(競技者一覧!$D$7), \"\")","v":""},{"$f":"IFERROR(CONCATENATE($H$2,Sheet4!B158),\"\")","v":""},{"$f":"競技者一覧!C178&IF(OR(競技者一覧!H178=\"\",競技者一覧!H178=9),\"\",\"(\" & 競技者一覧!H178 & \")\")","v":""},{"$f":"ASC(競技者一覧!D178 &IF(OR(MID(競技者一覧!G178,3,2)=\"\", MID(競技者一覧!G178,3,2)=\"0\"),\"\",\"(\" & MID(競技者一覧!G178,3,2) & \")\"))","v":""},{"$f":"ASC(競技者一覧!E178 & \" \" & 競技者一覧!F178 & IF(OR(MID(競技者一覧!G178,3,2)=\"\", MID(競技者一覧!G178,3,2)=\"0\"),\"\",\"(\" & MID(競技者一覧!G178,3,2) & \")\"))","v":" "},{"$f":"CONCATENATE(競技者一覧!I178)","v":""},{"$f":"IFERROR(IF(競技者一覧!$D$6=\"学連\",VLOOKUP(競技者一覧!J178,Sheet4!$D$2:$E$48,2,FALSE),学校名簿!D158),\"\")","v":0},{"$f":"IFERROR(VLOOKUP(競技者一覧!$D$7,学校番号表!$B$2:$C$65536,2,FALSE),\"\")","v":""},{"$f":"CONCATENATE(競技者一覧!B178)","v":""},{"$f":"IFERROR(CONCATENATE(VLOOKUP(競技者一覧!K178,種目コード一覧!$A$1:$B$51,2,FALSE),\" \",REPT(\"0\",VLOOKUP(競技者一覧!K178,種目コード一覧!$A$1:$C$51,3,FALSE)-LEN(競技者一覧!L178)),競技者一覧!L178),\"\")","v":""},{"$f":"IFERROR(CONCATENATE(VLOOKUP(競技者一覧!M178,種目コード一覧!$A$1:$C$51,2,FALSE),\" \",REPT(\"0\",VLOOKUP(競技者一覧!M178,種目コード一覧!$A$1:$C$51,3,FALSE)-LEN(競技者一覧!N178)),競技者一覧!N178),\"\")","v":""},{"$f":"IFERROR(CONCATENATE(VLOOKUP(競技者一覧!O178,種目コード一覧!$A$1:$C$51,2,FALSE),\" \",REPT(\"0\",VLOOKUP(競技者一覧!O178,種目コード一覧!$A$1:$C$51,3,FALSE)-LEN(競技者一覧!P178)),競技者一覧!P178),\"\")","v":""},{"$f":"IFERROR(CONCATENATE(VLOOKUP(競技者一覧!Q178,種目コード一覧!$A$1:$C$51,2,FALSE),\" \",REPT(\"0\",VLOOKUP(競技者一覧!Q178,種目コード一覧!$A$1:$C$51,3,FALSE)-LEN(競技者一覧!R178)),競技者一覧!R178),\"\")","v":""},{"$f":"IFERROR(CONCATENATE(VLOOKUP(競技者一覧!S178,種目コード一覧!$A$1:$C$51,2,FALSE),\" \",REPT(\"0\",VLOOKUP(競技者一覧!S178,種目コード一覧!$A$1:$C$51,3,FALSE)-LEN(競技者一覧!T178)),競技者一覧!T178),\"\")","v":""},{"$f":"IFERROR(CONCATENATE(VLOOKUP(競技者一覧!U178,種目コード一覧!$A$1:$C$51,2,FALSE),\" \",REPT(\"0\",VLOOKUP(競技者一覧!U178,種目コード一覧!$A$1:$C$51,3,FALSE)-LEN(競技者一覧!V178)),競技者一覧!V178),\"\")","v":""},{"$f":"IFERROR(CONCATENATE(VLOOKUP(競技者一覧!W178,種目コード一覧!$A$1:$C$51,2,FALSE),\" \",REPT(\"0\",VLOOKUP(競技者一覧!W178,種目コード一覧!$A$1:$C$51,3,FALSE)-LEN(競技者一覧!X178)),競技者一覧!X178),\"\")","v":""},{"$f":"IFERROR(CONCATENATE(VLOOKUP(競技者一覧!Y178,種目コード一覧!$A$1:$C$51,2,FALSE),\" \",REPT(\"0\",VLOOKUP(競技者一覧!Y178,種目コード一覧!$A$1:$C$51,3,FALSE)-LEN(競技者一覧!Z178)),競技者一覧!Z178),\"\")","v":""}]
[{"$f":"IFERROR(CONCATENATE(競技者一覧!$D$7), \"\")","v":""},{"$f":"IFERROR(CONCATENATE($H$2,Sheet4!B159),\"\")","v":""},{"$f":"競技者一覧!C179&IF(OR(競技者一覧!H179=\"\",競技者一覧!H179=9),\"\",\"(\" & 競技者一覧!H179 & \")\")","v":""},{"$f":"競技者一覧!D179 &IF(OR(MID(競技者一覧!G179,3,2)=\"\", MID(競技者一覧!G179,3,2)=\"0\"),\"\",\"(\" & MID(競技者一覧!G179,3,2) & \")\")","v":""},{"$f":"ASC(競技者一覧!E179 & \" \" & 競技者一覧!F179 & IF(OR(MID(競技者一覧!G179,3,2)=\"\", MID(競技者一覧!G179,3,2)=\"0\"),\"\",\"(\" & MID(競技者一覧!G179,3,2) & \")\"))","v":" "},{"$f":"CONCATENATE(競技者一覧!I179)","v":""},{"$f":"IFERROR(IF(競技者一覧!$D$6=\"学連\",VLOOKUP(競技者一覧!J179,Sheet4!$D$2:$E$48,2,FALSE),学校名簿!D159),\"\")","v":0},{"$f":"IFERROR(VLOOKUP(競技者一覧!$D$7,学校番号表!$B$2:$C$65536,2,FALSE),\"\")","v":""},{"$f":"CONCATENATE(競技者一覧!B179)","v":""},{"$f":"IFERROR(CONCATENATE(VLOOKUP(競技者一覧!K179,種目コード一覧!$A$1:$C$51,2,FALSE),\" \",REPT(\"0\",VLOOKUP(競技者一覧!K179,種目コード一覧!$A$1:$C$51,3,FALSE)-LEN(競技者一覧!L179)),競技者一覧!L179),\"\")","v":""},{"$f":"IFERROR(CONCATENATE(VLOOKUP(競技者一覧!M179,種目コード一覧!$A$1:$C$51,2,FALSE),\" \",REPT(\"0\",VLOOKUP(競技者一覧!M179,種目コード一覧!$A$1:$C$51,3,FALSE)-LEN(競技者一覧!N179)),競技者一覧!N179),\"\")","v":""},{"$f":"IFERROR(CONCATENATE(VLOOKUP(競技者一覧!O179,種目コード一覧!$A$1:$C$51,2,FALSE),\" \",REPT(\"0\",VLOOKUP(競技者一覧!O179,種目コード一覧!$A$1:$C$51,3,FALSE)-LEN(競技者一覧!P179)),競技者一覧!P179),\"\")","v":""},{"$f":"IFERROR(CONCATENATE(VLOOKUP(競技者一覧!Q179,種目コード一覧!$A$1:$C$51,2,FALSE),\" \",REPT(\"0\",VLOOKUP(競技者一覧!Q179,種目コード一覧!$A$1:$C$51,3,FALSE)-LEN(競技者一覧!R179)),競技者一覧!R179),\"\")","v":""},{"$f":"IFERROR(CONCATENATE(VLOOKUP(競技者一覧!S179,種目コード一覧!$A$1:$C$51,2,FALSE),\" \",REPT(\"0\",VLOOKUP(競技者一覧!S179,種目コード一覧!$A$1:$C$51,3,FALSE)-LEN(競技者一覧!T179)),競技者一覧!T179),\"\")","v":""},{"$f":"IFERROR(CONCATENATE(VLOOKUP(競技者一覧!U179,種目コード一覧!$A$1:$C$51,2,FALSE),\" \",REPT(\"0\",VLOOKUP(競技者一覧!U179,種目コード一覧!$A$1:$C$51,3,FALSE)-LEN(競技者一覧!V179)),競技者一覧!V179),\"\")","v":""},{"$f":"IFERROR(CONCATENATE(VLOOKUP(競技者一覧!W179,種目コード一覧!$A$1:$C$51,2,FALSE),\" \",REPT(\"0\",VLOOKUP(競技者一覧!W179,種目コード一覧!$A$1:$C$51,3,FALSE)-LEN(競技者一覧!X179)),競技者一覧!X179),\"\")","v":""},{"$f":"IFERROR(CONCATENATE(VLOOKUP(競技者一覧!Y179,種目コード一覧!$A$1:$C$51,2,FALSE),\" \",REPT(\"0\",VLOOKUP(競技者一覧!Y179,種目コード一覧!$A$1:$C$51,3,FALSE)-LEN(競技者一覧!Z179)),競技者一覧!Z179),\"\")","v":""}]
[{"$f":"IFERROR(CONCATENATE(競技者一覧!$D$7), \"\")","v":""},{"$f":"IFERROR(CONCATENATE($H$2,Sheet4!B160),\"\")","v":""},{"$f":"競技者一覧!C180&IF(OR(競技者一覧!H180=\"\",競技者一覧!H180=9),\"\",\"(\" & 競技者一覧!H180 & \")\")","v":""},{"$f":"ASC(競技者一覧!D180 &IF(OR(MID(競技者一覧!G180,3,2)=\"\", MID(競技者一覧!G180,3,2)=\"0\"),\"\",\"(\" & MID(競技者一覧!G180,3,2) & \")\"))","v":""},{"$f":"ASC(競技者一覧!E180 & \" \" & 競技者一覧!F180 & IF(OR(MID(競技者一覧!G180,3,2)=\"\", MID(競技者一覧!G180,3,2)=\"0\"),\"\",\"(\" & MID(競技者一覧!G180,3,2) & \")\"))","v":" "},{"$f":"CONCATENATE(競技者一覧!I180)","v":""},{"$f":"IFERROR(IF(競技者一覧!$D$6=\"学連\",VLOOKUP(競技者一覧!J180,Sheet4!$D$2:$E$48,2,FALSE),学校名簿!D160),\"\")","v":0},{"$f":"IFERROR(VLOOKUP(競技者一覧!$D$7,学校番号表!$B$2:$C$65536,2,FALSE),\"\")","v":""},{"$f":"CONCATENATE(競技者一覧!B180)","v":""},{"$f":"IFERROR(CONCATENATE(VLOOKUP(競技者一覧!K180,種目コード一覧!$A$1:$B$51,2,FALSE),\" \",REPT(\"0\",VLOOKUP(競技者一覧!K180,種目コード一覧!$A$1:$C$51,3,FALSE)-LEN(競技者一覧!L180)),競技者一覧!L180),\"\")","v":""},{"$f":"IFERROR(CONCATENATE(VLOOKUP(競技者一覧!M180,種目コード一覧!$A$1:$C$51,2,FALSE),\" \",REPT(\"0\",VLOOKUP(競技者一覧!M180,種目コード一覧!$A$1:$C$51,3,FALSE)-LEN(競技者一覧!N180)),競技者一覧!N180),\"\")","v":""},{"$f":"IFERROR(CONCATENATE(VLOOKUP(競技者一覧!O180,種目コード一覧!$A$1:$C$51,2,FALSE),\" \",REPT(\"0\",VLOOKUP(競技者一覧!O180,種目コード一覧!$A$1:$C$51,3,FALSE)-LEN(競技者一覧!P180)),競技者一覧!P180),\"\")","v":""},{"$f":"IFERROR(CONCATENATE(VLOOKUP(競技者一覧!Q180,種目コード一覧!$A$1:$C$51,2,FALSE),\" \",REPT(\"0\",VLOOKUP(競技者一覧!Q180,種目コード一覧!$A$1:$C$51,3,FALSE)-LEN(競技者一覧!R180)),競技者一覧!R180),\"\")","v":""},{"$f":"IFERROR(CONCATENATE(VLOOKUP(競技者一覧!S180,種目コード一覧!$A$1:$C$51,2,FALSE),\" \",REPT(\"0\",VLOOKUP(競技者一覧!S180,種目コード一覧!$A$1:$C$51,3,FALSE)-LEN(競技者一覧!T180)),競技者一覧!T180),\"\")","v":""},{"$f":"IFERROR(CONCATENATE(VLOOKUP(競技者一覧!U180,種目コード一覧!$A$1:$C$51,2,FALSE),\" \",REPT(\"0\",VLOOKUP(競技者一覧!U180,種目コード一覧!$A$1:$C$51,3,FALSE)-LEN(競技者一覧!V180)),競技者一覧!V180),\"\")","v":""},{"$f":"IFERROR(CONCATENATE(VLOOKUP(競技者一覧!W180,種目コード一覧!$A$1:$C$51,2,FALSE),\" \",REPT(\"0\",VLOOKUP(競技者一覧!W180,種目コード一覧!$A$1:$C$51,3,FALSE)-LEN(競技者一覧!X180)),競技者一覧!X180),\"\")","v":""},{"$f":"IFERROR(CONCATENATE(VLOOKUP(競技者一覧!Y180,種目コード一覧!$A$1:$C$51,2,FALSE),\" \",REPT(\"0\",VLOOKUP(競技者一覧!Y180,種目コード一覧!$A$1:$C$51,3,FALSE)-LEN(競技者一覧!Z180)),競技者一覧!Z180),\"\")","v":""}]
[{"$f":"IFERROR(CONCATENATE(競技者一覧!$D$7), \"\")","v":""},{"$f":"IFERROR(CONCATENATE($H$2,Sheet4!B161),\"\")","v":""},{"$f":"競技者一覧!C181&IF(OR(競技者一覧!H181=\"\",競技者一覧!H181=9),\"\",\"(\" & 競技者一覧!H181 & \")\")","v":""},{"$f":"競技者一覧!D181 &IF(OR(MID(競技者一覧!G181,3,2)=\"\", MID(競技者一覧!G181,3,2)=\"0\"),\"\",\"(\" & MID(競技者一覧!G181,3,2) & \")\")","v":""},{"$f":"ASC(競技者一覧!E181 & \" \" & 競技者一覧!F181 & IF(OR(MID(競技者一覧!G181,3,2)=\"\", MID(競技者一覧!G181,3,2)=\"0\"),\"\",\"(\" & MID(競技者一覧!G181,3,2) & \")\"))","v":" "},{"$f":"CONCATENATE(競技者一覧!I181)","v":""},{"$f":"IFERROR(IF(競技者一覧!$D$6=\"学連\",VLOOKUP(競技者一覧!J181,Sheet4!$D$2:$E$48,2,FALSE),学校名簿!D161),\"\")","v":0},{"$f":"IFERROR(VLOOKUP(競技者一覧!$D$7,学校番号表!$B$2:$C$65536,2,FALSE),\"\")","v":""},{"$f":"CONCATENATE(競技者一覧!B181)","v":""},{"$f":"IFERROR(CONCATENATE(VLOOKUP(競技者一覧!K181,種目コード一覧!$A$1:$C$51,2,FALSE),\" \",REPT(\"0\",VLOOKUP(競技者一覧!K181,種目コード一覧!$A$1:$C$51,3,FALSE)-LEN(競技者一覧!L181)),競技者一覧!L181),\"\")","v":""},{"$f":"IFERROR(CONCATENATE(VLOOKUP(競技者一覧!M181,種目コード一覧!$A$1:$C$51,2,FALSE),\" \",REPT(\"0\",VLOOKUP(競技者一覧!M181,種目コード一覧!$A$1:$C$51,3,FALSE)-LEN(競技者一覧!N181)),競技者一覧!N181),\"\")","v":""},{"$f":"IFERROR(CONCATENATE(VLOOKUP(競技者一覧!O181,種目コード一覧!$A$1:$C$51,2,FALSE),\" \",REPT(\"0\",VLOOKUP(競技者一覧!O181,種目コード一覧!$A$1:$C$51,3,FALSE)-LEN(競技者一覧!P181)),競技者一覧!P181),\"\")","v":""},{"$f":"IFERROR(CONCATENATE(VLOOKUP(競技者一覧!Q181,種目コード一覧!$A$1:$C$51,2,FALSE),\" \",REPT(\"0\",VLOOKUP(競技者一覧!Q181,種目コード一覧!$A$1:$C$51,3,FALSE)-LEN(競技者一覧!R181)),競技者一覧!R181),\"\")","v":""},{"$f":"IFERROR(CONCATENATE(VLOOKUP(競技者一覧!S181,種目コード一覧!$A$1:$C$51,2,FALSE),\" \",REPT(\"0\",VLOOKUP(競技者一覧!S181,種目コード一覧!$A$1:$C$51,3,FALSE)-LEN(競技者一覧!T181)),競技者一覧!T181),\"\")","v":""},{"$f":"IFERROR(CONCATENATE(VLOOKUP(競技者一覧!U181,種目コード一覧!$A$1:$C$51,2,FALSE),\" \",REPT(\"0\",VLOOKUP(競技者一覧!U181,種目コード一覧!$A$1:$C$51,3,FALSE)-LEN(競技者一覧!V181)),競技者一覧!V181),\"\")","v":""},{"$f":"IFERROR(CONCATENATE(VLOOKUP(競技者一覧!W181,種目コード一覧!$A$1:$C$51,2,FALSE),\" \",REPT(\"0\",VLOOKUP(競技者一覧!W181,種目コード一覧!$A$1:$C$51,3,FALSE)-LEN(競技者一覧!X181)),競技者一覧!X181),\"\")","v":""},{"$f":"IFERROR(CONCATENATE(VLOOKUP(競技者一覧!Y181,種目コード一覧!$A$1:$C$51,2,FALSE),\" \",REPT(\"0\",VLOOKUP(競技者一覧!Y181,種目コード一覧!$A$1:$C$51,3,FALSE)-LEN(競技者一覧!Z181)),競技者一覧!Z181),\"\")","v":""}]
[{"$f":"IFERROR(CONCATENATE(競技者一覧!$D$7), \"\")","v":""},{"$f":"IFERROR(CONCATENATE($H$2,Sheet4!B162),\"\")","v":""},{"$f":"競技者一覧!C182&IF(OR(競技者一覧!H182=\"\",競技者一覧!H182=9),\"\",\"(\" & 競技者一覧!H182 & \")\")","v":""},{"$f":"ASC(競技者一覧!D182 &IF(OR(MID(競技者一覧!G182,3,2)=\"\", MID(競技者一覧!G182,3,2)=\"0\"),\"\",\"(\" & MID(競技者一覧!G182,3,2) & \")\"))","v":""},{"$f":"ASC(競技者一覧!E182 & \" \" & 競技者一覧!F182 & IF(OR(MID(競技者一覧!G182,3,2)=\"\", MID(競技者一覧!G182,3,2)=\"0\"),\"\",\"(\" & MID(競技者一覧!G182,3,2) & \")\"))","v":" "},{"$f":"CONCATENATE(競技者一覧!I182)","v":""},{"$f":"IFERROR(IF(競技者一覧!$D$6=\"学連\",VLOOKUP(競技者一覧!J182,Sheet4!$D$2:$E$48,2,FALSE),学校名簿!D162),\"\")","v":0},{"$f":"IFERROR(VLOOKUP(競技者一覧!$D$7,学校番号表!$B$2:$C$65536,2,FALSE),\"\")","v":""},{"$f":"CONCATENATE(競技者一覧!B182)","v":""},{"$f":"IFERROR(CONCATENATE(VLOOKUP(競技者一覧!K182,種目コード一覧!$A$1:$B$51,2,FALSE),\" \",REPT(\"0\",VLOOKUP(競技者一覧!K182,種目コード一覧!$A$1:$C$51,3,FALSE)-LEN(競技者一覧!L182)),競技者一覧!L182),\"\")","v":""},{"$f":"IFERROR(CONCATENATE(VLOOKUP(競技者一覧!M182,種目コード一覧!$A$1:$C$51,2,FALSE),\" \",REPT(\"0\",VLOOKUP(競技者一覧!M182,種目コード一覧!$A$1:$C$51,3,FALSE)-LEN(競技者一覧!N182)),競技者一覧!N182),\"\")","v":""},{"$f":"IFERROR(CONCATENATE(VLOOKUP(競技者一覧!O182,種目コード一覧!$A$1:$C$51,2,FALSE),\" \",REPT(\"0\",VLOOKUP(競技者一覧!O182,種目コード一覧!$A$1:$C$51,3,FALSE)-LEN(競技者一覧!P182)),競技者一覧!P182),\"\")","v":""},{"$f":"IFERROR(CONCATENATE(VLOOKUP(競技者一覧!Q182,種目コード一覧!$A$1:$C$51,2,FALSE),\" \",REPT(\"0\",VLOOKUP(競技者一覧!Q182,種目コード一覧!$A$1:$C$51,3,FALSE)-LEN(競技者一覧!R182)),競技者一覧!R182),\"\")","v":""},{"$f":"IFERROR(CONCATENATE(VLOOKUP(競技者一覧!S182,種目コード一覧!$A$1:$C$51,2,FALSE),\" \",REPT(\"0\",VLOOKUP(競技者一覧!S182,種目コード一覧!$A$1:$C$51,3,FALSE)-LEN(競技者一覧!T182)),競技者一覧!T182),\"\")","v":""},{"$f":"IFERROR(CONCATENATE(VLOOKUP(競技者一覧!U182,種目コード一覧!$A$1:$C$51,2,FALSE),\" \",REPT(\"0\",VLOOKUP(競技者一覧!U182,種目コード一覧!$A$1:$C$51,3,FALSE)-LEN(競技者一覧!V182)),競技者一覧!V182),\"\")","v":""},{"$f":"IFERROR(CONCATENATE(VLOOKUP(競技者一覧!W182,種目コード一覧!$A$1:$C$51,2,FALSE),\" \",REPT(\"0\",VLOOKUP(競技者一覧!W182,種目コード一覧!$A$1:$C$51,3,FALSE)-LEN(競技者一覧!X182)),競技者一覧!X182),\"\")","v":""},{"$f":"IFERROR(CONCATENATE(VLOOKUP(競技者一覧!Y182,種目コード一覧!$A$1:$C$51,2,FALSE),\" \",REPT(\"0\",VLOOKUP(競技者一覧!Y182,種目コード一覧!$A$1:$C$51,3,FALSE)-LEN(競技者一覧!Z182)),競技者一覧!Z182),\"\")","v":""}]
[{"$f":"IFERROR(CONCATENATE(競技者一覧!$D$7), \"\")","v":""},{"$f":"IFERROR(CONCATENATE($H$2,Sheet4!B163),\"\")","v":""},{"$f":"競技者一覧!C183&IF(OR(競技者一覧!H183=\"\",競技者一覧!H183=9),\"\",\"(\" & 競技者一覧!H183 & \")\")","v":""},{"$f":"競技者一覧!D183 &IF(OR(MID(競技者一覧!G183,3,2)=\"\", MID(競技者一覧!G183,3,2)=\"0\"),\"\",\"(\" & MID(競技者一覧!G183,3,2) & \")\")","v":""},{"$f":"ASC(競技者一覧!E183 & \" \" & 競技者一覧!F183 & IF(OR(MID(競技者一覧!G183,3,2)=\"\", MID(競技者一覧!G183,3,2)=\"0\"),\"\",\"(\" & MID(競技者一覧!G183,3,2) & \")\"))","v":" "},{"$f":"CONCATENATE(競技者一覧!I183)","v":""},{"$f":"IFERROR(IF(競技者一覧!$D$6=\"学連\",VLOOKUP(競技者一覧!J183,Sheet4!$D$2:$E$48,2,FALSE),学校名簿!D163),\"\")","v":0},{"$f":"IFERROR(VLOOKUP(競技者一覧!$D$7,学校番号表!$B$2:$C$65536,2,FALSE),\"\")","v":""},{"$f":"CONCATENATE(競技者一覧!B183)","v":""},{"$f":"IFERROR(CONCATENATE(VLOOKUP(競技者一覧!K183,種目コード一覧!$A$1:$C$51,2,FALSE),\" \",REPT(\"0\",VLOOKUP(競技者一覧!K183,種目コード一覧!$A$1:$C$51,3,FALSE)-LEN(競技者一覧!L183)),競技者一覧!L183),\"\")","v":""},{"$f":"IFERROR(CONCATENATE(VLOOKUP(競技者一覧!M183,種目コード一覧!$A$1:$C$51,2,FALSE),\" \",REPT(\"0\",VLOOKUP(競技者一覧!M183,種目コード一覧!$A$1:$C$51,3,FALSE)-LEN(競技者一覧!N183)),競技者一覧!N183),\"\")","v":""},{"$f":"IFERROR(CONCATENATE(VLOOKUP(競技者一覧!O183,種目コード一覧!$A$1:$C$51,2,FALSE),\" \",REPT(\"0\",VLOOKUP(競技者一覧!O183,種目コード一覧!$A$1:$C$51,3,FALSE)-LEN(競技者一覧!P183)),競技者一覧!P183),\"\")","v":""},{"$f":"IFERROR(CONCATENATE(VLOOKUP(競技者一覧!Q183,種目コード一覧!$A$1:$C$51,2,FALSE),\" \",REPT(\"0\",VLOOKUP(競技者一覧!Q183,種目コード一覧!$A$1:$C$51,3,FALSE)-LEN(競技者一覧!R183)),競技者一覧!R183),\"\")","v":""},{"$f":"IFERROR(CONCATENATE(VLOOKUP(競技者一覧!S183,種目コード一覧!$A$1:$C$51,2,FALSE),\" \",REPT(\"0\",VLOOKUP(競技者一覧!S183,種目コード一覧!$A$1:$C$51,3,FALSE)-LEN(競技者一覧!T183)),競技者一覧!T183),\"\")","v":""},{"$f":"IFERROR(CONCATENATE(VLOOKUP(競技者一覧!U183,種目コード一覧!$A$1:$C$51,2,FALSE),\" \",REPT(\"0\",VLOOKUP(競技者一覧!U183,種目コード一覧!$A$1:$C$51,3,FALSE)-LEN(競技者一覧!V183)),競技者一覧!V183),\"\")","v":""},{"$f":"IFERROR(CONCATENATE(VLOOKUP(競技者一覧!W183,種目コード一覧!$A$1:$C$51,2,FALSE),\" \",REPT(\"0\",VLOOKUP(競技者一覧!W183,種目コード一覧!$A$1:$C$51,3,FALSE)-LEN(競技者一覧!X183)),競技者一覧!X183),\"\")","v":""},{"$f":"IFERROR(CONCATENATE(VLOOKUP(競技者一覧!Y183,種目コード一覧!$A$1:$C$51,2,FALSE),\" \",REPT(\"0\",VLOOKUP(競技者一覧!Y183,種目コード一覧!$A$1:$C$51,3,FALSE)-LEN(競技者一覧!Z183)),競技者一覧!Z183),\"\")","v":""}]
[{"$f":"IFERROR(CONCATENATE(競技者一覧!$D$7), \"\")","v":""},{"$f":"IFERROR(CONCATENATE($H$2,Sheet4!B164),\"\")","v":""},{"$f":"競技者一覧!C184&IF(OR(競技者一覧!H184=\"\",競技者一覧!H184=9),\"\",\"(\" & 競技者一覧!H184 & \")\")","v":""},{"$f":"ASC(競技者一覧!D184 &IF(OR(MID(競技者一覧!G184,3,2)=\"\", MID(競技者一覧!G184,3,2)=\"0\"),\"\",\"(\" & MID(競技者一覧!G184,3,2) & \")\"))","v":""},{"$f":"ASC(競技者一覧!E184 & \" \" & 競技者一覧!F184 & IF(OR(MID(競技者一覧!G184,3,2)=\"\", MID(競技者一覧!G184,3,2)=\"0\"),\"\",\"(\" & MID(競技者一覧!G184,3,2) & \")\"))","v":" "},{"$f":"CONCATENATE(競技者一覧!I184)","v":""},{"$f":"IFERROR(IF(競技者一覧!$D$6=\"学連\",VLOOKUP(競技者一覧!J184,Sheet4!$D$2:$E$48,2,FALSE),学校名簿!D164),\"\")","v":0},{"$f":"IFERROR(VLOOKUP(競技者一覧!$D$7,学校番号表!$B$2:$C$65536,2,FALSE),\"\")","v":""},{"$f":"CONCATENATE(競技者一覧!B184)","v":""},{"$f":"IFERROR(CONCATENATE(VLOOKUP(競技者一覧!K184,種目コード一覧!$A$1:$B$51,2,FALSE),\" \",REPT(\"0\",VLOOKUP(競技者一覧!K184,種目コード一覧!$A$1:$C$51,3,FALSE)-LEN(競技者一覧!L184)),競技者一覧!L184),\"\")","v":""},{"$f":"IFERROR(CONCATENATE(VLOOKUP(競技者一覧!M184,種目コード一覧!$A$1:$C$51,2,FALSE),\" \",REPT(\"0\",VLOOKUP(競技者一覧!M184,種目コード一覧!$A$1:$C$51,3,FALSE)-LEN(競技者一覧!N184)),競技者一覧!N184),\"\")","v":""},{"$f":"IFERROR(CONCATENATE(VLOOKUP(競技者一覧!O184,種目コード一覧!$A$1:$C$51,2,FALSE),\" \",REPT(\"0\",VLOOKUP(競技者一覧!O184,種目コード一覧!$A$1:$C$51,3,FALSE)-LEN(競技者一覧!P184)),競技者一覧!P184),\"\")","v":""},{"$f":"IFERROR(CONCATENATE(VLOOKUP(競技者一覧!Q184,種目コード一覧!$A$1:$C$51,2,FALSE),\" \",REPT(\"0\",VLOOKUP(競技者一覧!Q184,種目コード一覧!$A$1:$C$51,3,FALSE)-LEN(競技者一覧!R184)),競技者一覧!R184),\"\")","v":""},{"$f":"IFERROR(CONCATENATE(VLOOKUP(競技者一覧!S184,種目コード一覧!$A$1:$C$51,2,FALSE),\" \",REPT(\"0\",VLOOKUP(競技者一覧!S184,種目コード一覧!$A$1:$C$51,3,FALSE)-LEN(競技者一覧!T184)),競技者一覧!T184),\"\")","v":""},{"$f":"IFERROR(CONCATENATE(VLOOKUP(競技者一覧!U184,種目コード一覧!$A$1:$C$51,2,FALSE),\" \",REPT(\"0\",VLOOKUP(競技者一覧!U184,種目コード一覧!$A$1:$C$51,3,FALSE)-LEN(競技者一覧!V184)),競技者一覧!V184),\"\")","v":""},{"$f":"IFERROR(CONCATENATE(VLOOKUP(競技者一覧!W184,種目コード一覧!$A$1:$C$51,2,FALSE),\" \",REPT(\"0\",VLOOKUP(競技者一覧!W184,種目コード一覧!$A$1:$C$51,3,FALSE)-LEN(競技者一覧!X184)),競技者一覧!X184),\"\")","v":""},{"$f":"IFERROR(CONCATENATE(VLOOKUP(競技者一覧!Y184,種目コード一覧!$A$1:$C$51,2,FALSE),\" \",REPT(\"0\",VLOOKUP(競技者一覧!Y184,種目コード一覧!$A$1:$C$51,3,FALSE)-LEN(競技者一覧!Z184)),競技者一覧!Z184),\"\")","v":""}]
[{"$f":"IFERROR(CONCATENATE(競技者一覧!$D$7), \"\")","v":""},{"$f":"IFERROR(CONCATENATE($H$2,Sheet4!B165),\"\")","v":""},{"$f":"競技者一覧!C185&IF(OR(競技者一覧!H185=\"\",競技者一覧!H185=9),\"\",\"(\" & 競技者一覧!H185 & \")\")","v":""},{"$f":"競技者一覧!D185 &IF(OR(MID(競技者一覧!G185,3,2)=\"\", MID(競技者一覧!G185,3,2)=\"0\"),\"\",\"(\" & MID(競技者一覧!G185,3,2) & \")\")","v":""},{"$f":"ASC(競技者一覧!E185 & \" \" & 競技者一覧!F185 & IF(OR(MID(競技者一覧!G185,3,2)=\"\", MID(競技者一覧!G185,3,2)=\"0\"),\"\",\"(\" & MID(競技者一覧!G185,3,2) & \")\"))","v":" "},{"$f":"CONCATENATE(競技者一覧!I185)","v":""},{"$f":"IFERROR(IF(競技者一覧!$D$6=\"学連\",VLOOKUP(競技者一覧!J185,Sheet4!$D$2:$E$48,2,FALSE),学校名簿!D165),\"\")","v":0},{"$f":"IFERROR(VLOOKUP(競技者一覧!$D$7,学校番号表!$B$2:$C$65536,2,FALSE),\"\")","v":""},{"$f":"CONCATENATE(競技者一覧!B185)","v":""},{"$f":"IFERROR(CONCATENATE(VLOOKUP(競技者一覧!K185,種目コード一覧!$A$1:$C$51,2,FALSE),\" \",REPT(\"0\",VLOOKUP(競技者一覧!K185,種目コード一覧!$A$1:$C$51,3,FALSE)-LEN(競技者一覧!L185)),競技者一覧!L185),\"\")","v":""},{"$f":"IFERROR(CONCATENATE(VLOOKUP(競技者一覧!M185,種目コード一覧!$A$1:$C$51,2,FALSE),\" \",REPT(\"0\",VLOOKUP(競技者一覧!M185,種目コード一覧!$A$1:$C$51,3,FALSE)-LEN(競技者一覧!N185)),競技者一覧!N185),\"\")","v":""},{"$f":"IFERROR(CONCATENATE(VLOOKUP(競技者一覧!O185,種目コード一覧!$A$1:$C$51,2,FALSE),\" \",REPT(\"0\",VLOOKUP(競技者一覧!O185,種目コード一覧!$A$1:$C$51,3,FALSE)-LEN(競技者一覧!P185)),競技者一覧!P185),\"\")","v":""},{"$f":"IFERROR(CONCATENATE(VLOOKUP(競技者一覧!Q185,種目コード一覧!$A$1:$C$51,2,FALSE),\" \",REPT(\"0\",VLOOKUP(競技者一覧!Q185,種目コード一覧!$A$1:$C$51,3,FALSE)-LEN(競技者一覧!R185)),競技者一覧!R185),\"\")","v":""},{"$f":"IFERROR(CONCATENATE(VLOOKUP(競技者一覧!S185,種目コード一覧!$A$1:$C$51,2,FALSE),\" \",REPT(\"0\",VLOOKUP(競技者一覧!S185,種目コード一覧!$A$1:$C$51,3,FALSE)-LEN(競技者一覧!T185)),競技者一覧!T185),\"\")","v":""},{"$f":"IFERROR(CONCATENATE(VLOOKUP(競技者一覧!U185,種目コード一覧!$A$1:$C$51,2,FALSE),\" \",REPT(\"0\",VLOOKUP(競技者一覧!U185,種目コード一覧!$A$1:$C$51,3,FALSE)-LEN(競技者一覧!V185)),競技者一覧!V185),\"\")","v":""},{"$f":"IFERROR(CONCATENATE(VLOOKUP(競技者一覧!W185,種目コード一覧!$A$1:$C$51,2,FALSE),\" \",REPT(\"0\",VLOOKUP(競技者一覧!W185,種目コード一覧!$A$1:$C$51,3,FALSE)-LEN(競技者一覧!X185)),競技者一覧!X185),\"\")","v":""},{"$f":"IFERROR(CONCATENATE(VLOOKUP(競技者一覧!Y185,種目コード一覧!$A$1:$C$51,2,FALSE),\" \",REPT(\"0\",VLOOKUP(競技者一覧!Y185,種目コード一覧!$A$1:$C$51,3,FALSE)-LEN(競技者一覧!Z185)),競技者一覧!Z185),\"\")","v":""}]
[{"$f":"IFERROR(CONCATENATE(競技者一覧!$D$7), \"\")","v":""},{"$f":"IFERROR(CONCATENATE($H$2,Sheet4!B166),\"\")","v":""},{"$f":"競技者一覧!C186&IF(OR(競技者一覧!H186=\"\",競技者一覧!H186=9),\"\",\"(\" & 競技者一覧!H186 & \")\")","v":""},{"$f":"ASC(競技者一覧!D186 &IF(OR(MID(競技者一覧!G186,3,2)=\"\", MID(競技者一覧!G186,3,2)=\"0\"),\"\",\"(\" & MID(競技者一覧!G186,3,2) & \")\"))","v":""},{"$f":"ASC(競技者一覧!E186 & \" \" & 競技者一覧!F186 & IF(OR(MID(競技者一覧!G186,3,2)=\"\", MID(競技者一覧!G186,3,2)=\"0\"),\"\",\"(\" & MID(競技者一覧!G186,3,2) & \")\"))","v":" "},{"$f":"CONCATENATE(競技者一覧!I186)","v":""},{"$f":"IFERROR(IF(競技者一覧!$D$6=\"学連\",VLOOKUP(競技者一覧!J186,Sheet4!$D$2:$E$48,2,FALSE),学校名簿!D166),\"\")","v":0},{"$f":"IFERROR(VLOOKUP(競技者一覧!$D$7,学校番号表!$B$2:$C$65536,2,FALSE),\"\")","v":""},{"$f":"CONCATENATE(競技者一覧!B186)","v":""},{"$f":"IFERROR(CONCATENATE(VLOOKUP(競技者一覧!K186,種目コード一覧!$A$1:$B$51,2,FALSE),\" \",REPT(\"0\",VLOOKUP(競技者一覧!K186,種目コード一覧!$A$1:$C$51,3,FALSE)-LEN(競技者一覧!L186)),競技者一覧!L186),\"\")","v":""},{"$f":"IFERROR(CONCATENATE(VLOOKUP(競技者一覧!M186,種目コード一覧!$A$1:$C$51,2,FALSE),\" \",REPT(\"0\",VLOOKUP(競技者一覧!M186,種目コード一覧!$A$1:$C$51,3,FALSE)-LEN(競技者一覧!N186)),競技者一覧!N186),\"\")","v":""},{"$f":"IFERROR(CONCATENATE(VLOOKUP(競技者一覧!O186,種目コード一覧!$A$1:$C$51,2,FALSE),\" \",REPT(\"0\",VLOOKUP(競技者一覧!O186,種目コード一覧!$A$1:$C$51,3,FALSE)-LEN(競技者一覧!P186)),競技者一覧!P186),\"\")","v":""},{"$f":"IFERROR(CONCATENATE(VLOOKUP(競技者一覧!Q186,種目コード一覧!$A$1:$C$51,2,FALSE),\" \",REPT(\"0\",VLOOKUP(競技者一覧!Q186,種目コード一覧!$A$1:$C$51,3,FALSE)-LEN(競技者一覧!R186)),競技者一覧!R186),\"\")","v":""},{"$f":"IFERROR(CONCATENATE(VLOOKUP(競技者一覧!S186,種目コード一覧!$A$1:$C$51,2,FALSE),\" \",REPT(\"0\",VLOOKUP(競技者一覧!S186,種目コード一覧!$A$1:$C$51,3,FALSE)-LEN(競技者一覧!T186)),競技者一覧!T186),\"\")","v":""},{"$f":"IFERROR(CONCATENATE(VLOOKUP(競技者一覧!U186,種目コード一覧!$A$1:$C$51,2,FALSE),\" \",REPT(\"0\",VLOOKUP(競技者一覧!U186,種目コード一覧!$A$1:$C$51,3,FALSE)-LEN(競技者一覧!V186)),競技者一覧!V186),\"\")","v":""},{"$f":"IFERROR(CONCATENATE(VLOOKUP(競技者一覧!W186,種目コード一覧!$A$1:$C$51,2,FALSE),\" \",REPT(\"0\",VLOOKUP(競技者一覧!W186,種目コード一覧!$A$1:$C$51,3,FALSE)-LEN(競技者一覧!X186)),競技者一覧!X186),\"\")","v":""},{"$f":"IFERROR(CONCATENATE(VLOOKUP(競技者一覧!Y186,種目コード一覧!$A$1:$C$51,2,FALSE),\" \",REPT(\"0\",VLOOKUP(競技者一覧!Y186,種目コード一覧!$A$1:$C$51,3,FALSE)-LEN(競技者一覧!Z186)),競技者一覧!Z186),\"\")","v":""}]
[{"$f":"IFERROR(CONCATENATE(競技者一覧!$D$7), \"\")","v":""},{"$f":"IFERROR(CONCATENATE($H$2,Sheet4!B167),\"\")","v":""},{"$f":"競技者一覧!C187&IF(OR(競技者一覧!H187=\"\",競技者一覧!H187=9),\"\",\"(\" & 競技者一覧!H187 & \")\")","v":""},{"$f":"競技者一覧!D187 &IF(OR(MID(競技者一覧!G187,3,2)=\"\", MID(競技者一覧!G187,3,2)=\"0\"),\"\",\"(\" & MID(競技者一覧!G187,3,2) & \")\")","v":""},{"$f":"ASC(競技者一覧!E187 & \" \" & 競技者一覧!F187 & IF(OR(MID(競技者一覧!G187,3,2)=\"\", MID(競技者一覧!G187,3,2)=\"0\"),\"\",\"(\" & MID(競技者一覧!G187,3,2) & \")\"))","v":" "},{"$f":"CONCATENATE(競技者一覧!I187)","v":""},{"$f":"IFERROR(IF(競技者一覧!$D$6=\"学連\",VLOOKUP(競技者一覧!J187,Sheet4!$D$2:$E$48,2,FALSE),学校名簿!D167),\"\")","v":0},{"$f":"IFERROR(VLOOKUP(競技者一覧!$D$7,学校番号表!$B$2:$C$65536,2,FALSE),\"\")","v":""},{"$f":"CONCATENATE(競技者一覧!B187)","v":""},{"$f":"IFERROR(CONCATENATE(VLOOKUP(競技者一覧!K187,種目コード一覧!$A$1:$C$51,2,FALSE),\" \",REPT(\"0\",VLOOKUP(競技者一覧!K187,種目コード一覧!$A$1:$C$51,3,FALSE)-LEN(競技者一覧!L187)),競技者一覧!L187),\"\")","v":""},{"$f":"IFERROR(CONCATENATE(VLOOKUP(競技者一覧!M187,種目コード一覧!$A$1:$C$51,2,FALSE),\" \",REPT(\"0\",VLOOKUP(競技者一覧!M187,種目コード一覧!$A$1:$C$51,3,FALSE)-LEN(競技者一覧!N187)),競技者一覧!N187),\"\")","v":""},{"$f":"IFERROR(CONCATENATE(VLOOKUP(競技者一覧!O187,種目コード一覧!$A$1:$C$51,2,FALSE),\" \",REPT(\"0\",VLOOKUP(競技者一覧!O187,種目コード一覧!$A$1:$C$51,3,FALSE)-LEN(競技者一覧!P187)),競技者一覧!P187),\"\")","v":""},{"$f":"IFERROR(CONCATENATE(VLOOKUP(競技者一覧!Q187,種目コード一覧!$A$1:$C$51,2,FALSE),\" \",REPT(\"0\",VLOOKUP(競技者一覧!Q187,種目コード一覧!$A$1:$C$51,3,FALSE)-LEN(競技者一覧!R187)),競技者一覧!R187),\"\")","v":""},{"$f":"IFERROR(CONCATENATE(VLOOKUP(競技者一覧!S187,種目コード一覧!$A$1:$C$51,2,FALSE),\" \",REPT(\"0\",VLOOKUP(競技者一覧!S187,種目コード一覧!$A$1:$C$51,3,FALSE)-LEN(競技者一覧!T187)),競技者一覧!T187),\"\")","v":""},{"$f":"IFERROR(CONCATENATE(VLOOKUP(競技者一覧!U187,種目コード一覧!$A$1:$C$51,2,FALSE),\" \",REPT(\"0\",VLOOKUP(競技者一覧!U187,種目コード一覧!$A$1:$C$51,3,FALSE)-LEN(競技者一覧!V187)),競技者一覧!V187),\"\")","v":""},{"$f":"IFERROR(CONCATENATE(VLOOKUP(競技者一覧!W187,種目コード一覧!$A$1:$C$51,2,FALSE),\" \",REPT(\"0\",VLOOKUP(競技者一覧!W187,種目コード一覧!$A$1:$C$51,3,FALSE)-LEN(競技者一覧!X187)),競技者一覧!X187),\"\")","v":""},{"$f":"IFERROR(CONCATENATE(VLOOKUP(競技者一覧!Y187,種目コード一覧!$A$1:$C$51,2,FALSE),\" \",REPT(\"0\",VLOOKUP(競技者一覧!Y187,種目コード一覧!$A$1:$C$51,3,FALSE)-LEN(競技者一覧!Z187)),競技者一覧!Z187),\"\")","v":""}]
[{"$f":"IFERROR(CONCATENATE(競技者一覧!$D$7), \"\")","v":""},{"$f":"IFERROR(CONCATENATE($H$2,Sheet4!B168),\"\")","v":""},{"$f":"競技者一覧!C188&IF(OR(競技者一覧!H188=\"\",競技者一覧!H188=9),\"\",\"(\" & 競技者一覧!H188 & \")\")","v":""},{"$f":"ASC(競技者一覧!D188 &IF(OR(MID(競技者一覧!G188,3,2)=\"\", MID(競技者一覧!G188,3,2)=\"0\"),\"\",\"(\" & MID(競技者一覧!G188,3,2) & \")\"))","v":""},{"$f":"ASC(競技者一覧!E188 & \" \" & 競技者一覧!F188 & IF(OR(MID(競技者一覧!G188,3,2)=\"\", MID(競技者一覧!G188,3,2)=\"0\"),\"\",\"(\" & MID(競技者一覧!G188,3,2) & \")\"))","v":" "},{"$f":"CONCATENATE(競技者一覧!I188)","v":""},{"$f":"IFERROR(IF(競技者一覧!$D$6=\"学連\",VLOOKUP(競技者一覧!J188,Sheet4!$D$2:$E$48,2,FALSE),学校名簿!D168),\"\")","v":0},{"$f":"IFERROR(VLOOKUP(競技者一覧!$D$7,学校番号表!$B$2:$C$65536,2,FALSE),\"\")","v":""},{"$f":"CONCATENATE(競技者一覧!B188)","v":""},{"$f":"IFERROR(CONCATENATE(VLOOKUP(競技者一覧!K188,種目コード一覧!$A$1:$B$51,2,FALSE),\" \",REPT(\"0\",VLOOKUP(競技者一覧!K188,種目コード一覧!$A$1:$C$51,3,FALSE)-LEN(競技者一覧!L188)),競技者一覧!L188),\"\")","v":""},{"$f":"IFERROR(CONCATENATE(VLOOKUP(競技者一覧!M188,種目コード一覧!$A$1:$C$51,2,FALSE),\" \",REPT(\"0\",VLOOKUP(競技者一覧!M188,種目コード一覧!$A$1:$C$51,3,FALSE)-LEN(競技者一覧!N188)),競技者一覧!N188),\"\")","v":""},{"$f":"IFERROR(CONCATENATE(VLOOKUP(競技者一覧!O188,種目コード一覧!$A$1:$C$51,2,FALSE),\" \",REPT(\"0\",VLOOKUP(競技者一覧!O188,種目コード一覧!$A$1:$C$51,3,FALSE)-LEN(競技者一覧!P188)),競技者一覧!P188),\"\")","v":""},{"$f":"IFERROR(CONCATENATE(VLOOKUP(競技者一覧!Q188,種目コード一覧!$A$1:$C$51,2,FALSE),\" \",REPT(\"0\",VLOOKUP(競技者一覧!Q188,種目コード一覧!$A$1:$C$51,3,FALSE)-LEN(競技者一覧!R188)),競技者一覧!R188),\"\")","v":""},{"$f":"IFERROR(CONCATENATE(VLOOKUP(競技者一覧!S188,種目コード一覧!$A$1:$C$51,2,FALSE),\" \",REPT(\"0\",VLOOKUP(競技者一覧!S188,種目コード一覧!$A$1:$C$51,3,FALSE)-LEN(競技者一覧!T188)),競技者一覧!T188),\"\")","v":""},{"$f":"IFERROR(CONCATENATE(VLOOKUP(競技者一覧!U188,種目コード一覧!$A$1:$C$51,2,FALSE),\" \",REPT(\"0\",VLOOKUP(競技者一覧!U188,種目コード一覧!$A$1:$C$51,3,FALSE)-LEN(競技者一覧!V188)),競技者一覧!V188),\"\")","v":""},{"$f":"IFERROR(CONCATENATE(VLOOKUP(競技者一覧!W188,種目コード一覧!$A$1:$C$51,2,FALSE),\" \",REPT(\"0\",VLOOKUP(競技者一覧!W188,種目コード一覧!$A$1:$C$51,3,FALSE)-LEN(競技者一覧!X188)),競技者一覧!X188),\"\")","v":""},{"$f":"IFERROR(CONCATENATE(VLOOKUP(競技者一覧!Y188,種目コード一覧!$A$1:$C$51,2,FALSE),\" \",REPT(\"0\",VLOOKUP(競技者一覧!Y188,種目コード一覧!$A$1:$C$51,3,FALSE)-LEN(競技者一覧!Z188)),競技者一覧!Z188),\"\")","v":""}]
[{"$f":"IFERROR(CONCATENATE(競技者一覧!$D$7), \"\")","v":""},{"$f":"IFERROR(CONCATENATE($H$2,Sheet4!B169),\"\")","v":""},{"$f":"競技者一覧!C189&IF(OR(競技者一覧!H189=\"\",競技者一覧!H189=9),\"\",\"(\" & 競技者一覧!H189 & \")\")","v":""},{"$f":"競技者一覧!D189 &IF(OR(MID(競技者一覧!G189,3,2)=\"\", MID(競技者一覧!G189,3,2)=\"0\"),\"\",\"(\" & MID(競技者一覧!G189,3,2) & \")\")","v":""},{"$f":"ASC(競技者一覧!E189 & \" \" & 競技者一覧!F189 & IF(OR(MID(競技者一覧!G189,3,2)=\"\", MID(競技者一覧!G189,3,2)=\"0\"),\"\",\"(\" & MID(競技者一覧!G189,3,2) & \")\"))","v":" "},{"$f":"CONCATENATE(競技者一覧!I189)","v":""},{"$f":"IFERROR(IF(競技者一覧!$D$6=\"学連\",VLOOKUP(競技者一覧!J189,Sheet4!$D$2:$E$48,2,FALSE),学校名簿!D169),\"\")","v":0},{"$f":"IFERROR(VLOOKUP(競技者一覧!$D$7,学校番号表!$B$2:$C$65536,2,FALSE),\"\")","v":""},{"$f":"CONCATENATE(競技者一覧!B189)","v":""},{"$f":"IFERROR(CONCATENATE(VLOOKUP(競技者一覧!K189,種目コード一覧!$A$1:$C$51,2,FALSE),\" \",REPT(\"0\",VLOOKUP(競技者一覧!K189,種目コード一覧!$A$1:$C$51,3,FALSE)-LEN(競技者一覧!L189)),競技者一覧!L189),\"\")","v":""},{"$f":"IFERROR(CONCATENATE(VLOOKUP(競技者一覧!M189,種目コード一覧!$A$1:$C$51,2,FALSE),\" \",REPT(\"0\",VLOOKUP(競技者一覧!M189,種目コード一覧!$A$1:$C$51,3,FALSE)-LEN(競技者一覧!N189)),競技者一覧!N189),\"\")","v":""},{"$f":"IFERROR(CONCATENATE(VLOOKUP(競技者一覧!O189,種目コード一覧!$A$1:$C$51,2,FALSE),\" \",REPT(\"0\",VLOOKUP(競技者一覧!O189,種目コード一覧!$A$1:$C$51,3,FALSE)-LEN(競技者一覧!P189)),競技者一覧!P189),\"\")","v":""},{"$f":"IFERROR(CONCATENATE(VLOOKUP(競技者一覧!Q189,種目コード一覧!$A$1:$C$51,2,FALSE),\" \",REPT(\"0\",VLOOKUP(競技者一覧!Q189,種目コード一覧!$A$1:$C$51,3,FALSE)-LEN(競技者一覧!R189)),競技者一覧!R189),\"\")","v":""},{"$f":"IFERROR(CONCATENATE(VLOOKUP(競技者一覧!S189,種目コード一覧!$A$1:$C$51,2,FALSE),\" \",REPT(\"0\",VLOOKUP(競技者一覧!S189,種目コード一覧!$A$1:$C$51,3,FALSE)-LEN(競技者一覧!T189)),競技者一覧!T189),\"\")","v":""},{"$f":"IFERROR(CONCATENATE(VLOOKUP(競技者一覧!U189,種目コード一覧!$A$1:$C$51,2,FALSE),\" \",REPT(\"0\",VLOOKUP(競技者一覧!U189,種目コード一覧!$A$1:$C$51,3,FALSE)-LEN(競技者一覧!V189)),競技者一覧!V189),\"\")","v":""},{"$f":"IFERROR(CONCATENATE(VLOOKUP(競技者一覧!W189,種目コード一覧!$A$1:$C$51,2,FALSE),\" \",REPT(\"0\",VLOOKUP(競技者一覧!W189,種目コード一覧!$A$1:$C$51,3,FALSE)-LEN(競技者一覧!X189)),競技者一覧!X189),\"\")","v":""},{"$f":"IFERROR(CONCATENATE(VLOOKUP(競技者一覧!Y189,種目コード一覧!$A$1:$C$51,2,FALSE),\" \",REPT(\"0\",VLOOKUP(競技者一覧!Y189,種目コード一覧!$A$1:$C$51,3,FALSE)-LEN(競技者一覧!Z189)),競技者一覧!Z189),\"\")","v":""}]
[{"$f":"IFERROR(CONCATENATE(競技者一覧!$D$7), \"\")","v":""},{"$f":"IFERROR(CONCATENATE($H$2,Sheet4!B170),\"\")","v":""},{"$f":"競技者一覧!C190&IF(OR(競技者一覧!H190=\"\",競技者一覧!H190=9),\"\",\"(\" & 競技者一覧!H190 & \")\")","v":""},{"$f":"ASC(競技者一覧!D190 &IF(OR(MID(競技者一覧!G190,3,2)=\"\", MID(競技者一覧!G190,3,2)=\"0\"),\"\",\"(\" & MID(競技者一覧!G190,3,2) & \")\"))","v":""},{"$f":"ASC(競技者一覧!E190 & \" \" & 競技者一覧!F190 & IF(OR(MID(競技者一覧!G190,3,2)=\"\", MID(競技者一覧!G190,3,2)=\"0\"),\"\",\"(\" & MID(競技者一覧!G190,3,2) & \")\"))","v":" "},{"$f":"CONCATENATE(競技者一覧!I190)","v":""},{"$f":"IFERROR(IF(競技者一覧!$D$6=\"学連\",VLOOKUP(競技者一覧!J190,Sheet4!$D$2:$E$48,2,FALSE),学校名簿!D170),\"\")","v":0},{"$f":"IFERROR(VLOOKUP(競技者一覧!$D$7,学校番号表!$B$2:$C$65536,2,FALSE),\"\")","v":""},{"$f":"CONCATENATE(競技者一覧!B190)","v":""},{"$f":"IFERROR(CONCATENATE(VLOOKUP(競技者一覧!K190,種目コード一覧!$A$1:$B$51,2,FALSE),\" \",REPT(\"0\",VLOOKUP(競技者一覧!K190,種目コード一覧!$A$1:$C$51,3,FALSE)-LEN(競技者一覧!L190)),競技者一覧!L190),\"\")","v":""},{"$f":"IFERROR(CONCATENATE(VLOOKUP(競技者一覧!M190,種目コード一覧!$A$1:$C$51,2,FALSE),\" \",REPT(\"0\",VLOOKUP(競技者一覧!M190,種目コード一覧!$A$1:$C$51,3,FALSE)-LEN(競技者一覧!N190)),競技者一覧!N190),\"\")","v":""},{"$f":"IFERROR(CONCATENATE(VLOOKUP(競技者一覧!O190,種目コード一覧!$A$1:$C$51,2,FALSE),\" \",REPT(\"0\",VLOOKUP(競技者一覧!O190,種目コード一覧!$A$1:$C$51,3,FALSE)-LEN(競技者一覧!P190)),競技者一覧!P190),\"\")","v":""},{"$f":"IFERROR(CONCATENATE(VLOOKUP(競技者一覧!Q190,種目コード一覧!$A$1:$C$51,2,FALSE),\" \",REPT(\"0\",VLOOKUP(競技者一覧!Q190,種目コード一覧!$A$1:$C$51,3,FALSE)-LEN(競技者一覧!R190)),競技者一覧!R190),\"\")","v":""},{"$f":"IFERROR(CONCATENATE(VLOOKUP(競技者一覧!S190,種目コード一覧!$A$1:$C$51,2,FALSE),\" \",REPT(\"0\",VLOOKUP(競技者一覧!S190,種目コード一覧!$A$1:$C$51,3,FALSE)-LEN(競技者一覧!T190)),競技者一覧!T190),\"\")","v":""},{"$f":"IFERROR(CONCATENATE(VLOOKUP(競技者一覧!U190,種目コード一覧!$A$1:$C$51,2,FALSE),\" \",REPT(\"0\",VLOOKUP(競技者一覧!U190,種目コード一覧!$A$1:$C$51,3,FALSE)-LEN(競技者一覧!V190)),競技者一覧!V190),\"\")","v":""},{"$f":"IFERROR(CONCATENATE(VLOOKUP(競技者一覧!W190,種目コード一覧!$A$1:$C$51,2,FALSE),\" \",REPT(\"0\",VLOOKUP(競技者一覧!W190,種目コード一覧!$A$1:$C$51,3,FALSE)-LEN(競技者一覧!X190)),競技者一覧!X190),\"\")","v":""},{"$f":"IFERROR(CONCATENATE(VLOOKUP(競技者一覧!Y190,種目コード一覧!$A$1:$C$51,2,FALSE),\" \",REPT(\"0\",VLOOKUP(競技者一覧!Y190,種目コード一覧!$A$1:$C$51,3,FALSE)-LEN(競技者一覧!Z190)),競技者一覧!Z190),\"\")","v":""}]
[{"$f":"IFERROR(CONCATENATE(競技者一覧!$D$7), \"\")","v":""},{"$f":"IFERROR(CONCATENATE($H$2,Sheet4!B171),\"\")","v":""},{"$f":"競技者一覧!C191&IF(OR(競技者一覧!H191=\"\",競技者一覧!H191=9),\"\",\"(\" & 競技者一覧!H191 & \")\")","v":""},{"$f":"競技者一覧!D191 &IF(OR(MID(競技者一覧!G191,3,2)=\"\", MID(競技者一覧!G191,3,2)=\"0\"),\"\",\"(\" & MID(競技者一覧!G191,3,2) & \")\")","v":""},{"$f":"ASC(競技者一覧!E191 & \" \" & 競技者一覧!F191 & IF(OR(MID(競技者一覧!G191,3,2)=\"\", MID(競技者一覧!G191,3,2)=\"0\"),\"\",\"(\" & MID(競技者一覧!G191,3,2) & \")\"))","v":" "},{"$f":"CONCATENATE(競技者一覧!I191)","v":""},{"$f":"IFERROR(IF(競技者一覧!$D$6=\"学連\",VLOOKUP(競技者一覧!J191,Sheet4!$D$2:$E$48,2,FALSE),学校名簿!D171),\"\")","v":0},{"$f":"IFERROR(VLOOKUP(競技者一覧!$D$7,学校番号表!$B$2:$C$65536,2,FALSE),\"\")","v":""},{"$f":"CONCATENATE(競技者一覧!B191)","v":""},{"$f":"IFERROR(CONCATENATE(VLOOKUP(競技者一覧!K191,種目コード一覧!$A$1:$C$51,2,FALSE),\" \",REPT(\"0\",VLOOKUP(競技者一覧!K191,種目コード一覧!$A$1:$C$51,3,FALSE)-LEN(競技者一覧!L191)),競技者一覧!L191),\"\")","v":""},{"$f":"IFERROR(CONCATENATE(VLOOKUP(競技者一覧!M191,種目コード一覧!$A$1:$C$51,2,FALSE),\" \",REPT(\"0\",VLOOKUP(競技者一覧!M191,種目コード一覧!$A$1:$C$51,3,FALSE)-LEN(競技者一覧!N191)),競技者一覧!N191),\"\")","v":""},{"$f":"IFERROR(CONCATENATE(VLOOKUP(競技者一覧!O191,種目コード一覧!$A$1:$C$51,2,FALSE),\" \",REPT(\"0\",VLOOKUP(競技者一覧!O191,種目コード一覧!$A$1:$C$51,3,FALSE)-LEN(競技者一覧!P191)),競技者一覧!P191),\"\")","v":""},{"$f":"IFERROR(CONCATENATE(VLOOKUP(競技者一覧!Q191,種目コード一覧!$A$1:$C$51,2,FALSE),\" \",REPT(\"0\",VLOOKUP(競技者一覧!Q191,種目コード一覧!$A$1:$C$51,3,FALSE)-LEN(競技者一覧!R191)),競技者一覧!R191),\"\")","v":""},{"$f":"IFERROR(CONCATENATE(VLOOKUP(競技者一覧!S191,種目コード一覧!$A$1:$C$51,2,FALSE),\" \",REPT(\"0\",VLOOKUP(競技者一覧!S191,種目コード一覧!$A$1:$C$51,3,FALSE)-LEN(競技者一覧!T191)),競技者一覧!T191),\"\")","v":""},{"$f":"IFERROR(CONCATENATE(VLOOKUP(競技者一覧!U191,種目コード一覧!$A$1:$C$51,2,FALSE),\" \",REPT(\"0\",VLOOKUP(競技者一覧!U191,種目コード一覧!$A$1:$C$51,3,FALSE)-LEN(競技者一覧!V191)),競技者一覧!V191),\"\")","v":""},{"$f":"IFERROR(CONCATENATE(VLOOKUP(競技者一覧!W191,種目コード一覧!$A$1:$C$51,2,FALSE),\" \",REPT(\"0\",VLOOKUP(競技者一覧!W191,種目コード一覧!$A$1:$C$51,3,FALSE)-LEN(競技者一覧!X191)),競技者一覧!X191),\"\")","v":""},{"$f":"IFERROR(CONCATENATE(VLOOKUP(競技者一覧!Y191,種目コード一覧!$A$1:$C$51,2,FALSE),\" \",REPT(\"0\",VLOOKUP(競技者一覧!Y191,種目コード一覧!$A$1:$C$51,3,FALSE)-LEN(競技者一覧!Z191)),競技者一覧!Z191),\"\")","v":""}]
[{"$f":"IFERROR(CONCATENATE(競技者一覧!$D$7), \"\")","v":""},{"$f":"IFERROR(CONCATENATE($H$2,Sheet4!B172),\"\")","v":""},{"$f":"競技者一覧!C192&IF(OR(競技者一覧!H192=\"\",競技者一覧!H192=9),\"\",\"(\" & 競技者一覧!H192 & \")\")","v":""},{"$f":"ASC(競技者一覧!D192 &IF(OR(MID(競技者一覧!G192,3,2)=\"\", MID(競技者一覧!G192,3,2)=\"0\"),\"\",\"(\" & MID(競技者一覧!G192,3,2) & \")\"))","v":""},{"$f":"ASC(競技者一覧!E192 & \" \" & 競技者一覧!F192 & IF(OR(MID(競技者一覧!G192,3,2)=\"\", MID(競技者一覧!G192,3,2)=\"0\"),\"\",\"(\" & MID(競技者一覧!G192,3,2) & \")\"))","v":" "},{"$f":"CONCATENATE(競技者一覧!I192)","v":""},{"$f":"IFERROR(IF(競技者一覧!$D$6=\"学連\",VLOOKUP(競技者一覧!J192,Sheet4!$D$2:$E$48,2,FALSE),学校名簿!D172),\"\")","v":0},{"$f":"IFERROR(VLOOKUP(競技者一覧!$D$7,学校番号表!$B$2:$C$65536,2,FALSE),\"\")","v":""},{"$f":"CONCATENATE(競技者一覧!B192)","v":""},{"$f":"IFERROR(CONCATENATE(VLOOKUP(競技者一覧!K192,種目コード一覧!$A$1:$B$51,2,FALSE),\" \",REPT(\"0\",VLOOKUP(競技者一覧!K192,種目コード一覧!$A$1:$C$51,3,FALSE)-LEN(競技者一覧!L192)),競技者一覧!L192),\"\")","v":""},{"$f":"IFERROR(CONCATENATE(VLOOKUP(競技者一覧!M192,種目コード一覧!$A$1:$C$51,2,FALSE),\" \",REPT(\"0\",VLOOKUP(競技者一覧!M192,種目コード一覧!$A$1:$C$51,3,FALSE)-LEN(競技者一覧!N192)),競技者一覧!N192),\"\")","v":""},{"$f":"IFERROR(CONCATENATE(VLOOKUP(競技者一覧!O192,種目コード一覧!$A$1:$C$51,2,FALSE),\" \",REPT(\"0\",VLOOKUP(競技者一覧!O192,種目コード一覧!$A$1:$C$51,3,FALSE)-LEN(競技者一覧!P192)),競技者一覧!P192),\"\")","v":""},{"$f":"IFERROR(CONCATENATE(VLOOKUP(競技者一覧!Q192,種目コード一覧!$A$1:$C$51,2,FALSE),\" \",REPT(\"0\",VLOOKUP(競技者一覧!Q192,種目コード一覧!$A$1:$C$51,3,FALSE)-LEN(競技者一覧!R192)),競技者一覧!R192),\"\")","v":""},{"$f":"IFERROR(CONCATENATE(VLOOKUP(競技者一覧!S192,種目コード一覧!$A$1:$C$51,2,FALSE),\" \",REPT(\"0\",VLOOKUP(競技者一覧!S192,種目コード一覧!$A$1:$C$51,3,FALSE)-LEN(競技者一覧!T192)),競技者一覧!T192),\"\")","v":""},{"$f":"IFERROR(CONCATENATE(VLOOKUP(競技者一覧!U192,種目コード一覧!$A$1:$C$51,2,FALSE),\" \",REPT(\"0\",VLOOKUP(競技者一覧!U192,種目コード一覧!$A$1:$C$51,3,FALSE)-LEN(競技者一覧!V192)),競技者一覧!V192),\"\")","v":""},{"$f":"IFERROR(CONCATENATE(VLOOKUP(競技者一覧!W192,種目コード一覧!$A$1:$C$51,2,FALSE),\" \",REPT(\"0\",VLOOKUP(競技者一覧!W192,種目コード一覧!$A$1:$C$51,3,FALSE)-LEN(競技者一覧!X192)),競技者一覧!X192),\"\")","v":""},{"$f":"IFERROR(CONCATENATE(VLOOKUP(競技者一覧!Y192,種目コード一覧!$A$1:$C$51,2,FALSE),\" \",REPT(\"0\",VLOOKUP(競技者一覧!Y192,種目コード一覧!$A$1:$C$51,3,FALSE)-LEN(競技者一覧!Z192)),競技者一覧!Z192),\"\")","v":""}]
[{"$f":"IFERROR(CONCATENATE(競技者一覧!$D$7), \"\")","v":""},{"$f":"IFERROR(CONCATENATE($H$2,Sheet4!B173),\"\")","v":""},{"$f":"競技者一覧!C193&IF(OR(競技者一覧!H193=\"\",競技者一覧!H193=9),\"\",\"(\" & 競技者一覧!H193 & \")\")","v":""},{"$f":"競技者一覧!D193 &IF(OR(MID(競技者一覧!G193,3,2)=\"\", MID(競技者一覧!G193,3,2)=\"0\"),\"\",\"(\" & MID(競技者一覧!G193,3,2) & \")\")","v":""},{"$f":"ASC(競技者一覧!E193 & \" \" & 競技者一覧!F193 & IF(OR(MID(競技者一覧!G193,3,2)=\"\", MID(競技者一覧!G193,3,2)=\"0\"),\"\",\"(\" & MID(競技者一覧!G193,3,2) & \")\"))","v":" "},{"$f":"CONCATENATE(競技者一覧!I193)","v":""},{"$f":"IFERROR(IF(競技者一覧!$D$6=\"学連\",VLOOKUP(競技者一覧!J193,Sheet4!$D$2:$E$48,2,FALSE),学校名簿!D173),\"\")","v":0},{"$f":"IFERROR(VLOOKUP(競技者一覧!$D$7,学校番号表!$B$2:$C$65536,2,FALSE),\"\")","v":""},{"$f":"CONCATENATE(競技者一覧!B193)","v":""},{"$f":"IFERROR(CONCATENATE(VLOOKUP(競技者一覧!K193,種目コード一覧!$A$1:$C$51,2,FALSE),\" \",REPT(\"0\",VLOOKUP(競技者一覧!K193,種目コード一覧!$A$1:$C$51,3,FALSE)-LEN(競技者一覧!L193)),競技者一覧!L193),\"\")","v":""},{"$f":"IFERROR(CONCATENATE(VLOOKUP(競技者一覧!M193,種目コード一覧!$A$1:$C$51,2,FALSE),\" \",REPT(\"0\",VLOOKUP(競技者一覧!M193,種目コード一覧!$A$1:$C$51,3,FALSE)-LEN(競技者一覧!N193)),競技者一覧!N193),\"\")","v":""},{"$f":"IFERROR(CONCATENATE(VLOOKUP(競技者一覧!O193,種目コード一覧!$A$1:$C$51,2,FALSE),\" \",REPT(\"0\",VLOOKUP(競技者一覧!O193,種目コード一覧!$A$1:$C$51,3,FALSE)-LEN(競技者一覧!P193)),競技者一覧!P193),\"\")","v":""},{"$f":"IFERROR(CONCATENATE(VLOOKUP(競技者一覧!Q193,種目コード一覧!$A$1:$C$51,2,FALSE),\" \",REPT(\"0\",VLOOKUP(競技者一覧!Q193,種目コード一覧!$A$1:$C$51,3,FALSE)-LEN(競技者一覧!R193)),競技者一覧!R193),\"\")","v":""},{"$f":"IFERROR(CONCATENATE(VLOOKUP(競技者一覧!S193,種目コード一覧!$A$1:$C$51,2,FALSE),\" \",REPT(\"0\",VLOOKUP(競技者一覧!S193,種目コード一覧!$A$1:$C$51,3,FALSE)-LEN(競技者一覧!T193)),競技者一覧!T193),\"\")","v":""},{"$f":"IFERROR(CONCATENATE(VLOOKUP(競技者一覧!U193,種目コード一覧!$A$1:$C$51,2,FALSE),\" \",REPT(\"0\",VLOOKUP(競技者一覧!U193,種目コード一覧!$A$1:$C$51,3,FALSE)-LEN(競技者一覧!V193)),競技者一覧!V193),\"\")","v":""},{"$f":"IFERROR(CONCATENATE(VLOOKUP(競技者一覧!W193,種目コード一覧!$A$1:$C$51,2,FALSE),\" \",REPT(\"0\",VLOOKUP(競技者一覧!W193,種目コード一覧!$A$1:$C$51,3,FALSE)-LEN(競技者一覧!X193)),競技者一覧!X193),\"\")","v":""},{"$f":"IFERROR(CONCATENATE(VLOOKUP(競技者一覧!Y193,種目コード一覧!$A$1:$C$51,2,FALSE),\" \",REPT(\"0\",VLOOKUP(競技者一覧!Y193,種目コード一覧!$A$1:$C$51,3,FALSE)-LEN(競技者一覧!Z193)),競技者一覧!Z193),\"\")","v":""}]
[{"$f":"IFERROR(CONCATENATE(競技者一覧!$D$7), \"\")","v":""},{"$f":"IFERROR(CONCATENATE($H$2,Sheet4!B174),\"\")","v":""},{"$f":"競技者一覧!C194&IF(OR(競技者一覧!H194=\"\",競技者一覧!H194=9),\"\",\"(\" & 競技者一覧!H194 & \")\")","v":""},{"$f":"ASC(競技者一覧!D194 &IF(OR(MID(競技者一覧!G194,3,2)=\"\", MID(競技者一覧!G194,3,2)=\"0\"),\"\",\"(\" & MID(競技者一覧!G194,3,2) & \")\"))","v":""},{"$f":"ASC(競技者一覧!E194 & \" \" & 競技者一覧!F194 & IF(OR(MID(競技者一覧!G194,3,2)=\"\", MID(競技者一覧!G194,3,2)=\"0\"),\"\",\"(\" & MID(競技者一覧!G194,3,2) & \")\"))","v":" "},{"$f":"CONCATENATE(競技者一覧!I194)","v":""},{"$f":"IFERROR(IF(競技者一覧!$D$6=\"学連\",VLOOKUP(競技者一覧!J194,Sheet4!$D$2:$E$48,2,FALSE),学校名簿!D174),\"\")","v":0},{"$f":"IFERROR(VLOOKUP(競技者一覧!$D$7,学校番号表!$B$2:$C$65536,2,FALSE),\"\")","v":""},{"$f":"CONCATENATE(競技者一覧!B194)","v":""},{"$f":"IFERROR(CONCATENATE(VLOOKUP(競技者一覧!K194,種目コード一覧!$A$1:$B$51,2,FALSE),\" \",REPT(\"0\",VLOOKUP(競技者一覧!K194,種目コード一覧!$A$1:$C$51,3,FALSE)-LEN(競技者一覧!L194)),競技者一覧!L194),\"\")","v":""},{"$f":"IFERROR(CONCATENATE(VLOOKUP(競技者一覧!M194,種目コード一覧!$A$1:$C$51,2,FALSE),\" \",REPT(\"0\",VLOOKUP(競技者一覧!M194,種目コード一覧!$A$1:$C$51,3,FALSE)-LEN(競技者一覧!N194)),競技者一覧!N194),\"\")","v":""},{"$f":"IFERROR(CONCATENATE(VLOOKUP(競技者一覧!O194,種目コード一覧!$A$1:$C$51,2,FALSE),\" \",REPT(\"0\",VLOOKUP(競技者一覧!O194,種目コード一覧!$A$1:$C$51,3,FALSE)-LEN(競技者一覧!P194)),競技者一覧!P194),\"\")","v":""},{"$f":"IFERROR(CONCATENATE(VLOOKUP(競技者一覧!Q194,種目コード一覧!$A$1:$C$51,2,FALSE),\" \",REPT(\"0\",VLOOKUP(競技者一覧!Q194,種目コード一覧!$A$1:$C$51,3,FALSE)-LEN(競技者一覧!R194)),競技者一覧!R194),\"\")","v":""},{"$f":"IFERROR(CONCATENATE(VLOOKUP(競技者一覧!S194,種目コード一覧!$A$1:$C$51,2,FALSE),\" \",REPT(\"0\",VLOOKUP(競技者一覧!S194,種目コード一覧!$A$1:$C$51,3,FALSE)-LEN(競技者一覧!T194)),競技者一覧!T194),\"\")","v":""},{"$f":"IFERROR(CONCATENATE(VLOOKUP(競技者一覧!U194,種目コード一覧!$A$1:$C$51,2,FALSE),\" \",REPT(\"0\",VLOOKUP(競技者一覧!U194,種目コード一覧!$A$1:$C$51,3,FALSE)-LEN(競技者一覧!V194)),競技者一覧!V194),\"\")","v":""},{"$f":"IFERROR(CONCATENATE(VLOOKUP(競技者一覧!W194,種目コード一覧!$A$1:$C$51,2,FALSE),\" \",REPT(\"0\",VLOOKUP(競技者一覧!W194,種目コード一覧!$A$1:$C$51,3,FALSE)-LEN(競技者一覧!X194)),競技者一覧!X194),\"\")","v":""},{"$f":"IFERROR(CONCATENATE(VLOOKUP(競技者一覧!Y194,種目コード一覧!$A$1:$C$51,2,FALSE),\" \",REPT(\"0\",VLOOKUP(競技者一覧!Y194,種目コード一覧!$A$1:$C$51,3,FALSE)-LEN(競技者一覧!Z194)),競技者一覧!Z194),\"\")","v":""}]
[{"$f":"IFERROR(CONCATENATE(競技者一覧!$D$7), \"\")","v":""},{"$f":"IFERROR(CONCATENATE($H$2,Sheet4!B175),\"\")","v":""},{"$f":"競技者一覧!C195&IF(OR(競技者一覧!H195=\"\",競技者一覧!H195=9),\"\",\"(\" & 競技者一覧!H195 & \")\")","v":""},{"$f":"競技者一覧!D195 &IF(OR(MID(競技者一覧!G195,3,2)=\"\", MID(競技者一覧!G195,3,2)=\"0\"),\"\",\"(\" & MID(競技者一覧!G195,3,2) & \")\")","v":""},{"$f":"ASC(競技者一覧!E195 & \" \" & 競技者一覧!F195 & IF(OR(MID(競技者一覧!G195,3,2)=\"\", MID(競技者一覧!G195,3,2)=\"0\"),\"\",\"(\" & MID(競技者一覧!G195,3,2) & \")\"))","v":" "},{"$f":"CONCATENATE(競技者一覧!I195)","v":""},{"$f":"IFERROR(IF(競技者一覧!$D$6=\"学連\",VLOOKUP(競技者一覧!J195,Sheet4!$D$2:$E$48,2,FALSE),学校名簿!D175),\"\")","v":0},{"$f":"IFERROR(VLOOKUP(競技者一覧!$D$7,学校番号表!$B$2:$C$65536,2,FALSE),\"\")","v":""},{"$f":"CONCATENATE(競技者一覧!B195)","v":""},{"$f":"IFERROR(CONCATENATE(VLOOKUP(競技者一覧!K195,種目コード一覧!$A$1:$C$51,2,FALSE),\" \",REPT(\"0\",VLOOKUP(競技者一覧!K195,種目コード一覧!$A$1:$C$51,3,FALSE)-LEN(競技者一覧!L195)),競技者一覧!L195),\"\")","v":""},{"$f":"IFERROR(CONCATENATE(VLOOKUP(競技者一覧!M195,種目コード一覧!$A$1:$C$51,2,FALSE),\" \",REPT(\"0\",VLOOKUP(競技者一覧!M195,種目コード一覧!$A$1:$C$51,3,FALSE)-LEN(競技者一覧!N195)),競技者一覧!N195),\"\")","v":""},{"$f":"IFERROR(CONCATENATE(VLOOKUP(競技者一覧!O195,種目コード一覧!$A$1:$C$51,2,FALSE),\" \",REPT(\"0\",VLOOKUP(競技者一覧!O195,種目コード一覧!$A$1:$C$51,3,FALSE)-LEN(競技者一覧!P195)),競技者一覧!P195),\"\")","v":""},{"$f":"IFERROR(CONCATENATE(VLOOKUP(競技者一覧!Q195,種目コード一覧!$A$1:$C$51,2,FALSE),\" \",REPT(\"0\",VLOOKUP(競技者一覧!Q195,種目コード一覧!$A$1:$C$51,3,FALSE)-LEN(競技者一覧!R195)),競技者一覧!R195),\"\")","v":""},{"$f":"IFERROR(CONCATENATE(VLOOKUP(競技者一覧!S195,種目コード一覧!$A$1:$C$51,2,FALSE),\" \",REPT(\"0\",VLOOKUP(競技者一覧!S195,種目コード一覧!$A$1:$C$51,3,FALSE)-LEN(競技者一覧!T195)),競技者一覧!T195),\"\")","v":""},{"$f":"IFERROR(CONCATENATE(VLOOKUP(競技者一覧!U195,種目コード一覧!$A$1:$C$51,2,FALSE),\" \",REPT(\"0\",VLOOKUP(競技者一覧!U195,種目コード一覧!$A$1:$C$51,3,FALSE)-LEN(競技者一覧!V195)),競技者一覧!V195),\"\")","v":""},{"$f":"IFERROR(CONCATENATE(VLOOKUP(競技者一覧!W195,種目コード一覧!$A$1:$C$51,2,FALSE),\" \",REPT(\"0\",VLOOKUP(競技者一覧!W195,種目コード一覧!$A$1:$C$51,3,FALSE)-LEN(競技者一覧!X195)),競技者一覧!X195),\"\")","v":""},{"$f":"IFERROR(CONCATENATE(VLOOKUP(競技者一覧!Y195,種目コード一覧!$A$1:$C$51,2,FALSE),\" \",REPT(\"0\",VLOOKUP(競技者一覧!Y195,種目コード一覧!$A$1:$C$51,3,FALSE)-LEN(競技者一覧!Z195)),競技者一覧!Z195),\"\")","v":""}]
[{"$f":"IFERROR(CONCATENATE(競技者一覧!$D$7), \"\")","v":""},{"$f":"IFERROR(CONCATENATE($H$2,Sheet4!B176),\"\")","v":""},{"$f":"競技者一覧!C196&IF(OR(競技者一覧!H196=\"\",競技者一覧!H196=9),\"\",\"(\" & 競技者一覧!H196 & \")\")","v":""},{"$f":"ASC(競技者一覧!D196 &IF(OR(MID(競技者一覧!G196,3,2)=\"\", MID(競技者一覧!G196,3,2)=\"0\"),\"\",\"(\" & MID(競技者一覧!G196,3,2) & \")\"))","v":""},{"$f":"ASC(競技者一覧!E196 & \" \" & 競技者一覧!F196 & IF(OR(MID(競技者一覧!G196,3,2)=\"\", MID(競技者一覧!G196,3,2)=\"0\"),\"\",\"(\" & MID(競技者一覧!G196,3,2) & \")\"))","v":" "},{"$f":"CONCATENATE(競技者一覧!I196)","v":""},{"$f":"IFERROR(IF(競技者一覧!$D$6=\"学連\",VLOOKUP(競技者一覧!J196,Sheet4!$D$2:$E$48,2,FALSE),学校名簿!D176),\"\")","v":0},{"$f":"IFERROR(VLOOKUP(競技者一覧!$D$7,学校番号表!$B$2:$C$65536,2,FALSE),\"\")","v":""},{"$f":"CONCATENATE(競技者一覧!B196)","v":""},{"$f":"IFERROR(CONCATENATE(VLOOKUP(競技者一覧!K196,種目コード一覧!$A$1:$B$51,2,FALSE),\" \",REPT(\"0\",VLOOKUP(競技者一覧!K196,種目コード一覧!$A$1:$C$51,3,FALSE)-LEN(競技者一覧!L196)),競技者一覧!L196),\"\")","v":""},{"$f":"IFERROR(CONCATENATE(VLOOKUP(競技者一覧!M196,種目コード一覧!$A$1:$C$51,2,FALSE),\" \",REPT(\"0\",VLOOKUP(競技者一覧!M196,種目コード一覧!$A$1:$C$51,3,FALSE)-LEN(競技者一覧!N196)),競技者一覧!N196),\"\")","v":""},{"$f":"IFERROR(CONCATENATE(VLOOKUP(競技者一覧!O196,種目コード一覧!$A$1:$C$51,2,FALSE),\" \",REPT(\"0\",VLOOKUP(競技者一覧!O196,種目コード一覧!$A$1:$C$51,3,FALSE)-LEN(競技者一覧!P196)),競技者一覧!P196),\"\")","v":""},{"$f":"IFERROR(CONCATENATE(VLOOKUP(競技者一覧!Q196,種目コード一覧!$A$1:$C$51,2,FALSE),\" \",REPT(\"0\",VLOOKUP(競技者一覧!Q196,種目コード一覧!$A$1:$C$51,3,FALSE)-LEN(競技者一覧!R196)),競技者一覧!R196),\"\")","v":""},{"$f":"IFERROR(CONCATENATE(VLOOKUP(競技者一覧!S196,種目コード一覧!$A$1:$C$51,2,FALSE),\" \",REPT(\"0\",VLOOKUP(競技者一覧!S196,種目コード一覧!$A$1:$C$51,3,FALSE)-LEN(競技者一覧!T196)),競技者一覧!T196),\"\")","v":""},{"$f":"IFERROR(CONCATENATE(VLOOKUP(競技者一覧!U196,種目コード一覧!$A$1:$C$51,2,FALSE),\" \",REPT(\"0\",VLOOKUP(競技者一覧!U196,種目コード一覧!$A$1:$C$51,3,FALSE)-LEN(競技者一覧!V196)),競技者一覧!V196),\"\")","v":""},{"$f":"IFERROR(CONCATENATE(VLOOKUP(競技者一覧!W196,種目コード一覧!$A$1:$C$51,2,FALSE),\" \",REPT(\"0\",VLOOKUP(競技者一覧!W196,種目コード一覧!$A$1:$C$51,3,FALSE)-LEN(競技者一覧!X196)),競技者一覧!X196),\"\")","v":""},{"$f":"IFERROR(CONCATENATE(VLOOKUP(競技者一覧!Y196,種目コード一覧!$A$1:$C$51,2,FALSE),\" \",REPT(\"0\",VLOOKUP(競技者一覧!Y196,種目コード一覧!$A$1:$C$51,3,FALSE)-LEN(競技者一覧!Z196)),競技者一覧!Z196),\"\")","v":""}]
[{"$f":"IFERROR(CONCATENATE(競技者一覧!$D$7), \"\")","v":""},{"$f":"IFERROR(CONCATENATE($H$2,Sheet4!B177),\"\")","v":""},{"$f":"競技者一覧!C197&IF(OR(競技者一覧!H197=\"\",競技者一覧!H197=9),\"\",\"(\" & 競技者一覧!H197 & \")\")","v":""},{"$f":"競技者一覧!D197 &IF(OR(MID(競技者一覧!G197,3,2)=\"\", MID(競技者一覧!G197,3,2)=\"0\"),\"\",\"(\" & MID(競技者一覧!G197,3,2) & \")\")","v":""},{"$f":"ASC(競技者一覧!E197 & \" \" & 競技者一覧!F197 & IF(OR(MID(競技者一覧!G197,3,2)=\"\", MID(競技者一覧!G197,3,2)=\"0\"),\"\",\"(\" & MID(競技者一覧!G197,3,2) & \")\"))","v":" "},{"$f":"CONCATENATE(競技者一覧!I197)","v":""},{"$f":"IFERROR(IF(競技者一覧!$D$6=\"学連\",VLOOKUP(競技者一覧!J197,Sheet4!$D$2:$E$48,2,FALSE),学校名簿!D177),\"\")","v":0},{"$f":"IFERROR(VLOOKUP(競技者一覧!$D$7,学校番号表!$B$2:$C$65536,2,FALSE),\"\")","v":""},{"$f":"CONCATENATE(競技者一覧!B197)","v":""},{"$f":"IFERROR(CONCATENATE(VLOOKUP(競技者一覧!K197,種目コード一覧!$A$1:$C$51,2,FALSE),\" \",REPT(\"0\",VLOOKUP(競技者一覧!K197,種目コード一覧!$A$1:$C$51,3,FALSE)-LEN(競技者一覧!L197)),競技者一覧!L197),\"\")","v":""},{"$f":"IFERROR(CONCATENATE(VLOOKUP(競技者一覧!M197,種目コード一覧!$A$1:$C$51,2,FALSE),\" \",REPT(\"0\",VLOOKUP(競技者一覧!M197,種目コード一覧!$A$1:$C$51,3,FALSE)-LEN(競技者一覧!N197)),競技者一覧!N197),\"\")","v":""},{"$f":"IFERROR(CONCATENATE(VLOOKUP(競技者一覧!O197,種目コード一覧!$A$1:$C$51,2,FALSE),\" \",REPT(\"0\",VLOOKUP(競技者一覧!O197,種目コード一覧!$A$1:$C$51,3,FALSE)-LEN(競技者一覧!P197)),競技者一覧!P197),\"\")","v":""},{"$f":"IFERROR(CONCATENATE(VLOOKUP(競技者一覧!Q197,種目コード一覧!$A$1:$C$51,2,FALSE),\" \",REPT(\"0\",VLOOKUP(競技者一覧!Q197,種目コード一覧!$A$1:$C$51,3,FALSE)-LEN(競技者一覧!R197)),競技者一覧!R197),\"\")","v":""},{"$f":"IFERROR(CONCATENATE(VLOOKUP(競技者一覧!S197,種目コード一覧!$A$1:$C$51,2,FALSE),\" \",REPT(\"0\",VLOOKUP(競技者一覧!S197,種目コード一覧!$A$1:$C$51,3,FALSE)-LEN(競技者一覧!T197)),競技者一覧!T197),\"\")","v":""},{"$f":"IFERROR(CONCATENATE(VLOOKUP(競技者一覧!U197,種目コード一覧!$A$1:$C$51,2,FALSE),\" \",REPT(\"0\",VLOOKUP(競技者一覧!U197,種目コード一覧!$A$1:$C$51,3,FALSE)-LEN(競技者一覧!V197)),競技者一覧!V197),\"\")","v":""},{"$f":"IFERROR(CONCATENATE(VLOOKUP(競技者一覧!W197,種目コード一覧!$A$1:$C$51,2,FALSE),\" \",REPT(\"0\",VLOOKUP(競技者一覧!W197,種目コード一覧!$A$1:$C$51,3,FALSE)-LEN(競技者一覧!X197)),競技者一覧!X197),\"\")","v":""},{"$f":"IFERROR(CONCATENATE(VLOOKUP(競技者一覧!Y197,種目コード一覧!$A$1:$C$51,2,FALSE),\" \",REPT(\"0\",VLOOKUP(競技者一覧!Y197,種目コード一覧!$A$1:$C$51,3,FALSE)-LEN(競技者一覧!Z197)),競技者一覧!Z197),\"\")","v":""}]
[{"$f":"IFERROR(CONCATENATE(競技者一覧!$D$7), \"\")","v":""},{"$f":"IFERROR(CONCATENATE($H$2,Sheet4!B178),\"\")","v":""},{"$f":"競技者一覧!C198&IF(OR(競技者一覧!H198=\"\",競技者一覧!H198=9),\"\",\"(\" & 競技者一覧!H198 & \")\")","v":""},{"$f":"ASC(競技者一覧!D198 &IF(OR(MID(競技者一覧!G198,3,2)=\"\", MID(競技者一覧!G198,3,2)=\"0\"),\"\",\"(\" & MID(競技者一覧!G198,3,2) & \")\"))","v":""},{"$f":"ASC(競技者一覧!E198 & \" \" & 競技者一覧!F198 & IF(OR(MID(競技者一覧!G198,3,2)=\"\", MID(競技者一覧!G198,3,2)=\"0\"),\"\",\"(\" & MID(競技者一覧!G198,3,2) & \")\"))","v":" "},{"$f":"CONCATENATE(競技者一覧!I198)","v":""},{"$f":"IFERROR(IF(競技者一覧!$D$6=\"学連\",VLOOKUP(競技者一覧!J198,Sheet4!$D$2:$E$48,2,FALSE),学校名簿!D178),\"\")","v":0},{"$f":"IFERROR(VLOOKUP(競技者一覧!$D$7,学校番号表!$B$2:$C$65536,2,FALSE),\"\")","v":""},{"$f":"CONCATENATE(競技者一覧!B198)","v":""},{"$f":"IFERROR(CONCATENATE(VLOOKUP(競技者一覧!K198,種目コード一覧!$A$1:$B$51,2,FALSE),\" \",REPT(\"0\",VLOOKUP(競技者一覧!K198,種目コード一覧!$A$1:$C$51,3,FALSE)-LEN(競技者一覧!L198)),競技者一覧!L198),\"\")","v":""},{"$f":"IFERROR(CONCATENATE(VLOOKUP(競技者一覧!M198,種目コード一覧!$A$1:$C$51,2,FALSE),\" \",REPT(\"0\",VLOOKUP(競技者一覧!M198,種目コード一覧!$A$1:$C$51,3,FALSE)-LEN(競技者一覧!N198)),競技者一覧!N198),\"\")","v":""},{"$f":"IFERROR(CONCATENATE(VLOOKUP(競技者一覧!O198,種目コード一覧!$A$1:$C$51,2,FALSE),\" \",REPT(\"0\",VLOOKUP(競技者一覧!O198,種目コード一覧!$A$1:$C$51,3,FALSE)-LEN(競技者一覧!P198)),競技者一覧!P198),\"\")","v":""},{"$f":"IFERROR(CONCATENATE(VLOOKUP(競技者一覧!Q198,種目コード一覧!$A$1:$C$51,2,FALSE),\" \",REPT(\"0\",VLOOKUP(競技者一覧!Q198,種目コード一覧!$A$1:$C$51,3,FALSE)-LEN(競技者一覧!R198)),競技者一覧!R198),\"\")","v":""},{"$f":"IFERROR(CONCATENATE(VLOOKUP(競技者一覧!S198,種目コード一覧!$A$1:$C$51,2,FALSE),\" \",REPT(\"0\",VLOOKUP(競技者一覧!S198,種目コード一覧!$A$1:$C$51,3,FALSE)-LEN(競技者一覧!T198)),競技者一覧!T198),\"\")","v":""},{"$f":"IFERROR(CONCATENATE(VLOOKUP(競技者一覧!U198,種目コード一覧!$A$1:$C$51,2,FALSE),\" \",REPT(\"0\",VLOOKUP(競技者一覧!U198,種目コード一覧!$A$1:$C$51,3,FALSE)-LEN(競技者一覧!V198)),競技者一覧!V198),\"\")","v":""},{"$f":"IFERROR(CONCATENATE(VLOOKUP(競技者一覧!W198,種目コード一覧!$A$1:$C$51,2,FALSE),\" \",REPT(\"0\",VLOOKUP(競技者一覧!W198,種目コード一覧!$A$1:$C$51,3,FALSE)-LEN(競技者一覧!X198)),競技者一覧!X198),\"\")","v":""},{"$f":"IFERROR(CONCATENATE(VLOOKUP(競技者一覧!Y198,種目コード一覧!$A$1:$C$51,2,FALSE),\" \",REPT(\"0\",VLOOKUP(競技者一覧!Y198,種目コード一覧!$A$1:$C$51,3,FALSE)-LEN(競技者一覧!Z198)),競技者一覧!Z198),\"\")","v":""}]
[{"$f":"IFERROR(CONCATENATE(競技者一覧!$D$7), \"\")","v":""},{"$f":"IFERROR(CONCATENATE($H$2,Sheet4!B179),\"\")","v":""},{"$f":"競技者一覧!C199&IF(OR(競技者一覧!H199=\"\",競技者一覧!H199=9),\"\",\"(\" & 競技者一覧!H199 & \")\")","v":""},{"$f":"競技者一覧!D199 &IF(OR(MID(競技者一覧!G199,3,2)=\"\", MID(競技者一覧!G199,3,2)=\"0\"),\"\",\"(\" & MID(競技者一覧!G199,3,2) & \")\")","v":""},{"$f":"ASC(競技者一覧!E199 & \" \" & 競技者一覧!F199 & IF(OR(MID(競技者一覧!G199,3,2)=\"\", MID(競技者一覧!G199,3,2)=\"0\"),\"\",\"(\" & MID(競技者一覧!G199,3,2) & \")\"))","v":" "},{"$f":"CONCATENATE(競技者一覧!I199)","v":""},{"$f":"IFERROR(IF(競技者一覧!$D$6=\"学連\",VLOOKUP(競技者一覧!J199,Sheet4!$D$2:$E$48,2,FALSE),学校名簿!D179),\"\")","v":0},{"$f":"IFERROR(VLOOKUP(競技者一覧!$D$7,学校番号表!$B$2:$C$65536,2,FALSE),\"\")","v":""},{"$f":"CONCATENATE(競技者一覧!B199)","v":""},{"$f":"IFERROR(CONCATENATE(VLOOKUP(競技者一覧!K199,種目コード一覧!$A$1:$C$51,2,FALSE),\" \",REPT(\"0\",VLOOKUP(競技者一覧!K199,種目コード一覧!$A$1:$C$51,3,FALSE)-LEN(競技者一覧!L199)),競技者一覧!L199),\"\")","v":""},{"$f":"IFERROR(CONCATENATE(VLOOKUP(競技者一覧!M199,種目コード一覧!$A$1:$C$51,2,FALSE),\" \",REPT(\"0\",VLOOKUP(競技者一覧!M199,種目コード一覧!$A$1:$C$51,3,FALSE)-LEN(競技者一覧!N199)),競技者一覧!N199),\"\")","v":""},{"$f":"IFERROR(CONCATENATE(VLOOKUP(競技者一覧!O199,種目コード一覧!$A$1:$C$51,2,FALSE),\" \",REPT(\"0\",VLOOKUP(競技者一覧!O199,種目コード一覧!$A$1:$C$51,3,FALSE)-LEN(競技者一覧!P199)),競技者一覧!P199),\"\")","v":""},{"$f":"IFERROR(CONCATENATE(VLOOKUP(競技者一覧!Q199,種目コード一覧!$A$1:$C$51,2,FALSE),\" \",REPT(\"0\",VLOOKUP(競技者一覧!Q199,種目コード一覧!$A$1:$C$51,3,FALSE)-LEN(競技者一覧!R199)),競技者一覧!R199),\"\")","v":""},{"$f":"IFERROR(CONCATENATE(VLOOKUP(競技者一覧!S199,種目コード一覧!$A$1:$C$51,2,FALSE),\" \",REPT(\"0\",VLOOKUP(競技者一覧!S199,種目コード一覧!$A$1:$C$51,3,FALSE)-LEN(競技者一覧!T199)),競技者一覧!T199),\"\")","v":""},{"$f":"IFERROR(CONCATENATE(VLOOKUP(競技者一覧!U199,種目コード一覧!$A$1:$C$51,2,FALSE),\" \",REPT(\"0\",VLOOKUP(競技者一覧!U199,種目コード一覧!$A$1:$C$51,3,FALSE)-LEN(競技者一覧!V199)),競技者一覧!V199),\"\")","v":""},{"$f":"IFERROR(CONCATENATE(VLOOKUP(競技者一覧!W199,種目コード一覧!$A$1:$C$51,2,FALSE),\" \",REPT(\"0\",VLOOKUP(競技者一覧!W199,種目コード一覧!$A$1:$C$51,3,FALSE)-LEN(競技者一覧!X199)),競技者一覧!X199),\"\")","v":""},{"$f":"IFERROR(CONCATENATE(VLOOKUP(競技者一覧!Y199,種目コード一覧!$A$1:$C$51,2,FALSE),\" \",REPT(\"0\",VLOOKUP(競技者一覧!Y199,種目コード一覧!$A$1:$C$51,3,FALSE)-LEN(競技者一覧!Z199)),競技者一覧!Z199),\"\")","v":""}]
[{"$f":"IFERROR(CONCATENATE(競技者一覧!$D$7), \"\")","v":""},{"$f":"IFERROR(CONCATENATE($H$2,Sheet4!B180),\"\")","v":""},{"$f":"競技者一覧!C200&IF(OR(競技者一覧!H200=\"\",競技者一覧!H200=9),\"\",\"(\" & 競技者一覧!H200 & \")\")","v":""},{"$f":"ASC(競技者一覧!D200 &IF(OR(MID(競技者一覧!G200,3,2)=\"\", MID(競技者一覧!G200,3,2)=\"0\"),\"\",\"(\" & MID(競技者一覧!G200,3,2) & \")\"))","v":""},{"$f":"ASC(競技者一覧!E200 & \" \" & 競技者一覧!F200 & IF(OR(MID(競技者一覧!G200,3,2)=\"\", MID(競技者一覧!G200,3,2)=\"0\"),\"\",\"(\" & MID(競技者一覧!G200,3,2) & \")\"))","v":" "},{"$f":"CONCATENATE(競技者一覧!I200)","v":""},{"$f":"IFERROR(IF(競技者一覧!$D$6=\"学連\",VLOOKUP(競技者一覧!J200,Sheet4!$D$2:$E$48,2,FALSE),学校名簿!D180),\"\")","v":0},{"$f":"IFERROR(VLOOKUP(競技者一覧!$D$7,学校番号表!$B$2:$C$65536,2,FALSE),\"\")","v":""},{"$f":"CONCATENATE(競技者一覧!B200)","v":""},{"$f":"IFERROR(CONCATENATE(VLOOKUP(競技者一覧!K200,種目コード一覧!$A$1:$B$51,2,FALSE),\" \",REPT(\"0\",VLOOKUP(競技者一覧!K200,種目コード一覧!$A$1:$C$51,3,FALSE)-LEN(競技者一覧!L200)),競技者一覧!L200),\"\")","v":""},{"$f":"IFERROR(CONCATENATE(VLOOKUP(競技者一覧!M200,種目コード一覧!$A$1:$C$51,2,FALSE),\" \",REPT(\"0\",VLOOKUP(競技者一覧!M200,種目コード一覧!$A$1:$C$51,3,FALSE)-LEN(競技者一覧!N200)),競技者一覧!N200),\"\")","v":""},{"$f":"IFERROR(CONCATENATE(VLOOKUP(競技者一覧!O200,種目コード一覧!$A$1:$C$51,2,FALSE),\" \",REPT(\"0\",VLOOKUP(競技者一覧!O200,種目コード一覧!$A$1:$C$51,3,FALSE)-LEN(競技者一覧!P200)),競技者一覧!P200),\"\")","v":""},{"$f":"IFERROR(CONCATENATE(VLOOKUP(競技者一覧!Q200,種目コード一覧!$A$1:$C$51,2,FALSE),\" \",REPT(\"0\",VLOOKUP(競技者一覧!Q200,種目コード一覧!$A$1:$C$51,3,FALSE)-LEN(競技者一覧!R200)),競技者一覧!R200),\"\")","v":""},{"$f":"IFERROR(CONCATENATE(VLOOKUP(競技者一覧!S200,種目コード一覧!$A$1:$C$51,2,FALSE),\" \",REPT(\"0\",VLOOKUP(競技者一覧!S200,種目コード一覧!$A$1:$C$51,3,FALSE)-LEN(競技者一覧!T200)),競技者一覧!T200),\"\")","v":""},{"$f":"IFERROR(CONCATENATE(VLOOKUP(競技者一覧!U200,種目コード一覧!$A$1:$C$51,2,FALSE),\" \",REPT(\"0\",VLOOKUP(競技者一覧!U200,種目コード一覧!$A$1:$C$51,3,FALSE)-LEN(競技者一覧!V200)),競技者一覧!V200),\"\")","v":""},{"$f":"IFERROR(CONCATENATE(VLOOKUP(競技者一覧!W200,種目コード一覧!$A$1:$C$51,2,FALSE),\" \",REPT(\"0\",VLOOKUP(競技者一覧!W200,種目コード一覧!$A$1:$C$51,3,FALSE)-LEN(競技者一覧!X200)),競技者一覧!X200),\"\")","v":""},{"$f":"IFERROR(CONCATENATE(VLOOKUP(競技者一覧!Y200,種目コード一覧!$A$1:$C$51,2,FALSE),\" \",REPT(\"0\",VLOOKUP(競技者一覧!Y200,種目コード一覧!$A$1:$C$51,3,FALSE)-LEN(競技者一覧!Z200)),競技者一覧!Z200),\"\")","v":""}]
[{"$f":"IFERROR(CONCATENATE(競技者一覧!$D$7), \"\")","v":""},{"$f":"IFERROR(CONCATENATE($H$2,Sheet4!B181),\"\")","v":""},{"$f":"競技者一覧!C201&IF(OR(競技者一覧!H201=\"\",競技者一覧!H201=9),\"\",\"(\" & 競技者一覧!H201 & \")\")","v":""},{"$f":"競技者一覧!D201 &IF(OR(MID(競技者一覧!G201,3,2)=\"\", MID(競技者一覧!G201,3,2)=\"0\"),\"\",\"(\" & MID(競技者一覧!G201,3,2) & \")\")","v":""},{"$f":"ASC(競技者一覧!E201 & \" \" & 競技者一覧!F201 & IF(OR(MID(競技者一覧!G201,3,2)=\"\", MID(競技者一覧!G201,3,2)=\"0\"),\"\",\"(\" & MID(競技者一覧!G201,3,2) & \")\"))","v":" "},{"$f":"CONCATENATE(競技者一覧!I201)","v":""},{"$f":"IFERROR(IF(競技者一覧!$D$6=\"学連\",VLOOKUP(競技者一覧!J201,Sheet4!$D$2:$E$48,2,FALSE),学校名簿!D181),\"\")","v":0},{"$f":"IFERROR(VLOOKUP(競技者一覧!$D$7,学校番号表!$B$2:$C$65536,2,FALSE),\"\")","v":""},{"$f":"CONCATENATE(競技者一覧!B201)","v":""},{"$f":"IFERROR(CONCATENATE(VLOOKUP(競技者一覧!K201,種目コード一覧!$A$1:$C$51,2,FALSE),\" \",REPT(\"0\",VLOOKUP(競技者一覧!K201,種目コード一覧!$A$1:$C$51,3,FALSE)-LEN(競技者一覧!L201)),競技者一覧!L201),\"\")","v":""},{"$f":"IFERROR(CONCATENATE(VLOOKUP(競技者一覧!M201,種目コード一覧!$A$1:$C$51,2,FALSE),\" \",REPT(\"0\",VLOOKUP(競技者一覧!M201,種目コード一覧!$A$1:$C$51,3,FALSE)-LEN(競技者一覧!N201)),競技者一覧!N201),\"\")","v":""},{"$f":"IFERROR(CONCATENATE(VLOOKUP(競技者一覧!O201,種目コード一覧!$A$1:$C$51,2,FALSE),\" \",REPT(\"0\",VLOOKUP(競技者一覧!O201,種目コード一覧!$A$1:$C$51,3,FALSE)-LEN(競技者一覧!P201)),競技者一覧!P201),\"\")","v":""},{"$f":"IFERROR(CONCATENATE(VLOOKUP(競技者一覧!Q201,種目コード一覧!$A$1:$C$51,2,FALSE),\" \",REPT(\"0\",VLOOKUP(競技者一覧!Q201,種目コード一覧!$A$1:$C$51,3,FALSE)-LEN(競技者一覧!R201)),競技者一覧!R201),\"\")","v":""},{"$f":"IFERROR(CONCATENATE(VLOOKUP(競技者一覧!S201,種目コード一覧!$A$1:$C$51,2,FALSE),\" \",REPT(\"0\",VLOOKUP(競技者一覧!S201,種目コード一覧!$A$1:$C$51,3,FALSE)-LEN(競技者一覧!T201)),競技者一覧!T201),\"\")","v":""},{"$f":"IFERROR(CONCATENATE(VLOOKUP(競技者一覧!U201,種目コード一覧!$A$1:$C$51,2,FALSE),\" \",REPT(\"0\",VLOOKUP(競技者一覧!U201,種目コード一覧!$A$1:$C$51,3,FALSE)-LEN(競技者一覧!V201)),競技者一覧!V201),\"\")","v":""},{"$f":"IFERROR(CONCATENATE(VLOOKUP(競技者一覧!W201,種目コード一覧!$A$1:$C$51,2,FALSE),\" \",REPT(\"0\",VLOOKUP(競技者一覧!W201,種目コード一覧!$A$1:$C$51,3,FALSE)-LEN(競技者一覧!X201)),競技者一覧!X201),\"\")","v":""},{"$f":"IFERROR(CONCATENATE(VLOOKUP(競技者一覧!Y201,種目コード一覧!$A$1:$C$51,2,FALSE),\" \",REPT(\"0\",VLOOKUP(競技者一覧!Y201,種目コード一覧!$A$1:$C$51,3,FALSE)-LEN(競技者一覧!Z201)),競技者一覧!Z201),\"\")","v":""}]
[{"$f":"IFERROR(CONCATENATE(競技者一覧!$D$7), \"\")","v":""},{"$f":"IFERROR(CONCATENATE($H$2,Sheet4!B182),\"\")","v":""},{"$f":"競技者一覧!C202&IF(OR(競技者一覧!H202=\"\",競技者一覧!H202=9),\"\",\"(\" & 競技者一覧!H202 & \")\")","v":""},{"$f":"ASC(競技者一覧!D202 &IF(OR(MID(競技者一覧!G202,3,2)=\"\", MID(競技者一覧!G202,3,2)=\"0\"),\"\",\"(\" & MID(競技者一覧!G202,3,2) & \")\"))","v":""},{"$f":"ASC(競技者一覧!E202 & \" \" & 競技者一覧!F202 & IF(OR(MID(競技者一覧!G202,3,2)=\"\", MID(競技者一覧!G202,3,2)=\"0\"),\"\",\"(\" & MID(競技者一覧!G202,3,2) & \")\"))","v":" "},{"$f":"CONCATENATE(競技者一覧!I202)","v":""},{"$f":"IFERROR(IF(競技者一覧!$D$6=\"学連\",VLOOKUP(競技者一覧!J202,Sheet4!$D$2:$E$48,2,FALSE),学校名簿!D182),\"\")","v":0},{"$f":"IFERROR(VLOOKUP(競技者一覧!$D$7,学校番号表!$B$2:$C$65536,2,FALSE),\"\")","v":""},{"$f":"CONCATENATE(競技者一覧!B202)","v":""},{"$f":"IFERROR(CONCATENATE(VLOOKUP(競技者一覧!K202,種目コード一覧!$A$1:$B$51,2,FALSE),\" \",REPT(\"0\",VLOOKUP(競技者一覧!K202,種目コード一覧!$A$1:$C$51,3,FALSE)-LEN(競技者一覧!L202)),競技者一覧!L202),\"\")","v":""},{"$f":"IFERROR(CONCATENATE(VLOOKUP(競技者一覧!M202,種目コード一覧!$A$1:$C$51,2,FALSE),\" \",REPT(\"0\",VLOOKUP(競技者一覧!M202,種目コード一覧!$A$1:$C$51,3,FALSE)-LEN(競技者一覧!N202)),競技者一覧!N202),\"\")","v":""},{"$f":"IFERROR(CONCATENATE(VLOOKUP(競技者一覧!O202,種目コード一覧!$A$1:$C$51,2,FALSE),\" \",REPT(\"0\",VLOOKUP(競技者一覧!O202,種目コード一覧!$A$1:$C$51,3,FALSE)-LEN(競技者一覧!P202)),競技者一覧!P202),\"\")","v":""},{"$f":"IFERROR(CONCATENATE(VLOOKUP(競技者一覧!Q202,種目コード一覧!$A$1:$C$51,2,FALSE),\" \",REPT(\"0\",VLOOKUP(競技者一覧!Q202,種目コード一覧!$A$1:$C$51,3,FALSE)-LEN(競技者一覧!R202)),競技者一覧!R202),\"\")","v":""},{"$f":"IFERROR(CONCATENATE(VLOOKUP(競技者一覧!S202,種目コード一覧!$A$1:$C$51,2,FALSE),\" \",REPT(\"0\",VLOOKUP(競技者一覧!S202,種目コード一覧!$A$1:$C$51,3,FALSE)-LEN(競技者一覧!T202)),競技者一覧!T202),\"\")","v":""},{"$f":"IFERROR(CONCATENATE(VLOOKUP(競技者一覧!U202,種目コード一覧!$A$1:$C$51,2,FALSE),\" \",REPT(\"0\",VLOOKUP(競技者一覧!U202,種目コード一覧!$A$1:$C$51,3,FALSE)-LEN(競技者一覧!V202)),競技者一覧!V202),\"\")","v":""},{"$f":"IFERROR(CONCATENATE(VLOOKUP(競技者一覧!W202,種目コード一覧!$A$1:$C$51,2,FALSE),\" \",REPT(\"0\",VLOOKUP(競技者一覧!W202,種目コード一覧!$A$1:$C$51,3,FALSE)-LEN(競技者一覧!X202)),競技者一覧!X202),\"\")","v":""},{"$f":"IFERROR(CONCATENATE(VLOOKUP(競技者一覧!Y202,種目コード一覧!$A$1:$C$51,2,FALSE),\" \",REPT(\"0\",VLOOKUP(競技者一覧!Y202,種目コード一覧!$A$1:$C$51,3,FALSE)-LEN(競技者一覧!Z202)),競技者一覧!Z202),\"\")","v":""}]
[{"$f":"IFERROR(CONCATENATE(競技者一覧!$D$7), \"\")","v":""},{"$f":"IFERROR(CONCATENATE($H$2,Sheet4!B183),\"\")","v":""},{"$f":"競技者一覧!C203&IF(OR(競技者一覧!H203=\"\",競技者一覧!H203=9),\"\",\"(\" & 競技者一覧!H203 & \")\")","v":""},{"$f":"競技者一覧!D203 &IF(OR(MID(競技者一覧!G203,3,2)=\"\", MID(競技者一覧!G203,3,2)=\"0\"),\"\",\"(\" & MID(競技者一覧!G203,3,2) & \")\")","v":""},{"$f":"ASC(競技者一覧!E203 & \" \" & 競技者一覧!F203 & IF(OR(MID(競技者一覧!G203,3,2)=\"\", MID(競技者一覧!G203,3,2)=\"0\"),\"\",\"(\" & MID(競技者一覧!G203,3,2) & \")\"))","v":" "},{"$f":"CONCATENATE(競技者一覧!I203)","v":""},{"$f":"IFERROR(IF(競技者一覧!$D$6=\"学連\",VLOOKUP(競技者一覧!J203,Sheet4!$D$2:$E$48,2,FALSE),学校名簿!D183),\"\")","v":0},{"$f":"IFERROR(VLOOKUP(競技者一覧!$D$7,学校番号表!$B$2:$C$65536,2,FALSE),\"\")","v":""},{"$f":"CONCATENATE(競技者一覧!B203)","v":""},{"$f":"IFERROR(CONCATENATE(VLOOKUP(競技者一覧!K203,種目コード一覧!$A$1:$C$51,2,FALSE),\" \",REPT(\"0\",VLOOKUP(競技者一覧!K203,種目コード一覧!$A$1:$C$51,3,FALSE)-LEN(競技者一覧!L203)),競技者一覧!L203),\"\")","v":""},{"$f":"IFERROR(CONCATENATE(VLOOKUP(競技者一覧!M203,種目コード一覧!$A$1:$C$51,2,FALSE),\" \",REPT(\"0\",VLOOKUP(競技者一覧!M203,種目コード一覧!$A$1:$C$51,3,FALSE)-LEN(競技者一覧!N203)),競技者一覧!N203),\"\")","v":""},{"$f":"IFERROR(CONCATENATE(VLOOKUP(競技者一覧!O203,種目コード一覧!$A$1:$C$51,2,FALSE),\" \",REPT(\"0\",VLOOKUP(競技者一覧!O203,種目コード一覧!$A$1:$C$51,3,FALSE)-LEN(競技者一覧!P203)),競技者一覧!P203),\"\")","v":""},{"$f":"IFERROR(CONCATENATE(VLOOKUP(競技者一覧!Q203,種目コード一覧!$A$1:$C$51,2,FALSE),\" \",REPT(\"0\",VLOOKUP(競技者一覧!Q203,種目コード一覧!$A$1:$C$51,3,FALSE)-LEN(競技者一覧!R203)),競技者一覧!R203),\"\")","v":""},{"$f":"IFERROR(CONCATENATE(VLOOKUP(競技者一覧!S203,種目コード一覧!$A$1:$C$51,2,FALSE),\" \",REPT(\"0\",VLOOKUP(競技者一覧!S203,種目コード一覧!$A$1:$C$51,3,FALSE)-LEN(競技者一覧!T203)),競技者一覧!T203),\"\")","v":""},{"$f":"IFERROR(CONCATENATE(VLOOKUP(競技者一覧!U203,種目コード一覧!$A$1:$C$51,2,FALSE),\" \",REPT(\"0\",VLOOKUP(競技者一覧!U203,種目コード一覧!$A$1:$C$51,3,FALSE)-LEN(競技者一覧!V203)),競技者一覧!V203),\"\")","v":""},{"$f":"IFERROR(CONCATENATE(VLOOKUP(競技者一覧!W203,種目コード一覧!$A$1:$C$51,2,FALSE),\" \",REPT(\"0\",VLOOKUP(競技者一覧!W203,種目コード一覧!$A$1:$C$51,3,FALSE)-LEN(競技者一覧!X203)),競技者一覧!X203),\"\")","v":""},{"$f":"IFERROR(CONCATENATE(VLOOKUP(競技者一覧!Y203,種目コード一覧!$A$1:$C$51,2,FALSE),\" \",REPT(\"0\",VLOOKUP(競技者一覧!Y203,種目コード一覧!$A$1:$C$51,3,FALSE)-LEN(競技者一覧!Z203)),競技者一覧!Z203),\"\")","v":""}]
[{"$f":"IFERROR(CONCATENATE(競技者一覧!$D$7), \"\")","v":""},{"$f":"IFERROR(CONCATENATE($H$2,Sheet4!B184),\"\")","v":""},{"$f":"競技者一覧!C204&IF(OR(競技者一覧!H204=\"\",競技者一覧!H204=9),\"\",\"(\" & 競技者一覧!H204 & \")\")","v":""},{"$f":"ASC(競技者一覧!D204 &IF(OR(MID(競技者一覧!G204,3,2)=\"\", MID(競技者一覧!G204,3,2)=\"0\"),\"\",\"(\" & MID(競技者一覧!G204,3,2) & \")\"))","v":""},{"$f":"ASC(競技者一覧!E204 & \" \" & 競技者一覧!F204 & IF(OR(MID(競技者一覧!G204,3,2)=\"\", MID(競技者一覧!G204,3,2)=\"0\"),\"\",\"(\" & MID(競技者一覧!G204,3,2) & \")\"))","v":" "},{"$f":"CONCATENATE(競技者一覧!I204)","v":""},{"$f":"IFERROR(IF(競技者一覧!$D$6=\"学連\",VLOOKUP(競技者一覧!J204,Sheet4!$D$2:$E$48,2,FALSE),学校名簿!D184),\"\")","v":0},{"$f":"IFERROR(VLOOKUP(競技者一覧!$D$7,学校番号表!$B$2:$C$65536,2,FALSE),\"\")","v":""},{"$f":"CONCATENATE(競技者一覧!B204)","v":""},{"$f":"IFERROR(CONCATENATE(VLOOKUP(競技者一覧!K204,種目コード一覧!$A$1:$B$51,2,FALSE),\" \",REPT(\"0\",VLOOKUP(競技者一覧!K204,種目コード一覧!$A$1:$C$51,3,FALSE)-LEN(競技者一覧!L204)),競技者一覧!L204),\"\")","v":""},{"$f":"IFERROR(CONCATENATE(VLOOKUP(競技者一覧!M204,種目コード一覧!$A$1:$C$51,2,FALSE),\" \",REPT(\"0\",VLOOKUP(競技者一覧!M204,種目コード一覧!$A$1:$C$51,3,FALSE)-LEN(競技者一覧!N204)),競技者一覧!N204),\"\")","v":""},{"$f":"IFERROR(CONCATENATE(VLOOKUP(競技者一覧!O204,種目コード一覧!$A$1:$C$51,2,FALSE),\" \",REPT(\"0\",VLOOKUP(競技者一覧!O204,種目コード一覧!$A$1:$C$51,3,FALSE)-LEN(競技者一覧!P204)),競技者一覧!P204),\"\")","v":""},{"$f":"IFERROR(CONCATENATE(VLOOKUP(競技者一覧!Q204,種目コード一覧!$A$1:$C$51,2,FALSE),\" \",REPT(\"0\",VLOOKUP(競技者一覧!Q204,種目コード一覧!$A$1:$C$51,3,FALSE)-LEN(競技者一覧!R204)),競技者一覧!R204),\"\")","v":""},{"$f":"IFERROR(CONCATENATE(VLOOKUP(競技者一覧!S204,種目コード一覧!$A$1:$C$51,2,FALSE),\" \",REPT(\"0\",VLOOKUP(競技者一覧!S204,種目コード一覧!$A$1:$C$51,3,FALSE)-LEN(競技者一覧!T204)),競技者一覧!T204),\"\")","v":""},{"$f":"IFERROR(CONCATENATE(VLOOKUP(競技者一覧!U204,種目コード一覧!$A$1:$C$51,2,FALSE),\" \",REPT(\"0\",VLOOKUP(競技者一覧!U204,種目コード一覧!$A$1:$C$51,3,FALSE)-LEN(競技者一覧!V204)),競技者一覧!V204),\"\")","v":""},{"$f":"IFERROR(CONCATENATE(VLOOKUP(競技者一覧!W204,種目コード一覧!$A$1:$C$51,2,FALSE),\" \",REPT(\"0\",VLOOKUP(競技者一覧!W204,種目コード一覧!$A$1:$C$51,3,FALSE)-LEN(競技者一覧!X204)),競技者一覧!X204),\"\")","v":""},{"$f":"IFERROR(CONCATENATE(VLOOKUP(競技者一覧!Y204,種目コード一覧!$A$1:$C$51,2,FALSE),\" \",REPT(\"0\",VLOOKUP(競技者一覧!Y204,種目コード一覧!$A$1:$C$51,3,FALSE)-LEN(競技者一覧!Z204)),競技者一覧!Z204),\"\")","v":""}]
[{"$f":"IFERROR(CONCATENATE(競技者一覧!$D$7), \"\")","v":""},{"$f":"IFERROR(CONCATENATE($H$2,Sheet4!B185),\"\")","v":""},{"$f":"競技者一覧!C205&IF(OR(競技者一覧!H205=\"\",競技者一覧!H205=9),\"\",\"(\" & 競技者一覧!H205 & \")\")","v":""},{"$f":"競技者一覧!D205 &IF(OR(MID(競技者一覧!G205,3,2)=\"\", MID(競技者一覧!G205,3,2)=\"0\"),\"\",\"(\" & MID(競技者一覧!G205,3,2) & \")\")","v":""},{"$f":"ASC(競技者一覧!E205 & \" \" & 競技者一覧!F205 & IF(OR(MID(競技者一覧!G205,3,2)=\"\", MID(競技者一覧!G205,3,2)=\"0\"),\"\",\"(\" & MID(競技者一覧!G205,3,2) & \")\"))","v":" "},{"$f":"CONCATENATE(競技者一覧!I205)","v":""},{"$f":"IFERROR(IF(競技者一覧!$D$6=\"学連\",VLOOKUP(競技者一覧!J205,Sheet4!$D$2:$E$48,2,FALSE),学校名簿!D185),\"\")","v":0},{"$f":"IFERROR(VLOOKUP(競技者一覧!$D$7,学校番号表!$B$2:$C$65536,2,FALSE),\"\")","v":""},{"$f":"CONCATENATE(競技者一覧!B205)","v":""},{"$f":"IFERROR(CONCATENATE(VLOOKUP(競技者一覧!K205,種目コード一覧!$A$1:$C$51,2,FALSE),\" \",REPT(\"0\",VLOOKUP(競技者一覧!K205,種目コード一覧!$A$1:$C$51,3,FALSE)-LEN(競技者一覧!L205)),競技者一覧!L205),\"\")","v":""},{"$f":"IFERROR(CONCATENATE(VLOOKUP(競技者一覧!M205,種目コード一覧!$A$1:$C$51,2,FALSE),\" \",REPT(\"0\",VLOOKUP(競技者一覧!M205,種目コード一覧!$A$1:$C$51,3,FALSE)-LEN(競技者一覧!N205)),競技者一覧!N205),\"\")","v":""},{"$f":"IFERROR(CONCATENATE(VLOOKUP(競技者一覧!O205,種目コード一覧!$A$1:$C$51,2,FALSE),\" \",REPT(\"0\",VLOOKUP(競技者一覧!O205,種目コード一覧!$A$1:$C$51,3,FALSE)-LEN(競技者一覧!P205)),競技者一覧!P205),\"\")","v":""},{"$f":"IFERROR(CONCATENATE(VLOOKUP(競技者一覧!Q205,種目コード一覧!$A$1:$C$51,2,FALSE),\" \",REPT(\"0\",VLOOKUP(競技者一覧!Q205,種目コード一覧!$A$1:$C$51,3,FALSE)-LEN(競技者一覧!R205)),競技者一覧!R205),\"\")","v":""},{"$f":"IFERROR(CONCATENATE(VLOOKUP(競技者一覧!S205,種目コード一覧!$A$1:$C$51,2,FALSE),\" \",REPT(\"0\",VLOOKUP(競技者一覧!S205,種目コード一覧!$A$1:$C$51,3,FALSE)-LEN(競技者一覧!T205)),競技者一覧!T205),\"\")","v":""},{"$f":"IFERROR(CONCATENATE(VLOOKUP(競技者一覧!U205,種目コード一覧!$A$1:$C$51,2,FALSE),\" \",REPT(\"0\",VLOOKUP(競技者一覧!U205,種目コード一覧!$A$1:$C$51,3,FALSE)-LEN(競技者一覧!V205)),競技者一覧!V205),\"\")","v":""},{"$f":"IFERROR(CONCATENATE(VLOOKUP(競技者一覧!W205,種目コード一覧!$A$1:$C$51,2,FALSE),\" \",REPT(\"0\",VLOOKUP(競技者一覧!W205,種目コード一覧!$A$1:$C$51,3,FALSE)-LEN(競技者一覧!X205)),競技者一覧!X205),\"\")","v":""},{"$f":"IFERROR(CONCATENATE(VLOOKUP(競技者一覧!Y205,種目コード一覧!$A$1:$C$51,2,FALSE),\" \",REPT(\"0\",VLOOKUP(競技者一覧!Y205,種目コード一覧!$A$1:$C$51,3,FALSE)-LEN(競技者一覧!Z205)),競技者一覧!Z205),\"\")","v":""}]
[{"$f":"IFERROR(CONCATENATE(競技者一覧!$D$7), \"\")","v":""},{"$f":"IFERROR(CONCATENATE($H$2,Sheet4!B186),\"\")","v":""},{"$f":"競技者一覧!C206&IF(OR(競技者一覧!H206=\"\",競技者一覧!H206=9),\"\",\"(\" & 競技者一覧!H206 & \")\")","v":""},{"$f":"ASC(競技者一覧!D206 &IF(OR(MID(競技者一覧!G206,3,2)=\"\", MID(競技者一覧!G206,3,2)=\"0\"),\"\",\"(\" & MID(競技者一覧!G206,3,2) & \")\"))","v":""},{"$f":"ASC(競技者一覧!E206 & \" \" & 競技者一覧!F206 & IF(OR(MID(競技者一覧!G206,3,2)=\"\", MID(競技者一覧!G206,3,2)=\"0\"),\"\",\"(\" & MID(競技者一覧!G206,3,2) & \")\"))","v":" "},{"$f":"CONCATENATE(競技者一覧!I206)","v":""},{"$f":"IFERROR(IF(競技者一覧!$D$6=\"学連\",VLOOKUP(競技者一覧!J206,Sheet4!$D$2:$E$48,2,FALSE),学校名簿!D186),\"\")","v":0},{"$f":"IFERROR(VLOOKUP(競技者一覧!$D$7,学校番号表!$B$2:$C$65536,2,FALSE),\"\")","v":""},{"$f":"CONCATENATE(競技者一覧!B206)","v":""},{"$f":"IFERROR(CONCATENATE(VLOOKUP(競技者一覧!K206,種目コード一覧!$A$1:$B$51,2,FALSE),\" \",REPT(\"0\",VLOOKUP(競技者一覧!K206,種目コード一覧!$A$1:$C$51,3,FALSE)-LEN(競技者一覧!L206)),競技者一覧!L206),\"\")","v":""},{"$f":"IFERROR(CONCATENATE(VLOOKUP(競技者一覧!M206,種目コード一覧!$A$1:$C$51,2,FALSE),\" \",REPT(\"0\",VLOOKUP(競技者一覧!M206,種目コード一覧!$A$1:$C$51,3,FALSE)-LEN(競技者一覧!N206)),競技者一覧!N206),\"\")","v":""},{"$f":"IFERROR(CONCATENATE(VLOOKUP(競技者一覧!O206,種目コード一覧!$A$1:$C$51,2,FALSE),\" \",REPT(\"0\",VLOOKUP(競技者一覧!O206,種目コード一覧!$A$1:$C$51,3,FALSE)-LEN(競技者一覧!P206)),競技者一覧!P206),\"\")","v":""},{"$f":"IFERROR(CONCATENATE(VLOOKUP(競技者一覧!Q206,種目コード一覧!$A$1:$C$51,2,FALSE),\" \",REPT(\"0\",VLOOKUP(競技者一覧!Q206,種目コード一覧!$A$1:$C$51,3,FALSE)-LEN(競技者一覧!R206)),競技者一覧!R206),\"\")","v":""},{"$f":"IFERROR(CONCATENATE(VLOOKUP(競技者一覧!S206,種目コード一覧!$A$1:$C$51,2,FALSE),\" \",REPT(\"0\",VLOOKUP(競技者一覧!S206,種目コード一覧!$A$1:$C$51,3,FALSE)-LEN(競技者一覧!T206)),競技者一覧!T206),\"\")","v":""},{"$f":"IFERROR(CONCATENATE(VLOOKUP(競技者一覧!U206,種目コード一覧!$A$1:$C$51,2,FALSE),\" \",REPT(\"0\",VLOOKUP(競技者一覧!U206,種目コード一覧!$A$1:$C$51,3,FALSE)-LEN(競技者一覧!V206)),競技者一覧!V206),\"\")","v":""},{"$f":"IFERROR(CONCATENATE(VLOOKUP(競技者一覧!W206,種目コード一覧!$A$1:$C$51,2,FALSE),\" \",REPT(\"0\",VLOOKUP(競技者一覧!W206,種目コード一覧!$A$1:$C$51,3,FALSE)-LEN(競技者一覧!X206)),競技者一覧!X206),\"\")","v":""},{"$f":"IFERROR(CONCATENATE(VLOOKUP(競技者一覧!Y206,種目コード一覧!$A$1:$C$51,2,FALSE),\" \",REPT(\"0\",VLOOKUP(競技者一覧!Y206,種目コード一覧!$A$1:$C$51,3,FALSE)-LEN(競技者一覧!Z206)),競技者一覧!Z206),\"\")","v":""}]
[{"$f":"IFERROR(CONCATENATE(競技者一覧!$D$7), \"\")","v":""},{"$f":"IFERROR(CONCATENATE($H$2,Sheet4!B187),\"\")","v":""},{"$f":"競技者一覧!C207&IF(OR(競技者一覧!H207=\"\",競技者一覧!H207=9),\"\",\"(\" & 競技者一覧!H207 & \")\")","v":""},{"$f":"競技者一覧!D207 &IF(OR(MID(競技者一覧!G207,3,2)=\"\", MID(競技者一覧!G207,3,2)=\"0\"),\"\",\"(\" & MID(競技者一覧!G207,3,2) & \")\")","v":""},{"$f":"ASC(競技者一覧!E207 & \" \" & 競技者一覧!F207 & IF(OR(MID(競技者一覧!G207,3,2)=\"\", MID(競技者一覧!G207,3,2)=\"0\"),\"\",\"(\" & MID(競技者一覧!G207,3,2) & \")\"))","v":" "},{"$f":"CONCATENATE(競技者一覧!I207)","v":""},{"$f":"IFERROR(IF(競技者一覧!$D$6=\"学連\",VLOOKUP(競技者一覧!J207,Sheet4!$D$2:$E$48,2,FALSE),学校名簿!D187),\"\")","v":0},{"$f":"IFERROR(VLOOKUP(競技者一覧!$D$7,学校番号表!$B$2:$C$65536,2,FALSE),\"\")","v":""},{"$f":"CONCATENATE(競技者一覧!B207)","v":""},{"$f":"IFERROR(CONCATENATE(VLOOKUP(競技者一覧!K207,種目コード一覧!$A$1:$C$51,2,FALSE),\" \",REPT(\"0\",VLOOKUP(競技者一覧!K207,種目コード一覧!$A$1:$C$51,3,FALSE)-LEN(競技者一覧!L207)),競技者一覧!L207),\"\")","v":""},{"$f":"IFERROR(CONCATENATE(VLOOKUP(競技者一覧!M207,種目コード一覧!$A$1:$C$51,2,FALSE),\" \",REPT(\"0\",VLOOKUP(競技者一覧!M207,種目コード一覧!$A$1:$C$51,3,FALSE)-LEN(競技者一覧!N207)),競技者一覧!N207),\"\")","v":""},{"$f":"IFERROR(CONCATENATE(VLOOKUP(競技者一覧!O207,種目コード一覧!$A$1:$C$51,2,FALSE),\" \",REPT(\"0\",VLOOKUP(競技者一覧!O207,種目コード一覧!$A$1:$C$51,3,FALSE)-LEN(競技者一覧!P207)),競技者一覧!P207),\"\")","v":""},{"$f":"IFERROR(CONCATENATE(VLOOKUP(競技者一覧!Q207,種目コード一覧!$A$1:$C$51,2,FALSE),\" \",REPT(\"0\",VLOOKUP(競技者一覧!Q207,種目コード一覧!$A$1:$C$51,3,FALSE)-LEN(競技者一覧!R207)),競技者一覧!R207),\"\")","v":""},{"$f":"IFERROR(CONCATENATE(VLOOKUP(競技者一覧!S207,種目コード一覧!$A$1:$C$51,2,FALSE),\" \",REPT(\"0\",VLOOKUP(競技者一覧!S207,種目コード一覧!$A$1:$C$51,3,FALSE)-LEN(競技者一覧!T207)),競技者一覧!T207),\"\")","v":""},{"$f":"IFERROR(CONCATENATE(VLOOKUP(競技者一覧!U207,種目コード一覧!$A$1:$C$51,2,FALSE),\" \",REPT(\"0\",VLOOKUP(競技者一覧!U207,種目コード一覧!$A$1:$C$51,3,FALSE)-LEN(競技者一覧!V207)),競技者一覧!V207),\"\")","v":""},{"$f":"IFERROR(CONCATENATE(VLOOKUP(競技者一覧!W207,種目コード一覧!$A$1:$C$51,2,FALSE),\" \",REPT(\"0\",VLOOKUP(競技者一覧!W207,種目コード一覧!$A$1:$C$51,3,FALSE)-LEN(競技者一覧!X207)),競技者一覧!X207),\"\")","v":""},{"$f":"IFERROR(CONCATENATE(VLOOKUP(競技者一覧!Y207,種目コード一覧!$A$1:$C$51,2,FALSE),\" \",REPT(\"0\",VLOOKUP(競技者一覧!Y207,種目コード一覧!$A$1:$C$51,3,FALSE)-LEN(競技者一覧!Z207)),競技者一覧!Z207),\"\")","v":""}]
[{"$f":"IFERROR(CONCATENATE(競技者一覧!$D$7), \"\")","v":""},{"$f":"IFERROR(CONCATENATE($H$2,Sheet4!B188),\"\")","v":""},{"$f":"競技者一覧!C208&IF(OR(競技者一覧!H208=\"\",競技者一覧!H208=9),\"\",\"(\" & 競技者一覧!H208 & \")\")","v":""},{"$f":"ASC(競技者一覧!D208 &IF(OR(MID(競技者一覧!G208,3,2)=\"\", MID(競技者一覧!G208,3,2)=\"0\"),\"\",\"(\" & MID(競技者一覧!G208,3,2) & \")\"))","v":""},{"$f":"ASC(競技者一覧!E208 & \" \" & 競技者一覧!F208 & IF(OR(MID(競技者一覧!G208,3,2)=\"\", MID(競技者一覧!G208,3,2)=\"0\"),\"\",\"(\" & MID(競技者一覧!G208,3,2) & \")\"))","v":" "},{"$f":"CONCATENATE(競技者一覧!I208)","v":""},{"$f":"IFERROR(IF(競技者一覧!$D$6=\"学連\",VLOOKUP(競技者一覧!J208,Sheet4!$D$2:$E$48,2,FALSE),学校名簿!D188),\"\")","v":0},{"$f":"IFERROR(VLOOKUP(競技者一覧!$D$7,学校番号表!$B$2:$C$65536,2,FALSE),\"\")","v":""},{"$f":"CONCATENATE(競技者一覧!B208)","v":""},{"$f":"IFERROR(CONCATENATE(VLOOKUP(競技者一覧!K208,種目コード一覧!$A$1:$B$51,2,FALSE),\" \",REPT(\"0\",VLOOKUP(競技者一覧!K208,種目コード一覧!$A$1:$C$51,3,FALSE)-LEN(競技者一覧!L208)),競技者一覧!L208),\"\")","v":""},{"$f":"IFERROR(CONCATENATE(VLOOKUP(競技者一覧!M208,種目コード一覧!$A$1:$C$51,2,FALSE),\" \",REPT(\"0\",VLOOKUP(競技者一覧!M208,種目コード一覧!$A$1:$C$51,3,FALSE)-LEN(競技者一覧!N208)),競技者一覧!N208),\"\")","v":""},{"$f":"IFERROR(CONCATENATE(VLOOKUP(競技者一覧!O208,種目コード一覧!$A$1:$C$51,2,FALSE),\" \",REPT(\"0\",VLOOKUP(競技者一覧!O208,種目コード一覧!$A$1:$C$51,3,FALSE)-LEN(競技者一覧!P208)),競技者一覧!P208),\"\")","v":""},{"$f":"IFERROR(CONCATENATE(VLOOKUP(競技者一覧!Q208,種目コード一覧!$A$1:$C$51,2,FALSE),\" \",REPT(\"0\",VLOOKUP(競技者一覧!Q208,種目コード一覧!$A$1:$C$51,3,FALSE)-LEN(競技者一覧!R208)),競技者一覧!R208),\"\")","v":""},{"$f":"IFERROR(CONCATENATE(VLOOKUP(競技者一覧!S208,種目コード一覧!$A$1:$C$51,2,FALSE),\" \",REPT(\"0\",VLOOKUP(競技者一覧!S208,種目コード一覧!$A$1:$C$51,3,FALSE)-LEN(競技者一覧!T208)),競技者一覧!T208),\"\")","v":""},{"$f":"IFERROR(CONCATENATE(VLOOKUP(競技者一覧!U208,種目コード一覧!$A$1:$C$51,2,FALSE),\" \",REPT(\"0\",VLOOKUP(競技者一覧!U208,種目コード一覧!$A$1:$C$51,3,FALSE)-LEN(競技者一覧!V208)),競技者一覧!V208),\"\")","v":""},{"$f":"IFERROR(CONCATENATE(VLOOKUP(競技者一覧!W208,種目コード一覧!$A$1:$C$51,2,FALSE),\" \",REPT(\"0\",VLOOKUP(競技者一覧!W208,種目コード一覧!$A$1:$C$51,3,FALSE)-LEN(競技者一覧!X208)),競技者一覧!X208),\"\")","v":""},{"$f":"IFERROR(CONCATENATE(VLOOKUP(競技者一覧!Y208,種目コード一覧!$A$1:$C$51,2,FALSE),\" \",REPT(\"0\",VLOOKUP(競技者一覧!Y208,種目コード一覧!$A$1:$C$51,3,FALSE)-LEN(競技者一覧!Z208)),競技者一覧!Z208),\"\")","v":""}]
[{"$f":"IFERROR(CONCATENATE(競技者一覧!$D$7), \"\")","v":""},{"$f":"IFERROR(CONCATENATE($H$2,Sheet4!B189),\"\")","v":""},{"$f":"競技者一覧!C209&IF(OR(競技者一覧!H209=\"\",競技者一覧!H209=9),\"\",\"(\" & 競技者一覧!H209 & \")\")","v":""},{"$f":"競技者一覧!D209 &IF(OR(MID(競技者一覧!G209,3,2)=\"\", MID(競技者一覧!G209,3,2)=\"0\"),\"\",\"(\" & MID(競技者一覧!G209,3,2) & \")\")","v":""},{"$f":"ASC(競技者一覧!E209 & \" \" & 競技者一覧!F209 & IF(OR(MID(競技者一覧!G209,3,2)=\"\", MID(競技者一覧!G209,3,2)=\"0\"),\"\",\"(\" & MID(競技者一覧!G209,3,2) & \")\"))","v":" "},{"$f":"CONCATENATE(競技者一覧!I209)","v":""},{"$f":"IFERROR(IF(競技者一覧!$D$6=\"学連\",VLOOKUP(競技者一覧!J209,Sheet4!$D$2:$E$48,2,FALSE),学校名簿!D189),\"\")","v":0},{"$f":"IFERROR(VLOOKUP(競技者一覧!$D$7,学校番号表!$B$2:$C$65536,2,FALSE),\"\")","v":""},{"$f":"CONCATENATE(競技者一覧!B209)","v":""},{"$f":"IFERROR(CONCATENATE(VLOOKUP(競技者一覧!K209,種目コード一覧!$A$1:$C$51,2,FALSE),\" \",REPT(\"0\",VLOOKUP(競技者一覧!K209,種目コード一覧!$A$1:$C$51,3,FALSE)-LEN(競技者一覧!L209)),競技者一覧!L209),\"\")","v":""},{"$f":"IFERROR(CONCATENATE(VLOOKUP(競技者一覧!M209,種目コード一覧!$A$1:$C$51,2,FALSE),\" \",REPT(\"0\",VLOOKUP(競技者一覧!M209,種目コード一覧!$A$1:$C$51,3,FALSE)-LEN(競技者一覧!N209)),競技者一覧!N209),\"\")","v":""},{"$f":"IFERROR(CONCATENATE(VLOOKUP(競技者一覧!O209,種目コード一覧!$A$1:$C$51,2,FALSE),\" \",REPT(\"0\",VLOOKUP(競技者一覧!O209,種目コード一覧!$A$1:$C$51,3,FALSE)-LEN(競技者一覧!P209)),競技者一覧!P209),\"\")","v":""},{"$f":"IFERROR(CONCATENATE(VLOOKUP(競技者一覧!Q209,種目コード一覧!$A$1:$C$51,2,FALSE),\" \",REPT(\"0\",VLOOKUP(競技者一覧!Q209,種目コード一覧!$A$1:$C$51,3,FALSE)-LEN(競技者一覧!R209)),競技者一覧!R209),\"\")","v":""},{"$f":"IFERROR(CONCATENATE(VLOOKUP(競技者一覧!S209,種目コード一覧!$A$1:$C$51,2,FALSE),\" \",REPT(\"0\",VLOOKUP(競技者一覧!S209,種目コード一覧!$A$1:$C$51,3,FALSE)-LEN(競技者一覧!T209)),競技者一覧!T209),\"\")","v":""},{"$f":"IFERROR(CONCATENATE(VLOOKUP(競技者一覧!U209,種目コード一覧!$A$1:$C$51,2,FALSE),\" \",REPT(\"0\",VLOOKUP(競技者一覧!U209,種目コード一覧!$A$1:$C$51,3,FALSE)-LEN(競技者一覧!V209)),競技者一覧!V209),\"\")","v":""},{"$f":"IFERROR(CONCATENATE(VLOOKUP(競技者一覧!W209,種目コード一覧!$A$1:$C$51,2,FALSE),\" \",REPT(\"0\",VLOOKUP(競技者一覧!W209,種目コード一覧!$A$1:$C$51,3,FALSE)-LEN(競技者一覧!X209)),競技者一覧!X209),\"\")","v":""},{"$f":"IFERROR(CONCATENATE(VLOOKUP(競技者一覧!Y209,種目コード一覧!$A$1:$C$51,2,FALSE),\" \",REPT(\"0\",VLOOKUP(競技者一覧!Y209,種目コード一覧!$A$1:$C$51,3,FALSE)-LEN(競技者一覧!Z209)),競技者一覧!Z209),\"\")","v":""}]
[{"$f":"IFERROR(CONCATENATE(競技者一覧!$D$7), \"\")","v":""},{"$f":"IFERROR(CONCATENATE($H$2,Sheet4!B190),\"\")","v":""},{"$f":"競技者一覧!C210&IF(OR(競技者一覧!H210=\"\",競技者一覧!H210=9),\"\",\"(\" & 競技者一覧!H210 & \")\")","v":""},{"$f":"ASC(競技者一覧!D210 &IF(OR(MID(競技者一覧!G210,3,2)=\"\", MID(競技者一覧!G210,3,2)=\"0\"),\"\",\"(\" & MID(競技者一覧!G210,3,2) & \")\"))","v":""},{"$f":"ASC(競技者一覧!E210 & \" \" & 競技者一覧!F210 & IF(OR(MID(競技者一覧!G210,3,2)=\"\", MID(競技者一覧!G210,3,2)=\"0\"),\"\",\"(\" & MID(競技者一覧!G210,3,2) & \")\"))","v":" "},{"$f":"CONCATENATE(競技者一覧!I210)","v":""},{"$f":"IFERROR(IF(競技者一覧!$D$6=\"学連\",VLOOKUP(競技者一覧!J210,Sheet4!$D$2:$E$48,2,FALSE),学校名簿!D190),\"\")","v":0},{"$f":"IFERROR(VLOOKUP(競技者一覧!$D$7,学校番号表!$B$2:$C$65536,2,FALSE),\"\")","v":""},{"$f":"CONCATENATE(競技者一覧!B210)","v":""},{"$f":"IFERROR(CONCATENATE(VLOOKUP(競技者一覧!K210,種目コード一覧!$A$1:$B$51,2,FALSE),\" \",REPT(\"0\",VLOOKUP(競技者一覧!K210,種目コード一覧!$A$1:$C$51,3,FALSE)-LEN(競技者一覧!L210)),競技者一覧!L210),\"\")","v":""},{"$f":"IFERROR(CONCATENATE(VLOOKUP(競技者一覧!M210,種目コード一覧!$A$1:$C$51,2,FALSE),\" \",REPT(\"0\",VLOOKUP(競技者一覧!M210,種目コード一覧!$A$1:$C$51,3,FALSE)-LEN(競技者一覧!N210)),競技者一覧!N210),\"\")","v":""},{"$f":"IFERROR(CONCATENATE(VLOOKUP(競技者一覧!O210,種目コード一覧!$A$1:$C$51,2,FALSE),\" \",REPT(\"0\",VLOOKUP(競技者一覧!O210,種目コード一覧!$A$1:$C$51,3,FALSE)-LEN(競技者一覧!P210)),競技者一覧!P210),\"\")","v":""},{"$f":"IFERROR(CONCATENATE(VLOOKUP(競技者一覧!Q210,種目コード一覧!$A$1:$C$51,2,FALSE),\" \",REPT(\"0\",VLOOKUP(競技者一覧!Q210,種目コード一覧!$A$1:$C$51,3,FALSE)-LEN(競技者一覧!R210)),競技者一覧!R210),\"\")","v":""},{"$f":"IFERROR(CONCATENATE(VLOOKUP(競技者一覧!S210,種目コード一覧!$A$1:$C$51,2,FALSE),\" \",REPT(\"0\",VLOOKUP(競技者一覧!S210,種目コード一覧!$A$1:$C$51,3,FALSE)-LEN(競技者一覧!T210)),競技者一覧!T210),\"\")","v":""},{"$f":"IFERROR(CONCATENATE(VLOOKUP(競技者一覧!U210,種目コード一覧!$A$1:$C$51,2,FALSE),\" \",REPT(\"0\",VLOOKUP(競技者一覧!U210,種目コード一覧!$A$1:$C$51,3,FALSE)-LEN(競技者一覧!V210)),競技者一覧!V210),\"\")","v":""},{"$f":"IFERROR(CONCATENATE(VLOOKUP(競技者一覧!W210,種目コード一覧!$A$1:$C$51,2,FALSE),\" \",REPT(\"0\",VLOOKUP(競技者一覧!W210,種目コード一覧!$A$1:$C$51,3,FALSE)-LEN(競技者一覧!X210)),競技者一覧!X210),\"\")","v":""},{"$f":"IFERROR(CONCATENATE(VLOOKUP(競技者一覧!Y210,種目コード一覧!$A$1:$C$51,2,FALSE),\" \",REPT(\"0\",VLOOKUP(競技者一覧!Y210,種目コード一覧!$A$1:$C$51,3,FALSE)-LEN(競技者一覧!Z210)),競技者一覧!Z210),\"\")","v":""}]
[{"$f":"IFERROR(CONCATENATE(競技者一覧!$D$7), \"\")","v":""},{"$f":"IFERROR(CONCATENATE($H$2,Sheet4!B191),\"\")","v":""},{"$f":"競技者一覧!C211&IF(OR(競技者一覧!H211=\"\",競技者一覧!H211=9),\"\",\"(\" & 競技者一覧!H211 & \")\")","v":""},{"$f":"競技者一覧!D211 &IF(OR(MID(競技者一覧!G211,3,2)=\"\", MID(競技者一覧!G211,3,2)=\"0\"),\"\",\"(\" & MID(競技者一覧!G211,3,2) & \")\")","v":""},{"$f":"ASC(競技者一覧!E211 & \" \" & 競技者一覧!F211 & IF(OR(MID(競技者一覧!G211,3,2)=\"\", MID(競技者一覧!G211,3,2)=\"0\"),\"\",\"(\" & MID(競技者一覧!G211,3,2) & \")\"))","v":" "},{"$f":"CONCATENATE(競技者一覧!I211)","v":""},{"$f":"IFERROR(IF(競技者一覧!$D$6=\"学連\",VLOOKUP(競技者一覧!J211,Sheet4!$D$2:$E$48,2,FALSE),学校名簿!D191),\"\")","v":0},{"$f":"IFERROR(VLOOKUP(競技者一覧!$D$7,学校番号表!$B$2:$C$65536,2,FALSE),\"\")","v":""},{"$f":"CONCATENATE(競技者一覧!B211)","v":""},{"$f":"IFERROR(CONCATENATE(VLOOKUP(競技者一覧!K211,種目コード一覧!$A$1:$C$51,2,FALSE),\" \",REPT(\"0\",VLOOKUP(競技者一覧!K211,種目コード一覧!$A$1:$C$51,3,FALSE)-LEN(競技者一覧!L211)),競技者一覧!L211),\"\")","v":""},{"$f":"IFERROR(CONCATENATE(VLOOKUP(競技者一覧!M211,種目コード一覧!$A$1:$C$51,2,FALSE),\" \",REPT(\"0\",VLOOKUP(競技者一覧!M211,種目コード一覧!$A$1:$C$51,3,FALSE)-LEN(競技者一覧!N211)),競技者一覧!N211),\"\")","v":""},{"$f":"IFERROR(CONCATENATE(VLOOKUP(競技者一覧!O211,種目コード一覧!$A$1:$C$51,2,FALSE),\" \",REPT(\"0\",VLOOKUP(競技者一覧!O211,種目コード一覧!$A$1:$C$51,3,FALSE)-LEN(競技者一覧!P211)),競技者一覧!P211),\"\")","v":""},{"$f":"IFERROR(CONCATENATE(VLOOKUP(競技者一覧!Q211,種目コード一覧!$A$1:$C$51,2,FALSE),\" \",REPT(\"0\",VLOOKUP(競技者一覧!Q211,種目コード一覧!$A$1:$C$51,3,FALSE)-LEN(競技者一覧!R211)),競技者一覧!R211),\"\")","v":""},{"$f":"IFERROR(CONCATENATE(VLOOKUP(競技者一覧!S211,種目コード一覧!$A$1:$C$51,2,FALSE),\" \",REPT(\"0\",VLOOKUP(競技者一覧!S211,種目コード一覧!$A$1:$C$51,3,FALSE)-LEN(競技者一覧!T211)),競技者一覧!T211),\"\")","v":""},{"$f":"IFERROR(CONCATENATE(VLOOKUP(競技者一覧!U211,種目コード一覧!$A$1:$C$51,2,FALSE),\" \",REPT(\"0\",VLOOKUP(競技者一覧!U211,種目コード一覧!$A$1:$C$51,3,FALSE)-LEN(競技者一覧!V211)),競技者一覧!V211),\"\")","v":""},{"$f":"IFERROR(CONCATENATE(VLOOKUP(競技者一覧!W211,種目コード一覧!$A$1:$C$51,2,FALSE),\" \",REPT(\"0\",VLOOKUP(競技者一覧!W211,種目コード一覧!$A$1:$C$51,3,FALSE)-LEN(競技者一覧!X211)),競技者一覧!X211),\"\")","v":""},{"$f":"IFERROR(CONCATENATE(VLOOKUP(競技者一覧!Y211,種目コード一覧!$A$1:$C$51,2,FALSE),\" \",REPT(\"0\",VLOOKUP(競技者一覧!Y211,種目コード一覧!$A$1:$C$51,3,FALSE)-LEN(競技者一覧!Z211)),競技者一覧!Z211),\"\")","v":""}]
[{"$f":"IFERROR(CONCATENATE(競技者一覧!$D$7), \"\")","v":""},{"$f":"IFERROR(CONCATENATE($H$2,Sheet4!B192),\"\")","v":""},{"$f":"競技者一覧!C212&IF(OR(競技者一覧!H212=\"\",競技者一覧!H212=9),\"\",\"(\" & 競技者一覧!H212 & \")\")","v":""},{"$f":"ASC(競技者一覧!D212 &IF(OR(MID(競技者一覧!G212,3,2)=\"\", MID(競技者一覧!G212,3,2)=\"0\"),\"\",\"(\" & MID(競技者一覧!G212,3,2) & \")\"))","v":""},{"$f":"ASC(競技者一覧!E212 & \" \" & 競技者一覧!F212 & IF(OR(MID(競技者一覧!G212,3,2)=\"\", MID(競技者一覧!G212,3,2)=\"0\"),\"\",\"(\" & MID(競技者一覧!G212,3,2) & \")\"))","v":" "},{"$f":"CONCATENATE(競技者一覧!I212)","v":""},{"$f":"IFERROR(IF(競技者一覧!$D$6=\"学連\",VLOOKUP(競技者一覧!J212,Sheet4!$D$2:$E$48,2,FALSE),学校名簿!D192),\"\")","v":0},{"$f":"IFERROR(VLOOKUP(競技者一覧!$D$7,学校番号表!$B$2:$C$65536,2,FALSE),\"\")","v":""},{"$f":"CONCATENATE(競技者一覧!B212)","v":""},{"$f":"IFERROR(CONCATENATE(VLOOKUP(競技者一覧!K212,種目コード一覧!$A$1:$B$51,2,FALSE),\" \",REPT(\"0\",VLOOKUP(競技者一覧!K212,種目コード一覧!$A$1:$C$51,3,FALSE)-LEN(競技者一覧!L212)),競技者一覧!L212),\"\")","v":""},{"$f":"IFERROR(CONCATENATE(VLOOKUP(競技者一覧!M212,種目コード一覧!$A$1:$C$51,2,FALSE),\" \",REPT(\"0\",VLOOKUP(競技者一覧!M212,種目コード一覧!$A$1:$C$51,3,FALSE)-LEN(競技者一覧!N212)),競技者一覧!N212),\"\")","v":""},{"$f":"IFERROR(CONCATENATE(VLOOKUP(競技者一覧!O212,種目コード一覧!$A$1:$C$51,2,FALSE),\" \",REPT(\"0\",VLOOKUP(競技者一覧!O212,種目コード一覧!$A$1:$C$51,3,FALSE)-LEN(競技者一覧!P212)),競技者一覧!P212),\"\")","v":""},{"$f":"IFERROR(CONCATENATE(VLOOKUP(競技者一覧!Q212,種目コード一覧!$A$1:$C$51,2,FALSE),\" \",REPT(\"0\",VLOOKUP(競技者一覧!Q212,種目コード一覧!$A$1:$C$51,3,FALSE)-LEN(競技者一覧!R212)),競技者一覧!R212),\"\")","v":""},{"$f":"IFERROR(CONCATENATE(VLOOKUP(競技者一覧!S212,種目コード一覧!$A$1:$C$51,2,FALSE),\" \",REPT(\"0\",VLOOKUP(競技者一覧!S212,種目コード一覧!$A$1:$C$51,3,FALSE)-LEN(競技者一覧!T212)),競技者一覧!T212),\"\")","v":""},{"$f":"IFERROR(CONCATENATE(VLOOKUP(競技者一覧!U212,種目コード一覧!$A$1:$C$51,2,FALSE),\" \",REPT(\"0\",VLOOKUP(競技者一覧!U212,種目コード一覧!$A$1:$C$51,3,FALSE)-LEN(競技者一覧!V212)),競技者一覧!V212),\"\")","v":""},{"$f":"IFERROR(CONCATENATE(VLOOKUP(競技者一覧!W212,種目コード一覧!$A$1:$C$51,2,FALSE),\" \",REPT(\"0\",VLOOKUP(競技者一覧!W212,種目コード一覧!$A$1:$C$51,3,FALSE)-LEN(競技者一覧!X212)),競技者一覧!X212),\"\")","v":""},{"$f":"IFERROR(CONCATENATE(VLOOKUP(競技者一覧!Y212,種目コード一覧!$A$1:$C$51,2,FALSE),\" \",REPT(\"0\",VLOOKUP(競技者一覧!Y212,種目コード一覧!$A$1:$C$51,3,FALSE)-LEN(競技者一覧!Z212)),競技者一覧!Z212),\"\")","v":""}]
[{"$f":"IFERROR(CONCATENATE(競技者一覧!$D$7), \"\")","v":""},{"$f":"IFERROR(CONCATENATE($H$2,Sheet4!B193),\"\")","v":""},{"$f":"競技者一覧!C213&IF(OR(競技者一覧!H213=\"\",競技者一覧!H213=9),\"\",\"(\" & 競技者一覧!H213 & \")\")","v":""},{"$f":"競技者一覧!D213 &IF(OR(MID(競技者一覧!G213,3,2)=\"\", MID(競技者一覧!G213,3,2)=\"0\"),\"\",\"(\" & MID(競技者一覧!G213,3,2) & \")\")","v":""},{"$f":"ASC(競技者一覧!E213 & \" \" & 競技者一覧!F213 & IF(OR(MID(競技者一覧!G213,3,2)=\"\", MID(競技者一覧!G213,3,2)=\"0\"),\"\",\"(\" & MID(競技者一覧!G213,3,2) & \")\"))","v":" "},{"$f":"CONCATENATE(競技者一覧!I213)","v":""},{"$f":"IFERROR(IF(競技者一覧!$D$6=\"学連\",VLOOKUP(競技者一覧!J213,Sheet4!$D$2:$E$48,2,FALSE),学校名簿!D193),\"\")","v":0},{"$f":"IFERROR(VLOOKUP(競技者一覧!$D$7,学校番号表!$B$2:$C$65536,2,FALSE),\"\")","v":""},{"$f":"CONCATENATE(競技者一覧!B213)","v":""},{"$f":"IFERROR(CONCATENATE(VLOOKUP(競技者一覧!K213,種目コード一覧!$A$1:$C$51,2,FALSE),\" \",REPT(\"0\",VLOOKUP(競技者一覧!K213,種目コード一覧!$A$1:$C$51,3,FALSE)-LEN(競技者一覧!L213)),競技者一覧!L213),\"\")","v":""},{"$f":"IFERROR(CONCATENATE(VLOOKUP(競技者一覧!M213,種目コード一覧!$A$1:$C$51,2,FALSE),\" \",REPT(\"0\",VLOOKUP(競技者一覧!M213,種目コード一覧!$A$1:$C$51,3,FALSE)-LEN(競技者一覧!N213)),競技者一覧!N213),\"\")","v":""},{"$f":"IFERROR(CONCATENATE(VLOOKUP(競技者一覧!O213,種目コード一覧!$A$1:$C$51,2,FALSE),\" \",REPT(\"0\",VLOOKUP(競技者一覧!O213,種目コード一覧!$A$1:$C$51,3,FALSE)-LEN(競技者一覧!P213)),競技者一覧!P213),\"\")","v":""},{"$f":"IFERROR(CONCATENATE(VLOOKUP(競技者一覧!Q213,種目コード一覧!$A$1:$C$51,2,FALSE),\" \",REPT(\"0\",VLOOKUP(競技者一覧!Q213,種目コード一覧!$A$1:$C$51,3,FALSE)-LEN(競技者一覧!R213)),競技者一覧!R213),\"\")","v":""},{"$f":"IFERROR(CONCATENATE(VLOOKUP(競技者一覧!S213,種目コード一覧!$A$1:$C$51,2,FALSE),\" \",REPT(\"0\",VLOOKUP(競技者一覧!S213,種目コード一覧!$A$1:$C$51,3,FALSE)-LEN(競技者一覧!T213)),競技者一覧!T213),\"\")","v":""},{"$f":"IFERROR(CONCATENATE(VLOOKUP(競技者一覧!U213,種目コード一覧!$A$1:$C$51,2,FALSE),\" \",REPT(\"0\",VLOOKUP(競技者一覧!U213,種目コード一覧!$A$1:$C$51,3,FALSE)-LEN(競技者一覧!V213)),競技者一覧!V213),\"\")","v":""},{"$f":"IFERROR(CONCATENATE(VLOOKUP(競技者一覧!W213,種目コード一覧!$A$1:$C$51,2,FALSE),\" \",REPT(\"0\",VLOOKUP(競技者一覧!W213,種目コード一覧!$A$1:$C$51,3,FALSE)-LEN(競技者一覧!X213)),競技者一覧!X213),\"\")","v":""},{"$f":"IFERROR(CONCATENATE(VLOOKUP(競技者一覧!Y213,種目コード一覧!$A$1:$C$51,2,FALSE),\" \",REPT(\"0\",VLOOKUP(競技者一覧!Y213,種目コード一覧!$A$1:$C$51,3,FALSE)-LEN(競技者一覧!Z213)),競技者一覧!Z213),\"\")","v":""}]
[{"$f":"IFERROR(CONCATENATE(競技者一覧!$D$7), \"\")","v":""},{"$f":"IFERROR(CONCATENATE($H$2,Sheet4!B194),\"\")","v":""},{"$f":"競技者一覧!C214&IF(OR(競技者一覧!H214=\"\",競技者一覧!H214=9),\"\",\"(\" & 競技者一覧!H214 & \")\")","v":""},{"$f":"ASC(競技者一覧!D214 &IF(OR(MID(競技者一覧!G214,3,2)=\"\", MID(競技者一覧!G214,3,2)=\"0\"),\"\",\"(\" & MID(競技者一覧!G214,3,2) & \")\"))","v":""},{"$f":"ASC(競技者一覧!E214 & \" \" & 競技者一覧!F214 & IF(OR(MID(競技者一覧!G214,3,2)=\"\", MID(競技者一覧!G214,3,2)=\"0\"),\"\",\"(\" & MID(競技者一覧!G214,3,2) & \")\"))","v":" "},{"$f":"CONCATENATE(競技者一覧!I214)","v":""},{"$f":"IFERROR(IF(競技者一覧!$D$6=\"学連\",VLOOKUP(競技者一覧!J214,Sheet4!$D$2:$E$48,2,FALSE),学校名簿!D194),\"\")","v":0},{"$f":"IFERROR(VLOOKUP(競技者一覧!$D$7,学校番号表!$B$2:$C$65536,2,FALSE),\"\")","v":""},{"$f":"CONCATENATE(競技者一覧!B214)","v":""},{"$f":"IFERROR(CONCATENATE(VLOOKUP(競技者一覧!K214,種目コード一覧!$A$1:$B$51,2,FALSE),\" \",REPT(\"0\",VLOOKUP(競技者一覧!K214,種目コード一覧!$A$1:$C$51,3,FALSE)-LEN(競技者一覧!L214)),競技者一覧!L214),\"\")","v":""},{"$f":"IFERROR(CONCATENATE(VLOOKUP(競技者一覧!M214,種目コード一覧!$A$1:$C$51,2,FALSE),\" \",REPT(\"0\",VLOOKUP(競技者一覧!M214,種目コード一覧!$A$1:$C$51,3,FALSE)-LEN(競技者一覧!N214)),競技者一覧!N214),\"\")","v":""},{"$f":"IFERROR(CONCATENATE(VLOOKUP(競技者一覧!O214,種目コード一覧!$A$1:$C$51,2,FALSE),\" \",REPT(\"0\",VLOOKUP(競技者一覧!O214,種目コード一覧!$A$1:$C$51,3,FALSE)-LEN(競技者一覧!P214)),競技者一覧!P214),\"\")","v":""},{"$f":"IFERROR(CONCATENATE(VLOOKUP(競技者一覧!Q214,種目コード一覧!$A$1:$C$51,2,FALSE),\" \",REPT(\"0\",VLOOKUP(競技者一覧!Q214,種目コード一覧!$A$1:$C$51,3,FALSE)-LEN(競技者一覧!R214)),競技者一覧!R214),\"\")","v":""},{"$f":"IFERROR(CONCATENATE(VLOOKUP(競技者一覧!S214,種目コード一覧!$A$1:$C$51,2,FALSE),\" \",REPT(\"0\",VLOOKUP(競技者一覧!S214,種目コード一覧!$A$1:$C$51,3,FALSE)-LEN(競技者一覧!T214)),競技者一覧!T214),\"\")","v":""},{"$f":"IFERROR(CONCATENATE(VLOOKUP(競技者一覧!U214,種目コード一覧!$A$1:$C$51,2,FALSE),\" \",REPT(\"0\",VLOOKUP(競技者一覧!U214,種目コード一覧!$A$1:$C$51,3,FALSE)-LEN(競技者一覧!V214)),競技者一覧!V214),\"\")","v":""},{"$f":"IFERROR(CONCATENATE(VLOOKUP(競技者一覧!W214,種目コード一覧!$A$1:$C$51,2,FALSE),\" \",REPT(\"0\",VLOOKUP(競技者一覧!W214,種目コード一覧!$A$1:$C$51,3,FALSE)-LEN(競技者一覧!X214)),競技者一覧!X214),\"\")","v":""},{"$f":"IFERROR(CONCATENATE(VLOOKUP(競技者一覧!Y214,種目コード一覧!$A$1:$C$51,2,FALSE),\" \",REPT(\"0\",VLOOKUP(競技者一覧!Y214,種目コード一覧!$A$1:$C$51,3,FALSE)-LEN(競技者一覧!Z214)),競技者一覧!Z214),\"\")","v":""}]
[{"$f":"IFERROR(CONCATENATE(競技者一覧!$D$7), \"\")","v":""},{"$f":"IFERROR(CONCATENATE($H$2,Sheet4!B195),\"\")","v":""},{"$f":"競技者一覧!C215&IF(OR(競技者一覧!H215=\"\",競技者一覧!H215=9),\"\",\"(\" & 競技者一覧!H215 & \")\")","v":""},{"$f":"競技者一覧!D215 &IF(OR(MID(競技者一覧!G215,3,2)=\"\", MID(競技者一覧!G215,3,2)=\"0\"),\"\",\"(\" & MID(競技者一覧!G215,3,2) & \")\")","v":""},{"$f":"ASC(競技者一覧!E215 & \" \" & 競技者一覧!F215 & IF(OR(MID(競技者一覧!G215,3,2)=\"\", MID(競技者一覧!G215,3,2)=\"0\"),\"\",\"(\" & MID(競技者一覧!G215,3,2) & \")\"))","v":" "},{"$f":"CONCATENATE(競技者一覧!I215)","v":""},{"$f":"IFERROR(IF(競技者一覧!$D$6=\"学連\",VLOOKUP(競技者一覧!J215,Sheet4!$D$2:$E$48,2,FALSE),学校名簿!D195),\"\")","v":0},{"$f":"IFERROR(VLOOKUP(競技者一覧!$D$7,学校番号表!$B$2:$C$65536,2,FALSE),\"\")","v":""},{"$f":"CONCATENATE(競技者一覧!B215)","v":""},{"$f":"IFERROR(CONCATENATE(VLOOKUP(競技者一覧!K215,種目コード一覧!$A$1:$C$51,2,FALSE),\" \",REPT(\"0\",VLOOKUP(競技者一覧!K215,種目コード一覧!$A$1:$C$51,3,FALSE)-LEN(競技者一覧!L215)),競技者一覧!L215),\"\")","v":""},{"$f":"IFERROR(CONCATENATE(VLOOKUP(競技者一覧!M215,種目コード一覧!$A$1:$C$51,2,FALSE),\" \",REPT(\"0\",VLOOKUP(競技者一覧!M215,種目コード一覧!$A$1:$C$51,3,FALSE)-LEN(競技者一覧!N215)),競技者一覧!N215),\"\")","v":""},{"$f":"IFERROR(CONCATENATE(VLOOKUP(競技者一覧!O215,種目コード一覧!$A$1:$C$51,2,FALSE),\" \",REPT(\"0\",VLOOKUP(競技者一覧!O215,種目コード一覧!$A$1:$C$51,3,FALSE)-LEN(競技者一覧!P215)),競技者一覧!P215),\"\")","v":""},{"$f":"IFERROR(CONCATENATE(VLOOKUP(競技者一覧!Q215,種目コード一覧!$A$1:$C$51,2,FALSE),\" \",REPT(\"0\",VLOOKUP(競技者一覧!Q215,種目コード一覧!$A$1:$C$51,3,FALSE)-LEN(競技者一覧!R215)),競技者一覧!R215),\"\")","v":""},{"$f":"IFERROR(CONCATENATE(VLOOKUP(競技者一覧!S215,種目コード一覧!$A$1:$C$51,2,FALSE),\" \",REPT(\"0\",VLOOKUP(競技者一覧!S215,種目コード一覧!$A$1:$C$51,3,FALSE)-LEN(競技者一覧!T215)),競技者一覧!T215),\"\")","v":""},{"$f":"IFERROR(CONCATENATE(VLOOKUP(競技者一覧!U215,種目コード一覧!$A$1:$C$51,2,FALSE),\" \",REPT(\"0\",VLOOKUP(競技者一覧!U215,種目コード一覧!$A$1:$C$51,3,FALSE)-LEN(競技者一覧!V215)),競技者一覧!V215),\"\")","v":""},{"$f":"IFERROR(CONCATENATE(VLOOKUP(競技者一覧!W215,種目コード一覧!$A$1:$C$51,2,FALSE),\" \",REPT(\"0\",VLOOKUP(競技者一覧!W215,種目コード一覧!$A$1:$C$51,3,FALSE)-LEN(競技者一覧!X215)),競技者一覧!X215),\"\")","v":""},{"$f":"IFERROR(CONCATENATE(VLOOKUP(競技者一覧!Y215,種目コード一覧!$A$1:$C$51,2,FALSE),\" \",REPT(\"0\",VLOOKUP(競技者一覧!Y215,種目コード一覧!$A$1:$C$51,3,FALSE)-LEN(競技者一覧!Z215)),競技者一覧!Z215),\"\")","v":""}]
[{"$f":"IFERROR(CONCATENATE(競技者一覧!$D$7), \"\")","v":""},{"$f":"IFERROR(CONCATENATE($H$2,Sheet4!B196),\"\")","v":""},{"$f":"競技者一覧!C216&IF(OR(競技者一覧!H216=\"\",競技者一覧!H216=9),\"\",\"(\" & 競技者一覧!H216 & \")\")","v":""},{"$f":"ASC(競技者一覧!D216 &IF(OR(MID(競技者一覧!G216,3,2)=\"\", MID(競技者一覧!G216,3,2)=\"0\"),\"\",\"(\" & MID(競技者一覧!G216,3,2) & \")\"))","v":""},{"$f":"ASC(競技者一覧!E216 & \" \" & 競技者一覧!F216 & IF(OR(MID(競技者一覧!G216,3,2)=\"\", MID(競技者一覧!G216,3,2)=\"0\"),\"\",\"(\" & MID(競技者一覧!G216,3,2) & \")\"))","v":" "},{"$f":"CONCATENATE(競技者一覧!I216)","v":""},{"$f":"IFERROR(IF(競技者一覧!$D$6=\"学連\",VLOOKUP(競技者一覧!J216,Sheet4!$D$2:$E$48,2,FALSE),学校名簿!D196),\"\")","v":0},{"$f":"IFERROR(VLOOKUP(競技者一覧!$D$7,学校番号表!$B$2:$C$65536,2,FALSE),\"\")","v":""},{"$f":"CONCATENATE(競技者一覧!B216)","v":""},{"$f":"IFERROR(CONCATENATE(VLOOKUP(競技者一覧!K216,種目コード一覧!$A$1:$B$51,2,FALSE),\" \",REPT(\"0\",VLOOKUP(競技者一覧!K216,種目コード一覧!$A$1:$C$51,3,FALSE)-LEN(競技者一覧!L216)),競技者一覧!L216),\"\")","v":""},{"$f":"IFERROR(CONCATENATE(VLOOKUP(競技者一覧!M216,種目コード一覧!$A$1:$C$51,2,FALSE),\" \",REPT(\"0\",VLOOKUP(競技者一覧!M216,種目コード一覧!$A$1:$C$51,3,FALSE)-LEN(競技者一覧!N216)),競技者一覧!N216),\"\")","v":""},{"$f":"IFERROR(CONCATENATE(VLOOKUP(競技者一覧!O216,種目コード一覧!$A$1:$C$51,2,FALSE),\" \",REPT(\"0\",VLOOKUP(競技者一覧!O216,種目コード一覧!$A$1:$C$51,3,FALSE)-LEN(競技者一覧!P216)),競技者一覧!P216),\"\")","v":""},{"$f":"IFERROR(CONCATENATE(VLOOKUP(競技者一覧!Q216,種目コード一覧!$A$1:$C$51,2,FALSE),\" \",REPT(\"0\",VLOOKUP(競技者一覧!Q216,種目コード一覧!$A$1:$C$51,3,FALSE)-LEN(競技者一覧!R216)),競技者一覧!R216),\"\")","v":""},{"$f":"IFERROR(CONCATENATE(VLOOKUP(競技者一覧!S216,種目コード一覧!$A$1:$C$51,2,FALSE),\" \",REPT(\"0\",VLOOKUP(競技者一覧!S216,種目コード一覧!$A$1:$C$51,3,FALSE)-LEN(競技者一覧!T216)),競技者一覧!T216),\"\")","v":""},{"$f":"IFERROR(CONCATENATE(VLOOKUP(競技者一覧!U216,種目コード一覧!$A$1:$C$51,2,FALSE),\" \",REPT(\"0\",VLOOKUP(競技者一覧!U216,種目コード一覧!$A$1:$C$51,3,FALSE)-LEN(競技者一覧!V216)),競技者一覧!V216),\"\")","v":""},{"$f":"IFERROR(CONCATENATE(VLOOKUP(競技者一覧!W216,種目コード一覧!$A$1:$C$51,2,FALSE),\" \",REPT(\"0\",VLOOKUP(競技者一覧!W216,種目コード一覧!$A$1:$C$51,3,FALSE)-LEN(競技者一覧!X216)),競技者一覧!X216),\"\")","v":""},{"$f":"IFERROR(CONCATENATE(VLOOKUP(競技者一覧!Y216,種目コード一覧!$A$1:$C$51,2,FALSE),\" \",REPT(\"0\",VLOOKUP(競技者一覧!Y216,種目コード一覧!$A$1:$C$51,3,FALSE)-LEN(競技者一覧!Z216)),競技者一覧!Z216),\"\")","v":""}]
[{"$f":"IFERROR(CONCATENATE(競技者一覧!$D$7), \"\")","v":""},{"$f":"IFERROR(CONCATENATE($H$2,Sheet4!B197),\"\")","v":""},{"$f":"競技者一覧!C217&IF(OR(競技者一覧!H217=\"\",競技者一覧!H217=9),\"\",\"(\" & 競技者一覧!H217 & \")\")","v":""},{"$f":"競技者一覧!D217 &IF(OR(MID(競技者一覧!G217,3,2)=\"\", MID(競技者一覧!G217,3,2)=\"0\"),\"\",\"(\" & MID(競技者一覧!G217,3,2) & \")\")","v":""},{"$f":"ASC(競技者一覧!E217 & \" \" & 競技者一覧!F217 & IF(OR(MID(競技者一覧!G217,3,2)=\"\", MID(競技者一覧!G217,3,2)=\"0\"),\"\",\"(\" & MID(競技者一覧!G217,3,2) & \")\"))","v":" "},{"$f":"CONCATENATE(競技者一覧!I217)","v":""},{"$f":"IFERROR(IF(競技者一覧!$D$6=\"学連\",VLOOKUP(競技者一覧!J217,Sheet4!$D$2:$E$48,2,FALSE),学校名簿!D197),\"\")","v":0},{"$f":"IFERROR(VLOOKUP(競技者一覧!$D$7,学校番号表!$B$2:$C$65536,2,FALSE),\"\")","v":""},{"$f":"CONCATENATE(競技者一覧!B217)","v":""},{"$f":"IFERROR(CONCATENATE(VLOOKUP(競技者一覧!K217,種目コード一覧!$A$1:$C$51,2,FALSE),\" \",REPT(\"0\",VLOOKUP(競技者一覧!K217,種目コード一覧!$A$1:$C$51,3,FALSE)-LEN(競技者一覧!L217)),競技者一覧!L217),\"\")","v":""},{"$f":"IFERROR(CONCATENATE(VLOOKUP(競技者一覧!M217,種目コード一覧!$A$1:$C$51,2,FALSE),\" \",REPT(\"0\",VLOOKUP(競技者一覧!M217,種目コード一覧!$A$1:$C$51,3,FALSE)-LEN(競技者一覧!N217)),競技者一覧!N217),\"\")","v":""},{"$f":"IFERROR(CONCATENATE(VLOOKUP(競技者一覧!O217,種目コード一覧!$A$1:$C$51,2,FALSE),\" \",REPT(\"0\",VLOOKUP(競技者一覧!O217,種目コード一覧!$A$1:$C$51,3,FALSE)-LEN(競技者一覧!P217)),競技者一覧!P217),\"\")","v":""},{"$f":"IFERROR(CONCATENATE(VLOOKUP(競技者一覧!Q217,種目コード一覧!$A$1:$C$51,2,FALSE),\" \",REPT(\"0\",VLOOKUP(競技者一覧!Q217,種目コード一覧!$A$1:$C$51,3,FALSE)-LEN(競技者一覧!R217)),競技者一覧!R217),\"\")","v":""},{"$f":"IFERROR(CONCATENATE(VLOOKUP(競技者一覧!S217,種目コード一覧!$A$1:$C$51,2,FALSE),\" \",REPT(\"0\",VLOOKUP(競技者一覧!S217,種目コード一覧!$A$1:$C$51,3,FALSE)-LEN(競技者一覧!T217)),競技者一覧!T217),\"\")","v":""},{"$f":"IFERROR(CONCATENATE(VLOOKUP(競技者一覧!U217,種目コード一覧!$A$1:$C$51,2,FALSE),\" \",REPT(\"0\",VLOOKUP(競技者一覧!U217,種目コード一覧!$A$1:$C$51,3,FALSE)-LEN(競技者一覧!V217)),競技者一覧!V217),\"\")","v":""},{"$f":"IFERROR(CONCATENATE(VLOOKUP(競技者一覧!W217,種目コード一覧!$A$1:$C$51,2,FALSE),\" \",REPT(\"0\",VLOOKUP(競技者一覧!W217,種目コード一覧!$A$1:$C$51,3,FALSE)-LEN(競技者一覧!X217)),競技者一覧!X217),\"\")","v":""},{"$f":"IFERROR(CONCATENATE(VLOOKUP(競技者一覧!Y217,種目コード一覧!$A$1:$C$51,2,FALSE),\" \",REPT(\"0\",VLOOKUP(競技者一覧!Y217,種目コード一覧!$A$1:$C$51,3,FALSE)-LEN(競技者一覧!Z217)),競技者一覧!Z217),\"\")","v":""}]
[{"$f":"IFERROR(CONCATENATE(競技者一覧!$D$7), \"\")","v":""},{"$f":"IFERROR(CONCATENATE($H$2,Sheet4!B198),\"\")","v":""},{"$f":"競技者一覧!C218&IF(OR(競技者一覧!H218=\"\",競技者一覧!H218=9),\"\",\"(\" & 競技者一覧!H218 & \")\")","v":""},{"$f":"ASC(競技者一覧!D218 &IF(OR(MID(競技者一覧!G218,3,2)=\"\", MID(競技者一覧!G218,3,2)=\"0\"),\"\",\"(\" & MID(競技者一覧!G218,3,2) & \")\"))","v":""},{"$f":"ASC(競技者一覧!E218 & \" \" & 競技者一覧!F218 & IF(OR(MID(競技者一覧!G218,3,2)=\"\", MID(競技者一覧!G218,3,2)=\"0\"),\"\",\"(\" & MID(競技者一覧!G218,3,2) & \")\"))","v":" "},{"$f":"CONCATENATE(競技者一覧!I218)","v":""},{"$f":"IFERROR(IF(競技者一覧!$D$6=\"学連\",VLOOKUP(競技者一覧!J218,Sheet4!$D$2:$E$48,2,FALSE),学校名簿!D198),\"\")","v":0},{"$f":"IFERROR(VLOOKUP(競技者一覧!$D$7,学校番号表!$B$2:$C$65536,2,FALSE),\"\")","v":""},{"$f":"CONCATENATE(競技者一覧!B218)","v":""},{"$f":"IFERROR(CONCATENATE(VLOOKUP(競技者一覧!K218,種目コード一覧!$A$1:$B$51,2,FALSE),\" \",REPT(\"0\",VLOOKUP(競技者一覧!K218,種目コード一覧!$A$1:$C$51,3,FALSE)-LEN(競技者一覧!L218)),競技者一覧!L218),\"\")","v":""},{"$f":"IFERROR(CONCATENATE(VLOOKUP(競技者一覧!M218,種目コード一覧!$A$1:$C$51,2,FALSE),\" \",REPT(\"0\",VLOOKUP(競技者一覧!M218,種目コード一覧!$A$1:$C$51,3,FALSE)-LEN(競技者一覧!N218)),競技者一覧!N218),\"\")","v":""},{"$f":"IFERROR(CONCATENATE(VLOOKUP(競技者一覧!O218,種目コード一覧!$A$1:$C$51,2,FALSE),\" \",REPT(\"0\",VLOOKUP(競技者一覧!O218,種目コード一覧!$A$1:$C$51,3,FALSE)-LEN(競技者一覧!P218)),競技者一覧!P218),\"\")","v":""},{"$f":"IFERROR(CONCATENATE(VLOOKUP(競技者一覧!Q218,種目コード一覧!$A$1:$C$51,2,FALSE),\" \",REPT(\"0\",VLOOKUP(競技者一覧!Q218,種目コード一覧!$A$1:$C$51,3,FALSE)-LEN(競技者一覧!R218)),競技者一覧!R218),\"\")","v":""},{"$f":"IFERROR(CONCATENATE(VLOOKUP(競技者一覧!S218,種目コード一覧!$A$1:$C$51,2,FALSE),\" \",REPT(\"0\",VLOOKUP(競技者一覧!S218,種目コード一覧!$A$1:$C$51,3,FALSE)-LEN(競技者一覧!T218)),競技者一覧!T218),\"\")","v":""},{"$f":"IFERROR(CONCATENATE(VLOOKUP(競技者一覧!U218,種目コード一覧!$A$1:$C$51,2,FALSE),\" \",REPT(\"0\",VLOOKUP(競技者一覧!U218,種目コード一覧!$A$1:$C$51,3,FALSE)-LEN(競技者一覧!V218)),競技者一覧!V218),\"\")","v":""},{"$f":"IFERROR(CONCATENATE(VLOOKUP(競技者一覧!W218,種目コード一覧!$A$1:$C$51,2,FALSE),\" \",REPT(\"0\",VLOOKUP(競技者一覧!W218,種目コード一覧!$A$1:$C$51,3,FALSE)-LEN(競技者一覧!X218)),競技者一覧!X218),\"\")","v":""},{"$f":"IFERROR(CONCATENATE(VLOOKUP(競技者一覧!Y218,種目コード一覧!$A$1:$C$51,2,FALSE),\" \",REPT(\"0\",VLOOKUP(競技者一覧!Y218,種目コード一覧!$A$1:$C$51,3,FALSE)-LEN(競技者一覧!Z218)),競技者一覧!Z218),\"\")","v":""}]
[{"$f":"IFERROR(CONCATENATE(競技者一覧!$D$7), \"\")","v":""},{"$f":"IFERROR(CONCATENATE($H$2,Sheet4!B199),\"\")","v":""},{"$f":"競技者一覧!C219&IF(OR(競技者一覧!H219=\"\",競技者一覧!H219=9),\"\",\"(\" & 競技者一覧!H219 & \")\")","v":""},{"$f":"競技者一覧!D219 &IF(OR(MID(競技者一覧!G219,3,2)=\"\", MID(競技者一覧!G219,3,2)=\"0\"),\"\",\"(\" & MID(競技者一覧!G219,3,2) & \")\")","v":""},{"$f":"ASC(競技者一覧!E219 & \" \" & 競技者一覧!F219 & IF(OR(MID(競技者一覧!G219,3,2)=\"\", MID(競技者一覧!G219,3,2)=\"0\"),\"\",\"(\" & MID(競技者一覧!G219,3,2) & \")\"))","v":" "},{"$f":"CONCATENATE(競技者一覧!I219)","v":""},{"$f":"IFERROR(IF(競技者一覧!$D$6=\"学連\",VLOOKUP(競技者一覧!J219,Sheet4!$D$2:$E$48,2,FALSE),学校名簿!D199),\"\")","v":0},{"$f":"IFERROR(VLOOKUP(競技者一覧!$D$7,学校番号表!$B$2:$C$65536,2,FALSE),\"\")","v":""},{"$f":"CONCATENATE(競技者一覧!B219)","v":""},{"$f":"IFERROR(CONCATENATE(VLOOKUP(競技者一覧!K219,種目コード一覧!$A$1:$C$51,2,FALSE),\" \",REPT(\"0\",VLOOKUP(競技者一覧!K219,種目コード一覧!$A$1:$C$51,3,FALSE)-LEN(競技者一覧!L219)),競技者一覧!L219),\"\")","v":""},{"$f":"IFERROR(CONCATENATE(VLOOKUP(競技者一覧!M219,種目コード一覧!$A$1:$C$51,2,FALSE),\" \",REPT(\"0\",VLOOKUP(競技者一覧!M219,種目コード一覧!$A$1:$C$51,3,FALSE)-LEN(競技者一覧!N219)),競技者一覧!N219),\"\")","v":""},{"$f":"IFERROR(CONCATENATE(VLOOKUP(競技者一覧!O219,種目コード一覧!$A$1:$C$51,2,FALSE),\" \",REPT(\"0\",VLOOKUP(競技者一覧!O219,種目コード一覧!$A$1:$C$51,3,FALSE)-LEN(競技者一覧!P219)),競技者一覧!P219),\"\")","v":""},{"$f":"IFERROR(CONCATENATE(VLOOKUP(競技者一覧!Q219,種目コード一覧!$A$1:$C$51,2,FALSE),\" \",REPT(\"0\",VLOOKUP(競技者一覧!Q219,種目コード一覧!$A$1:$C$51,3,FALSE)-LEN(競技者一覧!R219)),競技者一覧!R219),\"\")","v":""},{"$f":"IFERROR(CONCATENATE(VLOOKUP(競技者一覧!S219,種目コード一覧!$A$1:$C$51,2,FALSE),\" \",REPT(\"0\",VLOOKUP(競技者一覧!S219,種目コード一覧!$A$1:$C$51,3,FALSE)-LEN(競技者一覧!T219)),競技者一覧!T219),\"\")","v":""},{"$f":"IFERROR(CONCATENATE(VLOOKUP(競技者一覧!U219,種目コード一覧!$A$1:$C$51,2,FALSE),\" \",REPT(\"0\",VLOOKUP(競技者一覧!U219,種目コード一覧!$A$1:$C$51,3,FALSE)-LEN(競技者一覧!V219)),競技者一覧!V219),\"\")","v":""},{"$f":"IFERROR(CONCATENATE(VLOOKUP(競技者一覧!W219,種目コード一覧!$A$1:$C$51,2,FALSE),\" \",REPT(\"0\",VLOOKUP(競技者一覧!W219,種目コード一覧!$A$1:$C$51,3,FALSE)-LEN(競技者一覧!X219)),競技者一覧!X219),\"\")","v":""},{"$f":"IFERROR(CONCATENATE(VLOOKUP(競技者一覧!Y219,種目コード一覧!$A$1:$C$51,2,FALSE),\" \",REPT(\"0\",VLOOKUP(競技者一覧!Y219,種目コード一覧!$A$1:$C$51,3,FALSE)-LEN(競技者一覧!Z219)),競技者一覧!Z219),\"\")","v":""}]
[{"$f":"IFERROR(CONCATENATE(競技者一覧!$D$7), \"\")","v":""},{"$f":"IFERROR(CONCATENATE($H$2,Sheet4!B200),\"\")","v":""},{"$f":"競技者一覧!C220&IF(OR(競技者一覧!H220=\"\",競技者一覧!H220=9),\"\",\"(\" & 競技者一覧!H220 & \")\")","v":""},{"$f":"ASC(競技者一覧!D220 &IF(OR(MID(競技者一覧!G220,3,2)=\"\", MID(競技者一覧!G220,3,2)=\"0\"),\"\",\"(\" & MID(競技者一覧!G220,3,2) & \")\"))","v":""},{"$f":"ASC(競技者一覧!E220 & \" \" & 競技者一覧!F220 & IF(OR(MID(競技者一覧!G220,3,2)=\"\", MID(競技者一覧!G220,3,2)=\"0\"),\"\",\"(\" & MID(競技者一覧!G220,3,2) & \")\"))","v":" "},{"$f":"CONCATENATE(競技者一覧!I220)","v":""},{"$f":"IFERROR(IF(競技者一覧!$D$6=\"学連\",VLOOKUP(競技者一覧!J220,Sheet4!$D$2:$E$48,2,FALSE),学校名簿!D200),\"\")","v":0},{"$f":"IFERROR(VLOOKUP(競技者一覧!$D$7,学校番号表!$B$2:$C$65536,2,FALSE),\"\")","v":""},{"$f":"CONCATENATE(競技者一覧!B220)","v":""},{"$f":"IFERROR(CONCATENATE(VLOOKUP(競技者一覧!K220,種目コード一覧!$A$1:$B$51,2,FALSE),\" \",REPT(\"0\",VLOOKUP(競技者一覧!K220,種目コード一覧!$A$1:$C$51,3,FALSE)-LEN(競技者一覧!L220)),競技者一覧!L220),\"\")","v":""},{"$f":"IFERROR(CONCATENATE(VLOOKUP(競技者一覧!M220,種目コード一覧!$A$1:$C$51,2,FALSE),\" \",REPT(\"0\",VLOOKUP(競技者一覧!M220,種目コード一覧!$A$1:$C$51,3,FALSE)-LEN(競技者一覧!N220)),競技者一覧!N220),\"\")","v":""},{"$f":"IFERROR(CONCATENATE(VLOOKUP(競技者一覧!O220,種目コード一覧!$A$1:$C$51,2,FALSE),\" \",REPT(\"0\",VLOOKUP(競技者一覧!O220,種目コード一覧!$A$1:$C$51,3,FALSE)-LEN(競技者一覧!P220)),競技者一覧!P220),\"\")","v":""},{"$f":"IFERROR(CONCATENATE(VLOOKUP(競技者一覧!Q220,種目コード一覧!$A$1:$C$51,2,FALSE),\" \",REPT(\"0\",VLOOKUP(競技者一覧!Q220,種目コード一覧!$A$1:$C$51,3,FALSE)-LEN(競技者一覧!R220)),競技者一覧!R220),\"\")","v":""},{"$f":"IFERROR(CONCATENATE(VLOOKUP(競技者一覧!S220,種目コード一覧!$A$1:$C$51,2,FALSE),\" \",REPT(\"0\",VLOOKUP(競技者一覧!S220,種目コード一覧!$A$1:$C$51,3,FALSE)-LEN(競技者一覧!T220)),競技者一覧!T220),\"\")","v":""},{"$f":"IFERROR(CONCATENATE(VLOOKUP(競技者一覧!U220,種目コード一覧!$A$1:$C$51,2,FALSE),\" \",REPT(\"0\",VLOOKUP(競技者一覧!U220,種目コード一覧!$A$1:$C$51,3,FALSE)-LEN(競技者一覧!V220)),競技者一覧!V220),\"\")","v":""},{"$f":"IFERROR(CONCATENATE(VLOOKUP(競技者一覧!W220,種目コード一覧!$A$1:$C$51,2,FALSE),\" \",REPT(\"0\",VLOOKUP(競技者一覧!W220,種目コード一覧!$A$1:$C$51,3,FALSE)-LEN(競技者一覧!X220)),競技者一覧!X220),\"\")","v":""},{"$f":"IFERROR(CONCATENATE(VLOOKUP(競技者一覧!Y220,種目コード一覧!$A$1:$C$51,2,FALSE),\" \",REPT(\"0\",VLOOKUP(競技者一覧!Y220,種目コード一覧!$A$1:$C$51,3,FALSE)-LEN(競技者一覧!Z220)),競技者一覧!Z220),\"\")","v":""}]
[{"$f":"IFERROR(CONCATENATE(競技者一覧!$D$7), \"\")","v":""},{"$f":"IFERROR(CONCATENATE($H$2,Sheet4!B201),\"\")","v":""},{"$f":"競技者一覧!C221&IF(OR(競技者一覧!H221=\"\",競技者一覧!H221=9),\"\",\"(\" & 競技者一覧!H221 & \")\")","v":""},{"$f":"競技者一覧!D221 &IF(OR(MID(競技者一覧!G221,3,2)=\"\", MID(競技者一覧!G221,3,2)=\"0\"),\"\",\"(\" & MID(競技者一覧!G221,3,2) & \")\")","v":""},{"$f":"ASC(競技者一覧!E221 & \" \" & 競技者一覧!F221 & IF(OR(MID(競技者一覧!G221,3,2)=\"\", MID(競技者一覧!G221,3,2)=\"0\"),\"\",\"(\" & MID(競技者一覧!G221,3,2) & \")\"))","v":" "},{"$f":"CONCATENATE(競技者一覧!I221)","v":""},{"$f":"IFERROR(IF(競技者一覧!$D$6=\"学連\",VLOOKUP(競技者一覧!J221,Sheet4!$D$2:$E$48,2,FALSE),学校名簿!D201),\"\")","v":0},{"$f":"IFERROR(VLOOKUP(競技者一覧!$D$7,学校番号表!$B$2:$C$65536,2,FALSE),\"\")","v":""},{"$f":"CONCATENATE(競技者一覧!B221)","v":""},{"$f":"IFERROR(CONCATENATE(VLOOKUP(競技者一覧!K221,種目コード一覧!$A$1:$C$51,2,FALSE),\" \",REPT(\"0\",VLOOKUP(競技者一覧!K221,種目コード一覧!$A$1:$C$51,3,FALSE)-LEN(競技者一覧!L221)),競技者一覧!L221),\"\")","v":""},{"$f":"IFERROR(CONCATENATE(VLOOKUP(競技者一覧!M221,種目コード一覧!$A$1:$C$51,2,FALSE),\" \",REPT(\"0\",VLOOKUP(競技者一覧!M221,種目コード一覧!$A$1:$C$51,3,FALSE)-LEN(競技者一覧!N221)),競技者一覧!N221),\"\")","v":""},{"$f":"IFERROR(CONCATENATE(VLOOKUP(競技者一覧!O221,種目コード一覧!$A$1:$C$51,2,FALSE),\" \",REPT(\"0\",VLOOKUP(競技者一覧!O221,種目コード一覧!$A$1:$C$51,3,FALSE)-LEN(競技者一覧!P221)),競技者一覧!P221),\"\")","v":""},{"$f":"IFERROR(CONCATENATE(VLOOKUP(競技者一覧!Q221,種目コード一覧!$A$1:$C$51,2,FALSE),\" \",REPT(\"0\",VLOOKUP(競技者一覧!Q221,種目コード一覧!$A$1:$C$51,3,FALSE)-LEN(競技者一覧!R221)),競技者一覧!R221),\"\")","v":""},{"$f":"IFERROR(CONCATENATE(VLOOKUP(競技者一覧!S221,種目コード一覧!$A$1:$C$51,2,FALSE),\" \",REPT(\"0\",VLOOKUP(競技者一覧!S221,種目コード一覧!$A$1:$C$51,3,FALSE)-LEN(競技者一覧!T221)),競技者一覧!T221),\"\")","v":""},{"$f":"IFERROR(CONCATENATE(VLOOKUP(競技者一覧!U221,種目コード一覧!$A$1:$C$51,2,FALSE),\" \",REPT(\"0\",VLOOKUP(競技者一覧!U221,種目コード一覧!$A$1:$C$51,3,FALSE)-LEN(競技者一覧!V221)),競技者一覧!V221),\"\")","v":""},{"$f":"IFERROR(CONCATENATE(VLOOKUP(競技者一覧!W221,種目コード一覧!$A$1:$C$51,2,FALSE),\" \",REPT(\"0\",VLOOKUP(競技者一覧!W221,種目コード一覧!$A$1:$C$51,3,FALSE)-LEN(競技者一覧!X221)),競技者一覧!X221),\"\")","v":""},{"$f":"IFERROR(CONCATENATE(VLOOKUP(競技者一覧!Y221,種目コード一覧!$A$1:$C$51,2,FALSE),\" \",REPT(\"0\",VLOOKUP(競技者一覧!Y221,種目コード一覧!$A$1:$C$51,3,FALSE)-LEN(競技者一覧!Z221)),競技者一覧!Z221),\"\")","v":""}]
[{"$f":"IFERROR(CONCATENATE(競技者一覧!$D$7), \"\")","v":""},{"$f":"IFERROR(CONCATENATE($H$2,Sheet4!B202),\"\")","v":""},{"$f":"競技者一覧!C222&IF(OR(競技者一覧!H222=\"\",競技者一覧!H222=9),\"\",\"(\" & 競技者一覧!H222 & \")\")","v":""},{"$f":"ASC(競技者一覧!D222 &IF(OR(MID(競技者一覧!G222,3,2)=\"\", MID(競技者一覧!G222,3,2)=\"0\"),\"\",\"(\" & MID(競技者一覧!G222,3,2) & \")\"))","v":""},{"$f":"ASC(競技者一覧!E222 & \" \" & 競技者一覧!F222 & IF(OR(MID(競技者一覧!G222,3,2)=\"\", MID(競技者一覧!G222,3,2)=\"0\"),\"\",\"(\" & MID(競技者一覧!G222,3,2) & \")\"))","v":" "},{"$f":"CONCATENATE(競技者一覧!I222)","v":""},{"$f":"IFERROR(IF(競技者一覧!$D$6=\"学連\",VLOOKUP(競技者一覧!J222,Sheet4!$D$2:$E$48,2,FALSE),学校名簿!D202),\"\")","v":0},{"$f":"IFERROR(VLOOKUP(競技者一覧!$D$7,学校番号表!$B$2:$C$65536,2,FALSE),\"\")","v":""},{"$f":"CONCATENATE(競技者一覧!B222)","v":""},{"$f":"IFERROR(CONCATENATE(VLOOKUP(競技者一覧!K222,種目コード一覧!$A$1:$B$51,2,FALSE),\" \",REPT(\"0\",VLOOKUP(競技者一覧!K222,種目コード一覧!$A$1:$C$51,3,FALSE)-LEN(競技者一覧!L222)),競技者一覧!L222),\"\")","v":""},{"$f":"IFERROR(CONCATENATE(VLOOKUP(競技者一覧!M222,種目コード一覧!$A$1:$C$51,2,FALSE),\" \",REPT(\"0\",VLOOKUP(競技者一覧!M222,種目コード一覧!$A$1:$C$51,3,FALSE)-LEN(競技者一覧!N222)),競技者一覧!N222),\"\")","v":""},{"$f":"IFERROR(CONCATENATE(VLOOKUP(競技者一覧!O222,種目コード一覧!$A$1:$C$51,2,FALSE),\" \",REPT(\"0\",VLOOKUP(競技者一覧!O222,種目コード一覧!$A$1:$C$51,3,FALSE)-LEN(競技者一覧!P222)),競技者一覧!P222),\"\")","v":""},{"$f":"IFERROR(CONCATENATE(VLOOKUP(競技者一覧!Q222,種目コード一覧!$A$1:$C$51,2,FALSE),\" \",REPT(\"0\",VLOOKUP(競技者一覧!Q222,種目コード一覧!$A$1:$C$51,3,FALSE)-LEN(競技者一覧!R222)),競技者一覧!R222),\"\")","v":""},{"$f":"IFERROR(CONCATENATE(VLOOKUP(競技者一覧!S222,種目コード一覧!$A$1:$C$51,2,FALSE),\" \",REPT(\"0\",VLOOKUP(競技者一覧!S222,種目コード一覧!$A$1:$C$51,3,FALSE)-LEN(競技者一覧!T222)),競技者一覧!T222),\"\")","v":""},{"$f":"IFERROR(CONCATENATE(VLOOKUP(競技者一覧!U222,種目コード一覧!$A$1:$C$51,2,FALSE),\" \",REPT(\"0\",VLOOKUP(競技者一覧!U222,種目コード一覧!$A$1:$C$51,3,FALSE)-LEN(競技者一覧!V222)),競技者一覧!V222),\"\")","v":""},{"$f":"IFERROR(CONCATENATE(VLOOKUP(競技者一覧!W222,種目コード一覧!$A$1:$C$51,2,FALSE),\" \",REPT(\"0\",VLOOKUP(競技者一覧!W222,種目コード一覧!$A$1:$C$51,3,FALSE)-LEN(競技者一覧!X222)),競技者一覧!X222),\"\")","v":""},{"$f":"IFERROR(CONCATENATE(VLOOKUP(競技者一覧!Y222,種目コード一覧!$A$1:$C$51,2,FALSE),\" \",REPT(\"0\",VLOOKUP(競技者一覧!Y222,種目コード一覧!$A$1:$C$51,3,FALSE)-LEN(競技者一覧!Z222)),競技者一覧!Z222),\"\")","v":""}]
[{"$f":"IFERROR(CONCATENATE(競技者一覧!$D$7), \"\")","v":""},{"$f":"IFERROR(CONCATENATE($H$2,Sheet4!B203),\"\")","v":""},{"$f":"競技者一覧!C223&IF(OR(競技者一覧!H223=\"\",競技者一覧!H223=9),\"\",\"(\" & 競技者一覧!H223 & \")\")","v":""},{"$f":"競技者一覧!D223 &IF(OR(MID(競技者一覧!G223,3,2)=\"\", MID(競技者一覧!G223,3,2)=\"0\"),\"\",\"(\" & MID(競技者一覧!G223,3,2) & \")\")","v":""},{"$f":"ASC(競技者一覧!E223 & \" \" & 競技者一覧!F223 & IF(OR(MID(競技者一覧!G223,3,2)=\"\", MID(競技者一覧!G223,3,2)=\"0\"),\"\",\"(\" & MID(競技者一覧!G223,3,2) & \")\"))","v":" "},{"$f":"CONCATENATE(競技者一覧!I223)","v":""},{"$f":"IFERROR(IF(競技者一覧!$D$6=\"学連\",VLOOKUP(競技者一覧!J223,Sheet4!$D$2:$E$48,2,FALSE),学校名簿!D203),\"\")","v":0},{"$f":"IFERROR(VLOOKUP(競技者一覧!$D$7,学校番号表!$B$2:$C$65536,2,FALSE),\"\")","v":""},{"$f":"CONCATENATE(競技者一覧!B223)","v":""},{"$f":"IFERROR(CONCATENATE(VLOOKUP(競技者一覧!K223,種目コード一覧!$A$1:$C$51,2,FALSE),\" \",REPT(\"0\",VLOOKUP(競技者一覧!K223,種目コード一覧!$A$1:$C$51,3,FALSE)-LEN(競技者一覧!L223)),競技者一覧!L223),\"\")","v":""},{"$f":"IFERROR(CONCATENATE(VLOOKUP(競技者一覧!M223,種目コード一覧!$A$1:$C$51,2,FALSE),\" \",REPT(\"0\",VLOOKUP(競技者一覧!M223,種目コード一覧!$A$1:$C$51,3,FALSE)-LEN(競技者一覧!N223)),競技者一覧!N223),\"\")","v":""},{"$f":"IFERROR(CONCATENATE(VLOOKUP(競技者一覧!O223,種目コード一覧!$A$1:$C$51,2,FALSE),\" \",REPT(\"0\",VLOOKUP(競技者一覧!O223,種目コード一覧!$A$1:$C$51,3,FALSE)-LEN(競技者一覧!P223)),競技者一覧!P223),\"\")","v":""},{"$f":"IFERROR(CONCATENATE(VLOOKUP(競技者一覧!Q223,種目コード一覧!$A$1:$C$51,2,FALSE),\" \",REPT(\"0\",VLOOKUP(競技者一覧!Q223,種目コード一覧!$A$1:$C$51,3,FALSE)-LEN(競技者一覧!R223)),競技者一覧!R223),\"\")","v":""},{"$f":"IFERROR(CONCATENATE(VLOOKUP(競技者一覧!S223,種目コード一覧!$A$1:$C$51,2,FALSE),\" \",REPT(\"0\",VLOOKUP(競技者一覧!S223,種目コード一覧!$A$1:$C$51,3,FALSE)-LEN(競技者一覧!T223)),競技者一覧!T223),\"\")","v":""},{"$f":"IFERROR(CONCATENATE(VLOOKUP(競技者一覧!U223,種目コード一覧!$A$1:$C$51,2,FALSE),\" \",REPT(\"0\",VLOOKUP(競技者一覧!U223,種目コード一覧!$A$1:$C$51,3,FALSE)-LEN(競技者一覧!V223)),競技者一覧!V223),\"\")","v":""},{"$f":"IFERROR(CONCATENATE(VLOOKUP(競技者一覧!W223,種目コード一覧!$A$1:$C$51,2,FALSE),\" \",REPT(\"0\",VLOOKUP(競技者一覧!W223,種目コード一覧!$A$1:$C$51,3,FALSE)-LEN(競技者一覧!X223)),競技者一覧!X223),\"\")","v":""},{"$f":"IFERROR(CONCATENATE(VLOOKUP(競技者一覧!Y223,種目コード一覧!$A$1:$C$51,2,FALSE),\" \",REPT(\"0\",VLOOKUP(競技者一覧!Y223,種目コード一覧!$A$1:$C$51,3,FALSE)-LEN(競技者一覧!Z223)),競技者一覧!Z223),\"\")","v":""}]
[{"$f":"IFERROR(CONCATENATE(競技者一覧!$D$7), \"\")","v":""},{"$f":"IFERROR(CONCATENATE($H$2,Sheet4!B204),\"\")","v":""},{"$f":"競技者一覧!C224&IF(OR(競技者一覧!H224=\"\",競技者一覧!H224=9),\"\",\"(\" & 競技者一覧!H224 & \")\")","v":""},{"$f":"ASC(競技者一覧!D224 &IF(OR(MID(競技者一覧!G224,3,2)=\"\", MID(競技者一覧!G224,3,2)=\"0\"),\"\",\"(\" & MID(競技者一覧!G224,3,2) & \")\"))","v":""},{"$f":"ASC(競技者一覧!E224 & \" \" & 競技者一覧!F224 & IF(OR(MID(競技者一覧!G224,3,2)=\"\", MID(競技者一覧!G224,3,2)=\"0\"),\"\",\"(\" & MID(競技者一覧!G224,3,2) & \")\"))","v":" "},{"$f":"CONCATENATE(競技者一覧!I224)","v":""},{"$f":"IFERROR(IF(競技者一覧!$D$6=\"学連\",VLOOKUP(競技者一覧!J224,Sheet4!$D$2:$E$48,2,FALSE),学校名簿!D204),\"\")","v":0},{"$f":"IFERROR(VLOOKUP(競技者一覧!$D$7,学校番号表!$B$2:$C$65536,2,FALSE),\"\")","v":""},{"$f":"CONCATENATE(競技者一覧!B224)","v":""},{"$f":"IFERROR(CONCATENATE(VLOOKUP(競技者一覧!K224,種目コード一覧!$A$1:$B$51,2,FALSE),\" \",REPT(\"0\",VLOOKUP(競技者一覧!K224,種目コード一覧!$A$1:$C$51,3,FALSE)-LEN(競技者一覧!L224)),競技者一覧!L224),\"\")","v":""},{"$f":"IFERROR(CONCATENATE(VLOOKUP(競技者一覧!M224,種目コード一覧!$A$1:$C$51,2,FALSE),\" \",REPT(\"0\",VLOOKUP(競技者一覧!M224,種目コード一覧!$A$1:$C$51,3,FALSE)-LEN(競技者一覧!N224)),競技者一覧!N224),\"\")","v":""},{"$f":"IFERROR(CONCATENATE(VLOOKUP(競技者一覧!O224,種目コード一覧!$A$1:$C$51,2,FALSE),\" \",REPT(\"0\",VLOOKUP(競技者一覧!O224,種目コード一覧!$A$1:$C$51,3,FALSE)-LEN(競技者一覧!P224)),競技者一覧!P224),\"\")","v":""},{"$f":"IFERROR(CONCATENATE(VLOOKUP(競技者一覧!Q224,種目コード一覧!$A$1:$C$51,2,FALSE),\" \",REPT(\"0\",VLOOKUP(競技者一覧!Q224,種目コード一覧!$A$1:$C$51,3,FALSE)-LEN(競技者一覧!R224)),競技者一覧!R224),\"\")","v":""},{"$f":"IFERROR(CONCATENATE(VLOOKUP(競技者一覧!S224,種目コード一覧!$A$1:$C$51,2,FALSE),\" \",REPT(\"0\",VLOOKUP(競技者一覧!S224,種目コード一覧!$A$1:$C$51,3,FALSE)-LEN(競技者一覧!T224)),競技者一覧!T224),\"\")","v":""},{"$f":"IFERROR(CONCATENATE(VLOOKUP(競技者一覧!U224,種目コード一覧!$A$1:$C$51,2,FALSE),\" \",REPT(\"0\",VLOOKUP(競技者一覧!U224,種目コード一覧!$A$1:$C$51,3,FALSE)-LEN(競技者一覧!V224)),競技者一覧!V224),\"\")","v":""},{"$f":"IFERROR(CONCATENATE(VLOOKUP(競技者一覧!W224,種目コード一覧!$A$1:$C$51,2,FALSE),\" \",REPT(\"0\",VLOOKUP(競技者一覧!W224,種目コード一覧!$A$1:$C$51,3,FALSE)-LEN(競技者一覧!X224)),競技者一覧!X224),\"\")","v":""},{"$f":"IFERROR(CONCATENATE(VLOOKUP(競技者一覧!Y224,種目コード一覧!$A$1:$C$51,2,FALSE),\" \",REPT(\"0\",VLOOKUP(競技者一覧!Y224,種目コード一覧!$A$1:$C$51,3,FALSE)-LEN(競技者一覧!Z224)),競技者一覧!Z224),\"\")","v":""}]
[{"$f":"IFERROR(CONCATENATE(競技者一覧!$D$7), \"\")","v":""},{"$f":"IFERROR(CONCATENATE($H$2,Sheet4!B205),\"\")","v":""},{"$f":"競技者一覧!C225&IF(OR(競技者一覧!H225=\"\",競技者一覧!H225=9),\"\",\"(\" & 競技者一覧!H225 & \")\")","v":""},{"$f":"競技者一覧!D225 &IF(OR(MID(競技者一覧!G225,3,2)=\"\", MID(競技者一覧!G225,3,2)=\"0\"),\"\",\"(\" & MID(競技者一覧!G225,3,2) & \")\")","v":""},{"$f":"ASC(競技者一覧!E225 & \" \" & 競技者一覧!F225 & IF(OR(MID(競技者一覧!G225,3,2)=\"\", MID(競技者一覧!G225,3,2)=\"0\"),\"\",\"(\" & MID(競技者一覧!G225,3,2) & \")\"))","v":" "},{"$f":"CONCATENATE(競技者一覧!I225)","v":""},{"$f":"IFERROR(IF(競技者一覧!$D$6=\"学連\",VLOOKUP(競技者一覧!J225,Sheet4!$D$2:$E$48,2,FALSE),学校名簿!D205),\"\")","v":0},{"$f":"IFERROR(VLOOKUP(競技者一覧!$D$7,学校番号表!$B$2:$C$65536,2,FALSE),\"\")","v":""},{"$f":"CONCATENATE(競技者一覧!B225)","v":""},{"$f":"IFERROR(CONCATENATE(VLOOKUP(競技者一覧!K225,種目コード一覧!$A$1:$C$51,2,FALSE),\" \",REPT(\"0\",VLOOKUP(競技者一覧!K225,種目コード一覧!$A$1:$C$51,3,FALSE)-LEN(競技者一覧!L225)),競技者一覧!L225),\"\")","v":""},{"$f":"IFERROR(CONCATENATE(VLOOKUP(競技者一覧!M225,種目コード一覧!$A$1:$C$51,2,FALSE),\" \",REPT(\"0\",VLOOKUP(競技者一覧!M225,種目コード一覧!$A$1:$C$51,3,FALSE)-LEN(競技者一覧!N225)),競技者一覧!N225),\"\")","v":""},{"$f":"IFERROR(CONCATENATE(VLOOKUP(競技者一覧!O225,種目コード一覧!$A$1:$C$51,2,FALSE),\" \",REPT(\"0\",VLOOKUP(競技者一覧!O225,種目コード一覧!$A$1:$C$51,3,FALSE)-LEN(競技者一覧!P225)),競技者一覧!P225),\"\")","v":""},{"$f":"IFERROR(CONCATENATE(VLOOKUP(競技者一覧!Q225,種目コード一覧!$A$1:$C$51,2,FALSE),\" \",REPT(\"0\",VLOOKUP(競技者一覧!Q225,種目コード一覧!$A$1:$C$51,3,FALSE)-LEN(競技者一覧!R225)),競技者一覧!R225),\"\")","v":""},{"$f":"IFERROR(CONCATENATE(VLOOKUP(競技者一覧!S225,種目コード一覧!$A$1:$C$51,2,FALSE),\" \",REPT(\"0\",VLOOKUP(競技者一覧!S225,種目コード一覧!$A$1:$C$51,3,FALSE)-LEN(競技者一覧!T225)),競技者一覧!T225),\"\")","v":""},{"$f":"IFERROR(CONCATENATE(VLOOKUP(競技者一覧!U225,種目コード一覧!$A$1:$C$51,2,FALSE),\" \",REPT(\"0\",VLOOKUP(競技者一覧!U225,種目コード一覧!$A$1:$C$51,3,FALSE)-LEN(競技者一覧!V225)),競技者一覧!V225),\"\")","v":""},{"$f":"IFERROR(CONCATENATE(VLOOKUP(競技者一覧!W225,種目コード一覧!$A$1:$C$51,2,FALSE),\" \",REPT(\"0\",VLOOKUP(競技者一覧!W225,種目コード一覧!$A$1:$C$51,3,FALSE)-LEN(競技者一覧!X225)),競技者一覧!X225),\"\")","v":""},{"$f":"IFERROR(CONCATENATE(VLOOKUP(競技者一覧!Y225,種目コード一覧!$A$1:$C$51,2,FALSE),\" \",REPT(\"0\",VLOOKUP(競技者一覧!Y225,種目コード一覧!$A$1:$C$51,3,FALSE)-LEN(競技者一覧!Z225)),競技者一覧!Z225),\"\")","v":""}]
[{"$f":"IFERROR(CONCATENATE(競技者一覧!$D$7), \"\")","v":""},{"$f":"IFERROR(CONCATENATE($H$2,Sheet4!B206),\"\")","v":""},{"$f":"競技者一覧!C226&IF(OR(競技者一覧!H226=\"\",競技者一覧!H226=9),\"\",\"(\" & 競技者一覧!H226 & \")\")","v":""},{"$f":"ASC(競技者一覧!D226 &IF(OR(MID(競技者一覧!G226,3,2)=\"\", MID(競技者一覧!G226,3,2)=\"0\"),\"\",\"(\" & MID(競技者一覧!G226,3,2) & \")\"))","v":""},{"$f":"ASC(競技者一覧!E226 & \" \" & 競技者一覧!F226 & IF(OR(MID(競技者一覧!G226,3,2)=\"\", MID(競技者一覧!G226,3,2)=\"0\"),\"\",\"(\" & MID(競技者一覧!G226,3,2) & \")\"))","v":" "},{"$f":"CONCATENATE(競技者一覧!I226)","v":""},{"$f":"IFERROR(IF(競技者一覧!$D$6=\"学連\",VLOOKUP(競技者一覧!J226,Sheet4!$D$2:$E$48,2,FALSE),学校名簿!D206),\"\")","v":0},{"$f":"IFERROR(VLOOKUP(競技者一覧!$D$7,学校番号表!$B$2:$C$65536,2,FALSE),\"\")","v":""},{"$f":"CONCATENATE(競技者一覧!B226)","v":""},{"$f":"IFERROR(CONCATENATE(VLOOKUP(競技者一覧!K226,種目コード一覧!$A$1:$B$51,2,FALSE),\" \",REPT(\"0\",VLOOKUP(競技者一覧!K226,種目コード一覧!$A$1:$C$51,3,FALSE)-LEN(競技者一覧!L226)),競技者一覧!L226),\"\")","v":""},{"$f":"IFERROR(CONCATENATE(VLOOKUP(競技者一覧!M226,種目コード一覧!$A$1:$C$51,2,FALSE),\" \",REPT(\"0\",VLOOKUP(競技者一覧!M226,種目コード一覧!$A$1:$C$51,3,FALSE)-LEN(競技者一覧!N226)),競技者一覧!N226),\"\")","v":""},{"$f":"IFERROR(CONCATENATE(VLOOKUP(競技者一覧!O226,種目コード一覧!$A$1:$C$51,2,FALSE),\" \",REPT(\"0\",VLOOKUP(競技者一覧!O226,種目コード一覧!$A$1:$C$51,3,FALSE)-LEN(競技者一覧!P226)),競技者一覧!P226),\"\")","v":""},{"$f":"IFERROR(CONCATENATE(VLOOKUP(競技者一覧!Q226,種目コード一覧!$A$1:$C$51,2,FALSE),\" \",REPT(\"0\",VLOOKUP(競技者一覧!Q226,種目コード一覧!$A$1:$C$51,3,FALSE)-LEN(競技者一覧!R226)),競技者一覧!R226),\"\")","v":""},{"$f":"IFERROR(CONCATENATE(VLOOKUP(競技者一覧!S226,種目コード一覧!$A$1:$C$51,2,FALSE),\" \",REPT(\"0\",VLOOKUP(競技者一覧!S226,種目コード一覧!$A$1:$C$51,3,FALSE)-LEN(競技者一覧!T226)),競技者一覧!T226),\"\")","v":""},{"$f":"IFERROR(CONCATENATE(VLOOKUP(競技者一覧!U226,種目コード一覧!$A$1:$C$51,2,FALSE),\" \",REPT(\"0\",VLOOKUP(競技者一覧!U226,種目コード一覧!$A$1:$C$51,3,FALSE)-LEN(競技者一覧!V226)),競技者一覧!V226),\"\")","v":""},{"$f":"IFERROR(CONCATENATE(VLOOKUP(競技者一覧!W226,種目コード一覧!$A$1:$C$51,2,FALSE),\" \",REPT(\"0\",VLOOKUP(競技者一覧!W226,種目コード一覧!$A$1:$C$51,3,FALSE)-LEN(競技者一覧!X226)),競技者一覧!X226),\"\")","v":""},{"$f":"IFERROR(CONCATENATE(VLOOKUP(競技者一覧!Y226,種目コード一覧!$A$1:$C$51,2,FALSE),\" \",REPT(\"0\",VLOOKUP(競技者一覧!Y226,種目コード一覧!$A$1:$C$51,3,FALSE)-LEN(競技者一覧!Z226)),競技者一覧!Z226),\"\")","v":""}]
[{"$f":"IFERROR(CONCATENATE(競技者一覧!$D$7), \"\")","v":""},{"$f":"IFERROR(CONCATENATE($H$2,Sheet4!B207),\"\")","v":""},{"$f":"競技者一覧!C227&IF(OR(競技者一覧!H227=\"\",競技者一覧!H227=9),\"\",\"(\" & 競技者一覧!H227 & \")\")","v":""},{"$f":"競技者一覧!D227 &IF(OR(MID(競技者一覧!G227,3,2)=\"\", MID(競技者一覧!G227,3,2)=\"0\"),\"\",\"(\" & MID(競技者一覧!G227,3,2) & \")\")","v":""},{"$f":"ASC(競技者一覧!E227 & \" \" & 競技者一覧!F227 & IF(OR(MID(競技者一覧!G227,3,2)=\"\", MID(競技者一覧!G227,3,2)=\"0\"),\"\",\"(\" & MID(競技者一覧!G227,3,2) & \")\"))","v":" "},{"$f":"CONCATENATE(競技者一覧!I227)","v":""},{"$f":"IFERROR(IF(競技者一覧!$D$6=\"学連\",VLOOKUP(競技者一覧!J227,Sheet4!$D$2:$E$48,2,FALSE),学校名簿!D207),\"\")","v":0},{"$f":"IFERROR(VLOOKUP(競技者一覧!$D$7,学校番号表!$B$2:$C$65536,2,FALSE),\"\")","v":""},{"$f":"CONCATENATE(競技者一覧!B227)","v":""},{"$f":"IFERROR(CONCATENATE(VLOOKUP(競技者一覧!K227,種目コード一覧!$A$1:$C$51,2,FALSE),\" \",REPT(\"0\",VLOOKUP(競技者一覧!K227,種目コード一覧!$A$1:$C$51,3,FALSE)-LEN(競技者一覧!L227)),競技者一覧!L227),\"\")","v":""},{"$f":"IFERROR(CONCATENATE(VLOOKUP(競技者一覧!M227,種目コード一覧!$A$1:$C$51,2,FALSE),\" \",REPT(\"0\",VLOOKUP(競技者一覧!M227,種目コード一覧!$A$1:$C$51,3,FALSE)-LEN(競技者一覧!N227)),競技者一覧!N227),\"\")","v":""},{"$f":"IFERROR(CONCATENATE(VLOOKUP(競技者一覧!O227,種目コード一覧!$A$1:$C$51,2,FALSE),\" \",REPT(\"0\",VLOOKUP(競技者一覧!O227,種目コード一覧!$A$1:$C$51,3,FALSE)-LEN(競技者一覧!P227)),競技者一覧!P227),\"\")","v":""},{"$f":"IFERROR(CONCATENATE(VLOOKUP(競技者一覧!Q227,種目コード一覧!$A$1:$C$51,2,FALSE),\" \",REPT(\"0\",VLOOKUP(競技者一覧!Q227,種目コード一覧!$A$1:$C$51,3,FALSE)-LEN(競技者一覧!R227)),競技者一覧!R227),\"\")","v":""},{"$f":"IFERROR(CONCATENATE(VLOOKUP(競技者一覧!S227,種目コード一覧!$A$1:$C$51,2,FALSE),\" \",REPT(\"0\",VLOOKUP(競技者一覧!S227,種目コード一覧!$A$1:$C$51,3,FALSE)-LEN(競技者一覧!T227)),競技者一覧!T227),\"\")","v":""},{"$f":"IFERROR(CONCATENATE(VLOOKUP(競技者一覧!U227,種目コード一覧!$A$1:$C$51,2,FALSE),\" \",REPT(\"0\",VLOOKUP(競技者一覧!U227,種目コード一覧!$A$1:$C$51,3,FALSE)-LEN(競技者一覧!V227)),競技者一覧!V227),\"\")","v":""},{"$f":"IFERROR(CONCATENATE(VLOOKUP(競技者一覧!W227,種目コード一覧!$A$1:$C$51,2,FALSE),\" \",REPT(\"0\",VLOOKUP(競技者一覧!W227,種目コード一覧!$A$1:$C$51,3,FALSE)-LEN(競技者一覧!X227)),競技者一覧!X227),\"\")","v":""},{"$f":"IFERROR(CONCATENATE(VLOOKUP(競技者一覧!Y227,種目コード一覧!$A$1:$C$51,2,FALSE),\" \",REPT(\"0\",VLOOKUP(競技者一覧!Y227,種目コード一覧!$A$1:$C$51,3,FALSE)-LEN(競技者一覧!Z227)),競技者一覧!Z227),\"\")","v":""}]
[{"$f":"IFERROR(CONCATENATE(競技者一覧!$D$7), \"\")","v":""},{"$f":"IFERROR(CONCATENATE($H$2,Sheet4!B208),\"\")","v":""},{"$f":"競技者一覧!C228&IF(OR(競技者一覧!H228=\"\",競技者一覧!H228=9),\"\",\"(\" & 競技者一覧!H228 & \")\")","v":""},{"$f":"ASC(競技者一覧!D228 &IF(OR(MID(競技者一覧!G228,3,2)=\"\", MID(競技者一覧!G228,3,2)=\"0\"),\"\",\"(\" & MID(競技者一覧!G228,3,2) & \")\"))","v":""},{"$f":"ASC(競技者一覧!E228 & \" \" & 競技者一覧!F228 & IF(OR(MID(競技者一覧!G228,3,2)=\"\", MID(競技者一覧!G228,3,2)=\"0\"),\"\",\"(\" & MID(競技者一覧!G228,3,2) & \")\"))","v":" "},{"$f":"CONCATENATE(競技者一覧!I228)","v":""},{"$f":"IFERROR(IF(競技者一覧!$D$6=\"学連\",VLOOKUP(競技者一覧!J228,Sheet4!$D$2:$E$48,2,FALSE),学校名簿!D208),\"\")","v":0},{"$f":"IFERROR(VLOOKUP(競技者一覧!$D$7,学校番号表!$B$2:$C$65536,2,FALSE),\"\")","v":""},{"$f":"CONCATENATE(競技者一覧!B228)","v":""},{"$f":"IFERROR(CONCATENATE(VLOOKUP(競技者一覧!K228,種目コード一覧!$A$1:$B$51,2,FALSE),\" \",REPT(\"0\",VLOOKUP(競技者一覧!K228,種目コード一覧!$A$1:$C$51,3,FALSE)-LEN(競技者一覧!L228)),競技者一覧!L228),\"\")","v":""},{"$f":"IFERROR(CONCATENATE(VLOOKUP(競技者一覧!M228,種目コード一覧!$A$1:$C$51,2,FALSE),\" \",REPT(\"0\",VLOOKUP(競技者一覧!M228,種目コード一覧!$A$1:$C$51,3,FALSE)-LEN(競技者一覧!N228)),競技者一覧!N228),\"\")","v":""},{"$f":"IFERROR(CONCATENATE(VLOOKUP(競技者一覧!O228,種目コード一覧!$A$1:$C$51,2,FALSE),\" \",REPT(\"0\",VLOOKUP(競技者一覧!O228,種目コード一覧!$A$1:$C$51,3,FALSE)-LEN(競技者一覧!P228)),競技者一覧!P228),\"\")","v":""},{"$f":"IFERROR(CONCATENATE(VLOOKUP(競技者一覧!Q228,種目コード一覧!$A$1:$C$51,2,FALSE),\" \",REPT(\"0\",VLOOKUP(競技者一覧!Q228,種目コード一覧!$A$1:$C$51,3,FALSE)-LEN(競技者一覧!R228)),競技者一覧!R228),\"\")","v":""},{"$f":"IFERROR(CONCATENATE(VLOOKUP(競技者一覧!S228,種目コード一覧!$A$1:$C$51,2,FALSE),\" \",REPT(\"0\",VLOOKUP(競技者一覧!S228,種目コード一覧!$A$1:$C$51,3,FALSE)-LEN(競技者一覧!T228)),競技者一覧!T228),\"\")","v":""},{"$f":"IFERROR(CONCATENATE(VLOOKUP(競技者一覧!U228,種目コード一覧!$A$1:$C$51,2,FALSE),\" \",REPT(\"0\",VLOOKUP(競技者一覧!U228,種目コード一覧!$A$1:$C$51,3,FALSE)-LEN(競技者一覧!V228)),競技者一覧!V228),\"\")","v":""},{"$f":"IFERROR(CONCATENATE(VLOOKUP(競技者一覧!W228,種目コード一覧!$A$1:$C$51,2,FALSE),\" \",REPT(\"0\",VLOOKUP(競技者一覧!W228,種目コード一覧!$A$1:$C$51,3,FALSE)-LEN(競技者一覧!X228)),競技者一覧!X228),\"\")","v":""},{"$f":"IFERROR(CONCATENATE(VLOOKUP(競技者一覧!Y228,種目コード一覧!$A$1:$C$51,2,FALSE),\" \",REPT(\"0\",VLOOKUP(競技者一覧!Y228,種目コード一覧!$A$1:$C$51,3,FALSE)-LEN(競技者一覧!Z228)),競技者一覧!Z228),\"\")","v":""}]
[{"$f":"IFERROR(CONCATENATE(競技者一覧!$D$7), \"\")","v":""},{"$f":"IFERROR(CONCATENATE($H$2,Sheet4!B209),\"\")","v":""},{"$f":"競技者一覧!C229&IF(OR(競技者一覧!H229=\"\",競技者一覧!H229=9),\"\",\"(\" & 競技者一覧!H229 & \")\")","v":""},{"$f":"競技者一覧!D229 &IF(OR(MID(競技者一覧!G229,3,2)=\"\", MID(競技者一覧!G229,3,2)=\"0\"),\"\",\"(\" & MID(競技者一覧!G229,3,2) & \")\")","v":""},{"$f":"ASC(競技者一覧!E229 & \" \" & 競技者一覧!F229 & IF(OR(MID(競技者一覧!G229,3,2)=\"\", MID(競技者一覧!G229,3,2)=\"0\"),\"\",\"(\" & MID(競技者一覧!G229,3,2) & \")\"))","v":" "},{"$f":"CONCATENATE(競技者一覧!I229)","v":""},{"$f":"IFERROR(IF(競技者一覧!$D$6=\"学連\",VLOOKUP(競技者一覧!J229,Sheet4!$D$2:$E$48,2,FALSE),学校名簿!D209),\"\")","v":0},{"$f":"IFERROR(VLOOKUP(競技者一覧!$D$7,学校番号表!$B$2:$C$65536,2,FALSE),\"\")","v":""},{"$f":"CONCATENATE(競技者一覧!B229)","v":""},{"$f":"IFERROR(CONCATENATE(VLOOKUP(競技者一覧!K229,種目コード一覧!$A$1:$C$51,2,FALSE),\" \",REPT(\"0\",VLOOKUP(競技者一覧!K229,種目コード一覧!$A$1:$C$51,3,FALSE)-LEN(競技者一覧!L229)),競技者一覧!L229),\"\")","v":""},{"$f":"IFERROR(CONCATENATE(VLOOKUP(競技者一覧!M229,種目コード一覧!$A$1:$C$51,2,FALSE),\" \",REPT(\"0\",VLOOKUP(競技者一覧!M229,種目コード一覧!$A$1:$C$51,3,FALSE)-LEN(競技者一覧!N229)),競技者一覧!N229),\"\")","v":""},{"$f":"IFERROR(CONCATENATE(VLOOKUP(競技者一覧!O229,種目コード一覧!$A$1:$C$51,2,FALSE),\" \",REPT(\"0\",VLOOKUP(競技者一覧!O229,種目コード一覧!$A$1:$C$51,3,FALSE)-LEN(競技者一覧!P229)),競技者一覧!P229),\"\")","v":""},{"$f":"IFERROR(CONCATENATE(VLOOKUP(競技者一覧!Q229,種目コード一覧!$A$1:$C$51,2,FALSE),\" \",REPT(\"0\",VLOOKUP(競技者一覧!Q229,種目コード一覧!$A$1:$C$51,3,FALSE)-LEN(競技者一覧!R229)),競技者一覧!R229),\"\")","v":""},{"$f":"IFERROR(CONCATENATE(VLOOKUP(競技者一覧!S229,種目コード一覧!$A$1:$C$51,2,FALSE),\" \",REPT(\"0\",VLOOKUP(競技者一覧!S229,種目コード一覧!$A$1:$C$51,3,FALSE)-LEN(競技者一覧!T229)),競技者一覧!T229),\"\")","v":""},{"$f":"IFERROR(CONCATENATE(VLOOKUP(競技者一覧!U229,種目コード一覧!$A$1:$C$51,2,FALSE),\" \",REPT(\"0\",VLOOKUP(競技者一覧!U229,種目コード一覧!$A$1:$C$51,3,FALSE)-LEN(競技者一覧!V229)),競技者一覧!V229),\"\")","v":""},{"$f":"IFERROR(CONCATENATE(VLOOKUP(競技者一覧!W229,種目コード一覧!$A$1:$C$51,2,FALSE),\" \",REPT(\"0\",VLOOKUP(競技者一覧!W229,種目コード一覧!$A$1:$C$51,3,FALSE)-LEN(競技者一覧!X229)),競技者一覧!X229),\"\")","v":""},{"$f":"IFERROR(CONCATENATE(VLOOKUP(競技者一覧!Y229,種目コード一覧!$A$1:$C$51,2,FALSE),\" \",REPT(\"0\",VLOOKUP(競技者一覧!Y229,種目コード一覧!$A$1:$C$51,3,FALSE)-LEN(競技者一覧!Z229)),競技者一覧!Z229),\"\")","v":""}]
[{"$f":"IFERROR(CONCATENATE(競技者一覧!$D$7), \"\")","v":""},{"$f":"IFERROR(CONCATENATE($H$2,Sheet4!B210),\"\")","v":""},{"$f":"競技者一覧!C230&IF(OR(競技者一覧!H230=\"\",競技者一覧!H230=9),\"\",\"(\" & 競技者一覧!H230 & \")\")","v":""},{"$f":"ASC(競技者一覧!D230 &IF(OR(MID(競技者一覧!G230,3,2)=\"\", MID(競技者一覧!G230,3,2)=\"0\"),\"\",\"(\" & MID(競技者一覧!G230,3,2) & \")\"))","v":""},{"$f":"ASC(競技者一覧!E230 & \" \" & 競技者一覧!F230 & IF(OR(MID(競技者一覧!G230,3,2)=\"\", MID(競技者一覧!G230,3,2)=\"0\"),\"\",\"(\" & MID(競技者一覧!G230,3,2) & \")\"))","v":" "},{"$f":"CONCATENATE(競技者一覧!I230)","v":""},{"$f":"IFERROR(IF(競技者一覧!$D$6=\"学連\",VLOOKUP(競技者一覧!J230,Sheet4!$D$2:$E$48,2,FALSE),学校名簿!D210),\"\")","v":0},{"$f":"IFERROR(VLOOKUP(競技者一覧!$D$7,学校番号表!$B$2:$C$65536,2,FALSE),\"\")","v":""},{"$f":"CONCATENATE(競技者一覧!B230)","v":""},{"$f":"IFERROR(CONCATENATE(VLOOKUP(競技者一覧!K230,種目コード一覧!$A$1:$B$51,2,FALSE),\" \",REPT(\"0\",VLOOKUP(競技者一覧!K230,種目コード一覧!$A$1:$C$51,3,FALSE)-LEN(競技者一覧!L230)),競技者一覧!L230),\"\")","v":""},{"$f":"IFERROR(CONCATENATE(VLOOKUP(競技者一覧!M230,種目コード一覧!$A$1:$C$51,2,FALSE),\" \",REPT(\"0\",VLOOKUP(競技者一覧!M230,種目コード一覧!$A$1:$C$51,3,FALSE)-LEN(競技者一覧!N230)),競技者一覧!N230),\"\")","v":""},{"$f":"IFERROR(CONCATENATE(VLOOKUP(競技者一覧!O230,種目コード一覧!$A$1:$C$51,2,FALSE),\" \",REPT(\"0\",VLOOKUP(競技者一覧!O230,種目コード一覧!$A$1:$C$51,3,FALSE)-LEN(競技者一覧!P230)),競技者一覧!P230),\"\")","v":""},{"$f":"IFERROR(CONCATENATE(VLOOKUP(競技者一覧!Q230,種目コード一覧!$A$1:$C$51,2,FALSE),\" \",REPT(\"0\",VLOOKUP(競技者一覧!Q230,種目コード一覧!$A$1:$C$51,3,FALSE)-LEN(競技者一覧!R230)),競技者一覧!R230),\"\")","v":""},{"$f":"IFERROR(CONCATENATE(VLOOKUP(競技者一覧!S230,種目コード一覧!$A$1:$C$51,2,FALSE),\" \",REPT(\"0\",VLOOKUP(競技者一覧!S230,種目コード一覧!$A$1:$C$51,3,FALSE)-LEN(競技者一覧!T230)),競技者一覧!T230),\"\")","v":""},{"$f":"IFERROR(CONCATENATE(VLOOKUP(競技者一覧!U230,種目コード一覧!$A$1:$C$51,2,FALSE),\" \",REPT(\"0\",VLOOKUP(競技者一覧!U230,種目コード一覧!$A$1:$C$51,3,FALSE)-LEN(競技者一覧!V230)),競技者一覧!V230),\"\")","v":""},{"$f":"IFERROR(CONCATENATE(VLOOKUP(競技者一覧!W230,種目コード一覧!$A$1:$C$51,2,FALSE),\" \",REPT(\"0\",VLOOKUP(競技者一覧!W230,種目コード一覧!$A$1:$C$51,3,FALSE)-LEN(競技者一覧!X230)),競技者一覧!X230),\"\")","v":""},{"$f":"IFERROR(CONCATENATE(VLOOKUP(競技者一覧!Y230,種目コード一覧!$A$1:$C$51,2,FALSE),\" \",REPT(\"0\",VLOOKUP(競技者一覧!Y230,種目コード一覧!$A$1:$C$51,3,FALSE)-LEN(競技者一覧!Z230)),競技者一覧!Z230),\"\")","v":""}]
[{"$f":"IFERROR(CONCATENATE(競技者一覧!$D$7), \"\")","v":""},{"$f":"IFERROR(CONCATENATE($H$2,Sheet4!B211),\"\")","v":""},{"$f":"競技者一覧!C231&IF(OR(競技者一覧!H231=\"\",競技者一覧!H231=9),\"\",\"(\" & 競技者一覧!H231 & \")\")","v":""},{"$f":"競技者一覧!D231 &IF(OR(MID(競技者一覧!G231,3,2)=\"\", MID(競技者一覧!G231,3,2)=\"0\"),\"\",\"(\" & MID(競技者一覧!G231,3,2) & \")\")","v":""},{"$f":"ASC(競技者一覧!E231 & \" \" & 競技者一覧!F231 & IF(OR(MID(競技者一覧!G231,3,2)=\"\", MID(競技者一覧!G231,3,2)=\"0\"),\"\",\"(\" & MID(競技者一覧!G231,3,2) & \")\"))","v":" "},{"$f":"CONCATENATE(競技者一覧!I231)","v":""},{"$f":"IFERROR(IF(競技者一覧!$D$6=\"学連\",VLOOKUP(競技者一覧!J231,Sheet4!$D$2:$E$48,2,FALSE),学校名簿!D211),\"\")","v":0},{"$f":"IFERROR(VLOOKUP(競技者一覧!$D$7,学校番号表!$B$2:$C$65536,2,FALSE),\"\")","v":""},{"$f":"CONCATENATE(競技者一覧!B231)","v":""},{"$f":"IFERROR(CONCATENATE(VLOOKUP(競技者一覧!K231,種目コード一覧!$A$1:$C$51,2,FALSE),\" \",REPT(\"0\",VLOOKUP(競技者一覧!K231,種目コード一覧!$A$1:$C$51,3,FALSE)-LEN(競技者一覧!L231)),競技者一覧!L231),\"\")","v":""},{"$f":"IFERROR(CONCATENATE(VLOOKUP(競技者一覧!M231,種目コード一覧!$A$1:$C$51,2,FALSE),\" \",REPT(\"0\",VLOOKUP(競技者一覧!M231,種目コード一覧!$A$1:$C$51,3,FALSE)-LEN(競技者一覧!N231)),競技者一覧!N231),\"\")","v":""},{"$f":"IFERROR(CONCATENATE(VLOOKUP(競技者一覧!O231,種目コード一覧!$A$1:$C$51,2,FALSE),\" \",REPT(\"0\",VLOOKUP(競技者一覧!O231,種目コード一覧!$A$1:$C$51,3,FALSE)-LEN(競技者一覧!P231)),競技者一覧!P231),\"\")","v":""},{"$f":"IFERROR(CONCATENATE(VLOOKUP(競技者一覧!Q231,種目コード一覧!$A$1:$C$51,2,FALSE),\" \",REPT(\"0\",VLOOKUP(競技者一覧!Q231,種目コード一覧!$A$1:$C$51,3,FALSE)-LEN(競技者一覧!R231)),競技者一覧!R231),\"\")","v":""},{"$f":"IFERROR(CONCATENATE(VLOOKUP(競技者一覧!S231,種目コード一覧!$A$1:$C$51,2,FALSE),\" \",REPT(\"0\",VLOOKUP(競技者一覧!S231,種目コード一覧!$A$1:$C$51,3,FALSE)-LEN(競技者一覧!T231)),競技者一覧!T231),\"\")","v":""},{"$f":"IFERROR(CONCATENATE(VLOOKUP(競技者一覧!U231,種目コード一覧!$A$1:$C$51,2,FALSE),\" \",REPT(\"0\",VLOOKUP(競技者一覧!U231,種目コード一覧!$A$1:$C$51,3,FALSE)-LEN(競技者一覧!V231)),競技者一覧!V231),\"\")","v":""},{"$f":"IFERROR(CONCATENATE(VLOOKUP(競技者一覧!W231,種目コード一覧!$A$1:$C$51,2,FALSE),\" \",REPT(\"0\",VLOOKUP(競技者一覧!W231,種目コード一覧!$A$1:$C$51,3,FALSE)-LEN(競技者一覧!X231)),競技者一覧!X231),\"\")","v":""},{"$f":"IFERROR(CONCATENATE(VLOOKUP(競技者一覧!Y231,種目コード一覧!$A$1:$C$51,2,FALSE),\" \",REPT(\"0\",VLOOKUP(競技者一覧!Y231,種目コード一覧!$A$1:$C$51,3,FALSE)-LEN(競技者一覧!Z231)),競技者一覧!Z231),\"\")","v":""}]
[{"$f":"IFERROR(CONCATENATE(競技者一覧!$D$7), \"\")","v":""},{"$f":"IFERROR(CONCATENATE($H$2,Sheet4!B212),\"\")","v":""},{"$f":"競技者一覧!C232&IF(OR(競技者一覧!H232=\"\",競技者一覧!H232=9),\"\",\"(\" & 競技者一覧!H232 & \")\")","v":""},{"$f":"ASC(競技者一覧!D232 &IF(OR(MID(競技者一覧!G232,3,2)=\"\", MID(競技者一覧!G232,3,2)=\"0\"),\"\",\"(\" & MID(競技者一覧!G232,3,2) & \")\"))","v":""},{"$f":"ASC(競技者一覧!E232 & \" \" & 競技者一覧!F232 & IF(OR(MID(競技者一覧!G232,3,2)=\"\", MID(競技者一覧!G232,3,2)=\"0\"),\"\",\"(\" & MID(競技者一覧!G232,3,2) & \")\"))","v":" "},{"$f":"CONCATENATE(競技者一覧!I232)","v":""},{"$f":"IFERROR(IF(競技者一覧!$D$6=\"学連\",VLOOKUP(競技者一覧!J232,Sheet4!$D$2:$E$48,2,FALSE),学校名簿!D212),\"\")","v":0},{"$f":"IFERROR(VLOOKUP(競技者一覧!$D$7,学校番号表!$B$2:$C$65536,2,FALSE),\"\")","v":""},{"$f":"CONCATENATE(競技者一覧!B232)","v":""},{"$f":"IFERROR(CONCATENATE(VLOOKUP(競技者一覧!K232,種目コード一覧!$A$1:$B$51,2,FALSE),\" \",REPT(\"0\",VLOOKUP(競技者一覧!K232,種目コード一覧!$A$1:$C$51,3,FALSE)-LEN(競技者一覧!L232)),競技者一覧!L232),\"\")","v":""},{"$f":"IFERROR(CONCATENATE(VLOOKUP(競技者一覧!M232,種目コード一覧!$A$1:$C$51,2,FALSE),\" \",REPT(\"0\",VLOOKUP(競技者一覧!M232,種目コード一覧!$A$1:$C$51,3,FALSE)-LEN(競技者一覧!N232)),競技者一覧!N232),\"\")","v":""},{"$f":"IFERROR(CONCATENATE(VLOOKUP(競技者一覧!O232,種目コード一覧!$A$1:$C$51,2,FALSE),\" \",REPT(\"0\",VLOOKUP(競技者一覧!O232,種目コード一覧!$A$1:$C$51,3,FALSE)-LEN(競技者一覧!P232)),競技者一覧!P232),\"\")","v":""},{"$f":"IFERROR(CONCATENATE(VLOOKUP(競技者一覧!Q232,種目コード一覧!$A$1:$C$51,2,FALSE),\" \",REPT(\"0\",VLOOKUP(競技者一覧!Q232,種目コード一覧!$A$1:$C$51,3,FALSE)-LEN(競技者一覧!R232)),競技者一覧!R232),\"\")","v":""},{"$f":"IFERROR(CONCATENATE(VLOOKUP(競技者一覧!S232,種目コード一覧!$A$1:$C$51,2,FALSE),\" \",REPT(\"0\",VLOOKUP(競技者一覧!S232,種目コード一覧!$A$1:$C$51,3,FALSE)-LEN(競技者一覧!T232)),競技者一覧!T232),\"\")","v":""},{"$f":"IFERROR(CONCATENATE(VLOOKUP(競技者一覧!U232,種目コード一覧!$A$1:$C$51,2,FALSE),\" \",REPT(\"0\",VLOOKUP(競技者一覧!U232,種目コード一覧!$A$1:$C$51,3,FALSE)-LEN(競技者一覧!V232)),競技者一覧!V232),\"\")","v":""},{"$f":"IFERROR(CONCATENATE(VLOOKUP(競技者一覧!W232,種目コード一覧!$A$1:$C$51,2,FALSE),\" \",REPT(\"0\",VLOOKUP(競技者一覧!W232,種目コード一覧!$A$1:$C$51,3,FALSE)-LEN(競技者一覧!X232)),競技者一覧!X232),\"\")","v":""},{"$f":"IFERROR(CONCATENATE(VLOOKUP(競技者一覧!Y232,種目コード一覧!$A$1:$C$51,2,FALSE),\" \",REPT(\"0\",VLOOKUP(競技者一覧!Y232,種目コード一覧!$A$1:$C$51,3,FALSE)-LEN(競技者一覧!Z232)),競技者一覧!Z232),\"\")","v":""}]
[{"$f":"IFERROR(CONCATENATE(競技者一覧!$D$7), \"\")","v":""},{"$f":"IFERROR(CONCATENATE($H$2,Sheet4!B213),\"\")","v":""},{"$f":"競技者一覧!C233&IF(OR(競技者一覧!H233=\"\",競技者一覧!H233=9),\"\",\"(\" & 競技者一覧!H233 & \")\")","v":""},{"$f":"競技者一覧!D233 &IF(OR(MID(競技者一覧!G233,3,2)=\"\", MID(競技者一覧!G233,3,2)=\"0\"),\"\",\"(\" & MID(競技者一覧!G233,3,2) & \")\")","v":""},{"$f":"ASC(競技者一覧!E233 & \" \" & 競技者一覧!F233 & IF(OR(MID(競技者一覧!G233,3,2)=\"\", MID(競技者一覧!G233,3,2)=\"0\"),\"\",\"(\" & MID(競技者一覧!G233,3,2) & \")\"))","v":" "},{"$f":"CONCATENATE(競技者一覧!I233)","v":""},{"$f":"IFERROR(IF(競技者一覧!$D$6=\"学連\",VLOOKUP(競技者一覧!J233,Sheet4!$D$2:$E$48,2,FALSE),学校名簿!D213),\"\")","v":0},{"$f":"IFERROR(VLOOKUP(競技者一覧!$D$7,学校番号表!$B$2:$C$65536,2,FALSE),\"\")","v":""},{"$f":"CONCATENATE(競技者一覧!B233)","v":""},{"$f":"IFERROR(CONCATENATE(VLOOKUP(競技者一覧!K233,種目コード一覧!$A$1:$C$51,2,FALSE),\" \",REPT(\"0\",VLOOKUP(競技者一覧!K233,種目コード一覧!$A$1:$C$51,3,FALSE)-LEN(競技者一覧!L233)),競技者一覧!L233),\"\")","v":""},{"$f":"IFERROR(CONCATENATE(VLOOKUP(競技者一覧!M233,種目コード一覧!$A$1:$C$51,2,FALSE),\" \",REPT(\"0\",VLOOKUP(競技者一覧!M233,種目コード一覧!$A$1:$C$51,3,FALSE)-LEN(競技者一覧!N233)),競技者一覧!N233),\"\")","v":""},{"$f":"IFERROR(CONCATENATE(VLOOKUP(競技者一覧!O233,種目コード一覧!$A$1:$C$51,2,FALSE),\" \",REPT(\"0\",VLOOKUP(競技者一覧!O233,種目コード一覧!$A$1:$C$51,3,FALSE)-LEN(競技者一覧!P233)),競技者一覧!P233),\"\")","v":""},{"$f":"IFERROR(CONCATENATE(VLOOKUP(競技者一覧!Q233,種目コード一覧!$A$1:$C$51,2,FALSE),\" \",REPT(\"0\",VLOOKUP(競技者一覧!Q233,種目コード一覧!$A$1:$C$51,3,FALSE)-LEN(競技者一覧!R233)),競技者一覧!R233),\"\")","v":""},{"$f":"IFERROR(CONCATENATE(VLOOKUP(競技者一覧!S233,種目コード一覧!$A$1:$C$51,2,FALSE),\" \",REPT(\"0\",VLOOKUP(競技者一覧!S233,種目コード一覧!$A$1:$C$51,3,FALSE)-LEN(競技者一覧!T233)),競技者一覧!T233),\"\")","v":""},{"$f":"IFERROR(CONCATENATE(VLOOKUP(競技者一覧!U233,種目コード一覧!$A$1:$C$51,2,FALSE),\" \",REPT(\"0\",VLOOKUP(競技者一覧!U233,種目コード一覧!$A$1:$C$51,3,FALSE)-LEN(競技者一覧!V233)),競技者一覧!V233),\"\")","v":""},{"$f":"IFERROR(CONCATENATE(VLOOKUP(競技者一覧!W233,種目コード一覧!$A$1:$C$51,2,FALSE),\" \",REPT(\"0\",VLOOKUP(競技者一覧!W233,種目コード一覧!$A$1:$C$51,3,FALSE)-LEN(競技者一覧!X233)),競技者一覧!X233),\"\")","v":""},{"$f":"IFERROR(CONCATENATE(VLOOKUP(競技者一覧!Y233,種目コード一覧!$A$1:$C$51,2,FALSE),\" \",REPT(\"0\",VLOOKUP(競技者一覧!Y233,種目コード一覧!$A$1:$C$51,3,FALSE)-LEN(競技者一覧!Z233)),競技者一覧!Z233),\"\")","v":""}]
[{"$f":"IFERROR(CONCATENATE(競技者一覧!$D$7), \"\")","v":""},{"$f":"IFERROR(CONCATENATE($H$2,Sheet4!B214),\"\")","v":""},{"$f":"競技者一覧!C234&IF(OR(競技者一覧!H234=\"\",競技者一覧!H234=9),\"\",\"(\" & 競技者一覧!H234 & \")\")","v":""},{"$f":"ASC(競技者一覧!D234 &IF(OR(MID(競技者一覧!G234,3,2)=\"\", MID(競技者一覧!G234,3,2)=\"0\"),\"\",\"(\" & MID(競技者一覧!G234,3,2) & \")\"))","v":""},{"$f":"ASC(競技者一覧!E234 & \" \" & 競技者一覧!F234 & IF(OR(MID(競技者一覧!G234,3,2)=\"\", MID(競技者一覧!G234,3,2)=\"0\"),\"\",\"(\" & MID(競技者一覧!G234,3,2) & \")\"))","v":" "},{"$f":"CONCATENATE(競技者一覧!I234)","v":""},{"$f":"IFERROR(IF(競技者一覧!$D$6=\"学連\",VLOOKUP(競技者一覧!J234,Sheet4!$D$2:$E$48,2,FALSE),学校名簿!D214),\"\")","v":0},{"$f":"IFERROR(VLOOKUP(競技者一覧!$D$7,学校番号表!$B$2:$C$65536,2,FALSE),\"\")","v":""},{"$f":"CONCATENATE(競技者一覧!B234)","v":""},{"$f":"IFERROR(CONCATENATE(VLOOKUP(競技者一覧!K234,種目コード一覧!$A$1:$B$51,2,FALSE),\" \",REPT(\"0\",VLOOKUP(競技者一覧!K234,種目コード一覧!$A$1:$C$51,3,FALSE)-LEN(競技者一覧!L234)),競技者一覧!L234),\"\")","v":""},{"$f":"IFERROR(CONCATENATE(VLOOKUP(競技者一覧!M234,種目コード一覧!$A$1:$C$51,2,FALSE),\" \",REPT(\"0\",VLOOKUP(競技者一覧!M234,種目コード一覧!$A$1:$C$51,3,FALSE)-LEN(競技者一覧!N234)),競技者一覧!N234),\"\")","v":""},{"$f":"IFERROR(CONCATENATE(VLOOKUP(競技者一覧!O234,種目コード一覧!$A$1:$C$51,2,FALSE),\" \",REPT(\"0\",VLOOKUP(競技者一覧!O234,種目コード一覧!$A$1:$C$51,3,FALSE)-LEN(競技者一覧!P234)),競技者一覧!P234),\"\")","v":""},{"$f":"IFERROR(CONCATENATE(VLOOKUP(競技者一覧!Q234,種目コード一覧!$A$1:$C$51,2,FALSE),\" \",REPT(\"0\",VLOOKUP(競技者一覧!Q234,種目コード一覧!$A$1:$C$51,3,FALSE)-LEN(競技者一覧!R234)),競技者一覧!R234),\"\")","v":""},{"$f":"IFERROR(CONCATENATE(VLOOKUP(競技者一覧!S234,種目コード一覧!$A$1:$C$51,2,FALSE),\" \",REPT(\"0\",VLOOKUP(競技者一覧!S234,種目コード一覧!$A$1:$C$51,3,FALSE)-LEN(競技者一覧!T234)),競技者一覧!T234),\"\")","v":""},{"$f":"IFERROR(CONCATENATE(VLOOKUP(競技者一覧!U234,種目コード一覧!$A$1:$C$51,2,FALSE),\" \",REPT(\"0\",VLOOKUP(競技者一覧!U234,種目コード一覧!$A$1:$C$51,3,FALSE)-LEN(競技者一覧!V234)),競技者一覧!V234),\"\")","v":""},{"$f":"IFERROR(CONCATENATE(VLOOKUP(競技者一覧!W234,種目コード一覧!$A$1:$C$51,2,FALSE),\" \",REPT(\"0\",VLOOKUP(競技者一覧!W234,種目コード一覧!$A$1:$C$51,3,FALSE)-LEN(競技者一覧!X234)),競技者一覧!X234),\"\")","v":""},{"$f":"IFERROR(CONCATENATE(VLOOKUP(競技者一覧!Y234,種目コード一覧!$A$1:$C$51,2,FALSE),\" \",REPT(\"0\",VLOOKUP(競技者一覧!Y234,種目コード一覧!$A$1:$C$51,3,FALSE)-LEN(競技者一覧!Z234)),競技者一覧!Z234),\"\")","v":""}]
[{"$f":"IFERROR(CONCATENATE(競技者一覧!$D$7), \"\")","v":""},{"$f":"IFERROR(CONCATENATE($H$2,Sheet4!B215),\"\")","v":""},{"$f":"競技者一覧!C235&IF(OR(競技者一覧!H235=\"\",競技者一覧!H235=9),\"\",\"(\" & 競技者一覧!H235 & \")\")","v":""},{"$f":"競技者一覧!D235 &IF(OR(MID(競技者一覧!G235,3,2)=\"\", MID(競技者一覧!G235,3,2)=\"0\"),\"\",\"(\" & MID(競技者一覧!G235,3,2) & \")\")","v":""},{"$f":"ASC(競技者一覧!E235 & \" \" & 競技者一覧!F235 & IF(OR(MID(競技者一覧!G235,3,2)=\"\", MID(競技者一覧!G235,3,2)=\"0\"),\"\",\"(\" & MID(競技者一覧!G235,3,2) & \")\"))","v":" "},{"$f":"CONCATENATE(競技者一覧!I235)","v":""},{"$f":"IFERROR(IF(競技者一覧!$D$6=\"学連\",VLOOKUP(競技者一覧!J235,Sheet4!$D$2:$E$48,2,FALSE),学校名簿!D215),\"\")","v":0},{"$f":"IFERROR(VLOOKUP(競技者一覧!$D$7,学校番号表!$B$2:$C$65536,2,FALSE),\"\")","v":""},{"$f":"CONCATENATE(競技者一覧!B235)","v":""},{"$f":"IFERROR(CONCATENATE(VLOOKUP(競技者一覧!K235,種目コード一覧!$A$1:$C$51,2,FALSE),\" \",REPT(\"0\",VLOOKUP(競技者一覧!K235,種目コード一覧!$A$1:$C$51,3,FALSE)-LEN(競技者一覧!L235)),競技者一覧!L235),\"\")","v":""},{"$f":"IFERROR(CONCATENATE(VLOOKUP(競技者一覧!M235,種目コード一覧!$A$1:$C$51,2,FALSE),\" \",REPT(\"0\",VLOOKUP(競技者一覧!M235,種目コード一覧!$A$1:$C$51,3,FALSE)-LEN(競技者一覧!N235)),競技者一覧!N235),\"\")","v":""},{"$f":"IFERROR(CONCATENATE(VLOOKUP(競技者一覧!O235,種目コード一覧!$A$1:$C$51,2,FALSE),\" \",REPT(\"0\",VLOOKUP(競技者一覧!O235,種目コード一覧!$A$1:$C$51,3,FALSE)-LEN(競技者一覧!P235)),競技者一覧!P235),\"\")","v":""},{"$f":"IFERROR(CONCATENATE(VLOOKUP(競技者一覧!Q235,種目コード一覧!$A$1:$C$51,2,FALSE),\" \",REPT(\"0\",VLOOKUP(競技者一覧!Q235,種目コード一覧!$A$1:$C$51,3,FALSE)-LEN(競技者一覧!R235)),競技者一覧!R235),\"\")","v":""},{"$f":"IFERROR(CONCATENATE(VLOOKUP(競技者一覧!S235,種目コード一覧!$A$1:$C$51,2,FALSE),\" \",REPT(\"0\",VLOOKUP(競技者一覧!S235,種目コード一覧!$A$1:$C$51,3,FALSE)-LEN(競技者一覧!T235)),競技者一覧!T235),\"\")","v":""},{"$f":"IFERROR(CONCATENATE(VLOOKUP(競技者一覧!U235,種目コード一覧!$A$1:$C$51,2,FALSE),\" \",REPT(\"0\",VLOOKUP(競技者一覧!U235,種目コード一覧!$A$1:$C$51,3,FALSE)-LEN(競技者一覧!V235)),競技者一覧!V235),\"\")","v":""},{"$f":"IFERROR(CONCATENATE(VLOOKUP(競技者一覧!W235,種目コード一覧!$A$1:$C$51,2,FALSE),\" \",REPT(\"0\",VLOOKUP(競技者一覧!W235,種目コード一覧!$A$1:$C$51,3,FALSE)-LEN(競技者一覧!X235)),競技者一覧!X235),\"\")","v":""},{"$f":"IFERROR(CONCATENATE(VLOOKUP(競技者一覧!Y235,種目コード一覧!$A$1:$C$51,2,FALSE),\" \",REPT(\"0\",VLOOKUP(競技者一覧!Y235,種目コード一覧!$A$1:$C$51,3,FALSE)-LEN(競技者一覧!Z235)),競技者一覧!Z235),\"\")","v":""}]
[{"$f":"IFERROR(CONCATENATE(競技者一覧!$D$7), \"\")","v":""},{"$f":"IFERROR(CONCATENATE($H$2,Sheet4!B216),\"\")","v":""},{"$f":"競技者一覧!C236&IF(OR(競技者一覧!H236=\"\",競技者一覧!H236=9),\"\",\"(\" & 競技者一覧!H236 & \")\")","v":""},{"$f":"ASC(競技者一覧!D236 &IF(OR(MID(競技者一覧!G236,3,2)=\"\", MID(競技者一覧!G236,3,2)=\"0\"),\"\",\"(\" & MID(競技者一覧!G236,3,2) & \")\"))","v":""},{"$f":"ASC(競技者一覧!E236 & \" \" & 競技者一覧!F236 & IF(OR(MID(競技者一覧!G236,3,2)=\"\", MID(競技者一覧!G236,3,2)=\"0\"),\"\",\"(\" & MID(競技者一覧!G236,3,2) & \")\"))","v":" "},{"$f":"CONCATENATE(競技者一覧!I236)","v":""},{"$f":"IFERROR(IF(競技者一覧!$D$6=\"学連\",VLOOKUP(競技者一覧!J236,Sheet4!$D$2:$E$48,2,FALSE),学校名簿!D216),\"\")","v":0},{"$f":"IFERROR(VLOOKUP(競技者一覧!$D$7,学校番号表!$B$2:$C$65536,2,FALSE),\"\")","v":""},{"$f":"CONCATENATE(競技者一覧!B236)","v":""},{"$f":"IFERROR(CONCATENATE(VLOOKUP(競技者一覧!K236,種目コード一覧!$A$1:$B$51,2,FALSE),\" \",REPT(\"0\",VLOOKUP(競技者一覧!K236,種目コード一覧!$A$1:$C$51,3,FALSE)-LEN(競技者一覧!L236)),競技者一覧!L236),\"\")","v":""},{"$f":"IFERROR(CONCATENATE(VLOOKUP(競技者一覧!M236,種目コード一覧!$A$1:$C$51,2,FALSE),\" \",REPT(\"0\",VLOOKUP(競技者一覧!M236,種目コード一覧!$A$1:$C$51,3,FALSE)-LEN(競技者一覧!N236)),競技者一覧!N236),\"\")","v":""},{"$f":"IFERROR(CONCATENATE(VLOOKUP(競技者一覧!O236,種目コード一覧!$A$1:$C$51,2,FALSE),\" \",REPT(\"0\",VLOOKUP(競技者一覧!O236,種目コード一覧!$A$1:$C$51,3,FALSE)-LEN(競技者一覧!P236)),競技者一覧!P236),\"\")","v":""},{"$f":"IFERROR(CONCATENATE(VLOOKUP(競技者一覧!Q236,種目コード一覧!$A$1:$C$51,2,FALSE),\" \",REPT(\"0\",VLOOKUP(競技者一覧!Q236,種目コード一覧!$A$1:$C$51,3,FALSE)-LEN(競技者一覧!R236)),競技者一覧!R236),\"\")","v":""},{"$f":"IFERROR(CONCATENATE(VLOOKUP(競技者一覧!S236,種目コード一覧!$A$1:$C$51,2,FALSE),\" \",REPT(\"0\",VLOOKUP(競技者一覧!S236,種目コード一覧!$A$1:$C$51,3,FALSE)-LEN(競技者一覧!T236)),競技者一覧!T236),\"\")","v":""},{"$f":"IFERROR(CONCATENATE(VLOOKUP(競技者一覧!U236,種目コード一覧!$A$1:$C$51,2,FALSE),\" \",REPT(\"0\",VLOOKUP(競技者一覧!U236,種目コード一覧!$A$1:$C$51,3,FALSE)-LEN(競技者一覧!V236)),競技者一覧!V236),\"\")","v":""},{"$f":"IFERROR(CONCATENATE(VLOOKUP(競技者一覧!W236,種目コード一覧!$A$1:$C$51,2,FALSE),\" \",REPT(\"0\",VLOOKUP(競技者一覧!W236,種目コード一覧!$A$1:$C$51,3,FALSE)-LEN(競技者一覧!X236)),競技者一覧!X236),\"\")","v":""},{"$f":"IFERROR(CONCATENATE(VLOOKUP(競技者一覧!Y236,種目コード一覧!$A$1:$C$51,2,FALSE),\" \",REPT(\"0\",VLOOKUP(競技者一覧!Y236,種目コード一覧!$A$1:$C$51,3,FALSE)-LEN(競技者一覧!Z236)),競技者一覧!Z236),\"\")","v":""}]
[{"$f":"IFERROR(CONCATENATE(競技者一覧!$D$7), \"\")","v":""},{"$f":"IFERROR(CONCATENATE($H$2,Sheet4!B217),\"\")","v":""},{"$f":"競技者一覧!C237&IF(OR(競技者一覧!H237=\"\",競技者一覧!H237=9),\"\",\"(\" & 競技者一覧!H237 & \")\")","v":""},{"$f":"競技者一覧!D237 &IF(OR(MID(競技者一覧!G237,3,2)=\"\", MID(競技者一覧!G237,3,2)=\"0\"),\"\",\"(\" & MID(競技者一覧!G237,3,2) & \")\")","v":""},{"$f":"ASC(競技者一覧!E237 & \" \" & 競技者一覧!F237 & IF(OR(MID(競技者一覧!G237,3,2)=\"\", MID(競技者一覧!G237,3,2)=\"0\"),\"\",\"(\" & MID(競技者一覧!G237,3,2) & \")\"))","v":" "},{"$f":"CONCATENATE(競技者一覧!I237)","v":""},{"$f":"IFERROR(IF(競技者一覧!$D$6=\"学連\",VLOOKUP(競技者一覧!J237,Sheet4!$D$2:$E$48,2,FALSE),学校名簿!D217),\"\")","v":0},{"$f":"IFERROR(VLOOKUP(競技者一覧!$D$7,学校番号表!$B$2:$C$65536,2,FALSE),\"\")","v":""},{"$f":"CONCATENATE(競技者一覧!B237)","v":""},{"$f":"IFERROR(CONCATENATE(VLOOKUP(競技者一覧!K237,種目コード一覧!$A$1:$C$51,2,FALSE),\" \",REPT(\"0\",VLOOKUP(競技者一覧!K237,種目コード一覧!$A$1:$C$51,3,FALSE)-LEN(競技者一覧!L237)),競技者一覧!L237),\"\")","v":""},{"$f":"IFERROR(CONCATENATE(VLOOKUP(競技者一覧!M237,種目コード一覧!$A$1:$C$51,2,FALSE),\" \",REPT(\"0\",VLOOKUP(競技者一覧!M237,種目コード一覧!$A$1:$C$51,3,FALSE)-LEN(競技者一覧!N237)),競技者一覧!N237),\"\")","v":""},{"$f":"IFERROR(CONCATENATE(VLOOKUP(競技者一覧!O237,種目コード一覧!$A$1:$C$51,2,FALSE),\" \",REPT(\"0\",VLOOKUP(競技者一覧!O237,種目コード一覧!$A$1:$C$51,3,FALSE)-LEN(競技者一覧!P237)),競技者一覧!P237),\"\")","v":""},{"$f":"IFERROR(CONCATENATE(VLOOKUP(競技者一覧!Q237,種目コード一覧!$A$1:$C$51,2,FALSE),\" \",REPT(\"0\",VLOOKUP(競技者一覧!Q237,種目コード一覧!$A$1:$C$51,3,FALSE)-LEN(競技者一覧!R237)),競技者一覧!R237),\"\")","v":""},{"$f":"IFERROR(CONCATENATE(VLOOKUP(競技者一覧!S237,種目コード一覧!$A$1:$C$51,2,FALSE),\" \",REPT(\"0\",VLOOKUP(競技者一覧!S237,種目コード一覧!$A$1:$C$51,3,FALSE)-LEN(競技者一覧!T237)),競技者一覧!T237),\"\")","v":""},{"$f":"IFERROR(CONCATENATE(VLOOKUP(競技者一覧!U237,種目コード一覧!$A$1:$C$51,2,FALSE),\" \",REPT(\"0\",VLOOKUP(競技者一覧!U237,種目コード一覧!$A$1:$C$51,3,FALSE)-LEN(競技者一覧!V237)),競技者一覧!V237),\"\")","v":""},{"$f":"IFERROR(CONCATENATE(VLOOKUP(競技者一覧!W237,種目コード一覧!$A$1:$C$51,2,FALSE),\" \",REPT(\"0\",VLOOKUP(競技者一覧!W237,種目コード一覧!$A$1:$C$51,3,FALSE)-LEN(競技者一覧!X237)),競技者一覧!X237),\"\")","v":""},{"$f":"IFERROR(CONCATENATE(VLOOKUP(競技者一覧!Y237,種目コード一覧!$A$1:$C$51,2,FALSE),\" \",REPT(\"0\",VLOOKUP(競技者一覧!Y237,種目コード一覧!$A$1:$C$51,3,FALSE)-LEN(競技者一覧!Z237)),競技者一覧!Z237),\"\")","v":""}]
[{"$f":"IFERROR(CONCATENATE(競技者一覧!$D$7), \"\")","v":""},{"$f":"IFERROR(CONCATENATE($H$2,Sheet4!B218),\"\")","v":""},{"$f":"競技者一覧!C238&IF(OR(競技者一覧!H238=\"\",競技者一覧!H238=9),\"\",\"(\" & 競技者一覧!H238 & \")\")","v":""},{"$f":"ASC(競技者一覧!D238 &IF(OR(MID(競技者一覧!G238,3,2)=\"\", MID(競技者一覧!G238,3,2)=\"0\"),\"\",\"(\" & MID(競技者一覧!G238,3,2) & \")\"))","v":""},{"$f":"ASC(競技者一覧!E238 & \" \" & 競技者一覧!F238 & IF(OR(MID(競技者一覧!G238,3,2)=\"\", MID(競技者一覧!G238,3,2)=\"0\"),\"\",\"(\" & MID(競技者一覧!G238,3,2) & \")\"))","v":" "},{"$f":"CONCATENATE(競技者一覧!I238)","v":""},{"$f":"IFERROR(IF(競技者一覧!$D$6=\"学連\",VLOOKUP(競技者一覧!J238,Sheet4!$D$2:$E$48,2,FALSE),学校名簿!D218),\"\")","v":0},{"$f":"IFERROR(VLOOKUP(競技者一覧!$D$7,学校番号表!$B$2:$C$65536,2,FALSE),\"\")","v":""},{"$f":"CONCATENATE(競技者一覧!B238)","v":""},{"$f":"IFERROR(CONCATENATE(VLOOKUP(競技者一覧!K238,種目コード一覧!$A$1:$B$51,2,FALSE),\" \",REPT(\"0\",VLOOKUP(競技者一覧!K238,種目コード一覧!$A$1:$C$51,3,FALSE)-LEN(競技者一覧!L238)),競技者一覧!L238),\"\")","v":""},{"$f":"IFERROR(CONCATENATE(VLOOKUP(競技者一覧!M238,種目コード一覧!$A$1:$C$51,2,FALSE),\" \",REPT(\"0\",VLOOKUP(競技者一覧!M238,種目コード一覧!$A$1:$C$51,3,FALSE)-LEN(競技者一覧!N238)),競技者一覧!N238),\"\")","v":""},{"$f":"IFERROR(CONCATENATE(VLOOKUP(競技者一覧!O238,種目コード一覧!$A$1:$C$51,2,FALSE),\" \",REPT(\"0\",VLOOKUP(競技者一覧!O238,種目コード一覧!$A$1:$C$51,3,FALSE)-LEN(競技者一覧!P238)),競技者一覧!P238),\"\")","v":""},{"$f":"IFERROR(CONCATENATE(VLOOKUP(競技者一覧!Q238,種目コード一覧!$A$1:$C$51,2,FALSE),\" \",REPT(\"0\",VLOOKUP(競技者一覧!Q238,種目コード一覧!$A$1:$C$51,3,FALSE)-LEN(競技者一覧!R238)),競技者一覧!R238),\"\")","v":""},{"$f":"IFERROR(CONCATENATE(VLOOKUP(競技者一覧!S238,種目コード一覧!$A$1:$C$51,2,FALSE),\" \",REPT(\"0\",VLOOKUP(競技者一覧!S238,種目コード一覧!$A$1:$C$51,3,FALSE)-LEN(競技者一覧!T238)),競技者一覧!T238),\"\")","v":""},{"$f":"IFERROR(CONCATENATE(VLOOKUP(競技者一覧!U238,種目コード一覧!$A$1:$C$51,2,FALSE),\" \",REPT(\"0\",VLOOKUP(競技者一覧!U238,種目コード一覧!$A$1:$C$51,3,FALSE)-LEN(競技者一覧!V238)),競技者一覧!V238),\"\")","v":""},{"$f":"IFERROR(CONCATENATE(VLOOKUP(競技者一覧!W238,種目コード一覧!$A$1:$C$51,2,FALSE),\" \",REPT(\"0\",VLOOKUP(競技者一覧!W238,種目コード一覧!$A$1:$C$51,3,FALSE)-LEN(競技者一覧!X238)),競技者一覧!X238),\"\")","v":""},{"$f":"IFERROR(CONCATENATE(VLOOKUP(競技者一覧!Y238,種目コード一覧!$A$1:$C$51,2,FALSE),\" \",REPT(\"0\",VLOOKUP(競技者一覧!Y238,種目コード一覧!$A$1:$C$51,3,FALSE)-LEN(競技者一覧!Z238)),競技者一覧!Z238),\"\")","v":""}]
[{"$f":"IFERROR(CONCATENATE(競技者一覧!$D$7), \"\")","v":""},{"$f":"IFERROR(CONCATENATE($H$2,Sheet4!B219),\"\")","v":""},{"$f":"競技者一覧!C239&IF(OR(競技者一覧!H239=\"\",競技者一覧!H239=9),\"\",\"(\" & 競技者一覧!H239 & \")\")","v":""},{"$f":"競技者一覧!D239 &IF(OR(MID(競技者一覧!G239,3,2)=\"\", MID(競技者一覧!G239,3,2)=\"0\"),\"\",\"(\" & MID(競技者一覧!G239,3,2) & \")\")","v":""},{"$f":"ASC(競技者一覧!E239 & \" \" & 競技者一覧!F239 & IF(OR(MID(競技者一覧!G239,3,2)=\"\", MID(競技者一覧!G239,3,2)=\"0\"),\"\",\"(\" & MID(競技者一覧!G239,3,2) & \")\"))","v":" "},{"$f":"CONCATENATE(競技者一覧!I239)","v":""},{"$f":"IFERROR(IF(競技者一覧!$D$6=\"学連\",VLOOKUP(競技者一覧!J239,Sheet4!$D$2:$E$48,2,FALSE),学校名簿!D219),\"\")","v":0},{"$f":"IFERROR(VLOOKUP(競技者一覧!$D$7,学校番号表!$B$2:$C$65536,2,FALSE),\"\")","v":""},{"$f":"CONCATENATE(競技者一覧!B239)","v":""},{"$f":"IFERROR(CONCATENATE(VLOOKUP(競技者一覧!K239,種目コード一覧!$A$1:$C$51,2,FALSE),\" \",REPT(\"0\",VLOOKUP(競技者一覧!K239,種目コード一覧!$A$1:$C$51,3,FALSE)-LEN(競技者一覧!L239)),競技者一覧!L239),\"\")","v":""},{"$f":"IFERROR(CONCATENATE(VLOOKUP(競技者一覧!M239,種目コード一覧!$A$1:$C$51,2,FALSE),\" \",REPT(\"0\",VLOOKUP(競技者一覧!M239,種目コード一覧!$A$1:$C$51,3,FALSE)-LEN(競技者一覧!N239)),競技者一覧!N239),\"\")","v":""},{"$f":"IFERROR(CONCATENATE(VLOOKUP(競技者一覧!O239,種目コード一覧!$A$1:$C$51,2,FALSE),\" \",REPT(\"0\",VLOOKUP(競技者一覧!O239,種目コード一覧!$A$1:$C$51,3,FALSE)-LEN(競技者一覧!P239)),競技者一覧!P239),\"\")","v":""},{"$f":"IFERROR(CONCATENATE(VLOOKUP(競技者一覧!Q239,種目コード一覧!$A$1:$C$51,2,FALSE),\" \",REPT(\"0\",VLOOKUP(競技者一覧!Q239,種目コード一覧!$A$1:$C$51,3,FALSE)-LEN(競技者一覧!R239)),競技者一覧!R239),\"\")","v":""},{"$f":"IFERROR(CONCATENATE(VLOOKUP(競技者一覧!S239,種目コード一覧!$A$1:$C$51,2,FALSE),\" \",REPT(\"0\",VLOOKUP(競技者一覧!S239,種目コード一覧!$A$1:$C$51,3,FALSE)-LEN(競技者一覧!T239)),競技者一覧!T239),\"\")","v":""},{"$f":"IFERROR(CONCATENATE(VLOOKUP(競技者一覧!U239,種目コード一覧!$A$1:$C$51,2,FALSE),\" \",REPT(\"0\",VLOOKUP(競技者一覧!U239,種目コード一覧!$A$1:$C$51,3,FALSE)-LEN(競技者一覧!V239)),競技者一覧!V239),\"\")","v":""},{"$f":"IFERROR(CONCATENATE(VLOOKUP(競技者一覧!W239,種目コード一覧!$A$1:$C$51,2,FALSE),\" \",REPT(\"0\",VLOOKUP(競技者一覧!W239,種目コード一覧!$A$1:$C$51,3,FALSE)-LEN(競技者一覧!X239)),競技者一覧!X239),\"\")","v":""},{"$f":"IFERROR(CONCATENATE(VLOOKUP(競技者一覧!Y239,種目コード一覧!$A$1:$C$51,2,FALSE),\" \",REPT(\"0\",VLOOKUP(競技者一覧!Y239,種目コード一覧!$A$1:$C$51,3,FALSE)-LEN(競技者一覧!Z239)),競技者一覧!Z239),\"\")","v":""}]
[{"$f":"IFERROR(CONCATENATE(競技者一覧!$D$7), \"\")","v":""},{"$f":"IFERROR(CONCATENATE($H$2,Sheet4!B220),\"\")","v":""},{"$f":"競技者一覧!C240&IF(OR(競技者一覧!H240=\"\",競技者一覧!H240=9),\"\",\"(\" & 競技者一覧!H240 & \")\")","v":""},{"$f":"ASC(競技者一覧!D240 &IF(OR(MID(競技者一覧!G240,3,2)=\"\", MID(競技者一覧!G240,3,2)=\"0\"),\"\",\"(\" & MID(競技者一覧!G240,3,2) & \")\"))","v":""},{"$f":"ASC(競技者一覧!E240 & \" \" & 競技者一覧!F240 & IF(OR(MID(競技者一覧!G240,3,2)=\"\", MID(競技者一覧!G240,3,2)=\"0\"),\"\",\"(\" & MID(競技者一覧!G240,3,2) & \")\"))","v":" "},{"$f":"CONCATENATE(競技者一覧!I240)","v":""},{"$f":"IFERROR(IF(競技者一覧!$D$6=\"学連\",VLOOKUP(競技者一覧!J240,Sheet4!$D$2:$E$48,2,FALSE),学校名簿!D220),\"\")","v":0},{"$f":"IFERROR(VLOOKUP(競技者一覧!$D$7,学校番号表!$B$2:$C$65536,2,FALSE),\"\")","v":""},{"$f":"CONCATENATE(競技者一覧!B240)","v":""},{"$f":"IFERROR(CONCATENATE(VLOOKUP(競技者一覧!K240,種目コード一覧!$A$1:$B$51,2,FALSE),\" \",REPT(\"0\",VLOOKUP(競技者一覧!K240,種目コード一覧!$A$1:$C$51,3,FALSE)-LEN(競技者一覧!L240)),競技者一覧!L240),\"\")","v":""},{"$f":"IFERROR(CONCATENATE(VLOOKUP(競技者一覧!M240,種目コード一覧!$A$1:$C$51,2,FALSE),\" \",REPT(\"0\",VLOOKUP(競技者一覧!M240,種目コード一覧!$A$1:$C$51,3,FALSE)-LEN(競技者一覧!N240)),競技者一覧!N240),\"\")","v":""},{"$f":"IFERROR(CONCATENATE(VLOOKUP(競技者一覧!O240,種目コード一覧!$A$1:$C$51,2,FALSE),\" \",REPT(\"0\",VLOOKUP(競技者一覧!O240,種目コード一覧!$A$1:$C$51,3,FALSE)-LEN(競技者一覧!P240)),競技者一覧!P240),\"\")","v":""},{"$f":"IFERROR(CONCATENATE(VLOOKUP(競技者一覧!Q240,種目コード一覧!$A$1:$C$51,2,FALSE),\" \",REPT(\"0\",VLOOKUP(競技者一覧!Q240,種目コード一覧!$A$1:$C$51,3,FALSE)-LEN(競技者一覧!R240)),競技者一覧!R240),\"\")","v":""},{"$f":"IFERROR(CONCATENATE(VLOOKUP(競技者一覧!S240,種目コード一覧!$A$1:$C$51,2,FALSE),\" \",REPT(\"0\",VLOOKUP(競技者一覧!S240,種目コード一覧!$A$1:$C$51,3,FALSE)-LEN(競技者一覧!T240)),競技者一覧!T240),\"\")","v":""},{"$f":"IFERROR(CONCATENATE(VLOOKUP(競技者一覧!U240,種目コード一覧!$A$1:$C$51,2,FALSE),\" \",REPT(\"0\",VLOOKUP(競技者一覧!U240,種目コード一覧!$A$1:$C$51,3,FALSE)-LEN(競技者一覧!V240)),競技者一覧!V240),\"\")","v":""},{"$f":"IFERROR(CONCATENATE(VLOOKUP(競技者一覧!W240,種目コード一覧!$A$1:$C$51,2,FALSE),\" \",REPT(\"0\",VLOOKUP(競技者一覧!W240,種目コード一覧!$A$1:$C$51,3,FALSE)-LEN(競技者一覧!X240)),競技者一覧!X240),\"\")","v":""},{"$f":"IFERROR(CONCATENATE(VLOOKUP(競技者一覧!Y240,種目コード一覧!$A$1:$C$51,2,FALSE),\" \",REPT(\"0\",VLOOKUP(競技者一覧!Y240,種目コード一覧!$A$1:$C$51,3,FALSE)-LEN(競技者一覧!Z240)),競技者一覧!Z240),\"\")","v":""}]
[{"$f":"IFERROR(CONCATENATE(競技者一覧!$D$7), \"\")","v":""},{"$f":"IFERROR(CONCATENATE($H$2,Sheet4!B221),\"\")","v":""},{"$f":"競技者一覧!C241&IF(OR(競技者一覧!H241=\"\",競技者一覧!H241=9),\"\",\"(\" & 競技者一覧!H241 & \")\")","v":""},{"$f":"競技者一覧!D241 &IF(OR(MID(競技者一覧!G241,3,2)=\"\", MID(競技者一覧!G241,3,2)=\"0\"),\"\",\"(\" & MID(競技者一覧!G241,3,2) & \")\")","v":""},{"$f":"ASC(競技者一覧!E241 & \" \" & 競技者一覧!F241 & IF(OR(MID(競技者一覧!G241,3,2)=\"\", MID(競技者一覧!G241,3,2)=\"0\"),\"\",\"(\" & MID(競技者一覧!G241,3,2) & \")\"))","v":" "},{"$f":"CONCATENATE(競技者一覧!I241)","v":""},{"$f":"IFERROR(IF(競技者一覧!$D$6=\"学連\",VLOOKUP(競技者一覧!J241,Sheet4!$D$2:$E$48,2,FALSE),学校名簿!D221),\"\")","v":0},{"$f":"IFERROR(VLOOKUP(競技者一覧!$D$7,学校番号表!$B$2:$C$65536,2,FALSE),\"\")","v":""},{"$f":"CONCATENATE(競技者一覧!B241)","v":""},{"$f":"IFERROR(CONCATENATE(VLOOKUP(競技者一覧!K241,種目コード一覧!$A$1:$C$51,2,FALSE),\" \",REPT(\"0\",VLOOKUP(競技者一覧!K241,種目コード一覧!$A$1:$C$51,3,FALSE)-LEN(競技者一覧!L241)),競技者一覧!L241),\"\")","v":""},{"$f":"IFERROR(CONCATENATE(VLOOKUP(競技者一覧!M241,種目コード一覧!$A$1:$C$51,2,FALSE),\" \",REPT(\"0\",VLOOKUP(競技者一覧!M241,種目コード一覧!$A$1:$C$51,3,FALSE)-LEN(競技者一覧!N241)),競技者一覧!N241),\"\")","v":""},{"$f":"IFERROR(CONCATENATE(VLOOKUP(競技者一覧!O241,種目コード一覧!$A$1:$C$51,2,FALSE),\" \",REPT(\"0\",VLOOKUP(競技者一覧!O241,種目コード一覧!$A$1:$C$51,3,FALSE)-LEN(競技者一覧!P241)),競技者一覧!P241),\"\")","v":""},{"$f":"IFERROR(CONCATENATE(VLOOKUP(競技者一覧!Q241,種目コード一覧!$A$1:$C$51,2,FALSE),\" \",REPT(\"0\",VLOOKUP(競技者一覧!Q241,種目コード一覧!$A$1:$C$51,3,FALSE)-LEN(競技者一覧!R241)),競技者一覧!R241),\"\")","v":""},{"$f":"IFERROR(CONCATENATE(VLOOKUP(競技者一覧!S241,種目コード一覧!$A$1:$C$51,2,FALSE),\" \",REPT(\"0\",VLOOKUP(競技者一覧!S241,種目コード一覧!$A$1:$C$51,3,FALSE)-LEN(競技者一覧!T241)),競技者一覧!T241),\"\")","v":""},{"$f":"IFERROR(CONCATENATE(VLOOKUP(競技者一覧!U241,種目コード一覧!$A$1:$C$51,2,FALSE),\" \",REPT(\"0\",VLOOKUP(競技者一覧!U241,種目コード一覧!$A$1:$C$51,3,FALSE)-LEN(競技者一覧!V241)),競技者一覧!V241),\"\")","v":""},{"$f":"IFERROR(CONCATENATE(VLOOKUP(競技者一覧!W241,種目コード一覧!$A$1:$C$51,2,FALSE),\" \",REPT(\"0\",VLOOKUP(競技者一覧!W241,種目コード一覧!$A$1:$C$51,3,FALSE)-LEN(競技者一覧!X241)),競技者一覧!X241),\"\")","v":""},{"$f":"IFERROR(CONCATENATE(VLOOKUP(競技者一覧!Y241,種目コード一覧!$A$1:$C$51,2,FALSE),\" \",REPT(\"0\",VLOOKUP(競技者一覧!Y241,種目コード一覧!$A$1:$C$51,3,FALSE)-LEN(競技者一覧!Z241)),競技者一覧!Z241),\"\")","v":""}]
[{"$f":"IFERROR(CONCATENATE(競技者一覧!$D$7), \"\")","v":""},{"$f":"IFERROR(CONCATENATE($H$2,Sheet4!B222),\"\")","v":""},{"$f":"競技者一覧!C242&IF(OR(競技者一覧!H242=\"\",競技者一覧!H242=9),\"\",\"(\" & 競技者一覧!H242 & \")\")","v":""},{"$f":"ASC(競技者一覧!D242 &IF(OR(MID(競技者一覧!G242,3,2)=\"\", MID(競技者一覧!G242,3,2)=\"0\"),\"\",\"(\" & MID(競技者一覧!G242,3,2) & \")\"))","v":""},{"$f":"ASC(競技者一覧!E242 & \" \" & 競技者一覧!F242 & IF(OR(MID(競技者一覧!G242,3,2)=\"\", MID(競技者一覧!G242,3,2)=\"0\"),\"\",\"(\" & MID(競技者一覧!G242,3,2) & \")\"))","v":" "},{"$f":"CONCATENATE(競技者一覧!I242)","v":""},{"$f":"IFERROR(IF(競技者一覧!$D$6=\"学連\",VLOOKUP(競技者一覧!J242,Sheet4!$D$2:$E$48,2,FALSE),学校名簿!D222),\"\")","v":0},{"$f":"IFERROR(VLOOKUP(競技者一覧!$D$7,学校番号表!$B$2:$C$65536,2,FALSE),\"\")","v":""},{"$f":"CONCATENATE(競技者一覧!B242)","v":""},{"$f":"IFERROR(CONCATENATE(VLOOKUP(競技者一覧!K242,種目コード一覧!$A$1:$B$51,2,FALSE),\" \",REPT(\"0\",VLOOKUP(競技者一覧!K242,種目コード一覧!$A$1:$C$51,3,FALSE)-LEN(競技者一覧!L242)),競技者一覧!L242),\"\")","v":""},{"$f":"IFERROR(CONCATENATE(VLOOKUP(競技者一覧!M242,種目コード一覧!$A$1:$C$51,2,FALSE),\" \",REPT(\"0\",VLOOKUP(競技者一覧!M242,種目コード一覧!$A$1:$C$51,3,FALSE)-LEN(競技者一覧!N242)),競技者一覧!N242),\"\")","v":""},{"$f":"IFERROR(CONCATENATE(VLOOKUP(競技者一覧!O242,種目コード一覧!$A$1:$C$51,2,FALSE),\" \",REPT(\"0\",VLOOKUP(競技者一覧!O242,種目コード一覧!$A$1:$C$51,3,FALSE)-LEN(競技者一覧!P242)),競技者一覧!P242),\"\")","v":""},{"$f":"IFERROR(CONCATENATE(VLOOKUP(競技者一覧!Q242,種目コード一覧!$A$1:$C$51,2,FALSE),\" \",REPT(\"0\",VLOOKUP(競技者一覧!Q242,種目コード一覧!$A$1:$C$51,3,FALSE)-LEN(競技者一覧!R242)),競技者一覧!R242),\"\")","v":""},{"$f":"IFERROR(CONCATENATE(VLOOKUP(競技者一覧!S242,種目コード一覧!$A$1:$C$51,2,FALSE),\" \",REPT(\"0\",VLOOKUP(競技者一覧!S242,種目コード一覧!$A$1:$C$51,3,FALSE)-LEN(競技者一覧!T242)),競技者一覧!T242),\"\")","v":""},{"$f":"IFERROR(CONCATENATE(VLOOKUP(競技者一覧!U242,種目コード一覧!$A$1:$C$51,2,FALSE),\" \",REPT(\"0\",VLOOKUP(競技者一覧!U242,種目コード一覧!$A$1:$C$51,3,FALSE)-LEN(競技者一覧!V242)),競技者一覧!V242),\"\")","v":""},{"$f":"IFERROR(CONCATENATE(VLOOKUP(競技者一覧!W242,種目コード一覧!$A$1:$C$51,2,FALSE),\" \",REPT(\"0\",VLOOKUP(競技者一覧!W242,種目コード一覧!$A$1:$C$51,3,FALSE)-LEN(競技者一覧!X242)),競技者一覧!X242),\"\")","v":""},{"$f":"IFERROR(CONCATENATE(VLOOKUP(競技者一覧!Y242,種目コード一覧!$A$1:$C$51,2,FALSE),\" \",REPT(\"0\",VLOOKUP(競技者一覧!Y242,種目コード一覧!$A$1:$C$51,3,FALSE)-LEN(競技者一覧!Z242)),競技者一覧!Z242),\"\")","v":""}]
[{"$f":"IFERROR(CONCATENATE(競技者一覧!$D$7), \"\")","v":""},{"$f":"IFERROR(CONCATENATE($H$2,Sheet4!B223),\"\")","v":""},{"$f":"競技者一覧!C243&IF(OR(競技者一覧!H243=\"\",競技者一覧!H243=9),\"\",\"(\" & 競技者一覧!H243 & \")\")","v":""},{"$f":"競技者一覧!D243 &IF(OR(MID(競技者一覧!G243,3,2)=\"\", MID(競技者一覧!G243,3,2)=\"0\"),\"\",\"(\" & MID(競技者一覧!G243,3,2) & \")\")","v":""},{"$f":"ASC(競技者一覧!E243 & \" \" & 競技者一覧!F243 & IF(OR(MID(競技者一覧!G243,3,2)=\"\", MID(競技者一覧!G243,3,2)=\"0\"),\"\",\"(\" & MID(競技者一覧!G243,3,2) & \")\"))","v":" "},{"$f":"CONCATENATE(競技者一覧!I243)","v":""},{"$f":"IFERROR(IF(競技者一覧!$D$6=\"学連\",VLOOKUP(競技者一覧!J243,Sheet4!$D$2:$E$48,2,FALSE),学校名簿!D223),\"\")","v":0},{"$f":"IFERROR(VLOOKUP(競技者一覧!$D$7,学校番号表!$B$2:$C$65536,2,FALSE),\"\")","v":""},{"$f":"CONCATENATE(競技者一覧!B243)","v":""},{"$f":"IFERROR(CONCATENATE(VLOOKUP(競技者一覧!K243,種目コード一覧!$A$1:$C$51,2,FALSE),\" \",REPT(\"0\",VLOOKUP(競技者一覧!K243,種目コード一覧!$A$1:$C$51,3,FALSE)-LEN(競技者一覧!L243)),競技者一覧!L243),\"\")","v":""},{"$f":"IFERROR(CONCATENATE(VLOOKUP(競技者一覧!M243,種目コード一覧!$A$1:$C$51,2,FALSE),\" \",REPT(\"0\",VLOOKUP(競技者一覧!M243,種目コード一覧!$A$1:$C$51,3,FALSE)-LEN(競技者一覧!N243)),競技者一覧!N243),\"\")","v":""},{"$f":"IFERROR(CONCATENATE(VLOOKUP(競技者一覧!O243,種目コード一覧!$A$1:$C$51,2,FALSE),\" \",REPT(\"0\",VLOOKUP(競技者一覧!O243,種目コード一覧!$A$1:$C$51,3,FALSE)-LEN(競技者一覧!P243)),競技者一覧!P243),\"\")","v":""},{"$f":"IFERROR(CONCATENATE(VLOOKUP(競技者一覧!Q243,種目コード一覧!$A$1:$C$51,2,FALSE),\" \",REPT(\"0\",VLOOKUP(競技者一覧!Q243,種目コード一覧!$A$1:$C$51,3,FALSE)-LEN(競技者一覧!R243)),競技者一覧!R243),\"\")","v":""},{"$f":"IFERROR(CONCATENATE(VLOOKUP(競技者一覧!S243,種目コード一覧!$A$1:$C$51,2,FALSE),\" \",REPT(\"0\",VLOOKUP(競技者一覧!S243,種目コード一覧!$A$1:$C$51,3,FALSE)-LEN(競技者一覧!T243)),競技者一覧!T243),\"\")","v":""},{"$f":"IFERROR(CONCATENATE(VLOOKUP(競技者一覧!U243,種目コード一覧!$A$1:$C$51,2,FALSE),\" \",REPT(\"0\",VLOOKUP(競技者一覧!U243,種目コード一覧!$A$1:$C$51,3,FALSE)-LEN(競技者一覧!V243)),競技者一覧!V243),\"\")","v":""},{"$f":"IFERROR(CONCATENATE(VLOOKUP(競技者一覧!W243,種目コード一覧!$A$1:$C$51,2,FALSE),\" \",REPT(\"0\",VLOOKUP(競技者一覧!W243,種目コード一覧!$A$1:$C$51,3,FALSE)-LEN(競技者一覧!X243)),競技者一覧!X243),\"\")","v":""},{"$f":"IFERROR(CONCATENATE(VLOOKUP(競技者一覧!Y243,種目コード一覧!$A$1:$C$51,2,FALSE),\" \",REPT(\"0\",VLOOKUP(競技者一覧!Y243,種目コード一覧!$A$1:$C$51,3,FALSE)-LEN(競技者一覧!Z243)),競技者一覧!Z243),\"\")","v":""}]
[{"$f":"IFERROR(CONCATENATE(競技者一覧!$D$7), \"\")","v":""},{"$f":"IFERROR(CONCATENATE($H$2,Sheet4!B224),\"\")","v":""},{"$f":"競技者一覧!C244&IF(OR(競技者一覧!H244=\"\",競技者一覧!H244=9),\"\",\"(\" & 競技者一覧!H244 & \")\")","v":""},{"$f":"ASC(競技者一覧!D244 &IF(OR(MID(競技者一覧!G244,3,2)=\"\", MID(競技者一覧!G244,3,2)=\"0\"),\"\",\"(\" & MID(競技者一覧!G244,3,2) & \")\"))","v":""},{"$f":"ASC(競技者一覧!E244 & \" \" & 競技者一覧!F244 & IF(OR(MID(競技者一覧!G244,3,2)=\"\", MID(競技者一覧!G244,3,2)=\"0\"),\"\",\"(\" & MID(競技者一覧!G244,3,2) & \")\"))","v":" "},{"$f":"CONCATENATE(競技者一覧!I244)","v":""},{"$f":"IFERROR(IF(競技者一覧!$D$6=\"学連\",VLOOKUP(競技者一覧!J244,Sheet4!$D$2:$E$48,2,FALSE),学校名簿!D224),\"\")","v":0},{"$f":"IFERROR(VLOOKUP(競技者一覧!$D$7,学校番号表!$B$2:$C$65536,2,FALSE),\"\")","v":""},{"$f":"CONCATENATE(競技者一覧!B244)","v":""},{"$f":"IFERROR(CONCATENATE(VLOOKUP(競技者一覧!K244,種目コード一覧!$A$1:$B$51,2,FALSE),\" \",REPT(\"0\",VLOOKUP(競技者一覧!K244,種目コード一覧!$A$1:$C$51,3,FALSE)-LEN(競技者一覧!L244)),競技者一覧!L244),\"\")","v":""},{"$f":"IFERROR(CONCATENATE(VLOOKUP(競技者一覧!M244,種目コード一覧!$A$1:$C$51,2,FALSE),\" \",REPT(\"0\",VLOOKUP(競技者一覧!M244,種目コード一覧!$A$1:$C$51,3,FALSE)-LEN(競技者一覧!N244)),競技者一覧!N244),\"\")","v":""},{"$f":"IFERROR(CONCATENATE(VLOOKUP(競技者一覧!O244,種目コード一覧!$A$1:$C$51,2,FALSE),\" \",REPT(\"0\",VLOOKUP(競技者一覧!O244,種目コード一覧!$A$1:$C$51,3,FALSE)-LEN(競技者一覧!P244)),競技者一覧!P244),\"\")","v":""},{"$f":"IFERROR(CONCATENATE(VLOOKUP(競技者一覧!Q244,種目コード一覧!$A$1:$C$51,2,FALSE),\" \",REPT(\"0\",VLOOKUP(競技者一覧!Q244,種目コード一覧!$A$1:$C$51,3,FALSE)-LEN(競技者一覧!R244)),競技者一覧!R244),\"\")","v":""},{"$f":"IFERROR(CONCATENATE(VLOOKUP(競技者一覧!S244,種目コード一覧!$A$1:$C$51,2,FALSE),\" \",REPT(\"0\",VLOOKUP(競技者一覧!S244,種目コード一覧!$A$1:$C$51,3,FALSE)-LEN(競技者一覧!T244)),競技者一覧!T244),\"\")","v":""},{"$f":"IFERROR(CONCATENATE(VLOOKUP(競技者一覧!U244,種目コード一覧!$A$1:$C$51,2,FALSE),\" \",REPT(\"0\",VLOOKUP(競技者一覧!U244,種目コード一覧!$A$1:$C$51,3,FALSE)-LEN(競技者一覧!V244)),競技者一覧!V244),\"\")","v":""},{"$f":"IFERROR(CONCATENATE(VLOOKUP(競技者一覧!W244,種目コード一覧!$A$1:$C$51,2,FALSE),\" \",REPT(\"0\",VLOOKUP(競技者一覧!W244,種目コード一覧!$A$1:$C$51,3,FALSE)-LEN(競技者一覧!X244)),競技者一覧!X244),\"\")","v":""},{"$f":"IFERROR(CONCATENATE(VLOOKUP(競技者一覧!Y244,種目コード一覧!$A$1:$C$51,2,FALSE),\" \",REPT(\"0\",VLOOKUP(競技者一覧!Y244,種目コード一覧!$A$1:$C$51,3,FALSE)-LEN(競技者一覧!Z244)),競技者一覧!Z244),\"\")","v":""}]
[{"$f":"IFERROR(CONCATENATE(競技者一覧!$D$7), \"\")","v":""},{"$f":"IFERROR(CONCATENATE($H$2,Sheet4!B225),\"\")","v":""},{"$f":"競技者一覧!C245&IF(OR(競技者一覧!H245=\"\",競技者一覧!H245=9),\"\",\"(\" & 競技者一覧!H245 & \")\")","v":""},{"$f":"競技者一覧!D245 &IF(OR(MID(競技者一覧!G245,3,2)=\"\", MID(競技者一覧!G245,3,2)=\"0\"),\"\",\"(\" & MID(競技者一覧!G245,3,2) & \")\")","v":""},{"$f":"ASC(競技者一覧!E245 & \" \" & 競技者一覧!F245 & IF(OR(MID(競技者一覧!G245,3,2)=\"\", MID(競技者一覧!G245,3,2)=\"0\"),\"\",\"(\" & MID(競技者一覧!G245,3,2) & \")\"))","v":" "},{"$f":"CONCATENATE(競技者一覧!I245)","v":""},{"$f":"IFERROR(IF(競技者一覧!$D$6=\"学連\",VLOOKUP(競技者一覧!J245,Sheet4!$D$2:$E$48,2,FALSE),学校名簿!D225),\"\")","v":0},{"$f":"IFERROR(VLOOKUP(競技者一覧!$D$7,学校番号表!$B$2:$C$65536,2,FALSE),\"\")","v":""},{"$f":"CONCATENATE(競技者一覧!B245)","v":""},{"$f":"IFERROR(CONCATENATE(VLOOKUP(競技者一覧!K245,種目コード一覧!$A$1:$C$51,2,FALSE),\" \",REPT(\"0\",VLOOKUP(競技者一覧!K245,種目コード一覧!$A$1:$C$51,3,FALSE)-LEN(競技者一覧!L245)),競技者一覧!L245),\"\")","v":""},{"$f":"IFERROR(CONCATENATE(VLOOKUP(競技者一覧!M245,種目コード一覧!$A$1:$C$51,2,FALSE),\" \",REPT(\"0\",VLOOKUP(競技者一覧!M245,種目コード一覧!$A$1:$C$51,3,FALSE)-LEN(競技者一覧!N245)),競技者一覧!N245),\"\")","v":""},{"$f":"IFERROR(CONCATENATE(VLOOKUP(競技者一覧!O245,種目コード一覧!$A$1:$C$51,2,FALSE),\" \",REPT(\"0\",VLOOKUP(競技者一覧!O245,種目コード一覧!$A$1:$C$51,3,FALSE)-LEN(競技者一覧!P245)),競技者一覧!P245),\"\")","v":""},{"$f":"IFERROR(CONCATENATE(VLOOKUP(競技者一覧!Q245,種目コード一覧!$A$1:$C$51,2,FALSE),\" \",REPT(\"0\",VLOOKUP(競技者一覧!Q245,種目コード一覧!$A$1:$C$51,3,FALSE)-LEN(競技者一覧!R245)),競技者一覧!R245),\"\")","v":""},{"$f":"IFERROR(CONCATENATE(VLOOKUP(競技者一覧!S245,種目コード一覧!$A$1:$C$51,2,FALSE),\" \",REPT(\"0\",VLOOKUP(競技者一覧!S245,種目コード一覧!$A$1:$C$51,3,FALSE)-LEN(競技者一覧!T245)),競技者一覧!T245),\"\")","v":""},{"$f":"IFERROR(CONCATENATE(VLOOKUP(競技者一覧!U245,種目コード一覧!$A$1:$C$51,2,FALSE),\" \",REPT(\"0\",VLOOKUP(競技者一覧!U245,種目コード一覧!$A$1:$C$51,3,FALSE)-LEN(競技者一覧!V245)),競技者一覧!V245),\"\")","v":""},{"$f":"IFERROR(CONCATENATE(VLOOKUP(競技者一覧!W245,種目コード一覧!$A$1:$C$51,2,FALSE),\" \",REPT(\"0\",VLOOKUP(競技者一覧!W245,種目コード一覧!$A$1:$C$51,3,FALSE)-LEN(競技者一覧!X245)),競技者一覧!X245),\"\")","v":""},{"$f":"IFERROR(CONCATENATE(VLOOKUP(競技者一覧!Y245,種目コード一覧!$A$1:$C$51,2,FALSE),\" \",REPT(\"0\",VLOOKUP(競技者一覧!Y245,種目コード一覧!$A$1:$C$51,3,FALSE)-LEN(競技者一覧!Z245)),競技者一覧!Z245),\"\")","v":""}]
[{"$f":"IFERROR(CONCATENATE(競技者一覧!$D$7), \"\")","v":""},{"$f":"IFERROR(CONCATENATE($H$2,Sheet4!B226),\"\")","v":""},{"$f":"競技者一覧!C246&IF(OR(競技者一覧!H246=\"\",競技者一覧!H246=9),\"\",\"(\" & 競技者一覧!H246 & \")\")","v":""},{"$f":"ASC(競技者一覧!D246 &IF(OR(MID(競技者一覧!G246,3,2)=\"\", MID(競技者一覧!G246,3,2)=\"0\"),\"\",\"(\" & MID(競技者一覧!G246,3,2) & \")\"))","v":""},{"$f":"ASC(競技者一覧!E246 & \" \" & 競技者一覧!F246 & IF(OR(MID(競技者一覧!G246,3,2)=\"\", MID(競技者一覧!G246,3,2)=\"0\"),\"\",\"(\" & MID(競技者一覧!G246,3,2) & \")\"))","v":" "},{"$f":"CONCATENATE(競技者一覧!I246)","v":""},{"$f":"IFERROR(IF(競技者一覧!$D$6=\"学連\",VLOOKUP(競技者一覧!J246,Sheet4!$D$2:$E$48,2,FALSE),学校名簿!D226),\"\")","v":0},{"$f":"IFERROR(VLOOKUP(競技者一覧!$D$7,学校番号表!$B$2:$C$65536,2,FALSE),\"\")","v":""},{"$f":"CONCATENATE(競技者一覧!B246)","v":""},{"$f":"IFERROR(CONCATENATE(VLOOKUP(競技者一覧!K246,種目コード一覧!$A$1:$B$51,2,FALSE),\" \",REPT(\"0\",VLOOKUP(競技者一覧!K246,種目コード一覧!$A$1:$C$51,3,FALSE)-LEN(競技者一覧!L246)),競技者一覧!L246),\"\")","v":""},{"$f":"IFERROR(CONCATENATE(VLOOKUP(競技者一覧!M246,種目コード一覧!$A$1:$C$51,2,FALSE),\" \",REPT(\"0\",VLOOKUP(競技者一覧!M246,種目コード一覧!$A$1:$C$51,3,FALSE)-LEN(競技者一覧!N246)),競技者一覧!N246),\"\")","v":""},{"$f":"IFERROR(CONCATENATE(VLOOKUP(競技者一覧!O246,種目コード一覧!$A$1:$C$51,2,FALSE),\" \",REPT(\"0\",VLOOKUP(競技者一覧!O246,種目コード一覧!$A$1:$C$51,3,FALSE)-LEN(競技者一覧!P246)),競技者一覧!P246),\"\")","v":""},{"$f":"IFERROR(CONCATENATE(VLOOKUP(競技者一覧!Q246,種目コード一覧!$A$1:$C$51,2,FALSE),\" \",REPT(\"0\",VLOOKUP(競技者一覧!Q246,種目コード一覧!$A$1:$C$51,3,FALSE)-LEN(競技者一覧!R246)),競技者一覧!R246),\"\")","v":""},{"$f":"IFERROR(CONCATENATE(VLOOKUP(競技者一覧!S246,種目コード一覧!$A$1:$C$51,2,FALSE),\" \",REPT(\"0\",VLOOKUP(競技者一覧!S246,種目コード一覧!$A$1:$C$51,3,FALSE)-LEN(競技者一覧!T246)),競技者一覧!T246),\"\")","v":""},{"$f":"IFERROR(CONCATENATE(VLOOKUP(競技者一覧!U246,種目コード一覧!$A$1:$C$51,2,FALSE),\" \",REPT(\"0\",VLOOKUP(競技者一覧!U246,種目コード一覧!$A$1:$C$51,3,FALSE)-LEN(競技者一覧!V246)),競技者一覧!V246),\"\")","v":""},{"$f":"IFERROR(CONCATENATE(VLOOKUP(競技者一覧!W246,種目コード一覧!$A$1:$C$51,2,FALSE),\" \",REPT(\"0\",VLOOKUP(競技者一覧!W246,種目コード一覧!$A$1:$C$51,3,FALSE)-LEN(競技者一覧!X246)),競技者一覧!X246),\"\")","v":""},{"$f":"IFERROR(CONCATENATE(VLOOKUP(競技者一覧!Y246,種目コード一覧!$A$1:$C$51,2,FALSE),\" \",REPT(\"0\",VLOOKUP(競技者一覧!Y246,種目コード一覧!$A$1:$C$51,3,FALSE)-LEN(競技者一覧!Z246)),競技者一覧!Z246),\"\")","v":""}]
[{"$f":"IFERROR(CONCATENATE(競技者一覧!$D$7), \"\")","v":""},{"$f":"IFERROR(CONCATENATE($H$2,Sheet4!B227),\"\")","v":""},{"$f":"競技者一覧!C247&IF(OR(競技者一覧!H247=\"\",競技者一覧!H247=9),\"\",\"(\" & 競技者一覧!H247 & \")\")","v":""},{"$f":"競技者一覧!D247 &IF(OR(MID(競技者一覧!G247,3,2)=\"\", MID(競技者一覧!G247,3,2)=\"0\"),\"\",\"(\" & MID(競技者一覧!G247,3,2) & \")\")","v":""},{"$f":"ASC(競技者一覧!E247 & \" \" & 競技者一覧!F247 & IF(OR(MID(競技者一覧!G247,3,2)=\"\", MID(競技者一覧!G247,3,2)=\"0\"),\"\",\"(\" & MID(競技者一覧!G247,3,2) & \")\"))","v":" "},{"$f":"CONCATENATE(競技者一覧!I247)","v":""},{"$f":"IFERROR(IF(競技者一覧!$D$6=\"学連\",VLOOKUP(競技者一覧!J247,Sheet4!$D$2:$E$48,2,FALSE),学校名簿!D227),\"\")","v":0},{"$f":"IFERROR(VLOOKUP(競技者一覧!$D$7,学校番号表!$B$2:$C$65536,2,FALSE),\"\")","v":""},{"$f":"CONCATENATE(競技者一覧!B247)","v":""},{"$f":"IFERROR(CONCATENATE(VLOOKUP(競技者一覧!K247,種目コード一覧!$A$1:$C$51,2,FALSE),\" \",REPT(\"0\",VLOOKUP(競技者一覧!K247,種目コード一覧!$A$1:$C$51,3,FALSE)-LEN(競技者一覧!L247)),競技者一覧!L247),\"\")","v":""},{"$f":"IFERROR(CONCATENATE(VLOOKUP(競技者一覧!M247,種目コード一覧!$A$1:$C$51,2,FALSE),\" \",REPT(\"0\",VLOOKUP(競技者一覧!M247,種目コード一覧!$A$1:$C$51,3,FALSE)-LEN(競技者一覧!N247)),競技者一覧!N247),\"\")","v":""},{"$f":"IFERROR(CONCATENATE(VLOOKUP(競技者一覧!O247,種目コード一覧!$A$1:$C$51,2,FALSE),\" \",REPT(\"0\",VLOOKUP(競技者一覧!O247,種目コード一覧!$A$1:$C$51,3,FALSE)-LEN(競技者一覧!P247)),競技者一覧!P247),\"\")","v":""},{"$f":"IFERROR(CONCATENATE(VLOOKUP(競技者一覧!Q247,種目コード一覧!$A$1:$C$51,2,FALSE),\" \",REPT(\"0\",VLOOKUP(競技者一覧!Q247,種目コード一覧!$A$1:$C$51,3,FALSE)-LEN(競技者一覧!R247)),競技者一覧!R247),\"\")","v":""},{"$f":"IFERROR(CONCATENATE(VLOOKUP(競技者一覧!S247,種目コード一覧!$A$1:$C$51,2,FALSE),\" \",REPT(\"0\",VLOOKUP(競技者一覧!S247,種目コード一覧!$A$1:$C$51,3,FALSE)-LEN(競技者一覧!T247)),競技者一覧!T247),\"\")","v":""},{"$f":"IFERROR(CONCATENATE(VLOOKUP(競技者一覧!U247,種目コード一覧!$A$1:$C$51,2,FALSE),\" \",REPT(\"0\",VLOOKUP(競技者一覧!U247,種目コード一覧!$A$1:$C$51,3,FALSE)-LEN(競技者一覧!V247)),競技者一覧!V247),\"\")","v":""},{"$f":"IFERROR(CONCATENATE(VLOOKUP(競技者一覧!W247,種目コード一覧!$A$1:$C$51,2,FALSE),\" \",REPT(\"0\",VLOOKUP(競技者一覧!W247,種目コード一覧!$A$1:$C$51,3,FALSE)-LEN(競技者一覧!X247)),競技者一覧!X247),\"\")","v":""},{"$f":"IFERROR(CONCATENATE(VLOOKUP(競技者一覧!Y247,種目コード一覧!$A$1:$C$51,2,FALSE),\" \",REPT(\"0\",VLOOKUP(競技者一覧!Y247,種目コード一覧!$A$1:$C$51,3,FALSE)-LEN(競技者一覧!Z247)),競技者一覧!Z247),\"\")","v":""}]
[{"$f":"IFERROR(CONCATENATE(競技者一覧!$D$7), \"\")","v":""},{"$f":"IFERROR(CONCATENATE($H$2,Sheet4!B228),\"\")","v":""},{"$f":"競技者一覧!C248&IF(OR(競技者一覧!H248=\"\",競技者一覧!H248=9),\"\",\"(\" & 競技者一覧!H248 & \")\")","v":""},{"$f":"ASC(競技者一覧!D248 &IF(OR(MID(競技者一覧!G248,3,2)=\"\", MID(競技者一覧!G248,3,2)=\"0\"),\"\",\"(\" & MID(競技者一覧!G248,3,2) & \")\"))","v":""},{"$f":"ASC(競技者一覧!E248 & \" \" & 競技者一覧!F248 & IF(OR(MID(競技者一覧!G248,3,2)=\"\", MID(競技者一覧!G248,3,2)=\"0\"),\"\",\"(\" & MID(競技者一覧!G248,3,2) & \")\"))","v":" "},{"$f":"CONCATENATE(競技者一覧!I248)","v":""},{"$f":"IFERROR(IF(競技者一覧!$D$6=\"学連\",VLOOKUP(競技者一覧!J248,Sheet4!$D$2:$E$48,2,FALSE),学校名簿!D228),\"\")","v":0},{"$f":"IFERROR(VLOOKUP(競技者一覧!$D$7,学校番号表!$B$2:$C$65536,2,FALSE),\"\")","v":""},{"$f":"CONCATENATE(競技者一覧!B248)","v":""},{"$f":"IFERROR(CONCATENATE(VLOOKUP(競技者一覧!K248,種目コード一覧!$A$1:$B$51,2,FALSE),\" \",REPT(\"0\",VLOOKUP(競技者一覧!K248,種目コード一覧!$A$1:$C$51,3,FALSE)-LEN(競技者一覧!L248)),競技者一覧!L248),\"\")","v":""},{"$f":"IFERROR(CONCATENATE(VLOOKUP(競技者一覧!M248,種目コード一覧!$A$1:$C$51,2,FALSE),\" \",REPT(\"0\",VLOOKUP(競技者一覧!M248,種目コード一覧!$A$1:$C$51,3,FALSE)-LEN(競技者一覧!N248)),競技者一覧!N248),\"\")","v":""},{"$f":"IFERROR(CONCATENATE(VLOOKUP(競技者一覧!O248,種目コード一覧!$A$1:$C$51,2,FALSE),\" \",REPT(\"0\",VLOOKUP(競技者一覧!O248,種目コード一覧!$A$1:$C$51,3,FALSE)-LEN(競技者一覧!P248)),競技者一覧!P248),\"\")","v":""},{"$f":"IFERROR(CONCATENATE(VLOOKUP(競技者一覧!Q248,種目コード一覧!$A$1:$C$51,2,FALSE),\" \",REPT(\"0\",VLOOKUP(競技者一覧!Q248,種目コード一覧!$A$1:$C$51,3,FALSE)-LEN(競技者一覧!R248)),競技者一覧!R248),\"\")","v":""},{"$f":"IFERROR(CONCATENATE(VLOOKUP(競技者一覧!S248,種目コード一覧!$A$1:$C$51,2,FALSE),\" \",REPT(\"0\",VLOOKUP(競技者一覧!S248,種目コード一覧!$A$1:$C$51,3,FALSE)-LEN(競技者一覧!T248)),競技者一覧!T248),\"\")","v":""},{"$f":"IFERROR(CONCATENATE(VLOOKUP(競技者一覧!U248,種目コード一覧!$A$1:$C$51,2,FALSE),\" \",REPT(\"0\",VLOOKUP(競技者一覧!U248,種目コード一覧!$A$1:$C$51,3,FALSE)-LEN(競技者一覧!V248)),競技者一覧!V248),\"\")","v":""},{"$f":"IFERROR(CONCATENATE(VLOOKUP(競技者一覧!W248,種目コード一覧!$A$1:$C$51,2,FALSE),\" \",REPT(\"0\",VLOOKUP(競技者一覧!W248,種目コード一覧!$A$1:$C$51,3,FALSE)-LEN(競技者一覧!X248)),競技者一覧!X248),\"\")","v":""},{"$f":"IFERROR(CONCATENATE(VLOOKUP(競技者一覧!Y248,種目コード一覧!$A$1:$C$51,2,FALSE),\" \",REPT(\"0\",VLOOKUP(競技者一覧!Y248,種目コード一覧!$A$1:$C$51,3,FALSE)-LEN(競技者一覧!Z248)),競技者一覧!Z248),\"\")","v":""}]
[{"$f":"IFERROR(CONCATENATE(競技者一覧!$D$7), \"\")","v":""},{"$f":"IFERROR(CONCATENATE($H$2,Sheet4!B229),\"\")","v":""},{"$f":"競技者一覧!C249&IF(OR(競技者一覧!H249=\"\",競技者一覧!H249=9),\"\",\"(\" & 競技者一覧!H249 & \")\")","v":""},{"$f":"競技者一覧!D249 &IF(OR(MID(競技者一覧!G249,3,2)=\"\", MID(競技者一覧!G249,3,2)=\"0\"),\"\",\"(\" & MID(競技者一覧!G249,3,2) & \")\")","v":""},{"$f":"ASC(競技者一覧!E249 & \" \" & 競技者一覧!F249 & IF(OR(MID(競技者一覧!G249,3,2)=\"\", MID(競技者一覧!G249,3,2)=\"0\"),\"\",\"(\" & MID(競技者一覧!G249,3,2) & \")\"))","v":" "},{"$f":"CONCATENATE(競技者一覧!I249)","v":""},{"$f":"IFERROR(IF(競技者一覧!$D$6=\"学連\",VLOOKUP(競技者一覧!J249,Sheet4!$D$2:$E$48,2,FALSE),学校名簿!D229),\"\")","v":0},{"$f":"IFERROR(VLOOKUP(競技者一覧!$D$7,学校番号表!$B$2:$C$65536,2,FALSE),\"\")","v":""},{"$f":"CONCATENATE(競技者一覧!B249)","v":""},{"$f":"IFERROR(CONCATENATE(VLOOKUP(競技者一覧!K249,種目コード一覧!$A$1:$C$51,2,FALSE),\" \",REPT(\"0\",VLOOKUP(競技者一覧!K249,種目コード一覧!$A$1:$C$51,3,FALSE)-LEN(競技者一覧!L249)),競技者一覧!L249),\"\")","v":""},{"$f":"IFERROR(CONCATENATE(VLOOKUP(競技者一覧!M249,種目コード一覧!$A$1:$C$51,2,FALSE),\" \",REPT(\"0\",VLOOKUP(競技者一覧!M249,種目コード一覧!$A$1:$C$51,3,FALSE)-LEN(競技者一覧!N249)),競技者一覧!N249),\"\")","v":""},{"$f":"IFERROR(CONCATENATE(VLOOKUP(競技者一覧!O249,種目コード一覧!$A$1:$C$51,2,FALSE),\" \",REPT(\"0\",VLOOKUP(競技者一覧!O249,種目コード一覧!$A$1:$C$51,3,FALSE)-LEN(競技者一覧!P249)),競技者一覧!P249),\"\")","v":""},{"$f":"IFERROR(CONCATENATE(VLOOKUP(競技者一覧!Q249,種目コード一覧!$A$1:$C$51,2,FALSE),\" \",REPT(\"0\",VLOOKUP(競技者一覧!Q249,種目コード一覧!$A$1:$C$51,3,FALSE)-LEN(競技者一覧!R249)),競技者一覧!R249),\"\")","v":""},{"$f":"IFERROR(CONCATENATE(VLOOKUP(競技者一覧!S249,種目コード一覧!$A$1:$C$51,2,FALSE),\" \",REPT(\"0\",VLOOKUP(競技者一覧!S249,種目コード一覧!$A$1:$C$51,3,FALSE)-LEN(競技者一覧!T249)),競技者一覧!T249),\"\")","v":""},{"$f":"IFERROR(CONCATENATE(VLOOKUP(競技者一覧!U249,種目コード一覧!$A$1:$C$51,2,FALSE),\" \",REPT(\"0\",VLOOKUP(競技者一覧!U249,種目コード一覧!$A$1:$C$51,3,FALSE)-LEN(競技者一覧!V249)),競技者一覧!V249),\"\")","v":""},{"$f":"IFERROR(CONCATENATE(VLOOKUP(競技者一覧!W249,種目コード一覧!$A$1:$C$51,2,FALSE),\" \",REPT(\"0\",VLOOKUP(競技者一覧!W249,種目コード一覧!$A$1:$C$51,3,FALSE)-LEN(競技者一覧!X249)),競技者一覧!X249),\"\")","v":""},{"$f":"IFERROR(CONCATENATE(VLOOKUP(競技者一覧!Y249,種目コード一覧!$A$1:$C$51,2,FALSE),\" \",REPT(\"0\",VLOOKUP(競技者一覧!Y249,種目コード一覧!$A$1:$C$51,3,FALSE)-LEN(競技者一覧!Z249)),競技者一覧!Z249),\"\")","v":""}]
[{"$f":"IFERROR(CONCATENATE(競技者一覧!$D$7), \"\")","v":""},{"$f":"IFERROR(CONCATENATE($H$2,Sheet4!B230),\"\")","v":""},{"$f":"競技者一覧!C250&IF(OR(競技者一覧!H250=\"\",競技者一覧!H250=9),\"\",\"(\" & 競技者一覧!H250 & \")\")","v":""},{"$f":"ASC(競技者一覧!D250 &IF(OR(MID(競技者一覧!G250,3,2)=\"\", MID(競技者一覧!G250,3,2)=\"0\"),\"\",\"(\" & MID(競技者一覧!G250,3,2) & \")\"))","v":""},{"$f":"ASC(競技者一覧!E250 & \" \" & 競技者一覧!F250 & IF(OR(MID(競技者一覧!G250,3,2)=\"\", MID(競技者一覧!G250,3,2)=\"0\"),\"\",\"(\" & MID(競技者一覧!G250,3,2) & \")\"))","v":" "},{"$f":"CONCATENATE(競技者一覧!I250)","v":""},{"$f":"IFERROR(IF(競技者一覧!$D$6=\"学連\",VLOOKUP(競技者一覧!J250,Sheet4!$D$2:$E$48,2,FALSE),学校名簿!D230),\"\")","v":0},{"$f":"IFERROR(VLOOKUP(競技者一覧!$D$7,学校番号表!$B$2:$C$65536,2,FALSE),\"\")","v":""},{"$f":"CONCATENATE(競技者一覧!B250)","v":""},{"$f":"IFERROR(CONCATENATE(VLOOKUP(競技者一覧!K250,種目コード一覧!$A$1:$B$51,2,FALSE),\" \",REPT(\"0\",VLOOKUP(競技者一覧!K250,種目コード一覧!$A$1:$C$51,3,FALSE)-LEN(競技者一覧!L250)),競技者一覧!L250),\"\")","v":""},{"$f":"IFERROR(CONCATENATE(VLOOKUP(競技者一覧!M250,種目コード一覧!$A$1:$C$51,2,FALSE),\" \",REPT(\"0\",VLOOKUP(競技者一覧!M250,種目コード一覧!$A$1:$C$51,3,FALSE)-LEN(競技者一覧!N250)),競技者一覧!N250),\"\")","v":""},{"$f":"IFERROR(CONCATENATE(VLOOKUP(競技者一覧!O250,種目コード一覧!$A$1:$C$51,2,FALSE),\" \",REPT(\"0\",VLOOKUP(競技者一覧!O250,種目コード一覧!$A$1:$C$51,3,FALSE)-LEN(競技者一覧!P250)),競技者一覧!P250),\"\")","v":""},{"$f":"IFERROR(CONCATENATE(VLOOKUP(競技者一覧!Q250,種目コード一覧!$A$1:$C$51,2,FALSE),\" \",REPT(\"0\",VLOOKUP(競技者一覧!Q250,種目コード一覧!$A$1:$C$51,3,FALSE)-LEN(競技者一覧!R250)),競技者一覧!R250),\"\")","v":""},{"$f":"IFERROR(CONCATENATE(VLOOKUP(競技者一覧!S250,種目コード一覧!$A$1:$C$51,2,FALSE),\" \",REPT(\"0\",VLOOKUP(競技者一覧!S250,種目コード一覧!$A$1:$C$51,3,FALSE)-LEN(競技者一覧!T250)),競技者一覧!T250),\"\")","v":""},{"$f":"IFERROR(CONCATENATE(VLOOKUP(競技者一覧!U250,種目コード一覧!$A$1:$C$51,2,FALSE),\" \",REPT(\"0\",VLOOKUP(競技者一覧!U250,種目コード一覧!$A$1:$C$51,3,FALSE)-LEN(競技者一覧!V250)),競技者一覧!V250),\"\")","v":""},{"$f":"IFERROR(CONCATENATE(VLOOKUP(競技者一覧!W250,種目コード一覧!$A$1:$C$51,2,FALSE),\" \",REPT(\"0\",VLOOKUP(競技者一覧!W250,種目コード一覧!$A$1:$C$51,3,FALSE)-LEN(競技者一覧!X250)),競技者一覧!X250),\"\")","v":""},{"$f":"IFERROR(CONCATENATE(VLOOKUP(競技者一覧!Y250,種目コード一覧!$A$1:$C$51,2,FALSE),\" \",REPT(\"0\",VLOOKUP(競技者一覧!Y250,種目コード一覧!$A$1:$C$51,3,FALSE)-LEN(競技者一覧!Z250)),競技者一覧!Z250),\"\")","v":""}]
[{"$f":"IFERROR(CONCATENATE(競技者一覧!$D$7), \"\")","v":""},{"$f":"IFERROR(CONCATENATE($H$2,Sheet4!B231),\"\")","v":""},{"$f":"競技者一覧!C251&IF(OR(競技者一覧!H251=\"\",競技者一覧!H251=9),\"\",\"(\" & 競技者一覧!H251 & \")\")","v":""},{"$f":"競技者一覧!D251 &IF(OR(MID(競技者一覧!G251,3,2)=\"\", MID(競技者一覧!G251,3,2)=\"0\"),\"\",\"(\" & MID(競技者一覧!G251,3,2) & \")\")","v":""},{"$f":"ASC(競技者一覧!E251 & \" \" & 競技者一覧!F251 & IF(OR(MID(競技者一覧!G251,3,2)=\"\", MID(競技者一覧!G251,3,2)=\"0\"),\"\",\"(\" & MID(競技者一覧!G251,3,2) & \")\"))","v":" "},{"$f":"CONCATENATE(競技者一覧!I251)","v":""},{"$f":"IFERROR(IF(競技者一覧!$D$6=\"学連\",VLOOKUP(競技者一覧!J251,Sheet4!$D$2:$E$48,2,FALSE),学校名簿!D231),\"\")","v":0},{"$f":"IFERROR(VLOOKUP(競技者一覧!$D$7,学校番号表!$B$2:$C$65536,2,FALSE),\"\")","v":""},{"$f":"CONCATENATE(競技者一覧!B251)","v":""},{"$f":"IFERROR(CONCATENATE(VLOOKUP(競技者一覧!K251,種目コード一覧!$A$1:$C$51,2,FALSE),\" \",REPT(\"0\",VLOOKUP(競技者一覧!K251,種目コード一覧!$A$1:$C$51,3,FALSE)-LEN(競技者一覧!L251)),競技者一覧!L251),\"\")","v":""},{"$f":"IFERROR(CONCATENATE(VLOOKUP(競技者一覧!M251,種目コード一覧!$A$1:$C$51,2,FALSE),\" \",REPT(\"0\",VLOOKUP(競技者一覧!M251,種目コード一覧!$A$1:$C$51,3,FALSE)-LEN(競技者一覧!N251)),競技者一覧!N251),\"\")","v":""},{"$f":"IFERROR(CONCATENATE(VLOOKUP(競技者一覧!O251,種目コード一覧!$A$1:$C$51,2,FALSE),\" \",REPT(\"0\",VLOOKUP(競技者一覧!O251,種目コード一覧!$A$1:$C$51,3,FALSE)-LEN(競技者一覧!P251)),競技者一覧!P251),\"\")","v":""},{"$f":"IFERROR(CONCATENATE(VLOOKUP(競技者一覧!Q251,種目コード一覧!$A$1:$C$51,2,FALSE),\" \",REPT(\"0\",VLOOKUP(競技者一覧!Q251,種目コード一覧!$A$1:$C$51,3,FALSE)-LEN(競技者一覧!R251)),競技者一覧!R251),\"\")","v":""},{"$f":"IFERROR(CONCATENATE(VLOOKUP(競技者一覧!S251,種目コード一覧!$A$1:$C$51,2,FALSE),\" \",REPT(\"0\",VLOOKUP(競技者一覧!S251,種目コード一覧!$A$1:$C$51,3,FALSE)-LEN(競技者一覧!T251)),競技者一覧!T251),\"\")","v":""},{"$f":"IFERROR(CONCATENATE(VLOOKUP(競技者一覧!U251,種目コード一覧!$A$1:$C$51,2,FALSE),\" \",REPT(\"0\",VLOOKUP(競技者一覧!U251,種目コード一覧!$A$1:$C$51,3,FALSE)-LEN(競技者一覧!V251)),競技者一覧!V251),\"\")","v":""},{"$f":"IFERROR(CONCATENATE(VLOOKUP(競技者一覧!W251,種目コード一覧!$A$1:$C$51,2,FALSE),\" \",REPT(\"0\",VLOOKUP(競技者一覧!W251,種目コード一覧!$A$1:$C$51,3,FALSE)-LEN(競技者一覧!X251)),競技者一覧!X251),\"\")","v":""},{"$f":"IFERROR(CONCATENATE(VLOOKUP(競技者一覧!Y251,種目コード一覧!$A$1:$C$51,2,FALSE),\" \",REPT(\"0\",VLOOKUP(競技者一覧!Y251,種目コード一覧!$A$1:$C$51,3,FALSE)-LEN(競技者一覧!Z251)),競技者一覧!Z251),\"\")","v":""}]
[{"$f":"IFERROR(CONCATENATE(競技者一覧!$D$7), \"\")","v":""},{"$f":"IFERROR(CONCATENATE($H$2,Sheet4!B232),\"\")","v":""},{"$f":"競技者一覧!C252&IF(OR(競技者一覧!H252=\"\",競技者一覧!H252=9),\"\",\"(\" & 競技者一覧!H252 & \")\")","v":""},{"$f":"ASC(競技者一覧!D252 &IF(OR(MID(競技者一覧!G252,3,2)=\"\", MID(競技者一覧!G252,3,2)=\"0\"),\"\",\"(\" & MID(競技者一覧!G252,3,2) & \")\"))","v":""},{"$f":"ASC(競技者一覧!E252 & \" \" & 競技者一覧!F252 & IF(OR(MID(競技者一覧!G252,3,2)=\"\", MID(競技者一覧!G252,3,2)=\"0\"),\"\",\"(\" & MID(競技者一覧!G252,3,2) & \")\"))","v":" "},{"$f":"CONCATENATE(競技者一覧!I252)","v":""},{"$f":"IFERROR(IF(競技者一覧!$D$6=\"学連\",VLOOKUP(競技者一覧!J252,Sheet4!$D$2:$E$48,2,FALSE),学校名簿!D232),\"\")","v":0},{"$f":"IFERROR(VLOOKUP(競技者一覧!$D$7,学校番号表!$B$2:$C$65536,2,FALSE),\"\")","v":""},{"$f":"CONCATENATE(競技者一覧!B252)","v":""},{"$f":"IFERROR(CONCATENATE(VLOOKUP(競技者一覧!K252,種目コード一覧!$A$1:$B$51,2,FALSE),\" \",REPT(\"0\",VLOOKUP(競技者一覧!K252,種目コード一覧!$A$1:$C$51,3,FALSE)-LEN(競技者一覧!L252)),競技者一覧!L252),\"\")","v":""},{"$f":"IFERROR(CONCATENATE(VLOOKUP(競技者一覧!M252,種目コード一覧!$A$1:$C$51,2,FALSE),\" \",REPT(\"0\",VLOOKUP(競技者一覧!M252,種目コード一覧!$A$1:$C$51,3,FALSE)-LEN(競技者一覧!N252)),競技者一覧!N252),\"\")","v":""},{"$f":"IFERROR(CONCATENATE(VLOOKUP(競技者一覧!O252,種目コード一覧!$A$1:$C$51,2,FALSE),\" \",REPT(\"0\",VLOOKUP(競技者一覧!O252,種目コード一覧!$A$1:$C$51,3,FALSE)-LEN(競技者一覧!P252)),競技者一覧!P252),\"\")","v":""},{"$f":"IFERROR(CONCATENATE(VLOOKUP(競技者一覧!Q252,種目コード一覧!$A$1:$C$51,2,FALSE),\" \",REPT(\"0\",VLOOKUP(競技者一覧!Q252,種目コード一覧!$A$1:$C$51,3,FALSE)-LEN(競技者一覧!R252)),競技者一覧!R252),\"\")","v":""},{"$f":"IFERROR(CONCATENATE(VLOOKUP(競技者一覧!S252,種目コード一覧!$A$1:$C$51,2,FALSE),\" \",REPT(\"0\",VLOOKUP(競技者一覧!S252,種目コード一覧!$A$1:$C$51,3,FALSE)-LEN(競技者一覧!T252)),競技者一覧!T252),\"\")","v":""},{"$f":"IFERROR(CONCATENATE(VLOOKUP(競技者一覧!U252,種目コード一覧!$A$1:$C$51,2,FALSE),\" \",REPT(\"0\",VLOOKUP(競技者一覧!U252,種目コード一覧!$A$1:$C$51,3,FALSE)-LEN(競技者一覧!V252)),競技者一覧!V252),\"\")","v":""},{"$f":"IFERROR(CONCATENATE(VLOOKUP(競技者一覧!W252,種目コード一覧!$A$1:$C$51,2,FALSE),\" \",REPT(\"0\",VLOOKUP(競技者一覧!W252,種目コード一覧!$A$1:$C$51,3,FALSE)-LEN(競技者一覧!X252)),競技者一覧!X252),\"\")","v":""},{"$f":"IFERROR(CONCATENATE(VLOOKUP(競技者一覧!Y252,種目コード一覧!$A$1:$C$51,2,FALSE),\" \",REPT(\"0\",VLOOKUP(競技者一覧!Y252,種目コード一覧!$A$1:$C$51,3,FALSE)-LEN(競技者一覧!Z252)),競技者一覧!Z252),\"\")","v":""}]
[{"$f":"IFERROR(CONCATENATE(競技者一覧!$D$7), \"\")","v":""},{"$f":"IFERROR(CONCATENATE($H$2,Sheet4!B233),\"\")","v":""},{"$f":"競技者一覧!C253&IF(OR(競技者一覧!H253=\"\",競技者一覧!H253=9),\"\",\"(\" & 競技者一覧!H253 & \")\")","v":""},{"$f":"競技者一覧!D253 &IF(OR(MID(競技者一覧!G253,3,2)=\"\", MID(競技者一覧!G253,3,2)=\"0\"),\"\",\"(\" & MID(競技者一覧!G253,3,2) & \")\")","v":""},{"$f":"ASC(競技者一覧!E253 & \" \" & 競技者一覧!F253 & IF(OR(MID(競技者一覧!G253,3,2)=\"\", MID(競技者一覧!G253,3,2)=\"0\"),\"\",\"(\" & MID(競技者一覧!G253,3,2) & \")\"))","v":" "},{"$f":"CONCATENATE(競技者一覧!I253)","v":""},{"$f":"IFERROR(IF(競技者一覧!$D$6=\"学連\",VLOOKUP(競技者一覧!J253,Sheet4!$D$2:$E$48,2,FALSE),学校名簿!D233),\"\")","v":0},{"$f":"IFERROR(VLOOKUP(競技者一覧!$D$7,学校番号表!$B$2:$C$65536,2,FALSE),\"\")","v":""},{"$f":"CONCATENATE(競技者一覧!B253)","v":""},{"$f":"IFERROR(CONCATENATE(VLOOKUP(競技者一覧!K253,種目コード一覧!$A$1:$C$51,2,FALSE),\" \",REPT(\"0\",VLOOKUP(競技者一覧!K253,種目コード一覧!$A$1:$C$51,3,FALSE)-LEN(競技者一覧!L253)),競技者一覧!L253),\"\")","v":""},{"$f":"IFERROR(CONCATENATE(VLOOKUP(競技者一覧!M253,種目コード一覧!$A$1:$C$51,2,FALSE),\" \",REPT(\"0\",VLOOKUP(競技者一覧!M253,種目コード一覧!$A$1:$C$51,3,FALSE)-LEN(競技者一覧!N253)),競技者一覧!N253),\"\")","v":""},{"$f":"IFERROR(CONCATENATE(VLOOKUP(競技者一覧!O253,種目コード一覧!$A$1:$C$51,2,FALSE),\" \",REPT(\"0\",VLOOKUP(競技者一覧!O253,種目コード一覧!$A$1:$C$51,3,FALSE)-LEN(競技者一覧!P253)),競技者一覧!P253),\"\")","v":""},{"$f":"IFERROR(CONCATENATE(VLOOKUP(競技者一覧!Q253,種目コード一覧!$A$1:$C$51,2,FALSE),\" \",REPT(\"0\",VLOOKUP(競技者一覧!Q253,種目コード一覧!$A$1:$C$51,3,FALSE)-LEN(競技者一覧!R253)),競技者一覧!R253),\"\")","v":""},{"$f":"IFERROR(CONCATENATE(VLOOKUP(競技者一覧!S253,種目コード一覧!$A$1:$C$51,2,FALSE),\" \",REPT(\"0\",VLOOKUP(競技者一覧!S253,種目コード一覧!$A$1:$C$51,3,FALSE)-LEN(競技者一覧!T253)),競技者一覧!T253),\"\")","v":""},{"$f":"IFERROR(CONCATENATE(VLOOKUP(競技者一覧!U253,種目コード一覧!$A$1:$C$51,2,FALSE),\" \",REPT(\"0\",VLOOKUP(競技者一覧!U253,種目コード一覧!$A$1:$C$51,3,FALSE)-LEN(競技者一覧!V253)),競技者一覧!V253),\"\")","v":""},{"$f":"IFERROR(CONCATENATE(VLOOKUP(競技者一覧!W253,種目コード一覧!$A$1:$C$51,2,FALSE),\" \",REPT(\"0\",VLOOKUP(競技者一覧!W253,種目コード一覧!$A$1:$C$51,3,FALSE)-LEN(競技者一覧!X253)),競技者一覧!X253),\"\")","v":""},{"$f":"IFERROR(CONCATENATE(VLOOKUP(競技者一覧!Y253,種目コード一覧!$A$1:$C$51,2,FALSE),\" \",REPT(\"0\",VLOOKUP(競技者一覧!Y253,種目コード一覧!$A$1:$C$51,3,FALSE)-LEN(競技者一覧!Z253)),競技者一覧!Z253),\"\")","v":""}]
[{"$f":"IFERROR(CONCATENATE(競技者一覧!$D$7), \"\")","v":""},{"$f":"IFERROR(CONCATENATE($H$2,Sheet4!B234),\"\")","v":""},{"$f":"競技者一覧!C254&IF(OR(競技者一覧!H254=\"\",競技者一覧!H254=9),\"\",\"(\" & 競技者一覧!H254 & \")\")","v":""},{"$f":"ASC(競技者一覧!D254 &IF(OR(MID(競技者一覧!G254,3,2)=\"\", MID(競技者一覧!G254,3,2)=\"0\"),\"\",\"(\" & MID(競技者一覧!G254,3,2) & \")\"))","v":""},{"$f":"ASC(競技者一覧!E254 & \" \" & 競技者一覧!F254 & IF(OR(MID(競技者一覧!G254,3,2)=\"\", MID(競技者一覧!G254,3,2)=\"0\"),\"\",\"(\" & MID(競技者一覧!G254,3,2) & \")\"))","v":" "},{"$f":"CONCATENATE(競技者一覧!I254)","v":""},{"$f":"IFERROR(IF(競技者一覧!$D$6=\"学連\",VLOOKUP(競技者一覧!J254,Sheet4!$D$2:$E$48,2,FALSE),学校名簿!D234),\"\")","v":0},{"$f":"IFERROR(VLOOKUP(競技者一覧!$D$7,学校番号表!$B$2:$C$65536,2,FALSE),\"\")","v":""},{"$f":"CONCATENATE(競技者一覧!B254)","v":""},{"$f":"IFERROR(CONCATENATE(VLOOKUP(競技者一覧!K254,種目コード一覧!$A$1:$B$51,2,FALSE),\" \",REPT(\"0\",VLOOKUP(競技者一覧!K254,種目コード一覧!$A$1:$C$51,3,FALSE)-LEN(競技者一覧!L254)),競技者一覧!L254),\"\")","v":""},{"$f":"IFERROR(CONCATENATE(VLOOKUP(競技者一覧!M254,種目コード一覧!$A$1:$C$51,2,FALSE),\" \",REPT(\"0\",VLOOKUP(競技者一覧!M254,種目コード一覧!$A$1:$C$51,3,FALSE)-LEN(競技者一覧!N254)),競技者一覧!N254),\"\")","v":""},{"$f":"IFERROR(CONCATENATE(VLOOKUP(競技者一覧!O254,種目コード一覧!$A$1:$C$51,2,FALSE),\" \",REPT(\"0\",VLOOKUP(競技者一覧!O254,種目コード一覧!$A$1:$C$51,3,FALSE)-LEN(競技者一覧!P254)),競技者一覧!P254),\"\")","v":""},{"$f":"IFERROR(CONCATENATE(VLOOKUP(競技者一覧!Q254,種目コード一覧!$A$1:$C$51,2,FALSE),\" \",REPT(\"0\",VLOOKUP(競技者一覧!Q254,種目コード一覧!$A$1:$C$51,3,FALSE)-LEN(競技者一覧!R254)),競技者一覧!R254),\"\")","v":""},{"$f":"IFERROR(CONCATENATE(VLOOKUP(競技者一覧!S254,種目コード一覧!$A$1:$C$51,2,FALSE),\" \",REPT(\"0\",VLOOKUP(競技者一覧!S254,種目コード一覧!$A$1:$C$51,3,FALSE)-LEN(競技者一覧!T254)),競技者一覧!T254),\"\")","v":""},{"$f":"IFERROR(CONCATENATE(VLOOKUP(競技者一覧!U254,種目コード一覧!$A$1:$C$51,2,FALSE),\" \",REPT(\"0\",VLOOKUP(競技者一覧!U254,種目コード一覧!$A$1:$C$51,3,FALSE)-LEN(競技者一覧!V254)),競技者一覧!V254),\"\")","v":""},{"$f":"IFERROR(CONCATENATE(VLOOKUP(競技者一覧!W254,種目コード一覧!$A$1:$C$51,2,FALSE),\" \",REPT(\"0\",VLOOKUP(競技者一覧!W254,種目コード一覧!$A$1:$C$51,3,FALSE)-LEN(競技者一覧!X254)),競技者一覧!X254),\"\")","v":""},{"$f":"IFERROR(CONCATENATE(VLOOKUP(競技者一覧!Y254,種目コード一覧!$A$1:$C$51,2,FALSE),\" \",REPT(\"0\",VLOOKUP(競技者一覧!Y254,種目コード一覧!$A$1:$C$51,3,FALSE)-LEN(競技者一覧!Z254)),競技者一覧!Z254),\"\")","v":""}]
[{"$f":"IFERROR(CONCATENATE(競技者一覧!$D$7), \"\")","v":""},{"$f":"IFERROR(CONCATENATE($H$2,Sheet4!B235),\"\")","v":""},{"$f":"競技者一覧!C255&IF(OR(競技者一覧!H255=\"\",競技者一覧!H255=9),\"\",\"(\" & 競技者一覧!H255 & \")\")","v":""},{"$f":"競技者一覧!D255 &IF(OR(MID(競技者一覧!G255,3,2)=\"\", MID(競技者一覧!G255,3,2)=\"0\"),\"\",\"(\" & MID(競技者一覧!G255,3,2) & \")\")","v":""},{"$f":"ASC(競技者一覧!E255 & \" \" & 競技者一覧!F255 & IF(OR(MID(競技者一覧!G255,3,2)=\"\", MID(競技者一覧!G255,3,2)=\"0\"),\"\",\"(\" & MID(競技者一覧!G255,3,2) & \")\"))","v":" "},{"$f":"CONCATENATE(競技者一覧!I255)","v":""},{"$f":"IFERROR(IF(競技者一覧!$D$6=\"学連\",VLOOKUP(競技者一覧!J255,Sheet4!$D$2:$E$48,2,FALSE),学校名簿!D235),\"\")","v":0},{"$f":"IFERROR(VLOOKUP(競技者一覧!$D$7,学校番号表!$B$2:$C$65536,2,FALSE),\"\")","v":""},{"$f":"CONCATENATE(競技者一覧!B255)","v":""},{"$f":"IFERROR(CONCATENATE(VLOOKUP(競技者一覧!K255,種目コード一覧!$A$1:$C$51,2,FALSE),\" \",REPT(\"0\",VLOOKUP(競技者一覧!K255,種目コード一覧!$A$1:$C$51,3,FALSE)-LEN(競技者一覧!L255)),競技者一覧!L255),\"\")","v":""},{"$f":"IFERROR(CONCATENATE(VLOOKUP(競技者一覧!M255,種目コード一覧!$A$1:$C$51,2,FALSE),\" \",REPT(\"0\",VLOOKUP(競技者一覧!M255,種目コード一覧!$A$1:$C$51,3,FALSE)-LEN(競技者一覧!N255)),競技者一覧!N255),\"\")","v":""},{"$f":"IFERROR(CONCATENATE(VLOOKUP(競技者一覧!O255,種目コード一覧!$A$1:$C$51,2,FALSE),\" \",REPT(\"0\",VLOOKUP(競技者一覧!O255,種目コード一覧!$A$1:$C$51,3,FALSE)-LEN(競技者一覧!P255)),競技者一覧!P255),\"\")","v":""},{"$f":"IFERROR(CONCATENATE(VLOOKUP(競技者一覧!Q255,種目コード一覧!$A$1:$C$51,2,FALSE),\" \",REPT(\"0\",VLOOKUP(競技者一覧!Q255,種目コード一覧!$A$1:$C$51,3,FALSE)-LEN(競技者一覧!R255)),競技者一覧!R255),\"\")","v":""},{"$f":"IFERROR(CONCATENATE(VLOOKUP(競技者一覧!S255,種目コード一覧!$A$1:$C$51,2,FALSE),\" \",REPT(\"0\",VLOOKUP(競技者一覧!S255,種目コード一覧!$A$1:$C$51,3,FALSE)-LEN(競技者一覧!T255)),競技者一覧!T255),\"\")","v":""},{"$f":"IFERROR(CONCATENATE(VLOOKUP(競技者一覧!U255,種目コード一覧!$A$1:$C$51,2,FALSE),\" \",REPT(\"0\",VLOOKUP(競技者一覧!U255,種目コード一覧!$A$1:$C$51,3,FALSE)-LEN(競技者一覧!V255)),競技者一覧!V255),\"\")","v":""},{"$f":"IFERROR(CONCATENATE(VLOOKUP(競技者一覧!W255,種目コード一覧!$A$1:$C$51,2,FALSE),\" \",REPT(\"0\",VLOOKUP(競技者一覧!W255,種目コード一覧!$A$1:$C$51,3,FALSE)-LEN(競技者一覧!X255)),競技者一覧!X255),\"\")","v":""},{"$f":"IFERROR(CONCATENATE(VLOOKUP(競技者一覧!Y255,種目コード一覧!$A$1:$C$51,2,FALSE),\" \",REPT(\"0\",VLOOKUP(競技者一覧!Y255,種目コード一覧!$A$1:$C$51,3,FALSE)-LEN(競技者一覧!Z255)),競技者一覧!Z255),\"\")","v":""}]
[{"$f":"IFERROR(CONCATENATE(競技者一覧!$D$7), \"\")","v":""},{"$f":"IFERROR(CONCATENATE($H$2,Sheet4!B236),\"\")","v":""},{"$f":"競技者一覧!C256&IF(OR(競技者一覧!H256=\"\",競技者一覧!H256=9),\"\",\"(\" & 競技者一覧!H256 & \")\")","v":""},{"$f":"ASC(競技者一覧!D256 &IF(OR(MID(競技者一覧!G256,3,2)=\"\", MID(競技者一覧!G256,3,2)=\"0\"),\"\",\"(\" & MID(競技者一覧!G256,3,2) & \")\"))","v":""},{"$f":"ASC(競技者一覧!E256 & \" \" & 競技者一覧!F256 & IF(OR(MID(競技者一覧!G256,3,2)=\"\", MID(競技者一覧!G256,3,2)=\"0\"),\"\",\"(\" & MID(競技者一覧!G256,3,2) & \")\"))","v":" "},{"$f":"CONCATENATE(競技者一覧!I256)","v":""},{"$f":"IFERROR(IF(競技者一覧!$D$6=\"学連\",VLOOKUP(競技者一覧!J256,Sheet4!$D$2:$E$48,2,FALSE),学校名簿!D236),\"\")","v":0},{"$f":"IFERROR(VLOOKUP(競技者一覧!$D$7,学校番号表!$B$2:$C$65536,2,FALSE),\"\")","v":""},{"$f":"CONCATENATE(競技者一覧!B256)","v":""},{"$f":"IFERROR(CONCATENATE(VLOOKUP(競技者一覧!K256,種目コード一覧!$A$1:$B$51,2,FALSE),\" \",REPT(\"0\",VLOOKUP(競技者一覧!K256,種目コード一覧!$A$1:$C$51,3,FALSE)-LEN(競技者一覧!L256)),競技者一覧!L256),\"\")","v":""},{"$f":"IFERROR(CONCATENATE(VLOOKUP(競技者一覧!M256,種目コード一覧!$A$1:$C$51,2,FALSE),\" \",REPT(\"0\",VLOOKUP(競技者一覧!M256,種目コード一覧!$A$1:$C$51,3,FALSE)-LEN(競技者一覧!N256)),競技者一覧!N256),\"\")","v":""},{"$f":"IFERROR(CONCATENATE(VLOOKUP(競技者一覧!O256,種目コード一覧!$A$1:$C$51,2,FALSE),\" \",REPT(\"0\",VLOOKUP(競技者一覧!O256,種目コード一覧!$A$1:$C$51,3,FALSE)-LEN(競技者一覧!P256)),競技者一覧!P256),\"\")","v":""},{"$f":"IFERROR(CONCATENATE(VLOOKUP(競技者一覧!Q256,種目コード一覧!$A$1:$C$51,2,FALSE),\" \",REPT(\"0\",VLOOKUP(競技者一覧!Q256,種目コード一覧!$A$1:$C$51,3,FALSE)-LEN(競技者一覧!R256)),競技者一覧!R256),\"\")","v":""},{"$f":"IFERROR(CONCATENATE(VLOOKUP(競技者一覧!S256,種目コード一覧!$A$1:$C$51,2,FALSE),\" \",REPT(\"0\",VLOOKUP(競技者一覧!S256,種目コード一覧!$A$1:$C$51,3,FALSE)-LEN(競技者一覧!T256)),競技者一覧!T256),\"\")","v":""},{"$f":"IFERROR(CONCATENATE(VLOOKUP(競技者一覧!U256,種目コード一覧!$A$1:$C$51,2,FALSE),\" \",REPT(\"0\",VLOOKUP(競技者一覧!U256,種目コード一覧!$A$1:$C$51,3,FALSE)-LEN(競技者一覧!V256)),競技者一覧!V256),\"\")","v":""},{"$f":"IFERROR(CONCATENATE(VLOOKUP(競技者一覧!W256,種目コード一覧!$A$1:$C$51,2,FALSE),\" \",REPT(\"0\",VLOOKUP(競技者一覧!W256,種目コード一覧!$A$1:$C$51,3,FALSE)-LEN(競技者一覧!X256)),競技者一覧!X256),\"\")","v":""},{"$f":"IFERROR(CONCATENATE(VLOOKUP(競技者一覧!Y256,種目コード一覧!$A$1:$C$51,2,FALSE),\" \",REPT(\"0\",VLOOKUP(競技者一覧!Y256,種目コード一覧!$A$1:$C$51,3,FALSE)-LEN(競技者一覧!Z256)),競技者一覧!Z256),\"\")","v":""}]
[{"$f":"IFERROR(CONCATENATE(競技者一覧!$D$7), \"\")","v":""},{"$f":"IFERROR(CONCATENATE($H$2,Sheet4!B237),\"\")","v":""},{"$f":"競技者一覧!C257&IF(OR(競技者一覧!H257=\"\",競技者一覧!H257=9),\"\",\"(\" & 競技者一覧!H257 & \")\")","v":""},{"$f":"競技者一覧!D257 &IF(OR(MID(競技者一覧!G257,3,2)=\"\", MID(競技者一覧!G257,3,2)=\"0\"),\"\",\"(\" & MID(競技者一覧!G257,3,2) & \")\")","v":""},{"$f":"ASC(競技者一覧!E257 & \" \" & 競技者一覧!F257 & IF(OR(MID(競技者一覧!G257,3,2)=\"\", MID(競技者一覧!G257,3,2)=\"0\"),\"\",\"(\" & MID(競技者一覧!G257,3,2) & \")\"))","v":" "},{"$f":"CONCATENATE(競技者一覧!I257)","v":""},{"$f":"IFERROR(IF(競技者一覧!$D$6=\"学連\",VLOOKUP(競技者一覧!J257,Sheet4!$D$2:$E$48,2,FALSE),学校名簿!D237),\"\")","v":0},{"$f":"IFERROR(VLOOKUP(競技者一覧!$D$7,学校番号表!$B$2:$C$65536,2,FALSE),\"\")","v":""},{"$f":"CONCATENATE(競技者一覧!B257)","v":""},{"$f":"IFERROR(CONCATENATE(VLOOKUP(競技者一覧!K257,種目コード一覧!$A$1:$C$51,2,FALSE),\" \",REPT(\"0\",VLOOKUP(競技者一覧!K257,種目コード一覧!$A$1:$C$51,3,FALSE)-LEN(競技者一覧!L257)),競技者一覧!L257),\"\")","v":""},{"$f":"IFERROR(CONCATENATE(VLOOKUP(競技者一覧!M257,種目コード一覧!$A$1:$C$51,2,FALSE),\" \",REPT(\"0\",VLOOKUP(競技者一覧!M257,種目コード一覧!$A$1:$C$51,3,FALSE)-LEN(競技者一覧!N257)),競技者一覧!N257),\"\")","v":""},{"$f":"IFERROR(CONCATENATE(VLOOKUP(競技者一覧!O257,種目コード一覧!$A$1:$C$51,2,FALSE),\" \",REPT(\"0\",VLOOKUP(競技者一覧!O257,種目コード一覧!$A$1:$C$51,3,FALSE)-LEN(競技者一覧!P257)),競技者一覧!P257),\"\")","v":""},{"$f":"IFERROR(CONCATENATE(VLOOKUP(競技者一覧!Q257,種目コード一覧!$A$1:$C$51,2,FALSE),\" \",REPT(\"0\",VLOOKUP(競技者一覧!Q257,種目コード一覧!$A$1:$C$51,3,FALSE)-LEN(競技者一覧!R257)),競技者一覧!R257),\"\")","v":""},{"$f":"IFERROR(CONCATENATE(VLOOKUP(競技者一覧!S257,種目コード一覧!$A$1:$C$51,2,FALSE),\" \",REPT(\"0\",VLOOKUP(競技者一覧!S257,種目コード一覧!$A$1:$C$51,3,FALSE)-LEN(競技者一覧!T257)),競技者一覧!T257),\"\")","v":""},{"$f":"IFERROR(CONCATENATE(VLOOKUP(競技者一覧!U257,種目コード一覧!$A$1:$C$51,2,FALSE),\" \",REPT(\"0\",VLOOKUP(競技者一覧!U257,種目コード一覧!$A$1:$C$51,3,FALSE)-LEN(競技者一覧!V257)),競技者一覧!V257),\"\")","v":""},{"$f":"IFERROR(CONCATENATE(VLOOKUP(競技者一覧!W257,種目コード一覧!$A$1:$C$51,2,FALSE),\" \",REPT(\"0\",VLOOKUP(競技者一覧!W257,種目コード一覧!$A$1:$C$51,3,FALSE)-LEN(競技者一覧!X257)),競技者一覧!X257),\"\")","v":""},{"$f":"IFERROR(CONCATENATE(VLOOKUP(競技者一覧!Y257,種目コード一覧!$A$1:$C$51,2,FALSE),\" \",REPT(\"0\",VLOOKUP(競技者一覧!Y257,種目コード一覧!$A$1:$C$51,3,FALSE)-LEN(競技者一覧!Z257)),競技者一覧!Z257),\"\")","v":""}]
[{"$f":"IFERROR(CONCATENATE(競技者一覧!$D$7), \"\")","v":""},{"$f":"IFERROR(CONCATENATE($H$2,Sheet4!B238),\"\")","v":""},{"$f":"競技者一覧!C258&IF(OR(競技者一覧!H258=\"\",競技者一覧!H258=9),\"\",\"(\" & 競技者一覧!H258 & \")\")","v":""},{"$f":"ASC(競技者一覧!D258 &IF(OR(MID(競技者一覧!G258,3,2)=\"\", MID(競技者一覧!G258,3,2)=\"0\"),\"\",\"(\" & MID(競技者一覧!G258,3,2) & \")\"))","v":""},{"$f":"ASC(競技者一覧!E258 & \" \" & 競技者一覧!F258 & IF(OR(MID(競技者一覧!G258,3,2)=\"\", MID(競技者一覧!G258,3,2)=\"0\"),\"\",\"(\" & MID(競技者一覧!G258,3,2) & \")\"))","v":" "},{"$f":"CONCATENATE(競技者一覧!I258)","v":""},{"$f":"IFERROR(IF(競技者一覧!$D$6=\"学連\",VLOOKUP(競技者一覧!J258,Sheet4!$D$2:$E$48,2,FALSE),学校名簿!D238),\"\")","v":0},{"$f":"IFERROR(VLOOKUP(競技者一覧!$D$7,学校番号表!$B$2:$C$65536,2,FALSE),\"\")","v":""},{"$f":"CONCATENATE(競技者一覧!B258)","v":""},{"$f":"IFERROR(CONCATENATE(VLOOKUP(競技者一覧!K258,種目コード一覧!$A$1:$B$51,2,FALSE),\" \",REPT(\"0\",VLOOKUP(競技者一覧!K258,種目コード一覧!$A$1:$C$51,3,FALSE)-LEN(競技者一覧!L258)),競技者一覧!L258),\"\")","v":""},{"$f":"IFERROR(CONCATENATE(VLOOKUP(競技者一覧!M258,種目コード一覧!$A$1:$C$51,2,FALSE),\" \",REPT(\"0\",VLOOKUP(競技者一覧!M258,種目コード一覧!$A$1:$C$51,3,FALSE)-LEN(競技者一覧!N258)),競技者一覧!N258),\"\")","v":""},{"$f":"IFERROR(CONCATENATE(VLOOKUP(競技者一覧!O258,種目コード一覧!$A$1:$C$51,2,FALSE),\" \",REPT(\"0\",VLOOKUP(競技者一覧!O258,種目コード一覧!$A$1:$C$51,3,FALSE)-LEN(競技者一覧!P258)),競技者一覧!P258),\"\")","v":""},{"$f":"IFERROR(CONCATENATE(VLOOKUP(競技者一覧!Q258,種目コード一覧!$A$1:$C$51,2,FALSE),\" \",REPT(\"0\",VLOOKUP(競技者一覧!Q258,種目コード一覧!$A$1:$C$51,3,FALSE)-LEN(競技者一覧!R258)),競技者一覧!R258),\"\")","v":""},{"$f":"IFERROR(CONCATENATE(VLOOKUP(競技者一覧!S258,種目コード一覧!$A$1:$C$51,2,FALSE),\" \",REPT(\"0\",VLOOKUP(競技者一覧!S258,種目コード一覧!$A$1:$C$51,3,FALSE)-LEN(競技者一覧!T258)),競技者一覧!T258),\"\")","v":""},{"$f":"IFERROR(CONCATENATE(VLOOKUP(競技者一覧!U258,種目コード一覧!$A$1:$C$51,2,FALSE),\" \",REPT(\"0\",VLOOKUP(競技者一覧!U258,種目コード一覧!$A$1:$C$51,3,FALSE)-LEN(競技者一覧!V258)),競技者一覧!V258),\"\")","v":""},{"$f":"IFERROR(CONCATENATE(VLOOKUP(競技者一覧!W258,種目コード一覧!$A$1:$C$51,2,FALSE),\" \",REPT(\"0\",VLOOKUP(競技者一覧!W258,種目コード一覧!$A$1:$C$51,3,FALSE)-LEN(競技者一覧!X258)),競技者一覧!X258),\"\")","v":""},{"$f":"IFERROR(CONCATENATE(VLOOKUP(競技者一覧!Y258,種目コード一覧!$A$1:$C$51,2,FALSE),\" \",REPT(\"0\",VLOOKUP(競技者一覧!Y258,種目コード一覧!$A$1:$C$51,3,FALSE)-LEN(競技者一覧!Z258)),競技者一覧!Z258),\"\")","v":""}]
[{"$f":"IFERROR(CONCATENATE(競技者一覧!$D$7), \"\")","v":""},{"$f":"IFERROR(CONCATENATE($H$2,Sheet4!B239),\"\")","v":""},{"$f":"競技者一覧!C259&IF(OR(競技者一覧!H259=\"\",競技者一覧!H259=9),\"\",\"(\" & 競技者一覧!H259 & \")\")","v":""},{"$f":"競技者一覧!D259 &IF(OR(MID(競技者一覧!G259,3,2)=\"\", MID(競技者一覧!G259,3,2)=\"0\"),\"\",\"(\" & MID(競技者一覧!G259,3,2) & \")\")","v":""},{"$f":"ASC(競技者一覧!E259 & \" \" & 競技者一覧!F259 & IF(OR(MID(競技者一覧!G259,3,2)=\"\", MID(競技者一覧!G259,3,2)=\"0\"),\"\",\"(\" & MID(競技者一覧!G259,3,2) & \")\"))","v":" "},{"$f":"CONCATENATE(競技者一覧!I259)","v":""},{"$f":"IFERROR(IF(競技者一覧!$D$6=\"学連\",VLOOKUP(競技者一覧!J259,Sheet4!$D$2:$E$48,2,FALSE),学校名簿!D239),\"\")","v":0},{"$f":"IFERROR(VLOOKUP(競技者一覧!$D$7,学校番号表!$B$2:$C$65536,2,FALSE),\"\")","v":""},{"$f":"CONCATENATE(競技者一覧!B259)","v":""},{"$f":"IFERROR(CONCATENATE(VLOOKUP(競技者一覧!K259,種目コード一覧!$A$1:$C$51,2,FALSE),\" \",REPT(\"0\",VLOOKUP(競技者一覧!K259,種目コード一覧!$A$1:$C$51,3,FALSE)-LEN(競技者一覧!L259)),競技者一覧!L259),\"\")","v":""},{"$f":"IFERROR(CONCATENATE(VLOOKUP(競技者一覧!M259,種目コード一覧!$A$1:$C$51,2,FALSE),\" \",REPT(\"0\",VLOOKUP(競技者一覧!M259,種目コード一覧!$A$1:$C$51,3,FALSE)-LEN(競技者一覧!N259)),競技者一覧!N259),\"\")","v":""},{"$f":"IFERROR(CONCATENATE(VLOOKUP(競技者一覧!O259,種目コード一覧!$A$1:$C$51,2,FALSE),\" \",REPT(\"0\",VLOOKUP(競技者一覧!O259,種目コード一覧!$A$1:$C$51,3,FALSE)-LEN(競技者一覧!P259)),競技者一覧!P259),\"\")","v":""},{"$f":"IFERROR(CONCATENATE(VLOOKUP(競技者一覧!Q259,種目コード一覧!$A$1:$C$51,2,FALSE),\" \",REPT(\"0\",VLOOKUP(競技者一覧!Q259,種目コード一覧!$A$1:$C$51,3,FALSE)-LEN(競技者一覧!R259)),競技者一覧!R259),\"\")","v":""},{"$f":"IFERROR(CONCATENATE(VLOOKUP(競技者一覧!S259,種目コード一覧!$A$1:$C$51,2,FALSE),\" \",REPT(\"0\",VLOOKUP(競技者一覧!S259,種目コード一覧!$A$1:$C$51,3,FALSE)-LEN(競技者一覧!T259)),競技者一覧!T259),\"\")","v":""},{"$f":"IFERROR(CONCATENATE(VLOOKUP(競技者一覧!U259,種目コード一覧!$A$1:$C$51,2,FALSE),\" \",REPT(\"0\",VLOOKUP(競技者一覧!U259,種目コード一覧!$A$1:$C$51,3,FALSE)-LEN(競技者一覧!V259)),競技者一覧!V259),\"\")","v":""},{"$f":"IFERROR(CONCATENATE(VLOOKUP(競技者一覧!W259,種目コード一覧!$A$1:$C$51,2,FALSE),\" \",REPT(\"0\",VLOOKUP(競技者一覧!W259,種目コード一覧!$A$1:$C$51,3,FALSE)-LEN(競技者一覧!X259)),競技者一覧!X259),\"\")","v":""},{"$f":"IFERROR(CONCATENATE(VLOOKUP(競技者一覧!Y259,種目コード一覧!$A$1:$C$51,2,FALSE),\" \",REPT(\"0\",VLOOKUP(競技者一覧!Y259,種目コード一覧!$A$1:$C$51,3,FALSE)-LEN(競技者一覧!Z259)),競技者一覧!Z259),\"\")","v":""}]
[{"$f":"IFERROR(CONCATENATE(競技者一覧!$D$7), \"\")","v":""},{"$f":"IFERROR(CONCATENATE($H$2,Sheet4!B240),\"\")","v":""},{"$f":"競技者一覧!C260&IF(OR(競技者一覧!H260=\"\",競技者一覧!H260=9),\"\",\"(\" & 競技者一覧!H260 & \")\")","v":""},{"$f":"ASC(競技者一覧!D260 &IF(OR(MID(競技者一覧!G260,3,2)=\"\", MID(競技者一覧!G260,3,2)=\"0\"),\"\",\"(\" & MID(競技者一覧!G260,3,2) & \")\"))","v":""},{"$f":"ASC(競技者一覧!E260 & \" \" & 競技者一覧!F260 & IF(OR(MID(競技者一覧!G260,3,2)=\"\", MID(競技者一覧!G260,3,2)=\"0\"),\"\",\"(\" & MID(競技者一覧!G260,3,2) & \")\"))","v":" "},{"$f":"CONCATENATE(競技者一覧!I260)","v":""},{"$f":"IFERROR(IF(競技者一覧!$D$6=\"学連\",VLOOKUP(競技者一覧!J260,Sheet4!$D$2:$E$48,2,FALSE),学校名簿!D240),\"\")","v":0},{"$f":"IFERROR(VLOOKUP(競技者一覧!$D$7,学校番号表!$B$2:$C$65536,2,FALSE),\"\")","v":""},{"$f":"CONCATENATE(競技者一覧!B260)","v":""},{"$f":"IFERROR(CONCATENATE(VLOOKUP(競技者一覧!K260,種目コード一覧!$A$1:$B$51,2,FALSE),\" \",REPT(\"0\",VLOOKUP(競技者一覧!K260,種目コード一覧!$A$1:$C$51,3,FALSE)-LEN(競技者一覧!L260)),競技者一覧!L260),\"\")","v":""},{"$f":"IFERROR(CONCATENATE(VLOOKUP(競技者一覧!M260,種目コード一覧!$A$1:$C$51,2,FALSE),\" \",REPT(\"0\",VLOOKUP(競技者一覧!M260,種目コード一覧!$A$1:$C$51,3,FALSE)-LEN(競技者一覧!N260)),競技者一覧!N260),\"\")","v":""},{"$f":"IFERROR(CONCATENATE(VLOOKUP(競技者一覧!O260,種目コード一覧!$A$1:$C$51,2,FALSE),\" \",REPT(\"0\",VLOOKUP(競技者一覧!O260,種目コード一覧!$A$1:$C$51,3,FALSE)-LEN(競技者一覧!P260)),競技者一覧!P260),\"\")","v":""},{"$f":"IFERROR(CONCATENATE(VLOOKUP(競技者一覧!Q260,種目コード一覧!$A$1:$C$51,2,FALSE),\" \",REPT(\"0\",VLOOKUP(競技者一覧!Q260,種目コード一覧!$A$1:$C$51,3,FALSE)-LEN(競技者一覧!R260)),競技者一覧!R260),\"\")","v":""},{"$f":"IFERROR(CONCATENATE(VLOOKUP(競技者一覧!S260,種目コード一覧!$A$1:$C$51,2,FALSE),\" \",REPT(\"0\",VLOOKUP(競技者一覧!S260,種目コード一覧!$A$1:$C$51,3,FALSE)-LEN(競技者一覧!T260)),競技者一覧!T260),\"\")","v":""},{"$f":"IFERROR(CONCATENATE(VLOOKUP(競技者一覧!U260,種目コード一覧!$A$1:$C$51,2,FALSE),\" \",REPT(\"0\",VLOOKUP(競技者一覧!U260,種目コード一覧!$A$1:$C$51,3,FALSE)-LEN(競技者一覧!V260)),競技者一覧!V260),\"\")","v":""},{"$f":"IFERROR(CONCATENATE(VLOOKUP(競技者一覧!W260,種目コード一覧!$A$1:$C$51,2,FALSE),\" \",REPT(\"0\",VLOOKUP(競技者一覧!W260,種目コード一覧!$A$1:$C$51,3,FALSE)-LEN(競技者一覧!X260)),競技者一覧!X260),\"\")","v":""},{"$f":"IFERROR(CONCATENATE(VLOOKUP(競技者一覧!Y260,種目コード一覧!$A$1:$C$51,2,FALSE),\" \",REPT(\"0\",VLOOKUP(競技者一覧!Y260,種目コード一覧!$A$1:$C$51,3,FALSE)-LEN(競技者一覧!Z260)),競技者一覧!Z260),\"\")","v":""}]
[{"$f":"IFERROR(CONCATENATE(競技者一覧!$D$7), \"\")","v":""},{"$f":"IFERROR(CONCATENATE($H$2,Sheet4!B241),\"\")","v":""},{"$f":"競技者一覧!C261&IF(OR(競技者一覧!H261=\"\",競技者一覧!H261=9),\"\",\"(\" & 競技者一覧!H261 & \")\")","v":""},{"$f":"競技者一覧!D261 &IF(OR(MID(競技者一覧!G261,3,2)=\"\", MID(競技者一覧!G261,3,2)=\"0\"),\"\",\"(\" & MID(競技者一覧!G261,3,2) & \")\")","v":""},{"$f":"ASC(競技者一覧!E261 & \" \" & 競技者一覧!F261 & IF(OR(MID(競技者一覧!G261,3,2)=\"\", MID(競技者一覧!G261,3,2)=\"0\"),\"\",\"(\" & MID(競技者一覧!G261,3,2) & \")\"))","v":" "},{"$f":"CONCATENATE(競技者一覧!I261)","v":""},{"$f":"IFERROR(IF(競技者一覧!$D$6=\"学連\",VLOOKUP(競技者一覧!J261,Sheet4!$D$2:$E$48,2,FALSE),学校名簿!D241),\"\")","v":0},{"$f":"IFERROR(VLOOKUP(競技者一覧!$D$7,学校番号表!$B$2:$C$65536,2,FALSE),\"\")","v":""},{"$f":"CONCATENATE(競技者一覧!B261)","v":""},{"$f":"IFERROR(CONCATENATE(VLOOKUP(競技者一覧!K261,種目コード一覧!$A$1:$C$51,2,FALSE),\" \",REPT(\"0\",VLOOKUP(競技者一覧!K261,種目コード一覧!$A$1:$C$51,3,FALSE)-LEN(競技者一覧!L261)),競技者一覧!L261),\"\")","v":""},{"$f":"IFERROR(CONCATENATE(VLOOKUP(競技者一覧!M261,種目コード一覧!$A$1:$C$51,2,FALSE),\" \",REPT(\"0\",VLOOKUP(競技者一覧!M261,種目コード一覧!$A$1:$C$51,3,FALSE)-LEN(競技者一覧!N261)),競技者一覧!N261),\"\")","v":""},{"$f":"IFERROR(CONCATENATE(VLOOKUP(競技者一覧!O261,種目コード一覧!$A$1:$C$51,2,FALSE),\" \",REPT(\"0\",VLOOKUP(競技者一覧!O261,種目コード一覧!$A$1:$C$51,3,FALSE)-LEN(競技者一覧!P261)),競技者一覧!P261),\"\")","v":""},{"$f":"IFERROR(CONCATENATE(VLOOKUP(競技者一覧!Q261,種目コード一覧!$A$1:$C$51,2,FALSE),\" \",REPT(\"0\",VLOOKUP(競技者一覧!Q261,種目コード一覧!$A$1:$C$51,3,FALSE)-LEN(競技者一覧!R261)),競技者一覧!R261),\"\")","v":""},{"$f":"IFERROR(CONCATENATE(VLOOKUP(競技者一覧!S261,種目コード一覧!$A$1:$C$51,2,FALSE),\" \",REPT(\"0\",VLOOKUP(競技者一覧!S261,種目コード一覧!$A$1:$C$51,3,FALSE)-LEN(競技者一覧!T261)),競技者一覧!T261),\"\")","v":""},{"$f":"IFERROR(CONCATENATE(VLOOKUP(競技者一覧!U261,種目コード一覧!$A$1:$C$51,2,FALSE),\" \",REPT(\"0\",VLOOKUP(競技者一覧!U261,種目コード一覧!$A$1:$C$51,3,FALSE)-LEN(競技者一覧!V261)),競技者一覧!V261),\"\")","v":""},{"$f":"IFERROR(CONCATENATE(VLOOKUP(競技者一覧!W261,種目コード一覧!$A$1:$C$51,2,FALSE),\" \",REPT(\"0\",VLOOKUP(競技者一覧!W261,種目コード一覧!$A$1:$C$51,3,FALSE)-LEN(競技者一覧!X261)),競技者一覧!X261),\"\")","v":""},{"$f":"IFERROR(CONCATENATE(VLOOKUP(競技者一覧!Y261,種目コード一覧!$A$1:$C$51,2,FALSE),\" \",REPT(\"0\",VLOOKUP(競技者一覧!Y261,種目コード一覧!$A$1:$C$51,3,FALSE)-LEN(競技者一覧!Z261)),競技者一覧!Z261),\"\")","v":""}]
[{"$f":"IFERROR(CONCATENATE(競技者一覧!$D$7), \"\")","v":""},{"$f":"IFERROR(CONCATENATE($H$2,Sheet4!B242),\"\")","v":""},{"$f":"競技者一覧!C262&IF(OR(競技者一覧!H262=\"\",競技者一覧!H262=9),\"\",\"(\" & 競技者一覧!H262 & \")\")","v":""},{"$f":"ASC(競技者一覧!D262 &IF(OR(MID(競技者一覧!G262,3,2)=\"\", MID(競技者一覧!G262,3,2)=\"0\"),\"\",\"(\" & MID(競技者一覧!G262,3,2) & \")\"))","v":""},{"$f":"ASC(競技者一覧!E262 & \" \" & 競技者一覧!F262 & IF(OR(MID(競技者一覧!G262,3,2)=\"\", MID(競技者一覧!G262,3,2)=\"0\"),\"\",\"(\" & MID(競技者一覧!G262,3,2) & \")\"))","v":" "},{"$f":"CONCATENATE(競技者一覧!I262)","v":""},{"$f":"IFERROR(IF(競技者一覧!$D$6=\"学連\",VLOOKUP(競技者一覧!J262,Sheet4!$D$2:$E$48,2,FALSE),学校名簿!D242),\"\")","v":0},{"$f":"IFERROR(VLOOKUP(競技者一覧!$D$7,学校番号表!$B$2:$C$65536,2,FALSE),\"\")","v":""},{"$f":"CONCATENATE(競技者一覧!B262)","v":""},{"$f":"IFERROR(CONCATENATE(VLOOKUP(競技者一覧!K262,種目コード一覧!$A$1:$B$51,2,FALSE),\" \",REPT(\"0\",VLOOKUP(競技者一覧!K262,種目コード一覧!$A$1:$C$51,3,FALSE)-LEN(競技者一覧!L262)),競技者一覧!L262),\"\")","v":""},{"$f":"IFERROR(CONCATENATE(VLOOKUP(競技者一覧!M262,種目コード一覧!$A$1:$C$51,2,FALSE),\" \",REPT(\"0\",VLOOKUP(競技者一覧!M262,種目コード一覧!$A$1:$C$51,3,FALSE)-LEN(競技者一覧!N262)),競技者一覧!N262),\"\")","v":""},{"$f":"IFERROR(CONCATENATE(VLOOKUP(競技者一覧!O262,種目コード一覧!$A$1:$C$51,2,FALSE),\" \",REPT(\"0\",VLOOKUP(競技者一覧!O262,種目コード一覧!$A$1:$C$51,3,FALSE)-LEN(競技者一覧!P262)),競技者一覧!P262),\"\")","v":""},{"$f":"IFERROR(CONCATENATE(VLOOKUP(競技者一覧!Q262,種目コード一覧!$A$1:$C$51,2,FALSE),\" \",REPT(\"0\",VLOOKUP(競技者一覧!Q262,種目コード一覧!$A$1:$C$51,3,FALSE)-LEN(競技者一覧!R262)),競技者一覧!R262),\"\")","v":""},{"$f":"IFERROR(CONCATENATE(VLOOKUP(競技者一覧!S262,種目コード一覧!$A$1:$C$51,2,FALSE),\" \",REPT(\"0\",VLOOKUP(競技者一覧!S262,種目コード一覧!$A$1:$C$51,3,FALSE)-LEN(競技者一覧!T262)),競技者一覧!T262),\"\")","v":""},{"$f":"IFERROR(CONCATENATE(VLOOKUP(競技者一覧!U262,種目コード一覧!$A$1:$C$51,2,FALSE),\" \",REPT(\"0\",VLOOKUP(競技者一覧!U262,種目コード一覧!$A$1:$C$51,3,FALSE)-LEN(競技者一覧!V262)),競技者一覧!V262),\"\")","v":""},{"$f":"IFERROR(CONCATENATE(VLOOKUP(競技者一覧!W262,種目コード一覧!$A$1:$C$51,2,FALSE),\" \",REPT(\"0\",VLOOKUP(競技者一覧!W262,種目コード一覧!$A$1:$C$51,3,FALSE)-LEN(競技者一覧!X262)),競技者一覧!X262),\"\")","v":""},{"$f":"IFERROR(CONCATENATE(VLOOKUP(競技者一覧!Y262,種目コード一覧!$A$1:$C$51,2,FALSE),\" \",REPT(\"0\",VLOOKUP(競技者一覧!Y262,種目コード一覧!$A$1:$C$51,3,FALSE)-LEN(競技者一覧!Z262)),競技者一覧!Z262),\"\")","v":""}]
[{"$f":"IFERROR(CONCATENATE(競技者一覧!$D$7), \"\")","v":""},{"$f":"IFERROR(CONCATENATE($H$2,Sheet4!B243),\"\")","v":""},{"$f":"競技者一覧!C263&IF(OR(競技者一覧!H263=\"\",競技者一覧!H263=9),\"\",\"(\" & 競技者一覧!H263 & \")\")","v":""},{"$f":"競技者一覧!D263 &IF(OR(MID(競技者一覧!G263,3,2)=\"\", MID(競技者一覧!G263,3,2)=\"0\"),\"\",\"(\" & MID(競技者一覧!G263,3,2) & \")\")","v":""},{"$f":"ASC(競技者一覧!E263 & \" \" & 競技者一覧!F263 & IF(OR(MID(競技者一覧!G263,3,2)=\"\", MID(競技者一覧!G263,3,2)=\"0\"),\"\",\"(\" & MID(競技者一覧!G263,3,2) & \")\"))","v":" "},{"$f":"CONCATENATE(競技者一覧!I263)","v":""},{"$f":"IFERROR(IF(競技者一覧!$D$6=\"学連\",VLOOKUP(競技者一覧!J263,Sheet4!$D$2:$E$48,2,FALSE),学校名簿!D243),\"\")","v":0},{"$f":"IFERROR(VLOOKUP(競技者一覧!$D$7,学校番号表!$B$2:$C$65536,2,FALSE),\"\")","v":""},{"$f":"CONCATENATE(競技者一覧!B263)","v":""},{"$f":"IFERROR(CONCATENATE(VLOOKUP(競技者一覧!K263,種目コード一覧!$A$1:$C$51,2,FALSE),\" \",REPT(\"0\",VLOOKUP(競技者一覧!K263,種目コード一覧!$A$1:$C$51,3,FALSE)-LEN(競技者一覧!L263)),競技者一覧!L263),\"\")","v":""},{"$f":"IFERROR(CONCATENATE(VLOOKUP(競技者一覧!M263,種目コード一覧!$A$1:$C$51,2,FALSE),\" \",REPT(\"0\",VLOOKUP(競技者一覧!M263,種目コード一覧!$A$1:$C$51,3,FALSE)-LEN(競技者一覧!N263)),競技者一覧!N263),\"\")","v":""},{"$f":"IFERROR(CONCATENATE(VLOOKUP(競技者一覧!O263,種目コード一覧!$A$1:$C$51,2,FALSE),\" \",REPT(\"0\",VLOOKUP(競技者一覧!O263,種目コード一覧!$A$1:$C$51,3,FALSE)-LEN(競技者一覧!P263)),競技者一覧!P263),\"\")","v":""},{"$f":"IFERROR(CONCATENATE(VLOOKUP(競技者一覧!Q263,種目コード一覧!$A$1:$C$51,2,FALSE),\" \",REPT(\"0\",VLOOKUP(競技者一覧!Q263,種目コード一覧!$A$1:$C$51,3,FALSE)-LEN(競技者一覧!R263)),競技者一覧!R263),\"\")","v":""},{"$f":"IFERROR(CONCATENATE(VLOOKUP(競技者一覧!S263,種目コード一覧!$A$1:$C$51,2,FALSE),\" \",REPT(\"0\",VLOOKUP(競技者一覧!S263,種目コード一覧!$A$1:$C$51,3,FALSE)-LEN(競技者一覧!T263)),競技者一覧!T263),\"\")","v":""},{"$f":"IFERROR(CONCATENATE(VLOOKUP(競技者一覧!U263,種目コード一覧!$A$1:$C$51,2,FALSE),\" \",REPT(\"0\",VLOOKUP(競技者一覧!U263,種目コード一覧!$A$1:$C$51,3,FALSE)-LEN(競技者一覧!V263)),競技者一覧!V263),\"\")","v":""},{"$f":"IFERROR(CONCATENATE(VLOOKUP(競技者一覧!W263,種目コード一覧!$A$1:$C$51,2,FALSE),\" \",REPT(\"0\",VLOOKUP(競技者一覧!W263,種目コード一覧!$A$1:$C$51,3,FALSE)-LEN(競技者一覧!X263)),競技者一覧!X263),\"\")","v":""},{"$f":"IFERROR(CONCATENATE(VLOOKUP(競技者一覧!Y263,種目コード一覧!$A$1:$C$51,2,FALSE),\" \",REPT(\"0\",VLOOKUP(競技者一覧!Y263,種目コード一覧!$A$1:$C$51,3,FALSE)-LEN(競技者一覧!Z263)),競技者一覧!Z263),\"\")","v":""}]
[{"$f":"IFERROR(CONCATENATE(競技者一覧!$D$7), \"\")","v":""},{"$f":"IFERROR(CONCATENATE($H$2,Sheet4!B244),\"\")","v":""},{"$f":"競技者一覧!C264&IF(OR(競技者一覧!H264=\"\",競技者一覧!H264=9),\"\",\"(\" & 競技者一覧!H264 & \")\")","v":""},{"$f":"ASC(競技者一覧!D264 &IF(OR(MID(競技者一覧!G264,3,2)=\"\", MID(競技者一覧!G264,3,2)=\"0\"),\"\",\"(\" & MID(競技者一覧!G264,3,2) & \")\"))","v":""},{"$f":"ASC(競技者一覧!E264 & \" \" & 競技者一覧!F264 & IF(OR(MID(競技者一覧!G264,3,2)=\"\", MID(競技者一覧!G264,3,2)=\"0\"),\"\",\"(\" & MID(競技者一覧!G264,3,2) & \")\"))","v":" "},{"$f":"CONCATENATE(競技者一覧!I264)","v":""},{"$f":"IFERROR(IF(競技者一覧!$D$6=\"学連\",VLOOKUP(競技者一覧!J264,Sheet4!$D$2:$E$48,2,FALSE),学校名簿!D244),\"\")","v":0},{"$f":"IFERROR(VLOOKUP(競技者一覧!$D$7,学校番号表!$B$2:$C$65536,2,FALSE),\"\")","v":""},{"$f":"CONCATENATE(競技者一覧!B264)","v":""},{"$f":"IFERROR(CONCATENATE(VLOOKUP(競技者一覧!K264,種目コード一覧!$A$1:$B$51,2,FALSE),\" \",REPT(\"0\",VLOOKUP(競技者一覧!K264,種目コード一覧!$A$1:$C$51,3,FALSE)-LEN(競技者一覧!L264)),競技者一覧!L264),\"\")","v":""},{"$f":"IFERROR(CONCATENATE(VLOOKUP(競技者一覧!M264,種目コード一覧!$A$1:$C$51,2,FALSE),\" \",REPT(\"0\",VLOOKUP(競技者一覧!M264,種目コード一覧!$A$1:$C$51,3,FALSE)-LEN(競技者一覧!N264)),競技者一覧!N264),\"\")","v":""},{"$f":"IFERROR(CONCATENATE(VLOOKUP(競技者一覧!O264,種目コード一覧!$A$1:$C$51,2,FALSE),\" \",REPT(\"0\",VLOOKUP(競技者一覧!O264,種目コード一覧!$A$1:$C$51,3,FALSE)-LEN(競技者一覧!P264)),競技者一覧!P264),\"\")","v":""},{"$f":"IFERROR(CONCATENATE(VLOOKUP(競技者一覧!Q264,種目コード一覧!$A$1:$C$51,2,FALSE),\" \",REPT(\"0\",VLOOKUP(競技者一覧!Q264,種目コード一覧!$A$1:$C$51,3,FALSE)-LEN(競技者一覧!R264)),競技者一覧!R264),\"\")","v":""},{"$f":"IFERROR(CONCATENATE(VLOOKUP(競技者一覧!S264,種目コード一覧!$A$1:$C$51,2,FALSE),\" \",REPT(\"0\",VLOOKUP(競技者一覧!S264,種目コード一覧!$A$1:$C$51,3,FALSE)-LEN(競技者一覧!T264)),競技者一覧!T264),\"\")","v":""},{"$f":"IFERROR(CONCATENATE(VLOOKUP(競技者一覧!U264,種目コード一覧!$A$1:$C$51,2,FALSE),\" \",REPT(\"0\",VLOOKUP(競技者一覧!U264,種目コード一覧!$A$1:$C$51,3,FALSE)-LEN(競技者一覧!V264)),競技者一覧!V264),\"\")","v":""},{"$f":"IFERROR(CONCATENATE(VLOOKUP(競技者一覧!W264,種目コード一覧!$A$1:$C$51,2,FALSE),\" \",REPT(\"0\",VLOOKUP(競技者一覧!W264,種目コード一覧!$A$1:$C$51,3,FALSE)-LEN(競技者一覧!X264)),競技者一覧!X264),\"\")","v":""},{"$f":"IFERROR(CONCATENATE(VLOOKUP(競技者一覧!Y264,種目コード一覧!$A$1:$C$51,2,FALSE),\" \",REPT(\"0\",VLOOKUP(競技者一覧!Y264,種目コード一覧!$A$1:$C$51,3,FALSE)-LEN(競技者一覧!Z264)),競技者一覧!Z264),\"\")","v":""}]
[{"$f":"IFERROR(CONCATENATE(競技者一覧!$D$7), \"\")","v":""},{"$f":"IFERROR(CONCATENATE($H$2,Sheet4!B245),\"\")","v":""},{"$f":"競技者一覧!C265&IF(OR(競技者一覧!H265=\"\",競技者一覧!H265=9),\"\",\"(\" & 競技者一覧!H265 & \")\")","v":""},{"$f":"競技者一覧!D265 &IF(OR(MID(競技者一覧!G265,3,2)=\"\", MID(競技者一覧!G265,3,2)=\"0\"),\"\",\"(\" & MID(競技者一覧!G265,3,2) & \")\")","v":""},{"$f":"ASC(競技者一覧!E265 & \" \" & 競技者一覧!F265 & IF(OR(MID(競技者一覧!G265,3,2)=\"\", MID(競技者一覧!G265,3,2)=\"0\"),\"\",\"(\" & MID(競技者一覧!G265,3,2) & \")\"))","v":" "},{"$f":"CONCATENATE(競技者一覧!I265)","v":""},{"$f":"IFERROR(IF(競技者一覧!$D$6=\"学連\",VLOOKUP(競技者一覧!J265,Sheet4!$D$2:$E$48,2,FALSE),学校名簿!D245),\"\")","v":0},{"$f":"IFERROR(VLOOKUP(競技者一覧!$D$7,学校番号表!$B$2:$C$65536,2,FALSE),\"\")","v":""},{"$f":"CONCATENATE(競技者一覧!B265)","v":""},{"$f":"IFERROR(CONCATENATE(VLOOKUP(競技者一覧!K265,種目コード一覧!$A$1:$C$51,2,FALSE),\" \",REPT(\"0\",VLOOKUP(競技者一覧!K265,種目コード一覧!$A$1:$C$51,3,FALSE)-LEN(競技者一覧!L265)),競技者一覧!L265),\"\")","v":""},{"$f":"IFERROR(CONCATENATE(VLOOKUP(競技者一覧!M265,種目コード一覧!$A$1:$C$51,2,FALSE),\" \",REPT(\"0\",VLOOKUP(競技者一覧!M265,種目コード一覧!$A$1:$C$51,3,FALSE)-LEN(競技者一覧!N265)),競技者一覧!N265),\"\")","v":""},{"$f":"IFERROR(CONCATENATE(VLOOKUP(競技者一覧!O265,種目コード一覧!$A$1:$C$51,2,FALSE),\" \",REPT(\"0\",VLOOKUP(競技者一覧!O265,種目コード一覧!$A$1:$C$51,3,FALSE)-LEN(競技者一覧!P265)),競技者一覧!P265),\"\")","v":""},{"$f":"IFERROR(CONCATENATE(VLOOKUP(競技者一覧!Q265,種目コード一覧!$A$1:$C$51,2,FALSE),\" \",REPT(\"0\",VLOOKUP(競技者一覧!Q265,種目コード一覧!$A$1:$C$51,3,FALSE)-LEN(競技者一覧!R265)),競技者一覧!R265),\"\")","v":""},{"$f":"IFERROR(CONCATENATE(VLOOKUP(競技者一覧!S265,種目コード一覧!$A$1:$C$51,2,FALSE),\" \",REPT(\"0\",VLOOKUP(競技者一覧!S265,種目コード一覧!$A$1:$C$51,3,FALSE)-LEN(競技者一覧!T265)),競技者一覧!T265),\"\")","v":""},{"$f":"IFERROR(CONCATENATE(VLOOKUP(競技者一覧!U265,種目コード一覧!$A$1:$C$51,2,FALSE),\" \",REPT(\"0\",VLOOKUP(競技者一覧!U265,種目コード一覧!$A$1:$C$51,3,FALSE)-LEN(競技者一覧!V265)),競技者一覧!V265),\"\")","v":""},{"$f":"IFERROR(CONCATENATE(VLOOKUP(競技者一覧!W265,種目コード一覧!$A$1:$C$51,2,FALSE),\" \",REPT(\"0\",VLOOKUP(競技者一覧!W265,種目コード一覧!$A$1:$C$51,3,FALSE)-LEN(競技者一覧!X265)),競技者一覧!X265),\"\")","v":""},{"$f":"IFERROR(CONCATENATE(VLOOKUP(競技者一覧!Y265,種目コード一覧!$A$1:$C$51,2,FALSE),\" \",REPT(\"0\",VLOOKUP(競技者一覧!Y265,種目コード一覧!$A$1:$C$51,3,FALSE)-LEN(競技者一覧!Z265)),競技者一覧!Z265),\"\")","v":""}]
[{"$f":"IFERROR(CONCATENATE(競技者一覧!$D$7), \"\")","v":""},{"$f":"IFERROR(CONCATENATE($H$2,Sheet4!B246),\"\")","v":""},{"$f":"競技者一覧!C266&IF(OR(競技者一覧!H266=\"\",競技者一覧!H266=9),\"\",\"(\" & 競技者一覧!H266 & \")\")","v":""},{"$f":"ASC(競技者一覧!D266 &IF(OR(MID(競技者一覧!G266,3,2)=\"\", MID(競技者一覧!G266,3,2)=\"0\"),\"\",\"(\" & MID(競技者一覧!G266,3,2) & \")\"))","v":""},{"$f":"ASC(競技者一覧!E266 & \" \" & 競技者一覧!F266 & IF(OR(MID(競技者一覧!G266,3,2)=\"\", MID(競技者一覧!G266,3,2)=\"0\"),\"\",\"(\" & MID(競技者一覧!G266,3,2) & \")\"))","v":" "},{"$f":"CONCATENATE(競技者一覧!I266)","v":""},{"$f":"IFERROR(IF(競技者一覧!$D$6=\"学連\",VLOOKUP(競技者一覧!J266,Sheet4!$D$2:$E$48,2,FALSE),学校名簿!D246),\"\")","v":0},{"$f":"IFERROR(VLOOKUP(競技者一覧!$D$7,学校番号表!$B$2:$C$65536,2,FALSE),\"\")","v":""},{"$f":"CONCATENATE(競技者一覧!B266)","v":""},{"$f":"IFERROR(CONCATENATE(VLOOKUP(競技者一覧!K266,種目コード一覧!$A$1:$B$51,2,FALSE),\" \",REPT(\"0\",VLOOKUP(競技者一覧!K266,種目コード一覧!$A$1:$C$51,3,FALSE)-LEN(競技者一覧!L266)),競技者一覧!L266),\"\")","v":""},{"$f":"IFERROR(CONCATENATE(VLOOKUP(競技者一覧!M266,種目コード一覧!$A$1:$C$51,2,FALSE),\" \",REPT(\"0\",VLOOKUP(競技者一覧!M266,種目コード一覧!$A$1:$C$51,3,FALSE)-LEN(競技者一覧!N266)),競技者一覧!N266),\"\")","v":""},{"$f":"IFERROR(CONCATENATE(VLOOKUP(競技者一覧!O266,種目コード一覧!$A$1:$C$51,2,FALSE),\" \",REPT(\"0\",VLOOKUP(競技者一覧!O266,種目コード一覧!$A$1:$C$51,3,FALSE)-LEN(競技者一覧!P266)),競技者一覧!P266),\"\")","v":""},{"$f":"IFERROR(CONCATENATE(VLOOKUP(競技者一覧!Q266,種目コード一覧!$A$1:$C$51,2,FALSE),\" \",REPT(\"0\",VLOOKUP(競技者一覧!Q266,種目コード一覧!$A$1:$C$51,3,FALSE)-LEN(競技者一覧!R266)),競技者一覧!R266),\"\")","v":""},{"$f":"IFERROR(CONCATENATE(VLOOKUP(競技者一覧!S266,種目コード一覧!$A$1:$C$51,2,FALSE),\" \",REPT(\"0\",VLOOKUP(競技者一覧!S266,種目コード一覧!$A$1:$C$51,3,FALSE)-LEN(競技者一覧!T266)),競技者一覧!T266),\"\")","v":""},{"$f":"IFERROR(CONCATENATE(VLOOKUP(競技者一覧!U266,種目コード一覧!$A$1:$C$51,2,FALSE),\" \",REPT(\"0\",VLOOKUP(競技者一覧!U266,種目コード一覧!$A$1:$C$51,3,FALSE)-LEN(競技者一覧!V266)),競技者一覧!V266),\"\")","v":""},{"$f":"IFERROR(CONCATENATE(VLOOKUP(競技者一覧!W266,種目コード一覧!$A$1:$C$51,2,FALSE),\" \",REPT(\"0\",VLOOKUP(競技者一覧!W266,種目コード一覧!$A$1:$C$51,3,FALSE)-LEN(競技者一覧!X266)),競技者一覧!X266),\"\")","v":""},{"$f":"IFERROR(CONCATENATE(VLOOKUP(競技者一覧!Y266,種目コード一覧!$A$1:$C$51,2,FALSE),\" \",REPT(\"0\",VLOOKUP(競技者一覧!Y266,種目コード一覧!$A$1:$C$51,3,FALSE)-LEN(競技者一覧!Z266)),競技者一覧!Z266),\"\")","v":""}]
[{"$f":"IFERROR(CONCATENATE(競技者一覧!$D$7), \"\")","v":""},{"$f":"IFERROR(CONCATENATE($H$2,Sheet4!B247),\"\")","v":""},{"$f":"競技者一覧!C267&IF(OR(競技者一覧!H267=\"\",競技者一覧!H267=9),\"\",\"(\" & 競技者一覧!H267 & \")\")","v":""},{"$f":"競技者一覧!D267 &IF(OR(MID(競技者一覧!G267,3,2)=\"\", MID(競技者一覧!G267,3,2)=\"0\"),\"\",\"(\" & MID(競技者一覧!G267,3,2) & \")\")","v":""},{"$f":"ASC(競技者一覧!E267 & \" \" & 競技者一覧!F267 & IF(OR(MID(競技者一覧!G267,3,2)=\"\", MID(競技者一覧!G267,3,2)=\"0\"),\"\",\"(\" & MID(競技者一覧!G267,3,2) & \")\"))","v":" "},{"$f":"CONCATENATE(競技者一覧!I267)","v":""},{"$f":"IFERROR(IF(競技者一覧!$D$6=\"学連\",VLOOKUP(競技者一覧!J267,Sheet4!$D$2:$E$48,2,FALSE),学校名簿!D247),\"\")","v":0},{"$f":"IFERROR(VLOOKUP(競技者一覧!$D$7,学校番号表!$B$2:$C$65536,2,FALSE),\"\")","v":""},{"$f":"CONCATENATE(競技者一覧!B267)","v":""},{"$f":"IFERROR(CONCATENATE(VLOOKUP(競技者一覧!K267,種目コード一覧!$A$1:$C$51,2,FALSE),\" \",REPT(\"0\",VLOOKUP(競技者一覧!K267,種目コード一覧!$A$1:$C$51,3,FALSE)-LEN(競技者一覧!L267)),競技者一覧!L267),\"\")","v":""},{"$f":"IFERROR(CONCATENATE(VLOOKUP(競技者一覧!M267,種目コード一覧!$A$1:$C$51,2,FALSE),\" \",REPT(\"0\",VLOOKUP(競技者一覧!M267,種目コード一覧!$A$1:$C$51,3,FALSE)-LEN(競技者一覧!N267)),競技者一覧!N267),\"\")","v":""},{"$f":"IFERROR(CONCATENATE(VLOOKUP(競技者一覧!O267,種目コード一覧!$A$1:$C$51,2,FALSE),\" \",REPT(\"0\",VLOOKUP(競技者一覧!O267,種目コード一覧!$A$1:$C$51,3,FALSE)-LEN(競技者一覧!P267)),競技者一覧!P267),\"\")","v":""},{"$f":"IFERROR(CONCATENATE(VLOOKUP(競技者一覧!Q267,種目コード一覧!$A$1:$C$51,2,FALSE),\" \",REPT(\"0\",VLOOKUP(競技者一覧!Q267,種目コード一覧!$A$1:$C$51,3,FALSE)-LEN(競技者一覧!R267)),競技者一覧!R267),\"\")","v":""},{"$f":"IFERROR(CONCATENATE(VLOOKUP(競技者一覧!S267,種目コード一覧!$A$1:$C$51,2,FALSE),\" \",REPT(\"0\",VLOOKUP(競技者一覧!S267,種目コード一覧!$A$1:$C$51,3,FALSE)-LEN(競技者一覧!T267)),競技者一覧!T267),\"\")","v":""},{"$f":"IFERROR(CONCATENATE(VLOOKUP(競技者一覧!U267,種目コード一覧!$A$1:$C$51,2,FALSE),\" \",REPT(\"0\",VLOOKUP(競技者一覧!U267,種目コード一覧!$A$1:$C$51,3,FALSE)-LEN(競技者一覧!V267)),競技者一覧!V267),\"\")","v":""},{"$f":"IFERROR(CONCATENATE(VLOOKUP(競技者一覧!W267,種目コード一覧!$A$1:$C$51,2,FALSE),\" \",REPT(\"0\",VLOOKUP(競技者一覧!W267,種目コード一覧!$A$1:$C$51,3,FALSE)-LEN(競技者一覧!X267)),競技者一覧!X267),\"\")","v":""},{"$f":"IFERROR(CONCATENATE(VLOOKUP(競技者一覧!Y267,種目コード一覧!$A$1:$C$51,2,FALSE),\" \",REPT(\"0\",VLOOKUP(競技者一覧!Y267,種目コード一覧!$A$1:$C$51,3,FALSE)-LEN(競技者一覧!Z267)),競技者一覧!Z267),\"\")","v":""}]
[{"$f":"IFERROR(CONCATENATE(競技者一覧!$D$7), \"\")","v":""},{"$f":"IFERROR(CONCATENATE($H$2,Sheet4!B248),\"\")","v":""},{"$f":"競技者一覧!C268&IF(OR(競技者一覧!H268=\"\",競技者一覧!H268=9),\"\",\"(\" & 競技者一覧!H268 & \")\")","v":""},{"$f":"ASC(競技者一覧!D268 &IF(OR(MID(競技者一覧!G268,3,2)=\"\", MID(競技者一覧!G268,3,2)=\"0\"),\"\",\"(\" & MID(競技者一覧!G268,3,2) & \")\"))","v":""},{"$f":"ASC(競技者一覧!E268 & \" \" & 競技者一覧!F268 & IF(OR(MID(競技者一覧!G268,3,2)=\"\", MID(競技者一覧!G268,3,2)=\"0\"),\"\",\"(\" & MID(競技者一覧!G268,3,2) & \")\"))","v":" "},{"$f":"CONCATENATE(競技者一覧!I268)","v":""},{"$f":"IFERROR(IF(競技者一覧!$D$6=\"学連\",VLOOKUP(競技者一覧!J268,Sheet4!$D$2:$E$48,2,FALSE),学校名簿!D248),\"\")","v":0},{"$f":"IFERROR(VLOOKUP(競技者一覧!$D$7,学校番号表!$B$2:$C$65536,2,FALSE),\"\")","v":""},{"$f":"CONCATENATE(競技者一覧!B268)","v":""},{"$f":"IFERROR(CONCATENATE(VLOOKUP(競技者一覧!K268,種目コード一覧!$A$1:$B$51,2,FALSE),\" \",REPT(\"0\",VLOOKUP(競技者一覧!K268,種目コード一覧!$A$1:$C$51,3,FALSE)-LEN(競技者一覧!L268)),競技者一覧!L268),\"\")","v":""},{"$f":"IFERROR(CONCATENATE(VLOOKUP(競技者一覧!M268,種目コード一覧!$A$1:$C$51,2,FALSE),\" \",REPT(\"0\",VLOOKUP(競技者一覧!M268,種目コード一覧!$A$1:$C$51,3,FALSE)-LEN(競技者一覧!N268)),競技者一覧!N268),\"\")","v":""},{"$f":"IFERROR(CONCATENATE(VLOOKUP(競技者一覧!O268,種目コード一覧!$A$1:$C$51,2,FALSE),\" \",REPT(\"0\",VLOOKUP(競技者一覧!O268,種目コード一覧!$A$1:$C$51,3,FALSE)-LEN(競技者一覧!P268)),競技者一覧!P268),\"\")","v":""},{"$f":"IFERROR(CONCATENATE(VLOOKUP(競技者一覧!Q268,種目コード一覧!$A$1:$C$51,2,FALSE),\" \",REPT(\"0\",VLOOKUP(競技者一覧!Q268,種目コード一覧!$A$1:$C$51,3,FALSE)-LEN(競技者一覧!R268)),競技者一覧!R268),\"\")","v":""},{"$f":"IFERROR(CONCATENATE(VLOOKUP(競技者一覧!S268,種目コード一覧!$A$1:$C$51,2,FALSE),\" \",REPT(\"0\",VLOOKUP(競技者一覧!S268,種目コード一覧!$A$1:$C$51,3,FALSE)-LEN(競技者一覧!T268)),競技者一覧!T268),\"\")","v":""},{"$f":"IFERROR(CONCATENATE(VLOOKUP(競技者一覧!U268,種目コード一覧!$A$1:$C$51,2,FALSE),\" \",REPT(\"0\",VLOOKUP(競技者一覧!U268,種目コード一覧!$A$1:$C$51,3,FALSE)-LEN(競技者一覧!V268)),競技者一覧!V268),\"\")","v":""},{"$f":"IFERROR(CONCATENATE(VLOOKUP(競技者一覧!W268,種目コード一覧!$A$1:$C$51,2,FALSE),\" \",REPT(\"0\",VLOOKUP(競技者一覧!W268,種目コード一覧!$A$1:$C$51,3,FALSE)-LEN(競技者一覧!X268)),競技者一覧!X268),\"\")","v":""},{"$f":"IFERROR(CONCATENATE(VLOOKUP(競技者一覧!Y268,種目コード一覧!$A$1:$C$51,2,FALSE),\" \",REPT(\"0\",VLOOKUP(競技者一覧!Y268,種目コード一覧!$A$1:$C$51,3,FALSE)-LEN(競技者一覧!Z268)),競技者一覧!Z268),\"\")","v":""}]
[{"$f":"IFERROR(CONCATENATE(競技者一覧!$D$7), \"\")","v":""},{"$f":"IFERROR(CONCATENATE($H$2,Sheet4!B249),\"\")","v":""},{"$f":"競技者一覧!C269&IF(OR(競技者一覧!H269=\"\",競技者一覧!H269=9),\"\",\"(\" & 競技者一覧!H269 & \")\")","v":""},{"$f":"競技者一覧!D269 &IF(OR(MID(競技者一覧!G269,3,2)=\"\", MID(競技者一覧!G269,3,2)=\"0\"),\"\",\"(\" & MID(競技者一覧!G269,3,2) & \")\")","v":""},{"$f":"ASC(競技者一覧!E269 & \" \" & 競技者一覧!F269 & IF(OR(MID(競技者一覧!G269,3,2)=\"\", MID(競技者一覧!G269,3,2)=\"0\"),\"\",\"(\" & MID(競技者一覧!G269,3,2) & \")\"))","v":" "},{"$f":"CONCATENATE(競技者一覧!I269)","v":""},{"$f":"IFERROR(IF(競技者一覧!$D$6=\"学連\",VLOOKUP(競技者一覧!J269,Sheet4!$D$2:$E$48,2,FALSE),学校名簿!D249),\"\")","v":0},{"$f":"IFERROR(VLOOKUP(競技者一覧!$D$7,学校番号表!$B$2:$C$65536,2,FALSE),\"\")","v":""},{"$f":"CONCATENATE(競技者一覧!B269)","v":""},{"$f":"IFERROR(CONCATENATE(VLOOKUP(競技者一覧!K269,種目コード一覧!$A$1:$C$51,2,FALSE),\" \",REPT(\"0\",VLOOKUP(競技者一覧!K269,種目コード一覧!$A$1:$C$51,3,FALSE)-LEN(競技者一覧!L269)),競技者一覧!L269),\"\")","v":""},{"$f":"IFERROR(CONCATENATE(VLOOKUP(競技者一覧!M269,種目コード一覧!$A$1:$C$51,2,FALSE),\" \",REPT(\"0\",VLOOKUP(競技者一覧!M269,種目コード一覧!$A$1:$C$51,3,FALSE)-LEN(競技者一覧!N269)),競技者一覧!N269),\"\")","v":""},{"$f":"IFERROR(CONCATENATE(VLOOKUP(競技者一覧!O269,種目コード一覧!$A$1:$C$51,2,FALSE),\" \",REPT(\"0\",VLOOKUP(競技者一覧!O269,種目コード一覧!$A$1:$C$51,3,FALSE)-LEN(競技者一覧!P269)),競技者一覧!P269),\"\")","v":""},{"$f":"IFERROR(CONCATENATE(VLOOKUP(競技者一覧!Q269,種目コード一覧!$A$1:$C$51,2,FALSE),\" \",REPT(\"0\",VLOOKUP(競技者一覧!Q269,種目コード一覧!$A$1:$C$51,3,FALSE)-LEN(競技者一覧!R269)),競技者一覧!R269),\"\")","v":""},{"$f":"IFERROR(CONCATENATE(VLOOKUP(競技者一覧!S269,種目コード一覧!$A$1:$C$51,2,FALSE),\" \",REPT(\"0\",VLOOKUP(競技者一覧!S269,種目コード一覧!$A$1:$C$51,3,FALSE)-LEN(競技者一覧!T269)),競技者一覧!T269),\"\")","v":""},{"$f":"IFERROR(CONCATENATE(VLOOKUP(競技者一覧!U269,種目コード一覧!$A$1:$C$51,2,FALSE),\" \",REPT(\"0\",VLOOKUP(競技者一覧!U269,種目コード一覧!$A$1:$C$51,3,FALSE)-LEN(競技者一覧!V269)),競技者一覧!V269),\"\")","v":""},{"$f":"IFERROR(CONCATENATE(VLOOKUP(競技者一覧!W269,種目コード一覧!$A$1:$C$51,2,FALSE),\" \",REPT(\"0\",VLOOKUP(競技者一覧!W269,種目コード一覧!$A$1:$C$51,3,FALSE)-LEN(競技者一覧!X269)),競技者一覧!X269),\"\")","v":""},{"$f":"IFERROR(CONCATENATE(VLOOKUP(競技者一覧!Y269,種目コード一覧!$A$1:$C$51,2,FALSE),\" \",REPT(\"0\",VLOOKUP(競技者一覧!Y269,種目コード一覧!$A$1:$C$51,3,FALSE)-LEN(競技者一覧!Z269)),競技者一覧!Z269),\"\")","v":""}]
[{"$f":"IFERROR(CONCATENATE(競技者一覧!$D$7), \"\")","v":""},{"$f":"IFERROR(CONCATENATE($H$2,Sheet4!B250),\"\")","v":""},{"$f":"競技者一覧!C270&IF(OR(競技者一覧!H270=\"\",競技者一覧!H270=9),\"\",\"(\" & 競技者一覧!H270 & \")\")","v":""},{"$f":"ASC(競技者一覧!D270 &IF(OR(MID(競技者一覧!G270,3,2)=\"\", MID(競技者一覧!G270,3,2)=\"0\"),\"\",\"(\" & MID(競技者一覧!G270,3,2) & \")\"))","v":""},{"$f":"ASC(競技者一覧!E270 & \" \" & 競技者一覧!F270 & IF(OR(MID(競技者一覧!G270,3,2)=\"\", MID(競技者一覧!G270,3,2)=\"0\"),\"\",\"(\" & MID(競技者一覧!G270,3,2) & \")\"))","v":" "},{"$f":"CONCATENATE(競技者一覧!I270)","v":""},{"$f":"IFERROR(IF(競技者一覧!$D$6=\"学連\",VLOOKUP(競技者一覧!J270,Sheet4!$D$2:$E$48,2,FALSE),学校名簿!D250),\"\")","v":0},{"$f":"IFERROR(VLOOKUP(競技者一覧!$D$7,学校番号表!$B$2:$C$65536,2,FALSE),\"\")","v":""},{"$f":"CONCATENATE(競技者一覧!B270)","v":""},{"$f":"IFERROR(CONCATENATE(VLOOKUP(競技者一覧!K270,種目コード一覧!$A$1:$B$51,2,FALSE),\" \",REPT(\"0\",VLOOKUP(競技者一覧!K270,種目コード一覧!$A$1:$C$51,3,FALSE)-LEN(競技者一覧!L270)),競技者一覧!L270),\"\")","v":""},{"$f":"IFERROR(CONCATENATE(VLOOKUP(競技者一覧!M270,種目コード一覧!$A$1:$C$51,2,FALSE),\" \",REPT(\"0\",VLOOKUP(競技者一覧!M270,種目コード一覧!$A$1:$C$51,3,FALSE)-LEN(競技者一覧!N270)),競技者一覧!N270),\"\")","v":""},{"$f":"IFERROR(CONCATENATE(VLOOKUP(競技者一覧!O270,種目コード一覧!$A$1:$C$51,2,FALSE),\" \",REPT(\"0\",VLOOKUP(競技者一覧!O270,種目コード一覧!$A$1:$C$51,3,FALSE)-LEN(競技者一覧!P270)),競技者一覧!P270),\"\")","v":""},{"$f":"IFERROR(CONCATENATE(VLOOKUP(競技者一覧!Q270,種目コード一覧!$A$1:$C$51,2,FALSE),\" \",REPT(\"0\",VLOOKUP(競技者一覧!Q270,種目コード一覧!$A$1:$C$51,3,FALSE)-LEN(競技者一覧!R270)),競技者一覧!R270),\"\")","v":""},{"$f":"IFERROR(CONCATENATE(VLOOKUP(競技者一覧!S270,種目コード一覧!$A$1:$C$51,2,FALSE),\" \",REPT(\"0\",VLOOKUP(競技者一覧!S270,種目コード一覧!$A$1:$C$51,3,FALSE)-LEN(競技者一覧!T270)),競技者一覧!T270),\"\")","v":""},{"$f":"IFERROR(CONCATENATE(VLOOKUP(競技者一覧!U270,種目コード一覧!$A$1:$C$51,2,FALSE),\" \",REPT(\"0\",VLOOKUP(競技者一覧!U270,種目コード一覧!$A$1:$C$51,3,FALSE)-LEN(競技者一覧!V270)),競技者一覧!V270),\"\")","v":""},{"$f":"IFERROR(CONCATENATE(VLOOKUP(競技者一覧!W270,種目コード一覧!$A$1:$C$51,2,FALSE),\" \",REPT(\"0\",VLOOKUP(競技者一覧!W270,種目コード一覧!$A$1:$C$51,3,FALSE)-LEN(競技者一覧!X270)),競技者一覧!X270),\"\")","v":""},{"$f":"IFERROR(CONCATENATE(VLOOKUP(競技者一覧!Y270,種目コード一覧!$A$1:$C$51,2,FALSE),\" \",REPT(\"0\",VLOOKUP(競技者一覧!Y270,種目コード一覧!$A$1:$C$51,3,FALSE)-LEN(競技者一覧!Z270)),競技者一覧!Z270),\"\")","v":""}]
[{"$f":"IFERROR(CONCATENATE(競技者一覧!$D$7), \"\")","v":""},{"$f":"IFERROR(CONCATENATE($H$2,Sheet4!B251),\"\")","v":""},{"$f":"競技者一覧!C271&IF(OR(競技者一覧!H271=\"\",競技者一覧!H271=9),\"\",\"(\" & 競技者一覧!H271 & \")\")","v":""},{"$f":"競技者一覧!D271 &IF(OR(MID(競技者一覧!G271,3,2)=\"\", MID(競技者一覧!G271,3,2)=\"0\"),\"\",\"(\" & MID(競技者一覧!G271,3,2) & \")\")","v":""},{"$f":"ASC(競技者一覧!E271 & \" \" & 競技者一覧!F271 & IF(OR(MID(競技者一覧!G271,3,2)=\"\", MID(競技者一覧!G271,3,2)=\"0\"),\"\",\"(\" & MID(競技者一覧!G271,3,2) & \")\"))","v":" "},{"$f":"CONCATENATE(競技者一覧!I271)","v":""},{"$f":"IFERROR(IF(競技者一覧!$D$6=\"学連\",VLOOKUP(競技者一覧!J271,Sheet4!$D$2:$E$48,2,FALSE),学校名簿!D251),\"\")","v":0},{"$f":"IFERROR(VLOOKUP(競技者一覧!$D$7,学校番号表!$B$2:$C$65536,2,FALSE),\"\")","v":""},{"$f":"CONCATENATE(競技者一覧!B271)","v":""},{"$f":"IFERROR(CONCATENATE(VLOOKUP(競技者一覧!K271,種目コード一覧!$A$1:$C$51,2,FALSE),\" \",REPT(\"0\",VLOOKUP(競技者一覧!K271,種目コード一覧!$A$1:$C$51,3,FALSE)-LEN(競技者一覧!L271)),競技者一覧!L271),\"\")","v":""},{"$f":"IFERROR(CONCATENATE(VLOOKUP(競技者一覧!M271,種目コード一覧!$A$1:$C$51,2,FALSE),\" \",REPT(\"0\",VLOOKUP(競技者一覧!M271,種目コード一覧!$A$1:$C$51,3,FALSE)-LEN(競技者一覧!N271)),競技者一覧!N271),\"\")","v":""},{"$f":"IFERROR(CONCATENATE(VLOOKUP(競技者一覧!O271,種目コード一覧!$A$1:$C$51,2,FALSE),\" \",REPT(\"0\",VLOOKUP(競技者一覧!O271,種目コード一覧!$A$1:$C$51,3,FALSE)-LEN(競技者一覧!P271)),競技者一覧!P271),\"\")","v":""},{"$f":"IFERROR(CONCATENATE(VLOOKUP(競技者一覧!Q271,種目コード一覧!$A$1:$C$51,2,FALSE),\" \",REPT(\"0\",VLOOKUP(競技者一覧!Q271,種目コード一覧!$A$1:$C$51,3,FALSE)-LEN(競技者一覧!R271)),競技者一覧!R271),\"\")","v":""},{"$f":"IFERROR(CONCATENATE(VLOOKUP(競技者一覧!S271,種目コード一覧!$A$1:$C$51,2,FALSE),\" \",REPT(\"0\",VLOOKUP(競技者一覧!S271,種目コード一覧!$A$1:$C$51,3,FALSE)-LEN(競技者一覧!T271)),競技者一覧!T271),\"\")","v":""},{"$f":"IFERROR(CONCATENATE(VLOOKUP(競技者一覧!U271,種目コード一覧!$A$1:$C$51,2,FALSE),\" \",REPT(\"0\",VLOOKUP(競技者一覧!U271,種目コード一覧!$A$1:$C$51,3,FALSE)-LEN(競技者一覧!V271)),競技者一覧!V271),\"\")","v":""},{"$f":"IFERROR(CONCATENATE(VLOOKUP(競技者一覧!W271,種目コード一覧!$A$1:$C$51,2,FALSE),\" \",REPT(\"0\",VLOOKUP(競技者一覧!W271,種目コード一覧!$A$1:$C$51,3,FALSE)-LEN(競技者一覧!X271)),競技者一覧!X271),\"\")","v":""},{"$f":"IFERROR(CONCATENATE(VLOOKUP(競技者一覧!Y271,種目コード一覧!$A$1:$C$51,2,FALSE),\" \",REPT(\"0\",VLOOKUP(競技者一覧!Y271,種目コード一覧!$A$1:$C$51,3,FALSE)-LEN(競技者一覧!Z271)),競技者一覧!Z271),\"\")","v":""}]
[{"$f":"IFERROR(CONCATENATE(競技者一覧!$D$7), \"\")","v":""},{"$f":"IFERROR(CONCATENATE($H$2,Sheet4!B252),\"\")","v":""},{"$f":"競技者一覧!C272&IF(OR(競技者一覧!H272=\"\",競技者一覧!H272=9),\"\",\"(\" & 競技者一覧!H272 & \")\")","v":""},{"$f":"ASC(競技者一覧!D272 &IF(OR(MID(競技者一覧!G272,3,2)=\"\", MID(競技者一覧!G272,3,2)=\"0\"),\"\",\"(\" & MID(競技者一覧!G272,3,2) & \")\"))","v":""},{"$f":"ASC(競技者一覧!E272 & \" \" & 競技者一覧!F272 & IF(OR(MID(競技者一覧!G272,3,2)=\"\", MID(競技者一覧!G272,3,2)=\"0\"),\"\",\"(\" & MID(競技者一覧!G272,3,2) & \")\"))","v":" "},{"$f":"CONCATENATE(競技者一覧!I272)","v":""},{"$f":"IFERROR(IF(競技者一覧!$D$6=\"学連\",VLOOKUP(競技者一覧!J272,Sheet4!$D$2:$E$48,2,FALSE),学校名簿!D252),\"\")","v":0},{"$f":"IFERROR(VLOOKUP(競技者一覧!$D$7,学校番号表!$B$2:$C$65536,2,FALSE),\"\")","v":""},{"$f":"CONCATENATE(競技者一覧!B272)","v":""},{"$f":"IFERROR(CONCATENATE(VLOOKUP(競技者一覧!K272,種目コード一覧!$A$1:$B$51,2,FALSE),\" \",REPT(\"0\",VLOOKUP(競技者一覧!K272,種目コード一覧!$A$1:$C$51,3,FALSE)-LEN(競技者一覧!L272)),競技者一覧!L272),\"\")","v":""},{"$f":"IFERROR(CONCATENATE(VLOOKUP(競技者一覧!M272,種目コード一覧!$A$1:$C$51,2,FALSE),\" \",REPT(\"0\",VLOOKUP(競技者一覧!M272,種目コード一覧!$A$1:$C$51,3,FALSE)-LEN(競技者一覧!N272)),競技者一覧!N272),\"\")","v":""},{"$f":"IFERROR(CONCATENATE(VLOOKUP(競技者一覧!O272,種目コード一覧!$A$1:$C$51,2,FALSE),\" \",REPT(\"0\",VLOOKUP(競技者一覧!O272,種目コード一覧!$A$1:$C$51,3,FALSE)-LEN(競技者一覧!P272)),競技者一覧!P272),\"\")","v":""},{"$f":"IFERROR(CONCATENATE(VLOOKUP(競技者一覧!Q272,種目コード一覧!$A$1:$C$51,2,FALSE),\" \",REPT(\"0\",VLOOKUP(競技者一覧!Q272,種目コード一覧!$A$1:$C$51,3,FALSE)-LEN(競技者一覧!R272)),競技者一覧!R272),\"\")","v":""},{"$f":"IFERROR(CONCATENATE(VLOOKUP(競技者一覧!S272,種目コード一覧!$A$1:$C$51,2,FALSE),\" \",REPT(\"0\",VLOOKUP(競技者一覧!S272,種目コード一覧!$A$1:$C$51,3,FALSE)-LEN(競技者一覧!T272)),競技者一覧!T272),\"\")","v":""},{"$f":"IFERROR(CONCATENATE(VLOOKUP(競技者一覧!U272,種目コード一覧!$A$1:$C$51,2,FALSE),\" \",REPT(\"0\",VLOOKUP(競技者一覧!U272,種目コード一覧!$A$1:$C$51,3,FALSE)-LEN(競技者一覧!V272)),競技者一覧!V272),\"\")","v":""},{"$f":"IFERROR(CONCATENATE(VLOOKUP(競技者一覧!W272,種目コード一覧!$A$1:$C$51,2,FALSE),\" \",REPT(\"0\",VLOOKUP(競技者一覧!W272,種目コード一覧!$A$1:$C$51,3,FALSE)-LEN(競技者一覧!X272)),競技者一覧!X272),\"\")","v":""},{"$f":"IFERROR(CONCATENATE(VLOOKUP(競技者一覧!Y272,種目コード一覧!$A$1:$C$51,2,FALSE),\" \",REPT(\"0\",VLOOKUP(競技者一覧!Y272,種目コード一覧!$A$1:$C$51,3,FALSE)-LEN(競技者一覧!Z272)),競技者一覧!Z272),\"\")","v":""}]
[{"$f":"IFERROR(CONCATENATE(競技者一覧!$D$7), \"\")","v":""},{"$f":"IFERROR(CONCATENATE($H$2,Sheet4!B253),\"\")","v":""},{"$f":"競技者一覧!C273&IF(OR(競技者一覧!H273=\"\",競技者一覧!H273=9),\"\",\"(\" & 競技者一覧!H273 & \")\")","v":""},{"$f":"競技者一覧!D273 &IF(OR(MID(競技者一覧!G273,3,2)=\"\", MID(競技者一覧!G273,3,2)=\"0\"),\"\",\"(\" & MID(競技者一覧!G273,3,2) & \")\")","v":""},{"$f":"ASC(競技者一覧!E273 & \" \" & 競技者一覧!F273 & IF(OR(MID(競技者一覧!G273,3,2)=\"\", MID(競技者一覧!G273,3,2)=\"0\"),\"\",\"(\" & MID(競技者一覧!G273,3,2) & \")\"))","v":" "},{"$f":"CONCATENATE(競技者一覧!I273)","v":""},{"$f":"IFERROR(IF(競技者一覧!$D$6=\"学連\",VLOOKUP(競技者一覧!J273,Sheet4!$D$2:$E$48,2,FALSE),学校名簿!D253),\"\")","v":0},{"$f":"IFERROR(VLOOKUP(競技者一覧!$D$7,学校番号表!$B$2:$C$65536,2,FALSE),\"\")","v":""},{"$f":"CONCATENATE(競技者一覧!B273)","v":""},{"$f":"IFERROR(CONCATENATE(VLOOKUP(競技者一覧!K273,種目コード一覧!$A$1:$C$51,2,FALSE),\" \",REPT(\"0\",VLOOKUP(競技者一覧!K273,種目コード一覧!$A$1:$C$51,3,FALSE)-LEN(競技者一覧!L273)),競技者一覧!L273),\"\")","v":""},{"$f":"IFERROR(CONCATENATE(VLOOKUP(競技者一覧!M273,種目コード一覧!$A$1:$C$51,2,FALSE),\" \",REPT(\"0\",VLOOKUP(競技者一覧!M273,種目コード一覧!$A$1:$C$51,3,FALSE)-LEN(競技者一覧!N273)),競技者一覧!N273),\"\")","v":""},{"$f":"IFERROR(CONCATENATE(VLOOKUP(競技者一覧!O273,種目コード一覧!$A$1:$C$51,2,FALSE),\" \",REPT(\"0\",VLOOKUP(競技者一覧!O273,種目コード一覧!$A$1:$C$51,3,FALSE)-LEN(競技者一覧!P273)),競技者一覧!P273),\"\")","v":""},{"$f":"IFERROR(CONCATENATE(VLOOKUP(競技者一覧!Q273,種目コード一覧!$A$1:$C$51,2,FALSE),\" \",REPT(\"0\",VLOOKUP(競技者一覧!Q273,種目コード一覧!$A$1:$C$51,3,FALSE)-LEN(競技者一覧!R273)),競技者一覧!R273),\"\")","v":""},{"$f":"IFERROR(CONCATENATE(VLOOKUP(競技者一覧!S273,種目コード一覧!$A$1:$C$51,2,FALSE),\" \",REPT(\"0\",VLOOKUP(競技者一覧!S273,種目コード一覧!$A$1:$C$51,3,FALSE)-LEN(競技者一覧!T273)),競技者一覧!T273),\"\")","v":""},{"$f":"IFERROR(CONCATENATE(VLOOKUP(競技者一覧!U273,種目コード一覧!$A$1:$C$51,2,FALSE),\" \",REPT(\"0\",VLOOKUP(競技者一覧!U273,種目コード一覧!$A$1:$C$51,3,FALSE)-LEN(競技者一覧!V273)),競技者一覧!V273),\"\")","v":""},{"$f":"IFERROR(CONCATENATE(VLOOKUP(競技者一覧!W273,種目コード一覧!$A$1:$C$51,2,FALSE),\" \",REPT(\"0\",VLOOKUP(競技者一覧!W273,種目コード一覧!$A$1:$C$51,3,FALSE)-LEN(競技者一覧!X273)),競技者一覧!X273),\"\")","v":""},{"$f":"IFERROR(CONCATENATE(VLOOKUP(競技者一覧!Y273,種目コード一覧!$A$1:$C$51,2,FALSE),\" \",REPT(\"0\",VLOOKUP(競技者一覧!Y273,種目コード一覧!$A$1:$C$51,3,FALSE)-LEN(競技者一覧!Z273)),競技者一覧!Z273),\"\")","v":""}]
[{"$f":"IFERROR(CONCATENATE(競技者一覧!$D$7), \"\")","v":""},{"$f":"IFERROR(CONCATENATE($H$2,Sheet4!B254),\"\")","v":""},{"$f":"競技者一覧!C274&IF(OR(競技者一覧!H274=\"\",競技者一覧!H274=9),\"\",\"(\" & 競技者一覧!H274 & \")\")","v":""},{"$f":"ASC(競技者一覧!D274 &IF(OR(MID(競技者一覧!G274,3,2)=\"\", MID(競技者一覧!G274,3,2)=\"0\"),\"\",\"(\" & MID(競技者一覧!G274,3,2) & \")\"))","v":""},{"$f":"ASC(競技者一覧!E274 & \" \" & 競技者一覧!F274 & IF(OR(MID(競技者一覧!G274,3,2)=\"\", MID(競技者一覧!G274,3,2)=\"0\"),\"\",\"(\" & MID(競技者一覧!G274,3,2) & \")\"))","v":" "},{"$f":"CONCATENATE(競技者一覧!I274)","v":""},{"$f":"IFERROR(IF(競技者一覧!$D$6=\"学連\",VLOOKUP(競技者一覧!J274,Sheet4!$D$2:$E$48,2,FALSE),学校名簿!D254),\"\")","v":0},{"$f":"IFERROR(VLOOKUP(競技者一覧!$D$7,学校番号表!$B$2:$C$65536,2,FALSE),\"\")","v":""},{"$f":"CONCATENATE(競技者一覧!B274)","v":""},{"$f":"IFERROR(CONCATENATE(VLOOKUP(競技者一覧!K274,種目コード一覧!$A$1:$B$51,2,FALSE),\" \",REPT(\"0\",VLOOKUP(競技者一覧!K274,種目コード一覧!$A$1:$C$51,3,FALSE)-LEN(競技者一覧!L274)),競技者一覧!L274),\"\")","v":""},{"$f":"IFERROR(CONCATENATE(VLOOKUP(競技者一覧!M274,種目コード一覧!$A$1:$C$51,2,FALSE),\" \",REPT(\"0\",VLOOKUP(競技者一覧!M274,種目コード一覧!$A$1:$C$51,3,FALSE)-LEN(競技者一覧!N274)),競技者一覧!N274),\"\")","v":""},{"$f":"IFERROR(CONCATENATE(VLOOKUP(競技者一覧!O274,種目コード一覧!$A$1:$C$51,2,FALSE),\" \",REPT(\"0\",VLOOKUP(競技者一覧!O274,種目コード一覧!$A$1:$C$51,3,FALSE)-LEN(競技者一覧!P274)),競技者一覧!P274),\"\")","v":""},{"$f":"IFERROR(CONCATENATE(VLOOKUP(競技者一覧!Q274,種目コード一覧!$A$1:$C$51,2,FALSE),\" \",REPT(\"0\",VLOOKUP(競技者一覧!Q274,種目コード一覧!$A$1:$C$51,3,FALSE)-LEN(競技者一覧!R274)),競技者一覧!R274),\"\")","v":""},{"$f":"IFERROR(CONCATENATE(VLOOKUP(競技者一覧!S274,種目コード一覧!$A$1:$C$51,2,FALSE),\" \",REPT(\"0\",VLOOKUP(競技者一覧!S274,種目コード一覧!$A$1:$C$51,3,FALSE)-LEN(競技者一覧!T274)),競技者一覧!T274),\"\")","v":""},{"$f":"IFERROR(CONCATENATE(VLOOKUP(競技者一覧!U274,種目コード一覧!$A$1:$C$51,2,FALSE),\" \",REPT(\"0\",VLOOKUP(競技者一覧!U274,種目コード一覧!$A$1:$C$51,3,FALSE)-LEN(競技者一覧!V274)),競技者一覧!V274),\"\")","v":""},{"$f":"IFERROR(CONCATENATE(VLOOKUP(競技者一覧!W274,種目コード一覧!$A$1:$C$51,2,FALSE),\" \",REPT(\"0\",VLOOKUP(競技者一覧!W274,種目コード一覧!$A$1:$C$51,3,FALSE)-LEN(競技者一覧!X274)),競技者一覧!X274),\"\")","v":""},{"$f":"IFERROR(CONCATENATE(VLOOKUP(競技者一覧!Y274,種目コード一覧!$A$1:$C$51,2,FALSE),\" \",REPT(\"0\",VLOOKUP(競技者一覧!Y274,種目コード一覧!$A$1:$C$51,3,FALSE)-LEN(競技者一覧!Z274)),競技者一覧!Z274),\"\")","v":""}]
[{"$f":"IFERROR(CONCATENATE(競技者一覧!$D$7), \"\")","v":""},{"$f":"IFERROR(CONCATENATE($H$2,Sheet4!B255),\"\")","v":""},{"$f":"競技者一覧!C275&IF(OR(競技者一覧!H275=\"\",競技者一覧!H275=9),\"\",\"(\" & 競技者一覧!H275 & \")\")","v":""},{"$f":"競技者一覧!D275 &IF(OR(MID(競技者一覧!G275,3,2)=\"\", MID(競技者一覧!G275,3,2)=\"0\"),\"\",\"(\" & MID(競技者一覧!G275,3,2) & \")\")","v":""},{"$f":"ASC(競技者一覧!E275 & \" \" & 競技者一覧!F275 & IF(OR(MID(競技者一覧!G275,3,2)=\"\", MID(競技者一覧!G275,3,2)=\"0\"),\"\",\"(\" & MID(競技者一覧!G275,3,2) & \")\"))","v":" "},{"$f":"CONCATENATE(競技者一覧!I275)","v":""},{"$f":"IFERROR(IF(競技者一覧!$D$6=\"学連\",VLOOKUP(競技者一覧!J275,Sheet4!$D$2:$E$48,2,FALSE),学校名簿!D255),\"\")","v":0},{"$f":"IFERROR(VLOOKUP(競技者一覧!$D$7,学校番号表!$B$2:$C$65536,2,FALSE),\"\")","v":""},{"$f":"CONCATENATE(競技者一覧!B275)","v":""},{"$f":"IFERROR(CONCATENATE(VLOOKUP(競技者一覧!K275,種目コード一覧!$A$1:$C$51,2,FALSE),\" \",REPT(\"0\",VLOOKUP(競技者一覧!K275,種目コード一覧!$A$1:$C$51,3,FALSE)-LEN(競技者一覧!L275)),競技者一覧!L275),\"\")","v":""},{"$f":"IFERROR(CONCATENATE(VLOOKUP(競技者一覧!M275,種目コード一覧!$A$1:$C$51,2,FALSE),\" \",REPT(\"0\",VLOOKUP(競技者一覧!M275,種目コード一覧!$A$1:$C$51,3,FALSE)-LEN(競技者一覧!N275)),競技者一覧!N275),\"\")","v":""},{"$f":"IFERROR(CONCATENATE(VLOOKUP(競技者一覧!O275,種目コード一覧!$A$1:$C$51,2,FALSE),\" \",REPT(\"0\",VLOOKUP(競技者一覧!O275,種目コード一覧!$A$1:$C$51,3,FALSE)-LEN(競技者一覧!P275)),競技者一覧!P275),\"\")","v":""},{"$f":"IFERROR(CONCATENATE(VLOOKUP(競技者一覧!Q275,種目コード一覧!$A$1:$C$51,2,FALSE),\" \",REPT(\"0\",VLOOKUP(競技者一覧!Q275,種目コード一覧!$A$1:$C$51,3,FALSE)-LEN(競技者一覧!R275)),競技者一覧!R275),\"\")","v":""},{"$f":"IFERROR(CONCATENATE(VLOOKUP(競技者一覧!S275,種目コード一覧!$A$1:$C$51,2,FALSE),\" \",REPT(\"0\",VLOOKUP(競技者一覧!S275,種目コード一覧!$A$1:$C$51,3,FALSE)-LEN(競技者一覧!T275)),競技者一覧!T275),\"\")","v":""},{"$f":"IFERROR(CONCATENATE(VLOOKUP(競技者一覧!U275,種目コード一覧!$A$1:$C$51,2,FALSE),\" \",REPT(\"0\",VLOOKUP(競技者一覧!U275,種目コード一覧!$A$1:$C$51,3,FALSE)-LEN(競技者一覧!V275)),競技者一覧!V275),\"\")","v":""},{"$f":"IFERROR(CONCATENATE(VLOOKUP(競技者一覧!W275,種目コード一覧!$A$1:$C$51,2,FALSE),\" \",REPT(\"0\",VLOOKUP(競技者一覧!W275,種目コード一覧!$A$1:$C$51,3,FALSE)-LEN(競技者一覧!X275)),競技者一覧!X275),\"\")","v":""},{"$f":"IFERROR(CONCATENATE(VLOOKUP(競技者一覧!Y275,種目コード一覧!$A$1:$C$51,2,FALSE),\" \",REPT(\"0\",VLOOKUP(競技者一覧!Y275,種目コード一覧!$A$1:$C$51,3,FALSE)-LEN(競技者一覧!Z275)),競技者一覧!Z275),\"\")","v":""}]
[{"$f":"IFERROR(CONCATENATE(競技者一覧!$D$7), \"\")","v":""},{"$f":"IFERROR(CONCATENATE($H$2,Sheet4!B256),\"\")","v":""},{"$f":"競技者一覧!C276&IF(OR(競技者一覧!H276=\"\",競技者一覧!H276=9),\"\",\"(\" & 競技者一覧!H276 & \")\")","v":""},{"$f":"ASC(競技者一覧!D276 &IF(OR(MID(競技者一覧!G276,3,2)=\"\", MID(競技者一覧!G276,3,2)=\"0\"),\"\",\"(\" & MID(競技者一覧!G276,3,2) & \")\"))","v":""},{"$f":"ASC(競技者一覧!E276 & \" \" & 競技者一覧!F276 & IF(OR(MID(競技者一覧!G276,3,2)=\"\", MID(競技者一覧!G276,3,2)=\"0\"),\"\",\"(\" & MID(競技者一覧!G276,3,2) & \")\"))","v":" "},{"$f":"CONCATENATE(競技者一覧!I276)","v":""},{"$f":"IFERROR(IF(競技者一覧!$D$6=\"学連\",VLOOKUP(競技者一覧!J276,Sheet4!$D$2:$E$48,2,FALSE),学校名簿!D256),\"\")","v":0},{"$f":"IFERROR(VLOOKUP(競技者一覧!$D$7,学校番号表!$B$2:$C$65536,2,FALSE),\"\")","v":""},{"$f":"CONCATENATE(競技者一覧!B276)","v":""},{"$f":"IFERROR(CONCATENATE(VLOOKUP(競技者一覧!K276,種目コード一覧!$A$1:$B$51,2,FALSE),\" \",REPT(\"0\",VLOOKUP(競技者一覧!K276,種目コード一覧!$A$1:$C$51,3,FALSE)-LEN(競技者一覧!L276)),競技者一覧!L276),\"\")","v":""},{"$f":"IFERROR(CONCATENATE(VLOOKUP(競技者一覧!M276,種目コード一覧!$A$1:$C$51,2,FALSE),\" \",REPT(\"0\",VLOOKUP(競技者一覧!M276,種目コード一覧!$A$1:$C$51,3,FALSE)-LEN(競技者一覧!N276)),競技者一覧!N276),\"\")","v":""},{"$f":"IFERROR(CONCATENATE(VLOOKUP(競技者一覧!O276,種目コード一覧!$A$1:$C$51,2,FALSE),\" \",REPT(\"0\",VLOOKUP(競技者一覧!O276,種目コード一覧!$A$1:$C$51,3,FALSE)-LEN(競技者一覧!P276)),競技者一覧!P276),\"\")","v":""},{"$f":"IFERROR(CONCATENATE(VLOOKUP(競技者一覧!Q276,種目コード一覧!$A$1:$C$51,2,FALSE),\" \",REPT(\"0\",VLOOKUP(競技者一覧!Q276,種目コード一覧!$A$1:$C$51,3,FALSE)-LEN(競技者一覧!R276)),競技者一覧!R276),\"\")","v":""},{"$f":"IFERROR(CONCATENATE(VLOOKUP(競技者一覧!S276,種目コード一覧!$A$1:$C$51,2,FALSE),\" \",REPT(\"0\",VLOOKUP(競技者一覧!S276,種目コード一覧!$A$1:$C$51,3,FALSE)-LEN(競技者一覧!T276)),競技者一覧!T276),\"\")","v":""},{"$f":"IFERROR(CONCATENATE(VLOOKUP(競技者一覧!U276,種目コード一覧!$A$1:$C$51,2,FALSE),\" \",REPT(\"0\",VLOOKUP(競技者一覧!U276,種目コード一覧!$A$1:$C$51,3,FALSE)-LEN(競技者一覧!V276)),競技者一覧!V276),\"\")","v":""},{"$f":"IFERROR(CONCATENATE(VLOOKUP(競技者一覧!W276,種目コード一覧!$A$1:$C$51,2,FALSE),\" \",REPT(\"0\",VLOOKUP(競技者一覧!W276,種目コード一覧!$A$1:$C$51,3,FALSE)-LEN(競技者一覧!X276)),競技者一覧!X276),\"\")","v":""},{"$f":"IFERROR(CONCATENATE(VLOOKUP(競技者一覧!Y276,種目コード一覧!$A$1:$C$51,2,FALSE),\" \",REPT(\"0\",VLOOKUP(競技者一覧!Y276,種目コード一覧!$A$1:$C$51,3,FALSE)-LEN(競技者一覧!Z276)),競技者一覧!Z276),\"\")","v":""}]
[{"$f":"IFERROR(CONCATENATE(競技者一覧!$D$7), \"\")","v":""},{"$f":"IFERROR(CONCATENATE($H$2,Sheet4!B257),\"\")","v":""},{"$f":"競技者一覧!C277&IF(OR(競技者一覧!H277=\"\",競技者一覧!H277=9),\"\",\"(\" & 競技者一覧!H277 & \")\")","v":""},{"$f":"競技者一覧!D277 &IF(OR(MID(競技者一覧!G277,3,2)=\"\", MID(競技者一覧!G277,3,2)=\"0\"),\"\",\"(\" & MID(競技者一覧!G277,3,2) & \")\")","v":""},{"$f":"ASC(競技者一覧!E277 & \" \" & 競技者一覧!F277 & IF(OR(MID(競技者一覧!G277,3,2)=\"\", MID(競技者一覧!G277,3,2)=\"0\"),\"\",\"(\" & MID(競技者一覧!G277,3,2) & \")\"))","v":" "},{"$f":"CONCATENATE(競技者一覧!I277)","v":""},{"$f":"IFERROR(IF(競技者一覧!$D$6=\"学連\",VLOOKUP(競技者一覧!J277,Sheet4!$D$2:$E$48,2,FALSE),学校名簿!D257),\"\")","v":0},{"$f":"IFERROR(VLOOKUP(競技者一覧!$D$7,学校番号表!$B$2:$C$65536,2,FALSE),\"\")","v":""},{"$f":"CONCATENATE(競技者一覧!B277)","v":""},{"$f":"IFERROR(CONCATENATE(VLOOKUP(競技者一覧!K277,種目コード一覧!$A$1:$C$51,2,FALSE),\" \",REPT(\"0\",VLOOKUP(競技者一覧!K277,種目コード一覧!$A$1:$C$51,3,FALSE)-LEN(競技者一覧!L277)),競技者一覧!L277),\"\")","v":""},{"$f":"IFERROR(CONCATENATE(VLOOKUP(競技者一覧!M277,種目コード一覧!$A$1:$C$51,2,FALSE),\" \",REPT(\"0\",VLOOKUP(競技者一覧!M277,種目コード一覧!$A$1:$C$51,3,FALSE)-LEN(競技者一覧!N277)),競技者一覧!N277),\"\")","v":""},{"$f":"IFERROR(CONCATENATE(VLOOKUP(競技者一覧!O277,種目コード一覧!$A$1:$C$51,2,FALSE),\" \",REPT(\"0\",VLOOKUP(競技者一覧!O277,種目コード一覧!$A$1:$C$51,3,FALSE)-LEN(競技者一覧!P277)),競技者一覧!P277),\"\")","v":""},{"$f":"IFERROR(CONCATENATE(VLOOKUP(競技者一覧!Q277,種目コード一覧!$A$1:$C$51,2,FALSE),\" \",REPT(\"0\",VLOOKUP(競技者一覧!Q277,種目コード一覧!$A$1:$C$51,3,FALSE)-LEN(競技者一覧!R277)),競技者一覧!R277),\"\")","v":""},{"$f":"IFERROR(CONCATENATE(VLOOKUP(競技者一覧!S277,種目コード一覧!$A$1:$C$51,2,FALSE),\" \",REPT(\"0\",VLOOKUP(競技者一覧!S277,種目コード一覧!$A$1:$C$51,3,FALSE)-LEN(競技者一覧!T277)),競技者一覧!T277),\"\")","v":""},{"$f":"IFERROR(CONCATENATE(VLOOKUP(競技者一覧!U277,種目コード一覧!$A$1:$C$51,2,FALSE),\" \",REPT(\"0\",VLOOKUP(競技者一覧!U277,種目コード一覧!$A$1:$C$51,3,FALSE)-LEN(競技者一覧!V277)),競技者一覧!V277),\"\")","v":""},{"$f":"IFERROR(CONCATENATE(VLOOKUP(競技者一覧!W277,種目コード一覧!$A$1:$C$51,2,FALSE),\" \",REPT(\"0\",VLOOKUP(競技者一覧!W277,種目コード一覧!$A$1:$C$51,3,FALSE)-LEN(競技者一覧!X277)),競技者一覧!X277),\"\")","v":""},{"$f":"IFERROR(CONCATENATE(VLOOKUP(競技者一覧!Y277,種目コード一覧!$A$1:$C$51,2,FALSE),\" \",REPT(\"0\",VLOOKUP(競技者一覧!Y277,種目コード一覧!$A$1:$C$51,3,FALSE)-LEN(競技者一覧!Z277)),競技者一覧!Z277),\"\")","v":""}]
[{"$f":"IFERROR(CONCATENATE(競技者一覧!$D$7), \"\")","v":""},{"$f":"IFERROR(CONCATENATE($H$2,Sheet4!B258),\"\")","v":""},{"$f":"競技者一覧!C278&IF(OR(競技者一覧!H278=\"\",競技者一覧!H278=9),\"\",\"(\" & 競技者一覧!H278 & \")\")","v":""},{"$f":"ASC(競技者一覧!D278 &IF(OR(MID(競技者一覧!G278,3,2)=\"\", MID(競技者一覧!G278,3,2)=\"0\"),\"\",\"(\" & MID(競技者一覧!G278,3,2) & \")\"))","v":""},{"$f":"ASC(競技者一覧!E278 & \" \" & 競技者一覧!F278 & IF(OR(MID(競技者一覧!G278,3,2)=\"\", MID(競技者一覧!G278,3,2)=\"0\"),\"\",\"(\" & MID(競技者一覧!G278,3,2) & \")\"))","v":" "},{"$f":"CONCATENATE(競技者一覧!I278)","v":""},{"$f":"IFERROR(IF(競技者一覧!$D$6=\"学連\",VLOOKUP(競技者一覧!J278,Sheet4!$D$2:$E$48,2,FALSE),学校名簿!D258),\"\")","v":0},{"$f":"IFERROR(VLOOKUP(競技者一覧!$D$7,学校番号表!$B$2:$C$65536,2,FALSE),\"\")","v":""},{"$f":"CONCATENATE(競技者一覧!B278)","v":""},{"$f":"IFERROR(CONCATENATE(VLOOKUP(競技者一覧!K278,種目コード一覧!$A$1:$B$51,2,FALSE),\" \",REPT(\"0\",VLOOKUP(競技者一覧!K278,種目コード一覧!$A$1:$C$51,3,FALSE)-LEN(競技者一覧!L278)),競技者一覧!L278),\"\")","v":""},{"$f":"IFERROR(CONCATENATE(VLOOKUP(競技者一覧!M278,種目コード一覧!$A$1:$C$51,2,FALSE),\" \",REPT(\"0\",VLOOKUP(競技者一覧!M278,種目コード一覧!$A$1:$C$51,3,FALSE)-LEN(競技者一覧!N278)),競技者一覧!N278),\"\")","v":""},{"$f":"IFERROR(CONCATENATE(VLOOKUP(競技者一覧!O278,種目コード一覧!$A$1:$C$51,2,FALSE),\" \",REPT(\"0\",VLOOKUP(競技者一覧!O278,種目コード一覧!$A$1:$C$51,3,FALSE)-LEN(競技者一覧!P278)),競技者一覧!P278),\"\")","v":""},{"$f":"IFERROR(CONCATENATE(VLOOKUP(競技者一覧!Q278,種目コード一覧!$A$1:$C$51,2,FALSE),\" \",REPT(\"0\",VLOOKUP(競技者一覧!Q278,種目コード一覧!$A$1:$C$51,3,FALSE)-LEN(競技者一覧!R278)),競技者一覧!R278),\"\")","v":""},{"$f":"IFERROR(CONCATENATE(VLOOKUP(競技者一覧!S278,種目コード一覧!$A$1:$C$51,2,FALSE),\" \",REPT(\"0\",VLOOKUP(競技者一覧!S278,種目コード一覧!$A$1:$C$51,3,FALSE)-LEN(競技者一覧!T278)),競技者一覧!T278),\"\")","v":""},{"$f":"IFERROR(CONCATENATE(VLOOKUP(競技者一覧!U278,種目コード一覧!$A$1:$C$51,2,FALSE),\" \",REPT(\"0\",VLOOKUP(競技者一覧!U278,種目コード一覧!$A$1:$C$51,3,FALSE)-LEN(競技者一覧!V278)),競技者一覧!V278),\"\")","v":""},{"$f":"IFERROR(CONCATENATE(VLOOKUP(競技者一覧!W278,種目コード一覧!$A$1:$C$51,2,FALSE),\" \",REPT(\"0\",VLOOKUP(競技者一覧!W278,種目コード一覧!$A$1:$C$51,3,FALSE)-LEN(競技者一覧!X278)),競技者一覧!X278),\"\")","v":""},{"$f":"IFERROR(CONCATENATE(VLOOKUP(競技者一覧!Y278,種目コード一覧!$A$1:$C$51,2,FALSE),\" \",REPT(\"0\",VLOOKUP(競技者一覧!Y278,種目コード一覧!$A$1:$C$51,3,FALSE)-LEN(競技者一覧!Z278)),競技者一覧!Z278),\"\")","v":""}]
[{"$f":"IFERROR(CONCATENATE(競技者一覧!$D$7), \"\")","v":""},{"$f":"IFERROR(CONCATENATE($H$2,Sheet4!B259),\"\")","v":""},{"$f":"競技者一覧!C279&IF(OR(競技者一覧!H279=\"\",競技者一覧!H279=9),\"\",\"(\" & 競技者一覧!H279 & \")\")","v":""},{"$f":"競技者一覧!D279 &IF(OR(MID(競技者一覧!G279,3,2)=\"\", MID(競技者一覧!G279,3,2)=\"0\"),\"\",\"(\" & MID(競技者一覧!G279,3,2) & \")\")","v":""},{"$f":"ASC(競技者一覧!E279 & \" \" & 競技者一覧!F279 & IF(OR(MID(競技者一覧!G279,3,2)=\"\", MID(競技者一覧!G279,3,2)=\"0\"),\"\",\"(\" & MID(競技者一覧!G279,3,2) & \")\"))","v":" "},{"$f":"CONCATENATE(競技者一覧!I279)","v":""},{"$f":"IFERROR(IF(競技者一覧!$D$6=\"学連\",VLOOKUP(競技者一覧!J279,Sheet4!$D$2:$E$48,2,FALSE),学校名簿!D259),\"\")","v":0},{"$f":"IFERROR(VLOOKUP(競技者一覧!$D$7,学校番号表!$B$2:$C$65536,2,FALSE),\"\")","v":""},{"$f":"CONCATENATE(競技者一覧!B279)","v":""},{"$f":"IFERROR(CONCATENATE(VLOOKUP(競技者一覧!K279,種目コード一覧!$A$1:$C$51,2,FALSE),\" \",REPT(\"0\",VLOOKUP(競技者一覧!K279,種目コード一覧!$A$1:$C$51,3,FALSE)-LEN(競技者一覧!L279)),競技者一覧!L279),\"\")","v":""},{"$f":"IFERROR(CONCATENATE(VLOOKUP(競技者一覧!M279,種目コード一覧!$A$1:$C$51,2,FALSE),\" \",REPT(\"0\",VLOOKUP(競技者一覧!M279,種目コード一覧!$A$1:$C$51,3,FALSE)-LEN(競技者一覧!N279)),競技者一覧!N279),\"\")","v":""},{"$f":"IFERROR(CONCATENATE(VLOOKUP(競技者一覧!O279,種目コード一覧!$A$1:$C$51,2,FALSE),\" \",REPT(\"0\",VLOOKUP(競技者一覧!O279,種目コード一覧!$A$1:$C$51,3,FALSE)-LEN(競技者一覧!P279)),競技者一覧!P279),\"\")","v":""},{"$f":"IFERROR(CONCATENATE(VLOOKUP(競技者一覧!Q279,種目コード一覧!$A$1:$C$51,2,FALSE),\" \",REPT(\"0\",VLOOKUP(競技者一覧!Q279,種目コード一覧!$A$1:$C$51,3,FALSE)-LEN(競技者一覧!R279)),競技者一覧!R279),\"\")","v":""},{"$f":"IFERROR(CONCATENATE(VLOOKUP(競技者一覧!S279,種目コード一覧!$A$1:$C$51,2,FALSE),\" \",REPT(\"0\",VLOOKUP(競技者一覧!S279,種目コード一覧!$A$1:$C$51,3,FALSE)-LEN(競技者一覧!T279)),競技者一覧!T279),\"\")","v":""},{"$f":"IFERROR(CONCATENATE(VLOOKUP(競技者一覧!U279,種目コード一覧!$A$1:$C$51,2,FALSE),\" \",REPT(\"0\",VLOOKUP(競技者一覧!U279,種目コード一覧!$A$1:$C$51,3,FALSE)-LEN(競技者一覧!V279)),競技者一覧!V279),\"\")","v":""},{"$f":"IFERROR(CONCATENATE(VLOOKUP(競技者一覧!W279,種目コード一覧!$A$1:$C$51,2,FALSE),\" \",REPT(\"0\",VLOOKUP(競技者一覧!W279,種目コード一覧!$A$1:$C$51,3,FALSE)-LEN(競技者一覧!X279)),競技者一覧!X279),\"\")","v":""},{"$f":"IFERROR(CONCATENATE(VLOOKUP(競技者一覧!Y279,種目コード一覧!$A$1:$C$51,2,FALSE),\" \",REPT(\"0\",VLOOKUP(競技者一覧!Y279,種目コード一覧!$A$1:$C$51,3,FALSE)-LEN(競技者一覧!Z279)),競技者一覧!Z279),\"\")","v":""}]
[{"$f":"IFERROR(CONCATENATE(競技者一覧!$D$7), \"\")","v":""},{"$f":"IFERROR(CONCATENATE($H$2,Sheet4!B260),\"\")","v":""},{"$f":"競技者一覧!C280&IF(OR(競技者一覧!H280=\"\",競技者一覧!H280=9),\"\",\"(\" & 競技者一覧!H280 & \")\")","v":""},{"$f":"ASC(競技者一覧!D280 &IF(OR(MID(競技者一覧!G280,3,2)=\"\", MID(競技者一覧!G280,3,2)=\"0\"),\"\",\"(\" & MID(競技者一覧!G280,3,2) & \")\"))","v":""},{"$f":"ASC(競技者一覧!E280 & \" \" & 競技者一覧!F280 & IF(OR(MID(競技者一覧!G280,3,2)=\"\", MID(競技者一覧!G280,3,2)=\"0\"),\"\",\"(\" & MID(競技者一覧!G280,3,2) & \")\"))","v":" "},{"$f":"CONCATENATE(競技者一覧!I280)","v":""},{"$f":"IFERROR(IF(競技者一覧!$D$6=\"学連\",VLOOKUP(競技者一覧!J280,Sheet4!$D$2:$E$48,2,FALSE),学校名簿!D260),\"\")","v":0},{"$f":"IFERROR(VLOOKUP(競技者一覧!$D$7,学校番号表!$B$2:$C$65536,2,FALSE),\"\")","v":""},{"$f":"CONCATENATE(競技者一覧!B280)","v":""},{"$f":"IFERROR(CONCATENATE(VLOOKUP(競技者一覧!K280,種目コード一覧!$A$1:$B$51,2,FALSE),\" \",REPT(\"0\",VLOOKUP(競技者一覧!K280,種目コード一覧!$A$1:$C$51,3,FALSE)-LEN(競技者一覧!L280)),競技者一覧!L280),\"\")","v":""},{"$f":"IFERROR(CONCATENATE(VLOOKUP(競技者一覧!M280,種目コード一覧!$A$1:$C$51,2,FALSE),\" \",REPT(\"0\",VLOOKUP(競技者一覧!M280,種目コード一覧!$A$1:$C$51,3,FALSE)-LEN(競技者一覧!N280)),競技者一覧!N280),\"\")","v":""},{"$f":"IFERROR(CONCATENATE(VLOOKUP(競技者一覧!O280,種目コード一覧!$A$1:$C$51,2,FALSE),\" \",REPT(\"0\",VLOOKUP(競技者一覧!O280,種目コード一覧!$A$1:$C$51,3,FALSE)-LEN(競技者一覧!P280)),競技者一覧!P280),\"\")","v":""},{"$f":"IFERROR(CONCATENATE(VLOOKUP(競技者一覧!Q280,種目コード一覧!$A$1:$C$51,2,FALSE),\" \",REPT(\"0\",VLOOKUP(競技者一覧!Q280,種目コード一覧!$A$1:$C$51,3,FALSE)-LEN(競技者一覧!R280)),競技者一覧!R280),\"\")","v":""},{"$f":"IFERROR(CONCATENATE(VLOOKUP(競技者一覧!S280,種目コード一覧!$A$1:$C$51,2,FALSE),\" \",REPT(\"0\",VLOOKUP(競技者一覧!S280,種目コード一覧!$A$1:$C$51,3,FALSE)-LEN(競技者一覧!T280)),競技者一覧!T280),\"\")","v":""},{"$f":"IFERROR(CONCATENATE(VLOOKUP(競技者一覧!U280,種目コード一覧!$A$1:$C$51,2,FALSE),\" \",REPT(\"0\",VLOOKUP(競技者一覧!U280,種目コード一覧!$A$1:$C$51,3,FALSE)-LEN(競技者一覧!V280)),競技者一覧!V280),\"\")","v":""},{"$f":"IFERROR(CONCATENATE(VLOOKUP(競技者一覧!W280,種目コード一覧!$A$1:$C$51,2,FALSE),\" \",REPT(\"0\",VLOOKUP(競技者一覧!W280,種目コード一覧!$A$1:$C$51,3,FALSE)-LEN(競技者一覧!X280)),競技者一覧!X280),\"\")","v":""},{"$f":"IFERROR(CONCATENATE(VLOOKUP(競技者一覧!Y280,種目コード一覧!$A$1:$C$51,2,FALSE),\" \",REPT(\"0\",VLOOKUP(競技者一覧!Y280,種目コード一覧!$A$1:$C$51,3,FALSE)-LEN(競技者一覧!Z280)),競技者一覧!Z280),\"\")","v":""}]
[{"$f":"IFERROR(CONCATENATE(競技者一覧!$D$7), \"\")","v":""},{"$f":"IFERROR(CONCATENATE($H$2,Sheet4!B261),\"\")","v":""},{"$f":"競技者一覧!C281&IF(OR(競技者一覧!H281=\"\",競技者一覧!H281=9),\"\",\"(\" & 競技者一覧!H281 & \")\")","v":""},{"$f":"競技者一覧!D281 &IF(OR(MID(競技者一覧!G281,3,2)=\"\", MID(競技者一覧!G281,3,2)=\"0\"),\"\",\"(\" & MID(競技者一覧!G281,3,2) & \")\")","v":""},{"$f":"ASC(競技者一覧!E281 & \" \" & 競技者一覧!F281 & IF(OR(MID(競技者一覧!G281,3,2)=\"\", MID(競技者一覧!G281,3,2)=\"0\"),\"\",\"(\" & MID(競技者一覧!G281,3,2) & \")\"))","v":" "},{"$f":"CONCATENATE(競技者一覧!I281)","v":""},{"$f":"IFERROR(IF(競技者一覧!$D$6=\"学連\",VLOOKUP(競技者一覧!J281,Sheet4!$D$2:$E$48,2,FALSE),学校名簿!D261),\"\")","v":0},{"$f":"IFERROR(VLOOKUP(競技者一覧!$D$7,学校番号表!$B$2:$C$65536,2,FALSE),\"\")","v":""},{"$f":"CONCATENATE(競技者一覧!B281)","v":""},{"$f":"IFERROR(CONCATENATE(VLOOKUP(競技者一覧!K281,種目コード一覧!$A$1:$C$51,2,FALSE),\" \",REPT(\"0\",VLOOKUP(競技者一覧!K281,種目コード一覧!$A$1:$C$51,3,FALSE)-LEN(競技者一覧!L281)),競技者一覧!L281),\"\")","v":""},{"$f":"IFERROR(CONCATENATE(VLOOKUP(競技者一覧!M281,種目コード一覧!$A$1:$C$51,2,FALSE),\" \",REPT(\"0\",VLOOKUP(競技者一覧!M281,種目コード一覧!$A$1:$C$51,3,FALSE)-LEN(競技者一覧!N281)),競技者一覧!N281),\"\")","v":""},{"$f":"IFERROR(CONCATENATE(VLOOKUP(競技者一覧!O281,種目コード一覧!$A$1:$C$51,2,FALSE),\" \",REPT(\"0\",VLOOKUP(競技者一覧!O281,種目コード一覧!$A$1:$C$51,3,FALSE)-LEN(競技者一覧!P281)),競技者一覧!P281),\"\")","v":""},{"$f":"IFERROR(CONCATENATE(VLOOKUP(競技者一覧!Q281,種目コード一覧!$A$1:$C$51,2,FALSE),\" \",REPT(\"0\",VLOOKUP(競技者一覧!Q281,種目コード一覧!$A$1:$C$51,3,FALSE)-LEN(競技者一覧!R281)),競技者一覧!R281),\"\")","v":""},{"$f":"IFERROR(CONCATENATE(VLOOKUP(競技者一覧!S281,種目コード一覧!$A$1:$C$51,2,FALSE),\" \",REPT(\"0\",VLOOKUP(競技者一覧!S281,種目コード一覧!$A$1:$C$51,3,FALSE)-LEN(競技者一覧!T281)),競技者一覧!T281),\"\")","v":""},{"$f":"IFERROR(CONCATENATE(VLOOKUP(競技者一覧!U281,種目コード一覧!$A$1:$C$51,2,FALSE),\" \",REPT(\"0\",VLOOKUP(競技者一覧!U281,種目コード一覧!$A$1:$C$51,3,FALSE)-LEN(競技者一覧!V281)),競技者一覧!V281),\"\")","v":""},{"$f":"IFERROR(CONCATENATE(VLOOKUP(競技者一覧!W281,種目コード一覧!$A$1:$C$51,2,FALSE),\" \",REPT(\"0\",VLOOKUP(競技者一覧!W281,種目コード一覧!$A$1:$C$51,3,FALSE)-LEN(競技者一覧!X281)),競技者一覧!X281),\"\")","v":""},{"$f":"IFERROR(CONCATENATE(VLOOKUP(競技者一覧!Y281,種目コード一覧!$A$1:$C$51,2,FALSE),\" \",REPT(\"0\",VLOOKUP(競技者一覧!Y281,種目コード一覧!$A$1:$C$51,3,FALSE)-LEN(競技者一覧!Z281)),競技者一覧!Z281),\"\")","v":""}]
[{"$f":"IFERROR(CONCATENATE(競技者一覧!$D$7), \"\")","v":""},{"$f":"IFERROR(CONCATENATE($H$2,Sheet4!B262),\"\")","v":""},{"$f":"競技者一覧!C282&IF(OR(競技者一覧!H282=\"\",競技者一覧!H282=9),\"\",\"(\" & 競技者一覧!H282 & \")\")","v":""},{"$f":"ASC(競技者一覧!D282 &IF(OR(MID(競技者一覧!G282,3,2)=\"\", MID(競技者一覧!G282,3,2)=\"0\"),\"\",\"(\" & MID(競技者一覧!G282,3,2) & \")\"))","v":""},{"$f":"ASC(競技者一覧!E282 & \" \" & 競技者一覧!F282 & IF(OR(MID(競技者一覧!G282,3,2)=\"\", MID(競技者一覧!G282,3,2)=\"0\"),\"\",\"(\" & MID(競技者一覧!G282,3,2) & \")\"))","v":" "},{"$f":"CONCATENATE(競技者一覧!I282)","v":""},{"$f":"IFERROR(IF(競技者一覧!$D$6=\"学連\",VLOOKUP(競技者一覧!J282,Sheet4!$D$2:$E$48,2,FALSE),学校名簿!D262),\"\")","v":0},{"$f":"IFERROR(VLOOKUP(競技者一覧!$D$7,学校番号表!$B$2:$C$65536,2,FALSE),\"\")","v":""},{"$f":"CONCATENATE(競技者一覧!B282)","v":""},{"$f":"IFERROR(CONCATENATE(VLOOKUP(競技者一覧!K282,種目コード一覧!$A$1:$B$51,2,FALSE),\" \",REPT(\"0\",VLOOKUP(競技者一覧!K282,種目コード一覧!$A$1:$C$51,3,FALSE)-LEN(競技者一覧!L282)),競技者一覧!L282),\"\")","v":""},{"$f":"IFERROR(CONCATENATE(VLOOKUP(競技者一覧!M282,種目コード一覧!$A$1:$C$51,2,FALSE),\" \",REPT(\"0\",VLOOKUP(競技者一覧!M282,種目コード一覧!$A$1:$C$51,3,FALSE)-LEN(競技者一覧!N282)),競技者一覧!N282),\"\")","v":""},{"$f":"IFERROR(CONCATENATE(VLOOKUP(競技者一覧!O282,種目コード一覧!$A$1:$C$51,2,FALSE),\" \",REPT(\"0\",VLOOKUP(競技者一覧!O282,種目コード一覧!$A$1:$C$51,3,FALSE)-LEN(競技者一覧!P282)),競技者一覧!P282),\"\")","v":""},{"$f":"IFERROR(CONCATENATE(VLOOKUP(競技者一覧!Q282,種目コード一覧!$A$1:$C$51,2,FALSE),\" \",REPT(\"0\",VLOOKUP(競技者一覧!Q282,種目コード一覧!$A$1:$C$51,3,FALSE)-LEN(競技者一覧!R282)),競技者一覧!R282),\"\")","v":""},{"$f":"IFERROR(CONCATENATE(VLOOKUP(競技者一覧!S282,種目コード一覧!$A$1:$C$51,2,FALSE),\" \",REPT(\"0\",VLOOKUP(競技者一覧!S282,種目コード一覧!$A$1:$C$51,3,FALSE)-LEN(競技者一覧!T282)),競技者一覧!T282),\"\")","v":""},{"$f":"IFERROR(CONCATENATE(VLOOKUP(競技者一覧!U282,種目コード一覧!$A$1:$C$51,2,FALSE),\" \",REPT(\"0\",VLOOKUP(競技者一覧!U282,種目コード一覧!$A$1:$C$51,3,FALSE)-LEN(競技者一覧!V282)),競技者一覧!V282),\"\")","v":""},{"$f":"IFERROR(CONCATENATE(VLOOKUP(競技者一覧!W282,種目コード一覧!$A$1:$C$51,2,FALSE),\" \",REPT(\"0\",VLOOKUP(競技者一覧!W282,種目コード一覧!$A$1:$C$51,3,FALSE)-LEN(競技者一覧!X282)),競技者一覧!X282),\"\")","v":""},{"$f":"IFERROR(CONCATENATE(VLOOKUP(競技者一覧!Y282,種目コード一覧!$A$1:$C$51,2,FALSE),\" \",REPT(\"0\",VLOOKUP(競技者一覧!Y282,種目コード一覧!$A$1:$C$51,3,FALSE)-LEN(競技者一覧!Z282)),競技者一覧!Z282),\"\")","v":""}]
[{"$f":"IFERROR(CONCATENATE(競技者一覧!$D$7), \"\")","v":""},{"$f":"IFERROR(CONCATENATE($H$2,Sheet4!B263),\"\")","v":""},{"$f":"競技者一覧!C283&IF(OR(競技者一覧!H283=\"\",競技者一覧!H283=9),\"\",\"(\" & 競技者一覧!H283 & \")\")","v":""},{"$f":"競技者一覧!D283 &IF(OR(MID(競技者一覧!G283,3,2)=\"\", MID(競技者一覧!G283,3,2)=\"0\"),\"\",\"(\" & MID(競技者一覧!G283,3,2) & \")\")","v":""},{"$f":"ASC(競技者一覧!E283 & \" \" & 競技者一覧!F283 & IF(OR(MID(競技者一覧!G283,3,2)=\"\", MID(競技者一覧!G283,3,2)=\"0\"),\"\",\"(\" & MID(競技者一覧!G283,3,2) & \")\"))","v":" "},{"$f":"CONCATENATE(競技者一覧!I283)","v":""},{"$f":"IFERROR(IF(競技者一覧!$D$6=\"学連\",VLOOKUP(競技者一覧!J283,Sheet4!$D$2:$E$48,2,FALSE),学校名簿!D263),\"\")","v":0},{"$f":"IFERROR(VLOOKUP(競技者一覧!$D$7,学校番号表!$B$2:$C$65536,2,FALSE),\"\")","v":""},{"$f":"CONCATENATE(競技者一覧!B283)","v":""},{"$f":"IFERROR(CONCATENATE(VLOOKUP(競技者一覧!K283,種目コード一覧!$A$1:$C$51,2,FALSE),\" \",REPT(\"0\",VLOOKUP(競技者一覧!K283,種目コード一覧!$A$1:$C$51,3,FALSE)-LEN(競技者一覧!L283)),競技者一覧!L283),\"\")","v":""},{"$f":"IFERROR(CONCATENATE(VLOOKUP(競技者一覧!M283,種目コード一覧!$A$1:$C$51,2,FALSE),\" \",REPT(\"0\",VLOOKUP(競技者一覧!M283,種目コード一覧!$A$1:$C$51,3,FALSE)-LEN(競技者一覧!N283)),競技者一覧!N283),\"\")","v":""},{"$f":"IFERROR(CONCATENATE(VLOOKUP(競技者一覧!O283,種目コード一覧!$A$1:$C$51,2,FALSE),\" \",REPT(\"0\",VLOOKUP(競技者一覧!O283,種目コード一覧!$A$1:$C$51,3,FALSE)-LEN(競技者一覧!P283)),競技者一覧!P283),\"\")","v":""},{"$f":"IFERROR(CONCATENATE(VLOOKUP(競技者一覧!Q283,種目コード一覧!$A$1:$C$51,2,FALSE),\" \",REPT(\"0\",VLOOKUP(競技者一覧!Q283,種目コード一覧!$A$1:$C$51,3,FALSE)-LEN(競技者一覧!R283)),競技者一覧!R283),\"\")","v":""},{"$f":"IFERROR(CONCATENATE(VLOOKUP(競技者一覧!S283,種目コード一覧!$A$1:$C$51,2,FALSE),\" \",REPT(\"0\",VLOOKUP(競技者一覧!S283,種目コード一覧!$A$1:$C$51,3,FALSE)-LEN(競技者一覧!T283)),競技者一覧!T283),\"\")","v":""},{"$f":"IFERROR(CONCATENATE(VLOOKUP(競技者一覧!U283,種目コード一覧!$A$1:$C$51,2,FALSE),\" \",REPT(\"0\",VLOOKUP(競技者一覧!U283,種目コード一覧!$A$1:$C$51,3,FALSE)-LEN(競技者一覧!V283)),競技者一覧!V283),\"\")","v":""},{"$f":"IFERROR(CONCATENATE(VLOOKUP(競技者一覧!W283,種目コード一覧!$A$1:$C$51,2,FALSE),\" \",REPT(\"0\",VLOOKUP(競技者一覧!W283,種目コード一覧!$A$1:$C$51,3,FALSE)-LEN(競技者一覧!X283)),競技者一覧!X283),\"\")","v":""},{"$f":"IFERROR(CONCATENATE(VLOOKUP(競技者一覧!Y283,種目コード一覧!$A$1:$C$51,2,FALSE),\" \",REPT(\"0\",VLOOKUP(競技者一覧!Y283,種目コード一覧!$A$1:$C$51,3,FALSE)-LEN(競技者一覧!Z283)),競技者一覧!Z283),\"\")","v":""}]
[{"$f":"IFERROR(CONCATENATE(競技者一覧!$D$7), \"\")","v":""},{"$f":"IFERROR(CONCATENATE($H$2,Sheet4!B264),\"\")","v":""},{"$f":"競技者一覧!C284&IF(OR(競技者一覧!H284=\"\",競技者一覧!H284=9),\"\",\"(\" & 競技者一覧!H284 & \")\")","v":""},{"$f":"ASC(競技者一覧!D284 &IF(OR(MID(競技者一覧!G284,3,2)=\"\", MID(競技者一覧!G284,3,2)=\"0\"),\"\",\"(\" & MID(競技者一覧!G284,3,2) & \")\"))","v":""},{"$f":"ASC(競技者一覧!E284 & \" \" & 競技者一覧!F284 & IF(OR(MID(競技者一覧!G284,3,2)=\"\", MID(競技者一覧!G284,3,2)=\"0\"),\"\",\"(\" & MID(競技者一覧!G284,3,2) & \")\"))","v":" "},{"$f":"CONCATENATE(競技者一覧!I284)","v":""},{"$f":"IFERROR(IF(競技者一覧!$D$6=\"学連\",VLOOKUP(競技者一覧!J284,Sheet4!$D$2:$E$48,2,FALSE),学校名簿!D264),\"\")","v":0},{"$f":"IFERROR(VLOOKUP(競技者一覧!$D$7,学校番号表!$B$2:$C$65536,2,FALSE),\"\")","v":""},{"$f":"CONCATENATE(競技者一覧!B284)","v":""},{"$f":"IFERROR(CONCATENATE(VLOOKUP(競技者一覧!K284,種目コード一覧!$A$1:$B$51,2,FALSE),\" \",REPT(\"0\",VLOOKUP(競技者一覧!K284,種目コード一覧!$A$1:$C$51,3,FALSE)-LEN(競技者一覧!L284)),競技者一覧!L284),\"\")","v":""},{"$f":"IFERROR(CONCATENATE(VLOOKUP(競技者一覧!M284,種目コード一覧!$A$1:$C$51,2,FALSE),\" \",REPT(\"0\",VLOOKUP(競技者一覧!M284,種目コード一覧!$A$1:$C$51,3,FALSE)-LEN(競技者一覧!N284)),競技者一覧!N284),\"\")","v":""},{"$f":"IFERROR(CONCATENATE(VLOOKUP(競技者一覧!O284,種目コード一覧!$A$1:$C$51,2,FALSE),\" \",REPT(\"0\",VLOOKUP(競技者一覧!O284,種目コード一覧!$A$1:$C$51,3,FALSE)-LEN(競技者一覧!P284)),競技者一覧!P284),\"\")","v":""},{"$f":"IFERROR(CONCATENATE(VLOOKUP(競技者一覧!Q284,種目コード一覧!$A$1:$C$51,2,FALSE),\" \",REPT(\"0\",VLOOKUP(競技者一覧!Q284,種目コード一覧!$A$1:$C$51,3,FALSE)-LEN(競技者一覧!R284)),競技者一覧!R284),\"\")","v":""},{"$f":"IFERROR(CONCATENATE(VLOOKUP(競技者一覧!S284,種目コード一覧!$A$1:$C$51,2,FALSE),\" \",REPT(\"0\",VLOOKUP(競技者一覧!S284,種目コード一覧!$A$1:$C$51,3,FALSE)-LEN(競技者一覧!T284)),競技者一覧!T284),\"\")","v":""},{"$f":"IFERROR(CONCATENATE(VLOOKUP(競技者一覧!U284,種目コード一覧!$A$1:$C$51,2,FALSE),\" \",REPT(\"0\",VLOOKUP(競技者一覧!U284,種目コード一覧!$A$1:$C$51,3,FALSE)-LEN(競技者一覧!V284)),競技者一覧!V284),\"\")","v":""},{"$f":"IFERROR(CONCATENATE(VLOOKUP(競技者一覧!W284,種目コード一覧!$A$1:$C$51,2,FALSE),\" \",REPT(\"0\",VLOOKUP(競技者一覧!W284,種目コード一覧!$A$1:$C$51,3,FALSE)-LEN(競技者一覧!X284)),競技者一覧!X284),\"\")","v":""},{"$f":"IFERROR(CONCATENATE(VLOOKUP(競技者一覧!Y284,種目コード一覧!$A$1:$C$51,2,FALSE),\" \",REPT(\"0\",VLOOKUP(競技者一覧!Y284,種目コード一覧!$A$1:$C$51,3,FALSE)-LEN(競技者一覧!Z284)),競技者一覧!Z284),\"\")","v":""}]
[{"$f":"IFERROR(CONCATENATE(競技者一覧!$D$7), \"\")","v":""},{"$f":"IFERROR(CONCATENATE($H$2,Sheet4!B265),\"\")","v":""},{"$f":"競技者一覧!C285&IF(OR(競技者一覧!H285=\"\",競技者一覧!H285=9),\"\",\"(\" & 競技者一覧!H285 & \")\")","v":""},{"$f":"競技者一覧!D285 &IF(OR(MID(競技者一覧!G285,3,2)=\"\", MID(競技者一覧!G285,3,2)=\"0\"),\"\",\"(\" & MID(競技者一覧!G285,3,2) & \")\")","v":""},{"$f":"ASC(競技者一覧!E285 & \" \" & 競技者一覧!F285 & IF(OR(MID(競技者一覧!G285,3,2)=\"\", MID(競技者一覧!G285,3,2)=\"0\"),\"\",\"(\" & MID(競技者一覧!G285,3,2) & \")\"))","v":" "},{"$f":"CONCATENATE(競技者一覧!I285)","v":""},{"$f":"IFERROR(IF(競技者一覧!$D$6=\"学連\",VLOOKUP(競技者一覧!J285,Sheet4!$D$2:$E$48,2,FALSE),学校名簿!D265),\"\")","v":0},{"$f":"IFERROR(VLOOKUP(競技者一覧!$D$7,学校番号表!$B$2:$C$65536,2,FALSE),\"\")","v":""},{"$f":"CONCATENATE(競技者一覧!B285)","v":""},{"$f":"IFERROR(CONCATENATE(VLOOKUP(競技者一覧!K285,種目コード一覧!$A$1:$C$51,2,FALSE),\" \",REPT(\"0\",VLOOKUP(競技者一覧!K285,種目コード一覧!$A$1:$C$51,3,FALSE)-LEN(競技者一覧!L285)),競技者一覧!L285),\"\")","v":""},{"$f":"IFERROR(CONCATENATE(VLOOKUP(競技者一覧!M285,種目コード一覧!$A$1:$C$51,2,FALSE),\" \",REPT(\"0\",VLOOKUP(競技者一覧!M285,種目コード一覧!$A$1:$C$51,3,FALSE)-LEN(競技者一覧!N285)),競技者一覧!N285),\"\")","v":""},{"$f":"IFERROR(CONCATENATE(VLOOKUP(競技者一覧!O285,種目コード一覧!$A$1:$C$51,2,FALSE),\" \",REPT(\"0\",VLOOKUP(競技者一覧!O285,種目コード一覧!$A$1:$C$51,3,FALSE)-LEN(競技者一覧!P285)),競技者一覧!P285),\"\")","v":""},{"$f":"IFERROR(CONCATENATE(VLOOKUP(競技者一覧!Q285,種目コード一覧!$A$1:$C$51,2,FALSE),\" \",REPT(\"0\",VLOOKUP(競技者一覧!Q285,種目コード一覧!$A$1:$C$51,3,FALSE)-LEN(競技者一覧!R285)),競技者一覧!R285),\"\")","v":""},{"$f":"IFERROR(CONCATENATE(VLOOKUP(競技者一覧!S285,種目コード一覧!$A$1:$C$51,2,FALSE),\" \",REPT(\"0\",VLOOKUP(競技者一覧!S285,種目コード一覧!$A$1:$C$51,3,FALSE)-LEN(競技者一覧!T285)),競技者一覧!T285),\"\")","v":""},{"$f":"IFERROR(CONCATENATE(VLOOKUP(競技者一覧!U285,種目コード一覧!$A$1:$C$51,2,FALSE),\" \",REPT(\"0\",VLOOKUP(競技者一覧!U285,種目コード一覧!$A$1:$C$51,3,FALSE)-LEN(競技者一覧!V285)),競技者一覧!V285),\"\")","v":""},{"$f":"IFERROR(CONCATENATE(VLOOKUP(競技者一覧!W285,種目コード一覧!$A$1:$C$51,2,FALSE),\" \",REPT(\"0\",VLOOKUP(競技者一覧!W285,種目コード一覧!$A$1:$C$51,3,FALSE)-LEN(競技者一覧!X285)),競技者一覧!X285),\"\")","v":""},{"$f":"IFERROR(CONCATENATE(VLOOKUP(競技者一覧!Y285,種目コード一覧!$A$1:$C$51,2,FALSE),\" \",REPT(\"0\",VLOOKUP(競技者一覧!Y285,種目コード一覧!$A$1:$C$51,3,FALSE)-LEN(競技者一覧!Z285)),競技者一覧!Z285),\"\")","v":""}]
[{"$f":"IFERROR(CONCATENATE(競技者一覧!$D$7), \"\")","v":""},{"$f":"IFERROR(CONCATENATE($H$2,Sheet4!B266),\"\")","v":""},{"$f":"競技者一覧!C286&IF(OR(競技者一覧!H286=\"\",競技者一覧!H286=9),\"\",\"(\" & 競技者一覧!H286 & \")\")","v":""},{"$f":"ASC(競技者一覧!D286 &IF(OR(MID(競技者一覧!G286,3,2)=\"\", MID(競技者一覧!G286,3,2)=\"0\"),\"\",\"(\" & MID(競技者一覧!G286,3,2) & \")\"))","v":""},{"$f":"ASC(競技者一覧!E286 & \" \" & 競技者一覧!F286 & IF(OR(MID(競技者一覧!G286,3,2)=\"\", MID(競技者一覧!G286,3,2)=\"0\"),\"\",\"(\" & MID(競技者一覧!G286,3,2) & \")\"))","v":" "},{"$f":"CONCATENATE(競技者一覧!I286)","v":""},{"$f":"IFERROR(IF(競技者一覧!$D$6=\"学連\",VLOOKUP(競技者一覧!J286,Sheet4!$D$2:$E$48,2,FALSE),学校名簿!D266),\"\")","v":0},{"$f":"IFERROR(VLOOKUP(競技者一覧!$D$7,学校番号表!$B$2:$C$65536,2,FALSE),\"\")","v":""},{"$f":"CONCATENATE(競技者一覧!B286)","v":""},{"$f":"IFERROR(CONCATENATE(VLOOKUP(競技者一覧!K286,種目コード一覧!$A$1:$B$51,2,FALSE),\" \",REPT(\"0\",VLOOKUP(競技者一覧!K286,種目コード一覧!$A$1:$C$51,3,FALSE)-LEN(競技者一覧!L286)),競技者一覧!L286),\"\")","v":""},{"$f":"IFERROR(CONCATENATE(VLOOKUP(競技者一覧!M286,種目コード一覧!$A$1:$C$51,2,FALSE),\" \",REPT(\"0\",VLOOKUP(競技者一覧!M286,種目コード一覧!$A$1:$C$51,3,FALSE)-LEN(競技者一覧!N286)),競技者一覧!N286),\"\")","v":""},{"$f":"IFERROR(CONCATENATE(VLOOKUP(競技者一覧!O286,種目コード一覧!$A$1:$C$51,2,FALSE),\" \",REPT(\"0\",VLOOKUP(競技者一覧!O286,種目コード一覧!$A$1:$C$51,3,FALSE)-LEN(競技者一覧!P286)),競技者一覧!P286),\"\")","v":""},{"$f":"IFERROR(CONCATENATE(VLOOKUP(競技者一覧!Q286,種目コード一覧!$A$1:$C$51,2,FALSE),\" \",REPT(\"0\",VLOOKUP(競技者一覧!Q286,種目コード一覧!$A$1:$C$51,3,FALSE)-LEN(競技者一覧!R286)),競技者一覧!R286),\"\")","v":""},{"$f":"IFERROR(CONCATENATE(VLOOKUP(競技者一覧!S286,種目コード一覧!$A$1:$C$51,2,FALSE),\" \",REPT(\"0\",VLOOKUP(競技者一覧!S286,種目コード一覧!$A$1:$C$51,3,FALSE)-LEN(競技者一覧!T286)),競技者一覧!T286),\"\")","v":""},{"$f":"IFERROR(CONCATENATE(VLOOKUP(競技者一覧!U286,種目コード一覧!$A$1:$C$51,2,FALSE),\" \",REPT(\"0\",VLOOKUP(競技者一覧!U286,種目コード一覧!$A$1:$C$51,3,FALSE)-LEN(競技者一覧!V286)),競技者一覧!V286),\"\")","v":""},{"$f":"IFERROR(CONCATENATE(VLOOKUP(競技者一覧!W286,種目コード一覧!$A$1:$C$51,2,FALSE),\" \",REPT(\"0\",VLOOKUP(競技者一覧!W286,種目コード一覧!$A$1:$C$51,3,FALSE)-LEN(競技者一覧!X286)),競技者一覧!X286),\"\")","v":""},{"$f":"IFERROR(CONCATENATE(VLOOKUP(競技者一覧!Y286,種目コード一覧!$A$1:$C$51,2,FALSE),\" \",REPT(\"0\",VLOOKUP(競技者一覧!Y286,種目コード一覧!$A$1:$C$51,3,FALSE)-LEN(競技者一覧!Z286)),競技者一覧!Z286),\"\")","v":""}]
[{"$f":"IFERROR(CONCATENATE(競技者一覧!$D$7), \"\")","v":""},{"$f":"IFERROR(CONCATENATE($H$2,Sheet4!B267),\"\")","v":""},{"$f":"競技者一覧!C287&IF(OR(競技者一覧!H287=\"\",競技者一覧!H287=9),\"\",\"(\" & 競技者一覧!H287 & \")\")","v":""},{"$f":"競技者一覧!D287 &IF(OR(MID(競技者一覧!G287,3,2)=\"\", MID(競技者一覧!G287,3,2)=\"0\"),\"\",\"(\" & MID(競技者一覧!G287,3,2) & \")\")","v":""},{"$f":"ASC(競技者一覧!E287 & \" \" & 競技者一覧!F287 & IF(OR(MID(競技者一覧!G287,3,2)=\"\", MID(競技者一覧!G287,3,2)=\"0\"),\"\",\"(\" & MID(競技者一覧!G287,3,2) & \")\"))","v":" "},{"$f":"CONCATENATE(競技者一覧!I287)","v":""},{"$f":"IFERROR(IF(競技者一覧!$D$6=\"学連\",VLOOKUP(競技者一覧!J287,Sheet4!$D$2:$E$48,2,FALSE),学校名簿!D267),\"\")","v":0},{"$f":"IFERROR(VLOOKUP(競技者一覧!$D$7,学校番号表!$B$2:$C$65536,2,FALSE),\"\")","v":""},{"$f":"CONCATENATE(競技者一覧!B287)","v":""},{"$f":"IFERROR(CONCATENATE(VLOOKUP(競技者一覧!K287,種目コード一覧!$A$1:$C$51,2,FALSE),\" \",REPT(\"0\",VLOOKUP(競技者一覧!K287,種目コード一覧!$A$1:$C$51,3,FALSE)-LEN(競技者一覧!L287)),競技者一覧!L287),\"\")","v":""},{"$f":"IFERROR(CONCATENATE(VLOOKUP(競技者一覧!M287,種目コード一覧!$A$1:$C$51,2,FALSE),\" \",REPT(\"0\",VLOOKUP(競技者一覧!M287,種目コード一覧!$A$1:$C$51,3,FALSE)-LEN(競技者一覧!N287)),競技者一覧!N287),\"\")","v":""},{"$f":"IFERROR(CONCATENATE(VLOOKUP(競技者一覧!O287,種目コード一覧!$A$1:$C$51,2,FALSE),\" \",REPT(\"0\",VLOOKUP(競技者一覧!O287,種目コード一覧!$A$1:$C$51,3,FALSE)-LEN(競技者一覧!P287)),競技者一覧!P287),\"\")","v":""},{"$f":"IFERROR(CONCATENATE(VLOOKUP(競技者一覧!Q287,種目コード一覧!$A$1:$C$51,2,FALSE),\" \",REPT(\"0\",VLOOKUP(競技者一覧!Q287,種目コード一覧!$A$1:$C$51,3,FALSE)-LEN(競技者一覧!R287)),競技者一覧!R287),\"\")","v":""},{"$f":"IFERROR(CONCATENATE(VLOOKUP(競技者一覧!S287,種目コード一覧!$A$1:$C$51,2,FALSE),\" \",REPT(\"0\",VLOOKUP(競技者一覧!S287,種目コード一覧!$A$1:$C$51,3,FALSE)-LEN(競技者一覧!T287)),競技者一覧!T287),\"\")","v":""},{"$f":"IFERROR(CONCATENATE(VLOOKUP(競技者一覧!U287,種目コード一覧!$A$1:$C$51,2,FALSE),\" \",REPT(\"0\",VLOOKUP(競技者一覧!U287,種目コード一覧!$A$1:$C$51,3,FALSE)-LEN(競技者一覧!V287)),競技者一覧!V287),\"\")","v":""},{"$f":"IFERROR(CONCATENATE(VLOOKUP(競技者一覧!W287,種目コード一覧!$A$1:$C$51,2,FALSE),\" \",REPT(\"0\",VLOOKUP(競技者一覧!W287,種目コード一覧!$A$1:$C$51,3,FALSE)-LEN(競技者一覧!X287)),競技者一覧!X287),\"\")","v":""},{"$f":"IFERROR(CONCATENATE(VLOOKUP(競技者一覧!Y287,種目コード一覧!$A$1:$C$51,2,FALSE),\" \",REPT(\"0\",VLOOKUP(競技者一覧!Y287,種目コード一覧!$A$1:$C$51,3,FALSE)-LEN(競技者一覧!Z287)),競技者一覧!Z287),\"\")","v":""}]
[{"$f":"IFERROR(CONCATENATE(競技者一覧!$D$7), \"\")","v":""},{"$f":"IFERROR(CONCATENATE($H$2,Sheet4!B268),\"\")","v":""},{"$f":"競技者一覧!C288&IF(OR(競技者一覧!H288=\"\",競技者一覧!H288=9),\"\",\"(\" & 競技者一覧!H288 & \")\")","v":""},{"$f":"ASC(競技者一覧!D288 &IF(OR(MID(競技者一覧!G288,3,2)=\"\", MID(競技者一覧!G288,3,2)=\"0\"),\"\",\"(\" & MID(競技者一覧!G288,3,2) & \")\"))","v":""},{"$f":"ASC(競技者一覧!E288 & \" \" & 競技者一覧!F288 & IF(OR(MID(競技者一覧!G288,3,2)=\"\", MID(競技者一覧!G288,3,2)=\"0\"),\"\",\"(\" & MID(競技者一覧!G288,3,2) & \")\"))","v":" "},{"$f":"CONCATENATE(競技者一覧!I288)","v":""},{"$f":"IFERROR(IF(競技者一覧!$D$6=\"学連\",VLOOKUP(競技者一覧!J288,Sheet4!$D$2:$E$48,2,FALSE),学校名簿!D268),\"\")","v":0},{"$f":"IFERROR(VLOOKUP(競技者一覧!$D$7,学校番号表!$B$2:$C$65536,2,FALSE),\"\")","v":""},{"$f":"CONCATENATE(競技者一覧!B288)","v":""},{"$f":"IFERROR(CONCATENATE(VLOOKUP(競技者一覧!K288,種目コード一覧!$A$1:$B$51,2,FALSE),\" \",REPT(\"0\",VLOOKUP(競技者一覧!K288,種目コード一覧!$A$1:$C$51,3,FALSE)-LEN(競技者一覧!L288)),競技者一覧!L288),\"\")","v":""},{"$f":"IFERROR(CONCATENATE(VLOOKUP(競技者一覧!M288,種目コード一覧!$A$1:$C$51,2,FALSE),\" \",REPT(\"0\",VLOOKUP(競技者一覧!M288,種目コード一覧!$A$1:$C$51,3,FALSE)-LEN(競技者一覧!N288)),競技者一覧!N288),\"\")","v":""},{"$f":"IFERROR(CONCATENATE(VLOOKUP(競技者一覧!O288,種目コード一覧!$A$1:$C$51,2,FALSE),\" \",REPT(\"0\",VLOOKUP(競技者一覧!O288,種目コード一覧!$A$1:$C$51,3,FALSE)-LEN(競技者一覧!P288)),競技者一覧!P288),\"\")","v":""},{"$f":"IFERROR(CONCATENATE(VLOOKUP(競技者一覧!Q288,種目コード一覧!$A$1:$C$51,2,FALSE),\" \",REPT(\"0\",VLOOKUP(競技者一覧!Q288,種目コード一覧!$A$1:$C$51,3,FALSE)-LEN(競技者一覧!R288)),競技者一覧!R288),\"\")","v":""},{"$f":"IFERROR(CONCATENATE(VLOOKUP(競技者一覧!S288,種目コード一覧!$A$1:$C$51,2,FALSE),\" \",REPT(\"0\",VLOOKUP(競技者一覧!S288,種目コード一覧!$A$1:$C$51,3,FALSE)-LEN(競技者一覧!T288)),競技者一覧!T288),\"\")","v":""},{"$f":"IFERROR(CONCATENATE(VLOOKUP(競技者一覧!U288,種目コード一覧!$A$1:$C$51,2,FALSE),\" \",REPT(\"0\",VLOOKUP(競技者一覧!U288,種目コード一覧!$A$1:$C$51,3,FALSE)-LEN(競技者一覧!V288)),競技者一覧!V288),\"\")","v":""},{"$f":"IFERROR(CONCATENATE(VLOOKUP(競技者一覧!W288,種目コード一覧!$A$1:$C$51,2,FALSE),\" \",REPT(\"0\",VLOOKUP(競技者一覧!W288,種目コード一覧!$A$1:$C$51,3,FALSE)-LEN(競技者一覧!X288)),競技者一覧!X288),\"\")","v":""},{"$f":"IFERROR(CONCATENATE(VLOOKUP(競技者一覧!Y288,種目コード一覧!$A$1:$C$51,2,FALSE),\" \",REPT(\"0\",VLOOKUP(競技者一覧!Y288,種目コード一覧!$A$1:$C$51,3,FALSE)-LEN(競技者一覧!Z288)),競技者一覧!Z288),\"\")","v":""}]
[{"$f":"IFERROR(CONCATENATE(競技者一覧!$D$7), \"\")","v":""},{"$f":"IFERROR(CONCATENATE($H$2,Sheet4!B269),\"\")","v":""},{"$f":"競技者一覧!C289&IF(OR(競技者一覧!H289=\"\",競技者一覧!H289=9),\"\",\"(\" & 競技者一覧!H289 & \")\")","v":""},{"$f":"競技者一覧!D289 &IF(OR(MID(競技者一覧!G289,3,2)=\"\", MID(競技者一覧!G289,3,2)=\"0\"),\"\",\"(\" & MID(競技者一覧!G289,3,2) & \")\")","v":""},{"$f":"ASC(競技者一覧!E289 & \" \" & 競技者一覧!F289 & IF(OR(MID(競技者一覧!G289,3,2)=\"\", MID(競技者一覧!G289,3,2)=\"0\"),\"\",\"(\" & MID(競技者一覧!G289,3,2) & \")\"))","v":" "},{"$f":"CONCATENATE(競技者一覧!I289)","v":""},{"$f":"IFERROR(IF(競技者一覧!$D$6=\"学連\",VLOOKUP(競技者一覧!J289,Sheet4!$D$2:$E$48,2,FALSE),学校名簿!D269),\"\")","v":0},{"$f":"IFERROR(VLOOKUP(競技者一覧!$D$7,学校番号表!$B$2:$C$65536,2,FALSE),\"\")","v":""},{"$f":"CONCATENATE(競技者一覧!B289)","v":""},{"$f":"IFERROR(CONCATENATE(VLOOKUP(競技者一覧!K289,種目コード一覧!$A$1:$C$51,2,FALSE),\" \",REPT(\"0\",VLOOKUP(競技者一覧!K289,種目コード一覧!$A$1:$C$51,3,FALSE)-LEN(競技者一覧!L289)),競技者一覧!L289),\"\")","v":""},{"$f":"IFERROR(CONCATENATE(VLOOKUP(競技者一覧!M289,種目コード一覧!$A$1:$C$51,2,FALSE),\" \",REPT(\"0\",VLOOKUP(競技者一覧!M289,種目コード一覧!$A$1:$C$51,3,FALSE)-LEN(競技者一覧!N289)),競技者一覧!N289),\"\")","v":""},{"$f":"IFERROR(CONCATENATE(VLOOKUP(競技者一覧!O289,種目コード一覧!$A$1:$C$51,2,FALSE),\" \",REPT(\"0\",VLOOKUP(競技者一覧!O289,種目コード一覧!$A$1:$C$51,3,FALSE)-LEN(競技者一覧!P289)),競技者一覧!P289),\"\")","v":""},{"$f":"IFERROR(CONCATENATE(VLOOKUP(競技者一覧!Q289,種目コード一覧!$A$1:$C$51,2,FALSE),\" \",REPT(\"0\",VLOOKUP(競技者一覧!Q289,種目コード一覧!$A$1:$C$51,3,FALSE)-LEN(競技者一覧!R289)),競技者一覧!R289),\"\")","v":""},{"$f":"IFERROR(CONCATENATE(VLOOKUP(競技者一覧!S289,種目コード一覧!$A$1:$C$51,2,FALSE),\" \",REPT(\"0\",VLOOKUP(競技者一覧!S289,種目コード一覧!$A$1:$C$51,3,FALSE)-LEN(競技者一覧!T289)),競技者一覧!T289),\"\")","v":""},{"$f":"IFERROR(CONCATENATE(VLOOKUP(競技者一覧!U289,種目コード一覧!$A$1:$C$51,2,FALSE),\" \",REPT(\"0\",VLOOKUP(競技者一覧!U289,種目コード一覧!$A$1:$C$51,3,FALSE)-LEN(競技者一覧!V289)),競技者一覧!V289),\"\")","v":""},{"$f":"IFERROR(CONCATENATE(VLOOKUP(競技者一覧!W289,種目コード一覧!$A$1:$C$51,2,FALSE),\" \",REPT(\"0\",VLOOKUP(競技者一覧!W289,種目コード一覧!$A$1:$C$51,3,FALSE)-LEN(競技者一覧!X289)),競技者一覧!X289),\"\")","v":""},{"$f":"IFERROR(CONCATENATE(VLOOKUP(競技者一覧!Y289,種目コード一覧!$A$1:$C$51,2,FALSE),\" \",REPT(\"0\",VLOOKUP(競技者一覧!Y289,種目コード一覧!$A$1:$C$51,3,FALSE)-LEN(競技者一覧!Z289)),競技者一覧!Z289),\"\")","v":""}]
[{"$f":"IFERROR(CONCATENATE(競技者一覧!$D$7), \"\")","v":""},{"$f":"IFERROR(CONCATENATE($H$2,Sheet4!B270),\"\")","v":""},{"$f":"競技者一覧!C290&IF(OR(競技者一覧!H290=\"\",競技者一覧!H290=9),\"\",\"(\" & 競技者一覧!H290 & \")\")","v":""},{"$f":"ASC(競技者一覧!D290 &IF(OR(MID(競技者一覧!G290,3,2)=\"\", MID(競技者一覧!G290,3,2)=\"0\"),\"\",\"(\" & MID(競技者一覧!G290,3,2) & \")\"))","v":""},{"$f":"ASC(競技者一覧!E290 & \" \" & 競技者一覧!F290 & IF(OR(MID(競技者一覧!G290,3,2)=\"\", MID(競技者一覧!G290,3,2)=\"0\"),\"\",\"(\" & MID(競技者一覧!G290,3,2) & \")\"))","v":" "},{"$f":"CONCATENATE(競技者一覧!I290)","v":""},{"$f":"IFERROR(IF(競技者一覧!$D$6=\"学連\",VLOOKUP(競技者一覧!J290,Sheet4!$D$2:$E$48,2,FALSE),学校名簿!D270),\"\")","v":0},{"$f":"IFERROR(VLOOKUP(競技者一覧!$D$7,学校番号表!$B$2:$C$65536,2,FALSE),\"\")","v":""},{"$f":"CONCATENATE(競技者一覧!B290)","v":""},{"$f":"IFERROR(CONCATENATE(VLOOKUP(競技者一覧!K290,種目コード一覧!$A$1:$B$51,2,FALSE),\" \",REPT(\"0\",VLOOKUP(競技者一覧!K290,種目コード一覧!$A$1:$C$51,3,FALSE)-LEN(競技者一覧!L290)),競技者一覧!L290),\"\")","v":""},{"$f":"IFERROR(CONCATENATE(VLOOKUP(競技者一覧!M290,種目コード一覧!$A$1:$C$51,2,FALSE),\" \",REPT(\"0\",VLOOKUP(競技者一覧!M290,種目コード一覧!$A$1:$C$51,3,FALSE)-LEN(競技者一覧!N290)),競技者一覧!N290),\"\")","v":""},{"$f":"IFERROR(CONCATENATE(VLOOKUP(競技者一覧!O290,種目コード一覧!$A$1:$C$51,2,FALSE),\" \",REPT(\"0\",VLOOKUP(競技者一覧!O290,種目コード一覧!$A$1:$C$51,3,FALSE)-LEN(競技者一覧!P290)),競技者一覧!P290),\"\")","v":""},{"$f":"IFERROR(CONCATENATE(VLOOKUP(競技者一覧!Q290,種目コード一覧!$A$1:$C$51,2,FALSE),\" \",REPT(\"0\",VLOOKUP(競技者一覧!Q290,種目コード一覧!$A$1:$C$51,3,FALSE)-LEN(競技者一覧!R290)),競技者一覧!R290),\"\")","v":""},{"$f":"IFERROR(CONCATENATE(VLOOKUP(競技者一覧!S290,種目コード一覧!$A$1:$C$51,2,FALSE),\" \",REPT(\"0\",VLOOKUP(競技者一覧!S290,種目コード一覧!$A$1:$C$51,3,FALSE)-LEN(競技者一覧!T290)),競技者一覧!T290),\"\")","v":""},{"$f":"IFERROR(CONCATENATE(VLOOKUP(競技者一覧!U290,種目コード一覧!$A$1:$C$51,2,FALSE),\" \",REPT(\"0\",VLOOKUP(競技者一覧!U290,種目コード一覧!$A$1:$C$51,3,FALSE)-LEN(競技者一覧!V290)),競技者一覧!V290),\"\")","v":""},{"$f":"IFERROR(CONCATENATE(VLOOKUP(競技者一覧!W290,種目コード一覧!$A$1:$C$51,2,FALSE),\" \",REPT(\"0\",VLOOKUP(競技者一覧!W290,種目コード一覧!$A$1:$C$51,3,FALSE)-LEN(競技者一覧!X290)),競技者一覧!X290),\"\")","v":""},{"$f":"IFERROR(CONCATENATE(VLOOKUP(競技者一覧!Y290,種目コード一覧!$A$1:$C$51,2,FALSE),\" \",REPT(\"0\",VLOOKUP(競技者一覧!Y290,種目コード一覧!$A$1:$C$51,3,FALSE)-LEN(競技者一覧!Z290)),競技者一覧!Z290),\"\")","v":""}]
[{"$f":"IFERROR(CONCATENATE(競技者一覧!$D$7), \"\")","v":""},{"$f":"IFERROR(CONCATENATE($H$2,Sheet4!B271),\"\")","v":""},{"$f":"競技者一覧!C291&IF(OR(競技者一覧!H291=\"\",競技者一覧!H291=9),\"\",\"(\" & 競技者一覧!H291 & \")\")","v":""},{"$f":"競技者一覧!D291 &IF(OR(MID(競技者一覧!G291,3,2)=\"\", MID(競技者一覧!G291,3,2)=\"0\"),\"\",\"(\" & MID(競技者一覧!G291,3,2) & \")\")","v":""},{"$f":"ASC(競技者一覧!E291 & \" \" & 競技者一覧!F291 & IF(OR(MID(競技者一覧!G291,3,2)=\"\", MID(競技者一覧!G291,3,2)=\"0\"),\"\",\"(\" & MID(競技者一覧!G291,3,2) & \")\"))","v":" "},{"$f":"CONCATENATE(競技者一覧!I291)","v":""},{"$f":"IFERROR(IF(競技者一覧!$D$6=\"学連\",VLOOKUP(競技者一覧!J291,Sheet4!$D$2:$E$48,2,FALSE),学校名簿!D271),\"\")","v":0},{"$f":"IFERROR(VLOOKUP(競技者一覧!$D$7,学校番号表!$B$2:$C$65536,2,FALSE),\"\")","v":""},{"$f":"CONCATENATE(競技者一覧!B291)","v":""},{"$f":"IFERROR(CONCATENATE(VLOOKUP(競技者一覧!K291,種目コード一覧!$A$1:$C$51,2,FALSE),\" \",REPT(\"0\",VLOOKUP(競技者一覧!K291,種目コード一覧!$A$1:$C$51,3,FALSE)-LEN(競技者一覧!L291)),競技者一覧!L291),\"\")","v":""},{"$f":"IFERROR(CONCATENATE(VLOOKUP(競技者一覧!M291,種目コード一覧!$A$1:$C$51,2,FALSE),\" \",REPT(\"0\",VLOOKUP(競技者一覧!M291,種目コード一覧!$A$1:$C$51,3,FALSE)-LEN(競技者一覧!N291)),競技者一覧!N291),\"\")","v":""},{"$f":"IFERROR(CONCATENATE(VLOOKUP(競技者一覧!O291,種目コード一覧!$A$1:$C$51,2,FALSE),\" \",REPT(\"0\",VLOOKUP(競技者一覧!O291,種目コード一覧!$A$1:$C$51,3,FALSE)-LEN(競技者一覧!P291)),競技者一覧!P291),\"\")","v":""},{"$f":"IFERROR(CONCATENATE(VLOOKUP(競技者一覧!Q291,種目コード一覧!$A$1:$C$51,2,FALSE),\" \",REPT(\"0\",VLOOKUP(競技者一覧!Q291,種目コード一覧!$A$1:$C$51,3,FALSE)-LEN(競技者一覧!R291)),競技者一覧!R291),\"\")","v":""},{"$f":"IFERROR(CONCATENATE(VLOOKUP(競技者一覧!S291,種目コード一覧!$A$1:$C$51,2,FALSE),\" \",REPT(\"0\",VLOOKUP(競技者一覧!S291,種目コード一覧!$A$1:$C$51,3,FALSE)-LEN(競技者一覧!T291)),競技者一覧!T291),\"\")","v":""},{"$f":"IFERROR(CONCATENATE(VLOOKUP(競技者一覧!U291,種目コード一覧!$A$1:$C$51,2,FALSE),\" \",REPT(\"0\",VLOOKUP(競技者一覧!U291,種目コード一覧!$A$1:$C$51,3,FALSE)-LEN(競技者一覧!V291)),競技者一覧!V291),\"\")","v":""},{"$f":"IFERROR(CONCATENATE(VLOOKUP(競技者一覧!W291,種目コード一覧!$A$1:$C$51,2,FALSE),\" \",REPT(\"0\",VLOOKUP(競技者一覧!W291,種目コード一覧!$A$1:$C$51,3,FALSE)-LEN(競技者一覧!X291)),競技者一覧!X291),\"\")","v":""},{"$f":"IFERROR(CONCATENATE(VLOOKUP(競技者一覧!Y291,種目コード一覧!$A$1:$C$51,2,FALSE),\" \",REPT(\"0\",VLOOKUP(競技者一覧!Y291,種目コード一覧!$A$1:$C$51,3,FALSE)-LEN(競技者一覧!Z291)),競技者一覧!Z291),\"\")","v":""}]
[{"$f":"IFERROR(CONCATENATE(競技者一覧!$D$7), \"\")","v":""},{"$f":"IFERROR(CONCATENATE($H$2,Sheet4!B272),\"\")","v":""},{"$f":"競技者一覧!C292&IF(OR(競技者一覧!H292=\"\",競技者一覧!H292=9),\"\",\"(\" & 競技者一覧!H292 & \")\")","v":""},{"$f":"ASC(競技者一覧!D292 &IF(OR(MID(競技者一覧!G292,3,2)=\"\", MID(競技者一覧!G292,3,2)=\"0\"),\"\",\"(\" & MID(競技者一覧!G292,3,2) & \")\"))","v":""},{"$f":"ASC(競技者一覧!E292 & \" \" & 競技者一覧!F292 & IF(OR(MID(競技者一覧!G292,3,2)=\"\", MID(競技者一覧!G292,3,2)=\"0\"),\"\",\"(\" & MID(競技者一覧!G292,3,2) & \")\"))","v":" "},{"$f":"CONCATENATE(競技者一覧!I292)","v":""},{"$f":"IFERROR(IF(競技者一覧!$D$6=\"学連\",VLOOKUP(競技者一覧!J292,Sheet4!$D$2:$E$48,2,FALSE),学校名簿!D272),\"\")","v":0},{"$f":"IFERROR(VLOOKUP(競技者一覧!$D$7,学校番号表!$B$2:$C$65536,2,FALSE),\"\")","v":""},{"$f":"CONCATENATE(競技者一覧!B292)","v":""},{"$f":"IFERROR(CONCATENATE(VLOOKUP(競技者一覧!K292,種目コード一覧!$A$1:$B$51,2,FALSE),\" \",REPT(\"0\",VLOOKUP(競技者一覧!K292,種目コード一覧!$A$1:$C$51,3,FALSE)-LEN(競技者一覧!L292)),競技者一覧!L292),\"\")","v":""},{"$f":"IFERROR(CONCATENATE(VLOOKUP(競技者一覧!M292,種目コード一覧!$A$1:$C$51,2,FALSE),\" \",REPT(\"0\",VLOOKUP(競技者一覧!M292,種目コード一覧!$A$1:$C$51,3,FALSE)-LEN(競技者一覧!N292)),競技者一覧!N292),\"\")","v":""},{"$f":"IFERROR(CONCATENATE(VLOOKUP(競技者一覧!O292,種目コード一覧!$A$1:$C$51,2,FALSE),\" \",REPT(\"0\",VLOOKUP(競技者一覧!O292,種目コード一覧!$A$1:$C$51,3,FALSE)-LEN(競技者一覧!P292)),競技者一覧!P292),\"\")","v":""},{"$f":"IFERROR(CONCATENATE(VLOOKUP(競技者一覧!Q292,種目コード一覧!$A$1:$C$51,2,FALSE),\" \",REPT(\"0\",VLOOKUP(競技者一覧!Q292,種目コード一覧!$A$1:$C$51,3,FALSE)-LEN(競技者一覧!R292)),競技者一覧!R292),\"\")","v":""},{"$f":"IFERROR(CONCATENATE(VLOOKUP(競技者一覧!S292,種目コード一覧!$A$1:$C$51,2,FALSE),\" \",REPT(\"0\",VLOOKUP(競技者一覧!S292,種目コード一覧!$A$1:$C$51,3,FALSE)-LEN(競技者一覧!T292)),競技者一覧!T292),\"\")","v":""},{"$f":"IFERROR(CONCATENATE(VLOOKUP(競技者一覧!U292,種目コード一覧!$A$1:$C$51,2,FALSE),\" \",REPT(\"0\",VLOOKUP(競技者一覧!U292,種目コード一覧!$A$1:$C$51,3,FALSE)-LEN(競技者一覧!V292)),競技者一覧!V292),\"\")","v":""},{"$f":"IFERROR(CONCATENATE(VLOOKUP(競技者一覧!W292,種目コード一覧!$A$1:$C$51,2,FALSE),\" \",REPT(\"0\",VLOOKUP(競技者一覧!W292,種目コード一覧!$A$1:$C$51,3,FALSE)-LEN(競技者一覧!X292)),競技者一覧!X292),\"\")","v":""},{"$f":"IFERROR(CONCATENATE(VLOOKUP(競技者一覧!Y292,種目コード一覧!$A$1:$C$51,2,FALSE),\" \",REPT(\"0\",VLOOKUP(競技者一覧!Y292,種目コード一覧!$A$1:$C$51,3,FALSE)-LEN(競技者一覧!Z292)),競技者一覧!Z292),\"\")","v":""}]
[{"$f":"IFERROR(CONCATENATE(競技者一覧!$D$7), \"\")","v":""},{"$f":"IFERROR(CONCATENATE($H$2,Sheet4!B273),\"\")","v":""},{"$f":"競技者一覧!C293&IF(OR(競技者一覧!H293=\"\",競技者一覧!H293=9),\"\",\"(\" & 競技者一覧!H293 & \")\")","v":""},{"$f":"競技者一覧!D293 &IF(OR(MID(競技者一覧!G293,3,2)=\"\", MID(競技者一覧!G293,3,2)=\"0\"),\"\",\"(\" & MID(競技者一覧!G293,3,2) & \")\")","v":""},{"$f":"ASC(競技者一覧!E293 & \" \" & 競技者一覧!F293 & IF(OR(MID(競技者一覧!G293,3,2)=\"\", MID(競技者一覧!G293,3,2)=\"0\"),\"\",\"(\" & MID(競技者一覧!G293,3,2) & \")\"))","v":" "},{"$f":"CONCATENATE(競技者一覧!I293)","v":""},{"$f":"IFERROR(IF(競技者一覧!$D$6=\"学連\",VLOOKUP(競技者一覧!J293,Sheet4!$D$2:$E$48,2,FALSE),学校名簿!D273),\"\")","v":0},{"$f":"IFERROR(VLOOKUP(競技者一覧!$D$7,学校番号表!$B$2:$C$65536,2,FALSE),\"\")","v":""},{"$f":"CONCATENATE(競技者一覧!B293)","v":""},{"$f":"IFERROR(CONCATENATE(VLOOKUP(競技者一覧!K293,種目コード一覧!$A$1:$C$51,2,FALSE),\" \",REPT(\"0\",VLOOKUP(競技者一覧!K293,種目コード一覧!$A$1:$C$51,3,FALSE)-LEN(競技者一覧!L293)),競技者一覧!L293),\"\")","v":""},{"$f":"IFERROR(CONCATENATE(VLOOKUP(競技者一覧!M293,種目コード一覧!$A$1:$C$51,2,FALSE),\" \",REPT(\"0\",VLOOKUP(競技者一覧!M293,種目コード一覧!$A$1:$C$51,3,FALSE)-LEN(競技者一覧!N293)),競技者一覧!N293),\"\")","v":""},{"$f":"IFERROR(CONCATENATE(VLOOKUP(競技者一覧!O293,種目コード一覧!$A$1:$C$51,2,FALSE),\" \",REPT(\"0\",VLOOKUP(競技者一覧!O293,種目コード一覧!$A$1:$C$51,3,FALSE)-LEN(競技者一覧!P293)),競技者一覧!P293),\"\")","v":""},{"$f":"IFERROR(CONCATENATE(VLOOKUP(競技者一覧!Q293,種目コード一覧!$A$1:$C$51,2,FALSE),\" \",REPT(\"0\",VLOOKUP(競技者一覧!Q293,種目コード一覧!$A$1:$C$51,3,FALSE)-LEN(競技者一覧!R293)),競技者一覧!R293),\"\")","v":""},{"$f":"IFERROR(CONCATENATE(VLOOKUP(競技者一覧!S293,種目コード一覧!$A$1:$C$51,2,FALSE),\" \",REPT(\"0\",VLOOKUP(競技者一覧!S293,種目コード一覧!$A$1:$C$51,3,FALSE)-LEN(競技者一覧!T293)),競技者一覧!T293),\"\")","v":""},{"$f":"IFERROR(CONCATENATE(VLOOKUP(競技者一覧!U293,種目コード一覧!$A$1:$C$51,2,FALSE),\" \",REPT(\"0\",VLOOKUP(競技者一覧!U293,種目コード一覧!$A$1:$C$51,3,FALSE)-LEN(競技者一覧!V293)),競技者一覧!V293),\"\")","v":""},{"$f":"IFERROR(CONCATENATE(VLOOKUP(競技者一覧!W293,種目コード一覧!$A$1:$C$51,2,FALSE),\" \",REPT(\"0\",VLOOKUP(競技者一覧!W293,種目コード一覧!$A$1:$C$51,3,FALSE)-LEN(競技者一覧!X293)),競技者一覧!X293),\"\")","v":""},{"$f":"IFERROR(CONCATENATE(VLOOKUP(競技者一覧!Y293,種目コード一覧!$A$1:$C$51,2,FALSE),\" \",REPT(\"0\",VLOOKUP(競技者一覧!Y293,種目コード一覧!$A$1:$C$51,3,FALSE)-LEN(競技者一覧!Z293)),競技者一覧!Z293),\"\")","v":""}]
[{"$f":"IFERROR(CONCATENATE(競技者一覧!$D$7), \"\")","v":""},{"$f":"IFERROR(CONCATENATE($H$2,Sheet4!B274),\"\")","v":""},{"$f":"競技者一覧!C294&IF(OR(競技者一覧!H294=\"\",競技者一覧!H294=9),\"\",\"(\" & 競技者一覧!H294 & \")\")","v":""},{"$f":"ASC(競技者一覧!D294 &IF(OR(MID(競技者一覧!G294,3,2)=\"\", MID(競技者一覧!G294,3,2)=\"0\"),\"\",\"(\" & MID(競技者一覧!G294,3,2) & \")\"))","v":""},{"$f":"ASC(競技者一覧!E294 & \" \" & 競技者一覧!F294 & IF(OR(MID(競技者一覧!G294,3,2)=\"\", MID(競技者一覧!G294,3,2)=\"0\"),\"\",\"(\" & MID(競技者一覧!G294,3,2) & \")\"))","v":" "},{"$f":"CONCATENATE(競技者一覧!I294)","v":""},{"$f":"IFERROR(IF(競技者一覧!$D$6=\"学連\",VLOOKUP(競技者一覧!J294,Sheet4!$D$2:$E$48,2,FALSE),学校名簿!D274),\"\")","v":0},{"$f":"IFERROR(VLOOKUP(競技者一覧!$D$7,学校番号表!$B$2:$C$65536,2,FALSE),\"\")","v":""},{"$f":"CONCATENATE(競技者一覧!B294)","v":""},{"$f":"IFERROR(CONCATENATE(VLOOKUP(競技者一覧!K294,種目コード一覧!$A$1:$B$51,2,FALSE),\" \",REPT(\"0\",VLOOKUP(競技者一覧!K294,種目コード一覧!$A$1:$C$51,3,FALSE)-LEN(競技者一覧!L294)),競技者一覧!L294),\"\")","v":""},{"$f":"IFERROR(CONCATENATE(VLOOKUP(競技者一覧!M294,種目コード一覧!$A$1:$C$51,2,FALSE),\" \",REPT(\"0\",VLOOKUP(競技者一覧!M294,種目コード一覧!$A$1:$C$51,3,FALSE)-LEN(競技者一覧!N294)),競技者一覧!N294),\"\")","v":""},{"$f":"IFERROR(CONCATENATE(VLOOKUP(競技者一覧!O294,種目コード一覧!$A$1:$C$51,2,FALSE),\" \",REPT(\"0\",VLOOKUP(競技者一覧!O294,種目コード一覧!$A$1:$C$51,3,FALSE)-LEN(競技者一覧!P294)),競技者一覧!P294),\"\")","v":""},{"$f":"IFERROR(CONCATENATE(VLOOKUP(競技者一覧!Q294,種目コード一覧!$A$1:$C$51,2,FALSE),\" \",REPT(\"0\",VLOOKUP(競技者一覧!Q294,種目コード一覧!$A$1:$C$51,3,FALSE)-LEN(競技者一覧!R294)),競技者一覧!R294),\"\")","v":""},{"$f":"IFERROR(CONCATENATE(VLOOKUP(競技者一覧!S294,種目コード一覧!$A$1:$C$51,2,FALSE),\" \",REPT(\"0\",VLOOKUP(競技者一覧!S294,種目コード一覧!$A$1:$C$51,3,FALSE)-LEN(競技者一覧!T294)),競技者一覧!T294),\"\")","v":""},{"$f":"IFERROR(CONCATENATE(VLOOKUP(競技者一覧!U294,種目コード一覧!$A$1:$C$51,2,FALSE),\" \",REPT(\"0\",VLOOKUP(競技者一覧!U294,種目コード一覧!$A$1:$C$51,3,FALSE)-LEN(競技者一覧!V294)),競技者一覧!V294),\"\")","v":""},{"$f":"IFERROR(CONCATENATE(VLOOKUP(競技者一覧!W294,種目コード一覧!$A$1:$C$51,2,FALSE),\" \",REPT(\"0\",VLOOKUP(競技者一覧!W294,種目コード一覧!$A$1:$C$51,3,FALSE)-LEN(競技者一覧!X294)),競技者一覧!X294),\"\")","v":""},{"$f":"IFERROR(CONCATENATE(VLOOKUP(競技者一覧!Y294,種目コード一覧!$A$1:$C$51,2,FALSE),\" \",REPT(\"0\",VLOOKUP(競技者一覧!Y294,種目コード一覧!$A$1:$C$51,3,FALSE)-LEN(競技者一覧!Z294)),競技者一覧!Z294),\"\")","v":""}]
[{"$f":"IFERROR(CONCATENATE(競技者一覧!$D$7), \"\")","v":""},{"$f":"IFERROR(CONCATENATE($H$2,Sheet4!B275),\"\")","v":""},{"$f":"競技者一覧!C295&IF(OR(競技者一覧!H295=\"\",競技者一覧!H295=9),\"\",\"(\" & 競技者一覧!H295 & \")\")","v":""},{"$f":"競技者一覧!D295 &IF(OR(MID(競技者一覧!G295,3,2)=\"\", MID(競技者一覧!G295,3,2)=\"0\"),\"\",\"(\" & MID(競技者一覧!G295,3,2) & \")\")","v":""},{"$f":"ASC(競技者一覧!E295 & \" \" & 競技者一覧!F295 & IF(OR(MID(競技者一覧!G295,3,2)=\"\", MID(競技者一覧!G295,3,2)=\"0\"),\"\",\"(\" & MID(競技者一覧!G295,3,2) & \")\"))","v":" "},{"$f":"CONCATENATE(競技者一覧!I295)","v":""},{"$f":"IFERROR(IF(競技者一覧!$D$6=\"学連\",VLOOKUP(競技者一覧!J295,Sheet4!$D$2:$E$48,2,FALSE),学校名簿!D275),\"\")","v":0},{"$f":"IFERROR(VLOOKUP(競技者一覧!$D$7,学校番号表!$B$2:$C$65536,2,FALSE),\"\")","v":""},{"$f":"CONCATENATE(競技者一覧!B295)","v":""},{"$f":"IFERROR(CONCATENATE(VLOOKUP(競技者一覧!K295,種目コード一覧!$A$1:$C$51,2,FALSE),\" \",REPT(\"0\",VLOOKUP(競技者一覧!K295,種目コード一覧!$A$1:$C$51,3,FALSE)-LEN(競技者一覧!L295)),競技者一覧!L295),\"\")","v":""},{"$f":"IFERROR(CONCATENATE(VLOOKUP(競技者一覧!M295,種目コード一覧!$A$1:$C$51,2,FALSE),\" \",REPT(\"0\",VLOOKUP(競技者一覧!M295,種目コード一覧!$A$1:$C$51,3,FALSE)-LEN(競技者一覧!N295)),競技者一覧!N295),\"\")","v":""},{"$f":"IFERROR(CONCATENATE(VLOOKUP(競技者一覧!O295,種目コード一覧!$A$1:$C$51,2,FALSE),\" \",REPT(\"0\",VLOOKUP(競技者一覧!O295,種目コード一覧!$A$1:$C$51,3,FALSE)-LEN(競技者一覧!P295)),競技者一覧!P295),\"\")","v":""},{"$f":"IFERROR(CONCATENATE(VLOOKUP(競技者一覧!Q295,種目コード一覧!$A$1:$C$51,2,FALSE),\" \",REPT(\"0\",VLOOKUP(競技者一覧!Q295,種目コード一覧!$A$1:$C$51,3,FALSE)-LEN(競技者一覧!R295)),競技者一覧!R295),\"\")","v":""},{"$f":"IFERROR(CONCATENATE(VLOOKUP(競技者一覧!S295,種目コード一覧!$A$1:$C$51,2,FALSE),\" \",REPT(\"0\",VLOOKUP(競技者一覧!S295,種目コード一覧!$A$1:$C$51,3,FALSE)-LEN(競技者一覧!T295)),競技者一覧!T295),\"\")","v":""},{"$f":"IFERROR(CONCATENATE(VLOOKUP(競技者一覧!U295,種目コード一覧!$A$1:$C$51,2,FALSE),\" \",REPT(\"0\",VLOOKUP(競技者一覧!U295,種目コード一覧!$A$1:$C$51,3,FALSE)-LEN(競技者一覧!V295)),競技者一覧!V295),\"\")","v":""},{"$f":"IFERROR(CONCATENATE(VLOOKUP(競技者一覧!W295,種目コード一覧!$A$1:$C$51,2,FALSE),\" \",REPT(\"0\",VLOOKUP(競技者一覧!W295,種目コード一覧!$A$1:$C$51,3,FALSE)-LEN(競技者一覧!X295)),競技者一覧!X295),\"\")","v":""},{"$f":"IFERROR(CONCATENATE(VLOOKUP(競技者一覧!Y295,種目コード一覧!$A$1:$C$51,2,FALSE),\" \",REPT(\"0\",VLOOKUP(競技者一覧!Y295,種目コード一覧!$A$1:$C$51,3,FALSE)-LEN(競技者一覧!Z295)),競技者一覧!Z295),\"\")","v":""}]
[{"$f":"IFERROR(CONCATENATE(競技者一覧!$D$7), \"\")","v":""},{"$f":"IFERROR(CONCATENATE($H$2,Sheet4!B276),\"\")","v":""},{"$f":"競技者一覧!C296&IF(OR(競技者一覧!H296=\"\",競技者一覧!H296=9),\"\",\"(\" & 競技者一覧!H296 & \")\")","v":""},{"$f":"ASC(競技者一覧!D296 &IF(OR(MID(競技者一覧!G296,3,2)=\"\", MID(競技者一覧!G296,3,2)=\"0\"),\"\",\"(\" & MID(競技者一覧!G296,3,2) & \")\"))","v":""},{"$f":"ASC(競技者一覧!E296 & \" \" & 競技者一覧!F296 & IF(OR(MID(競技者一覧!G296,3,2)=\"\", MID(競技者一覧!G296,3,2)=\"0\"),\"\",\"(\" & MID(競技者一覧!G296,3,2) & \")\"))","v":" "},{"$f":"CONCATENATE(競技者一覧!I296)","v":""},{"$f":"IFERROR(IF(競技者一覧!$D$6=\"学連\",VLOOKUP(競技者一覧!J296,Sheet4!$D$2:$E$48,2,FALSE),学校名簿!D276),\"\")","v":0},{"$f":"IFERROR(VLOOKUP(競技者一覧!$D$7,学校番号表!$B$2:$C$65536,2,FALSE),\"\")","v":""},{"$f":"CONCATENATE(競技者一覧!B296)","v":""},{"$f":"IFERROR(CONCATENATE(VLOOKUP(競技者一覧!K296,種目コード一覧!$A$1:$B$51,2,FALSE),\" \",REPT(\"0\",VLOOKUP(競技者一覧!K296,種目コード一覧!$A$1:$C$51,3,FALSE)-LEN(競技者一覧!L296)),競技者一覧!L296),\"\")","v":""},{"$f":"IFERROR(CONCATENATE(VLOOKUP(競技者一覧!M296,種目コード一覧!$A$1:$C$51,2,FALSE),\" \",REPT(\"0\",VLOOKUP(競技者一覧!M296,種目コード一覧!$A$1:$C$51,3,FALSE)-LEN(競技者一覧!N296)),競技者一覧!N296),\"\")","v":""},{"$f":"IFERROR(CONCATENATE(VLOOKUP(競技者一覧!O296,種目コード一覧!$A$1:$C$51,2,FALSE),\" \",REPT(\"0\",VLOOKUP(競技者一覧!O296,種目コード一覧!$A$1:$C$51,3,FALSE)-LEN(競技者一覧!P296)),競技者一覧!P296),\"\")","v":""},{"$f":"IFERROR(CONCATENATE(VLOOKUP(競技者一覧!Q296,種目コード一覧!$A$1:$C$51,2,FALSE),\" \",REPT(\"0\",VLOOKUP(競技者一覧!Q296,種目コード一覧!$A$1:$C$51,3,FALSE)-LEN(競技者一覧!R296)),競技者一覧!R296),\"\")","v":""},{"$f":"IFERROR(CONCATENATE(VLOOKUP(競技者一覧!S296,種目コード一覧!$A$1:$C$51,2,FALSE),\" \",REPT(\"0\",VLOOKUP(競技者一覧!S296,種目コード一覧!$A$1:$C$51,3,FALSE)-LEN(競技者一覧!T296)),競技者一覧!T296),\"\")","v":""},{"$f":"IFERROR(CONCATENATE(VLOOKUP(競技者一覧!U296,種目コード一覧!$A$1:$C$51,2,FALSE),\" \",REPT(\"0\",VLOOKUP(競技者一覧!U296,種目コード一覧!$A$1:$C$51,3,FALSE)-LEN(競技者一覧!V296)),競技者一覧!V296),\"\")","v":""},{"$f":"IFERROR(CONCATENATE(VLOOKUP(競技者一覧!W296,種目コード一覧!$A$1:$C$51,2,FALSE),\" \",REPT(\"0\",VLOOKUP(競技者一覧!W296,種目コード一覧!$A$1:$C$51,3,FALSE)-LEN(競技者一覧!X296)),競技者一覧!X296),\"\")","v":""},{"$f":"IFERROR(CONCATENATE(VLOOKUP(競技者一覧!Y296,種目コード一覧!$A$1:$C$51,2,FALSE),\" \",REPT(\"0\",VLOOKUP(競技者一覧!Y296,種目コード一覧!$A$1:$C$51,3,FALSE)-LEN(競技者一覧!Z296)),競技者一覧!Z296),\"\")","v":""}]
[{"$f":"IFERROR(CONCATENATE(競技者一覧!$D$7), \"\")","v":""},{"$f":"IFERROR(CONCATENATE($H$2,Sheet4!B277),\"\")","v":""},{"$f":"競技者一覧!C297&IF(OR(競技者一覧!H297=\"\",競技者一覧!H297=9),\"\",\"(\" & 競技者一覧!H297 & \")\")","v":""},{"$f":"競技者一覧!D297 &IF(OR(MID(競技者一覧!G297,3,2)=\"\", MID(競技者一覧!G297,3,2)=\"0\"),\"\",\"(\" & MID(競技者一覧!G297,3,2) & \")\")","v":""},{"$f":"ASC(競技者一覧!E297 & \" \" & 競技者一覧!F297 & IF(OR(MID(競技者一覧!G297,3,2)=\"\", MID(競技者一覧!G297,3,2)=\"0\"),\"\",\"(\" & MID(競技者一覧!G297,3,2) & \")\"))","v":" "},{"$f":"CONCATENATE(競技者一覧!I297)","v":""},{"$f":"IFERROR(IF(競技者一覧!$D$6=\"学連\",VLOOKUP(競技者一覧!J297,Sheet4!$D$2:$E$48,2,FALSE),学校名簿!D277),\"\")","v":0},{"$f":"IFERROR(VLOOKUP(競技者一覧!$D$7,学校番号表!$B$2:$C$65536,2,FALSE),\"\")","v":""},{"$f":"CONCATENATE(競技者一覧!B297)","v":""},{"$f":"IFERROR(CONCATENATE(VLOOKUP(競技者一覧!K297,種目コード一覧!$A$1:$C$51,2,FALSE),\" \",REPT(\"0\",VLOOKUP(競技者一覧!K297,種目コード一覧!$A$1:$C$51,3,FALSE)-LEN(競技者一覧!L297)),競技者一覧!L297),\"\")","v":""},{"$f":"IFERROR(CONCATENATE(VLOOKUP(競技者一覧!M297,種目コード一覧!$A$1:$C$51,2,FALSE),\" \",REPT(\"0\",VLOOKUP(競技者一覧!M297,種目コード一覧!$A$1:$C$51,3,FALSE)-LEN(競技者一覧!N297)),競技者一覧!N297),\"\")","v":""},{"$f":"IFERROR(CONCATENATE(VLOOKUP(競技者一覧!O297,種目コード一覧!$A$1:$C$51,2,FALSE),\" \",REPT(\"0\",VLOOKUP(競技者一覧!O297,種目コード一覧!$A$1:$C$51,3,FALSE)-LEN(競技者一覧!P297)),競技者一覧!P297),\"\")","v":""},{"$f":"IFERROR(CONCATENATE(VLOOKUP(競技者一覧!Q297,種目コード一覧!$A$1:$C$51,2,FALSE),\" \",REPT(\"0\",VLOOKUP(競技者一覧!Q297,種目コード一覧!$A$1:$C$51,3,FALSE)-LEN(競技者一覧!R297)),競技者一覧!R297),\"\")","v":""},{"$f":"IFERROR(CONCATENATE(VLOOKUP(競技者一覧!S297,種目コード一覧!$A$1:$C$51,2,FALSE),\" \",REPT(\"0\",VLOOKUP(競技者一覧!S297,種目コード一覧!$A$1:$C$51,3,FALSE)-LEN(競技者一覧!T297)),競技者一覧!T297),\"\")","v":""},{"$f":"IFERROR(CONCATENATE(VLOOKUP(競技者一覧!U297,種目コード一覧!$A$1:$C$51,2,FALSE),\" \",REPT(\"0\",VLOOKUP(競技者一覧!U297,種目コード一覧!$A$1:$C$51,3,FALSE)-LEN(競技者一覧!V297)),競技者一覧!V297),\"\")","v":""},{"$f":"IFERROR(CONCATENATE(VLOOKUP(競技者一覧!W297,種目コード一覧!$A$1:$C$51,2,FALSE),\" \",REPT(\"0\",VLOOKUP(競技者一覧!W297,種目コード一覧!$A$1:$C$51,3,FALSE)-LEN(競技者一覧!X297)),競技者一覧!X297),\"\")","v":""},{"$f":"IFERROR(CONCATENATE(VLOOKUP(競技者一覧!Y297,種目コード一覧!$A$1:$C$51,2,FALSE),\" \",REPT(\"0\",VLOOKUP(競技者一覧!Y297,種目コード一覧!$A$1:$C$51,3,FALSE)-LEN(競技者一覧!Z297)),競技者一覧!Z297),\"\")","v":""}]
[{"$f":"IFERROR(CONCATENATE(競技者一覧!$D$7), \"\")","v":""},{"$f":"IFERROR(CONCATENATE($H$2,Sheet4!B278),\"\")","v":""},{"$f":"競技者一覧!C298&IF(OR(競技者一覧!H298=\"\",競技者一覧!H298=9),\"\",\"(\" & 競技者一覧!H298 & \")\")","v":""},{"$f":"ASC(競技者一覧!D298 &IF(OR(MID(競技者一覧!G298,3,2)=\"\", MID(競技者一覧!G298,3,2)=\"0\"),\"\",\"(\" & MID(競技者一覧!G298,3,2) & \")\"))","v":""},{"$f":"ASC(競技者一覧!E298 & \" \" & 競技者一覧!F298 & IF(OR(MID(競技者一覧!G298,3,2)=\"\", MID(競技者一覧!G298,3,2)=\"0\"),\"\",\"(\" & MID(競技者一覧!G298,3,2) & \")\"))","v":" "},{"$f":"CONCATENATE(競技者一覧!I298)","v":""},{"$f":"IFERROR(IF(競技者一覧!$D$6=\"学連\",VLOOKUP(競技者一覧!J298,Sheet4!$D$2:$E$48,2,FALSE),学校名簿!D278),\"\")","v":0},{"$f":"IFERROR(VLOOKUP(競技者一覧!$D$7,学校番号表!$B$2:$C$65536,2,FALSE),\"\")","v":""},{"$f":"CONCATENATE(競技者一覧!B298)","v":""},{"$f":"IFERROR(CONCATENATE(VLOOKUP(競技者一覧!K298,種目コード一覧!$A$1:$B$51,2,FALSE),\" \",REPT(\"0\",VLOOKUP(競技者一覧!K298,種目コード一覧!$A$1:$C$51,3,FALSE)-LEN(競技者一覧!L298)),競技者一覧!L298),\"\")","v":""},{"$f":"IFERROR(CONCATENATE(VLOOKUP(競技者一覧!M298,種目コード一覧!$A$1:$C$51,2,FALSE),\" \",REPT(\"0\",VLOOKUP(競技者一覧!M298,種目コード一覧!$A$1:$C$51,3,FALSE)-LEN(競技者一覧!N298)),競技者一覧!N298),\"\")","v":""},{"$f":"IFERROR(CONCATENATE(VLOOKUP(競技者一覧!O298,種目コード一覧!$A$1:$C$51,2,FALSE),\" \",REPT(\"0\",VLOOKUP(競技者一覧!O298,種目コード一覧!$A$1:$C$51,3,FALSE)-LEN(競技者一覧!P298)),競技者一覧!P298),\"\")","v":""},{"$f":"IFERROR(CONCATENATE(VLOOKUP(競技者一覧!Q298,種目コード一覧!$A$1:$C$51,2,FALSE),\" \",REPT(\"0\",VLOOKUP(競技者一覧!Q298,種目コード一覧!$A$1:$C$51,3,FALSE)-LEN(競技者一覧!R298)),競技者一覧!R298),\"\")","v":""},{"$f":"IFERROR(CONCATENATE(VLOOKUP(競技者一覧!S298,種目コード一覧!$A$1:$C$51,2,FALSE),\" \",REPT(\"0\",VLOOKUP(競技者一覧!S298,種目コード一覧!$A$1:$C$51,3,FALSE)-LEN(競技者一覧!T298)),競技者一覧!T298),\"\")","v":""},{"$f":"IFERROR(CONCATENATE(VLOOKUP(競技者一覧!U298,種目コード一覧!$A$1:$C$51,2,FALSE),\" \",REPT(\"0\",VLOOKUP(競技者一覧!U298,種目コード一覧!$A$1:$C$51,3,FALSE)-LEN(競技者一覧!V298)),競技者一覧!V298),\"\")","v":""},{"$f":"IFERROR(CONCATENATE(VLOOKUP(競技者一覧!W298,種目コード一覧!$A$1:$C$51,2,FALSE),\" \",REPT(\"0\",VLOOKUP(競技者一覧!W298,種目コード一覧!$A$1:$C$51,3,FALSE)-LEN(競技者一覧!X298)),競技者一覧!X298),\"\")","v":""},{"$f":"IFERROR(CONCATENATE(VLOOKUP(競技者一覧!Y298,種目コード一覧!$A$1:$C$51,2,FALSE),\" \",REPT(\"0\",VLOOKUP(競技者一覧!Y298,種目コード一覧!$A$1:$C$51,3,FALSE)-LEN(競技者一覧!Z298)),競技者一覧!Z298),\"\")","v":""}]
[{"$f":"IFERROR(CONCATENATE(競技者一覧!$D$7), \"\")","v":""},{"$f":"IFERROR(CONCATENATE($H$2,Sheet4!B279),\"\")","v":""},{"$f":"競技者一覧!C299&IF(OR(競技者一覧!H299=\"\",競技者一覧!H299=9),\"\",\"(\" & 競技者一覧!H299 & \")\")","v":""},{"$f":"競技者一覧!D299 &IF(OR(MID(競技者一覧!G299,3,2)=\"\", MID(競技者一覧!G299,3,2)=\"0\"),\"\",\"(\" & MID(競技者一覧!G299,3,2) & \")\")","v":""},{"$f":"ASC(競技者一覧!E299 & \" \" & 競技者一覧!F299 & IF(OR(MID(競技者一覧!G299,3,2)=\"\", MID(競技者一覧!G299,3,2)=\"0\"),\"\",\"(\" & MID(競技者一覧!G299,3,2) & \")\"))","v":" "},{"$f":"CONCATENATE(競技者一覧!I299)","v":""},{"$f":"IFERROR(IF(競技者一覧!$D$6=\"学連\",VLOOKUP(競技者一覧!J299,Sheet4!$D$2:$E$48,2,FALSE),学校名簿!D279),\"\")","v":0},{"$f":"IFERROR(VLOOKUP(競技者一覧!$D$7,学校番号表!$B$2:$C$65536,2,FALSE),\"\")","v":""},{"$f":"CONCATENATE(競技者一覧!B299)","v":""},{"$f":"IFERROR(CONCATENATE(VLOOKUP(競技者一覧!K299,種目コード一覧!$A$1:$C$51,2,FALSE),\" \",REPT(\"0\",VLOOKUP(競技者一覧!K299,種目コード一覧!$A$1:$C$51,3,FALSE)-LEN(競技者一覧!L299)),競技者一覧!L299),\"\")","v":""},{"$f":"IFERROR(CONCATENATE(VLOOKUP(競技者一覧!M299,種目コード一覧!$A$1:$C$51,2,FALSE),\" \",REPT(\"0\",VLOOKUP(競技者一覧!M299,種目コード一覧!$A$1:$C$51,3,FALSE)-LEN(競技者一覧!N299)),競技者一覧!N299),\"\")","v":""},{"$f":"IFERROR(CONCATENATE(VLOOKUP(競技者一覧!O299,種目コード一覧!$A$1:$C$51,2,FALSE),\" \",REPT(\"0\",VLOOKUP(競技者一覧!O299,種目コード一覧!$A$1:$C$51,3,FALSE)-LEN(競技者一覧!P299)),競技者一覧!P299),\"\")","v":""},{"$f":"IFERROR(CONCATENATE(VLOOKUP(競技者一覧!Q299,種目コード一覧!$A$1:$C$51,2,FALSE),\" \",REPT(\"0\",VLOOKUP(競技者一覧!Q299,種目コード一覧!$A$1:$C$51,3,FALSE)-LEN(競技者一覧!R299)),競技者一覧!R299),\"\")","v":""},{"$f":"IFERROR(CONCATENATE(VLOOKUP(競技者一覧!S299,種目コード一覧!$A$1:$C$51,2,FALSE),\" \",REPT(\"0\",VLOOKUP(競技者一覧!S299,種目コード一覧!$A$1:$C$51,3,FALSE)-LEN(競技者一覧!T299)),競技者一覧!T299),\"\")","v":""},{"$f":"IFERROR(CONCATENATE(VLOOKUP(競技者一覧!U299,種目コード一覧!$A$1:$C$51,2,FALSE),\" \",REPT(\"0\",VLOOKUP(競技者一覧!U299,種目コード一覧!$A$1:$C$51,3,FALSE)-LEN(競技者一覧!V299)),競技者一覧!V299),\"\")","v":""},{"$f":"IFERROR(CONCATENATE(VLOOKUP(競技者一覧!W299,種目コード一覧!$A$1:$C$51,2,FALSE),\" \",REPT(\"0\",VLOOKUP(競技者一覧!W299,種目コード一覧!$A$1:$C$51,3,FALSE)-LEN(競技者一覧!X299)),競技者一覧!X299),\"\")","v":""},{"$f":"IFERROR(CONCATENATE(VLOOKUP(競技者一覧!Y299,種目コード一覧!$A$1:$C$51,2,FALSE),\" \",REPT(\"0\",VLOOKUP(競技者一覧!Y299,種目コード一覧!$A$1:$C$51,3,FALSE)-LEN(競技者一覧!Z299)),競技者一覧!Z299),\"\")","v":""}]
[{"$f":"IFERROR(CONCATENATE(競技者一覧!$D$7), \"\")","v":""},{"$f":"IFERROR(CONCATENATE($H$2,Sheet4!B280),\"\")","v":""},{"$f":"競技者一覧!C300&IF(OR(競技者一覧!H300=\"\",競技者一覧!H300=9),\"\",\"(\" & 競技者一覧!H300 & \")\")","v":""},{"$f":"ASC(競技者一覧!D300 &IF(OR(MID(競技者一覧!G300,3,2)=\"\", MID(競技者一覧!G300,3,2)=\"0\"),\"\",\"(\" & MID(競技者一覧!G300,3,2) & \")\"))","v":""},{"$f":"ASC(競技者一覧!E300 & \" \" & 競技者一覧!F300 & IF(OR(MID(競技者一覧!G300,3,2)=\"\", MID(競技者一覧!G300,3,2)=\"0\"),\"\",\"(\" & MID(競技者一覧!G300,3,2) & \")\"))","v":" "},{"$f":"CONCATENATE(競技者一覧!I300)","v":""},{"$f":"IFERROR(IF(競技者一覧!$D$6=\"学連\",VLOOKUP(競技者一覧!J300,Sheet4!$D$2:$E$48,2,FALSE),学校名簿!D280),\"\")","v":0},{"$f":"IFERROR(VLOOKUP(競技者一覧!$D$7,学校番号表!$B$2:$C$65536,2,FALSE),\"\")","v":""},{"$f":"CONCATENATE(競技者一覧!B300)","v":""},{"$f":"IFERROR(CONCATENATE(VLOOKUP(競技者一覧!K300,種目コード一覧!$A$1:$B$51,2,FALSE),\" \",REPT(\"0\",VLOOKUP(競技者一覧!K300,種目コード一覧!$A$1:$C$51,3,FALSE)-LEN(競技者一覧!L300)),競技者一覧!L300),\"\")","v":""},{"$f":"IFERROR(CONCATENATE(VLOOKUP(競技者一覧!M300,種目コード一覧!$A$1:$C$51,2,FALSE),\" \",REPT(\"0\",VLOOKUP(競技者一覧!M300,種目コード一覧!$A$1:$C$51,3,FALSE)-LEN(競技者一覧!N300)),競技者一覧!N300),\"\")","v":""},{"$f":"IFERROR(CONCATENATE(VLOOKUP(競技者一覧!O300,種目コード一覧!$A$1:$C$51,2,FALSE),\" \",REPT(\"0\",VLOOKUP(競技者一覧!O300,種目コード一覧!$A$1:$C$51,3,FALSE)-LEN(競技者一覧!P300)),競技者一覧!P300),\"\")","v":""},{"$f":"IFERROR(CONCATENATE(VLOOKUP(競技者一覧!Q300,種目コード一覧!$A$1:$C$51,2,FALSE),\" \",REPT(\"0\",VLOOKUP(競技者一覧!Q300,種目コード一覧!$A$1:$C$51,3,FALSE)-LEN(競技者一覧!R300)),競技者一覧!R300),\"\")","v":""},{"$f":"IFERROR(CONCATENATE(VLOOKUP(競技者一覧!S300,種目コード一覧!$A$1:$C$51,2,FALSE),\" \",REPT(\"0\",VLOOKUP(競技者一覧!S300,種目コード一覧!$A$1:$C$51,3,FALSE)-LEN(競技者一覧!T300)),競技者一覧!T300),\"\")","v":""},{"$f":"IFERROR(CONCATENATE(VLOOKUP(競技者一覧!U300,種目コード一覧!$A$1:$C$51,2,FALSE),\" \",REPT(\"0\",VLOOKUP(競技者一覧!U300,種目コード一覧!$A$1:$C$51,3,FALSE)-LEN(競技者一覧!V300)),競技者一覧!V300),\"\")","v":""},{"$f":"IFERROR(CONCATENATE(VLOOKUP(競技者一覧!W300,種目コード一覧!$A$1:$C$51,2,FALSE),\" \",REPT(\"0\",VLOOKUP(競技者一覧!W300,種目コード一覧!$A$1:$C$51,3,FALSE)-LEN(競技者一覧!X300)),競技者一覧!X300),\"\")","v":""},{"$f":"IFERROR(CONCATENATE(VLOOKUP(競技者一覧!Y300,種目コード一覧!$A$1:$C$51,2,FALSE),\" \",REPT(\"0\",VLOOKUP(競技者一覧!Y300,種目コード一覧!$A$1:$C$51,3,FALSE)-LEN(競技者一覧!Z300)),競技者一覧!Z300),\"\")","v":""}]
[{"$f":"IFERROR(CONCATENATE(競技者一覧!$D$7), \"\")","v":""},{"$f":"IFERROR(CONCATENATE($H$2,Sheet4!B281),\"\")","v":""},{"$f":"競技者一覧!C301&IF(OR(競技者一覧!H301=\"\",競技者一覧!H301=9),\"\",\"(\" & 競技者一覧!H301 & \")\")","v":""},{"$f":"競技者一覧!D301 &IF(OR(MID(競技者一覧!G301,3,2)=\"\", MID(競技者一覧!G301,3,2)=\"0\"),\"\",\"(\" & MID(競技者一覧!G301,3,2) & \")\")","v":""},{"$f":"ASC(競技者一覧!E301 & \" \" & 競技者一覧!F301 & IF(OR(MID(競技者一覧!G301,3,2)=\"\", MID(競技者一覧!G301,3,2)=\"0\"),\"\",\"(\" & MID(競技者一覧!G301,3,2) & \")\"))","v":" "},{"$f":"CONCATENATE(競技者一覧!I301)","v":""},{"$f":"IFERROR(IF(競技者一覧!$D$6=\"学連\",VLOOKUP(競技者一覧!J301,Sheet4!$D$2:$E$48,2,FALSE),学校名簿!D281),\"\")","v":0},{"$f":"IFERROR(VLOOKUP(競技者一覧!$D$7,学校番号表!$B$2:$C$65536,2,FALSE),\"\")","v":""},{"$f":"CONCATENATE(競技者一覧!B301)","v":""},{"$f":"IFERROR(CONCATENATE(VLOOKUP(競技者一覧!K301,種目コード一覧!$A$1:$C$51,2,FALSE),\" \",REPT(\"0\",VLOOKUP(競技者一覧!K301,種目コード一覧!$A$1:$C$51,3,FALSE)-LEN(競技者一覧!L301)),競技者一覧!L301),\"\")","v":""},{"$f":"IFERROR(CONCATENATE(VLOOKUP(競技者一覧!M301,種目コード一覧!$A$1:$C$51,2,FALSE),\" \",REPT(\"0\",VLOOKUP(競技者一覧!M301,種目コード一覧!$A$1:$C$51,3,FALSE)-LEN(競技者一覧!N301)),競技者一覧!N301),\"\")","v":""},{"$f":"IFERROR(CONCATENATE(VLOOKUP(競技者一覧!O301,種目コード一覧!$A$1:$C$51,2,FALSE),\" \",REPT(\"0\",VLOOKUP(競技者一覧!O301,種目コード一覧!$A$1:$C$51,3,FALSE)-LEN(競技者一覧!P301)),競技者一覧!P301),\"\")","v":""},{"$f":"IFERROR(CONCATENATE(VLOOKUP(競技者一覧!Q301,種目コード一覧!$A$1:$C$51,2,FALSE),\" \",REPT(\"0\",VLOOKUP(競技者一覧!Q301,種目コード一覧!$A$1:$C$51,3,FALSE)-LEN(競技者一覧!R301)),競技者一覧!R301),\"\")","v":""},{"$f":"IFERROR(CONCATENATE(VLOOKUP(競技者一覧!S301,種目コード一覧!$A$1:$C$51,2,FALSE),\" \",REPT(\"0\",VLOOKUP(競技者一覧!S301,種目コード一覧!$A$1:$C$51,3,FALSE)-LEN(競技者一覧!T301)),競技者一覧!T301),\"\")","v":""},{"$f":"IFERROR(CONCATENATE(VLOOKUP(競技者一覧!U301,種目コード一覧!$A$1:$C$51,2,FALSE),\" \",REPT(\"0\",VLOOKUP(競技者一覧!U301,種目コード一覧!$A$1:$C$51,3,FALSE)-LEN(競技者一覧!V301)),競技者一覧!V301),\"\")","v":""},{"$f":"IFERROR(CONCATENATE(VLOOKUP(競技者一覧!W301,種目コード一覧!$A$1:$C$51,2,FALSE),\" \",REPT(\"0\",VLOOKUP(競技者一覧!W301,種目コード一覧!$A$1:$C$51,3,FALSE)-LEN(競技者一覧!X301)),競技者一覧!X301),\"\")","v":""},{"$f":"IFERROR(CONCATENATE(VLOOKUP(競技者一覧!Y301,種目コード一覧!$A$1:$C$51,2,FALSE),\" \",REPT(\"0\",VLOOKUP(競技者一覧!Y301,種目コード一覧!$A$1:$C$51,3,FALSE)-LEN(競技者一覧!Z301)),競技者一覧!Z301),\"\")","v":""}]
[{"$f":"IFERROR(CONCATENATE(競技者一覧!$D$7), \"\")","v":""},{"$f":"IFERROR(CONCATENATE($H$2,Sheet4!B282),\"\")","v":""},{"$f":"競技者一覧!C302&IF(OR(競技者一覧!H302=\"\",競技者一覧!H302=9),\"\",\"(\" & 競技者一覧!H302 & \")\")","v":""},{"$f":"ASC(競技者一覧!D302 &IF(OR(MID(競技者一覧!G302,3,2)=\"\", MID(競技者一覧!G302,3,2)=\"0\"),\"\",\"(\" & MID(競技者一覧!G302,3,2) & \")\"))","v":""},{"$f":"ASC(競技者一覧!E302 & \" \" & 競技者一覧!F302 & IF(OR(MID(競技者一覧!G302,3,2)=\"\", MID(競技者一覧!G302,3,2)=\"0\"),\"\",\"(\" & MID(競技者一覧!G302,3,2) & \")\"))","v":" "},{"$f":"CONCATENATE(競技者一覧!I302)","v":""},{"$f":"IFERROR(IF(競技者一覧!$D$6=\"学連\",VLOOKUP(競技者一覧!J302,Sheet4!$D$2:$E$48,2,FALSE),学校名簿!D282),\"\")","v":0},{"$f":"IFERROR(VLOOKUP(競技者一覧!$D$7,学校番号表!$B$2:$C$65536,2,FALSE),\"\")","v":""},{"$f":"CONCATENATE(競技者一覧!B302)","v":""},{"$f":"IFERROR(CONCATENATE(VLOOKUP(競技者一覧!K302,種目コード一覧!$A$1:$B$51,2,FALSE),\" \",REPT(\"0\",VLOOKUP(競技者一覧!K302,種目コード一覧!$A$1:$C$51,3,FALSE)-LEN(競技者一覧!L302)),競技者一覧!L302),\"\")","v":""},{"$f":"IFERROR(CONCATENATE(VLOOKUP(競技者一覧!M302,種目コード一覧!$A$1:$C$51,2,FALSE),\" \",REPT(\"0\",VLOOKUP(競技者一覧!M302,種目コード一覧!$A$1:$C$51,3,FALSE)-LEN(競技者一覧!N302)),競技者一覧!N302),\"\")","v":""},{"$f":"IFERROR(CONCATENATE(VLOOKUP(競技者一覧!O302,種目コード一覧!$A$1:$C$51,2,FALSE),\" \",REPT(\"0\",VLOOKUP(競技者一覧!O302,種目コード一覧!$A$1:$C$51,3,FALSE)-LEN(競技者一覧!P302)),競技者一覧!P302),\"\")","v":""},{"$f":"IFERROR(CONCATENATE(VLOOKUP(競技者一覧!Q302,種目コード一覧!$A$1:$C$51,2,FALSE),\" \",REPT(\"0\",VLOOKUP(競技者一覧!Q302,種目コード一覧!$A$1:$C$51,3,FALSE)-LEN(競技者一覧!R302)),競技者一覧!R302),\"\")","v":""},{"$f":"IFERROR(CONCATENATE(VLOOKUP(競技者一覧!S302,種目コード一覧!$A$1:$C$51,2,FALSE),\" \",REPT(\"0\",VLOOKUP(競技者一覧!S302,種目コード一覧!$A$1:$C$51,3,FALSE)-LEN(競技者一覧!T302)),競技者一覧!T302),\"\")","v":""},{"$f":"IFERROR(CONCATENATE(VLOOKUP(競技者一覧!U302,種目コード一覧!$A$1:$C$51,2,FALSE),\" \",REPT(\"0\",VLOOKUP(競技者一覧!U302,種目コード一覧!$A$1:$C$51,3,FALSE)-LEN(競技者一覧!V302)),競技者一覧!V302),\"\")","v":""},{"$f":"IFERROR(CONCATENATE(VLOOKUP(競技者一覧!W302,種目コード一覧!$A$1:$C$51,2,FALSE),\" \",REPT(\"0\",VLOOKUP(競技者一覧!W302,種目コード一覧!$A$1:$C$51,3,FALSE)-LEN(競技者一覧!X302)),競技者一覧!X302),\"\")","v":""},{"$f":"IFERROR(CONCATENATE(VLOOKUP(競技者一覧!Y302,種目コード一覧!$A$1:$C$51,2,FALSE),\" \",REPT(\"0\",VLOOKUP(競技者一覧!Y302,種目コード一覧!$A$1:$C$51,3,FALSE)-LEN(競技者一覧!Z302)),競技者一覧!Z302),\"\")","v":""}]
[{"$f":"IFERROR(CONCATENATE(競技者一覧!$D$7), \"\")","v":""},{"$f":"IFERROR(CONCATENATE($H$2,Sheet4!B283),\"\")","v":""},{"$f":"競技者一覧!C303&IF(OR(競技者一覧!H303=\"\",競技者一覧!H303=9),\"\",\"(\" & 競技者一覧!H303 & \")\")","v":""},{"$f":"競技者一覧!D303 &IF(OR(MID(競技者一覧!G303,3,2)=\"\", MID(競技者一覧!G303,3,2)=\"0\"),\"\",\"(\" & MID(競技者一覧!G303,3,2) & \")\")","v":""},{"$f":"ASC(競技者一覧!E303 & \" \" & 競技者一覧!F303 & IF(OR(MID(競技者一覧!G303,3,2)=\"\", MID(競技者一覧!G303,3,2)=\"0\"),\"\",\"(\" & MID(競技者一覧!G303,3,2) & \")\"))","v":" "},{"$f":"CONCATENATE(競技者一覧!I303)","v":""},{"$f":"IFERROR(IF(競技者一覧!$D$6=\"学連\",VLOOKUP(競技者一覧!J303,Sheet4!$D$2:$E$48,2,FALSE),学校名簿!D283),\"\")","v":0},{"$f":"IFERROR(VLOOKUP(競技者一覧!$D$7,学校番号表!$B$2:$C$65536,2,FALSE),\"\")","v":""},{"$f":"CONCATENATE(競技者一覧!B303)","v":""},{"$f":"IFERROR(CONCATENATE(VLOOKUP(競技者一覧!K303,種目コード一覧!$A$1:$C$51,2,FALSE),\" \",REPT(\"0\",VLOOKUP(競技者一覧!K303,種目コード一覧!$A$1:$C$51,3,FALSE)-LEN(競技者一覧!L303)),競技者一覧!L303),\"\")","v":""},{"$f":"IFERROR(CONCATENATE(VLOOKUP(競技者一覧!M303,種目コード一覧!$A$1:$C$51,2,FALSE),\" \",REPT(\"0\",VLOOKUP(競技者一覧!M303,種目コード一覧!$A$1:$C$51,3,FALSE)-LEN(競技者一覧!N303)),競技者一覧!N303),\"\")","v":""},{"$f":"IFERROR(CONCATENATE(VLOOKUP(競技者一覧!O303,種目コード一覧!$A$1:$C$51,2,FALSE),\" \",REPT(\"0\",VLOOKUP(競技者一覧!O303,種目コード一覧!$A$1:$C$51,3,FALSE)-LEN(競技者一覧!P303)),競技者一覧!P303),\"\")","v":""},{"$f":"IFERROR(CONCATENATE(VLOOKUP(競技者一覧!Q303,種目コード一覧!$A$1:$C$51,2,FALSE),\" \",REPT(\"0\",VLOOKUP(競技者一覧!Q303,種目コード一覧!$A$1:$C$51,3,FALSE)-LEN(競技者一覧!R303)),競技者一覧!R303),\"\")","v":""},{"$f":"IFERROR(CONCATENATE(VLOOKUP(競技者一覧!S303,種目コード一覧!$A$1:$C$51,2,FALSE),\" \",REPT(\"0\",VLOOKUP(競技者一覧!S303,種目コード一覧!$A$1:$C$51,3,FALSE)-LEN(競技者一覧!T303)),競技者一覧!T303),\"\")","v":""},{"$f":"IFERROR(CONCATENATE(VLOOKUP(競技者一覧!U303,種目コード一覧!$A$1:$C$51,2,FALSE),\" \",REPT(\"0\",VLOOKUP(競技者一覧!U303,種目コード一覧!$A$1:$C$51,3,FALSE)-LEN(競技者一覧!V303)),競技者一覧!V303),\"\")","v":""},{"$f":"IFERROR(CONCATENATE(VLOOKUP(競技者一覧!W303,種目コード一覧!$A$1:$C$51,2,FALSE),\" \",REPT(\"0\",VLOOKUP(競技者一覧!W303,種目コード一覧!$A$1:$C$51,3,FALSE)-LEN(競技者一覧!X303)),競技者一覧!X303),\"\")","v":""},{"$f":"IFERROR(CONCATENATE(VLOOKUP(競技者一覧!Y303,種目コード一覧!$A$1:$C$51,2,FALSE),\" \",REPT(\"0\",VLOOKUP(競技者一覧!Y303,種目コード一覧!$A$1:$C$51,3,FALSE)-LEN(競技者一覧!Z303)),競技者一覧!Z303),\"\")","v":""}]
[{"$f":"IFERROR(CONCATENATE(競技者一覧!$D$7), \"\")","v":""},{"$f":"IFERROR(CONCATENATE($H$2,Sheet4!B284),\"\")","v":""},{"$f":"競技者一覧!C304&IF(OR(競技者一覧!H304=\"\",競技者一覧!H304=9),\"\",\"(\" & 競技者一覧!H304 & \")\")","v":""},{"$f":"ASC(競技者一覧!D304 &IF(OR(MID(競技者一覧!G304,3,2)=\"\", MID(競技者一覧!G304,3,2)=\"0\"),\"\",\"(\" & MID(競技者一覧!G304,3,2) & \")\"))","v":""},{"$f":"ASC(競技者一覧!E304 & \" \" & 競技者一覧!F304 & IF(OR(MID(競技者一覧!G304,3,2)=\"\", MID(競技者一覧!G304,3,2)=\"0\"),\"\",\"(\" & MID(競技者一覧!G304,3,2) & \")\"))","v":" "},{"$f":"CONCATENATE(競技者一覧!I304)","v":""},{"$f":"IFERROR(IF(競技者一覧!$D$6=\"学連\",VLOOKUP(競技者一覧!J304,Sheet4!$D$2:$E$48,2,FALSE),学校名簿!D284),\"\")","v":0},{"$f":"IFERROR(VLOOKUP(競技者一覧!$D$7,学校番号表!$B$2:$C$65536,2,FALSE),\"\")","v":""},{"$f":"CONCATENATE(競技者一覧!B304)","v":""},{"$f":"IFERROR(CONCATENATE(VLOOKUP(競技者一覧!K304,種目コード一覧!$A$1:$B$51,2,FALSE),\" \",REPT(\"0\",VLOOKUP(競技者一覧!K304,種目コード一覧!$A$1:$C$51,3,FALSE)-LEN(競技者一覧!L304)),競技者一覧!L304),\"\")","v":""},{"$f":"IFERROR(CONCATENATE(VLOOKUP(競技者一覧!M304,種目コード一覧!$A$1:$C$51,2,FALSE),\" \",REPT(\"0\",VLOOKUP(競技者一覧!M304,種目コード一覧!$A$1:$C$51,3,FALSE)-LEN(競技者一覧!N304)),競技者一覧!N304),\"\")","v":""},{"$f":"IFERROR(CONCATENATE(VLOOKUP(競技者一覧!O304,種目コード一覧!$A$1:$C$51,2,FALSE),\" \",REPT(\"0\",VLOOKUP(競技者一覧!O304,種目コード一覧!$A$1:$C$51,3,FALSE)-LEN(競技者一覧!P304)),競技者一覧!P304),\"\")","v":""},{"$f":"IFERROR(CONCATENATE(VLOOKUP(競技者一覧!Q304,種目コード一覧!$A$1:$C$51,2,FALSE),\" \",REPT(\"0\",VLOOKUP(競技者一覧!Q304,種目コード一覧!$A$1:$C$51,3,FALSE)-LEN(競技者一覧!R304)),競技者一覧!R304),\"\")","v":""},{"$f":"IFERROR(CONCATENATE(VLOOKUP(競技者一覧!S304,種目コード一覧!$A$1:$C$51,2,FALSE),\" \",REPT(\"0\",VLOOKUP(競技者一覧!S304,種目コード一覧!$A$1:$C$51,3,FALSE)-LEN(競技者一覧!T304)),競技者一覧!T304),\"\")","v":""},{"$f":"IFERROR(CONCATENATE(VLOOKUP(競技者一覧!U304,種目コード一覧!$A$1:$C$51,2,FALSE),\" \",REPT(\"0\",VLOOKUP(競技者一覧!U304,種目コード一覧!$A$1:$C$51,3,FALSE)-LEN(競技者一覧!V304)),競技者一覧!V304),\"\")","v":""},{"$f":"IFERROR(CONCATENATE(VLOOKUP(競技者一覧!W304,種目コード一覧!$A$1:$C$51,2,FALSE),\" \",REPT(\"0\",VLOOKUP(競技者一覧!W304,種目コード一覧!$A$1:$C$51,3,FALSE)-LEN(競技者一覧!X304)),競技者一覧!X304),\"\")","v":""},{"$f":"IFERROR(CONCATENATE(VLOOKUP(競技者一覧!Y304,種目コード一覧!$A$1:$C$51,2,FALSE),\" \",REPT(\"0\",VLOOKUP(競技者一覧!Y304,種目コード一覧!$A$1:$C$51,3,FALSE)-LEN(競技者一覧!Z304)),競技者一覧!Z304),\"\")","v":""}]
[{"$f":"IFERROR(CONCATENATE(競技者一覧!$D$7), \"\")","v":""},{"$f":"IFERROR(CONCATENATE($H$2,Sheet4!B285),\"\")","v":""},{"$f":"競技者一覧!C305&IF(OR(競技者一覧!H305=\"\",競技者一覧!H305=9),\"\",\"(\" & 競技者一覧!H305 & \")\")","v":""},{"$f":"競技者一覧!D305 &IF(OR(MID(競技者一覧!G305,3,2)=\"\", MID(競技者一覧!G305,3,2)=\"0\"),\"\",\"(\" & MID(競技者一覧!G305,3,2) & \")\")","v":""},{"$f":"ASC(競技者一覧!E305 & \" \" & 競技者一覧!F305 & IF(OR(MID(競技者一覧!G305,3,2)=\"\", MID(競技者一覧!G305,3,2)=\"0\"),\"\",\"(\" & MID(競技者一覧!G305,3,2) & \")\"))","v":" "},{"$f":"CONCATENATE(競技者一覧!I305)","v":""},{"$f":"IFERROR(IF(競技者一覧!$D$6=\"学連\",VLOOKUP(競技者一覧!J305,Sheet4!$D$2:$E$48,2,FALSE),学校名簿!D285),\"\")","v":0},{"$f":"IFERROR(VLOOKUP(競技者一覧!$D$7,学校番号表!$B$2:$C$65536,2,FALSE),\"\")","v":""},{"$f":"CONCATENATE(競技者一覧!B305)","v":""},{"$f":"IFERROR(CONCATENATE(VLOOKUP(競技者一覧!K305,種目コード一覧!$A$1:$C$51,2,FALSE),\" \",REPT(\"0\",VLOOKUP(競技者一覧!K305,種目コード一覧!$A$1:$C$51,3,FALSE)-LEN(競技者一覧!L305)),競技者一覧!L305),\"\")","v":""},{"$f":"IFERROR(CONCATENATE(VLOOKUP(競技者一覧!M305,種目コード一覧!$A$1:$C$51,2,FALSE),\" \",REPT(\"0\",VLOOKUP(競技者一覧!M305,種目コード一覧!$A$1:$C$51,3,FALSE)-LEN(競技者一覧!N305)),競技者一覧!N305),\"\")","v":""},{"$f":"IFERROR(CONCATENATE(VLOOKUP(競技者一覧!O305,種目コード一覧!$A$1:$C$51,2,FALSE),\" \",REPT(\"0\",VLOOKUP(競技者一覧!O305,種目コード一覧!$A$1:$C$51,3,FALSE)-LEN(競技者一覧!P305)),競技者一覧!P305),\"\")","v":""},{"$f":"IFERROR(CONCATENATE(VLOOKUP(競技者一覧!Q305,種目コード一覧!$A$1:$C$51,2,FALSE),\" \",REPT(\"0\",VLOOKUP(競技者一覧!Q305,種目コード一覧!$A$1:$C$51,3,FALSE)-LEN(競技者一覧!R305)),競技者一覧!R305),\"\")","v":""},{"$f":"IFERROR(CONCATENATE(VLOOKUP(競技者一覧!S305,種目コード一覧!$A$1:$C$51,2,FALSE),\" \",REPT(\"0\",VLOOKUP(競技者一覧!S305,種目コード一覧!$A$1:$C$51,3,FALSE)-LEN(競技者一覧!T305)),競技者一覧!T305),\"\")","v":""},{"$f":"IFERROR(CONCATENATE(VLOOKUP(競技者一覧!U305,種目コード一覧!$A$1:$C$51,2,FALSE),\" \",REPT(\"0\",VLOOKUP(競技者一覧!U305,種目コード一覧!$A$1:$C$51,3,FALSE)-LEN(競技者一覧!V305)),競技者一覧!V305),\"\")","v":""},{"$f":"IFERROR(CONCATENATE(VLOOKUP(競技者一覧!W305,種目コード一覧!$A$1:$C$51,2,FALSE),\" \",REPT(\"0\",VLOOKUP(競技者一覧!W305,種目コード一覧!$A$1:$C$51,3,FALSE)-LEN(競技者一覧!X305)),競技者一覧!X305),\"\")","v":""},{"$f":"IFERROR(CONCATENATE(VLOOKUP(競技者一覧!Y305,種目コード一覧!$A$1:$C$51,2,FALSE),\" \",REPT(\"0\",VLOOKUP(競技者一覧!Y305,種目コード一覧!$A$1:$C$51,3,FALSE)-LEN(競技者一覧!Z305)),競技者一覧!Z305),\"\")","v":""}]
[{"$f":"IFERROR(CONCATENATE(競技者一覧!$D$7), \"\")","v":""},{"$f":"IFERROR(CONCATENATE($H$2,Sheet4!B286),\"\")","v":""},{"$f":"競技者一覧!C306&IF(OR(競技者一覧!H306=\"\",競技者一覧!H306=9),\"\",\"(\" & 競技者一覧!H306 & \")\")","v":""},{"$f":"ASC(競技者一覧!D306 &IF(OR(MID(競技者一覧!G306,3,2)=\"\", MID(競技者一覧!G306,3,2)=\"0\"),\"\",\"(\" & MID(競技者一覧!G306,3,2) & \")\"))","v":""},{"$f":"ASC(競技者一覧!E306 & \" \" & 競技者一覧!F306 & IF(OR(MID(競技者一覧!G306,3,2)=\"\", MID(競技者一覧!G306,3,2)=\"0\"),\"\",\"(\" & MID(競技者一覧!G306,3,2) & \")\"))","v":" "},{"$f":"CONCATENATE(競技者一覧!I306)","v":""},{"$f":"IFERROR(IF(競技者一覧!$D$6=\"学連\",VLOOKUP(競技者一覧!J306,Sheet4!$D$2:$E$48,2,FALSE),学校名簿!D286),\"\")","v":0},{"$f":"IFERROR(VLOOKUP(競技者一覧!$D$7,学校番号表!$B$2:$C$65536,2,FALSE),\"\")","v":""},{"$f":"CONCATENATE(競技者一覧!B306)","v":""},{"$f":"IFERROR(CONCATENATE(VLOOKUP(競技者一覧!K306,種目コード一覧!$A$1:$B$51,2,FALSE),\" \",REPT(\"0\",VLOOKUP(競技者一覧!K306,種目コード一覧!$A$1:$C$51,3,FALSE)-LEN(競技者一覧!L306)),競技者一覧!L306),\"\")","v":""},{"$f":"IFERROR(CONCATENATE(VLOOKUP(競技者一覧!M306,種目コード一覧!$A$1:$C$51,2,FALSE),\" \",REPT(\"0\",VLOOKUP(競技者一覧!M306,種目コード一覧!$A$1:$C$51,3,FALSE)-LEN(競技者一覧!N306)),競技者一覧!N306),\"\")","v":""},{"$f":"IFERROR(CONCATENATE(VLOOKUP(競技者一覧!O306,種目コード一覧!$A$1:$C$51,2,FALSE),\" \",REPT(\"0\",VLOOKUP(競技者一覧!O306,種目コード一覧!$A$1:$C$51,3,FALSE)-LEN(競技者一覧!P306)),競技者一覧!P306),\"\")","v":""},{"$f":"IFERROR(CONCATENATE(VLOOKUP(競技者一覧!Q306,種目コード一覧!$A$1:$C$51,2,FALSE),\" \",REPT(\"0\",VLOOKUP(競技者一覧!Q306,種目コード一覧!$A$1:$C$51,3,FALSE)-LEN(競技者一覧!R306)),競技者一覧!R306),\"\")","v":""},{"$f":"IFERROR(CONCATENATE(VLOOKUP(競技者一覧!S306,種目コード一覧!$A$1:$C$51,2,FALSE),\" \",REPT(\"0\",VLOOKUP(競技者一覧!S306,種目コード一覧!$A$1:$C$51,3,FALSE)-LEN(競技者一覧!T306)),競技者一覧!T306),\"\")","v":""},{"$f":"IFERROR(CONCATENATE(VLOOKUP(競技者一覧!U306,種目コード一覧!$A$1:$C$51,2,FALSE),\" \",REPT(\"0\",VLOOKUP(競技者一覧!U306,種目コード一覧!$A$1:$C$51,3,FALSE)-LEN(競技者一覧!V306)),競技者一覧!V306),\"\")","v":""},{"$f":"IFERROR(CONCATENATE(VLOOKUP(競技者一覧!W306,種目コード一覧!$A$1:$C$51,2,FALSE),\" \",REPT(\"0\",VLOOKUP(競技者一覧!W306,種目コード一覧!$A$1:$C$51,3,FALSE)-LEN(競技者一覧!X306)),競技者一覧!X306),\"\")","v":""},{"$f":"IFERROR(CONCATENATE(VLOOKUP(競技者一覧!Y306,種目コード一覧!$A$1:$C$51,2,FALSE),\" \",REPT(\"0\",VLOOKUP(競技者一覧!Y306,種目コード一覧!$A$1:$C$51,3,FALSE)-LEN(競技者一覧!Z306)),競技者一覧!Z306),\"\")","v":""}]
[{"$f":"IFERROR(CONCATENATE(競技者一覧!$D$7), \"\")","v":""},{"$f":"IFERROR(CONCATENATE($H$2,Sheet4!B287),\"\")","v":""},{"$f":"競技者一覧!C307&IF(OR(競技者一覧!H307=\"\",競技者一覧!H307=9),\"\",\"(\" & 競技者一覧!H307 & \")\")","v":""},{"$f":"競技者一覧!D307 &IF(OR(MID(競技者一覧!G307,3,2)=\"\", MID(競技者一覧!G307,3,2)=\"0\"),\"\",\"(\" & MID(競技者一覧!G307,3,2) & \")\")","v":""},{"$f":"ASC(競技者一覧!E307 & \" \" & 競技者一覧!F307 & IF(OR(MID(競技者一覧!G307,3,2)=\"\", MID(競技者一覧!G307,3,2)=\"0\"),\"\",\"(\" & MID(競技者一覧!G307,3,2) & \")\"))","v":" "},{"$f":"CONCATENATE(競技者一覧!I307)","v":""},{"$f":"IFERROR(IF(競技者一覧!$D$6=\"学連\",VLOOKUP(競技者一覧!J307,Sheet4!$D$2:$E$48,2,FALSE),学校名簿!D287),\"\")","v":0},{"$f":"IFERROR(VLOOKUP(競技者一覧!$D$7,学校番号表!$B$2:$C$65536,2,FALSE),\"\")","v":""},{"$f":"CONCATENATE(競技者一覧!B307)","v":""},{"$f":"IFERROR(CONCATENATE(VLOOKUP(競技者一覧!K307,種目コード一覧!$A$1:$C$51,2,FALSE),\" \",REPT(\"0\",VLOOKUP(競技者一覧!K307,種目コード一覧!$A$1:$C$51,3,FALSE)-LEN(競技者一覧!L307)),競技者一覧!L307),\"\")","v":""},{"$f":"IFERROR(CONCATENATE(VLOOKUP(競技者一覧!M307,種目コード一覧!$A$1:$C$51,2,FALSE),\" \",REPT(\"0\",VLOOKUP(競技者一覧!M307,種目コード一覧!$A$1:$C$51,3,FALSE)-LEN(競技者一覧!N307)),競技者一覧!N307),\"\")","v":""},{"$f":"IFERROR(CONCATENATE(VLOOKUP(競技者一覧!O307,種目コード一覧!$A$1:$C$51,2,FALSE),\" \",REPT(\"0\",VLOOKUP(競技者一覧!O307,種目コード一覧!$A$1:$C$51,3,FALSE)-LEN(競技者一覧!P307)),競技者一覧!P307),\"\")","v":""},{"$f":"IFERROR(CONCATENATE(VLOOKUP(競技者一覧!Q307,種目コード一覧!$A$1:$C$51,2,FALSE),\" \",REPT(\"0\",VLOOKUP(競技者一覧!Q307,種目コード一覧!$A$1:$C$51,3,FALSE)-LEN(競技者一覧!R307)),競技者一覧!R307),\"\")","v":""},{"$f":"IFERROR(CONCATENATE(VLOOKUP(競技者一覧!S307,種目コード一覧!$A$1:$C$51,2,FALSE),\" \",REPT(\"0\",VLOOKUP(競技者一覧!S307,種目コード一覧!$A$1:$C$51,3,FALSE)-LEN(競技者一覧!T307)),競技者一覧!T307),\"\")","v":""},{"$f":"IFERROR(CONCATENATE(VLOOKUP(競技者一覧!U307,種目コード一覧!$A$1:$C$51,2,FALSE),\" \",REPT(\"0\",VLOOKUP(競技者一覧!U307,種目コード一覧!$A$1:$C$51,3,FALSE)-LEN(競技者一覧!V307)),競技者一覧!V307),\"\")","v":""},{"$f":"IFERROR(CONCATENATE(VLOOKUP(競技者一覧!W307,種目コード一覧!$A$1:$C$51,2,FALSE),\" \",REPT(\"0\",VLOOKUP(競技者一覧!W307,種目コード一覧!$A$1:$C$51,3,FALSE)-LEN(競技者一覧!X307)),競技者一覧!X307),\"\")","v":""},{"$f":"IFERROR(CONCATENATE(VLOOKUP(競技者一覧!Y307,種目コード一覧!$A$1:$C$51,2,FALSE),\" \",REPT(\"0\",VLOOKUP(競技者一覧!Y307,種目コード一覧!$A$1:$C$51,3,FALSE)-LEN(競技者一覧!Z307)),競技者一覧!Z307),\"\")","v":""}]
[{"$f":"IFERROR(CONCATENATE(競技者一覧!$D$7), \"\")","v":""},{"$f":"IFERROR(CONCATENATE($H$2,Sheet4!B288),\"\")","v":""},{"$f":"競技者一覧!C308&IF(OR(競技者一覧!H308=\"\",競技者一覧!H308=9),\"\",\"(\" & 競技者一覧!H308 & \")\")","v":""},{"$f":"ASC(競技者一覧!D308 &IF(OR(MID(競技者一覧!G308,3,2)=\"\", MID(競技者一覧!G308,3,2)=\"0\"),\"\",\"(\" & MID(競技者一覧!G308,3,2) & \")\"))","v":""},{"$f":"ASC(競技者一覧!E308 & \" \" & 競技者一覧!F308 & IF(OR(MID(競技者一覧!G308,3,2)=\"\", MID(競技者一覧!G308,3,2)=\"0\"),\"\",\"(\" & MID(競技者一覧!G308,3,2) & \")\"))","v":" "},{"$f":"CONCATENATE(競技者一覧!I308)","v":""},{"$f":"IFERROR(IF(競技者一覧!$D$6=\"学連\",VLOOKUP(競技者一覧!J308,Sheet4!$D$2:$E$48,2,FALSE),学校名簿!D288),\"\")","v":0},{"$f":"IFERROR(VLOOKUP(競技者一覧!$D$7,学校番号表!$B$2:$C$65536,2,FALSE),\"\")","v":""},{"$f":"CONCATENATE(競技者一覧!B308)","v":""},{"$f":"IFERROR(CONCATENATE(VLOOKUP(競技者一覧!K308,種目コード一覧!$A$1:$B$51,2,FALSE),\" \",REPT(\"0\",VLOOKUP(競技者一覧!K308,種目コード一覧!$A$1:$C$51,3,FALSE)-LEN(競技者一覧!L308)),競技者一覧!L308),\"\")","v":""},{"$f":"IFERROR(CONCATENATE(VLOOKUP(競技者一覧!M308,種目コード一覧!$A$1:$C$51,2,FALSE),\" \",REPT(\"0\",VLOOKUP(競技者一覧!M308,種目コード一覧!$A$1:$C$51,3,FALSE)-LEN(競技者一覧!N308)),競技者一覧!N308),\"\")","v":""},{"$f":"IFERROR(CONCATENATE(VLOOKUP(競技者一覧!O308,種目コード一覧!$A$1:$C$51,2,FALSE),\" \",REPT(\"0\",VLOOKUP(競技者一覧!O308,種目コード一覧!$A$1:$C$51,3,FALSE)-LEN(競技者一覧!P308)),競技者一覧!P308),\"\")","v":""},{"$f":"IFERROR(CONCATENATE(VLOOKUP(競技者一覧!Q308,種目コード一覧!$A$1:$C$51,2,FALSE),\" \",REPT(\"0\",VLOOKUP(競技者一覧!Q308,種目コード一覧!$A$1:$C$51,3,FALSE)-LEN(競技者一覧!R308)),競技者一覧!R308),\"\")","v":""},{"$f":"IFERROR(CONCATENATE(VLOOKUP(競技者一覧!S308,種目コード一覧!$A$1:$C$51,2,FALSE),\" \",REPT(\"0\",VLOOKUP(競技者一覧!S308,種目コード一覧!$A$1:$C$51,3,FALSE)-LEN(競技者一覧!T308)),競技者一覧!T308),\"\")","v":""},{"$f":"IFERROR(CONCATENATE(VLOOKUP(競技者一覧!U308,種目コード一覧!$A$1:$C$51,2,FALSE),\" \",REPT(\"0\",VLOOKUP(競技者一覧!U308,種目コード一覧!$A$1:$C$51,3,FALSE)-LEN(競技者一覧!V308)),競技者一覧!V308),\"\")","v":""},{"$f":"IFERROR(CONCATENATE(VLOOKUP(競技者一覧!W308,種目コード一覧!$A$1:$C$51,2,FALSE),\" \",REPT(\"0\",VLOOKUP(競技者一覧!W308,種目コード一覧!$A$1:$C$51,3,FALSE)-LEN(競技者一覧!X308)),競技者一覧!X308),\"\")","v":""},{"$f":"IFERROR(CONCATENATE(VLOOKUP(競技者一覧!Y308,種目コード一覧!$A$1:$C$51,2,FALSE),\" \",REPT(\"0\",VLOOKUP(競技者一覧!Y308,種目コード一覧!$A$1:$C$51,3,FALSE)-LEN(競技者一覧!Z308)),競技者一覧!Z308),\"\")","v":""}]
[{"$f":"IFERROR(CONCATENATE(競技者一覧!$D$7), \"\")","v":""},{"$f":"IFERROR(CONCATENATE($H$2,Sheet4!B289),\"\")","v":""},{"$f":"競技者一覧!C309&IF(OR(競技者一覧!H309=\"\",競技者一覧!H309=9),\"\",\"(\" & 競技者一覧!H309 & \")\")","v":""},{"$f":"競技者一覧!D309 &IF(OR(MID(競技者一覧!G309,3,2)=\"\", MID(競技者一覧!G309,3,2)=\"0\"),\"\",\"(\" & MID(競技者一覧!G309,3,2) & \")\")","v":""},{"$f":"ASC(競技者一覧!E309 & \" \" & 競技者一覧!F309 & IF(OR(MID(競技者一覧!G309,3,2)=\"\", MID(競技者一覧!G309,3,2)=\"0\"),\"\",\"(\" & MID(競技者一覧!G309,3,2) & \")\"))","v":" "},{"$f":"CONCATENATE(競技者一覧!I309)","v":""},{"$f":"IFERROR(IF(競技者一覧!$D$6=\"学連\",VLOOKUP(競技者一覧!J309,Sheet4!$D$2:$E$48,2,FALSE),学校名簿!D289),\"\")","v":0},{"$f":"IFERROR(VLOOKUP(競技者一覧!$D$7,学校番号表!$B$2:$C$65536,2,FALSE),\"\")","v":""},{"$f":"CONCATENATE(競技者一覧!B309)","v":""},{"$f":"IFERROR(CONCATENATE(VLOOKUP(競技者一覧!K309,種目コード一覧!$A$1:$C$51,2,FALSE),\" \",REPT(\"0\",VLOOKUP(競技者一覧!K309,種目コード一覧!$A$1:$C$51,3,FALSE)-LEN(競技者一覧!L309)),競技者一覧!L309),\"\")","v":""},{"$f":"IFERROR(CONCATENATE(VLOOKUP(競技者一覧!M309,種目コード一覧!$A$1:$C$51,2,FALSE),\" \",REPT(\"0\",VLOOKUP(競技者一覧!M309,種目コード一覧!$A$1:$C$51,3,FALSE)-LEN(競技者一覧!N309)),競技者一覧!N309),\"\")","v":""},{"$f":"IFERROR(CONCATENATE(VLOOKUP(競技者一覧!O309,種目コード一覧!$A$1:$C$51,2,FALSE),\" \",REPT(\"0\",VLOOKUP(競技者一覧!O309,種目コード一覧!$A$1:$C$51,3,FALSE)-LEN(競技者一覧!P309)),競技者一覧!P309),\"\")","v":""},{"$f":"IFERROR(CONCATENATE(VLOOKUP(競技者一覧!Q309,種目コード一覧!$A$1:$C$51,2,FALSE),\" \",REPT(\"0\",VLOOKUP(競技者一覧!Q309,種目コード一覧!$A$1:$C$51,3,FALSE)-LEN(競技者一覧!R309)),競技者一覧!R309),\"\")","v":""},{"$f":"IFERROR(CONCATENATE(VLOOKUP(競技者一覧!S309,種目コード一覧!$A$1:$C$51,2,FALSE),\" \",REPT(\"0\",VLOOKUP(競技者一覧!S309,種目コード一覧!$A$1:$C$51,3,FALSE)-LEN(競技者一覧!T309)),競技者一覧!T309),\"\")","v":""},{"$f":"IFERROR(CONCATENATE(VLOOKUP(競技者一覧!U309,種目コード一覧!$A$1:$C$51,2,FALSE),\" \",REPT(\"0\",VLOOKUP(競技者一覧!U309,種目コード一覧!$A$1:$C$51,3,FALSE)-LEN(競技者一覧!V309)),競技者一覧!V309),\"\")","v":""},{"$f":"IFERROR(CONCATENATE(VLOOKUP(競技者一覧!W309,種目コード一覧!$A$1:$C$51,2,FALSE),\" \",REPT(\"0\",VLOOKUP(競技者一覧!W309,種目コード一覧!$A$1:$C$51,3,FALSE)-LEN(競技者一覧!X309)),競技者一覧!X309),\"\")","v":""},{"$f":"IFERROR(CONCATENATE(VLOOKUP(競技者一覧!Y309,種目コード一覧!$A$1:$C$51,2,FALSE),\" \",REPT(\"0\",VLOOKUP(競技者一覧!Y309,種目コード一覧!$A$1:$C$51,3,FALSE)-LEN(競技者一覧!Z309)),競技者一覧!Z309),\"\")","v":""}]
[{"$f":"IFERROR(CONCATENATE(競技者一覧!$D$7), \"\")","v":""},{"$f":"IFERROR(CONCATENATE($H$2,Sheet4!B290),\"\")","v":""},{"$f":"競技者一覧!C310&IF(OR(競技者一覧!H310=\"\",競技者一覧!H310=9),\"\",\"(\" & 競技者一覧!H310 & \")\")","v":""},{"$f":"ASC(競技者一覧!D310 &IF(OR(MID(競技者一覧!G310,3,2)=\"\", MID(競技者一覧!G310,3,2)=\"0\"),\"\",\"(\" & MID(競技者一覧!G310,3,2) & \")\"))","v":""},{"$f":"ASC(競技者一覧!E310 & \" \" & 競技者一覧!F310 & IF(OR(MID(競技者一覧!G310,3,2)=\"\", MID(競技者一覧!G310,3,2)=\"0\"),\"\",\"(\" & MID(競技者一覧!G310,3,2) & \")\"))","v":" "},{"$f":"CONCATENATE(競技者一覧!I310)","v":""},{"$f":"IFERROR(IF(競技者一覧!$D$6=\"学連\",VLOOKUP(競技者一覧!J310,Sheet4!$D$2:$E$48,2,FALSE),学校名簿!D290),\"\")","v":0},{"$f":"IFERROR(VLOOKUP(競技者一覧!$D$7,学校番号表!$B$2:$C$65536,2,FALSE),\"\")","v":""},{"$f":"CONCATENATE(競技者一覧!B310)","v":""},{"$f":"IFERROR(CONCATENATE(VLOOKUP(競技者一覧!K310,種目コード一覧!$A$1:$B$51,2,FALSE),\" \",REPT(\"0\",VLOOKUP(競技者一覧!K310,種目コード一覧!$A$1:$C$51,3,FALSE)-LEN(競技者一覧!L310)),競技者一覧!L310),\"\")","v":""},{"$f":"IFERROR(CONCATENATE(VLOOKUP(競技者一覧!M310,種目コード一覧!$A$1:$C$51,2,FALSE),\" \",REPT(\"0\",VLOOKUP(競技者一覧!M310,種目コード一覧!$A$1:$C$51,3,FALSE)-LEN(競技者一覧!N310)),競技者一覧!N310),\"\")","v":""},{"$f":"IFERROR(CONCATENATE(VLOOKUP(競技者一覧!O310,種目コード一覧!$A$1:$C$51,2,FALSE),\" \",REPT(\"0\",VLOOKUP(競技者一覧!O310,種目コード一覧!$A$1:$C$51,3,FALSE)-LEN(競技者一覧!P310)),競技者一覧!P310),\"\")","v":""},{"$f":"IFERROR(CONCATENATE(VLOOKUP(競技者一覧!Q310,種目コード一覧!$A$1:$C$51,2,FALSE),\" \",REPT(\"0\",VLOOKUP(競技者一覧!Q310,種目コード一覧!$A$1:$C$51,3,FALSE)-LEN(競技者一覧!R310)),競技者一覧!R310),\"\")","v":""},{"$f":"IFERROR(CONCATENATE(VLOOKUP(競技者一覧!S310,種目コード一覧!$A$1:$C$51,2,FALSE),\" \",REPT(\"0\",VLOOKUP(競技者一覧!S310,種目コード一覧!$A$1:$C$51,3,FALSE)-LEN(競技者一覧!T310)),競技者一覧!T310),\"\")","v":""},{"$f":"IFERROR(CONCATENATE(VLOOKUP(競技者一覧!U310,種目コード一覧!$A$1:$C$51,2,FALSE),\" \",REPT(\"0\",VLOOKUP(競技者一覧!U310,種目コード一覧!$A$1:$C$51,3,FALSE)-LEN(競技者一覧!V310)),競技者一覧!V310),\"\")","v":""},{"$f":"IFERROR(CONCATENATE(VLOOKUP(競技者一覧!W310,種目コード一覧!$A$1:$C$51,2,FALSE),\" \",REPT(\"0\",VLOOKUP(競技者一覧!W310,種目コード一覧!$A$1:$C$51,3,FALSE)-LEN(競技者一覧!X310)),競技者一覧!X310),\"\")","v":""},{"$f":"IFERROR(CONCATENATE(VLOOKUP(競技者一覧!Y310,種目コード一覧!$A$1:$C$51,2,FALSE),\" \",REPT(\"0\",VLOOKUP(競技者一覧!Y310,種目コード一覧!$A$1:$C$51,3,FALSE)-LEN(競技者一覧!Z310)),競技者一覧!Z310),\"\")","v":""}]
[{"$f":"IFERROR(CONCATENATE(競技者一覧!$D$7), \"\")","v":""},{"$f":"IFERROR(CONCATENATE($H$2,Sheet4!B291),\"\")","v":""},{"$f":"競技者一覧!C311&IF(OR(競技者一覧!H311=\"\",競技者一覧!H311=9),\"\",\"(\" & 競技者一覧!H311 & \")\")","v":""},{"$f":"競技者一覧!D311 &IF(OR(MID(競技者一覧!G311,3,2)=\"\", MID(競技者一覧!G311,3,2)=\"0\"),\"\",\"(\" & MID(競技者一覧!G311,3,2) & \")\")","v":""},{"$f":"ASC(競技者一覧!E311 & \" \" & 競技者一覧!F311 & IF(OR(MID(競技者一覧!G311,3,2)=\"\", MID(競技者一覧!G311,3,2)=\"0\"),\"\",\"(\" & MID(競技者一覧!G311,3,2) & \")\"))","v":" "},{"$f":"CONCATENATE(競技者一覧!I311)","v":""},{"$f":"IFERROR(IF(競技者一覧!$D$6=\"学連\",VLOOKUP(競技者一覧!J311,Sheet4!$D$2:$E$48,2,FALSE),学校名簿!D291),\"\")","v":0},{"$f":"IFERROR(VLOOKUP(競技者一覧!$D$7,学校番号表!$B$2:$C$65536,2,FALSE),\"\")","v":""},{"$f":"CONCATENATE(競技者一覧!B311)","v":""},{"$f":"IFERROR(CONCATENATE(VLOOKUP(競技者一覧!K311,種目コード一覧!$A$1:$C$51,2,FALSE),\" \",REPT(\"0\",VLOOKUP(競技者一覧!K311,種目コード一覧!$A$1:$C$51,3,FALSE)-LEN(競技者一覧!L311)),競技者一覧!L311),\"\")","v":""},{"$f":"IFERROR(CONCATENATE(VLOOKUP(競技者一覧!M311,種目コード一覧!$A$1:$C$51,2,FALSE),\" \",REPT(\"0\",VLOOKUP(競技者一覧!M311,種目コード一覧!$A$1:$C$51,3,FALSE)-LEN(競技者一覧!N311)),競技者一覧!N311),\"\")","v":""},{"$f":"IFERROR(CONCATENATE(VLOOKUP(競技者一覧!O311,種目コード一覧!$A$1:$C$51,2,FALSE),\" \",REPT(\"0\",VLOOKUP(競技者一覧!O311,種目コード一覧!$A$1:$C$51,3,FALSE)-LEN(競技者一覧!P311)),競技者一覧!P311),\"\")","v":""},{"$f":"IFERROR(CONCATENATE(VLOOKUP(競技者一覧!Q311,種目コード一覧!$A$1:$C$51,2,FALSE),\" \",REPT(\"0\",VLOOKUP(競技者一覧!Q311,種目コード一覧!$A$1:$C$51,3,FALSE)-LEN(競技者一覧!R311)),競技者一覧!R311),\"\")","v":""},{"$f":"IFERROR(CONCATENATE(VLOOKUP(競技者一覧!S311,種目コード一覧!$A$1:$C$51,2,FALSE),\" \",REPT(\"0\",VLOOKUP(競技者一覧!S311,種目コード一覧!$A$1:$C$51,3,FALSE)-LEN(競技者一覧!T311)),競技者一覧!T311),\"\")","v":""},{"$f":"IFERROR(CONCATENATE(VLOOKUP(競技者一覧!U311,種目コード一覧!$A$1:$C$51,2,FALSE),\" \",REPT(\"0\",VLOOKUP(競技者一覧!U311,種目コード一覧!$A$1:$C$51,3,FALSE)-LEN(競技者一覧!V311)),競技者一覧!V311),\"\")","v":""},{"$f":"IFERROR(CONCATENATE(VLOOKUP(競技者一覧!W311,種目コード一覧!$A$1:$C$51,2,FALSE),\" \",REPT(\"0\",VLOOKUP(競技者一覧!W311,種目コード一覧!$A$1:$C$51,3,FALSE)-LEN(競技者一覧!X311)),競技者一覧!X311),\"\")","v":""},{"$f":"IFERROR(CONCATENATE(VLOOKUP(競技者一覧!Y311,種目コード一覧!$A$1:$C$51,2,FALSE),\" \",REPT(\"0\",VLOOKUP(競技者一覧!Y311,種目コード一覧!$A$1:$C$51,3,FALSE)-LEN(競技者一覧!Z311)),競技者一覧!Z311),\"\")","v":""}]
[{"$f":"IFERROR(CONCATENATE(競技者一覧!$D$7), \"\")","v":""},{"$f":"IFERROR(CONCATENATE($H$2,Sheet4!B292),\"\")","v":""},{"$f":"競技者一覧!C312&IF(OR(競技者一覧!H312=\"\",競技者一覧!H312=9),\"\",\"(\" & 競技者一覧!H312 & \")\")","v":""},{"$f":"ASC(競技者一覧!D312 &IF(OR(MID(競技者一覧!G312,3,2)=\"\", MID(競技者一覧!G312,3,2)=\"0\"),\"\",\"(\" & MID(競技者一覧!G312,3,2) & \")\"))","v":""},{"$f":"ASC(競技者一覧!E312 & \" \" & 競技者一覧!F312 & IF(OR(MID(競技者一覧!G312,3,2)=\"\", MID(競技者一覧!G312,3,2)=\"0\"),\"\",\"(\" & MID(競技者一覧!G312,3,2) & \")\"))","v":" "},{"$f":"CONCATENATE(競技者一覧!I312)","v":""},{"$f":"IFERROR(IF(競技者一覧!$D$6=\"学連\",VLOOKUP(競技者一覧!J312,Sheet4!$D$2:$E$48,2,FALSE),学校名簿!D292),\"\")","v":0},{"$f":"IFERROR(VLOOKUP(競技者一覧!$D$7,学校番号表!$B$2:$C$65536,2,FALSE),\"\")","v":""},{"$f":"CONCATENATE(競技者一覧!B312)","v":""},{"$f":"IFERROR(CONCATENATE(VLOOKUP(競技者一覧!K312,種目コード一覧!$A$1:$B$51,2,FALSE),\" \",REPT(\"0\",VLOOKUP(競技者一覧!K312,種目コード一覧!$A$1:$C$51,3,FALSE)-LEN(競技者一覧!L312)),競技者一覧!L312),\"\")","v":""},{"$f":"IFERROR(CONCATENATE(VLOOKUP(競技者一覧!M312,種目コード一覧!$A$1:$C$51,2,FALSE),\" \",REPT(\"0\",VLOOKUP(競技者一覧!M312,種目コード一覧!$A$1:$C$51,3,FALSE)-LEN(競技者一覧!N312)),競技者一覧!N312),\"\")","v":""},{"$f":"IFERROR(CONCATENATE(VLOOKUP(競技者一覧!O312,種目コード一覧!$A$1:$C$51,2,FALSE),\" \",REPT(\"0\",VLOOKUP(競技者一覧!O312,種目コード一覧!$A$1:$C$51,3,FALSE)-LEN(競技者一覧!P312)),競技者一覧!P312),\"\")","v":""},{"$f":"IFERROR(CONCATENATE(VLOOKUP(競技者一覧!Q312,種目コード一覧!$A$1:$C$51,2,FALSE),\" \",REPT(\"0\",VLOOKUP(競技者一覧!Q312,種目コード一覧!$A$1:$C$51,3,FALSE)-LEN(競技者一覧!R312)),競技者一覧!R312),\"\")","v":""},{"$f":"IFERROR(CONCATENATE(VLOOKUP(競技者一覧!S312,種目コード一覧!$A$1:$C$51,2,FALSE),\" \",REPT(\"0\",VLOOKUP(競技者一覧!S312,種目コード一覧!$A$1:$C$51,3,FALSE)-LEN(競技者一覧!T312)),競技者一覧!T312),\"\")","v":""},{"$f":"IFERROR(CONCATENATE(VLOOKUP(競技者一覧!U312,種目コード一覧!$A$1:$C$51,2,FALSE),\" \",REPT(\"0\",VLOOKUP(競技者一覧!U312,種目コード一覧!$A$1:$C$51,3,FALSE)-LEN(競技者一覧!V312)),競技者一覧!V312),\"\")","v":""},{"$f":"IFERROR(CONCATENATE(VLOOKUP(競技者一覧!W312,種目コード一覧!$A$1:$C$51,2,FALSE),\" \",REPT(\"0\",VLOOKUP(競技者一覧!W312,種目コード一覧!$A$1:$C$51,3,FALSE)-LEN(競技者一覧!X312)),競技者一覧!X312),\"\")","v":""},{"$f":"IFERROR(CONCATENATE(VLOOKUP(競技者一覧!Y312,種目コード一覧!$A$1:$C$51,2,FALSE),\" \",REPT(\"0\",VLOOKUP(競技者一覧!Y312,種目コード一覧!$A$1:$C$51,3,FALSE)-LEN(競技者一覧!Z312)),競技者一覧!Z312),\"\")","v":""}]
[{"$f":"IFERROR(CONCATENATE(競技者一覧!$D$7), \"\")","v":""},{"$f":"IFERROR(CONCATENATE($H$2,Sheet4!B293),\"\")","v":""},{"$f":"競技者一覧!C313&IF(OR(競技者一覧!H313=\"\",競技者一覧!H313=9),\"\",\"(\" & 競技者一覧!H313 & \")\")","v":""},{"$f":"競技者一覧!D313 &IF(OR(MID(競技者一覧!G313,3,2)=\"\", MID(競技者一覧!G313,3,2)=\"0\"),\"\",\"(\" & MID(競技者一覧!G313,3,2) & \")\")","v":""},{"$f":"ASC(競技者一覧!E313 & \" \" & 競技者一覧!F313 & IF(OR(MID(競技者一覧!G313,3,2)=\"\", MID(競技者一覧!G313,3,2)=\"0\"),\"\",\"(\" & MID(競技者一覧!G313,3,2) & \")\"))","v":" "},{"$f":"CONCATENATE(競技者一覧!I313)","v":""},{"$f":"IFERROR(IF(競技者一覧!$D$6=\"学連\",VLOOKUP(競技者一覧!J313,Sheet4!$D$2:$E$48,2,FALSE),学校名簿!D293),\"\")","v":0},{"$f":"IFERROR(VLOOKUP(競技者一覧!$D$7,学校番号表!$B$2:$C$65536,2,FALSE),\"\")","v":""},{"$f":"CONCATENATE(競技者一覧!B313)","v":""},{"$f":"IFERROR(CONCATENATE(VLOOKUP(競技者一覧!K313,種目コード一覧!$A$1:$C$51,2,FALSE),\" \",REPT(\"0\",VLOOKUP(競技者一覧!K313,種目コード一覧!$A$1:$C$51,3,FALSE)-LEN(競技者一覧!L313)),競技者一覧!L313),\"\")","v":""},{"$f":"IFERROR(CONCATENATE(VLOOKUP(競技者一覧!M313,種目コード一覧!$A$1:$C$51,2,FALSE),\" \",REPT(\"0\",VLOOKUP(競技者一覧!M313,種目コード一覧!$A$1:$C$51,3,FALSE)-LEN(競技者一覧!N313)),競技者一覧!N313),\"\")","v":""},{"$f":"IFERROR(CONCATENATE(VLOOKUP(競技者一覧!O313,種目コード一覧!$A$1:$C$51,2,FALSE),\" \",REPT(\"0\",VLOOKUP(競技者一覧!O313,種目コード一覧!$A$1:$C$51,3,FALSE)-LEN(競技者一覧!P313)),競技者一覧!P313),\"\")","v":""},{"$f":"IFERROR(CONCATENATE(VLOOKUP(競技者一覧!Q313,種目コード一覧!$A$1:$C$51,2,FALSE),\" \",REPT(\"0\",VLOOKUP(競技者一覧!Q313,種目コード一覧!$A$1:$C$51,3,FALSE)-LEN(競技者一覧!R313)),競技者一覧!R313),\"\")","v":""},{"$f":"IFERROR(CONCATENATE(VLOOKUP(競技者一覧!S313,種目コード一覧!$A$1:$C$51,2,FALSE),\" \",REPT(\"0\",VLOOKUP(競技者一覧!S313,種目コード一覧!$A$1:$C$51,3,FALSE)-LEN(競技者一覧!T313)),競技者一覧!T313),\"\")","v":""},{"$f":"IFERROR(CONCATENATE(VLOOKUP(競技者一覧!U313,種目コード一覧!$A$1:$C$51,2,FALSE),\" \",REPT(\"0\",VLOOKUP(競技者一覧!U313,種目コード一覧!$A$1:$C$51,3,FALSE)-LEN(競技者一覧!V313)),競技者一覧!V313),\"\")","v":""},{"$f":"IFERROR(CONCATENATE(VLOOKUP(競技者一覧!W313,種目コード一覧!$A$1:$C$51,2,FALSE),\" \",REPT(\"0\",VLOOKUP(競技者一覧!W313,種目コード一覧!$A$1:$C$51,3,FALSE)-LEN(競技者一覧!X313)),競技者一覧!X313),\"\")","v":""},{"$f":"IFERROR(CONCATENATE(VLOOKUP(競技者一覧!Y313,種目コード一覧!$A$1:$C$51,2,FALSE),\" \",REPT(\"0\",VLOOKUP(競技者一覧!Y313,種目コード一覧!$A$1:$C$51,3,FALSE)-LEN(競技者一覧!Z313)),競技者一覧!Z313),\"\")","v":""}]
[{"$f":"IFERROR(CONCATENATE(競技者一覧!$D$7), \"\")","v":""},{"$f":"IFERROR(CONCATENATE($H$2,Sheet4!B294),\"\")","v":""},{"$f":"競技者一覧!C314&IF(OR(競技者一覧!H314=\"\",競技者一覧!H314=9),\"\",\"(\" & 競技者一覧!H314 & \")\")","v":""},{"$f":"ASC(競技者一覧!D314 &IF(OR(MID(競技者一覧!G314,3,2)=\"\", MID(競技者一覧!G314,3,2)=\"0\"),\"\",\"(\" & MID(競技者一覧!G314,3,2) & \")\"))","v":""},{"$f":"ASC(競技者一覧!E314 & \" \" & 競技者一覧!F314 & IF(OR(MID(競技者一覧!G314,3,2)=\"\", MID(競技者一覧!G314,3,2)=\"0\"),\"\",\"(\" & MID(競技者一覧!G314,3,2) & \")\"))","v":" "},{"$f":"CONCATENATE(競技者一覧!I314)","v":""},{"$f":"IFERROR(IF(競技者一覧!$D$6=\"学連\",VLOOKUP(競技者一覧!J314,Sheet4!$D$2:$E$48,2,FALSE),学校名簿!D294),\"\")","v":0},{"$f":"IFERROR(VLOOKUP(競技者一覧!$D$7,学校番号表!$B$2:$C$65536,2,FALSE),\"\")","v":""},{"$f":"CONCATENATE(競技者一覧!B314)","v":""},{"$f":"IFERROR(CONCATENATE(VLOOKUP(競技者一覧!K314,種目コード一覧!$A$1:$B$51,2,FALSE),\" \",REPT(\"0\",VLOOKUP(競技者一覧!K314,種目コード一覧!$A$1:$C$51,3,FALSE)-LEN(競技者一覧!L314)),競技者一覧!L314),\"\")","v":""},{"$f":"IFERROR(CONCATENATE(VLOOKUP(競技者一覧!M314,種目コード一覧!$A$1:$C$51,2,FALSE),\" \",REPT(\"0\",VLOOKUP(競技者一覧!M314,種目コード一覧!$A$1:$C$51,3,FALSE)-LEN(競技者一覧!N314)),競技者一覧!N314),\"\")","v":""},{"$f":"IFERROR(CONCATENATE(VLOOKUP(競技者一覧!O314,種目コード一覧!$A$1:$C$51,2,FALSE),\" \",REPT(\"0\",VLOOKUP(競技者一覧!O314,種目コード一覧!$A$1:$C$51,3,FALSE)-LEN(競技者一覧!P314)),競技者一覧!P314),\"\")","v":""},{"$f":"IFERROR(CONCATENATE(VLOOKUP(競技者一覧!Q314,種目コード一覧!$A$1:$C$51,2,FALSE),\" \",REPT(\"0\",VLOOKUP(競技者一覧!Q314,種目コード一覧!$A$1:$C$51,3,FALSE)-LEN(競技者一覧!R314)),競技者一覧!R314),\"\")","v":""},{"$f":"IFERROR(CONCATENATE(VLOOKUP(競技者一覧!S314,種目コード一覧!$A$1:$C$51,2,FALSE),\" \",REPT(\"0\",VLOOKUP(競技者一覧!S314,種目コード一覧!$A$1:$C$51,3,FALSE)-LEN(競技者一覧!T314)),競技者一覧!T314),\"\")","v":""},{"$f":"IFERROR(CONCATENATE(VLOOKUP(競技者一覧!U314,種目コード一覧!$A$1:$C$51,2,FALSE),\" \",REPT(\"0\",VLOOKUP(競技者一覧!U314,種目コード一覧!$A$1:$C$51,3,FALSE)-LEN(競技者一覧!V314)),競技者一覧!V314),\"\")","v":""},{"$f":"IFERROR(CONCATENATE(VLOOKUP(競技者一覧!W314,種目コード一覧!$A$1:$C$51,2,FALSE),\" \",REPT(\"0\",VLOOKUP(競技者一覧!W314,種目コード一覧!$A$1:$C$51,3,FALSE)-LEN(競技者一覧!X314)),競技者一覧!X314),\"\")","v":""},{"$f":"IFERROR(CONCATENATE(VLOOKUP(競技者一覧!Y314,種目コード一覧!$A$1:$C$51,2,FALSE),\" \",REPT(\"0\",VLOOKUP(競技者一覧!Y314,種目コード一覧!$A$1:$C$51,3,FALSE)-LEN(競技者一覧!Z314)),競技者一覧!Z314),\"\")","v":""}]
[{"$f":"IFERROR(CONCATENATE(競技者一覧!$D$7), \"\")","v":""},{"$f":"IFERROR(CONCATENATE($H$2,Sheet4!B295),\"\")","v":""},{"$f":"競技者一覧!C315&IF(OR(競技者一覧!H315=\"\",競技者一覧!H315=9),\"\",\"(\" & 競技者一覧!H315 & \")\")","v":""},{"$f":"競技者一覧!D315 &IF(OR(MID(競技者一覧!G315,3,2)=\"\", MID(競技者一覧!G315,3,2)=\"0\"),\"\",\"(\" & MID(競技者一覧!G315,3,2) & \")\")","v":""},{"$f":"ASC(競技者一覧!E315 & \" \" & 競技者一覧!F315 & IF(OR(MID(競技者一覧!G315,3,2)=\"\", MID(競技者一覧!G315,3,2)=\"0\"),\"\",\"(\" & MID(競技者一覧!G315,3,2) & \")\"))","v":" "},{"$f":"CONCATENATE(競技者一覧!I315)","v":""},{"$f":"IFERROR(IF(競技者一覧!$D$6=\"学連\",VLOOKUP(競技者一覧!J315,Sheet4!$D$2:$E$48,2,FALSE),学校名簿!D295),\"\")","v":0},{"$f":"IFERROR(VLOOKUP(競技者一覧!$D$7,学校番号表!$B$2:$C$65536,2,FALSE),\"\")","v":""},{"$f":"CONCATENATE(競技者一覧!B315)","v":""},{"$f":"IFERROR(CONCATENATE(VLOOKUP(競技者一覧!K315,種目コード一覧!$A$1:$C$51,2,FALSE),\" \",REPT(\"0\",VLOOKUP(競技者一覧!K315,種目コード一覧!$A$1:$C$51,3,FALSE)-LEN(競技者一覧!L315)),競技者一覧!L315),\"\")","v":""},{"$f":"IFERROR(CONCATENATE(VLOOKUP(競技者一覧!M315,種目コード一覧!$A$1:$C$51,2,FALSE),\" \",REPT(\"0\",VLOOKUP(競技者一覧!M315,種目コード一覧!$A$1:$C$51,3,FALSE)-LEN(競技者一覧!N315)),競技者一覧!N315),\"\")","v":""},{"$f":"IFERROR(CONCATENATE(VLOOKUP(競技者一覧!O315,種目コード一覧!$A$1:$C$51,2,FALSE),\" \",REPT(\"0\",VLOOKUP(競技者一覧!O315,種目コード一覧!$A$1:$C$51,3,FALSE)-LEN(競技者一覧!P315)),競技者一覧!P315),\"\")","v":""},{"$f":"IFERROR(CONCATENATE(VLOOKUP(競技者一覧!Q315,種目コード一覧!$A$1:$C$51,2,FALSE),\" \",REPT(\"0\",VLOOKUP(競技者一覧!Q315,種目コード一覧!$A$1:$C$51,3,FALSE)-LEN(競技者一覧!R315)),競技者一覧!R315),\"\")","v":""},{"$f":"IFERROR(CONCATENATE(VLOOKUP(競技者一覧!S315,種目コード一覧!$A$1:$C$51,2,FALSE),\" \",REPT(\"0\",VLOOKUP(競技者一覧!S315,種目コード一覧!$A$1:$C$51,3,FALSE)-LEN(競技者一覧!T315)),競技者一覧!T315),\"\")","v":""},{"$f":"IFERROR(CONCATENATE(VLOOKUP(競技者一覧!U315,種目コード一覧!$A$1:$C$51,2,FALSE),\" \",REPT(\"0\",VLOOKUP(競技者一覧!U315,種目コード一覧!$A$1:$C$51,3,FALSE)-LEN(競技者一覧!V315)),競技者一覧!V315),\"\")","v":""},{"$f":"IFERROR(CONCATENATE(VLOOKUP(競技者一覧!W315,種目コード一覧!$A$1:$C$51,2,FALSE),\" \",REPT(\"0\",VLOOKUP(競技者一覧!W315,種目コード一覧!$A$1:$C$51,3,FALSE)-LEN(競技者一覧!X315)),競技者一覧!X315),\"\")","v":""},{"$f":"IFERROR(CONCATENATE(VLOOKUP(競技者一覧!Y315,種目コード一覧!$A$1:$C$51,2,FALSE),\" \",REPT(\"0\",VLOOKUP(競技者一覧!Y315,種目コード一覧!$A$1:$C$51,3,FALSE)-LEN(競技者一覧!Z315)),競技者一覧!Z315),\"\")","v":""}]
[{"$f":"IFERROR(CONCATENATE(競技者一覧!$D$7), \"\")","v":""},{"$f":"IFERROR(CONCATENATE($H$2,Sheet4!B296),\"\")","v":""},{"$f":"競技者一覧!C316&IF(OR(競技者一覧!H316=\"\",競技者一覧!H316=9),\"\",\"(\" & 競技者一覧!H316 & \")\")","v":""},{"$f":"ASC(競技者一覧!D316 &IF(OR(MID(競技者一覧!G316,3,2)=\"\", MID(競技者一覧!G316,3,2)=\"0\"),\"\",\"(\" & MID(競技者一覧!G316,3,2) & \")\"))","v":""},{"$f":"ASC(競技者一覧!E316 & \" \" & 競技者一覧!F316 & IF(OR(MID(競技者一覧!G316,3,2)=\"\", MID(競技者一覧!G316,3,2)=\"0\"),\"\",\"(\" & MID(競技者一覧!G316,3,2) & \")\"))","v":" "},{"$f":"CONCATENATE(競技者一覧!I316)","v":""},{"$f":"IFERROR(IF(競技者一覧!$D$6=\"学連\",VLOOKUP(競技者一覧!J316,Sheet4!$D$2:$E$48,2,FALSE),学校名簿!D296),\"\")","v":0},{"$f":"IFERROR(VLOOKUP(競技者一覧!$D$7,学校番号表!$B$2:$C$65536,2,FALSE),\"\")","v":""},{"$f":"CONCATENATE(競技者一覧!B316)","v":""},{"$f":"IFERROR(CONCATENATE(VLOOKUP(競技者一覧!K316,種目コード一覧!$A$1:$B$51,2,FALSE),\" \",REPT(\"0\",VLOOKUP(競技者一覧!K316,種目コード一覧!$A$1:$C$51,3,FALSE)-LEN(競技者一覧!L316)),競技者一覧!L316),\"\")","v":""},{"$f":"IFERROR(CONCATENATE(VLOOKUP(競技者一覧!M316,種目コード一覧!$A$1:$C$51,2,FALSE),\" \",REPT(\"0\",VLOOKUP(競技者一覧!M316,種目コード一覧!$A$1:$C$51,3,FALSE)-LEN(競技者一覧!N316)),競技者一覧!N316),\"\")","v":""},{"$f":"IFERROR(CONCATENATE(VLOOKUP(競技者一覧!O316,種目コード一覧!$A$1:$C$51,2,FALSE),\" \",REPT(\"0\",VLOOKUP(競技者一覧!O316,種目コード一覧!$A$1:$C$51,3,FALSE)-LEN(競技者一覧!P316)),競技者一覧!P316),\"\")","v":""},{"$f":"IFERROR(CONCATENATE(VLOOKUP(競技者一覧!Q316,種目コード一覧!$A$1:$C$51,2,FALSE),\" \",REPT(\"0\",VLOOKUP(競技者一覧!Q316,種目コード一覧!$A$1:$C$51,3,FALSE)-LEN(競技者一覧!R316)),競技者一覧!R316),\"\")","v":""},{"$f":"IFERROR(CONCATENATE(VLOOKUP(競技者一覧!S316,種目コード一覧!$A$1:$C$51,2,FALSE),\" \",REPT(\"0\",VLOOKUP(競技者一覧!S316,種目コード一覧!$A$1:$C$51,3,FALSE)-LEN(競技者一覧!T316)),競技者一覧!T316),\"\")","v":""},{"$f":"IFERROR(CONCATENATE(VLOOKUP(競技者一覧!U316,種目コード一覧!$A$1:$C$51,2,FALSE),\" \",REPT(\"0\",VLOOKUP(競技者一覧!U316,種目コード一覧!$A$1:$C$51,3,FALSE)-LEN(競技者一覧!V316)),競技者一覧!V316),\"\")","v":""},{"$f":"IFERROR(CONCATENATE(VLOOKUP(競技者一覧!W316,種目コード一覧!$A$1:$C$51,2,FALSE),\" \",REPT(\"0\",VLOOKUP(競技者一覧!W316,種目コード一覧!$A$1:$C$51,3,FALSE)-LEN(競技者一覧!X316)),競技者一覧!X316),\"\")","v":""},{"$f":"IFERROR(CONCATENATE(VLOOKUP(競技者一覧!Y316,種目コード一覧!$A$1:$C$51,2,FALSE),\" \",REPT(\"0\",VLOOKUP(競技者一覧!Y316,種目コード一覧!$A$1:$C$51,3,FALSE)-LEN(競技者一覧!Z316)),競技者一覧!Z316),\"\")","v":""}]
[{"$f":"IFERROR(CONCATENATE(競技者一覧!$D$7), \"\")","v":""},{"$f":"IFERROR(CONCATENATE($H$2,Sheet4!B297),\"\")","v":""},{"$f":"競技者一覧!C317&IF(OR(競技者一覧!H317=\"\",競技者一覧!H317=9),\"\",\"(\" & 競技者一覧!H317 & \")\")","v":""},{"$f":"競技者一覧!D317 &IF(OR(MID(競技者一覧!G317,3,2)=\"\", MID(競技者一覧!G317,3,2)=\"0\"),\"\",\"(\" & MID(競技者一覧!G317,3,2) & \")\")","v":""},{"$f":"ASC(競技者一覧!E317 & \" \" & 競技者一覧!F317 & IF(OR(MID(競技者一覧!G317,3,2)=\"\", MID(競技者一覧!G317,3,2)=\"0\"),\"\",\"(\" & MID(競技者一覧!G317,3,2) & \")\"))","v":" "},{"$f":"CONCATENATE(競技者一覧!I317)","v":""},{"$f":"IFERROR(IF(競技者一覧!$D$6=\"学連\",VLOOKUP(競技者一覧!J317,Sheet4!$D$2:$E$48,2,FALSE),学校名簿!D297),\"\")","v":0},{"$f":"IFERROR(VLOOKUP(競技者一覧!$D$7,学校番号表!$B$2:$C$65536,2,FALSE),\"\")","v":""},{"$f":"CONCATENATE(競技者一覧!B317)","v":""},{"$f":"IFERROR(CONCATENATE(VLOOKUP(競技者一覧!K317,種目コード一覧!$A$1:$C$51,2,FALSE),\" \",REPT(\"0\",VLOOKUP(競技者一覧!K317,種目コード一覧!$A$1:$C$51,3,FALSE)-LEN(競技者一覧!L317)),競技者一覧!L317),\"\")","v":""},{"$f":"IFERROR(CONCATENATE(VLOOKUP(競技者一覧!M317,種目コード一覧!$A$1:$C$51,2,FALSE),\" \",REPT(\"0\",VLOOKUP(競技者一覧!M317,種目コード一覧!$A$1:$C$51,3,FALSE)-LEN(競技者一覧!N317)),競技者一覧!N317),\"\")","v":""},{"$f":"IFERROR(CONCATENATE(VLOOKUP(競技者一覧!O317,種目コード一覧!$A$1:$C$51,2,FALSE),\" \",REPT(\"0\",VLOOKUP(競技者一覧!O317,種目コード一覧!$A$1:$C$51,3,FALSE)-LEN(競技者一覧!P317)),競技者一覧!P317),\"\")","v":""},{"$f":"IFERROR(CONCATENATE(VLOOKUP(競技者一覧!Q317,種目コード一覧!$A$1:$C$51,2,FALSE),\" \",REPT(\"0\",VLOOKUP(競技者一覧!Q317,種目コード一覧!$A$1:$C$51,3,FALSE)-LEN(競技者一覧!R317)),競技者一覧!R317),\"\")","v":""},{"$f":"IFERROR(CONCATENATE(VLOOKUP(競技者一覧!S317,種目コード一覧!$A$1:$C$51,2,FALSE),\" \",REPT(\"0\",VLOOKUP(競技者一覧!S317,種目コード一覧!$A$1:$C$51,3,FALSE)-LEN(競技者一覧!T317)),競技者一覧!T317),\"\")","v":""},{"$f":"IFERROR(CONCATENATE(VLOOKUP(競技者一覧!U317,種目コード一覧!$A$1:$C$51,2,FALSE),\" \",REPT(\"0\",VLOOKUP(競技者一覧!U317,種目コード一覧!$A$1:$C$51,3,FALSE)-LEN(競技者一覧!V317)),競技者一覧!V317),\"\")","v":""},{"$f":"IFERROR(CONCATENATE(VLOOKUP(競技者一覧!W317,種目コード一覧!$A$1:$C$51,2,FALSE),\" \",REPT(\"0\",VLOOKUP(競技者一覧!W317,種目コード一覧!$A$1:$C$51,3,FALSE)-LEN(競技者一覧!X317)),競技者一覧!X317),\"\")","v":""},{"$f":"IFERROR(CONCATENATE(VLOOKUP(競技者一覧!Y317,種目コード一覧!$A$1:$C$51,2,FALSE),\" \",REPT(\"0\",VLOOKUP(競技者一覧!Y317,種目コード一覧!$A$1:$C$51,3,FALSE)-LEN(競技者一覧!Z317)),競技者一覧!Z317),\"\")","v":""}]
[{"$f":"IFERROR(CONCATENATE(競技者一覧!$D$7), \"\")","v":""},{"$f":"IFERROR(CONCATENATE($H$2,Sheet4!B298),\"\")","v":""},{"$f":"競技者一覧!C318&IF(OR(競技者一覧!H318=\"\",競技者一覧!H318=9),\"\",\"(\" & 競技者一覧!H318 & \")\")","v":""},{"$f":"ASC(競技者一覧!D318 &IF(OR(MID(競技者一覧!G318,3,2)=\"\", MID(競技者一覧!G318,3,2)=\"0\"),\"\",\"(\" & MID(競技者一覧!G318,3,2) & \")\"))","v":""},{"$f":"ASC(競技者一覧!E318 & \" \" & 競技者一覧!F318 & IF(OR(MID(競技者一覧!G318,3,2)=\"\", MID(競技者一覧!G318,3,2)=\"0\"),\"\",\"(\" & MID(競技者一覧!G318,3,2) & \")\"))","v":" "},{"$f":"CONCATENATE(競技者一覧!I318)","v":""},{"$f":"IFERROR(IF(競技者一覧!$D$6=\"学連\",VLOOKUP(競技者一覧!J318,Sheet4!$D$2:$E$48,2,FALSE),学校名簿!D298),\"\")","v":0},{"$f":"IFERROR(VLOOKUP(競技者一覧!$D$7,学校番号表!$B$2:$C$65536,2,FALSE),\"\")","v":""},{"$f":"CONCATENATE(競技者一覧!B318)","v":""},{"$f":"IFERROR(CONCATENATE(VLOOKUP(競技者一覧!K318,種目コード一覧!$A$1:$B$51,2,FALSE),\" \",REPT(\"0\",VLOOKUP(競技者一覧!K318,種目コード一覧!$A$1:$C$51,3,FALSE)-LEN(競技者一覧!L318)),競技者一覧!L318),\"\")","v":""},{"$f":"IFERROR(CONCATENATE(VLOOKUP(競技者一覧!M318,種目コード一覧!$A$1:$C$51,2,FALSE),\" \",REPT(\"0\",VLOOKUP(競技者一覧!M318,種目コード一覧!$A$1:$C$51,3,FALSE)-LEN(競技者一覧!N318)),競技者一覧!N318),\"\")","v":""},{"$f":"IFERROR(CONCATENATE(VLOOKUP(競技者一覧!O318,種目コード一覧!$A$1:$C$51,2,FALSE),\" \",REPT(\"0\",VLOOKUP(競技者一覧!O318,種目コード一覧!$A$1:$C$51,3,FALSE)-LEN(競技者一覧!P318)),競技者一覧!P318),\"\")","v":""},{"$f":"IFERROR(CONCATENATE(VLOOKUP(競技者一覧!Q318,種目コード一覧!$A$1:$C$51,2,FALSE),\" \",REPT(\"0\",VLOOKUP(競技者一覧!Q318,種目コード一覧!$A$1:$C$51,3,FALSE)-LEN(競技者一覧!R318)),競技者一覧!R318),\"\")","v":""},{"$f":"IFERROR(CONCATENATE(VLOOKUP(競技者一覧!S318,種目コード一覧!$A$1:$C$51,2,FALSE),\" \",REPT(\"0\",VLOOKUP(競技者一覧!S318,種目コード一覧!$A$1:$C$51,3,FALSE)-LEN(競技者一覧!T318)),競技者一覧!T318),\"\")","v":""},{"$f":"IFERROR(CONCATENATE(VLOOKUP(競技者一覧!U318,種目コード一覧!$A$1:$C$51,2,FALSE),\" \",REPT(\"0\",VLOOKUP(競技者一覧!U318,種目コード一覧!$A$1:$C$51,3,FALSE)-LEN(競技者一覧!V318)),競技者一覧!V318),\"\")","v":""},{"$f":"IFERROR(CONCATENATE(VLOOKUP(競技者一覧!W318,種目コード一覧!$A$1:$C$51,2,FALSE),\" \",REPT(\"0\",VLOOKUP(競技者一覧!W318,種目コード一覧!$A$1:$C$51,3,FALSE)-LEN(競技者一覧!X318)),競技者一覧!X318),\"\")","v":""},{"$f":"IFERROR(CONCATENATE(VLOOKUP(競技者一覧!Y318,種目コード一覧!$A$1:$C$51,2,FALSE),\" \",REPT(\"0\",VLOOKUP(競技者一覧!Y318,種目コード一覧!$A$1:$C$51,3,FALSE)-LEN(競技者一覧!Z318)),競技者一覧!Z318),\"\")","v":""}]
[{"$f":"IFERROR(CONCATENATE(競技者一覧!$D$7), \"\")","v":""},{"$f":"IFERROR(CONCATENATE($H$2,Sheet4!B299),\"\")","v":""},{"$f":"競技者一覧!C319&IF(OR(競技者一覧!H319=\"\",競技者一覧!H319=9),\"\",\"(\" & 競技者一覧!H319 & \")\")","v":""},{"$f":"競技者一覧!D319 &IF(OR(MID(競技者一覧!G319,3,2)=\"\", MID(競技者一覧!G319,3,2)=\"0\"),\"\",\"(\" & MID(競技者一覧!G319,3,2) & \")\")","v":""},{"$f":"ASC(競技者一覧!E319 & \" \" & 競技者一覧!F319 & IF(OR(MID(競技者一覧!G319,3,2)=\"\", MID(競技者一覧!G319,3,2)=\"0\"),\"\",\"(\" & MID(競技者一覧!G319,3,2) & \")\"))","v":" "},{"$f":"CONCATENATE(競技者一覧!I319)","v":""},{"$f":"IFERROR(IF(競技者一覧!$D$6=\"学連\",VLOOKUP(競技者一覧!J319,Sheet4!$D$2:$E$48,2,FALSE),学校名簿!D299),\"\")","v":0},{"$f":"IFERROR(VLOOKUP(競技者一覧!$D$7,学校番号表!$B$2:$C$65536,2,FALSE),\"\")","v":""},{"$f":"CONCATENATE(競技者一覧!B319)","v":""},{"$f":"IFERROR(CONCATENATE(VLOOKUP(競技者一覧!K319,種目コード一覧!$A$1:$C$51,2,FALSE),\" \",REPT(\"0\",VLOOKUP(競技者一覧!K319,種目コード一覧!$A$1:$C$51,3,FALSE)-LEN(競技者一覧!L319)),競技者一覧!L319),\"\")","v":""},{"$f":"IFERROR(CONCATENATE(VLOOKUP(競技者一覧!M319,種目コード一覧!$A$1:$C$51,2,FALSE),\" \",REPT(\"0\",VLOOKUP(競技者一覧!M319,種目コード一覧!$A$1:$C$51,3,FALSE)-LEN(競技者一覧!N319)),競技者一覧!N319),\"\")","v":""},{"$f":"IFERROR(CONCATENATE(VLOOKUP(競技者一覧!O319,種目コード一覧!$A$1:$C$51,2,FALSE),\" \",REPT(\"0\",VLOOKUP(競技者一覧!O319,種目コード一覧!$A$1:$C$51,3,FALSE)-LEN(競技者一覧!P319)),競技者一覧!P319),\"\")","v":""},{"$f":"IFERROR(CONCATENATE(VLOOKUP(競技者一覧!Q319,種目コード一覧!$A$1:$C$51,2,FALSE),\" \",REPT(\"0\",VLOOKUP(競技者一覧!Q319,種目コード一覧!$A$1:$C$51,3,FALSE)-LEN(競技者一覧!R319)),競技者一覧!R319),\"\")","v":""},{"$f":"IFERROR(CONCATENATE(VLOOKUP(競技者一覧!S319,種目コード一覧!$A$1:$C$51,2,FALSE),\" \",REPT(\"0\",VLOOKUP(競技者一覧!S319,種目コード一覧!$A$1:$C$51,3,FALSE)-LEN(競技者一覧!T319)),競技者一覧!T319),\"\")","v":""},{"$f":"IFERROR(CONCATENATE(VLOOKUP(競技者一覧!U319,種目コード一覧!$A$1:$C$51,2,FALSE),\" \",REPT(\"0\",VLOOKUP(競技者一覧!U319,種目コード一覧!$A$1:$C$51,3,FALSE)-LEN(競技者一覧!V319)),競技者一覧!V319),\"\")","v":""},{"$f":"IFERROR(CONCATENATE(VLOOKUP(競技者一覧!W319,種目コード一覧!$A$1:$C$51,2,FALSE),\" \",REPT(\"0\",VLOOKUP(競技者一覧!W319,種目コード一覧!$A$1:$C$51,3,FALSE)-LEN(競技者一覧!X319)),競技者一覧!X319),\"\")","v":""},{"$f":"IFERROR(CONCATENATE(VLOOKUP(競技者一覧!Y319,種目コード一覧!$A$1:$C$51,2,FALSE),\" \",REPT(\"0\",VLOOKUP(競技者一覧!Y319,種目コード一覧!$A$1:$C$51,3,FALSE)-LEN(競技者一覧!Z319)),競技者一覧!Z319),\"\")","v":""}]
[{"$f":"IFERROR(CONCATENATE(競技者一覧!$D$7), \"\")","v":""},{"$f":"IFERROR(CONCATENATE($H$2,Sheet4!B300),\"\")","v":""},{"$f":"競技者一覧!C320&IF(OR(競技者一覧!H320=\"\",競技者一覧!H320=9),\"\",\"(\" & 競技者一覧!H320 & \")\")","v":""},{"$f":"ASC(競技者一覧!D320 &IF(OR(MID(競技者一覧!G320,3,2)=\"\", MID(競技者一覧!G320,3,2)=\"0\"),\"\",\"(\" & MID(競技者一覧!G320,3,2) & \")\"))","v":""},{"$f":"ASC(競技者一覧!E320 & \" \" & 競技者一覧!F320 & IF(OR(MID(競技者一覧!G320,3,2)=\"\", MID(競技者一覧!G320,3,2)=\"0\"),\"\",\"(\" & MID(競技者一覧!G320,3,2) & \")\"))","v":" "},{"$f":"CONCATENATE(競技者一覧!I320)","v":""},{"$f":"IFERROR(IF(競技者一覧!$D$6=\"学連\",VLOOKUP(競技者一覧!J320,Sheet4!$D$2:$E$48,2,FALSE),学校名簿!D300),\"\")","v":0},{"$f":"IFERROR(VLOOKUP(競技者一覧!$D$7,学校番号表!$B$2:$C$65536,2,FALSE),\"\")","v":""},{"$f":"CONCATENATE(競技者一覧!B320)","v":""},{"$f":"IFERROR(CONCATENATE(VLOOKUP(競技者一覧!K320,種目コード一覧!$A$1:$B$51,2,FALSE),\" \",REPT(\"0\",VLOOKUP(競技者一覧!K320,種目コード一覧!$A$1:$C$51,3,FALSE)-LEN(競技者一覧!L320)),競技者一覧!L320),\"\")","v":""},{"$f":"IFERROR(CONCATENATE(VLOOKUP(競技者一覧!M320,種目コード一覧!$A$1:$C$51,2,FALSE),\" \",REPT(\"0\",VLOOKUP(競技者一覧!M320,種目コード一覧!$A$1:$C$51,3,FALSE)-LEN(競技者一覧!N320)),競技者一覧!N320),\"\")","v":""},{"$f":"IFERROR(CONCATENATE(VLOOKUP(競技者一覧!O320,種目コード一覧!$A$1:$C$51,2,FALSE),\" \",REPT(\"0\",VLOOKUP(競技者一覧!O320,種目コード一覧!$A$1:$C$51,3,FALSE)-LEN(競技者一覧!P320)),競技者一覧!P320),\"\")","v":""},{"$f":"IFERROR(CONCATENATE(VLOOKUP(競技者一覧!Q320,種目コード一覧!$A$1:$C$51,2,FALSE),\" \",REPT(\"0\",VLOOKUP(競技者一覧!Q320,種目コード一覧!$A$1:$C$51,3,FALSE)-LEN(競技者一覧!R320)),競技者一覧!R320),\"\")","v":""},{"$f":"IFERROR(CONCATENATE(VLOOKUP(競技者一覧!S320,種目コード一覧!$A$1:$C$51,2,FALSE),\" \",REPT(\"0\",VLOOKUP(競技者一覧!S320,種目コード一覧!$A$1:$C$51,3,FALSE)-LEN(競技者一覧!T320)),競技者一覧!T320),\"\")","v":""},{"$f":"IFERROR(CONCATENATE(VLOOKUP(競技者一覧!U320,種目コード一覧!$A$1:$C$51,2,FALSE),\" \",REPT(\"0\",VLOOKUP(競技者一覧!U320,種目コード一覧!$A$1:$C$51,3,FALSE)-LEN(競技者一覧!V320)),競技者一覧!V320),\"\")","v":""},{"$f":"IFERROR(CONCATENATE(VLOOKUP(競技者一覧!W320,種目コード一覧!$A$1:$C$51,2,FALSE),\" \",REPT(\"0\",VLOOKUP(競技者一覧!W320,種目コード一覧!$A$1:$C$51,3,FALSE)-LEN(競技者一覧!X320)),競技者一覧!X320),\"\")","v":""},{"$f":"IFERROR(CONCATENATE(VLOOKUP(競技者一覧!Y320,種目コード一覧!$A$1:$C$51,2,FALSE),\" \",REPT(\"0\",VLOOKUP(競技者一覧!Y320,種目コード一覧!$A$1:$C$51,3,FALSE)-LEN(競技者一覧!Z320)),競技者一覧!Z320),\"\")","v":""}]
[{"$f":"IFERROR(CONCATENATE(競技者一覧!$D$7), \"\")","v":""},{"$f":"IFERROR(CONCATENATE($H$2,Sheet4!B301),\"\")","v":""},{"$f":"競技者一覧!C321&IF(OR(競技者一覧!H321=\"\",競技者一覧!H321=9),\"\",\"(\" & 競技者一覧!H321 & \")\")","v":""},{"$f":"競技者一覧!D321 &IF(OR(MID(競技者一覧!G321,3,2)=\"\", MID(競技者一覧!G321,3,2)=\"0\"),\"\",\"(\" & MID(競技者一覧!G321,3,2) & \")\")","v":""},{"$f":"ASC(競技者一覧!E321 & \" \" & 競技者一覧!F321 & IF(OR(MID(競技者一覧!G321,3,2)=\"\", MID(競技者一覧!G321,3,2)=\"0\"),\"\",\"(\" & MID(競技者一覧!G321,3,2) & \")\"))","v":" "},{"$f":"CONCATENATE(競技者一覧!I321)","v":""},{"$f":"IFERROR(IF(競技者一覧!$D$6=\"学連\",VLOOKUP(競技者一覧!J321,Sheet4!$D$2:$E$48,2,FALSE),学校名簿!D301),\"\")","v":0},{"$f":"IFERROR(VLOOKUP(競技者一覧!$D$7,学校番号表!$B$2:$C$65536,2,FALSE),\"\")","v":""},{"$f":"CONCATENATE(競技者一覧!B321)","v":""},{"$f":"IFERROR(CONCATENATE(VLOOKUP(競技者一覧!K321,種目コード一覧!$A$1:$C$51,2,FALSE),\" \",REPT(\"0\",VLOOKUP(競技者一覧!K321,種目コード一覧!$A$1:$C$51,3,FALSE)-LEN(競技者一覧!L321)),競技者一覧!L321),\"\")","v":""},{"$f":"IFERROR(CONCATENATE(VLOOKUP(競技者一覧!M321,種目コード一覧!$A$1:$C$51,2,FALSE),\" \",REPT(\"0\",VLOOKUP(競技者一覧!M321,種目コード一覧!$A$1:$C$51,3,FALSE)-LEN(競技者一覧!N321)),競技者一覧!N321),\"\")","v":""},{"$f":"IFERROR(CONCATENATE(VLOOKUP(競技者一覧!O321,種目コード一覧!$A$1:$C$51,2,FALSE),\" \",REPT(\"0\",VLOOKUP(競技者一覧!O321,種目コード一覧!$A$1:$C$51,3,FALSE)-LEN(競技者一覧!P321)),競技者一覧!P321),\"\")","v":""},{"$f":"IFERROR(CONCATENATE(VLOOKUP(競技者一覧!Q321,種目コード一覧!$A$1:$C$51,2,FALSE),\" \",REPT(\"0\",VLOOKUP(競技者一覧!Q321,種目コード一覧!$A$1:$C$51,3,FALSE)-LEN(競技者一覧!R321)),競技者一覧!R321),\"\")","v":""},{"$f":"IFERROR(CONCATENATE(VLOOKUP(競技者一覧!S321,種目コード一覧!$A$1:$C$51,2,FALSE),\" \",REPT(\"0\",VLOOKUP(競技者一覧!S321,種目コード一覧!$A$1:$C$51,3,FALSE)-LEN(競技者一覧!T321)),競技者一覧!T321),\"\")","v":""},{"$f":"IFERROR(CONCATENATE(VLOOKUP(競技者一覧!U321,種目コード一覧!$A$1:$C$51,2,FALSE),\" \",REPT(\"0\",VLOOKUP(競技者一覧!U321,種目コード一覧!$A$1:$C$51,3,FALSE)-LEN(競技者一覧!V321)),競技者一覧!V321),\"\")","v":""},{"$f":"IFERROR(CONCATENATE(VLOOKUP(競技者一覧!W321,種目コード一覧!$A$1:$C$51,2,FALSE),\" \",REPT(\"0\",VLOOKUP(競技者一覧!W321,種目コード一覧!$A$1:$C$51,3,FALSE)-LEN(競技者一覧!X321)),競技者一覧!X321),\"\")","v":""},{"$f":"IFERROR(CONCATENATE(VLOOKUP(競技者一覧!Y321,種目コード一覧!$A$1:$C$51,2,FALSE),\" \",REPT(\"0\",VLOOKUP(競技者一覧!Y321,種目コード一覧!$A$1:$C$51,3,FALSE)-LEN(競技者一覧!Z321)),競技者一覧!Z321),\"\")","v":""}]
[{"$f":"IFERROR(CONCATENATE(競技者一覧!$D$7), \"\")","v":""},{"$f":"IFERROR(CONCATENATE($H$2,Sheet4!B302),\"\")","v":""},{"$f":"競技者一覧!C322&IF(OR(競技者一覧!H322=\"\",競技者一覧!H322=9),\"\",\"(\" & 競技者一覧!H322 & \")\")","v":""},{"$f":"ASC(競技者一覧!D322 &IF(OR(MID(競技者一覧!G322,3,2)=\"\", MID(競技者一覧!G322,3,2)=\"0\"),\"\",\"(\" & MID(競技者一覧!G322,3,2) & \")\"))","v":""},{"$f":"ASC(競技者一覧!E322 & \" \" & 競技者一覧!F322 & IF(OR(MID(競技者一覧!G322,3,2)=\"\", MID(競技者一覧!G322,3,2)=\"0\"),\"\",\"(\" & MID(競技者一覧!G322,3,2) & \")\"))","v":" "},{"$f":"CONCATENATE(競技者一覧!I322)","v":""},{"$f":"IFERROR(IF(競技者一覧!$D$6=\"学連\",VLOOKUP(競技者一覧!J322,Sheet4!$D$2:$E$48,2,FALSE),学校名簿!D302),\"\")","v":0},{"$f":"IFERROR(VLOOKUP(競技者一覧!$D$7,学校番号表!$B$2:$C$65536,2,FALSE),\"\")","v":""},{"$f":"CONCATENATE(競技者一覧!B322)","v":""},{"$f":"IFERROR(CONCATENATE(VLOOKUP(競技者一覧!K322,種目コード一覧!$A$1:$B$51,2,FALSE),\" \",REPT(\"0\",VLOOKUP(競技者一覧!K322,種目コード一覧!$A$1:$C$51,3,FALSE)-LEN(競技者一覧!L322)),競技者一覧!L322),\"\")","v":""},{"$f":"IFERROR(CONCATENATE(VLOOKUP(競技者一覧!M322,種目コード一覧!$A$1:$C$51,2,FALSE),\" \",REPT(\"0\",VLOOKUP(競技者一覧!M322,種目コード一覧!$A$1:$C$51,3,FALSE)-LEN(競技者一覧!N322)),競技者一覧!N322),\"\")","v":""},{"$f":"IFERROR(CONCATENATE(VLOOKUP(競技者一覧!O322,種目コード一覧!$A$1:$C$51,2,FALSE),\" \",REPT(\"0\",VLOOKUP(競技者一覧!O322,種目コード一覧!$A$1:$C$51,3,FALSE)-LEN(競技者一覧!P322)),競技者一覧!P322),\"\")","v":""},{"$f":"IFERROR(CONCATENATE(VLOOKUP(競技者一覧!Q322,種目コード一覧!$A$1:$C$51,2,FALSE),\" \",REPT(\"0\",VLOOKUP(競技者一覧!Q322,種目コード一覧!$A$1:$C$51,3,FALSE)-LEN(競技者一覧!R322)),競技者一覧!R322),\"\")","v":""},{"$f":"IFERROR(CONCATENATE(VLOOKUP(競技者一覧!S322,種目コード一覧!$A$1:$C$51,2,FALSE),\" \",REPT(\"0\",VLOOKUP(競技者一覧!S322,種目コード一覧!$A$1:$C$51,3,FALSE)-LEN(競技者一覧!T322)),競技者一覧!T322),\"\")","v":""},{"$f":"IFERROR(CONCATENATE(VLOOKUP(競技者一覧!U322,種目コード一覧!$A$1:$C$51,2,FALSE),\" \",REPT(\"0\",VLOOKUP(競技者一覧!U322,種目コード一覧!$A$1:$C$51,3,FALSE)-LEN(競技者一覧!V322)),競技者一覧!V322),\"\")","v":""},{"$f":"IFERROR(CONCATENATE(VLOOKUP(競技者一覧!W322,種目コード一覧!$A$1:$C$51,2,FALSE),\" \",REPT(\"0\",VLOOKUP(競技者一覧!W322,種目コード一覧!$A$1:$C$51,3,FALSE)-LEN(競技者一覧!X322)),競技者一覧!X322),\"\")","v":""},{"$f":"IFERROR(CONCATENATE(VLOOKUP(競技者一覧!Y322,種目コード一覧!$A$1:$C$51,2,FALSE),\" \",REPT(\"0\",VLOOKUP(競技者一覧!Y322,種目コード一覧!$A$1:$C$51,3,FALSE)-LEN(競技者一覧!Z322)),競技者一覧!Z322),\"\")","v":""}]
[{"$f":"IFERROR(CONCATENATE(競技者一覧!$D$7), \"\")","v":""},{"$f":"IFERROR(CONCATENATE($H$2,Sheet4!B303),\"\")","v":""},{"$f":"競技者一覧!C323&IF(OR(競技者一覧!H323=\"\",競技者一覧!H323=9),\"\",\"(\" & 競技者一覧!H323 & \")\")","v":""},{"$f":"競技者一覧!D323 &IF(OR(MID(競技者一覧!G323,3,2)=\"\", MID(競技者一覧!G323,3,2)=\"0\"),\"\",\"(\" & MID(競技者一覧!G323,3,2) & \")\")","v":""},{"$f":"ASC(競技者一覧!E323 & \" \" & 競技者一覧!F323 & IF(OR(MID(競技者一覧!G323,3,2)=\"\", MID(競技者一覧!G323,3,2)=\"0\"),\"\",\"(\" & MID(競技者一覧!G323,3,2) & \")\"))","v":" "},{"$f":"CONCATENATE(競技者一覧!I323)","v":""},{"$f":"IFERROR(IF(競技者一覧!$D$6=\"学連\",VLOOKUP(競技者一覧!J323,Sheet4!$D$2:$E$48,2,FALSE),学校名簿!D303),\"\")","v":0},{"$f":"IFERROR(VLOOKUP(競技者一覧!$D$7,学校番号表!$B$2:$C$65536,2,FALSE),\"\")","v":""},{"$f":"CONCATENATE(競技者一覧!B323)","v":""},{"$f":"IFERROR(CONCATENATE(VLOOKUP(競技者一覧!K323,種目コード一覧!$A$1:$C$51,2,FALSE),\" \",REPT(\"0\",VLOOKUP(競技者一覧!K323,種目コード一覧!$A$1:$C$51,3,FALSE)-LEN(競技者一覧!L323)),競技者一覧!L323),\"\")","v":""},{"$f":"IFERROR(CONCATENATE(VLOOKUP(競技者一覧!M323,種目コード一覧!$A$1:$C$51,2,FALSE),\" \",REPT(\"0\",VLOOKUP(競技者一覧!M323,種目コード一覧!$A$1:$C$51,3,FALSE)-LEN(競技者一覧!N323)),競技者一覧!N323),\"\")","v":""},{"$f":"IFERROR(CONCATENATE(VLOOKUP(競技者一覧!O323,種目コード一覧!$A$1:$C$51,2,FALSE),\" \",REPT(\"0\",VLOOKUP(競技者一覧!O323,種目コード一覧!$A$1:$C$51,3,FALSE)-LEN(競技者一覧!P323)),競技者一覧!P323),\"\")","v":""},{"$f":"IFERROR(CONCATENATE(VLOOKUP(競技者一覧!Q323,種目コード一覧!$A$1:$C$51,2,FALSE),\" \",REPT(\"0\",VLOOKUP(競技者一覧!Q323,種目コード一覧!$A$1:$C$51,3,FALSE)-LEN(競技者一覧!R323)),競技者一覧!R323),\"\")","v":""},{"$f":"IFERROR(CONCATENATE(VLOOKUP(競技者一覧!S323,種目コード一覧!$A$1:$C$51,2,FALSE),\" \",REPT(\"0\",VLOOKUP(競技者一覧!S323,種目コード一覧!$A$1:$C$51,3,FALSE)-LEN(競技者一覧!T323)),競技者一覧!T323),\"\")","v":""},{"$f":"IFERROR(CONCATENATE(VLOOKUP(競技者一覧!U323,種目コード一覧!$A$1:$C$51,2,FALSE),\" \",REPT(\"0\",VLOOKUP(競技者一覧!U323,種目コード一覧!$A$1:$C$51,3,FALSE)-LEN(競技者一覧!V323)),競技者一覧!V323),\"\")","v":""},{"$f":"IFERROR(CONCATENATE(VLOOKUP(競技者一覧!W323,種目コード一覧!$A$1:$C$51,2,FALSE),\" \",REPT(\"0\",VLOOKUP(競技者一覧!W323,種目コード一覧!$A$1:$C$51,3,FALSE)-LEN(競技者一覧!X323)),競技者一覧!X323),\"\")","v":""},{"$f":"IFERROR(CONCATENATE(VLOOKUP(競技者一覧!Y323,種目コード一覧!$A$1:$C$51,2,FALSE),\" \",REPT(\"0\",VLOOKUP(競技者一覧!Y323,種目コード一覧!$A$1:$C$51,3,FALSE)-LEN(競技者一覧!Z323)),競技者一覧!Z323),\"\")","v":""}]
[{"$f":"IFERROR(CONCATENATE(競技者一覧!$D$7), \"\")","v":""},{"$f":"IFERROR(CONCATENATE($H$2,Sheet4!B304),\"\")","v":""},{"$f":"競技者一覧!C324&IF(OR(競技者一覧!H324=\"\",競技者一覧!H324=9),\"\",\"(\" & 競技者一覧!H324 & \")\")","v":""},{"$f":"ASC(競技者一覧!D324 &IF(OR(MID(競技者一覧!G324,3,2)=\"\", MID(競技者一覧!G324,3,2)=\"0\"),\"\",\"(\" & MID(競技者一覧!G324,3,2) & \")\"))","v":""},{"$f":"ASC(競技者一覧!E324 & \" \" & 競技者一覧!F324 & IF(OR(MID(競技者一覧!G324,3,2)=\"\", MID(競技者一覧!G324,3,2)=\"0\"),\"\",\"(\" & MID(競技者一覧!G324,3,2) & \")\"))","v":" "},{"$f":"CONCATENATE(競技者一覧!I324)","v":""},{"$f":"IFERROR(IF(競技者一覧!$D$6=\"学連\",VLOOKUP(競技者一覧!J324,Sheet4!$D$2:$E$48,2,FALSE),学校名簿!D304),\"\")","v":0},{"$f":"IFERROR(VLOOKUP(競技者一覧!$D$7,学校番号表!$B$2:$C$65536,2,FALSE),\"\")","v":""},{"$f":"CONCATENATE(競技者一覧!B324)","v":""},{"$f":"IFERROR(CONCATENATE(VLOOKUP(競技者一覧!K324,種目コード一覧!$A$1:$B$51,2,FALSE),\" \",REPT(\"0\",VLOOKUP(競技者一覧!K324,種目コード一覧!$A$1:$C$51,3,FALSE)-LEN(競技者一覧!L324)),競技者一覧!L324),\"\")","v":""},{"$f":"IFERROR(CONCATENATE(VLOOKUP(競技者一覧!M324,種目コード一覧!$A$1:$C$51,2,FALSE),\" \",REPT(\"0\",VLOOKUP(競技者一覧!M324,種目コード一覧!$A$1:$C$51,3,FALSE)-LEN(競技者一覧!N324)),競技者一覧!N324),\"\")","v":""},{"$f":"IFERROR(CONCATENATE(VLOOKUP(競技者一覧!O324,種目コード一覧!$A$1:$C$51,2,FALSE),\" \",REPT(\"0\",VLOOKUP(競技者一覧!O324,種目コード一覧!$A$1:$C$51,3,FALSE)-LEN(競技者一覧!P324)),競技者一覧!P324),\"\")","v":""},{"$f":"IFERROR(CONCATENATE(VLOOKUP(競技者一覧!Q324,種目コード一覧!$A$1:$C$51,2,FALSE),\" \",REPT(\"0\",VLOOKUP(競技者一覧!Q324,種目コード一覧!$A$1:$C$51,3,FALSE)-LEN(競技者一覧!R324)),競技者一覧!R324),\"\")","v":""},{"$f":"IFERROR(CONCATENATE(VLOOKUP(競技者一覧!S324,種目コード一覧!$A$1:$C$51,2,FALSE),\" \",REPT(\"0\",VLOOKUP(競技者一覧!S324,種目コード一覧!$A$1:$C$51,3,FALSE)-LEN(競技者一覧!T324)),競技者一覧!T324),\"\")","v":""},{"$f":"IFERROR(CONCATENATE(VLOOKUP(競技者一覧!U324,種目コード一覧!$A$1:$C$51,2,FALSE),\" \",REPT(\"0\",VLOOKUP(競技者一覧!U324,種目コード一覧!$A$1:$C$51,3,FALSE)-LEN(競技者一覧!V324)),競技者一覧!V324),\"\")","v":""},{"$f":"IFERROR(CONCATENATE(VLOOKUP(競技者一覧!W324,種目コード一覧!$A$1:$C$51,2,FALSE),\" \",REPT(\"0\",VLOOKUP(競技者一覧!W324,種目コード一覧!$A$1:$C$51,3,FALSE)-LEN(競技者一覧!X324)),競技者一覧!X324),\"\")","v":""},{"$f":"IFERROR(CONCATENATE(VLOOKUP(競技者一覧!Y324,種目コード一覧!$A$1:$C$51,2,FALSE),\" \",REPT(\"0\",VLOOKUP(競技者一覧!Y324,種目コード一覧!$A$1:$C$51,3,FALSE)-LEN(競技者一覧!Z324)),競技者一覧!Z324),\"\")","v":""}]
[{"$f":"IFERROR(CONCATENATE(競技者一覧!$D$7), \"\")","v":""},{"$f":"IFERROR(CONCATENATE($H$2,Sheet4!B305),\"\")","v":""},{"$f":"競技者一覧!C325&IF(OR(競技者一覧!H325=\"\",競技者一覧!H325=9),\"\",\"(\" & 競技者一覧!H325 & \")\")","v":""},{"$f":"競技者一覧!D325 &IF(OR(MID(競技者一覧!G325,3,2)=\"\", MID(競技者一覧!G325,3,2)=\"0\"),\"\",\"(\" & MID(競技者一覧!G325,3,2) & \")\")","v":""},{"$f":"ASC(競技者一覧!E325 & \" \" & 競技者一覧!F325 & IF(OR(MID(競技者一覧!G325,3,2)=\"\", MID(競技者一覧!G325,3,2)=\"0\"),\"\",\"(\" & MID(競技者一覧!G325,3,2) & \")\"))","v":" "},{"$f":"CONCATENATE(競技者一覧!I325)","v":""},{"$f":"IFERROR(IF(競技者一覧!$D$6=\"学連\",VLOOKUP(競技者一覧!J325,Sheet4!$D$2:$E$48,2,FALSE),学校名簿!D305),\"\")","v":0},{"$f":"IFERROR(VLOOKUP(競技者一覧!$D$7,学校番号表!$B$2:$C$65536,2,FALSE),\"\")","v":""},{"$f":"CONCATENATE(競技者一覧!B325)","v":""},{"$f":"IFERROR(CONCATENATE(VLOOKUP(競技者一覧!K325,種目コード一覧!$A$1:$C$51,2,FALSE),\" \",REPT(\"0\",VLOOKUP(競技者一覧!K325,種目コード一覧!$A$1:$C$51,3,FALSE)-LEN(競技者一覧!L325)),競技者一覧!L325),\"\")","v":""},{"$f":"IFERROR(CONCATENATE(VLOOKUP(競技者一覧!M325,種目コード一覧!$A$1:$C$51,2,FALSE),\" \",REPT(\"0\",VLOOKUP(競技者一覧!M325,種目コード一覧!$A$1:$C$51,3,FALSE)-LEN(競技者一覧!N325)),競技者一覧!N325),\"\")","v":""},{"$f":"IFERROR(CONCATENATE(VLOOKUP(競技者一覧!O325,種目コード一覧!$A$1:$C$51,2,FALSE),\" \",REPT(\"0\",VLOOKUP(競技者一覧!O325,種目コード一覧!$A$1:$C$51,3,FALSE)-LEN(競技者一覧!P325)),競技者一覧!P325),\"\")","v":""},{"$f":"IFERROR(CONCATENATE(VLOOKUP(競技者一覧!Q325,種目コード一覧!$A$1:$C$51,2,FALSE),\" \",REPT(\"0\",VLOOKUP(競技者一覧!Q325,種目コード一覧!$A$1:$C$51,3,FALSE)-LEN(競技者一覧!R325)),競技者一覧!R325),\"\")","v":""},{"$f":"IFERROR(CONCATENATE(VLOOKUP(競技者一覧!S325,種目コード一覧!$A$1:$C$51,2,FALSE),\" \",REPT(\"0\",VLOOKUP(競技者一覧!S325,種目コード一覧!$A$1:$C$51,3,FALSE)-LEN(競技者一覧!T325)),競技者一覧!T325),\"\")","v":""},{"$f":"IFERROR(CONCATENATE(VLOOKUP(競技者一覧!U325,種目コード一覧!$A$1:$C$51,2,FALSE),\" \",REPT(\"0\",VLOOKUP(競技者一覧!U325,種目コード一覧!$A$1:$C$51,3,FALSE)-LEN(競技者一覧!V325)),競技者一覧!V325),\"\")","v":""},{"$f":"IFERROR(CONCATENATE(VLOOKUP(競技者一覧!W325,種目コード一覧!$A$1:$C$51,2,FALSE),\" \",REPT(\"0\",VLOOKUP(競技者一覧!W325,種目コード一覧!$A$1:$C$51,3,FALSE)-LEN(競技者一覧!X325)),競技者一覧!X325),\"\")","v":""},{"$f":"IFERROR(CONCATENATE(VLOOKUP(競技者一覧!Y325,種目コード一覧!$A$1:$C$51,2,FALSE),\" \",REPT(\"0\",VLOOKUP(競技者一覧!Y325,種目コード一覧!$A$1:$C$51,3,FALSE)-LEN(競技者一覧!Z325)),競技者一覧!Z325),\"\")","v":""}]
[{"$f":"IFERROR(CONCATENATE(競技者一覧!$D$7), \"\")","v":""},{"$f":"IFERROR(CONCATENATE($H$2,Sheet4!B306),\"\")","v":""},{"$f":"競技者一覧!C326&IF(OR(競技者一覧!H326=\"\",競技者一覧!H326=9),\"\",\"(\" & 競技者一覧!H326 & \")\")","v":""},{"$f":"ASC(競技者一覧!D326 &IF(OR(MID(競技者一覧!G326,3,2)=\"\", MID(競技者一覧!G326,3,2)=\"0\"),\"\",\"(\" & MID(競技者一覧!G326,3,2) & \")\"))","v":""},{"$f":"ASC(競技者一覧!E326 & \" \" & 競技者一覧!F326 & IF(OR(MID(競技者一覧!G326,3,2)=\"\", MID(競技者一覧!G326,3,2)=\"0\"),\"\",\"(\" & MID(競技者一覧!G326,3,2) & \")\"))","v":" "},{"$f":"CONCATENATE(競技者一覧!I326)","v":""},{"$f":"IFERROR(IF(競技者一覧!$D$6=\"学連\",VLOOKUP(競技者一覧!J326,Sheet4!$D$2:$E$48,2,FALSE),学校名簿!D306),\"\")","v":0},{"$f":"IFERROR(VLOOKUP(競技者一覧!$D$7,学校番号表!$B$2:$C$65536,2,FALSE),\"\")","v":""},{"$f":"CONCATENATE(競技者一覧!B326)","v":""},{"$f":"IFERROR(CONCATENATE(VLOOKUP(競技者一覧!K326,種目コード一覧!$A$1:$B$51,2,FALSE),\" \",REPT(\"0\",VLOOKUP(競技者一覧!K326,種目コード一覧!$A$1:$C$51,3,FALSE)-LEN(競技者一覧!L326)),競技者一覧!L326),\"\")","v":""},{"$f":"IFERROR(CONCATENATE(VLOOKUP(競技者一覧!M326,種目コード一覧!$A$1:$C$51,2,FALSE),\" \",REPT(\"0\",VLOOKUP(競技者一覧!M326,種目コード一覧!$A$1:$C$51,3,FALSE)-LEN(競技者一覧!N326)),競技者一覧!N326),\"\")","v":""},{"$f":"IFERROR(CONCATENATE(VLOOKUP(競技者一覧!O326,種目コード一覧!$A$1:$C$51,2,FALSE),\" \",REPT(\"0\",VLOOKUP(競技者一覧!O326,種目コード一覧!$A$1:$C$51,3,FALSE)-LEN(競技者一覧!P326)),競技者一覧!P326),\"\")","v":""},{"$f":"IFERROR(CONCATENATE(VLOOKUP(競技者一覧!Q326,種目コード一覧!$A$1:$C$51,2,FALSE),\" \",REPT(\"0\",VLOOKUP(競技者一覧!Q326,種目コード一覧!$A$1:$C$51,3,FALSE)-LEN(競技者一覧!R326)),競技者一覧!R326),\"\")","v":""},{"$f":"IFERROR(CONCATENATE(VLOOKUP(競技者一覧!S326,種目コード一覧!$A$1:$C$51,2,FALSE),\" \",REPT(\"0\",VLOOKUP(競技者一覧!S326,種目コード一覧!$A$1:$C$51,3,FALSE)-LEN(競技者一覧!T326)),競技者一覧!T326),\"\")","v":""},{"$f":"IFERROR(CONCATENATE(VLOOKUP(競技者一覧!U326,種目コード一覧!$A$1:$C$51,2,FALSE),\" \",REPT(\"0\",VLOOKUP(競技者一覧!U326,種目コード一覧!$A$1:$C$51,3,FALSE)-LEN(競技者一覧!V326)),競技者一覧!V326),\"\")","v":""},{"$f":"IFERROR(CONCATENATE(VLOOKUP(競技者一覧!W326,種目コード一覧!$A$1:$C$51,2,FALSE),\" \",REPT(\"0\",VLOOKUP(競技者一覧!W326,種目コード一覧!$A$1:$C$51,3,FALSE)-LEN(競技者一覧!X326)),競技者一覧!X326),\"\")","v":""},{"$f":"IFERROR(CONCATENATE(VLOOKUP(競技者一覧!Y326,種目コード一覧!$A$1:$C$51,2,FALSE),\" \",REPT(\"0\",VLOOKUP(競技者一覧!Y326,種目コード一覧!$A$1:$C$51,3,FALSE)-LEN(競技者一覧!Z326)),競技者一覧!Z326),\"\")","v":""}]
[{"$f":"IFERROR(CONCATENATE(競技者一覧!$D$7), \"\")","v":""},{"$f":"IFERROR(CONCATENATE($H$2,Sheet4!B307),\"\")","v":""},{"$f":"競技者一覧!C327&IF(OR(競技者一覧!H327=\"\",競技者一覧!H327=9),\"\",\"(\" & 競技者一覧!H327 & \")\")","v":""},{"$f":"競技者一覧!D327 &IF(OR(MID(競技者一覧!G327,3,2)=\"\", MID(競技者一覧!G327,3,2)=\"0\"),\"\",\"(\" & MID(競技者一覧!G327,3,2) & \")\")","v":""},{"$f":"ASC(競技者一覧!E327 & \" \" & 競技者一覧!F327 & IF(OR(MID(競技者一覧!G327,3,2)=\"\", MID(競技者一覧!G327,3,2)=\"0\"),\"\",\"(\" & MID(競技者一覧!G327,3,2) & \")\"))","v":" "},{"$f":"CONCATENATE(競技者一覧!I327)","v":""},{"$f":"IFERROR(IF(競技者一覧!$D$6=\"学連\",VLOOKUP(競技者一覧!J327,Sheet4!$D$2:$E$48,2,FALSE),学校名簿!D307),\"\")","v":0},{"$f":"IFERROR(VLOOKUP(競技者一覧!$D$7,学校番号表!$B$2:$C$65536,2,FALSE),\"\")","v":""},{"$f":"CONCATENATE(競技者一覧!B327)","v":""},{"$f":"IFERROR(CONCATENATE(VLOOKUP(競技者一覧!K327,種目コード一覧!$A$1:$C$51,2,FALSE),\" \",REPT(\"0\",VLOOKUP(競技者一覧!K327,種目コード一覧!$A$1:$C$51,3,FALSE)-LEN(競技者一覧!L327)),競技者一覧!L327),\"\")","v":""},{"$f":"IFERROR(CONCATENATE(VLOOKUP(競技者一覧!M327,種目コード一覧!$A$1:$C$51,2,FALSE),\" \",REPT(\"0\",VLOOKUP(競技者一覧!M327,種目コード一覧!$A$1:$C$51,3,FALSE)-LEN(競技者一覧!N327)),競技者一覧!N327),\"\")","v":""},{"$f":"IFERROR(CONCATENATE(VLOOKUP(競技者一覧!O327,種目コード一覧!$A$1:$C$51,2,FALSE),\" \",REPT(\"0\",VLOOKUP(競技者一覧!O327,種目コード一覧!$A$1:$C$51,3,FALSE)-LEN(競技者一覧!P327)),競技者一覧!P327),\"\")","v":""},{"$f":"IFERROR(CONCATENATE(VLOOKUP(競技者一覧!Q327,種目コード一覧!$A$1:$C$51,2,FALSE),\" \",REPT(\"0\",VLOOKUP(競技者一覧!Q327,種目コード一覧!$A$1:$C$51,3,FALSE)-LEN(競技者一覧!R327)),競技者一覧!R327),\"\")","v":""},{"$f":"IFERROR(CONCATENATE(VLOOKUP(競技者一覧!S327,種目コード一覧!$A$1:$C$51,2,FALSE),\" \",REPT(\"0\",VLOOKUP(競技者一覧!S327,種目コード一覧!$A$1:$C$51,3,FALSE)-LEN(競技者一覧!T327)),競技者一覧!T327),\"\")","v":""},{"$f":"IFERROR(CONCATENATE(VLOOKUP(競技者一覧!U327,種目コード一覧!$A$1:$C$51,2,FALSE),\" \",REPT(\"0\",VLOOKUP(競技者一覧!U327,種目コード一覧!$A$1:$C$51,3,FALSE)-LEN(競技者一覧!V327)),競技者一覧!V327),\"\")","v":""},{"$f":"IFERROR(CONCATENATE(VLOOKUP(競技者一覧!W327,種目コード一覧!$A$1:$C$51,2,FALSE),\" \",REPT(\"0\",VLOOKUP(競技者一覧!W327,種目コード一覧!$A$1:$C$51,3,FALSE)-LEN(競技者一覧!X327)),競技者一覧!X327),\"\")","v":""},{"$f":"IFERROR(CONCATENATE(VLOOKUP(競技者一覧!Y327,種目コード一覧!$A$1:$C$51,2,FALSE),\" \",REPT(\"0\",VLOOKUP(競技者一覧!Y327,種目コード一覧!$A$1:$C$51,3,FALSE)-LEN(競技者一覧!Z327)),競技者一覧!Z327),\"\")","v":""}]
[{"$f":"IFERROR(CONCATENATE(競技者一覧!$D$7), \"\")","v":""},{"$f":"IFERROR(CONCATENATE($H$2,Sheet4!B308),\"\")","v":""},{"$f":"競技者一覧!C328&IF(OR(競技者一覧!H328=\"\",競技者一覧!H328=9),\"\",\"(\" & 競技者一覧!H328 & \")\")","v":""},{"$f":"ASC(競技者一覧!D328 &IF(OR(MID(競技者一覧!G328,3,2)=\"\", MID(競技者一覧!G328,3,2)=\"0\"),\"\",\"(\" & MID(競技者一覧!G328,3,2) & \")\"))","v":""},{"$f":"ASC(競技者一覧!E328 & \" \" & 競技者一覧!F328 & IF(OR(MID(競技者一覧!G328,3,2)=\"\", MID(競技者一覧!G328,3,2)=\"0\"),\"\",\"(\" & MID(競技者一覧!G328,3,2) & \")\"))","v":" "},{"$f":"CONCATENATE(競技者一覧!I328)","v":""},{"$f":"IFERROR(IF(競技者一覧!$D$6=\"学連\",VLOOKUP(競技者一覧!J328,Sheet4!$D$2:$E$48,2,FALSE),学校名簿!D308),\"\")","v":0},{"$f":"IFERROR(VLOOKUP(競技者一覧!$D$7,学校番号表!$B$2:$C$65536,2,FALSE),\"\")","v":""},{"$f":"CONCATENATE(競技者一覧!B328)","v":""},{"$f":"IFERROR(CONCATENATE(VLOOKUP(競技者一覧!K328,種目コード一覧!$A$1:$B$51,2,FALSE),\" \",REPT(\"0\",VLOOKUP(競技者一覧!K328,種目コード一覧!$A$1:$C$51,3,FALSE)-LEN(競技者一覧!L328)),競技者一覧!L328),\"\")","v":""},{"$f":"IFERROR(CONCATENATE(VLOOKUP(競技者一覧!M328,種目コード一覧!$A$1:$C$51,2,FALSE),\" \",REPT(\"0\",VLOOKUP(競技者一覧!M328,種目コード一覧!$A$1:$C$51,3,FALSE)-LEN(競技者一覧!N328)),競技者一覧!N328),\"\")","v":""},{"$f":"IFERROR(CONCATENATE(VLOOKUP(競技者一覧!O328,種目コード一覧!$A$1:$C$51,2,FALSE),\" \",REPT(\"0\",VLOOKUP(競技者一覧!O328,種目コード一覧!$A$1:$C$51,3,FALSE)-LEN(競技者一覧!P328)),競技者一覧!P328),\"\")","v":""},{"$f":"IFERROR(CONCATENATE(VLOOKUP(競技者一覧!Q328,種目コード一覧!$A$1:$C$51,2,FALSE),\" \",REPT(\"0\",VLOOKUP(競技者一覧!Q328,種目コード一覧!$A$1:$C$51,3,FALSE)-LEN(競技者一覧!R328)),競技者一覧!R328),\"\")","v":""},{"$f":"IFERROR(CONCATENATE(VLOOKUP(競技者一覧!S328,種目コード一覧!$A$1:$C$51,2,FALSE),\" \",REPT(\"0\",VLOOKUP(競技者一覧!S328,種目コード一覧!$A$1:$C$51,3,FALSE)-LEN(競技者一覧!T328)),競技者一覧!T328),\"\")","v":""},{"$f":"IFERROR(CONCATENATE(VLOOKUP(競技者一覧!U328,種目コード一覧!$A$1:$C$51,2,FALSE),\" \",REPT(\"0\",VLOOKUP(競技者一覧!U328,種目コード一覧!$A$1:$C$51,3,FALSE)-LEN(競技者一覧!V328)),競技者一覧!V328),\"\")","v":""},{"$f":"IFERROR(CONCATENATE(VLOOKUP(競技者一覧!W328,種目コード一覧!$A$1:$C$51,2,FALSE),\" \",REPT(\"0\",VLOOKUP(競技者一覧!W328,種目コード一覧!$A$1:$C$51,3,FALSE)-LEN(競技者一覧!X328)),競技者一覧!X328),\"\")","v":""},{"$f":"IFERROR(CONCATENATE(VLOOKUP(競技者一覧!Y328,種目コード一覧!$A$1:$C$51,2,FALSE),\" \",REPT(\"0\",VLOOKUP(競技者一覧!Y328,種目コード一覧!$A$1:$C$51,3,FALSE)-LEN(競技者一覧!Z328)),競技者一覧!Z328),\"\")","v":""}]
[{"$f":"IFERROR(CONCATENATE(競技者一覧!$D$7), \"\")","v":""},{"$f":"IFERROR(CONCATENATE($H$2,Sheet4!B309),\"\")","v":""},{"$f":"競技者一覧!C329&IF(OR(競技者一覧!H329=\"\",競技者一覧!H329=9),\"\",\"(\" & 競技者一覧!H329 & \")\")","v":""},{"$f":"競技者一覧!D329 &IF(OR(MID(競技者一覧!G329,3,2)=\"\", MID(競技者一覧!G329,3,2)=\"0\"),\"\",\"(\" & MID(競技者一覧!G329,3,2) & \")\")","v":""},{"$f":"ASC(競技者一覧!E329 & \" \" & 競技者一覧!F329 & IF(OR(MID(競技者一覧!G329,3,2)=\"\", MID(競技者一覧!G329,3,2)=\"0\"),\"\",\"(\" & MID(競技者一覧!G329,3,2) & \")\"))","v":" "},{"$f":"CONCATENATE(競技者一覧!I329)","v":""},{"$f":"IFERROR(IF(競技者一覧!$D$6=\"学連\",VLOOKUP(競技者一覧!J329,Sheet4!$D$2:$E$48,2,FALSE),学校名簿!D309),\"\")","v":0},{"$f":"IFERROR(VLOOKUP(競技者一覧!$D$7,学校番号表!$B$2:$C$65536,2,FALSE),\"\")","v":""},{"$f":"CONCATENATE(競技者一覧!B329)","v":""},{"$f":"IFERROR(CONCATENATE(VLOOKUP(競技者一覧!K329,種目コード一覧!$A$1:$C$51,2,FALSE),\" \",REPT(\"0\",VLOOKUP(競技者一覧!K329,種目コード一覧!$A$1:$C$51,3,FALSE)-LEN(競技者一覧!L329)),競技者一覧!L329),\"\")","v":""},{"$f":"IFERROR(CONCATENATE(VLOOKUP(競技者一覧!M329,種目コード一覧!$A$1:$C$51,2,FALSE),\" \",REPT(\"0\",VLOOKUP(競技者一覧!M329,種目コード一覧!$A$1:$C$51,3,FALSE)-LEN(競技者一覧!N329)),競技者一覧!N329),\"\")","v":""},{"$f":"IFERROR(CONCATENATE(VLOOKUP(競技者一覧!O329,種目コード一覧!$A$1:$C$51,2,FALSE),\" \",REPT(\"0\",VLOOKUP(競技者一覧!O329,種目コード一覧!$A$1:$C$51,3,FALSE)-LEN(競技者一覧!P329)),競技者一覧!P329),\"\")","v":""},{"$f":"IFERROR(CONCATENATE(VLOOKUP(競技者一覧!Q329,種目コード一覧!$A$1:$C$51,2,FALSE),\" \",REPT(\"0\",VLOOKUP(競技者一覧!Q329,種目コード一覧!$A$1:$C$51,3,FALSE)-LEN(競技者一覧!R329)),競技者一覧!R329),\"\")","v":""},{"$f":"IFERROR(CONCATENATE(VLOOKUP(競技者一覧!S329,種目コード一覧!$A$1:$C$51,2,FALSE),\" \",REPT(\"0\",VLOOKUP(競技者一覧!S329,種目コード一覧!$A$1:$C$51,3,FALSE)-LEN(競技者一覧!T329)),競技者一覧!T329),\"\")","v":""},{"$f":"IFERROR(CONCATENATE(VLOOKUP(競技者一覧!U329,種目コード一覧!$A$1:$C$51,2,FALSE),\" \",REPT(\"0\",VLOOKUP(競技者一覧!U329,種目コード一覧!$A$1:$C$51,3,FALSE)-LEN(競技者一覧!V329)),競技者一覧!V329),\"\")","v":""},{"$f":"IFERROR(CONCATENATE(VLOOKUP(競技者一覧!W329,種目コード一覧!$A$1:$C$51,2,FALSE),\" \",REPT(\"0\",VLOOKUP(競技者一覧!W329,種目コード一覧!$A$1:$C$51,3,FALSE)-LEN(競技者一覧!X329)),競技者一覧!X329),\"\")","v":""},{"$f":"IFERROR(CONCATENATE(VLOOKUP(競技者一覧!Y329,種目コード一覧!$A$1:$C$51,2,FALSE),\" \",REPT(\"0\",VLOOKUP(競技者一覧!Y329,種目コード一覧!$A$1:$C$51,3,FALSE)-LEN(競技者一覧!Z329)),競技者一覧!Z329),\"\")","v":""}]
[{"$f":"IFERROR(CONCATENATE(競技者一覧!$D$7), \"\")","v":""},{"$f":"IFERROR(CONCATENATE($H$2,Sheet4!B310),\"\")","v":""},{"$f":"競技者一覧!C330&IF(OR(競技者一覧!H330=\"\",競技者一覧!H330=9),\"\",\"(\" & 競技者一覧!H330 & \")\")","v":""},{"$f":"ASC(競技者一覧!D330 &IF(OR(MID(競技者一覧!G330,3,2)=\"\", MID(競技者一覧!G330,3,2)=\"0\"),\"\",\"(\" & MID(競技者一覧!G330,3,2) & \")\"))","v":""},{"$f":"ASC(競技者一覧!E330 & \" \" & 競技者一覧!F330 & IF(OR(MID(競技者一覧!G330,3,2)=\"\", MID(競技者一覧!G330,3,2)=\"0\"),\"\",\"(\" & MID(競技者一覧!G330,3,2) & \")\"))","v":" "},{"$f":"CONCATENATE(競技者一覧!I330)","v":""},{"$f":"IFERROR(IF(競技者一覧!$D$6=\"学連\",VLOOKUP(競技者一覧!J330,Sheet4!$D$2:$E$48,2,FALSE),学校名簿!D310),\"\")","v":0},{"$f":"IFERROR(VLOOKUP(競技者一覧!$D$7,学校番号表!$B$2:$C$65536,2,FALSE),\"\")","v":""},{"$f":"CONCATENATE(競技者一覧!B330)","v":""},{"$f":"IFERROR(CONCATENATE(VLOOKUP(競技者一覧!K330,種目コード一覧!$A$1:$B$51,2,FALSE),\" \",REPT(\"0\",VLOOKUP(競技者一覧!K330,種目コード一覧!$A$1:$C$51,3,FALSE)-LEN(競技者一覧!L330)),競技者一覧!L330),\"\")","v":""},{"$f":"IFERROR(CONCATENATE(VLOOKUP(競技者一覧!M330,種目コード一覧!$A$1:$C$51,2,FALSE),\" \",REPT(\"0\",VLOOKUP(競技者一覧!M330,種目コード一覧!$A$1:$C$51,3,FALSE)-LEN(競技者一覧!N330)),競技者一覧!N330),\"\")","v":""},{"$f":"IFERROR(CONCATENATE(VLOOKUP(競技者一覧!O330,種目コード一覧!$A$1:$C$51,2,FALSE),\" \",REPT(\"0\",VLOOKUP(競技者一覧!O330,種目コード一覧!$A$1:$C$51,3,FALSE)-LEN(競技者一覧!P330)),競技者一覧!P330),\"\")","v":""},{"$f":"IFERROR(CONCATENATE(VLOOKUP(競技者一覧!Q330,種目コード一覧!$A$1:$C$51,2,FALSE),\" \",REPT(\"0\",VLOOKUP(競技者一覧!Q330,種目コード一覧!$A$1:$C$51,3,FALSE)-LEN(競技者一覧!R330)),競技者一覧!R330),\"\")","v":""},{"$f":"IFERROR(CONCATENATE(VLOOKUP(競技者一覧!S330,種目コード一覧!$A$1:$C$51,2,FALSE),\" \",REPT(\"0\",VLOOKUP(競技者一覧!S330,種目コード一覧!$A$1:$C$51,3,FALSE)-LEN(競技者一覧!T330)),競技者一覧!T330),\"\")","v":""},{"$f":"IFERROR(CONCATENATE(VLOOKUP(競技者一覧!U330,種目コード一覧!$A$1:$C$51,2,FALSE),\" \",REPT(\"0\",VLOOKUP(競技者一覧!U330,種目コード一覧!$A$1:$C$51,3,FALSE)-LEN(競技者一覧!V330)),競技者一覧!V330),\"\")","v":""},{"$f":"IFERROR(CONCATENATE(VLOOKUP(競技者一覧!W330,種目コード一覧!$A$1:$C$51,2,FALSE),\" \",REPT(\"0\",VLOOKUP(競技者一覧!W330,種目コード一覧!$A$1:$C$51,3,FALSE)-LEN(競技者一覧!X330)),競技者一覧!X330),\"\")","v":""},{"$f":"IFERROR(CONCATENATE(VLOOKUP(競技者一覧!Y330,種目コード一覧!$A$1:$C$51,2,FALSE),\" \",REPT(\"0\",VLOOKUP(競技者一覧!Y330,種目コード一覧!$A$1:$C$51,3,FALSE)-LEN(競技者一覧!Z330)),競技者一覧!Z330),\"\")","v":""}]
[{"$f":"IFERROR(CONCATENATE(競技者一覧!$D$7), \"\")","v":""},{"$f":"IFERROR(CONCATENATE($H$2,Sheet4!B311),\"\")","v":""},{"$f":"競技者一覧!C331&IF(OR(競技者一覧!H331=\"\",競技者一覧!H331=9),\"\",\"(\" & 競技者一覧!H331 & \")\")","v":""},{"$f":"競技者一覧!D331 &IF(OR(MID(競技者一覧!G331,3,2)=\"\", MID(競技者一覧!G331,3,2)=\"0\"),\"\",\"(\" & MID(競技者一覧!G331,3,2) & \")\")","v":""},{"$f":"ASC(競技者一覧!E331 & \" \" & 競技者一覧!F331 & IF(OR(MID(競技者一覧!G331,3,2)=\"\", MID(競技者一覧!G331,3,2)=\"0\"),\"\",\"(\" & MID(競技者一覧!G331,3,2) & \")\"))","v":" "},{"$f":"CONCATENATE(競技者一覧!I331)","v":""},{"$f":"IFERROR(IF(競技者一覧!$D$6=\"学連\",VLOOKUP(競技者一覧!J331,Sheet4!$D$2:$E$48,2,FALSE),学校名簿!D311),\"\")","v":0},{"$f":"IFERROR(VLOOKUP(競技者一覧!$D$7,学校番号表!$B$2:$C$65536,2,FALSE),\"\")","v":""},{"$f":"CONCATENATE(競技者一覧!B331)","v":""},{"$f":"IFERROR(CONCATENATE(VLOOKUP(競技者一覧!K331,種目コード一覧!$A$1:$C$51,2,FALSE),\" \",REPT(\"0\",VLOOKUP(競技者一覧!K331,種目コード一覧!$A$1:$C$51,3,FALSE)-LEN(競技者一覧!L331)),競技者一覧!L331),\"\")","v":""},{"$f":"IFERROR(CONCATENATE(VLOOKUP(競技者一覧!M331,種目コード一覧!$A$1:$C$51,2,FALSE),\" \",REPT(\"0\",VLOOKUP(競技者一覧!M331,種目コード一覧!$A$1:$C$51,3,FALSE)-LEN(競技者一覧!N331)),競技者一覧!N331),\"\")","v":""},{"$f":"IFERROR(CONCATENATE(VLOOKUP(競技者一覧!O331,種目コード一覧!$A$1:$C$51,2,FALSE),\" \",REPT(\"0\",VLOOKUP(競技者一覧!O331,種目コード一覧!$A$1:$C$51,3,FALSE)-LEN(競技者一覧!P331)),競技者一覧!P331),\"\")","v":""},{"$f":"IFERROR(CONCATENATE(VLOOKUP(競技者一覧!Q331,種目コード一覧!$A$1:$C$51,2,FALSE),\" \",REPT(\"0\",VLOOKUP(競技者一覧!Q331,種目コード一覧!$A$1:$C$51,3,FALSE)-LEN(競技者一覧!R331)),競技者一覧!R331),\"\")","v":""},{"$f":"IFERROR(CONCATENATE(VLOOKUP(競技者一覧!S331,種目コード一覧!$A$1:$C$51,2,FALSE),\" \",REPT(\"0\",VLOOKUP(競技者一覧!S331,種目コード一覧!$A$1:$C$51,3,FALSE)-LEN(競技者一覧!T331)),競技者一覧!T331),\"\")","v":""},{"$f":"IFERROR(CONCATENATE(VLOOKUP(競技者一覧!U331,種目コード一覧!$A$1:$C$51,2,FALSE),\" \",REPT(\"0\",VLOOKUP(競技者一覧!U331,種目コード一覧!$A$1:$C$51,3,FALSE)-LEN(競技者一覧!V331)),競技者一覧!V331),\"\")","v":""},{"$f":"IFERROR(CONCATENATE(VLOOKUP(競技者一覧!W331,種目コード一覧!$A$1:$C$51,2,FALSE),\" \",REPT(\"0\",VLOOKUP(競技者一覧!W331,種目コード一覧!$A$1:$C$51,3,FALSE)-LEN(競技者一覧!X331)),競技者一覧!X331),\"\")","v":""},{"$f":"IFERROR(CONCATENATE(VLOOKUP(競技者一覧!Y331,種目コード一覧!$A$1:$C$51,2,FALSE),\" \",REPT(\"0\",VLOOKUP(競技者一覧!Y331,種目コード一覧!$A$1:$C$51,3,FALSE)-LEN(競技者一覧!Z331)),競技者一覧!Z331),\"\")","v":""}]
[{"$f":"IFERROR(CONCATENATE(競技者一覧!$D$7), \"\")","v":""},{"$f":"IFERROR(CONCATENATE($H$2,Sheet4!B312),\"\")","v":""},{"$f":"競技者一覧!C332&IF(OR(競技者一覧!H332=\"\",競技者一覧!H332=9),\"\",\"(\" & 競技者一覧!H332 & \")\")","v":""},{"$f":"ASC(競技者一覧!D332 &IF(OR(MID(競技者一覧!G332,3,2)=\"\", MID(競技者一覧!G332,3,2)=\"0\"),\"\",\"(\" & MID(競技者一覧!G332,3,2) & \")\"))","v":""},{"$f":"ASC(競技者一覧!E332 & \" \" & 競技者一覧!F332 & IF(OR(MID(競技者一覧!G332,3,2)=\"\", MID(競技者一覧!G332,3,2)=\"0\"),\"\",\"(\" & MID(競技者一覧!G332,3,2) & \")\"))","v":" "},{"$f":"CONCATENATE(競技者一覧!I332)","v":""},{"$f":"IFERROR(IF(競技者一覧!$D$6=\"学連\",VLOOKUP(競技者一覧!J332,Sheet4!$D$2:$E$48,2,FALSE),学校名簿!D312),\"\")","v":0},{"$f":"IFERROR(VLOOKUP(競技者一覧!$D$7,学校番号表!$B$2:$C$65536,2,FALSE),\"\")","v":""},{"$f":"CONCATENATE(競技者一覧!B332)","v":""},{"$f":"IFERROR(CONCATENATE(VLOOKUP(競技者一覧!K332,種目コード一覧!$A$1:$B$51,2,FALSE),\" \",REPT(\"0\",VLOOKUP(競技者一覧!K332,種目コード一覧!$A$1:$C$51,3,FALSE)-LEN(競技者一覧!L332)),競技者一覧!L332),\"\")","v":""},{"$f":"IFERROR(CONCATENATE(VLOOKUP(競技者一覧!M332,種目コード一覧!$A$1:$C$51,2,FALSE),\" \",REPT(\"0\",VLOOKUP(競技者一覧!M332,種目コード一覧!$A$1:$C$51,3,FALSE)-LEN(競技者一覧!N332)),競技者一覧!N332),\"\")","v":""},{"$f":"IFERROR(CONCATENATE(VLOOKUP(競技者一覧!O332,種目コード一覧!$A$1:$C$51,2,FALSE),\" \",REPT(\"0\",VLOOKUP(競技者一覧!O332,種目コード一覧!$A$1:$C$51,3,FALSE)-LEN(競技者一覧!P332)),競技者一覧!P332),\"\")","v":""},{"$f":"IFERROR(CONCATENATE(VLOOKUP(競技者一覧!Q332,種目コード一覧!$A$1:$C$51,2,FALSE),\" \",REPT(\"0\",VLOOKUP(競技者一覧!Q332,種目コード一覧!$A$1:$C$51,3,FALSE)-LEN(競技者一覧!R332)),競技者一覧!R332),\"\")","v":""},{"$f":"IFERROR(CONCATENATE(VLOOKUP(競技者一覧!S332,種目コード一覧!$A$1:$C$51,2,FALSE),\" \",REPT(\"0\",VLOOKUP(競技者一覧!S332,種目コード一覧!$A$1:$C$51,3,FALSE)-LEN(競技者一覧!T332)),競技者一覧!T332),\"\")","v":""},{"$f":"IFERROR(CONCATENATE(VLOOKUP(競技者一覧!U332,種目コード一覧!$A$1:$C$51,2,FALSE),\" \",REPT(\"0\",VLOOKUP(競技者一覧!U332,種目コード一覧!$A$1:$C$51,3,FALSE)-LEN(競技者一覧!V332)),競技者一覧!V332),\"\")","v":""},{"$f":"IFERROR(CONCATENATE(VLOOKUP(競技者一覧!W332,種目コード一覧!$A$1:$C$51,2,FALSE),\" \",REPT(\"0\",VLOOKUP(競技者一覧!W332,種目コード一覧!$A$1:$C$51,3,FALSE)-LEN(競技者一覧!X332)),競技者一覧!X332),\"\")","v":""},{"$f":"IFERROR(CONCATENATE(VLOOKUP(競技者一覧!Y332,種目コード一覧!$A$1:$C$51,2,FALSE),\" \",REPT(\"0\",VLOOKUP(競技者一覧!Y332,種目コード一覧!$A$1:$C$51,3,FALSE)-LEN(競技者一覧!Z332)),競技者一覧!Z332),\"\")","v":""}]
[{"$f":"IFERROR(CONCATENATE(競技者一覧!$D$7), \"\")","v":""},{"$f":"IFERROR(CONCATENATE($H$2,Sheet4!B313),\"\")","v":""},{"$f":"競技者一覧!C333&IF(OR(競技者一覧!H333=\"\",競技者一覧!H333=9),\"\",\"(\" & 競技者一覧!H333 & \")\")","v":""},{"$f":"競技者一覧!D333 &IF(OR(MID(競技者一覧!G333,3,2)=\"\", MID(競技者一覧!G333,3,2)=\"0\"),\"\",\"(\" & MID(競技者一覧!G333,3,2) & \")\")","v":""},{"$f":"ASC(競技者一覧!E333 & \" \" & 競技者一覧!F333 & IF(OR(MID(競技者一覧!G333,3,2)=\"\", MID(競技者一覧!G333,3,2)=\"0\"),\"\",\"(\" & MID(競技者一覧!G333,3,2) & \")\"))","v":" "},{"$f":"CONCATENATE(競技者一覧!I333)","v":""},{"$f":"IFERROR(IF(競技者一覧!$D$6=\"学連\",VLOOKUP(競技者一覧!J333,Sheet4!$D$2:$E$48,2,FALSE),学校名簿!D313),\"\")","v":0},{"$f":"IFERROR(VLOOKUP(競技者一覧!$D$7,学校番号表!$B$2:$C$65536,2,FALSE),\"\")","v":""},{"$f":"CONCATENATE(競技者一覧!B333)","v":""},{"$f":"IFERROR(CONCATENATE(VLOOKUP(競技者一覧!K333,種目コード一覧!$A$1:$C$51,2,FALSE),\" \",REPT(\"0\",VLOOKUP(競技者一覧!K333,種目コード一覧!$A$1:$C$51,3,FALSE)-LEN(競技者一覧!L333)),競技者一覧!L333),\"\")","v":""},{"$f":"IFERROR(CONCATENATE(VLOOKUP(競技者一覧!M333,種目コード一覧!$A$1:$C$51,2,FALSE),\" \",REPT(\"0\",VLOOKUP(競技者一覧!M333,種目コード一覧!$A$1:$C$51,3,FALSE)-LEN(競技者一覧!N333)),競技者一覧!N333),\"\")","v":""},{"$f":"IFERROR(CONCATENATE(VLOOKUP(競技者一覧!O333,種目コード一覧!$A$1:$C$51,2,FALSE),\" \",REPT(\"0\",VLOOKUP(競技者一覧!O333,種目コード一覧!$A$1:$C$51,3,FALSE)-LEN(競技者一覧!P333)),競技者一覧!P333),\"\")","v":""},{"$f":"IFERROR(CONCATENATE(VLOOKUP(競技者一覧!Q333,種目コード一覧!$A$1:$C$51,2,FALSE),\" \",REPT(\"0\",VLOOKUP(競技者一覧!Q333,種目コード一覧!$A$1:$C$51,3,FALSE)-LEN(競技者一覧!R333)),競技者一覧!R333),\"\")","v":""},{"$f":"IFERROR(CONCATENATE(VLOOKUP(競技者一覧!S333,種目コード一覧!$A$1:$C$51,2,FALSE),\" \",REPT(\"0\",VLOOKUP(競技者一覧!S333,種目コード一覧!$A$1:$C$51,3,FALSE)-LEN(競技者一覧!T333)),競技者一覧!T333),\"\")","v":""},{"$f":"IFERROR(CONCATENATE(VLOOKUP(競技者一覧!U333,種目コード一覧!$A$1:$C$51,2,FALSE),\" \",REPT(\"0\",VLOOKUP(競技者一覧!U333,種目コード一覧!$A$1:$C$51,3,FALSE)-LEN(競技者一覧!V333)),競技者一覧!V333),\"\")","v":""},{"$f":"IFERROR(CONCATENATE(VLOOKUP(競技者一覧!W333,種目コード一覧!$A$1:$C$51,2,FALSE),\" \",REPT(\"0\",VLOOKUP(競技者一覧!W333,種目コード一覧!$A$1:$C$51,3,FALSE)-LEN(競技者一覧!X333)),競技者一覧!X333),\"\")","v":""},{"$f":"IFERROR(CONCATENATE(VLOOKUP(競技者一覧!Y333,種目コード一覧!$A$1:$C$51,2,FALSE),\" \",REPT(\"0\",VLOOKUP(競技者一覧!Y333,種目コード一覧!$A$1:$C$51,3,FALSE)-LEN(競技者一覧!Z333)),競技者一覧!Z333),\"\")","v":""}]
[{"$f":"IFERROR(CONCATENATE(競技者一覧!$D$7), \"\")","v":""},{"$f":"IFERROR(CONCATENATE($H$2,Sheet4!B314),\"\")","v":""},{"$f":"競技者一覧!C334&IF(OR(競技者一覧!H334=\"\",競技者一覧!H334=9),\"\",\"(\" & 競技者一覧!H334 & \")\")","v":""},{"$f":"ASC(競技者一覧!D334 &IF(OR(MID(競技者一覧!G334,3,2)=\"\", MID(競技者一覧!G334,3,2)=\"0\"),\"\",\"(\" & MID(競技者一覧!G334,3,2) & \")\"))","v":""},{"$f":"ASC(競技者一覧!E334 & \" \" & 競技者一覧!F334 & IF(OR(MID(競技者一覧!G334,3,2)=\"\", MID(競技者一覧!G334,3,2)=\"0\"),\"\",\"(\" & MID(競技者一覧!G334,3,2) & \")\"))","v":" "},{"$f":"CONCATENATE(競技者一覧!I334)","v":""},{"$f":"IFERROR(IF(競技者一覧!$D$6=\"学連\",VLOOKUP(競技者一覧!J334,Sheet4!$D$2:$E$48,2,FALSE),学校名簿!D314),\"\")","v":0},{"$f":"IFERROR(VLOOKUP(競技者一覧!$D$7,学校番号表!$B$2:$C$65536,2,FALSE),\"\")","v":""},{"$f":"CONCATENATE(競技者一覧!B334)","v":""},{"$f":"IFERROR(CONCATENATE(VLOOKUP(競技者一覧!K334,種目コード一覧!$A$1:$B$51,2,FALSE),\" \",REPT(\"0\",VLOOKUP(競技者一覧!K334,種目コード一覧!$A$1:$C$51,3,FALSE)-LEN(競技者一覧!L334)),競技者一覧!L334),\"\")","v":""},{"$f":"IFERROR(CONCATENATE(VLOOKUP(競技者一覧!M334,種目コード一覧!$A$1:$C$51,2,FALSE),\" \",REPT(\"0\",VLOOKUP(競技者一覧!M334,種目コード一覧!$A$1:$C$51,3,FALSE)-LEN(競技者一覧!N334)),競技者一覧!N334),\"\")","v":""},{"$f":"IFERROR(CONCATENATE(VLOOKUP(競技者一覧!O334,種目コード一覧!$A$1:$C$51,2,FALSE),\" \",REPT(\"0\",VLOOKUP(競技者一覧!O334,種目コード一覧!$A$1:$C$51,3,FALSE)-LEN(競技者一覧!P334)),競技者一覧!P334),\"\")","v":""},{"$f":"IFERROR(CONCATENATE(VLOOKUP(競技者一覧!Q334,種目コード一覧!$A$1:$C$51,2,FALSE),\" \",REPT(\"0\",VLOOKUP(競技者一覧!Q334,種目コード一覧!$A$1:$C$51,3,FALSE)-LEN(競技者一覧!R334)),競技者一覧!R334),\"\")","v":""},{"$f":"IFERROR(CONCATENATE(VLOOKUP(競技者一覧!S334,種目コード一覧!$A$1:$C$51,2,FALSE),\" \",REPT(\"0\",VLOOKUP(競技者一覧!S334,種目コード一覧!$A$1:$C$51,3,FALSE)-LEN(競技者一覧!T334)),競技者一覧!T334),\"\")","v":""},{"$f":"IFERROR(CONCATENATE(VLOOKUP(競技者一覧!U334,種目コード一覧!$A$1:$C$51,2,FALSE),\" \",REPT(\"0\",VLOOKUP(競技者一覧!U334,種目コード一覧!$A$1:$C$51,3,FALSE)-LEN(競技者一覧!V334)),競技者一覧!V334),\"\")","v":""},{"$f":"IFERROR(CONCATENATE(VLOOKUP(競技者一覧!W334,種目コード一覧!$A$1:$C$51,2,FALSE),\" \",REPT(\"0\",VLOOKUP(競技者一覧!W334,種目コード一覧!$A$1:$C$51,3,FALSE)-LEN(競技者一覧!X334)),競技者一覧!X334),\"\")","v":""},{"$f":"IFERROR(CONCATENATE(VLOOKUP(競技者一覧!Y334,種目コード一覧!$A$1:$C$51,2,FALSE),\" \",REPT(\"0\",VLOOKUP(競技者一覧!Y334,種目コード一覧!$A$1:$C$51,3,FALSE)-LEN(競技者一覧!Z334)),競技者一覧!Z334),\"\")","v":""}]
[{"$f":"IFERROR(CONCATENATE(競技者一覧!$D$7), \"\")","v":""},{"$f":"IFERROR(CONCATENATE($H$2,Sheet4!B315),\"\")","v":""},{"$f":"競技者一覧!C335&IF(OR(競技者一覧!H335=\"\",競技者一覧!H335=9),\"\",\"(\" & 競技者一覧!H335 & \")\")","v":""},{"$f":"競技者一覧!D335 &IF(OR(MID(競技者一覧!G335,3,2)=\"\", MID(競技者一覧!G335,3,2)=\"0\"),\"\",\"(\" & MID(競技者一覧!G335,3,2) & \")\")","v":""},{"$f":"ASC(競技者一覧!E335 & \" \" & 競技者一覧!F335 & IF(OR(MID(競技者一覧!G335,3,2)=\"\", MID(競技者一覧!G335,3,2)=\"0\"),\"\",\"(\" & MID(競技者一覧!G335,3,2) & \")\"))","v":" "},{"$f":"CONCATENATE(競技者一覧!I335)","v":""},{"$f":"IFERROR(IF(競技者一覧!$D$6=\"学連\",VLOOKUP(競技者一覧!J335,Sheet4!$D$2:$E$48,2,FALSE),学校名簿!D315),\"\")","v":0},{"$f":"IFERROR(VLOOKUP(競技者一覧!$D$7,学校番号表!$B$2:$C$65536,2,FALSE),\"\")","v":""},{"$f":"CONCATENATE(競技者一覧!B335)","v":""},{"$f":"IFERROR(CONCATENATE(VLOOKUP(競技者一覧!K335,種目コード一覧!$A$1:$C$51,2,FALSE),\" \",REPT(\"0\",VLOOKUP(競技者一覧!K335,種目コード一覧!$A$1:$C$51,3,FALSE)-LEN(競技者一覧!L335)),競技者一覧!L335),\"\")","v":""},{"$f":"IFERROR(CONCATENATE(VLOOKUP(競技者一覧!M335,種目コード一覧!$A$1:$C$51,2,FALSE),\" \",REPT(\"0\",VLOOKUP(競技者一覧!M335,種目コード一覧!$A$1:$C$51,3,FALSE)-LEN(競技者一覧!N335)),競技者一覧!N335),\"\")","v":""},{"$f":"IFERROR(CONCATENATE(VLOOKUP(競技者一覧!O335,種目コード一覧!$A$1:$C$51,2,FALSE),\" \",REPT(\"0\",VLOOKUP(競技者一覧!O335,種目コード一覧!$A$1:$C$51,3,FALSE)-LEN(競技者一覧!P335)),競技者一覧!P335),\"\")","v":""},{"$f":"IFERROR(CONCATENATE(VLOOKUP(競技者一覧!Q335,種目コード一覧!$A$1:$C$51,2,FALSE),\" \",REPT(\"0\",VLOOKUP(競技者一覧!Q335,種目コード一覧!$A$1:$C$51,3,FALSE)-LEN(競技者一覧!R335)),競技者一覧!R335),\"\")","v":""},{"$f":"IFERROR(CONCATENATE(VLOOKUP(競技者一覧!S335,種目コード一覧!$A$1:$C$51,2,FALSE),\" \",REPT(\"0\",VLOOKUP(競技者一覧!S335,種目コード一覧!$A$1:$C$51,3,FALSE)-LEN(競技者一覧!T335)),競技者一覧!T335),\"\")","v":""},{"$f":"IFERROR(CONCATENATE(VLOOKUP(競技者一覧!U335,種目コード一覧!$A$1:$C$51,2,FALSE),\" \",REPT(\"0\",VLOOKUP(競技者一覧!U335,種目コード一覧!$A$1:$C$51,3,FALSE)-LEN(競技者一覧!V335)),競技者一覧!V335),\"\")","v":""},{"$f":"IFERROR(CONCATENATE(VLOOKUP(競技者一覧!W335,種目コード一覧!$A$1:$C$51,2,FALSE),\" \",REPT(\"0\",VLOOKUP(競技者一覧!W335,種目コード一覧!$A$1:$C$51,3,FALSE)-LEN(競技者一覧!X335)),競技者一覧!X335),\"\")","v":""},{"$f":"IFERROR(CONCATENATE(VLOOKUP(競技者一覧!Y335,種目コード一覧!$A$1:$C$51,2,FALSE),\" \",REPT(\"0\",VLOOKUP(競技者一覧!Y335,種目コード一覧!$A$1:$C$51,3,FALSE)-LEN(競技者一覧!Z335)),競技者一覧!Z335),\"\")","v":""}]
[{"$f":"IFERROR(CONCATENATE(競技者一覧!$D$7), \"\")","v":""},{"$f":"IFERROR(CONCATENATE($H$2,Sheet4!B316),\"\")","v":""},{"$f":"競技者一覧!C336&IF(OR(競技者一覧!H336=\"\",競技者一覧!H336=9),\"\",\"(\" & 競技者一覧!H336 & \")\")","v":""},{"$f":"ASC(競技者一覧!D336 &IF(OR(MID(競技者一覧!G336,3,2)=\"\", MID(競技者一覧!G336,3,2)=\"0\"),\"\",\"(\" & MID(競技者一覧!G336,3,2) & \")\"))","v":""},{"$f":"ASC(競技者一覧!E336 & \" \" & 競技者一覧!F336 & IF(OR(MID(競技者一覧!G336,3,2)=\"\", MID(競技者一覧!G336,3,2)=\"0\"),\"\",\"(\" & MID(競技者一覧!G336,3,2) & \")\"))","v":" "},{"$f":"CONCATENATE(競技者一覧!I336)","v":""},{"$f":"IFERROR(IF(競技者一覧!$D$6=\"学連\",VLOOKUP(競技者一覧!J336,Sheet4!$D$2:$E$48,2,FALSE),学校名簿!D316),\"\")","v":0},{"$f":"IFERROR(VLOOKUP(競技者一覧!$D$7,学校番号表!$B$2:$C$65536,2,FALSE),\"\")","v":""},{"$f":"CONCATENATE(競技者一覧!B336)","v":""},{"$f":"IFERROR(CONCATENATE(VLOOKUP(競技者一覧!K336,種目コード一覧!$A$1:$B$51,2,FALSE),\" \",REPT(\"0\",VLOOKUP(競技者一覧!K336,種目コード一覧!$A$1:$C$51,3,FALSE)-LEN(競技者一覧!L336)),競技者一覧!L336),\"\")","v":""},{"$f":"IFERROR(CONCATENATE(VLOOKUP(競技者一覧!M336,種目コード一覧!$A$1:$C$51,2,FALSE),\" \",REPT(\"0\",VLOOKUP(競技者一覧!M336,種目コード一覧!$A$1:$C$51,3,FALSE)-LEN(競技者一覧!N336)),競技者一覧!N336),\"\")","v":""},{"$f":"IFERROR(CONCATENATE(VLOOKUP(競技者一覧!O336,種目コード一覧!$A$1:$C$51,2,FALSE),\" \",REPT(\"0\",VLOOKUP(競技者一覧!O336,種目コード一覧!$A$1:$C$51,3,FALSE)-LEN(競技者一覧!P336)),競技者一覧!P336),\"\")","v":""},{"$f":"IFERROR(CONCATENATE(VLOOKUP(競技者一覧!Q336,種目コード一覧!$A$1:$C$51,2,FALSE),\" \",REPT(\"0\",VLOOKUP(競技者一覧!Q336,種目コード一覧!$A$1:$C$51,3,FALSE)-LEN(競技者一覧!R336)),競技者一覧!R336),\"\")","v":""},{"$f":"IFERROR(CONCATENATE(VLOOKUP(競技者一覧!S336,種目コード一覧!$A$1:$C$51,2,FALSE),\" \",REPT(\"0\",VLOOKUP(競技者一覧!S336,種目コード一覧!$A$1:$C$51,3,FALSE)-LEN(競技者一覧!T336)),競技者一覧!T336),\"\")","v":""},{"$f":"IFERROR(CONCATENATE(VLOOKUP(競技者一覧!U336,種目コード一覧!$A$1:$C$51,2,FALSE),\" \",REPT(\"0\",VLOOKUP(競技者一覧!U336,種目コード一覧!$A$1:$C$51,3,FALSE)-LEN(競技者一覧!V336)),競技者一覧!V336),\"\")","v":""},{"$f":"IFERROR(CONCATENATE(VLOOKUP(競技者一覧!W336,種目コード一覧!$A$1:$C$51,2,FALSE),\" \",REPT(\"0\",VLOOKUP(競技者一覧!W336,種目コード一覧!$A$1:$C$51,3,FALSE)-LEN(競技者一覧!X336)),競技者一覧!X336),\"\")","v":""},{"$f":"IFERROR(CONCATENATE(VLOOKUP(競技者一覧!Y336,種目コード一覧!$A$1:$C$51,2,FALSE),\" \",REPT(\"0\",VLOOKUP(競技者一覧!Y336,種目コード一覧!$A$1:$C$51,3,FALSE)-LEN(競技者一覧!Z336)),競技者一覧!Z336),\"\")","v":""}]
[{"$f":"IFERROR(CONCATENATE(競技者一覧!$D$7), \"\")","v":""},{"$f":"IFERROR(CONCATENATE($H$2,Sheet4!B317),\"\")","v":""},{"$f":"競技者一覧!C337&IF(OR(競技者一覧!H337=\"\",競技者一覧!H337=9),\"\",\"(\" & 競技者一覧!H337 & \")\")","v":""},{"$f":"競技者一覧!D337 &IF(OR(MID(競技者一覧!G337,3,2)=\"\", MID(競技者一覧!G337,3,2)=\"0\"),\"\",\"(\" & MID(競技者一覧!G337,3,2) & \")\")","v":""},{"$f":"ASC(競技者一覧!E337 & \" \" & 競技者一覧!F337 & IF(OR(MID(競技者一覧!G337,3,2)=\"\", MID(競技者一覧!G337,3,2)=\"0\"),\"\",\"(\" & MID(競技者一覧!G337,3,2) & \")\"))","v":" "},{"$f":"CONCATENATE(競技者一覧!I337)","v":""},{"$f":"IFERROR(IF(競技者一覧!$D$6=\"学連\",VLOOKUP(競技者一覧!J337,Sheet4!$D$2:$E$48,2,FALSE),学校名簿!D317),\"\")","v":0},{"$f":"IFERROR(VLOOKUP(競技者一覧!$D$7,学校番号表!$B$2:$C$65536,2,FALSE),\"\")","v":""},{"$f":"CONCATENATE(競技者一覧!B337)","v":""},{"$f":"IFERROR(CONCATENATE(VLOOKUP(競技者一覧!K337,種目コード一覧!$A$1:$C$51,2,FALSE),\" \",REPT(\"0\",VLOOKUP(競技者一覧!K337,種目コード一覧!$A$1:$C$51,3,FALSE)-LEN(競技者一覧!L337)),競技者一覧!L337),\"\")","v":""},{"$f":"IFERROR(CONCATENATE(VLOOKUP(競技者一覧!M337,種目コード一覧!$A$1:$C$51,2,FALSE),\" \",REPT(\"0\",VLOOKUP(競技者一覧!M337,種目コード一覧!$A$1:$C$51,3,FALSE)-LEN(競技者一覧!N337)),競技者一覧!N337),\"\")","v":""},{"$f":"IFERROR(CONCATENATE(VLOOKUP(競技者一覧!O337,種目コード一覧!$A$1:$C$51,2,FALSE),\" \",REPT(\"0\",VLOOKUP(競技者一覧!O337,種目コード一覧!$A$1:$C$51,3,FALSE)-LEN(競技者一覧!P337)),競技者一覧!P337),\"\")","v":""},{"$f":"IFERROR(CONCATENATE(VLOOKUP(競技者一覧!Q337,種目コード一覧!$A$1:$C$51,2,FALSE),\" \",REPT(\"0\",VLOOKUP(競技者一覧!Q337,種目コード一覧!$A$1:$C$51,3,FALSE)-LEN(競技者一覧!R337)),競技者一覧!R337),\"\")","v":""},{"$f":"IFERROR(CONCATENATE(VLOOKUP(競技者一覧!S337,種目コード一覧!$A$1:$C$51,2,FALSE),\" \",REPT(\"0\",VLOOKUP(競技者一覧!S337,種目コード一覧!$A$1:$C$51,3,FALSE)-LEN(競技者一覧!T337)),競技者一覧!T337),\"\")","v":""},{"$f":"IFERROR(CONCATENATE(VLOOKUP(競技者一覧!U337,種目コード一覧!$A$1:$C$51,2,FALSE),\" \",REPT(\"0\",VLOOKUP(競技者一覧!U337,種目コード一覧!$A$1:$C$51,3,FALSE)-LEN(競技者一覧!V337)),競技者一覧!V337),\"\")","v":""},{"$f":"IFERROR(CONCATENATE(VLOOKUP(競技者一覧!W337,種目コード一覧!$A$1:$C$51,2,FALSE),\" \",REPT(\"0\",VLOOKUP(競技者一覧!W337,種目コード一覧!$A$1:$C$51,3,FALSE)-LEN(競技者一覧!X337)),競技者一覧!X337),\"\")","v":""},{"$f":"IFERROR(CONCATENATE(VLOOKUP(競技者一覧!Y337,種目コード一覧!$A$1:$C$51,2,FALSE),\" \",REPT(\"0\",VLOOKUP(競技者一覧!Y337,種目コード一覧!$A$1:$C$51,3,FALSE)-LEN(競技者一覧!Z337)),競技者一覧!Z337),\"\")","v":""}]
[{"$f":"IFERROR(CONCATENATE(競技者一覧!$D$7), \"\")","v":""},{"$f":"IFERROR(CONCATENATE($H$2,Sheet4!B318),\"\")","v":""},{"$f":"競技者一覧!C338&IF(OR(競技者一覧!H338=\"\",競技者一覧!H338=9),\"\",\"(\" & 競技者一覧!H338 & \")\")","v":""},{"$f":"ASC(競技者一覧!D338 &IF(OR(MID(競技者一覧!G338,3,2)=\"\", MID(競技者一覧!G338,3,2)=\"0\"),\"\",\"(\" & MID(競技者一覧!G338,3,2) & \")\"))","v":""},{"$f":"ASC(競技者一覧!E338 & \" \" & 競技者一覧!F338 & IF(OR(MID(競技者一覧!G338,3,2)=\"\", MID(競技者一覧!G338,3,2)=\"0\"),\"\",\"(\" & MID(競技者一覧!G338,3,2) & \")\"))","v":" "},{"$f":"CONCATENATE(競技者一覧!I338)","v":""},{"$f":"IFERROR(IF(競技者一覧!$D$6=\"学連\",VLOOKUP(競技者一覧!J338,Sheet4!$D$2:$E$48,2,FALSE),学校名簿!D318),\"\")","v":0},{"$f":"IFERROR(VLOOKUP(競技者一覧!$D$7,学校番号表!$B$2:$C$65536,2,FALSE),\"\")","v":""},{"$f":"CONCATENATE(競技者一覧!B338)","v":""},{"$f":"IFERROR(CONCATENATE(VLOOKUP(競技者一覧!K338,種目コード一覧!$A$1:$B$51,2,FALSE),\" \",REPT(\"0\",VLOOKUP(競技者一覧!K338,種目コード一覧!$A$1:$C$51,3,FALSE)-LEN(競技者一覧!L338)),競技者一覧!L338),\"\")","v":""},{"$f":"IFERROR(CONCATENATE(VLOOKUP(競技者一覧!M338,種目コード一覧!$A$1:$C$51,2,FALSE),\" \",REPT(\"0\",VLOOKUP(競技者一覧!M338,種目コード一覧!$A$1:$C$51,3,FALSE)-LEN(競技者一覧!N338)),競技者一覧!N338),\"\")","v":""},{"$f":"IFERROR(CONCATENATE(VLOOKUP(競技者一覧!O338,種目コード一覧!$A$1:$C$51,2,FALSE),\" \",REPT(\"0\",VLOOKUP(競技者一覧!O338,種目コード一覧!$A$1:$C$51,3,FALSE)-LEN(競技者一覧!P338)),競技者一覧!P338),\"\")","v":""},{"$f":"IFERROR(CONCATENATE(VLOOKUP(競技者一覧!Q338,種目コード一覧!$A$1:$C$51,2,FALSE),\" \",REPT(\"0\",VLOOKUP(競技者一覧!Q338,種目コード一覧!$A$1:$C$51,3,FALSE)-LEN(競技者一覧!R338)),競技者一覧!R338),\"\")","v":""},{"$f":"IFERROR(CONCATENATE(VLOOKUP(競技者一覧!S338,種目コード一覧!$A$1:$C$51,2,FALSE),\" \",REPT(\"0\",VLOOKUP(競技者一覧!S338,種目コード一覧!$A$1:$C$51,3,FALSE)-LEN(競技者一覧!T338)),競技者一覧!T338),\"\")","v":""},{"$f":"IFERROR(CONCATENATE(VLOOKUP(競技者一覧!U338,種目コード一覧!$A$1:$C$51,2,FALSE),\" \",REPT(\"0\",VLOOKUP(競技者一覧!U338,種目コード一覧!$A$1:$C$51,3,FALSE)-LEN(競技者一覧!V338)),競技者一覧!V338),\"\")","v":""},{"$f":"IFERROR(CONCATENATE(VLOOKUP(競技者一覧!W338,種目コード一覧!$A$1:$C$51,2,FALSE),\" \",REPT(\"0\",VLOOKUP(競技者一覧!W338,種目コード一覧!$A$1:$C$51,3,FALSE)-LEN(競技者一覧!X338)),競技者一覧!X338),\"\")","v":""},{"$f":"IFERROR(CONCATENATE(VLOOKUP(競技者一覧!Y338,種目コード一覧!$A$1:$C$51,2,FALSE),\" \",REPT(\"0\",VLOOKUP(競技者一覧!Y338,種目コード一覧!$A$1:$C$51,3,FALSE)-LEN(競技者一覧!Z338)),競技者一覧!Z338),\"\")","v":""}]
[{"$f":"IFERROR(CONCATENATE(競技者一覧!$D$7), \"\")","v":""},{"$f":"IFERROR(CONCATENATE($H$2,Sheet4!B319),\"\")","v":""},{"$f":"競技者一覧!C339&IF(OR(競技者一覧!H339=\"\",競技者一覧!H339=9),\"\",\"(\" & 競技者一覧!H339 & \")\")","v":""},{"$f":"競技者一覧!D339 &IF(OR(MID(競技者一覧!G339,3,2)=\"\", MID(競技者一覧!G339,3,2)=\"0\"),\"\",\"(\" & MID(競技者一覧!G339,3,2) & \")\")","v":""},{"$f":"ASC(競技者一覧!E339 & \" \" & 競技者一覧!F339 & IF(OR(MID(競技者一覧!G339,3,2)=\"\", MID(競技者一覧!G339,3,2)=\"0\"),\"\",\"(\" & MID(競技者一覧!G339,3,2) & \")\"))","v":" "},{"$f":"CONCATENATE(競技者一覧!I339)","v":""},{"$f":"IFERROR(IF(競技者一覧!$D$6=\"学連\",VLOOKUP(競技者一覧!J339,Sheet4!$D$2:$E$48,2,FALSE),学校名簿!D319),\"\")","v":0},{"$f":"IFERROR(VLOOKUP(競技者一覧!$D$7,学校番号表!$B$2:$C$65536,2,FALSE),\"\")","v":""},{"$f":"CONCATENATE(競技者一覧!B339)","v":""},{"$f":"IFERROR(CONCATENATE(VLOOKUP(競技者一覧!K339,種目コード一覧!$A$1:$C$51,2,FALSE),\" \",REPT(\"0\",VLOOKUP(競技者一覧!K339,種目コード一覧!$A$1:$C$51,3,FALSE)-LEN(競技者一覧!L339)),競技者一覧!L339),\"\")","v":""},{"$f":"IFERROR(CONCATENATE(VLOOKUP(競技者一覧!M339,種目コード一覧!$A$1:$C$51,2,FALSE),\" \",REPT(\"0\",VLOOKUP(競技者一覧!M339,種目コード一覧!$A$1:$C$51,3,FALSE)-LEN(競技者一覧!N339)),競技者一覧!N339),\"\")","v":""},{"$f":"IFERROR(CONCATENATE(VLOOKUP(競技者一覧!O339,種目コード一覧!$A$1:$C$51,2,FALSE),\" \",REPT(\"0\",VLOOKUP(競技者一覧!O339,種目コード一覧!$A$1:$C$51,3,FALSE)-LEN(競技者一覧!P339)),競技者一覧!P339),\"\")","v":""},{"$f":"IFERROR(CONCATENATE(VLOOKUP(競技者一覧!Q339,種目コード一覧!$A$1:$C$51,2,FALSE),\" \",REPT(\"0\",VLOOKUP(競技者一覧!Q339,種目コード一覧!$A$1:$C$51,3,FALSE)-LEN(競技者一覧!R339)),競技者一覧!R339),\"\")","v":""},{"$f":"IFERROR(CONCATENATE(VLOOKUP(競技者一覧!S339,種目コード一覧!$A$1:$C$51,2,FALSE),\" \",REPT(\"0\",VLOOKUP(競技者一覧!S339,種目コード一覧!$A$1:$C$51,3,FALSE)-LEN(競技者一覧!T339)),競技者一覧!T339),\"\")","v":""},{"$f":"IFERROR(CONCATENATE(VLOOKUP(競技者一覧!U339,種目コード一覧!$A$1:$C$51,2,FALSE),\" \",REPT(\"0\",VLOOKUP(競技者一覧!U339,種目コード一覧!$A$1:$C$51,3,FALSE)-LEN(競技者一覧!V339)),競技者一覧!V339),\"\")","v":""},{"$f":"IFERROR(CONCATENATE(VLOOKUP(競技者一覧!W339,種目コード一覧!$A$1:$C$51,2,FALSE),\" \",REPT(\"0\",VLOOKUP(競技者一覧!W339,種目コード一覧!$A$1:$C$51,3,FALSE)-LEN(競技者一覧!X339)),競技者一覧!X339),\"\")","v":""},{"$f":"IFERROR(CONCATENATE(VLOOKUP(競技者一覧!Y339,種目コード一覧!$A$1:$C$51,2,FALSE),\" \",REPT(\"0\",VLOOKUP(競技者一覧!Y339,種目コード一覧!$A$1:$C$51,3,FALSE)-LEN(競技者一覧!Z339)),競技者一覧!Z339),\"\")","v":""}]
[{"$f":"IFERROR(CONCATENATE(競技者一覧!$D$7), \"\")","v":""},{"$f":"IFERROR(CONCATENATE($H$2,Sheet4!B320),\"\")","v":""},{"$f":"競技者一覧!C340&IF(OR(競技者一覧!H340=\"\",競技者一覧!H340=9),\"\",\"(\" & 競技者一覧!H340 & \")\")","v":""},{"$f":"ASC(競技者一覧!D340 &IF(OR(MID(競技者一覧!G340,3,2)=\"\", MID(競技者一覧!G340,3,2)=\"0\"),\"\",\"(\" & MID(競技者一覧!G340,3,2) & \")\"))","v":""},{"$f":"ASC(競技者一覧!E340 & \" \" & 競技者一覧!F340 & IF(OR(MID(競技者一覧!G340,3,2)=\"\", MID(競技者一覧!G340,3,2)=\"0\"),\"\",\"(\" & MID(競技者一覧!G340,3,2) & \")\"))","v":" "},{"$f":"CONCATENATE(競技者一覧!I340)","v":""},{"$f":"IFERROR(IF(競技者一覧!$D$6=\"学連\",VLOOKUP(競技者一覧!J340,Sheet4!$D$2:$E$48,2,FALSE),学校名簿!D320),\"\")","v":0},{"$f":"IFERROR(VLOOKUP(競技者一覧!$D$7,学校番号表!$B$2:$C$65536,2,FALSE),\"\")","v":""},{"$f":"CONCATENATE(競技者一覧!B340)","v":""},{"$f":"IFERROR(CONCATENATE(VLOOKUP(競技者一覧!K340,種目コード一覧!$A$1:$B$51,2,FALSE),\" \",REPT(\"0\",VLOOKUP(競技者一覧!K340,種目コード一覧!$A$1:$C$51,3,FALSE)-LEN(競技者一覧!L340)),競技者一覧!L340),\"\")","v":""},{"$f":"IFERROR(CONCATENATE(VLOOKUP(競技者一覧!M340,種目コード一覧!$A$1:$C$51,2,FALSE),\" \",REPT(\"0\",VLOOKUP(競技者一覧!M340,種目コード一覧!$A$1:$C$51,3,FALSE)-LEN(競技者一覧!N340)),競技者一覧!N340),\"\")","v":""},{"$f":"IFERROR(CONCATENATE(VLOOKUP(競技者一覧!O340,種目コード一覧!$A$1:$C$51,2,FALSE),\" \",REPT(\"0\",VLOOKUP(競技者一覧!O340,種目コード一覧!$A$1:$C$51,3,FALSE)-LEN(競技者一覧!P340)),競技者一覧!P340),\"\")","v":""},{"$f":"IFERROR(CONCATENATE(VLOOKUP(競技者一覧!Q340,種目コード一覧!$A$1:$C$51,2,FALSE),\" \",REPT(\"0\",VLOOKUP(競技者一覧!Q340,種目コード一覧!$A$1:$C$51,3,FALSE)-LEN(競技者一覧!R340)),競技者一覧!R340),\"\")","v":""},{"$f":"IFERROR(CONCATENATE(VLOOKUP(競技者一覧!S340,種目コード一覧!$A$1:$C$51,2,FALSE),\" \",REPT(\"0\",VLOOKUP(競技者一覧!S340,種目コード一覧!$A$1:$C$51,3,FALSE)-LEN(競技者一覧!T340)),競技者一覧!T340),\"\")","v":""},{"$f":"IFERROR(CONCATENATE(VLOOKUP(競技者一覧!U340,種目コード一覧!$A$1:$C$51,2,FALSE),\" \",REPT(\"0\",VLOOKUP(競技者一覧!U340,種目コード一覧!$A$1:$C$51,3,FALSE)-LEN(競技者一覧!V340)),競技者一覧!V340),\"\")","v":""},{"$f":"IFERROR(CONCATENATE(VLOOKUP(競技者一覧!W340,種目コード一覧!$A$1:$C$51,2,FALSE),\" \",REPT(\"0\",VLOOKUP(競技者一覧!W340,種目コード一覧!$A$1:$C$51,3,FALSE)-LEN(競技者一覧!X340)),競技者一覧!X340),\"\")","v":""},{"$f":"IFERROR(CONCATENATE(VLOOKUP(競技者一覧!Y340,種目コード一覧!$A$1:$C$51,2,FALSE),\" \",REPT(\"0\",VLOOKUP(競技者一覧!Y340,種目コード一覧!$A$1:$C$51,3,FALSE)-LEN(競技者一覧!Z340)),競技者一覧!Z340),\"\")","v":""}]
[{"$f":"IFERROR(CONCATENATE(競技者一覧!$D$7), \"\")","v":""},{"$f":"IFERROR(CONCATENATE($H$2,Sheet4!B321),\"\")","v":""},{"$f":"競技者一覧!C341&IF(OR(競技者一覧!H341=\"\",競技者一覧!H341=9),\"\",\"(\" & 競技者一覧!H341 & \")\")","v":""},{"$f":"競技者一覧!D341 &IF(OR(MID(競技者一覧!G341,3,2)=\"\", MID(競技者一覧!G341,3,2)=\"0\"),\"\",\"(\" & MID(競技者一覧!G341,3,2) & \")\")","v":""},{"$f":"ASC(競技者一覧!E341 & \" \" & 競技者一覧!F341 & IF(OR(MID(競技者一覧!G341,3,2)=\"\", MID(競技者一覧!G341,3,2)=\"0\"),\"\",\"(\" & MID(競技者一覧!G341,3,2) & \")\"))","v":" "},{"$f":"CONCATENATE(競技者一覧!I341)","v":""},{"$f":"IFERROR(IF(競技者一覧!$D$6=\"学連\",VLOOKUP(競技者一覧!J341,Sheet4!$D$2:$E$48,2,FALSE),学校名簿!D321),\"\")","v":0},{"$f":"IFERROR(VLOOKUP(競技者一覧!$D$7,学校番号表!$B$2:$C$65536,2,FALSE),\"\")","v":""},{"$f":"CONCATENATE(競技者一覧!B341)","v":""},{"$f":"IFERROR(CONCATENATE(VLOOKUP(競技者一覧!K341,種目コード一覧!$A$1:$C$51,2,FALSE),\" \",REPT(\"0\",VLOOKUP(競技者一覧!K341,種目コード一覧!$A$1:$C$51,3,FALSE)-LEN(競技者一覧!L341)),競技者一覧!L341),\"\")","v":""},{"$f":"IFERROR(CONCATENATE(VLOOKUP(競技者一覧!M341,種目コード一覧!$A$1:$C$51,2,FALSE),\" \",REPT(\"0\",VLOOKUP(競技者一覧!M341,種目コード一覧!$A$1:$C$51,3,FALSE)-LEN(競技者一覧!N341)),競技者一覧!N341),\"\")","v":""},{"$f":"IFERROR(CONCATENATE(VLOOKUP(競技者一覧!O341,種目コード一覧!$A$1:$C$51,2,FALSE),\" \",REPT(\"0\",VLOOKUP(競技者一覧!O341,種目コード一覧!$A$1:$C$51,3,FALSE)-LEN(競技者一覧!P341)),競技者一覧!P341),\"\")","v":""},{"$f":"IFERROR(CONCATENATE(VLOOKUP(競技者一覧!Q341,種目コード一覧!$A$1:$C$51,2,FALSE),\" \",REPT(\"0\",VLOOKUP(競技者一覧!Q341,種目コード一覧!$A$1:$C$51,3,FALSE)-LEN(競技者一覧!R341)),競技者一覧!R341),\"\")","v":""},{"$f":"IFERROR(CONCATENATE(VLOOKUP(競技者一覧!S341,種目コード一覧!$A$1:$C$51,2,FALSE),\" \",REPT(\"0\",VLOOKUP(競技者一覧!S341,種目コード一覧!$A$1:$C$51,3,FALSE)-LEN(競技者一覧!T341)),競技者一覧!T341),\"\")","v":""},{"$f":"IFERROR(CONCATENATE(VLOOKUP(競技者一覧!U341,種目コード一覧!$A$1:$C$51,2,FALSE),\" \",REPT(\"0\",VLOOKUP(競技者一覧!U341,種目コード一覧!$A$1:$C$51,3,FALSE)-LEN(競技者一覧!V341)),競技者一覧!V341),\"\")","v":""},{"$f":"IFERROR(CONCATENATE(VLOOKUP(競技者一覧!W341,種目コード一覧!$A$1:$C$51,2,FALSE),\" \",REPT(\"0\",VLOOKUP(競技者一覧!W341,種目コード一覧!$A$1:$C$51,3,FALSE)-LEN(競技者一覧!X341)),競技者一覧!X341),\"\")","v":""},{"$f":"IFERROR(CONCATENATE(VLOOKUP(競技者一覧!Y341,種目コード一覧!$A$1:$C$51,2,FALSE),\" \",REPT(\"0\",VLOOKUP(競技者一覧!Y341,種目コード一覧!$A$1:$C$51,3,FALSE)-LEN(競技者一覧!Z341)),競技者一覧!Z341),\"\")","v":""}]
[{"$f":"IFERROR(CONCATENATE(競技者一覧!$D$7), \"\")","v":""},{"$f":"IFERROR(CONCATENATE($H$2,Sheet4!B322),\"\")","v":""},{"$f":"競技者一覧!C342&IF(OR(競技者一覧!H342=\"\",競技者一覧!H342=9),\"\",\"(\" & 競技者一覧!H342 & \")\")","v":""},{"$f":"ASC(競技者一覧!D342 &IF(OR(MID(競技者一覧!G342,3,2)=\"\", MID(競技者一覧!G342,3,2)=\"0\"),\"\",\"(\" & MID(競技者一覧!G342,3,2) & \")\"))","v":""},{"$f":"ASC(競技者一覧!E342 & \" \" & 競技者一覧!F342 & IF(OR(MID(競技者一覧!G342,3,2)=\"\", MID(競技者一覧!G342,3,2)=\"0\"),\"\",\"(\" & MID(競技者一覧!G342,3,2) & \")\"))","v":" "},{"$f":"CONCATENATE(競技者一覧!I342)","v":""},{"$f":"IFERROR(IF(競技者一覧!$D$6=\"学連\",VLOOKUP(競技者一覧!J342,Sheet4!$D$2:$E$48,2,FALSE),学校名簿!D322),\"\")","v":0},{"$f":"IFERROR(VLOOKUP(競技者一覧!$D$7,学校番号表!$B$2:$C$65536,2,FALSE),\"\")","v":""},{"$f":"CONCATENATE(競技者一覧!B342)","v":""},{"$f":"IFERROR(CONCATENATE(VLOOKUP(競技者一覧!K342,種目コード一覧!$A$1:$B$51,2,FALSE),\" \",REPT(\"0\",VLOOKUP(競技者一覧!K342,種目コード一覧!$A$1:$C$51,3,FALSE)-LEN(競技者一覧!L342)),競技者一覧!L342),\"\")","v":""},{"$f":"IFERROR(CONCATENATE(VLOOKUP(競技者一覧!M342,種目コード一覧!$A$1:$C$51,2,FALSE),\" \",REPT(\"0\",VLOOKUP(競技者一覧!M342,種目コード一覧!$A$1:$C$51,3,FALSE)-LEN(競技者一覧!N342)),競技者一覧!N342),\"\")","v":""},{"$f":"IFERROR(CONCATENATE(VLOOKUP(競技者一覧!O342,種目コード一覧!$A$1:$C$51,2,FALSE),\" \",REPT(\"0\",VLOOKUP(競技者一覧!O342,種目コード一覧!$A$1:$C$51,3,FALSE)-LEN(競技者一覧!P342)),競技者一覧!P342),\"\")","v":""},{"$f":"IFERROR(CONCATENATE(VLOOKUP(競技者一覧!Q342,種目コード一覧!$A$1:$C$51,2,FALSE),\" \",REPT(\"0\",VLOOKUP(競技者一覧!Q342,種目コード一覧!$A$1:$C$51,3,FALSE)-LEN(競技者一覧!R342)),競技者一覧!R342),\"\")","v":""},{"$f":"IFERROR(CONCATENATE(VLOOKUP(競技者一覧!S342,種目コード一覧!$A$1:$C$51,2,FALSE),\" \",REPT(\"0\",VLOOKUP(競技者一覧!S342,種目コード一覧!$A$1:$C$51,3,FALSE)-LEN(競技者一覧!T342)),競技者一覧!T342),\"\")","v":""},{"$f":"IFERROR(CONCATENATE(VLOOKUP(競技者一覧!U342,種目コード一覧!$A$1:$C$51,2,FALSE),\" \",REPT(\"0\",VLOOKUP(競技者一覧!U342,種目コード一覧!$A$1:$C$51,3,FALSE)-LEN(競技者一覧!V342)),競技者一覧!V342),\"\")","v":""},{"$f":"IFERROR(CONCATENATE(VLOOKUP(競技者一覧!W342,種目コード一覧!$A$1:$C$51,2,FALSE),\" \",REPT(\"0\",VLOOKUP(競技者一覧!W342,種目コード一覧!$A$1:$C$51,3,FALSE)-LEN(競技者一覧!X342)),競技者一覧!X342),\"\")","v":""},{"$f":"IFERROR(CONCATENATE(VLOOKUP(競技者一覧!Y342,種目コード一覧!$A$1:$C$51,2,FALSE),\" \",REPT(\"0\",VLOOKUP(競技者一覧!Y342,種目コード一覧!$A$1:$C$51,3,FALSE)-LEN(競技者一覧!Z342)),競技者一覧!Z342),\"\")","v":""}]
[{"$f":"IFERROR(CONCATENATE(競技者一覧!$D$7), \"\")","v":""},{"$f":"IFERROR(CONCATENATE($H$2,Sheet4!B323),\"\")","v":""},{"$f":"競技者一覧!C343&IF(OR(競技者一覧!H343=\"\",競技者一覧!H343=9),\"\",\"(\" & 競技者一覧!H343 & \")\")","v":""},{"$f":"競技者一覧!D343 &IF(OR(MID(競技者一覧!G343,3,2)=\"\", MID(競技者一覧!G343,3,2)=\"0\"),\"\",\"(\" & MID(競技者一覧!G343,3,2) & \")\")","v":""},{"$f":"ASC(競技者一覧!E343 & \" \" & 競技者一覧!F343 & IF(OR(MID(競技者一覧!G343,3,2)=\"\", MID(競技者一覧!G343,3,2)=\"0\"),\"\",\"(\" & MID(競技者一覧!G343,3,2) & \")\"))","v":" "},{"$f":"CONCATENATE(競技者一覧!I343)","v":""},{"$f":"IFERROR(IF(競技者一覧!$D$6=\"学連\",VLOOKUP(競技者一覧!J343,Sheet4!$D$2:$E$48,2,FALSE),学校名簿!D323),\"\")","v":0},{"$f":"IFERROR(VLOOKUP(競技者一覧!$D$7,学校番号表!$B$2:$C$65536,2,FALSE),\"\")","v":""},{"$f":"CONCATENATE(競技者一覧!B343)","v":""},{"$f":"IFERROR(CONCATENATE(VLOOKUP(競技者一覧!K343,種目コード一覧!$A$1:$C$51,2,FALSE),\" \",REPT(\"0\",VLOOKUP(競技者一覧!K343,種目コード一覧!$A$1:$C$51,3,FALSE)-LEN(競技者一覧!L343)),競技者一覧!L343),\"\")","v":""},{"$f":"IFERROR(CONCATENATE(VLOOKUP(競技者一覧!M343,種目コード一覧!$A$1:$C$51,2,FALSE),\" \",REPT(\"0\",VLOOKUP(競技者一覧!M343,種目コード一覧!$A$1:$C$51,3,FALSE)-LEN(競技者一覧!N343)),競技者一覧!N343),\"\")","v":""},{"$f":"IFERROR(CONCATENATE(VLOOKUP(競技者一覧!O343,種目コード一覧!$A$1:$C$51,2,FALSE),\" \",REPT(\"0\",VLOOKUP(競技者一覧!O343,種目コード一覧!$A$1:$C$51,3,FALSE)-LEN(競技者一覧!P343)),競技者一覧!P343),\"\")","v":""},{"$f":"IFERROR(CONCATENATE(VLOOKUP(競技者一覧!Q343,種目コード一覧!$A$1:$C$51,2,FALSE),\" \",REPT(\"0\",VLOOKUP(競技者一覧!Q343,種目コード一覧!$A$1:$C$51,3,FALSE)-LEN(競技者一覧!R343)),競技者一覧!R343),\"\")","v":""},{"$f":"IFERROR(CONCATENATE(VLOOKUP(競技者一覧!S343,種目コード一覧!$A$1:$C$51,2,FALSE),\" \",REPT(\"0\",VLOOKUP(競技者一覧!S343,種目コード一覧!$A$1:$C$51,3,FALSE)-LEN(競技者一覧!T343)),競技者一覧!T343),\"\")","v":""},{"$f":"IFERROR(CONCATENATE(VLOOKUP(競技者一覧!U343,種目コード一覧!$A$1:$C$51,2,FALSE),\" \",REPT(\"0\",VLOOKUP(競技者一覧!U343,種目コード一覧!$A$1:$C$51,3,FALSE)-LEN(競技者一覧!V343)),競技者一覧!V343),\"\")","v":""},{"$f":"IFERROR(CONCATENATE(VLOOKUP(競技者一覧!W343,種目コード一覧!$A$1:$C$51,2,FALSE),\" \",REPT(\"0\",VLOOKUP(競技者一覧!W343,種目コード一覧!$A$1:$C$51,3,FALSE)-LEN(競技者一覧!X343)),競技者一覧!X343),\"\")","v":""},{"$f":"IFERROR(CONCATENATE(VLOOKUP(競技者一覧!Y343,種目コード一覧!$A$1:$C$51,2,FALSE),\" \",REPT(\"0\",VLOOKUP(競技者一覧!Y343,種目コード一覧!$A$1:$C$51,3,FALSE)-LEN(競技者一覧!Z343)),競技者一覧!Z343),\"\")","v":""}]

{"sheet":"リレーCSV","index":9,"n_rows":31,"n_cols":15,"rows_kept":31,"cut":false,"hidden":true,"merged":[]}
[null,"DB","ZK","KC","N1","N2","TM","KM","LN","S1","S2","S3","S4","S5","S6"]
[{"$f":"CONCATENATE(リレー!C8)","v":""},{"$f":"CONCATENATE(団体CSV!$H$2)","v":""},null,{"$f":"CONCATENATE(団体CSV!$G$2)","v":""},{"$f":"CONCATENATE(リレー!B8)","v":""},null,{"$f":"TEXT(リレー!D8,\"00000\")","v":"00000"},null,null,{"$f":"IFERROR(CONCATENATE(VLOOKUP(リレー!E8,学校名簿!$B$2:$C$101,2,FALSE)),\"\")","v":""},{"$f":"IFERROR(CONCATENATE(VLOOKUP(リレー!F8,学校名簿!$B$2:$C$101,2,FALSE)),\"\")","v":""},{"$f":"IFERROR(CONCATENATE(VLOOKUP(リレー!G8,学校名簿!$B$2:$C$101,2,FALSE)),\"\")","v":""},{"$f":"IFERROR(CONCATENATE(VLOOKUP(リレー!H8,学校名簿!$B$2:$C$101,2,FALSE)),\"\")","v":""},{"$f":"IFERROR(CONCATENATE(VLOOKUP(リレー!I8,学校名簿!$B$2:$C$101,2,FALSE)),\"\")","v":""},{"$f":"IFERROR(CONCATENATE(VLOOKUP(リレー!J8,学校名簿!$B$2:$C$101,2,FALSE)),\"\")","v":""}]
[{"$f":"CONCATENATE(リレー!C9)","v":""},{"$f":"CONCATENATE(団体CSV!$H$2)","v":""},null,{"$f":"CONCATENATE(団体CSV!$G$2)","v":""},{"$f":"CONCATENATE(リレー!B9)","v":""},null,{"$f":"TEXT(リレー!D9,\"00000\")","v":"00000"},null,null,{"$f":"IFERROR(CONCATENATE(VLOOKUP(リレー!E9,学校名簿!$B$2:$C$101,2,FALSE)),\"\")","v":""},{"$f":"IFERROR(CONCATENATE(VLOOKUP(リレー!F9,学校名簿!$B$2:$C$101,2,FALSE)),\"\")","v":""},{"$f":"IFERROR(CONCATENATE(VLOOKUP(リレー!G9,学校名簿!$B$2:$C$101,2,FALSE)),\"\")","v":""},{"$f":"IFERROR(CONCATENATE(VLOOKUP(リレー!H9,学校名簿!$B$2:$C$101,2,FALSE)),\"\")","v":""},{"$f":"IFERROR(CONCATENATE(VLOOKUP(リレー!I9,学校名簿!$B$2:$C$101,2,FALSE)),\"\")","v":""},{"$f":"IFERROR(CONCATENATE(VLOOKUP(リレー!J9,学校名簿!$B$2:$C$101,2,FALSE)),\"\")","v":""}]
[{"$f":"CONCATENATE(リレー!C10)","v":""},{"$f":"CONCATENATE(団体CSV!$H$2)","v":""},null,{"$f":"CONCATENATE(団体CSV!$G$2)","v":""},{"$f":"CONCATENATE(リレー!B10)","v":""},null,{"$f":"TEXT(リレー!D10,\"00000\")","v":"00000"},null,null,{"$f":"IFERROR(CONCATENATE(VLOOKUP(リレー!E10,学校名簿!$B$2:$C$101,2,FALSE)),\"\")","v":""},{"$f":"IFERROR(CONCATENATE(VLOOKUP(リレー!F10,学校名簿!$B$2:$C$101,2,FALSE)),\"\")","v":""},{"$f":"IFERROR(CONCATENATE(VLOOKUP(リレー!G10,学校名簿!$B$2:$C$101,2,FALSE)),\"\")","v":""},{"$f":"IFERROR(CONCATENATE(VLOOKUP(リレー!H10,学校名簿!$B$2:$C$101,2,FALSE)),\"\")","v":""},{"$f":"IFERROR(CONCATENATE(VLOOKUP(リレー!I10,学校名簿!$B$2:$C$101,2,FALSE)),\"\")","v":""},{"$f":"IFERROR(CONCATENATE(VLOOKUP(リレー!J10,学校名簿!$B$2:$C$101,2,FALSE)),\"\")","v":""}]
[{"$f":"CONCATENATE(リレー!C11)","v":""},{"$f":"CONCATENATE(団体CSV!$H$2)","v":""},null,{"$f":"CONCATENATE(団体CSV!$G$2)","v":""},{"$f":"CONCATENATE(リレー!B11)","v":""},null,{"$f":"TEXT(リレー!D11,\"00000\")","v":"00000"},null,null,{"$f":"IFERROR(CONCATENATE(VLOOKUP(リレー!E11,学校名簿!$B$2:$C$101,2,FALSE)),\"\")","v":""},{"$f":"IFERROR(CONCATENATE(VLOOKUP(リレー!F11,学校名簿!$B$2:$C$101,2,FALSE)),\"\")","v":""},{"$f":"IFERROR(CONCATENATE(VLOOKUP(リレー!G11,学校名簿!$B$2:$C$101,2,FALSE)),\"\")","v":""},{"$f":"IFERROR(CONCATENATE(VLOOKUP(リレー!H11,学校名簿!$B$2:$C$101,2,FALSE)),\"\")","v":""},{"$f":"IFERROR(CONCATENATE(VLOOKUP(リレー!I11,学校名簿!$B$2:$C$101,2,FALSE)),\"\")","v":""},{"$f":"IFERROR(CONCATENATE(VLOOKUP(リレー!J11,学校名簿!$B$2:$C$101,2,FALSE)),\"\")","v":""}]
[{"$f":"CONCATENATE(リレー!C12)","v":""},{"$f":"CONCATENATE(団体CSV!$H$2)","v":""},null,{"$f":"CONCATENATE(団体CSV!$G$2)","v":""},{"$f":"CONCATENATE(リレー!B12)","v":""},null,{"$f":"TEXT(リレー!D12,\"00000\")","v":"00000"},null,null,{"$f":"IFERROR(CONCATENATE(VLOOKUP(リレー!E12,学校名簿!$B$2:$C$101,2,FALSE)),\"\")","v":""},{"$f":"IFERROR(CONCATENATE(VLOOKUP(リレー!F12,学校名簿!$B$2:$C$101,2,FALSE)),\"\")","v":""},{"$f":"IFERROR(CONCATENATE(VLOOKUP(リレー!G12,学校名簿!$B$2:$C$101,2,FALSE)),\"\")","v":""},{"$f":"IFERROR(CONCATENATE(VLOOKUP(リレー!H12,学校名簿!$B$2:$C$101,2,FALSE)),\"\")","v":""},{"$f":"IFERROR(CONCATENATE(VLOOKUP(リレー!I12,学校名簿!$B$2:$C$101,2,FALSE)),\"\")","v":""},{"$f":"IFERROR(CONCATENATE(VLOOKUP(リレー!J12,学校名簿!$B$2:$C$101,2,FALSE)),\"\")","v":""}]
[{"$f":"CONCATENATE(リレー!C13)","v":""},{"$f":"CONCATENATE(団体CSV!$H$2)","v":""},null,{"$f":"CONCATENATE(団体CSV!$G$2)","v":""},{"$f":"CONCATENATE(リレー!B13)","v":""},null,{"$f":"TEXT(リレー!D13,\"00000\")","v":"00000"},null,null,{"$f":"IFERROR(CONCATENATE(VLOOKUP(リレー!E13,学校名簿!$B$2:$C$101,2,FALSE)),\"\")","v":""},{"$f":"IFERROR(CONCATENATE(VLOOKUP(リレー!F13,学校名簿!$B$2:$C$101,2,FALSE)),\"\")","v":""},{"$f":"IFERROR(CONCATENATE(VLOOKUP(リレー!G13,学校名簿!$B$2:$C$101,2,FALSE)),\"\")","v":""},{"$f":"IFERROR(CONCATENATE(VLOOKUP(リレー!H13,学校名簿!$B$2:$C$101,2,FALSE)),\"\")","v":""},{"$f":"IFERROR(CONCATENATE(VLOOKUP(リレー!I13,学校名簿!$B$2:$C$101,2,FALSE)),\"\")","v":""},{"$f":"IFERROR(CONCATENATE(VLOOKUP(リレー!J13,学校名簿!$B$2:$C$101,2,FALSE)),\"\")","v":""}]
[{"$f":"CONCATENATE(リレー!C14)","v":""},{"$f":"CONCATENATE(団体CSV!$H$2)","v":""},null,{"$f":"CONCATENATE(団体CSV!$G$2)","v":""},{"$f":"CONCATENATE(リレー!B14)","v":""},null,{"$f":"TEXT(リレー!D14,\"00000\")","v":"00000"},null,null,{"$f":"IFERROR(CONCATENATE(VLOOKUP(リレー!E14,学校名簿!$B$2:$C$101,2,FALSE)),\"\")","v":""},{"$f":"IFERROR(CONCATENATE(VLOOKUP(リレー!F14,学校名簿!$B$2:$C$101,2,FALSE)),\"\")","v":""},{"$f":"IFERROR(CONCATENATE(VLOOKUP(リレー!G14,学校名簿!$B$2:$C$101,2,FALSE)),\"\")","v":""},{"$f":"IFERROR(CONCATENATE(VLOOKUP(リレー!H14,学校名簿!$B$2:$C$101,2,FALSE)),\"\")","v":""},{"$f":"IFERROR(CONCATENATE(VLOOKUP(リレー!I14,学校名簿!$B$2:$C$101,2,FALSE)),\"\")","v":""},{"$f":"IFERROR(CONCATENATE(VLOOKUP(リレー!J14,学校名簿!$B$2:$C$101,2,FALSE)),\"\")","v":""}]
[{"$f":"CONCATENATE(リレー!C15)","v":""},{"$f":"CONCATENATE(団体CSV!$H$2)","v":""},null,{"$f":"CONCATENATE(団体CSV!$G$2)","v":""},{"$f":"CONCATENATE(リレー!B15)","v":""},null,{"$f":"TEXT(リレー!D15,\"00000\")","v":"00000"},null,null,{"$f":"IFERROR(CONCATENATE(VLOOKUP(リレー!E15,学校名簿!$B$2:$C$101,2,FALSE)),\"\")","v":""},{"$f":"IFERROR(CONCATENATE(VLOOKUP(リレー!F15,学校名簿!$B$2:$C$101,2,FALSE)),\"\")","v":""},{"$f":"IFERROR(CONCATENATE(VLOOKUP(リレー!G15,学校名簿!$B$2:$C$101,2,FALSE)),\"\")","v":""},{"$f":"IFERROR(CONCATENATE(VLOOKUP(リレー!H15,学校名簿!$B$2:$C$101,2,FALSE)),\"\")","v":""},{"$f":"IFERROR(CONCATENATE(VLOOKUP(リレー!I15,学校名簿!$B$2:$C$101,2,FALSE)),\"\")","v":""},{"$f":"IFERROR(CONCATENATE(VLOOKUP(リレー!J15,学校名簿!$B$2:$C$101,2,FALSE)),\"\")","v":""}]
[{"$f":"CONCATENATE(リレー!C16)","v":""},{"$f":"CONCATENATE(団体CSV!$H$2)","v":""},null,{"$f":"CONCATENATE(団体CSV!$G$2)","v":""},{"$f":"CONCATENATE(リレー!B16)","v":""},null,{"$f":"TEXT(リレー!D16,\"00000\")","v":"00000"},null,null,{"$f":"IFERROR(CONCATENATE(VLOOKUP(リレー!E16,学校名簿!$B$2:$C$101,2,FALSE)),\"\")","v":""},{"$f":"IFERROR(CONCATENATE(VLOOKUP(リレー!F16,学校名簿!$B$2:$C$101,2,FALSE)),\"\")","v":""},{"$f":"IFERROR(CONCATENATE(VLOOKUP(リレー!G16,学校名簿!$B$2:$C$101,2,FALSE)),\"\")","v":""},{"$f":"IFERROR(CONCATENATE(VLOOKUP(リレー!H16,学校名簿!$B$2:$C$101,2,FALSE)),\"\")","v":""},{"$f":"IFERROR(CONCATENATE(VLOOKUP(リレー!I16,学校名簿!$B$2:$C$101,2,FALSE)),\"\")","v":""},{"$f":"IFERROR(CONCATENATE(VLOOKUP(リレー!J16,学校名簿!$B$2:$C$101,2,FALSE)),\"\")","v":""}]
[{"$f":"CONCATENATE(リレー!C17)","v":""},{"$f":"CONCATENATE(団体CSV!$H$2)","v":""},null,{"$f":"CONCATENATE(団体CSV!$G$2)","v":""},{"$f":"CONCATENATE(リレー!B17)","v":""},null,{"$f":"TEXT(リレー!D17,\"00000\")","v":"00000"},null,null,{"$f":"IFERROR(CONCATENATE(VLOOKUP(リレー!E17,学校名簿!$B$2:$C$101,2,FALSE)),\"\")","v":""},{"$f":"IFERROR(CONCATENATE(VLOOKUP(リレー!F17,学校名簿!$B$2:$C$101,2,FALSE)),\"\")","v":""},{"$f":"IFERROR(CONCATENATE(VLOOKUP(リレー!G17,学校名簿!$B$2:$C$101,2,FALSE)),\"\")","v":""},{"$f":"IFERROR(CONCATENATE(VLOOKUP(リレー!H17,学校名簿!$B$2:$C$101,2,FALSE)),\"\")","v":""},{"$f":"IFERROR(CONCATENATE(VLOOKUP(リレー!I17,学校名簿!$B$2:$C$101,2,FALSE)),\"\")","v":""},{"$f":"IFERROR(CONCATENATE(VLOOKUP(リレー!J17,学校名簿!$B$2:$C$101,2,FALSE)),\"\")","v":""}]
[{"$f":"CONCATENATE(リレー!C18)","v":""},{"$f":"CONCATENATE(団体CSV!$H$2)","v":""},null,{"$f":"CONCATENATE(団体CSV!$G$2)","v":""},{"$f":"CONCATENATE(リレー!B18)","v":""},null,{"$f":"TEXT(リレー!D18,\"00000\")","v":"00000"},null,null,{"$f":"IFERROR(CONCATENATE(VLOOKUP(リレー!E18,学校名簿!$B$2:$C$101,2,FALSE)),\"\")","v":""},{"$f":"IFERROR(CONCATENATE(VLOOKUP(リレー!F18,学校名簿!$B$2:$C$101,2,FALSE)),\"\")","v":""},{"$f":"IFERROR(CONCATENATE(VLOOKUP(リレー!G18,学校名簿!$B$2:$C$101,2,FALSE)),\"\")","v":""},{"$f":"IFERROR(CONCATENATE(VLOOKUP(リレー!H18,学校名簿!$B$2:$C$101,2,FALSE)),\"\")","v":""},{"$f":"IFERROR(CONCATENATE(VLOOKUP(リレー!I18,学校名簿!$B$2:$C$101,2,FALSE)),\"\")","v":""},{"$f":"IFERROR(CONCATENATE(VLOOKUP(リレー!J18,学校名簿!$B$2:$C$101,2,FALSE)),\"\")","v":""}]
[{"$f":"CONCATENATE(リレー!C19)","v":""},{"$f":"CONCATENATE(団体CSV!$H$2)","v":""},null,{"$f":"CONCATENATE(団体CSV!$G$2)","v":""},{"$f":"CONCATENATE(リレー!B19)","v":""},null,{"$f":"TEXT(リレー!D19,\"00000\")","v":"00000"},null,null,{"$f":"IFERROR(CONCATENATE(VLOOKUP(リレー!E19,学校名簿!$B$2:$C$101,2,FALSE)),\"\")","v":""},{"$f":"IFERROR(CONCATENATE(VLOOKUP(リレー!F19,学校名簿!$B$2:$C$101,2,FALSE)),\"\")","v":""},{"$f":"IFERROR(CONCATENATE(VLOOKUP(リレー!G19,学校名簿!$B$2:$C$101,2,FALSE)),\"\")","v":""},{"$f":"IFERROR(CONCATENATE(VLOOKUP(リレー!H19,学校名簿!$B$2:$C$101,2,FALSE)),\"\")","v":""},{"$f":"IFERROR(CONCATENATE(VLOOKUP(リレー!I19,学校名簿!$B$2:$C$101,2,FALSE)),\"\")","v":""},{"$f":"IFERROR(CONCATENATE(VLOOKUP(リレー!J19,学校名簿!$B$2:$C$101,2,FALSE)),\"\")","v":""}]
[{"$f":"CONCATENATE(リレー!C20)","v":""},{"$f":"CONCATENATE(団体CSV!$H$2)","v":""},null,{"$f":"CONCATENATE(団体CSV!$G$2)","v":""},{"$f":"CONCATENATE(リレー!B20)","v":""},null,{"$f":"TEXT(リレー!D20,\"00000\")","v":"00000"},null,null,{"$f":"IFERROR(CONCATENATE(VLOOKUP(リレー!E20,学校名簿!$B$2:$C$101,2,FALSE)),\"\")","v":""},{"$f":"IFERROR(CONCATENATE(VLOOKUP(リレー!F20,学校名簿!$B$2:$C$101,2,FALSE)),\"\")","v":""},{"$f":"IFERROR(CONCATENATE(VLOOKUP(リレー!G20,学校名簿!$B$2:$C$101,2,FALSE)),\"\")","v":""},{"$f":"IFERROR(CONCATENATE(VLOOKUP(リレー!H20,学校名簿!$B$2:$C$101,2,FALSE)),\"\")","v":""},{"$f":"IFERROR(CONCATENATE(VLOOKUP(リレー!I20,学校名簿!$B$2:$C$101,2,FALSE)),\"\")","v":""},{"$f":"IFERROR(CONCATENATE(VLOOKUP(リレー!J20,学校名簿!$B$2:$C$101,2,FALSE)),\"\")","v":""}]
[{"$f":"CONCATENATE(リレー!C21)","v":""},{"$f":"CONCATENATE(団体CSV!$H$2)","v":""},null,{"$f":"CONCATENATE(団体CSV!$G$2)","v":""},{"$f":"CONCATENATE(リレー!B21)","v":""},null,{"$f":"TEXT(リレー!D21,\"00000\")","v":"00000"},null,null,{"$f":"IFERROR(CONCATENATE(VLOOKUP(リレー!E21,学校名簿!$B$2:$C$101,2,FALSE)),\"\")","v":""},{"$f":"IFERROR(CONCATENATE(VLOOKUP(リレー!F21,学校名簿!$B$2:$C$101,2,FALSE)),\"\")","v":""},{"$f":"IFERROR(CONCATENATE(VLOOKUP(リレー!G21,学校名簿!$B$2:$C$101,2,FALSE)),\"\")","v":""},{"$f":"IFERROR(CONCATENATE(VLOOKUP(リレー!H21,学校名簿!$B$2:$C$101,2,FALSE)),\"\")","v":""},{"$f":"IFERROR(CONCATENATE(VLOOKUP(リレー!I21,学校名簿!$B$2:$C$101,2,FALSE)),\"\")","v":""},{"$f":"IFERROR(CONCATENATE(VLOOKUP(リレー!J21,学校名簿!$B$2:$C$101,2,FALSE)),\"\")","v":""}]
[{"$f":"CONCATENATE(リレー!C22)","v":""},{"$f":"CONCATENATE(団体CSV!$H$2)","v":""},null,{"$f":"CONCATENATE(団体CSV!$G$2)","v":""},{"$f":"CONCATENATE(リレー!B22)","v":""},null,{"$f":"TEXT(リレー!D22,\"00000\")","v":"00000"},null,null,{"$f":"IFERROR(CONCATENATE(VLOOKUP(リレー!E22,学校名簿!$B$2:$C$101,2,FALSE)),\"\")","v":""},{"$f":"IFERROR(CONCATENATE(VLOOKUP(リレー!F22,学校名簿!$B$2:$C$101,2,FALSE)),\"\")","v":""},{"$f":"IFERROR(CONCATENATE(VLOOKUP(リレー!G22,学校名簿!$B$2:$C$101,2,FALSE)),\"\")","v":""},{"$f":"IFERROR(CONCATENATE(VLOOKUP(リレー!H22,学校名簿!$B$2:$C$101,2,FALSE)),\"\")","v":""},{"$f":"IFERROR(CONCATENATE(VLOOKUP(リレー!I22,学校名簿!$B$2:$C$101,2,FALSE)),\"\")","v":""},{"$f":"IFERROR(CONCATENATE(VLOOKUP(リレー!J22,学校名簿!$B$2:$C$101,2,FALSE)),\"\")","v":""}]
[{"$f":"CONCATENATE(リレー!C23)","v":""},{"$f":"CONCATENATE(団体CSV!$H$2)","v":""},null,{"$f":"CONCATENATE(団体CSV!$G$2)","v":""},{"$f":"CONCATENATE(リレー!B23)","v":""},null,{"$f":"TEXT(リレー!D23,\"00000\")","v":"00000"},null,null,{"$f":"IFERROR(CONCATENATE(VLOOKUP(リレー!E23,学校名簿!$B$2:$C$101,2,FALSE)),\"\")","v":""},{"$f":"IFERROR(CONCATENATE(VLOOKUP(リレー!F23,学校名簿!$B$2:$C$101,2,FALSE)),\"\")","v":""},{"$f":"IFERROR(CONCATENATE(VLOOKUP(リレー!G23,学校名簿!$B$2:$C$101,2,FALSE)),\"\")","v":""},{"$f":"IFERROR(CONCATENATE(VLOOKUP(リレー!H23,学校名簿!$B$2:$C$101,2,FALSE)),\"\")","v":""},{"$f":"IFERROR(CONCATENATE(VLOOKUP(リレー!I23,学校名簿!$B$2:$C$101,2,FALSE)),\"\")","v":""},{"$f":"IFERROR(CONCATENATE(VLOOKUP(リレー!J23,学校名簿!$B$2:$C$101,2,FALSE)),\"\")","v":""}]
[{"$f":"CONCATENATE(リレー!C24)","v":""},{"$f":"CONCATENATE(団体CSV!$H$2)","v":""},null,{"$f":"CONCATENATE(団体CSV!$G$2)","v":""},{"$f":"CONCATENATE(リレー!B24)","v":""},null,{"$f":"TEXT(リレー!D24,\"00000\")","v":"00000"},null,null,{"$f":"IFERROR(CONCATENATE(VLOOKUP(リレー!E24,学校名簿!$B$2:$C$101,2,FALSE)),\"\")","v":""},{"$f":"IFERROR(CONCATENATE(VLOOKUP(リレー!F24,学校名簿!$B$2:$C$101,2,FALSE)),\"\")","v":""},{"$f":"IFERROR(CONCATENATE(VLOOKUP(リレー!G24,学校名簿!$B$2:$C$101,2,FALSE)),\"\")","v":""},{"$f":"IFERROR(CONCATENATE(VLOOKUP(リレー!H24,学校名簿!$B$2:$C$101,2,FALSE)),\"\")","v":""},{"$f":"IFERROR(CONCATENATE(VLOOKUP(リレー!I24,学校名簿!$B$2:$C$101,2,FALSE)),\"\")","v":""},{"$f":"IFERROR(CONCATENATE(VLOOKUP(リレー!J24,学校名簿!$B$2:$C$101,2,FALSE)),\"\")","v":""}]
[{"$f":"CONCATENATE(リレー!C25)","v":""},{"$f":"CONCATENATE(団体CSV!$H$2)","v":""},null,{"$f":"CONCATENATE(団体CSV!$G$2)","v":""},{"$f":"CONCATENATE(リレー!B25)","v":""},null,{"$f":"TEXT(リレー!D25,\"00000\")","v":"00000"},null,null,{"$f":"IFERROR(CONCATENATE(VLOOKUP(リレー!E25,学校名簿!$B$2:$C$101,2,FALSE)),\"\")","v":""},{"$f":"IFERROR(CONCATENATE(VLOOKUP(リレー!F25,学校名簿!$B$2:$C$101,2,FALSE)),\"\")","v":""},{"$f":"IFERROR(CONCATENATE(VLOOKUP(リレー!G25,学校名簿!$B$2:$C$101,2,FALSE)),\"\")","v":""},{"$f":"IFERROR(CONCATENATE(VLOOKUP(リレー!H25,学校名簿!$B$2:$C$101,2,FALSE)),\"\")","v":""},{"$f":"IFERROR(CONCATENATE(VLOOKUP(リレー!I25,学校名簿!$B$2:$C$101,2,FALSE)),\"\")","v":""},{"$f":"IFERROR(CONCATENATE(VLOOKUP(リレー!J25,学校名簿!$B$2:$C$101,2,FALSE)),\"\")","v":""}]
[{"$f":"CONCATENATE(リレー!C26)","v":""},{"$f":"CONCATENATE(団体CSV!$H$2)","v":""},null,{"$f":"CONCATENATE(団体CSV!$G$2)","v":""},{"$f":"CONCATENATE(リレー!B26)","v":""},null,{"$f":"TEXT(リレー!D26,\"00000\")","v":"00000"},null,null,{"$f":"IFERROR(CONCATENATE(VLOOKUP(リレー!E26,学校名簿!$B$2:$C$101,2,FALSE)),\"\")","v":""},{"$f":"IFERROR(CONCATENATE(VLOOKUP(リレー!F26,学校名簿!$B$2:$C$101,2,FALSE)),\"\")","v":""},{"$f":"IFERROR(CONCATENATE(VLOOKUP(リレー!G26,学校名簿!$B$2:$C$101,2,FALSE)),\"\")","v":""},{"$f":"IFERROR(CONCATENATE(VLOOKUP(リレー!H26,学校名簿!$B$2:$C$101,2,FALSE)),\"\")","v":""},{"$f":"IFERROR(CONCATENATE(VLOOKUP(リレー!I26,学校名簿!$B$2:$C$101,2,FALSE)),\"\")","v":""},{"$f":"IFERROR(CONCATENATE(VLOOKUP(リレー!J26,学校名簿!$B$2:$C$101,2,FALSE)),\"\")","v":""}]
[{"$f":"CONCATENATE(リレー!C27)","v":""},{"$f":"CONCATENATE(団体CSV!$H$2)","v":""},null,{"$f":"CONCATENATE(団体CSV!$G$2)","v":""},{"$f":"CONCATENATE(リレー!B27)","v":""},null,{"$f":"TEXT(リレー!D27,\"00000\")","v":"00000"},null,null,{"$f":"IFERROR(CONCATENATE(VLOOKUP(リレー!E27,学校名簿!$B$2:$C$101,2,FALSE)),\"\")","v":""},{"$f":"IFERROR(CONCATENATE(VLOOKUP(リレー!F27,学校名簿!$B$2:$C$101,2,FALSE)),\"\")","v":""},{"$f":"IFERROR(CONCATENATE(VLOOKUP(リレー!G27,学校名簿!$B$2:$C$101,2,FALSE)),\"\")","v":""},{"$f":"IFERROR(CONCATENATE(VLOOKUP(リレー!H27,学校名簿!$B$2:$C$101,2,FALSE)),\"\")","v":""},{"$f":"IFERROR(CONCATENATE(VLOOKUP(リレー!I27,学校名簿!$B$2:$C$101,2,FALSE)),\"\")","v":""},{"$f":"IFERROR(CONCATENATE(VLOOKUP(リレー!J27,学校名簿!$B$2:$C$101,2,FALSE)),\"\")","v":""}]
[null,{"$f":"CONCATENATE(団体CSV!$H$2)","v":""},null,{"$f":"CONCATENATE(団体CSV!$G$2)","v":""},{"$f":"CONCATENATE(リレー!B28)","v":""},null,{"$f":"TEXT(リレー!D28,\"00000\")","v":"00000"},null,null,{"$f":"IFERROR(CONCATENATE(VLOOKUP(リレー!E28,学校名簿!$B$2:$C$101,2,FALSE)),\"\")","v":""},{"$f":"IFERROR(CONCATENATE(VLOOKUP(リレー!F28,学校名簿!$B$2:$C$101,2,FALSE)),\"\")","v":""},{"$f":"IFERROR(CONCATENATE(VLOOKUP(リレー!G28,学校名簿!$B$2:$C$101,2,FALSE)),\"\")","v":""},{"$f":"IFERROR(CONCATENATE(VLOOKUP(リレー!H28,学校名簿!$B$2:$C$101,2,FALSE)),\"\")","v":""},{"$f":"IFERROR(CONCATENATE(VLOOKUP(リレー!I28,学校名簿!$B$2:$C$101,2,FALSE)),\"\")","v":""},{"$f":"IFERROR(CONCATENATE(VLOOKUP(リレー!J28,学校名簿!$B$2:$C$101,2,FALSE)),\"\")","v":""}]
[null,{"$f":"CONCATENATE(団体CSV!$H$2)","v":""},null,{"$f":"CONCATENATE(団体CSV!$G$2)","v":""},{"$f":"CONCATENATE(リレー!B29)","v":""},null,{"$f":"TEXT(リレー!D29,\"00000\")","v":"00000"},null,null,{"$f":"IFERROR(CONCATENATE(VLOOKUP(リレー!E29,学校名簿!$B$2:$C$101,2,FALSE)),\"\")","v":""},{"$f":"IFERROR(CONCATENATE(VLOOKUP(リレー!F29,学校名簿!$B$2:$C$101,2,FALSE)),\"\")","v":""},{"$f":"IFERROR(CONCATENATE(VLOOKUP(リレー!G29,学校名簿!$B$2:$C$101,2,FALSE)),\"\")","v":""},{"$f":"IFERROR(CONCATENATE(VLOOKUP(リレー!H29,学校名簿!$B$2:$C$101,2,FALSE)),\"\")","v":""},{"$f":"IFERROR(CONCATENATE(VLOOKUP(リレー!I29,学校名簿!$B$2:$C$101,2,FALSE)),\"\")","v":""},{"$f":"IFERROR(CONCATENATE(VLOOKUP(リレー!J29,学校名簿!$B$2:$C$101,2,FALSE)),\"\")","v":""}]
[null,{"$f":"CONCATENATE(団体CSV!$H$2)","v":""},null,{"$f":"CONCATENATE(団体CSV!$G$2)","v":""},{"$f":"CONCATENATE(リレー!B30)","v":""},null,{"$f":"TEXT(リレー!D30,\"00000\")","v":"00000"},null,null,{"$f":"IFERROR(CONCATENATE(VLOOKUP(リレー!E30,学校名簿!$B$2:$C$101,2,FALSE)),\"\")","v":""},{"$f":"IFERROR(CONCATENATE(VLOOKUP(リレー!F30,学校名簿!$B$2:$C$101,2,FALSE)),\"\")","v":""},{"$f":"IFERROR(CONCATENATE(VLOOKUP(リレー!G30,学校名簿!$B$2:$C$101,2,FALSE)),\"\")","v":""},{"$f":"IFERROR(CONCATENATE(VLOOKUP(リレー!H30,学校名簿!$B$2:$C$101,2,FALSE)),\"\")","v":""},{"$f":"IFERROR(CONCATENATE(VLOOKUP(リレー!I30,学校名簿!$B$2:$C$101,2,FALSE)),\"\")","v":""},{"$f":"IFERROR(CONCATENATE(VLOOKUP(リレー!J30,学校名簿!$B$2:$C$101,2,FALSE)),\"\")","v":""}]
[null,{"$f":"CONCATENATE(団体CSV!$H$2)","v":""},null,{"$f":"CONCATENATE(団体CSV!$G$2)","v":""},{"$f":"CONCATENATE(リレー!B31)","v":""},null,{"$f":"TEXT(リレー!D31,\"00000\")","v":"00000"},null,null,{"$f":"IFERROR(CONCATENATE(VLOOKUP(リレー!E31,学校名簿!$B$2:$C$101,2,FALSE)),\"\")","v":""},{"$f":"IFERROR(CONCATENATE(VLOOKUP(リレー!F31,学校名簿!$B$2:$C$101,2,FALSE)),\"\")","v":""},{"$f":"IFERROR(CONCATENATE(VLOOKUP(リレー!G31,学校名簿!$B$2:$C$101,2,FALSE)),\"\")","v":""},{"$f":"IFERROR(CONCATENATE(VLOOKUP(リレー!H31,学校名簿!$B$2:$C$101,2,FALSE)),\"\")","v":""},{"$f":"IFERROR(CONCATENATE(VLOOKUP(リレー!I31,学校名簿!$B$2:$C$101,2,FALSE)),\"\")","v":""},{"$f":"IFERROR(CONCATENATE(VLOOKUP(リレー!J31,学校名簿!$B$2:$C$101,2,FALSE)),\"\")","v":""}]
[null,{"$f":"CONCATENATE(団体CSV!$H$2)","v":""},null,{"$f":"CONCATENATE(団体CSV!$G$2)","v":""},{"$f":"CONCATENATE(リレー!B32)","v":""},null,{"$f":"TEXT(リレー!D32,\"00000\")","v":"00000"},null,null,{"$f":"IFERROR(CONCATENATE(VLOOKUP(リレー!E32,学校名簿!$B$2:$C$101,2,FALSE)),\"\")","v":""},{"$f":"IFERROR(CONCATENATE(VLOOKUP(リレー!F32,学校名簿!$B$2:$C$101,2,FALSE)),\"\")","v":""},{"$f":"IFERROR(CONCATENATE(VLOOKUP(リレー!G32,学校名簿!$B$2:$C$101,2,FALSE)),\"\")","v":""},{"$f":"IFERROR(CONCATENATE(VLOOKUP(リレー!H32,学校名簿!$B$2:$C$101,2,FALSE)),\"\")","v":""},{"$f":"IFERROR(CONCATENATE(VLOOKUP(リレー!I32,学校名簿!$B$2:$C$101,2,FALSE)),\"\")","v":""},{"$f":"IFERROR(CONCATENATE(VLOOKUP(リレー!J32,学校名簿!$B$2:$C$101,2,FALSE)),\"\")","v":""}]
[null,{"$f":"CONCATENATE(団体CSV!$H$2)","v":""},null,{"$f":"CONCATENATE(団体CSV!$G$2)","v":""},{"$f":"CONCATENATE(リレー!B33)","v":""},null,{"$f":"TEXT(リレー!D33,\"00000\")","v":"00000"},null,null,{"$f":"IFERROR(CONCATENATE(VLOOKUP(リレー!E33,学校名簿!$B$2:$C$101,2,FALSE)),\"\")","v":""},{"$f":"IFERROR(CONCATENATE(VLOOKUP(リレー!F33,学校名簿!$B$2:$C$101,2,FALSE)),\"\")","v":""},{"$f":"IFERROR(CONCATENATE(VLOOKUP(リレー!G33,学校名簿!$B$2:$C$101,2,FALSE)),\"\")","v":""},{"$f":"IFERROR(CONCATENATE(VLOOKUP(リレー!H33,学校名簿!$B$2:$C$101,2,FALSE)),\"\")","v":""},{"$f":"IFERROR(CONCATENATE(VLOOKUP(リレー!I33,学校名簿!$B$2:$C$101,2,FALSE)),\"\")","v":""},{"$f":"IFERROR(CONCATENATE(VLOOKUP(リレー!J33,学校名簿!$B$2:$C$101,2,FALSE)),\"\")","v":""}]
[null,{"$f":"CONCATENATE(団体CSV!$H$2)","v":""},null,{"$f":"CONCATENATE(団体CSV!$G$2)","v":""},{"$f":"CONCATENATE(リレー!B34)","v":""},null,{"$f":"TEXT(リレー!D34,\"00000\")","v":"00000"},null,null,{"$f":"IFERROR(CONCATENATE(VLOOKUP(リレー!E34,学校名簿!$B$2:$C$101,2,FALSE)),\"\")","v":""},{"$f":"IFERROR(CONCATENATE(VLOOKUP(リレー!F34,学校名簿!$B$2:$C$101,2,FALSE)),\"\")","v":""},{"$f":"IFERROR(CONCATENATE(VLOOKUP(リレー!G34,学校名簿!$B$2:$C$101,2,FALSE)),\"\")","v":""},{"$f":"IFERROR(CONCATENATE(VLOOKUP(リレー!H34,学校名簿!$B$2:$C$101,2,FALSE)),\"\")","v":""},{"$f":"IFERROR(CONCATENATE(VLOOKUP(リレー!I34,学校名簿!$B$2:$C$101,2,FALSE)),\"\")","v":""},{"$f":"IFERROR(CONCATENATE(VLOOKUP(リレー!J34,学校名簿!$B$2:$C$101,2,FALSE)),\"\")","v":""}]
[null,{"$f":"CONCATENATE(団体CSV!$H$2)","v":""},null,{"$f":"CONCATENATE(団体CSV!$G$2)","v":""},{"$f":"CONCATENATE(リレー!B35)","v":""},null,{"$f":"TEXT(リレー!D35,\"00000\")","v":"00000"},null,null,{"$f":"IFERROR(CONCATENATE(VLOOKUP(リレー!E35,学校名簿!$B$2:$C$101,2,FALSE)),\"\")","v":""},{"$f":"IFERROR(CONCATENATE(VLOOKUP(リレー!F35,学校名簿!$B$2:$C$101,2,FALSE)),\"\")","v":""},{"$f":"IFERROR(CONCATENATE(VLOOKUP(リレー!G35,学校名簿!$B$2:$C$101,2,FALSE)),\"\")","v":""},{"$f":"IFERROR(CONCATENATE(VLOOKUP(リレー!H35,学校名簿!$B$2:$C$101,2,FALSE)),\"\")","v":""},{"$f":"IFERROR(CONCATENATE(VLOOKUP(リレー!I35,学校名簿!$B$2:$C$101,2,FALSE)),\"\")","v":""},{"$f":"IFERROR(CONCATENATE(VLOOKUP(リレー!J35,学校名簿!$B$2:$C$101,2,FALSE)),\"\")","v":""}]
[null,{"$f":"CONCATENATE(団体CSV!$H$2)","v":""},null,{"$f":"CONCATENATE(団体CSV!$G$2)","v":""},{"$f":"CONCATENATE(リレー!B36)","v":""},null,{"$f":"TEXT(リレー!D36,\"00000\")","v":"00000"},null,null,{"$f":"IFERROR(CONCATENATE(VLOOKUP(リレー!E36,学校名簿!$B$2:$C$101,2,FALSE)),\"\")","v":""},{"$f":"IFERROR(CONCATENATE(VLOOKUP(リレー!F36,学校名簿!$B$2:$C$101,2,FALSE)),\"\")","v":""},{"$f":"IFERROR(CONCATENATE(VLOOKUP(リレー!G36,学校名簿!$B$2:$C$101,2,FALSE)),\"\")","v":""},{"$f":"IFERROR(CONCATENATE(VLOOKUP(リレー!H36,学校名簿!$B$2:$C$101,2,FALSE)),\"\")","v":""},{"$f":"IFERROR(CONCATENATE(VLOOKUP(リレー!I36,学校名簿!$B$2:$C$101,2,FALSE)),\"\")","v":""},{"$f":"IFERROR(CONCATENATE(VLOOKUP(リレー!J36,学校名簿!$B$2:$C$101,2,FALSE)),\"\")","v":""}]
[null,{"$f":"CONCATENATE(団体CSV!$H$2)","v":""},null,{"$f":"CONCATENATE(団体CSV!$G$2)","v":""},{"$f":"CONCATENATE(リレー!B37)","v":""},null,{"$f":"TEXT(リレー!D37,\"00000\")","v":"00000"},null,null,{"$f":"IFERROR(CONCATENATE(VLOOKUP(リレー!E37,学校名簿!$B$2:$C$101,2,FALSE)),\"\")","v":""},{"$f":"IFERROR(CONCATENATE(VLOOKUP(リレー!F37,学校名簿!$B$2:$C$101,2,FALSE)),\"\")","v":""},{"$f":"IFERROR(CONCATENATE(VLOOKUP(リレー!G37,学校名簿!$B$2:$C$101,2,FALSE)),\"\")","v":""},{"$f":"IFERROR(CONCATENATE(VLOOKUP(リレー!H37,学校名簿!$B$2:$C$101,2,FALSE)),\"\")","v":""},{"$f":"IFERROR(CONCATENATE(VLOOKUP(リレー!I37,学校名簿!$B$2:$C$101,2,FALSE)),\"\")","v":""},{"$f":"IFERROR(CONCATENATE(VLOOKUP(リレー!J37,学校名簿!$B$2:$C$101,2,FALSE)),\"\")","v":""}]

{"sheet":"学校名簿","index":10,"n_rows":101,"n_cols":8,"rows_kept":101,"cut":false,"hidden":true,"merged":[[1,5,1,7]]}
[null,"名前","DB"]
[null,{"$f":"CONCATENATE(競技者一覧!C22)","v":""},{"$f":"CONCATENATE(団体CSV!B2)","v":"001"},{"$f":"IFERROR(VLOOKUP(競技者一覧!$D$6,Sheet4!$D$2:$E$49,2,FALSE),\"\")","v":""},null,"役員名"]
[null,{"$f":"CONCATENATE(競技者一覧!C23)","v":""},{"$f":"CONCATENATE(団体CSV!B3)","v":"002"},{"$f":"IFERROR(VLOOKUP(競技者一覧!$D$6,Sheet4!$D$2:$E$49,2,FALSE),\"\")","v":""},{"$f":"CONCATENATE(競技者一覧!$D$7)","v":""},{"$f":"CONCATENATE(競技者一覧!$L$6)","v":""},{"$f":"CONCATENATE(競技者一覧!$L$7)","v":""},{"$f":"CONCATENATE(競技者一覧!$L$8)","v":""}]
[null,{"$f":"CONCATENATE(競技者一覧!C24)","v":""},{"$f":"CONCATENATE(団体CSV!B4)","v":"003"},{"$f":"IFERROR(VLOOKUP(競技者一覧!$D$6,Sheet4!$D$2:$E$49,2,FALSE),\"\")","v":""}]
[null,{"$f":"CONCATENATE(競技者一覧!C25)","v":""},{"$f":"CONCATENATE(団体CSV!B5)","v":"004"},{"$f":"IFERROR(VLOOKUP(競技者一覧!$D$6,Sheet4!$D$2:$E$49,2,FALSE),\"\")","v":""}]
[null,{"$f":"CONCATENATE(競技者一覧!C26)","v":""},{"$f":"CONCATENATE(団体CSV!B6)","v":"005"},{"$f":"IFERROR(VLOOKUP(競技者一覧!$D$6,Sheet4!$D$2:$E$49,2,FALSE),\"\")","v":""}]
[null,{"$f":"CONCATENATE(競技者一覧!C27)","v":""},{"$f":"CONCATENATE(団体CSV!B7)","v":"006"},{"$f":"IFERROR(VLOOKUP(競技者一覧!$D$6,Sheet4!$D$2:$E$49,2,FALSE),\"\")","v":""}]
[null,{"$f":"CONCATENATE(競技者一覧!C28)","v":""},{"$f":"CONCATENATE(団体CSV!B8)","v":"007"},{"$f":"IFERROR(VLOOKUP(競技者一覧!$D$6,Sheet4!$D$2:$E$49,2,FALSE),\"\")","v":""}]
[null,{"$f":"CONCATENATE(競技者一覧!C29)","v":""},{"$f":"CONCATENATE(団体CSV!B9)","v":"008"},{"$f":"IFERROR(VLOOKUP(競技者一覧!$D$6,Sheet4!$D$2:$E$49,2,FALSE),\"\")","v":""}]
[null,{"$f":"CONCATENATE(競技者一覧!C30)","v":""},{"$f":"CONCATENATE(団体CSV!B10)","v":"009"},{"$f":"IFERROR(VLOOKUP(競技者一覧!$D$6,Sheet4!$D$2:$E$49,2,FALSE),\"\")","v":""}]
[null,{"$f":"CONCATENATE(競技者一覧!C31)","v":""},{"$f":"CONCATENATE(団体CSV!B11)","v":"010"},{"$f":"IFERROR(VLOOKUP(競技者一覧!$D$6,Sheet4!$D$2:$E$49,2,FALSE),\"\")","v":""}]
[null,{"$f":"CONCATENATE(競技者一覧!C32)","v":""},{"$f":"CONCATENATE(団体CSV!B12)","v":"011"},{"$f":"IFERROR(VLOOKUP(競技者一覧!$D$6,Sheet4!$D$2:$E$49,2,FALSE),\"\")","v":""}]
[null,{"$f":"CONCATENATE(競技者一覧!C33)","v":""},{"$f":"CONCATENATE(団体CSV!B13)","v":"012"},{"$f":"IFERROR(VLOOKUP(競技者一覧!$D$6,Sheet4!$D$2:$E$49,2,FALSE),\"\")","v":""}]
[null,{"$f":"CONCATENATE(競技者一覧!C34)","v":""},{"$f":"CONCATENATE(団体CSV!B14)","v":"013"},{"$f":"IFERROR(VLOOKUP(競技者一覧!$D$6,Sheet4!$D$2:$E$49,2,FALSE),\"\")","v":""}]
[null,{"$f":"CONCATENATE(競技者一覧!C35)","v":""},{"$f":"CONCATENATE(団体CSV!B15)","v":"014"},{"$f":"IFERROR(VLOOKUP(競技者一覧!$D$6,Sheet4!$D$2:$E$49,2,FALSE),\"\")","v":""}]
[null,{"$f":"CONCATENATE(競技者一覧!C36)","v":""},{"$f":"CONCATENATE(団体CSV!B16)","v":"015"},{"$f":"IFERROR(VLOOKUP(競技者一覧!$D$6,Sheet4!$D$2:$E$49,2,FALSE),\"\")","v":""}]
[null,{"$f":"CONCATENATE(競技者一覧!C37)","v":""},{"$f":"CONCATENATE(団体CSV!B17)","v":"016"},{"$f":"IFERROR(VLOOKUP(競技者一覧!$D$6,Sheet4!$D$2:$E$49,2,FALSE),\"\")","v":""}]
[null,{"$f":"CONCATENATE(競技者一覧!C38)","v":""},{"$f":"CONCATENATE(団体CSV!B18)","v":"017"},{"$f":"IFERROR(VLOOKUP(競技者一覧!$D$6,Sheet4!$D$2:$E$49,2,FALSE),\"\")","v":""}]
[null,{"$f":"CONCATENATE(競技者一覧!C39)","v":""},{"$f":"CONCATENATE(団体CSV!B19)","v":"018"},{"$f":"IFERROR(VLOOKUP(競技者一覧!$D$6,Sheet4!$D$2:$E$49,2,FALSE),\"\")","v":""}]
[null,{"$f":"CONCATENATE(競技者一覧!C40)","v":""},{"$f":"CONCATENATE(団体CSV!B20)","v":"019"},{"$f":"IFERROR(VLOOKUP(競技者一覧!$D$6,Sheet4!$D$2:$E$49,2,FALSE),\"\")","v":""}]
[null,{"$f":"CONCATENATE(競技者一覧!C41)","v":""},{"$f":"CONCATENATE(団体CSV!B21)","v":"020"},{"$f":"IFERROR(VLOOKUP(競技者一覧!$D$6,Sheet4!$D$2:$E$49,2,FALSE),\"\")","v":""}]
[null,{"$f":"CONCATENATE(競技者一覧!C42)","v":""},{"$f":"CONCATENATE(団体CSV!B22)","v":"021"},{"$f":"IFERROR(VLOOKUP(競技者一覧!$D$6,Sheet4!$D$2:$E$49,2,FALSE),\"\")","v":""}]
[null,{"$f":"CONCATENATE(競技者一覧!C43)","v":""},{"$f":"CONCATENATE(団体CSV!B23)","v":"022"},{"$f":"IFERROR(VLOOKUP(競技者一覧!$D$6,Sheet4!$D$2:$E$49,2,FALSE),\"\")","v":""}]
[null,{"$f":"CONCATENATE(競技者一覧!C44)","v":""},{"$f":"CONCATENATE(団体CSV!B24)","v":"023"},{"$f":"IFERROR(VLOOKUP(競技者一覧!$D$6,Sheet4!$D$2:$E$49,2,FALSE),\"\")","v":""}]
[null,{"$f":"CONCATENATE(競技者一覧!C45)","v":""},{"$f":"CONCATENATE(団体CSV!B25)","v":"024"},{"$f":"IFERROR(VLOOKUP(競技者一覧!$D$6,Sheet4!$D$2:$E$49,2,FALSE),\"\")","v":""}]
[null,{"$f":"CONCATENATE(競技者一覧!C46)","v":""},{"$f":"CONCATENATE(団体CSV!B26)","v":"025"},{"$f":"IFERROR(VLOOKUP(競技者一覧!$D$6,Sheet4!$D$2:$E$49,2,FALSE),\"\")","v":""}]
[null,{"$f":"CONCATENATE(競技者一覧!C47)","v":""},{"$f":"CONCATENATE(団体CSV!B27)","v":"026"},{"$f":"IFERROR(VLOOKUP(競技者一覧!$D$6,Sheet4!$D$2:$E$49,2,FALSE),\"\")","v":""}]
[null,{"$f":"CONCATENATE(競技者一覧!C48)","v":""},{"$f":"CONCATENATE(団体CSV!B28)","v":"027"},{"$f":"IFERROR(VLOOKUP(競技者一覧!$D$6,Sheet4!$D$2:$E$49,2,FALSE),\"\")","v":""}]
[null,{"$f":"CONCATENATE(競技者一覧!C49)","v":""},{"$f":"CONCATENATE(団体CSV!B29)","v":"028"},{"$f":"IFERROR(VLOOKUP(競技者一覧!$D$6,Sheet4!$D$2:$E$49,2,FALSE),\"\")","v":""}]
[null,{"$f":"CONCATENATE(競技者一覧!C50)","v":""},{"$f":"CONCATENATE(団体CSV!B30)","v":"029"},{"$f":"IFERROR(VLOOKUP(競技者一覧!$D$6,Sheet4!$D$2:$E$49,2,FALSE),\"\")","v":""}]
[null,{"$f":"CONCATENATE(競技者一覧!C51)","v":""},{"$f":"CONCATENATE(団体CSV!B31)","v":"030"},{"$f":"IFERROR(VLOOKUP(競技者一覧!$D$6,Sheet4!$D$2:$E$49,2,FALSE),\"\")","v":""}]
[null,{"$f":"CONCATENATE(競技者一覧!C52)","v":""},{"$f":"CONCATENATE(団体CSV!B32)","v":"031"},{"$f":"IFERROR(VLOOKUP(競技者一覧!$D$6,Sheet4!$D$2:$E$49,2,FALSE),\"\")","v":""}]
[null,{"$f":"CONCATENATE(競技者一覧!C53)","v":""},{"$f":"CONCATENATE(団体CSV!B33)","v":"032"},{"$f":"IFERROR(VLOOKUP(競技者一覧!$D$6,Sheet4!$D$2:$E$49,2,FALSE),\"\")","v":""}]
[null,{"$f":"CONCATENATE(競技者一覧!C54)","v":""},{"$f":"CONCATENATE(団体CSV!B34)","v":"033"},{"$f":"IFERROR(VLOOKUP(競技者一覧!$D$6,Sheet4!$D$2:$E$49,2,FALSE),\"\")","v":""}]
[null,{"$f":"CONCATENATE(競技者一覧!C55)","v":""},{"$f":"CONCATENATE(団体CSV!B35)","v":"034"},{"$f":"IFERROR(VLOOKUP(競技者一覧!$D$6,Sheet4!$D$2:$E$49,2,FALSE),\"\")","v":""}]
[null,{"$f":"CONCATENATE(競技者一覧!C56)","v":""},{"$f":"CONCATENATE(団体CSV!B36)","v":"035"},{"$f":"IFERROR(VLOOKUP(競技者一覧!$D$6,Sheet4!$D$2:$E$49,2,FALSE),\"\")","v":""}]
[null,{"$f":"CONCATENATE(競技者一覧!C57)","v":""},{"$f":"CONCATENATE(団体CSV!B37)","v":"036"},{"$f":"IFERROR(VLOOKUP(競技者一覧!$D$6,Sheet4!$D$2:$E$49,2,FALSE),\"\")","v":""}]
[null,{"$f":"CONCATENATE(競技者一覧!C58)","v":""},{"$f":"CONCATENATE(団体CSV!B38)","v":"037"},{"$f":"IFERROR(VLOOKUP(競技者一覧!$D$6,Sheet4!$D$2:$E$49,2,FALSE),\"\")","v":""}]
[null,{"$f":"CONCATENATE(競技者一覧!C59)","v":""},{"$f":"CONCATENATE(団体CSV!B39)","v":"038"},{"$f":"IFERROR(VLOOKUP(競技者一覧!$D$6,Sheet4!$D$2:$E$49,2,FALSE),\"\")","v":""}]
[null,{"$f":"CONCATENATE(競技者一覧!C60)","v":""},{"$f":"CONCATENATE(団体CSV!B40)","v":"039"},{"$f":"IFERROR(VLOOKUP(競技者一覧!$D$6,Sheet4!$D$2:$E$49,2,FALSE),\"\")","v":""}]
[null,{"$f":"CONCATENATE(競技者一覧!C61)","v":""},{"$f":"CONCATENATE(団体CSV!B41)","v":"040"},{"$f":"IFERROR(VLOOKUP(競技者一覧!$D$6,Sheet4!$D$2:$E$49,2,FALSE),\"\")","v":""}]
[null,{"$f":"CONCATENATE(競技者一覧!C62)","v":""},{"$f":"CONCATENATE(団体CSV!B42)","v":"041"},{"$f":"IFERROR(VLOOKUP(競技者一覧!$D$6,Sheet4!$D$2:$E$49,2,FALSE),\"\")","v":""}]
[null,{"$f":"CONCATENATE(競技者一覧!C63)","v":""},{"$f":"CONCATENATE(団体CSV!B43)","v":"042"},{"$f":"IFERROR(VLOOKUP(競技者一覧!$D$6,Sheet4!$D$2:$E$49,2,FALSE),\"\")","v":""}]
[null,{"$f":"CONCATENATE(競技者一覧!C64)","v":""},{"$f":"CONCATENATE(団体CSV!B44)","v":"043"},{"$f":"IFERROR(VLOOKUP(競技者一覧!$D$6,Sheet4!$D$2:$E$49,2,FALSE),\"\")","v":""}]
[null,{"$f":"CONCATENATE(競技者一覧!C65)","v":""},{"$f":"CONCATENATE(団体CSV!B45)","v":"044"},{"$f":"IFERROR(VLOOKUP(競技者一覧!$D$6,Sheet4!$D$2:$E$49,2,FALSE),\"\")","v":""}]
[null,{"$f":"CONCATENATE(競技者一覧!C66)","v":""},{"$f":"CONCATENATE(団体CSV!B46)","v":"045"},{"$f":"IFERROR(VLOOKUP(競技者一覧!$D$6,Sheet4!$D$2:$E$49,2,FALSE),\"\")","v":""}]
[null,{"$f":"CONCATENATE(競技者一覧!C67)","v":""},{"$f":"CONCATENATE(団体CSV!B47)","v":"046"},{"$f":"IFERROR(VLOOKUP(競技者一覧!$D$6,Sheet4!$D$2:$E$49,2,FALSE),\"\")","v":""}]
[null,{"$f":"CONCATENATE(競技者一覧!C68)","v":""},{"$f":"CONCATENATE(団体CSV!B48)","v":"047"},{"$f":"IFERROR(VLOOKUP(競技者一覧!$D$6,Sheet4!$D$2:$E$49,2,FALSE),\"\")","v":""}]
[null,{"$f":"CONCATENATE(競技者一覧!C69)","v":""},{"$f":"CONCATENATE(団体CSV!B49)","v":"048"},{"$f":"IFERROR(VLOOKUP(競技者一覧!$D$6,Sheet4!$D$2:$E$49,2,FALSE),\"\")","v":""}]
[null,{"$f":"CONCATENATE(競技者一覧!C70)","v":""},{"$f":"CONCATENATE(団体CSV!B50)","v":"049"},{"$f":"IFERROR(VLOOKUP(競技者一覧!$D$6,Sheet4!$D$2:$E$49,2,FALSE),\"\")","v":""}]
[null,{"$f":"CONCATENATE(競技者一覧!C71)","v":""},{"$f":"CONCATENATE(団体CSV!B51)","v":"050"},{"$f":"IFERROR(VLOOKUP(競技者一覧!$D$6,Sheet4!$D$2:$E$49,2,FALSE),\"\")","v":""}]
[null,{"$f":"CONCATENATE(競技者一覧!C72)","v":""},{"$f":"CONCATENATE(団体CSV!B52)","v":"051"},{"$f":"IFERROR(VLOOKUP(競技者一覧!$D$6,Sheet4!$D$2:$E$49,2,FALSE),\"\")","v":""}]
[null,{"$f":"CONCATENATE(競技者一覧!C73)","v":""},{"$f":"CONCATENATE(団体CSV!B53)","v":"052"},{"$f":"IFERROR(VLOOKUP(競技者一覧!$D$6,Sheet4!$D$2:$E$49,2,FALSE),\"\")","v":""}]
[null,{"$f":"CONCATENATE(競技者一覧!C74)","v":""},{"$f":"CONCATENATE(団体CSV!B54)","v":"053"},{"$f":"IFERROR(VLOOKUP(競技者一覧!$D$6,Sheet4!$D$2:$E$49,2,FALSE),\"\")","v":""}]
[null,{"$f":"CONCATENATE(競技者一覧!C75)","v":""},{"$f":"CONCATENATE(団体CSV!B55)","v":"054"},{"$f":"IFERROR(VLOOKUP(競技者一覧!$D$6,Sheet4!$D$2:$E$49,2,FALSE),\"\")","v":""}]
[null,{"$f":"CONCATENATE(競技者一覧!C76)","v":""},{"$f":"CONCATENATE(団体CSV!B56)","v":"055"},{"$f":"IFERROR(VLOOKUP(競技者一覧!$D$6,Sheet4!$D$2:$E$49,2,FALSE),\"\")","v":""}]
[null,{"$f":"CONCATENATE(競技者一覧!C77)","v":""},{"$f":"CONCATENATE(団体CSV!B57)","v":"056"},{"$f":"IFERROR(VLOOKUP(競技者一覧!$D$6,Sheet4!$D$2:$E$49,2,FALSE),\"\")","v":""}]
[null,{"$f":"CONCATENATE(競技者一覧!C78)","v":""},{"$f":"CONCATENATE(団体CSV!B58)","v":"057"},{"$f":"IFERROR(VLOOKUP(競技者一覧!$D$6,Sheet4!$D$2:$E$49,2,FALSE),\"\")","v":""}]
[null,{"$f":"CONCATENATE(競技者一覧!C79)","v":""},{"$f":"CONCATENATE(団体CSV!B59)","v":"058"},{"$f":"IFERROR(VLOOKUP(競技者一覧!$D$6,Sheet4!$D$2:$E$49,2,FALSE),\"\")","v":""}]
[null,{"$f":"CONCATENATE(競技者一覧!C80)","v":""},{"$f":"CONCATENATE(団体CSV!B60)","v":"059"},{"$f":"IFERROR(VLOOKUP(競技者一覧!$D$6,Sheet4!$D$2:$E$49,2,FALSE),\"\")","v":""}]
[null,{"$f":"CONCATENATE(競技者一覧!C81)","v":""},{"$f":"CONCATENATE(団体CSV!B61)","v":"060"},{"$f":"IFERROR(VLOOKUP(競技者一覧!$D$6,Sheet4!$D$2:$E$49,2,FALSE),\"\")","v":""}]
[null,{"$f":"CONCATENATE(競技者一覧!C82)","v":""},{"$f":"CONCATENATE(団体CSV!B62)","v":"061"},{"$f":"IFERROR(VLOOKUP(競技者一覧!$D$6,Sheet4!$D$2:$E$49,2,FALSE),\"\")","v":""}]
[null,{"$f":"CONCATENATE(競技者一覧!C83)","v":""},{"$f":"CONCATENATE(団体CSV!B63)","v":"062"},{"$f":"IFERROR(VLOOKUP(競技者一覧!$D$6,Sheet4!$D$2:$E$49,2,FALSE),\"\")","v":""}]
[null,{"$f":"CONCATENATE(競技者一覧!C84)","v":""},{"$f":"CONCATENATE(団体CSV!B64)","v":"063"},{"$f":"IFERROR(VLOOKUP(競技者一覧!$D$6,Sheet4!$D$2:$E$49,2,FALSE),\"\")","v":""}]
[null,{"$f":"CONCATENATE(競技者一覧!C85)","v":""},{"$f":"CONCATENATE(団体CSV!B65)","v":"064"},{"$f":"IFERROR(VLOOKUP(競技者一覧!$D$6,Sheet4!$D$2:$E$49,2,FALSE),\"\")","v":""}]
[null,{"$f":"CONCATENATE(競技者一覧!C86)","v":""},{"$f":"CONCATENATE(団体CSV!B66)","v":"065"},{"$f":"IFERROR(VLOOKUP(競技者一覧!$D$6,Sheet4!$D$2:$E$49,2,FALSE),\"\")","v":""}]
[null,{"$f":"CONCATENATE(競技者一覧!C87)","v":""},{"$f":"CONCATENATE(団体CSV!B67)","v":"066"},{"$f":"IFERROR(VLOOKUP(競技者一覧!$D$6,Sheet4!$D$2:$E$49,2,FALSE),\"\")","v":""}]
[null,{"$f":"CONCATENATE(競技者一覧!C88)","v":""},{"$f":"CONCATENATE(団体CSV!B68)","v":"067"},{"$f":"IFERROR(VLOOKUP(競技者一覧!$D$6,Sheet4!$D$2:$E$49,2,FALSE),\"\")","v":""}]
[null,{"$f":"CONCATENATE(競技者一覧!C89)","v":""},{"$f":"CONCATENATE(団体CSV!B69)","v":"068"},{"$f":"IFERROR(VLOOKUP(競技者一覧!$D$6,Sheet4!$D$2:$E$49,2,FALSE),\"\")","v":""}]
[null,{"$f":"CONCATENATE(競技者一覧!C90)","v":""},{"$f":"CONCATENATE(団体CSV!B70)","v":"069"},{"$f":"IFERROR(VLOOKUP(競技者一覧!$D$6,Sheet4!$D$2:$E$49,2,FALSE),\"\")","v":""}]
[null,{"$f":"CONCATENATE(競技者一覧!C91)","v":""},{"$f":"CONCATENATE(団体CSV!B71)","v":"070"},{"$f":"IFERROR(VLOOKUP(競技者一覧!$D$6,Sheet4!$D$2:$E$49,2,FALSE),\"\")","v":""}]
[null,{"$f":"CONCATENATE(競技者一覧!C92)","v":""},{"$f":"CONCATENATE(団体CSV!B72)","v":"071"},{"$f":"IFERROR(VLOOKUP(競技者一覧!$D$6,Sheet4!$D$2:$E$49,2,FALSE),\"\")","v":""}]
[null,{"$f":"CONCATENATE(競技者一覧!C93)","v":""},{"$f":"CONCATENATE(団体CSV!B73)","v":"072"},{"$f":"IFERROR(VLOOKUP(競技者一覧!$D$6,Sheet4!$D$2:$E$49,2,FALSE),\"\")","v":""}]
[null,{"$f":"CONCATENATE(競技者一覧!C94)","v":""},{"$f":"CONCATENATE(団体CSV!B74)","v":"073"},{"$f":"IFERROR(VLOOKUP(競技者一覧!$D$6,Sheet4!$D$2:$E$49,2,FALSE),\"\")","v":""}]
[null,{"$f":"CONCATENATE(競技者一覧!C95)","v":""},{"$f":"CONCATENATE(団体CSV!B75)","v":"074"},{"$f":"IFERROR(VLOOKUP(競技者一覧!$D$6,Sheet4!$D$2:$E$49,2,FALSE),\"\")","v":""}]
[null,{"$f":"CONCATENATE(競技者一覧!C96)","v":""},{"$f":"CONCATENATE(団体CSV!B76)","v":"075"},{"$f":"IFERROR(VLOOKUP(競技者一覧!$D$6,Sheet4!$D$2:$E$49,2,FALSE),\"\")","v":""}]
[null,{"$f":"CONCATENATE(競技者一覧!C97)","v":""},{"$f":"CONCATENATE(団体CSV!B77)","v":"076"},{"$f":"IFERROR(VLOOKUP(競技者一覧!$D$6,Sheet4!$D$2:$E$49,2,FALSE),\"\")","v":""}]
[null,{"$f":"CONCATENATE(競技者一覧!C98)","v":""},{"$f":"CONCATENATE(団体CSV!B78)","v":"077"},{"$f":"IFERROR(VLOOKUP(競技者一覧!$D$6,Sheet4!$D$2:$E$49,2,FALSE),\"\")","v":""}]
[null,{"$f":"CONCATENATE(競技者一覧!C99)","v":""},{"$f":"CONCATENATE(団体CSV!B79)","v":"078"},{"$f":"IFERROR(VLOOKUP(競技者一覧!$D$6,Sheet4!$D$2:$E$49,2,FALSE),\"\")","v":""}]
[null,{"$f":"CONCATENATE(競技者一覧!C100)","v":""},{"$f":"CONCATENATE(団体CSV!B80)","v":"079"},{"$f":"IFERROR(VLOOKUP(競技者一覧!$D$6,Sheet4!$D$2:$E$49,2,FALSE),\"\")","v":""}]
[null,{"$f":"CONCATENATE(競技者一覧!C101)","v":""},{"$f":"CONCATENATE(団体CSV!B81)","v":"080"},{"$f":"IFERROR(VLOOKUP(競技者一覧!$D$6,Sheet4!$D$2:$E$49,2,FALSE),\"\")","v":""}]
[null,{"$f":"CONCATENATE(競技者一覧!C102)","v":""},{"$f":"CONCATENATE(団体CSV!B82)","v":"081"},{"$f":"IFERROR(VLOOKUP(競技者一覧!$D$6,Sheet4!$D$2:$E$49,2,FALSE),\"\")","v":""}]
[null,{"$f":"CONCATENATE(競技者一覧!C103)","v":""},{"$f":"CONCATENATE(団体CSV!B83)","v":"082"},{"$f":"IFERROR(VLOOKUP(競技者一覧!$D$6,Sheet4!$D$2:$E$49,2,FALSE),\"\")","v":""}]
[null,{"$f":"CONCATENATE(競技者一覧!C104)","v":""},{"$f":"CONCATENATE(団体CSV!B84)","v":"083"},{"$f":"IFERROR(VLOOKUP(競技者一覧!$D$6,Sheet4!$D$2:$E$49,2,FALSE),\"\")","v":""}]
[null,{"$f":"CONCATENATE(競技者一覧!C105)","v":""},{"$f":"CONCATENATE(団体CSV!B85)","v":"084"},{"$f":"IFERROR(VLOOKUP(競技者一覧!$D$6,Sheet4!$D$2:$E$49,2,FALSE),\"\")","v":""}]
[null,{"$f":"CONCATENATE(競技者一覧!C106)","v":""},{"$f":"CONCATENATE(団体CSV!B86)","v":"085"},{"$f":"IFERROR(VLOOKUP(競技者一覧!$D$6,Sheet4!$D$2:$E$49,2,FALSE),\"\")","v":""}]
[null,{"$f":"CONCATENATE(競技者一覧!C107)","v":""},{"$f":"CONCATENATE(団体CSV!B87)","v":"086"},{"$f":"IFERROR(VLOOKUP(競技者一覧!$D$6,Sheet4!$D$2:$E$49,2,FALSE),\"\")","v":""}]
[null,{"$f":"CONCATENATE(競技者一覧!C108)","v":""},{"$f":"CONCATENATE(団体CSV!B88)","v":"087"},{"$f":"IFERROR(VLOOKUP(競技者一覧!$D$6,Sheet4!$D$2:$E$49,2,FALSE),\"\")","v":""}]
[null,{"$f":"CONCATENATE(競技者一覧!C109)","v":""},{"$f":"CONCATENATE(団体CSV!B89)","v":"088"},{"$f":"IFERROR(VLOOKUP(競技者一覧!$D$6,Sheet4!$D$2:$E$49,2,FALSE),\"\")","v":""}]
[null,{"$f":"CONCATENATE(競技者一覧!C110)","v":""},{"$f":"CONCATENATE(団体CSV!B90)","v":"089"},{"$f":"IFERROR(VLOOKUP(競技者一覧!$D$6,Sheet4!$D$2:$E$49,2,FALSE),\"\")","v":""}]
[null,{"$f":"CONCATENATE(競技者一覧!C111)","v":""},{"$f":"CONCATENATE(団体CSV!B91)","v":"090"},{"$f":"IFERROR(VLOOKUP(競技者一覧!$D$6,Sheet4!$D$2:$E$49,2,FALSE),\"\")","v":""}]
[null,{"$f":"CONCATENATE(競技者一覧!C112)","v":""},{"$f":"CONCATENATE(団体CSV!B92)","v":"091"},{"$f":"IFERROR(VLOOKUP(競技者一覧!$D$6,Sheet4!$D$2:$E$49,2,FALSE),\"\")","v":""}]
[null,{"$f":"CONCATENATE(競技者一覧!C113)","v":""},{"$f":"CONCATENATE(団体CSV!B93)","v":"092"},{"$f":"IFERROR(VLOOKUP(競技者一覧!$D$6,Sheet4!$D$2:$E$49,2,FALSE),\"\")","v":""}]
[null,{"$f":"CONCATENATE(競技者一覧!C114)","v":""},{"$f":"CONCATENATE(団体CSV!B94)","v":"093"},{"$f":"IFERROR(VLOOKUP(競技者一覧!$D$6,Sheet4!$D$2:$E$49,2,FALSE),\"\")","v":""}]
[null,{"$f":"CONCATENATE(競技者一覧!C115)","v":""},{"$f":"CONCATENATE(団体CSV!B95)","v":"094"},{"$f":"IFERROR(VLOOKUP(競技者一覧!$D$6,Sheet4!$D$2:$E$49,2,FALSE),\"\")","v":""}]
[null,{"$f":"CONCATENATE(競技者一覧!C116)","v":""},{"$f":"CONCATENATE(団体CSV!B96)","v":"095"},{"$f":"IFERROR(VLOOKUP(競技者一覧!$D$6,Sheet4!$D$2:$E$49,2,FALSE),\"\")","v":""}]
[null,{"$f":"CONCATENATE(競技者一覧!C117)","v":""},{"$f":"CONCATENATE(団体CSV!B97)","v":"096"},{"$f":"IFERROR(VLOOKUP(競技者一覧!$D$6,Sheet4!$D$2:$E$49,2,FALSE),\"\")","v":""}]
[null,{"$f":"CONCATENATE(競技者一覧!C118)","v":""},{"$f":"CONCATENATE(団体CSV!B98)","v":"097"},{"$f":"IFERROR(VLOOKUP(競技者一覧!$D$6,Sheet4!$D$2:$E$49,2,FALSE),\"\")","v":""}]
[null,{"$f":"CONCATENATE(競技者一覧!C119)","v":""},{"$f":"CONCATENATE(団体CSV!B99)","v":"098"},{"$f":"IFERROR(VLOOKUP(競技者一覧!$D$6,Sheet4!$D$2:$E$49,2,FALSE),\"\")","v":""}]
[null,{"$f":"CONCATENATE(競技者一覧!C120)","v":""},{"$f":"CONCATENATE(団体CSV!B100)","v":"099"},{"$f":"IFERROR(VLOOKUP(競技者一覧!$D$6,Sheet4!$D$2:$E$49,2,FALSE),\"\")","v":""}]
[null,{"$f":"CONCATENATE(競技者一覧!C121)","v":""},{"$f":"CONCATENATE(団体CSV!B101)","v":"100"},{"$f":"IFERROR(VLOOKUP(競技者一覧!$D$6,Sheet4!$D$2:$E$49,2,FALSE),\"\")","v":""}]

{"sheet":"学校番号表","index":11,"n_rows":1097,"n_cols":3,"rows_kept":1097,"cut":false,"hidden":true,"merged":[]}
[null,"N3","DB"]
[null,"札幌陸協",10001]
[null,"６５BASE",10101]
[null,"Dookie",10102]
[null,"岩手陸協",30000]
[null,"いしわり桜AC",30011]
[null,"茨城陸協",80000]
[null,"勝田第三中",80201]
[null,"茂木中",90201]
[null,"i-sports",100011]
[null,"UNITE",110011]
[null,"S&B SPICE",110012]
[null,"Front Run",110013]
[null,"さいたま三室中",110201]
[null,"福原中",110202]
[null,"千葉陸協",120000]
[null,"東亜道路工業",120011]
[null,"IMAGICA Lab.",120012]
[null,"東京陸協",130000]
[null,"日本生命",130011]
[null,"チーム武蔵野",130012]
[null,"法大工",130013]
[null,"内田洋行アスリートク",130014]
[null,"AD損保陸上部",130015]
[null,"アトレ",130016]
[null,"長谷工グループ",130017]
[null,"サンベルクス",130018]
[null,"セイコー",130019]
[null,"富士通",130020]
[null,"ACKITA",130021]
[null,"ゴールドジム",130022]
[null,"神奈川陸協",140000]
[null,"川崎市陸協",140001]
[null,"SAC",140011]
[null,"TEAM HAL.",140012]
[null,"ニッパツ",140013]
[null,"三友アスリートクラブ",140014]
[null,"SrtechAC",140015]
[null,"TKN",140016]
[null,"HUREC RC",140017]
[null,"レジェンズ",140018]
[null,"ノジマT&FC",140019]
[null,"上永谷中",140020]
[null,"白南中",150201]
[null,"富山第一高",160101]
[null,"高岡商業高",160102]
[null,"小杉中",160103]
[null,"石川陸協",170000]
[null,"SK unite",170001]
[null,"小松商高",170101]
[null,"福井陸協",180000]
[null,"福井市役所",180011]
[null,"Cynthia",180012]
[null,"美浜中",180201]
[null,"進明中",180202]
[null,"山梨陸協",190000]
[null,"山梨さえき",190011]
[null,"岐阜陸協",210000]
[null,"ROBLE",210011]
[null,"各務原JAC",210012]
[null,"中津川TFC",210013]
[null,"岐阜アスリート",210014]
[null,"岐阜商業高",210101]
[null,"済美高",210102]
[null,"市岐阜商業高",210103]
[null,"関商工高",210104]
[null,"羽島中",210201]
[null,"日新中",210202]
[null,"日枝中",210203]
[null,"静岡陸協",220000]
[null,"SMILEY  ANGEL",220011]
[null,"KTMKOM",220012]
[null,"田子重",220013]
[null,"NEXT.静岡陸上クラブ",220014]
[null,"浜松南高",220101]
[null,"愛知陸協",230000]
[null,"愛知マスターズ",230001]
[null,"HIDESONZ",230011]
[null,"Infinity Athlete & R",230012]
[null,"No-Mark",230013]
[null,"POWERMAX(愛知)",230014]
[null,"TFO",230015]
[null,"加藤建設",230016]
[null,"至学館クラブ",230017]
[null,"みかん山",230018]
[null,"安城学園AC",230019]
[null,"岡崎TFC",230020]
[null,"小島プレス",230021]
[null,"東三河AC",230022]
[null,"豊田自動織機",230023]
[null,"鈴波",230024]
[null,"AC一宮",230025]
[null,"Try-C",230026]
[null,"デンソー",230027]
[null,"ライオンハート",230028]
[null,"キョウエイ",230029]
[null,"至学館AC",230030]
[null,"トヨタ自動車",230031]
[null,"東海理化",230032]
[null,"ＥＶＯＬ",230033]
[null,"南山TFC",230034]
[null,"Running Design",230035]
[null,"ALashi",230036]
[null,"AC一宮 Junior",230037]
[null,"JUMP LAB",230038]
[null,"刈谷高",230101]
[null,"至学館高",230102]
[null,"安城学園高",230103]
[null,"岡崎城西高",230104]
[null,"中京大中京高",230105]
[null,"名城大学附属高",230106]
[null,"Try-C",230107]
[null,"栄徳高",230108]
[null,"西尾東高",230109]
[null,"一宮南高",230110]
[null,"三好高",230111]
[null,"TSM",230201]
[null,"TSM岡崎",230202]
[null,"日進西中",230203]
[null,"大口中",230204]
[null,"鶴城中",230205]
[null,"平坂中",230206]
[null,"当知中",230207]
[null,"高豊中",230208]
[null,"六ッ美中",230209]
[null,"FKN陸上クラブ",230210]
[null,"長久手北中",230211]
[null,"三重陸協",240000]
[null,"三重マスターズ",240001]
[null,"ＮＴＮ",240011]
[null,"T.G.K",240012]
[null,"Yウェルネス",240013]
[null,"アスリートY",240014]
[null,"アスリート四日市",240015]
[null,"アスリート四日市",240016]
[null,"Ise TC",240017]
[null,"シンフォニアテクノロジー",240018]
[null,"デンソー",240019]
[null,"ばりっこクラブ",240020]
[null,"ULTIMATE",240021]
[null,"omg",240022]
[null,"三重県スポーツ協会",240023]
[null,"三重教員AC",240024]
[null,"team Ｆ.Ｏ.Ｒ",240025]
[null,"TRIBE",240026]
[null,"デンソー大安",240027]
[null,"住友電装",240028]
[null,"タイムセレクト",240029]
[null,"北伊勢上野信金",240030]
[null,"ASSA-TC",240031]
[null,"NSC",240032]
[null,"AVENIR TC",240033]
[null,"OMG PERFORMANCE",240034]
[null,"オリンピア",240035]
[null,"鈴鹿高専",240101]
[null,"白山高",240102]
[null,"伊勢学園高",240103]
[null,"伊勢高",240104]
[null,"稲生高",240105]
[null,"宇治山田商業高",240106]
[null,"亀山高",240107]
[null,"近大高専",240108]
[null,"皇學館高",240109]
[null,"三重高",240110]
[null,"四日市商業高",240111]
[null,"松阪商業高",240112]
[null,"神戸高",240113]
[null,"津商業高",240114]
[null,"宇治山田高",240115]
[null,"鈴鹿高",240116]
[null,"三重中",240201]
[null,"名張Jr",240202]
[null,"三雲中",240203]
[null,"多気中",240204]
[null,"Smile TFL",240205]
[null,"笹尾ＡＣ",240206]
[null,"明正中",240207]
[null,"神戸中",240208]
[null,"六ッ美中",240209]
[null,"KRC",240210]
[null,"常磐中",240211]
[null,"陵成中",240212]
[null,"滋賀陸協",250001]
[null,"Be-Style",250011]
[null,"HST",250012]
[null,"チームRCK",250013]
[null,"トヨタ自動車滋賀",250014]
[null,"びわこ成蹊AC",250015]
[null,"湖南AC",250016]
[null,"滋賀マスターズAC",250017]
[null,"滋賀レイクスターズ",250018]
[null,"新日本住設Ｇ",250019]
[null,"長浜AC",250020]
[null,"東武トップツアーズ",250021]
[null,"立命館AC滋賀",250022]
[null,"RePEL",250023]
[null,"ツルタホールディング",250024]
[null,"草津電機株式会社",250025]
[null,"FAAS",250026]
[null,"滋賀医大AC",250027]
[null,"滋賀J＆P",250028]
[null,"コカ・コーラ",250029]
[null,"ランプロアスリートクラブ",250030]
[null,"チーム滋賀",250031]
[null,"滋賀短大附高",250101]
[null,"瀬田工業高",250102]
[null,"比叡山高",250103]
[null,"彦根翔西館高",250104]
[null,"大津商業高",250105]
[null,"滋賀学園高",250106]
[null,"守山高",250107]
[null,"伊吹高",250108]
[null,"光泉カトリック高",250109]
[null,"高島高",250110]
[null,"滋賀短大附高",250111]
[null,"草津中",250201]
[null,"多賀中",250202]
[null,"立命館守山中",250203]
[null,"野洲中",250204]
[null,"瀬田北中",250205]
[null,"青山中",250206]
[null,"唐崎中",250207]
[null,"栗東西中",250208]
[null,"打出中",250209]
[null,"近江兄弟社中",250210]
[null,"光泉ｶﾄﾘｯｸ中",250211]
[null,"守山中",250212]
[null,"新堂中",250213]
[null,"老上中",250214]
[null,"京都陸協",260000]
[null,"京都マスターズ",260001]
[null,"山城陸協",260002]
[null,"Gloria-AC",260011]
[null,"HAC",260012]
[null,"IFC陸上",260013]
[null,"Liberta",260014]
[null,"OBRS KYOTO",260015]
[null,"ROAD",260016]
[null,"SFIDA.AC",260017]
[null,"SHIMAFUMI　BLDG.",260018]
[null,"Soleil.AC",260019]
[null,"YSD",260020]
[null,"アラキスポーツ",260021]
[null,"金井病院",260022]
[null,"コミネクラブ",260023]
[null,"ジラソーレ与謝",260024]
[null,"スターヒルズ(京都)",260025]
[null,"赤兎馬AC",260026]
[null,"ＫＮＡアスリーツ",260027]
[null,"ミズノ",260028]
[null,"ミズノトラッククラブ",260029]
[null,"メディカルアートAC",260030]
[null,"ﾒﾃﾞｨｶﾙｱｰﾄAC",260031]
[null,"立命館陸上競技同好会",260032]
[null,"旭油業next(株)",260033]
[null,"家政クラブ",260034]
[null,"亀岡クラブ",260035]
[null,"京大医学部AC",260036]
[null,"京産大AC",260037]
[null,"京都TFC",260038]
[null,"橋本アスリート?楽部",260039]
[null,"三菱電機",260040]
[null,"紫郊クラブ",260041]
[null,"精華AC",260042]
[null,"西練",260043]
[null,"太陽が丘ｼﾞｮｷﾞﾝｸﾞｸﾗﾌﾞ",260044]
[null,"同志社陸上競技同好会",260045]
[null,"福知山AC",260046]
[null,"木津川ＡＣ",260047]
[null,"双鶴クラブ",260048]
[null,"エースジャパン",260049]
[null,"LEGALIS",260050]
[null,"京都陸上アカデミー",260051]
[null,"相楽陸上クラブ",260052]
[null,"旭油業next(株)",260053]
[null,"金井病院",260054]
[null,"明国医クラブ",260055]
[null,"OBRS",260056]
[null,"明国クラブ",260057]
[null,"太陽が丘JC",260058]
[null,"鴨川走友会",260059]
[null,"IFC",260060]
[null,"4-tune",260061]
[null,"KNAアスリーツ",260062]
[null,"紫風クラブ",260063]
[null,"サウルスジャパン",260064]
[null,"Blue Sky",260065]
[null,"M.G.B",260066]
[null,"KAC",260067]
[null,"名国クラブ",260068]
[null,"同志社陸友会",260069]
[null,"亀岡AC",260070]
[null,"PROTOTYPE Racing",260071]
[null,"乙訓高",260101]
[null,"桂高",260102]
[null,"京都文教高",260103]
[null,"同志社高",260104]
[null,"鳥羽高",260105]
[null,"花園高",260106]
[null,"亀岡高",260107]
[null,"京都学園高",260108]
[null,"京都橘高",260109]
[null,"京都光華高",260110]
[null,"京都工学院高",260111]
[null,"京都西山高",260112]
[null,"田辺高",260113]
[null,"京都両洋高",260114]
[null,"京都廣学館高",260115]
[null,"紫野高",260116]
[null,"城陽高",260117]
[null,"西京高",260118]
[null,"西城陽高",260119]
[null,"大谷高",260120]
[null,"開建高",260121]
[null,"桃山高",260122]
[null,"南陽高",260123]
[null,"北嵯峨高",260124]
[null,"北稜高",260125]
[null,"堀川高",260126]
[null,"洛南高",260127]
[null,"莵道高",260128]
[null,"京都教育大学附属高",260129]
[null,"東山高",260130]
[null,"洛東高",260131]
[null,"久御山高",260132]
[null,"東宇治高",260133]
[null,"洛星高",260134]
[null,"向陽高",260135]
[null,"木津高",260136]
[null,"京都共栄学園高",260137]
[null,"龍谷大平安高",260138]
[null,"京都すばる高",260139]
[null,"鴨沂高",260140]
[null,"京産大附高",260141]
[null,"嵯峨野高",260142]
[null,"旭丘中",260201]
[null,"維孝館中",260202]
[null,"加茂川中",260203]
[null,"花山中",260204]
[null,"樫原中",260205]
[null,"勧修中",260206]
[null,"久御山中",260207]
[null,"京都光華中",260208]
[null,"京都文教中",260209]
[null,"桂川中",260210]
[null,"桂中",260211]
[null,"嵯峨中",260212]
[null,"山科中",260213]
[null,"四条中",260214]
[null,"寺戸中",260215]
[null,"春日丘中",260216]
[null,"勝山中",260217]
[null,"詳徳中",260218]
[null,"城陽中",260219]
[null,"神川中",260220]
[null,"精華西中",260221]
[null,"精華中",260222]
[null,"精華南中",260223]
[null,"西院中",260224]
[null,"西京附属中",260225]
[null,"西城陽中",260226]
[null,"泉川中",260227]
[null,"太秦中",260228]
[null,"大枝中",260229]
[null,"大住中",260230]
[null,"大谷中",260231]
[null,"男山第三中",260232]
[null,"男山第二中",260233]
[null,"中京中",260234]
[null,"長岡第三中",260235]
[null,"長岡第二中",260236]
[null,"長岡中",260237]
[null,"田辺中",260238]
[null,"東城陽中",260239]
[null,"南陽高附属中",260240]
[null,"二条中",260241]
[null,"培良中",260242]
[null,"北城陽中",260243]
[null,"木津第二中",260244]
[null,"木津中",260245]
[null,"洛西中",260246]
[null,"洛南中",260247]
[null,"洛北附属中",260248]
[null,"立命館中",260249]
[null,"嘉楽中",260250]
[null,"大淀中(京都)",260251]
[null,"向島秀蓮小中",260252]
[null,"西宇治中",260253]
[null,"梅津中",260254]
[null,"岡崎中",260255]
[null,"南城陽中",260256]
[null,"同志社中",260257]
[null,"七条中",260258]
[null,"八条中",260259]
[null,"開睛中",260260]
[null,"男山東中",260261]
[null,"TFAC京都",260262]
[null,"京都橘中",260263]
[null,"洛南附属中",260264]
[null,"松尾中",260265]
[null,"西京極中",260266]
[null,"七条中",260267]
[null,"修学院中",260268]
[null,"男山中",260269]
[null,"桃陵中",260270]
[null,"大原野中",260271]
[null,"京都女子中",260272]
[null,"洛北中",260273]
[null,"西賀茂中",260274]
[null,"京産大附中",260275]
[null,"上京中",260276]
[null,"下鴨中",260277]
[null,"亀岡川東学園",260278]
[null,"京都御池中",260279]
[null,"宇治中",260280]
[null,"木幡中",260281]
[null,"東輝中",260282]
[null,"醍醐中",260283]
[null,"高野中",260284]
[null,"大阪陸協",270000]
[null,"大阪マスターズ",270001]
[null,"八尾市陸協",270002]
[null,"東大阪市陸協",270003]
[null,"堺市陸協",270004]
[null,"枚方市陸協",270005]
[null,"star.t AZ",270006]
[null,"BLOOM",270007]
[null,"Across",270011]
[null,"DCT-AC",270012]
[null,"Goririse",270013]
[null,"ＧＲｌａｂ",270014]
[null,"GRowing MAN",270015]
[null,"Azure",270016]
[null,"Kangaroo Paw",270017]
[null,"KURC",270018]
[null,"Lauf und Danke",270019]
[null,"Live.fas",270020]
[null,"セレッソ大阪×NOBY T",270021]
[null,"MDPV",270022]
[null,"MOON",270023]
[null,"Moving",270024]
[null,"MPE",270025]
[null,"N.C.C.",270026]
[null,"NDソフト",270027]
[null,"NEXUS",270028]
[null,"OSAKA.T.C",270029]
[null,"POWER MAX",270030]
[null,"Reborn",270031]
[null,"ROAD",270032]
[null,"SCATTO",270033]
[null,"SiegSports",270034]
[null,"ＳＤ",270035]
[null,"ATOM",270036]
[null,"WAC",270037]
[null,"アトレティカ",270038]
[null,"あかのれん",270039]
[null,"アポロジャイズ",270040]
[null,"スターヒルズ",270041]
[null,"辰野⑭",270042]
[null,"チームもんごる",270043]
[null,"築地銀だこAC",270044]
[null,"Nova　Aurora",270045]
[null,"テック株式会社",270046]
[null,"トータルスポーツ",270047]
[null,"NovaAurora",270048]
[null,"ニコニコのり株式会社",270049]
[null,"ニッパツ",270050]
[null,"のびしろ",270051]
[null,"ミズノ",270052]
[null,"ミキハウス",270053]
[null,"関西電力",270054]
[null,"近大AC",270055]
[null,"金化堂宮川商店",270056]
[null,"堺ファインズ",270057]
[null,"三和建設AC",270058]
[null,"長居わーわーず",270059]
[null,"清川株式会社",270060]
[null,"生野AC",270061]
[null,"走思走愛",270062]
[null,"大教大AC",270063]
[null,"大阪国際大AC",270064]
[null,"大阪成蹊AC",270065]
[null,"大阪走友会",270066]
[null,"大阪大学医学部",270067]
[null,"大阪長居AC",270068]
[null,"大阪府庁",270069]
[null,"大塚AC",270070]
[null,"桃陰クラブ",270071]
[null,"柏原ELD",270072]
[null,"SEVEN",270073]
[null,"大阪公立大学陸友会",270074]
[null,"セレッソNOBY",270075]
[null,"旭油業NEXT",270076]
[null,"三和建設ＡＣ",270077]
[null,"ファーストコンテック",270078]
[null,"新日本住設グループ",270079]
[null,"大体大T.C",270080]
[null,"パナソニック",270081]
[null,"大阪陸JOYAC",270082]
[null,"堺市消防局",270083]
[null,"ESL",270084]
[null,"GANAR",270085]
[null,"チーム走兄弟",270086]
[null,"Gollirab",270087]
[null,"熊五郎",270088]
[null,"積水化学",270089]
[null,"極東油業",270090]
[null,"SiegSoprts",270091]
[null,"積水化学",270092]
[null,"アレグロTC",270093]
[null,"WING",270094]
[null,"美貴本アスリートクラ",270095]
[null,"team Yo-chan",270096]
[null,"sieg sports",270097]
[null,"タカヤマラソンRC",270098]
[null,"ニチレク",270099]
[null,"Jumping Gate",270100]
[null,"北千里高",270101]
[null,"近大附高",270102]
[null,"東海大仰星高",270103]
[null,"交野高",270104]
[null,"高槻高",270105]
[null,"住吉高",270106]
[null,"初芝立命館高",270107]
[null,"寝屋川高",270108]
[null,"清風南海高",270109]
[null,"生野高",270110]
[null,"摂津高",270111]
[null,"大阪桐蔭高",270112]
[null,"大阪高",270113]
[null,"大阪市立東高",270114]
[null,"大阪成蹊女子高",270115]
[null,"大阪青凌高",270116]
[null,"大産大附高",270117]
[null,"大商大高",270118]
[null,"東海大仰星高",270119]
[null,"東大阪大敬愛高",270120]
[null,"東大阪大柏原高",270121]
[null,"豊島高",270122]
[null,"枚方高",270123]
[null,"枚方津田高",270124]
[null,"箕面高",270125]
[null,"箕面自由学園高",270126]
[null,"枚方なぎさ高",270127]
[null,"上宮高",270128]
[null,"四條畷学園高",270129]
[null,"清水谷高",270130]
[null,"花園高(大阪)",270131]
[null,"咲くやこの花高",270132]
[null,"東高",270133]
[null,"興國高",270134]
[null,"履正社高",270135]
[null,"清教学園高",270136]
[null,"いちりつ高",270137]
[null,"清風高",270138]
[null,"関大北陽高",270139]
[null,"浪速高",270140]
[null,"金光藤蔭高",270141]
[null,"香里丘高",270142]
[null,"汎愛高",270143]
[null,"大手前高",270144]
[null,"大塚高",270145]
[null,"狭山高",270146]
[null,"八尾高",270147]
[null,"山本高",270148]
[null,"吹田高",270149]
[null,"長尾谷高",270150]
[null,"大阪学院大学高",270151]
[null,"和泉高",270152]
[null,"長尾高",270153]
[null,"牧野高",270154]
[null,"夕陽丘高",270155]
[null,"帝塚山泉ヶ丘高",270156]
[null,"野田中",270201]
[null,"高槻中",270202]
[null,"住吉中",270203]
[null,"石切中",270204]
[null,"相生中",270205]
[null,"東海大仰星中",270206]
[null,"美原西中",270207]
[null,"富田林二中",270208]
[null,"楠根中",270209]
[null,"志紀中",270210]
[null,"大東市立四条中",270211]
[null,"アカデミア",270212]
[null,"大阪体育大学浪商中",270213]
[null,"枚岡中",270214]
[null,"新東淀中",270215]
[null,"花園中",270216]
[null,"谷川中",270217]
[null,"夕陽丘中",270218]
[null,"寝屋川第六中",270219]
[null,"河南陸上クラブ",270220]
[null,"渋谷中",270221]
[null,"豊中十一中",270222]
[null,"河南中",270223]
[null,"歌島中",270224]
[null,"三島中",270225]
[null,"豊中十五中",270226]
[null,"寝屋川陸上クラブ",270227]
[null,"寝屋川第十中",270228]
[null,"吹田第六中",270229]
[null,"墨江丘中",270230]
[null,"箕面第三中",270231]
[null,"帝塚山泉ヶ丘中",270232]
[null,"ローソン",270300]
[null,"ロングライフ",270301]
[null,"Lauf und Danke",270302]
[null,"栄光テクノ",270303]
[null,"SUNRISE",270304]
[null,"エスコーデ野田SC",270305]
[null,"flashjump",270306]
[null,"兵庫陸協",280000]
[null,"神戸市陸協",280001]
[null,"宝塚市陸協",280002]
[null,"西宮市陸協",280003]
[null,"尼崎市陸協",280004]
[null,"赤穂市陸協",280005]
[null,"丹波篠山市陸協",280006]
[null,"西脇市陸協",280007]
[null,"加古川市陸協",280008]
[null,"神崎郡陸協",280009]
[null,"伊丹市陸協",280010]
[null,"Gulliver",280011]
[null,"ELITE",280012]
[null,"Grlab兵庫",280013]
[null,"HYOGO TFC",280014]
[null,"KAGOTANI",280015]
[null,"Kobe Athlete Club",280016]
[null,"Frontier AC",280017]
[null,"NMR",280018]
[null,"ＲＵＮ　ＪＯURNEY",280019]
[null,"AMACT",280020]
[null,"T＆F.net kobe",280021]
[null,"尼崎NR",280022]
[null,"王子コーエンズ",280023]
[null,"甲南大AC",280024]
[null,"コンドーテック",280025]
[null,"シバタ工業",280026]
[null,"住電RC",280027]
[null,"浜の宮AC",280028]
[null,"播磨KOC",280029]
[null,"住友電工",280030]
[null,"上ヶ原アスリートクラ",280031]
[null,"神戸えーしー",280032]
[null,"神戸市消防局",280033]
[null,"川崎重工",280034]
[null,"但馬AC",280035]
[null,"長谷川体育施設",280036]
[null,"尼崎ＮＲ",280037]
[null,"尼崎小田高",280038]
[null,"鳩印G&T",280039]
[null,"姫路HAC",280040]
[null,"復刻アスリートクラブ",280041]
[null,"兵庫マスターズ",280042]
[null,"鈴蘭NAC",280043]
[null,"籠谷",280044]
[null,"T&F.net kobe",280045]
[null,"DREAM",280046]
[null,"鷹匠AC",280047]
[null,"KOBE ATHLETE CLUB",280048]
[null,"STAR TRIAL AC",280049]
[null,"神戸デジタル・ラボ",280050]
[null,"アストライア明石A.C.",280051]
[null,"ランバース",280052]
[null,"NAC",280053]
[null,"K.A.C.",280054]
[null,"陸上物語",280055]
[null,"美方郡陸協",280056]
[null,"明石市陸協",280057]
[null,"STAC",280058]
[null,"NMR",280059]
[null,"住友電工伊丹",280060]
[null,"姫路市陸協",280061]
[null,"アストライア明石A.C",280062]
[null,"合同会社Antonio",280063]
[null,"市伊丹高",280101]
[null,"社高",280102]
[null,"県伊丹高",280103]
[null,"三木東総合高",280104]
[null,"市西宮高",280105]
[null,"神港学園高",280106]
[null,"滝川第二高",280107]
[null,"尼崎双星高",280108]
[null,"尼崎北高",280109]
[null,"報徳学園高",280110]
[null,"鳴尾高",280111]
[null,"雲雀丘学園高",280112]
[null,"市尼崎高",280113]
[null,"神戸甲北高",280114]
[null,"三田学園高",280115]
[null,"県西宮高",280116]
[null,"園田学園高",280117]
[null,"関西学院高",280118]
[null,"東灘高",280119]
[null,"神戸山手グローバル高",280120]
[null,"園田中",280201]
[null,"園田東中",280202]
[null,"加古川平岡南中",280203]
[null,"甲武中",280204]
[null,"小田北中",280205]
[null,"平岡中",280206]
[null,"平木中",280207]
[null,"神河中",280208]
[null,"御殿山中",280209]
[null,"小園中",280210]
[null,"大社中",280211]
[null,"天王寺川中",280212]
[null,"明石衣川中",280213]
[null,"立花中",280214]
[null,"奈良陸協",290000]
[null,"生駒市陸協",290001]
[null,"U16奈良県選抜",290002]
[null,"合同",290003]
[null,"都祁中",290010]
[null,"一条高附中",290011]
[null,"奈良学園登美ヶ丘中",290012]
[null,"育英西中",290013]
[null,"飛鳥中",290014]
[null,"富雄南中",290015]
[null,"伏見中",290016]
[null,"帝_山中",290017]
[null,"田原中",290018]
[null,"二名中",290019]
[null,"三笠中",290020]
[null,"都南中",290021]
[null,"奈教大附中",290022]
[null,"東大寺学園中",290023]
[null,"鴻ノ池SC(中)",290024]
[null,"ならスポＡＣ(中)",290025]
[null,"六条AC",290026]
[null,"一条高",290027]
[null,"育英西高",290028]
[null,"帝_山高",290029]
[null,"東大寺学園高",290030]
[null,"奈良育英高",290031]
[null,"奈良大附属高",290032]
[null,"奈良学園登美ヶ丘高",290033]
[null,"ならスポＡＣ",290034]
[null,"鴻ノ池SC",290035]
[null,"奈良市個人",290036]
[null,"S-Ren",290037]
[null,"Kawai走愛RC",290101]
[null,"KOYO AC",290102]
[null,"NARA-Ｘ",290103]
[null,"NARA-X ﾗﾝﾆﾝｸﾞｸﾗﾌﾞ",290104]
[null,"NARA-Xアスリーツ",290105]
[null,"NRF",290106]
[null,"Jet",290107]
[null,"SFIDA 奈良",290108]
[null,"SPORCE",290109]
[null,"TEAM奈良",290110]
[null,"Univ.AC",290111]
[null,"YAMATO TC",290112]
[null,"Yellow Poles",290113]
[null,"エクセディRC",290114]
[null,"コンドーテック(奈良)",290115]
[null,"スクアドラ",290116]
[null,"奈良スポーツクラブ",290117]
[null,"奈良マスターズ",290118]
[null,"フィールドキッズ",290119]
[null,"大和精機",290120]
[null,"極東油業",290121]
[null,"高樋クラブ",290122]
[null,"鴻ノ池SC(小)",290123]
[null,"住まいるサービス",290124]
[null,"重心道Athletics",290125]
[null,"奈良教員クラブ",290126]
[null,"天理TRACK&FIELD",290127]
[null,"AC山添",290128]
[null,"ワークマン",290129]
[null,"エアベースナラ",290130]
[null,"つげJr.陸上",290131]
[null,"アンデス物流",290132]
[null,"大和郡山ＡＣ",290133]
[null,"株式会社桶谷ホールデ",290134]
[null,"NARA－X Jr.",290135]
[null,"天川陸上クラブ",290136]
[null,"チーム古賀",290137]
[null,"プランテックサポート",290138]
[null,"JumpConnect",290139]
[null,"王寺工業高",290201]
[null,"橿原高",290202]
[null,"郡山高",290203]
[null,"五條高",290204]
[null,"香芝高",290205]
[null,"高取国際高",290206]
[null,"高田高",290207]
[null,"高田商業高",290208]
[null,"国際高",290209]
[null,"桜井高",290210]
[null,"十津川高",290211]
[null,"榛生昇陽・宇陀高",290212]
[null,"畝傍高",290213]
[null,"生駒高",290214]
[null,"聖心学園高",290215]
[null,"西の京高",290216]
[null,"西大和学園高",290217]
[null,"西和清陵高",290218]
[null,"大宇陀高",290219]
[null,"大淀高",290220]
[null,"大和広陵高",290221]
[null,"智辯カレッジ高",290222]
[null,"添上高",290223]
[null,"県立商業高",290224]
[null,"奈良学園高",290225]
[null,"奈良県立大付高",290226]
[null,"奈良高",290227]
[null,"奈良高専",290228]
[null,"奈良商工高",290229]
[null,"奈良朱雀高",290230]
[null,"奈良北高",290231]
[null,"二階堂高",290232]
[null,"平城高",290233]
[null,"法隆寺国際高",290234]
[null,"天理高二部",290235]
[null,"高円芸術高",290236]
[null,"御所実業高",290237]
[null,"宇陀高",290238]
[null,"天理高",290239]
[null,"葛上中",290301]
[null,"御所中",290302]
[null,"葛中",290303]
[null,"下市中",290304]
[null,"吉野中",290305]
[null,"川上中",290306]
[null,"大淀中",290307]
[null,"鹿ノ台中",290308]
[null,"生駒中",290309]
[null,"上中学",290310]
[null,"三郷中",290311]
[null,"斑鳩中",290312]
[null,"山添中",290313]
[null,"香芝北中",290314]
[null,"香芝東中",290315]
[null,"新庄中",290316]
[null,"王寺北義務教",290317]
[null,"香芝西中",290318]
[null,"白鳳中",290319]
[null,"香芝中",290320]
[null,"上牧中",290321]
[null,"広陵中",290322]
[null,"河合二中",290323]
[null,"王寺南義務教",290324]
[null,"上牧二中",290325]
[null,"智辯カレッジ中",290326]
[null,"大宇陀中",290327]
[null,"榛原中",290328]
[null,"室生中",290329]
[null,"御杖中",290330]
[null,"片塩中",290331]
[null,"高田西中",290332]
[null,"高田中",290333]
[null,"式下中",290334]
[null,"田原本中",290335]
[null,"田原本北中",290336]
[null,"五條拠点校",290337]
[null,"智辯学園中",290338]
[null,"天理北中",290339]
[null,"天理中",290340]
[null,"天理西中",290341]
[null,"天理南中",290342]
[null,"福住中",290343]
[null,"郡山中",290344]
[null,"郡山南中",290345]
[null,"郡山西中",290346]
[null,"奈良学園中",290347]
[null,"郡山東中",290348]
[null,"畝傍中",290349]
[null,"大成中",290350]
[null,"八木中",290351]
[null,"光陽中",290352]
[null,"橿原中",290353]
[null,"聖心学園中",290354]
[null,"桜井中",290355]
[null,"桜井東中",290356]
[null,"桜井西中",290357]
[null,"斑鳩南中",290358]
[null,"西大和学園中",290359]
[null,"里風",290360]
[null,"国際中",290361]
[null,"天川小中",290362]
[null,"NARA-X Jr.",290363]
[null,"香芝Mistral",290364]
[null,"ヴィオーレ香芝Levant",290365]
[null,"田原本陸上",290366]
[null,"香港",299999]
[null,"和歌山陸協",300000]
[null,"和歌山マスターズ",300001]
[null,"29SA",300011]
[null,"HRC",300012]
[null,"W.A.S",300013]
[null,"橋本ｱｽﾘｰﾄ?楽部",300014]
[null,"ＴＳＰ",300015]
[null,"FIELDHOUSE",300016]
[null,"ＴＳＰ",300017]
[null,"Coroba Sport",300018]
[null,"タカショー",300019]
[null,"TSP",300020]
[null,"県立和歌山高",300101]
[null,"那賀高",300102]
[null,"熊野高",300103]
[null,"初芝橋本高",300104]
[null,"星林高",300105]
[null,"和歌山北高",300106]
[null,"近大和歌山高",300107]
[null,"桐蔭高",300108]
[null,"耐久高",300109]
[null,"海南高",300110]
[null,"高野山高",300111]
[null,"高島高",300112]
[null,"橋本高",300113]
[null,"有功中",300201]
[null,"東和中",300202]
[null,"楠見中",300203]
[null,"文成中",300204]
[null,"明和中",300205]
[null,"東海南中",300206]
[null,"東陽中",300207]
[null,"初芝橋本中",300208]
[null,"鳥取陸協",310000]
[null,"鳥取ジョイナス",310011]
[null,"鳥取中央育英高",310101]
[null,"MIX TC",320011]
[null,"岡山陸協",330000]
[null,"岡山マスターズ",330001]
[null,"KND.T.C",330011]
[null,"ＯＵＦ",330012]
[null,"岡山AC",330013]
[null,"三菱自動車水島",330014]
[null,"Glory AC",330015]
[null,"平林金属",330016]
[null,"カンコー学生服",330017]
[null,"平林金属",330018]
[null,"関西高",330101]
[null,"岡山商大附属高",330102]
[null,"吉備中",330201]
[null,"邑久中",330202]
[null,"ASフクヤマ",340011]
[null,"PEACE AC",340012]
[null,"アトレティカ広島",340013]
[null,"PVAC",340014]
[null,"オリンピアプラス",340015]
[null,"鶴学園クラブ",340016]
[null,"広島陸協",340000]
[null,"広島皆実高",340101]
[null,"山口陸協",350000]
[null,"HSC",350001]
[null,"周南市役所",350002]
[null,"周南市陸協",350003]
[null,"徳島陸協",360000]
[null,"TTF",360011]
[null,"大塚製薬",360012]
[null,"四国大",360013]
[null,"徳島大",360014]
[null,"香川陸協",370000]
[null,"香川RC遊",370001]
[null,"藤本内科クリニック",370002]
[null,"小豆島中央高",370101]
[null,"愛媛陸協",380000]
[null,"愛媛県競技力向上対策",380001]
[null,"愛媛競技力本部",380002]
[null,"八幡浜高",380101]
[null,"小松中",380201]
[null,"高知陸協",390000]
[null,"MMG",390001]
[null,"高知union",390002]
[null,"Stark",390003]
[null,"WING",400002]
[null,"コスモスAC",400003]
[null,"ｺｽﾓｽAC",400004]
[null,"長崎陸協",420000]
[null,"諫早市陸協",420001]
[null,"長崎諫早農高",420101]
[null,"いちご",450011]
[null,"鹿児島陸協",460000]
[null,"SCC",460001]
[null,"東北大",490001]
[null,"青山学院大",490011]
[null,"山梨学院大",490012]
[null,"立教大",490013]
[null,"国際武道大",490014]
[null,"順天堂大",490015]
[null,"常葉大",490016]
[null,"大東文化大",490017]
[null,"筑波大",490018]
[null,"中央大",490019]
[null,"東京大",490020]
[null,"法政大",490021]
[null,"流通科学大",490022]
[null,"東京都立大",490023]
[null,"城西大",490024]
[null,"日本大",490025]
[null,"東洋大",490026]
[null,"駿河台大",490027]
[null,"新潟医療福祉大",490101]
[null,"信州大",490102]
[null,"金沢大",490103]
[null,"福井大",490104]
[null,"愛知大",490201]
[null,"至学館大",490202]
[null,"中京大",490203]
[null,"皇學館大",490204]
[null,"三重大",490205]
[null,"名古屋大",490206]
[null,"岐阜大",490207]
[null,"岐阜協立大",490208]
[null,"日本福祉大",490209]
[null,"名古屋市立大",490210]
[null,"滋賀医科大",490301]
[null,"滋賀大",490302]
[null,"びわこ学院大",490303]
[null,"びわこ成蹊スポーツ大",490304]
[null,"滋賀県立大",490305]
[null,"京都文教大",490401]
[null,"京都女子大",490402]
[null,"京都橘大",490403]
[null,"京都教育大",490404]
[null,"京都光華女子大",490405]
[null,"京都工芸繊維大",490406]
[null,"京都産業大",490407]
[null,"京都大",490408]
[null,"京都府立医科大",490409]
[null,"京都府立大",490410]
[null,"京都薬科大",490411]
[null,"同志社女子大",490412]
[null,"同志社大",490413]
[null,"立命館大",490414]
[null,"龍谷大",490415]
[null,"佛教大",490416]
[null,"明国大",490417]
[null,"大阪経済法科大",490501]
[null,"大阪工業大",490502]
[null,"大阪公立大",490503]
[null,"関西外国語大",490504]
[null,"関西大",490505]
[null,"関西福祉大",490506]
[null,"近畿大",490507]
[null,"阪南大",490508]
[null,"四天王寺大",490509]
[null,"森ノ宮医療大",490510]
[null,"摂南大",490511]
[null,"大阪医科薬科大",490512]
[null,"大阪学院大",490513]
[null,"大阪教育大",490514]
[null,"大阪経済大",490515]
[null,"大阪国際大",490516]
[null,"大阪産業大",490517]
[null,"大阪商業大",490518]
[null,"大阪成蹊大",490519]
[null,"大阪体育大",490520]
[null,"大阪大",490521]
[null,"大和大",490522]
[null,"追手門学院大",490523]
[null,"東大阪大",490524]
[null,"桃山学院大",490525]
[null,"大阪医大",490526]
[null,"大阪電気通信大",490527]
[null,"大阪公立大高専",490528]
[null,"園田学園大",490601]
[null,"関西学院大",490602]
[null,"甲子園大",490603]
[null,"甲南大",490604]
[null,"神戸医療福祉大",490605]
[null,"神戸学院大",490606]
[null,"神戸大",490607]
[null,"武庫川女子大",490608]
[null,"兵庫教育大",490609]
[null,"兵庫県立大",490610]
[null,"天理大",490611]
[null,"奈良学園大",490612]
[null,"奈良教育大",490613]
[null,"奈良県立医科大",490614]
[null,"奈良女子大",490615]
[null,"奈良大",490616]
[null,"和歌山県立医大",490617]
[null,"和歌山大",490618]
[null,"和歌山大",490619]
[null,"放送大学関西",490620]
[null,"明治国際医療大",490621]
[null,"奈良県立大",490622]
[null,"環太平洋大",490701]
[null,"岡山理科大",490702]
[null,"倉敷芸術科学大",490703]
[null,"広島大",490704]
[null,"高知大",490705]
[null,"岡山大",490706]
[null,"鳥取大",490707]
[null,"香川大",490801]
[null,"九州大",490901]
[null,"九州共立大",490902]
[null,"福岡大",490903]
[null,"鹿屋体育大",490904]
[null,"四国学院大",490905]
[null,"東海大",490906]
[null,"兵庫大",490907]
[null,"オーストラリア",500001]

{"sheet":"Sheet4","index":12,"n_rows":101,"n_cols":11,"rows_kept":101,"cut":false,"hidden":true,"merged":[]}
[]
[null,"001",null,"北海道",1,null,"000",null,null,1,"男"]
[null,"002",null,"青森",2,null,null,null,null,2,"女"]
[null,"003",null,"岩手",3]
[null,"004",null,"宮城",4]
[null,"005",null,"秋田",5]
[null,"006",null,"山形",6]
[null,"007",null,"福島",7]
[null,"008",null,"茨城",8]
[null,"009",null,"栃木",9]
[null,"010",null,"群馬",10]
[null,"011",null,"埼玉",11]
[null,"012",null,"千葉",12]
[null,"013",null,"東京",13]
[null,"014",null,"神奈川",14]
[null,"015",null,"新潟",15]
[null,"016",null,"富山",16]
[null,"017",null,"石川",17]
[null,"018",null,"福井",18]
[null,"019",null,"山梨",19]
[null,"020",null,"長野",20]
[null,"021",null,"岐阜",21]
[null,"022",null,"静岡",22]
[null,"023",null,"愛知",23]
[null,"024",null,"三重",24]
[null,"025",null,"滋賀",25]
[null,"026",null,"京都",26]
[null,"027",null,"大阪",27]
[null,"028",null,"兵庫",28]
[null,"029",null,"奈良",29]
[null,"030",null,"和歌山",30]
[null,"031",null,"鳥取",31]
[null,"032",null,"島根",32]
[null,"033",null,"岡山",33]
[null,"034",null,"広島",34]
[null,"035",null,"山口",35]
[null,"036",null,"徳島",36]
[null,"037",null,"香川",37]
[null,"038",null,"愛媛",38]
[null,"039",null,"高知",39]
[null,"040",null,"福岡",40]
[null,"041",null,"佐賀",41]
[null,"042",null,"長崎",42]
[null,"043",null,"熊本",43]
[null,"044",null,"大分",44]
[null,"045",null,"宮崎",45]
[null,"046",null,"鹿児島",46]
[null,"047",null,"沖縄",47]
[null,"048",null,"学連",49]
[null,"049"]
[null,"050"]
[null,"051"]
[null,"052"]
[null,"053"]
[null,"054"]
[null,"055"]
[null,"056"]
[null,"057"]
[null,"058"]
[null,"059"]
[null,"060"]
[null,"061"]
[null,"062"]
[null,"063"]
[null,"064"]
[null,"065"]
[null,"066"]
[null,"067"]
[null,"068"]
[null,"069"]
[null,"070"]
[null,"071"]
[null,"072"]
[null,"073"]
[null,"074"]
[null,"075"]
[null,"076"]
[null,"077"]
[null,"078"]
[null,"079"]
[null,"080"]
[null,"081"]
[null,"082"]
[null,"083"]
[null,"084"]
[null,"085"]
[null,"086"]
[null,"087"]
[null,"088"]
[null,"089"]
[null,"090"]
[null,"091"]
[null,"092"]
[null,"093"]
[null,"094"]
[null,"095"]
[null,"096"]
[null,"097"]
[null,"098"]
[null,"099"]
[null,"100"]