Workbook

Sheet ﾄﾗｯｸ
A1: 第３６回奈良市陸上サーキット４日目 兼 奈良市中学新人戦
A3: ９月１３日(日)
A4: № | B4: 種別 | C4: 性別 | D4: 区分 | E4: 種目 | F4: 組 | G4: 競技開始時刻 | H4: 招集開始時刻 | I4: 人数 | J4: 組
A5: 1 | B5: 共通 | C5: 女 | E5: ３０００ｍ | F5: 1組 | G5: 0.35416667 | H5: =G5-TIME(0,15,0) -> 0.34375 | I5: 12 | J5: =ROUNDUP(I5/当日枠!#REF!,0) -> #REF!
A6: 2 | B6: 共通 | C6: 男 | E6: ３０００ｍ | F6: 1組 | G6: 0.35416667 | H6: =G6-TIME(0,15,0) -> 0.34375 | I6: 93 | J6: =ROUNDUP(I6/当日枠!#REF!,0) -> #REF!
F7: 2組 | G7: 0.36458333 | H7: =G7-TIME(0,15,0) -> 0.35416667
F8: 3組 | G8: 0.375 | H8: =G8-TIME(0,15,0) -> 0.36458333
F9: 4組 | G9: 0.38541667 | H9: =G9-TIME(0,15,0) -> 0.375
A10: 3 | B10: 共通 | C10: 女 | E10: ４００ｍH(0.762m) | F10: 1組～3組 | G10: 0.39583333 | H10: =G10-TIME(0,15,0) -> 0.38541667 | I10: 16 | J10: =ROUNDUP(I10/当日枠!$B$6,0) -> 3
A11: 4 | B11: 共通 | C11: 男 | E11: ４００ｍH(0.914m) | F11: 1組～3組 | G11: 0.39930556 | H11: =G11-TIME(0,15,0) -> 0.38888889 | I11: 38 | J11: =ROUNDUP(I11/当日枠!$B$6,0) -> 7
F12: 4組～6組 | G12: 0.40277778 | H12: =G12-TIME(0,15,0) -> 0.39236111
F13: 7組 | G13: 0.40625 | H13: =G13-TIME(0,15,0) -> 0.39583333
A14: 5 | B14: 中学 | C14: 男 | D14: 新人戦 | E14: １５００ｍ | F14: 決勝 | G14: 0.40972222 | H14: =G14-TIME(0,15,0) -> 0.39930556 | I14: 15 | J14: 1
A15: 6 | B15: 中学 | C15: 女 | D15: 新人戦 | E15: １５００ｍ | F15: 決勝 | G15: 0.40972222 | H15: =G15-TIME(0,15,0) -> 0.39930556 | I15: 11 | J15: 1
A16: 7 | B16: 共通 | C16: 男 | E16: １５００ｍ | F16: 1組～2組 | G16: 0.42013889 | H16: =G16-TIME(0,15,0) -> 0.40972222 | I16: 100 | J16: =ROUNDUP(I16/当日枠!#REF!,0) -> #REF!
F17: 3組～5組 | G17: 0.43055556 | H17: =G17-TIME(0,15,0) -> 0.42013889
A18: 8 | B18: 共通 | C18: 女 | E18: １５００ｍ | F18: 1組～2組 | G18: =G17+TIME(0,20,0) -> 0.44444444 | H18: =G18-TIME(0,15,0) -> 0.43402778 | I18: 35 | J18: =ROUNDUP(I18/当日枠!#REF!,0) -> #REF!
A19: 9 | B19: 一高 | C19: 男 | E19: １１０ｍHH(1.067m) | F19: 1組～3組 | G19: =G18+TIME(0,15,0) -> 0.45486111 | H19: =G19-TIME(0,15,0) -> 0.44444444 | I19: 27 | J19: =ROUNDUP(I19/当日枠!$B$8,0) -> 3
A20: 10 | B20: 共通 | C20: 男 | E20: １１０ｍJH(0.991m) | F20: 1組～2組 | G20: =G19+TIME(0,5,0) -> 0.45833333 | H20: =G20-TIME(0,15,0) -> 0.44791667 | I20: 15 | J20: =ROUNDUP(I20/当日枠!$B$9,0) -> 2
A21: 11 | B21: 中学 | C21: 男 | E21: １１０ｍMH(0.914m) | F21: 1組～3組 | G21: =G20+TIME(0,5,0) -> 0.46180556 | H21: =G21-TIME(0,15,0) -> 0.45138889 | I21: 22 | J21: =ROUNDUP(I21/当日枠!$B$8,0) -> 3
A22: 12 | B22: 中学 | C22: 男 | D22: 四種 | E22: １１０ｍMH(0.914m) | F22: 1組 | G22: =G21 -> 0.46180556 | H22: =G22-TIME(0,15,0) -> 0.45138889 | I22: 1 | J22: =ROUNDUP(I22/当日枠!$B$8,0) -> 1
A23: 13 | B23: 一高 | C23: 女 | E23: １００ｍH(0.838m) | F23: 1組～2組 | G23: =G22+TIME(0,10,0) -> 0.46875 | H23: =G23-TIME(0,15,0) -> 0.45833333 | I23: 15 | J23: =ROUNDUP(I23/当日枠!$B$8,0) -> 2
A24: 14 | B24: 共通 | C24: 女 | E24: １００ｍYH(0.762m) | F24: 1組～2組 | G24: =G23+TIME(0,5,0) -> 0.47222222 | H24: =G24-TIME(0,15,0) -> 0.46180556 | I24: 16 | J24: =ROUNDUP(I24/当日枠!$B$9,0) -> 2
A25: 15 | B25: 中学 | C25: 女 | E25: １００ｍH(0.762m) | F25: 1組～2組 | G25: =G24+TIME(0,5,0) -> 0.47569444 | H25: =G25-TIME(0,15,0) -> 0.46527778 | I25: 14 | J25: =ROUNDUP(I25/当日枠!$B$8,0) -> 2
A26: 16 | B26: 中学 | C26: 女 | D26: 四種 | E26: １００ｍH(0.762m) | F26: 1組 | G26: =G25 -> 0.47569444 | H26: =G26-TIME(0,15,0) -> 0.46527778 | I26: 2 | J26: =ROUNDUP(I26/当日枠!$B$8,0) -> 1
A27: 17 | B27: 共通 | C27: 男 | E27: １００ｍ | F27: 1組～4組 | G27: =G26+TIME(0,5,0) -> 0.47916667 | H27: =G27-TIME(0,15,0) -> 0.46875 | I27: 820 | J27: =ROUNDUP(I27/当日枠!$B$4,0) -> 92
F28: 5組～8組 | G28: =G27+TIME(0,5,0) -> 0.48263889 | H28: =G28-TIME(0,15,0) -> 0.47222222
F29: 9組～12組 | G29: =G28+TIME(0,5,0) -> 0.48611111 | H29: =G29-TIME(0,15,0) -> 0.47569444
F30: 13組～16組 | G30: =G29+TIME(0,5,0) -> 0.48958333 | H30: =G30-TIME(0,15,0) -> 0.47916667
F31: 17組～20組 | G31: =G30+TIME(0,5,0) -> 0.49305556 | H31: =G31-TIME(0,15,0) -> 0.48263889
F32: 21組～24組 | G32: =G31+TIME(0,5,0) -> 0.49652778 | H32: =G32-TIME(0,15,0) -> 0.48611111
F33: 25組～28組 | G33: =G32+TIME(0,5,0) -> 0.5 | H33: =G33-TIME(0,15,0) -> 0.48958333
F34: 29組～32組 | G34: =G33+TIME(0,5,0) -> 0.50347222 | H34: =G34-TIME(0,15,0) -> 0.49305556
F35: 33組～36組 | G35: =G34+TIME(0,5,0) -> 0.50694444 | H35: =G35-TIME(0,15,0) -> 0.49652778
F36: 37組～40組 | G36: =G35+TIME(0,5,0) -> 0.51041667 | H36: =G36-TIME(0,15,0) -> 0.5
F37: 41組～44組 | G37: =G36+TIME(0,5,0) -> 0.51388889 | H37: =G37-TIME(0,15,0) -> 0.50347222
F38: 45組～48組 | G38: =G37+TIME(0,5,0) -> 0.51736111 | H38: =G38-TIME(0,15,0) -> 0.50694444
F39: 49組～52組 | G39: =G38+TIME(0,5,0) -> 0.52083333 | H39: =G39-TIME(0,15,0) -> 0.51041667
... F49: 89組～92組 | G49: =G48+TIME(0,5,0) -> 0.55555556 | H49: =G49-TIME(0,15,0) -> 0.54513889
A50: 18 | B50: 中学 | C50: 男 | D50: 新人戦 | E50: １００ｍ | F50: 予選1組～3組 | G50: =G49+TIME(0,5,0) -> 0.55902778 | H50: =G50-TIME(0,15,0) -> 0.54861111 | I50: 24 | J50: =ROUNDUP(I50/当日枠!$B$4,0) -> 3
...

Sheet 幅3棒高補助
A1: 第３６回奈良市陸上サーキット４日目
A2: 兼2026年度 奈良市中学新人戦 ９月１３日(日)
A3: フィールド競技
A4: № | B4: 種別 | C4: 性別 | D4: 種目 | E4: 組 | F4: 競技開始時刻 | G4: 現地コール時刻 | H4: ﾋﾟｯﾄ | I4: 人数
A5: 1 | B5: 新人戦 | C5: 女 | D5: 走高跳 | E5: 決勝 | F5: 0.375 | G5: 0.36111111 | H5: a | I5: 4
B6: 中学 | C6: 女 | D6: 走高跳 | E6: 1組 | H6: a | I6: 6
A7: 2 | B7: 中学 | C7: 男 | D7: 走高跳 | E7: 1組 | F7: 0.42708333 | G7: 0.41319444 | H7: a | I7: 11
A8: 3 | B8: 一高 | C8: 女 | D8: 走高跳 | E8: 1組 | F8: 0.48958333 | G8: 0.47569444 | H8: a | I8: 14
B9: 四種 | C9: 女 | D9: 走高跳 | E9: 1組 | H9: a | I9: 2
A10: 4 | B10: 新人戦 | C10: 男 | D10: 走高跳 | E10: 決勝 | F10: 0.54166667 | G10: 0.52777778 | H10: a | I10: 6
B11: 四種 | C11: 男 | D11: 走高跳 | E11: 1組 | H11: a | I11: 1
A12: 5 | B12: 一高 | C12: 男 | D12: 走高跳 | E12: 1組 | F12: 0.60416667 | G12: 0.59027778 | H12: a | I12: 14
A13: 6 | B13: 一高 | C13: 男 | D13: 走高跳 | E13: 2組 | F13: 0.63541667 | G13: 0.62152778 | H13: a | I13: 10
A15: № | B15: 種別 | C15: 性別 | D15: 種目 | E15: 組 | F15: 競技開始時刻 | G15: 現地コール時刻 | H15: ﾋﾟｯﾄ | I15: 人数
A16: 1 | B16: 中学 | C16: 男 | D16: 走幅跳 | E16: 1組 | F16: 0.375 | G16: 0.36111111 | H16: A | I16: 20
E17: 2組 | H17: B | I17: 14
C18: 女 | E18: 1組 | H18: C(ﾊﾞｯｸ) | I18: 18
A19: 2 | B19: 一高 | C19: 男 | D19: 走幅跳 | E19: 1組 | F19: 0.4375 | G19: 0.42361111 | H19: A | I19: 31
E20: 2組 | H20: B | I20: 31
E21: 3組 | H21: C(ﾊﾞｯｸ) | I21: 20
A22: 3 | B22: 一高 | C22: 女 | D22: 走幅跳 | E22: 1組 | F22: 0.5 | G22: 0.48611111 | H22: A | I22: 26
E23: 2組 | H23: B | I23: 16
B24: 新人戦 | C24: 女 | D24: 走幅跳 | E24: 決勝 | H24: C(ﾊﾞｯｸ) | I24: 8
B25: 新人戦 | C25: 男 | D25: 走幅跳 | E25: 決勝 | I25: 19
A26: 4 | B26: 中学 | C26: 男 | D26: 三段跳 | E26: 1組 | F26: 0.5625 | G26: 0.54861111 | H26: A9m | I26: 6
B27: 一高 | C27: 女 | E27: 1組 | H27: B10m | I27: 9
A28: 5 | B28: 一高 | C28: 男 | D28: 三段跳 | E28: 1組 | F28: 0.625 | G28: 0.61111111 | H28: A11m | I28: 41
E29: 2組 | H29: B12m
A31: № | B31: 種別 | C31: 性別 | D31: 種目 | E31: 組 | F31: 競技開始時刻 | G31: 現地コール時刻 | I31: 人数
A32: 1 | B32: 中学 | C32: 男 | D32: 砲丸投(5kg) | E32: 1組 | F32: 0.375 | G32: 0.36111111 | I32: 15
A33: 2 | B33: 一高 | C33: 女 | D33: 砲丸投(4kg) | E33: 1組 | F33: 0.4375 | G33: =F33-TIME(0,20,0) -> 0.42361111 | I33: 17
B34: 一般 | C34: 男 | D34: 砲丸投(7.2kg) | E34: 1組 | I34: 6
A35: 3 | B35: 四種 | C35: 男 | D35: 砲丸投(4kg) | E35: 1組 | F35: 0.48958333 | G35: =F35-TIME(0,20,0) -> 0.47569444 | I35: 1
B36: 高校 | C36: 男 | D36: 砲丸投(6kg) | E36: 1組 | I36: 19
A37: 4 | B37: 中学 | C37: 女 | D37: 砲丸投(2.721kg) | E37: 1組 | F37: 0.5625 | G37: =F37-TIME(0,20,0) -> 0.54861111 | I37: 9
B38: 四種 | C38: 女 | D38: 砲丸投(2.721kg) | E38: 1組 | I38: 2
A39: 5 | B39: 新人戦 | C39: 男 | D39: 砲丸投(5kg) | E39: 決勝 | F39: 0.625 | G39: =F39-TIME(0,20,0) -> 0.61111111 | I39: 10
B40: 新人戦 | C40: 女 | D40: 砲丸投(2.721kg) | E40: 決勝 | I40: 9
A43: № | B43: 種別 | C43: 性別 | D43: 種目 | E43: 組 | F43: 競技開始時刻 | G43: 現地コール時刻 | I43: 人数
A44: 1 | B44: 一高 | C44: 女 | D44: やり投 | E44: 1組 | F44: 0.41666667 | G44: =F44-TIME(0,20,0) -> 0.40277778 | I44: 21
...

Sheet 当日枠
A1: 第３６回奈良市陸上サーキット４日目（９月１３日） 当日エントリー枠
A3: ■ １組あたりの定員（人）
A4: １００ｍ | B4: 9
A5: ２００ｍ | B5: 8
A6: ４００ｍ・４００ｍH | B6: 6
A7: ８００ｍ | B7: 16
A8: ハードル種目（直線） | B8: 9
A9: ハードル種目（１１０ｍYH・JH） | B9: 9
A10: ４×１００ｍR | B10: 8
A11: フィールド種目（跳躍・投擲）の当日枠 一律 | B11: 5
A14: 区分 | B14: 種別 | C14: 性別 | D14: 種目 | E14: エントリー人数 | F14: 組数 | G14: 定員/組 | H14: 収容人数計 | I14: 当日枠
A15: トラック | B15: 共通 | C15: 女 | D15: ４００ｍH(0.762m) | E15: =ﾄﾗｯｸ!I10 -> 16 | F15: =ﾄﾗｯｸ!J10 -> 3 | G15: =$B$6 -> 6 | H15: =F15*G15 -> 18 | I15: =H15-E15 -> 2
A16: トラック | B16: 共通 | C16: 男 | D16: ４００ｍH(0.914m) | E16: =ﾄﾗｯｸ!I11 -> 38 | F16: =ﾄﾗｯｸ!J11 -> 7 | G16: =$B$6 -> 6 | H16: =F16*G16 -> 42 | I16: =H16-E16 -> 4
A17: トラック | B17: 一高 | C17: 男 | D17: １１０ｍHH(1.067m) | E17: =ﾄﾗｯｸ!I19 -> 27 | F17: =ﾄﾗｯｸ!J19 -> 3 | G17: =$B$8 -> 9 | H17: =F17*G17 -> 27 | I17: =H17-E17 -> 0
A18: トラック | B18: 共通 | C18: 男 | D18: １１０ｍJH(0.991m) | E18: =ﾄﾗｯｸ!I20 -> 15 | F18: =ﾄﾗｯｸ!J20 -> 2 | G18: =$B$9 -> 9 | H18: =F18*G18 -> 18 | I18: =H18-E18 -> 3
A19: トラック | B19: 中学 | C19: 男 | D19: １１０ｍH(0.914m) | E19: =ﾄﾗｯｸ!I21 -> 22 | F19: =ﾄﾗｯｸ!J21 -> 3 | G19: =$B$8 -> 9 | H19: =F19*G19 -> 27 | I19: =H19-E19 -> 5
A20: トラック | B20: 一高 | C20: 女 | D20: １００ｍH(0.838m) | E20: =ﾄﾗｯｸ!I23 -> 15 | F20: =ﾄﾗｯｸ!J23 -> 2 | G20: =$B$8 -> 9 | H20: =F20*G20 -> 18 | I20: =H20-E20 -> 3
A21: トラック | B21: 共通 | C21: 女 | D21: １００ｍYH(0.762m) | E21: =ﾄﾗｯｸ!I24 -> 16 | F21: =ﾄﾗｯｸ!J24 -> 2 | G21: =$B$9 -> 9 | H21: =F21*G21 -> 18 | I21: =H21-E21 -> 2
A22: トラック | B22: 中学 | C22: 女 | D22: １００ｍH(0.762m) | E22: =ﾄﾗｯｸ!I25 -> 14 | F22: =ﾄﾗｯｸ!J25 -> 2 | G22: =$B$8 -> 9 | H22: =F22*G22 -> 18 | I22: =H22-E22 -> 4
A23: トラック | B23: 共通 | C23: 男 | D23: １００ｍ | E23: =ﾄﾗｯｸ!I27 -> 820 | F23: =ﾄﾗｯｸ!J27 -> 92 | G23: =$B$4 -> 9 | H23: =F23*G23 -> 828 | I23: =H23-E23 -> 8
A24: トラック | B24: 共通 | C24: 女 | D24: １００ｍ | E24: =ﾄﾗｯｸ!I51 -> 225 | F24: =ﾄﾗｯｸ!J51 -> 25 | G24: =$B$4 -> 9 | H24: =F24*G24 -> 225 | I24: =H24-E24 -> 0
A25: トラック | B25: 共通 | C25: 男 | D25: ８００ｍ | E25: =ﾄﾗｯｸ!I64 -> 94 | F25: =ﾄﾗｯｸ!J64 -> 6 | G25: =$B$7 -> 16 | H25: =F25*G25 -> 96 | I25: =H25-E25 -> 2
A26: トラック | B26: 共通 | C26: 女 | D26: ８００ｍ | E26: =ﾄﾗｯｸ!I66 -> 52 | F26: =ﾄﾗｯｸ!J66 -> 4 | G26: =$B$7 -> 16 | H26: =F26*G26 -> 64 | I26: =H26-E26 -> 12
A27: トラック | B27: 共通 | C27: 男 | D27: ２００ｍ | E27: =ﾄﾗｯｸ!I67 -> 372 | F27: =ﾄﾗｯｸ!J67 -> 47 | G27: =$B$5 -> 8 | H27: =F27*G27 -> 376 | I27: =H27-E27 -> 4
A28: トラック | B28: 共通 | C28: 女 | D28: ２００ｍ | E28: =ﾄﾗｯｸ!I79 -> 101 | F28: =ﾄﾗｯｸ!J79 -> 13 | G28: =$B$5 -> 8 | H28: =F28*G28 -> 104 | I28: =H28-E28 -> 3
A29: トラック | B29: 共通 | C29: 男 | D29: ４００ｍ | E29: =ﾄﾗｯｸ!I85 -> 180 | F29: =ﾄﾗｯｸ!J85 -> 30 | G29: =$B$6 -> 6 | H29: =F29*G29 -> 180 | I29: =H29-E29 -> 0
A30: トラック | B30: 共通 | C30: 女 | D30: ４００ｍ | E30: =ﾄﾗｯｸ!I95 -> 41 | F30: =ﾄﾗｯｸ!J95 -> 7 | G30: =$B$6 -> 6 | H30: =F30*G30 -> 42 | I30: =H30-E30 -> 1
A31: フィールド | B31: 中学 | C31: 女 | D31: 走高跳 | E31: =幅3棒高補助!I6 -> 6 | I31: =$B$11 -> 5
A32: フィールド | B32: 一高 | C32: 女 | D32: 走高跳 | E32: =幅3棒高補助!I8 -> 14 | I32: =$B$11 -> 5
A33: フィールド | B33: 中学 | C33: 男 | D33: 走高跳 | E33: =幅3棒高補助!I7 -> 11 | I33: =$B$11 -> 5
A34: フィールド | B34: 一高 | C34: 男 | D34: 走高跳 | E34: =幅3棒高補助!I12 -> 14 | I34: =$B$11 -> 5
A35: フィールド | B35: 中学 | C35: 男 | D35: 走幅跳 | E35: =幅3棒高補助!I16+幅3棒高補助!I17 -> 34 | I35: =$B$11 -> 5
A36: フィールド | B36: 中学 | C36: 女 | D36: 走幅跳 | E36: =幅3棒高補助!I18 -> 18 | I36: =$B$11 -> 5
A37: フィールド | B37: 一高 | C37: 男 | D37: 走幅跳 | E37: =幅3棒高補助!I19+幅3棒高補助!I20+幅3棒高補助!I21 -> 82 | I37: =$B$11 -> 5
A38: フィールド | B38: 一高 | C38: 女 | D38: 走幅跳 | E38: =幅3棒高補助!I22+幅3棒高補助!I23 -> 42 | I38: =$B$11 -> 5
A39: フィールド | B39: 中学 | C39: 男 | D39: 三段跳 | E39: =幅3棒高補助!I26 -> 6 | I39: =$B$11 -> 5
A40: フィールド | B40: 一高 | C40: 女 | D40: 三段跳 | E40: =幅3棒高補助!I27 -> 9 | I40: =$B$11 -> 5
A41: フィールド | B41: 一高 | C41: 男 | D41: 三段跳 | E41: =幅3棒高補助!I28 -> 41 | I41: =$B$11 -> 5
A42: フィールド | B42: 中学 | C42: 男 | D42: 砲丸投(5.000kg) | E42: =幅3棒高補助!I32 -> 15 | I42: =$B$11 -> 5
A43: フィールド | B43: 一高 | C43: 女 | D43: 砲丸投(4.000kg) | E43: =幅3棒高補助!I33 -> 17 | I43: =$B$11 -> 5
...
