{"text_format":"1","workbook":"xlsx","n_sheets":13,"sheets":["入力上の注意","開催個人種目一覧表","競技者一覧","リレー","個人種目出場種目数","参加費集計シート","種目一覧シート","種目コード一覧","団体CSV","リレーCSV","学校名簿","学校番号表","Sheet4"],"not_rendered":{"charts":0,"images":9,"macros":1,"external_links":0,"defined_names":22,"comments":0,"pivot_tables":0},"unopened":[],"bounds":{"document_bytes":16777216,"sheet_cells":100000,"rows_first":2000,"rows_last":500,"rows_between":2000,"halvings":0,"cell_chars":16384,"cell_head_chars":4096},"cells_cut":0,"cells_raw":0,"read":"whole","date_system":"1900"}

{"sheet":"入力上の注意","index":0,"n_rows":63,"n_cols":16,"rows_kept":63,"cut":false,"hidden":false,"merged":[]}
[]
[null,"申込み作成上の注意事項"]
[null,"※必ず①～⑫の注意事項をすべてご確認の上、必ず守ってお申込みお願いします。"]
[null,"※ただし、同団体で陸協登録が異なる場合は、エントリーファイルを分けてください!!"]
[]
[null,"①"]
[]
[]
[null,null,null,null,"この部分で▼でリストを表示させ、選択して下さい"]
[null,null,null,null,"ex) 第１回、第２回、第３回、第４回、第５回、第６回、第７回"]
[]
[]
[null,"②","府県名",null,"奈良…29  大阪…27  京都…26  等"]
[null,null,"団体名",null,"学校の場合は小・中・高・大をつけて下さい　　東大寺学園中、京都大、等",null,null,null,null,null,null,null,null,null,null,"記入例"]
[null,null,"ﾌﾘｶﾞﾅ",null,"ﾌﾘｶﾞﾅは半角ｶﾅで入力して下さい。"]
[]
[]
[]
[null,"③","ナンバー",null,"当日試合でつけるナンバーカードの番号を入力してください。（半角英数）"]
[]
[]
[null,"④","氏　　名","ﾌﾘｶﾞﾅ","競技者の氏名を入力して下さい。（全角半角カナ英数とすべての文字種）"]
[null,null,null,null,"外字は使わないで下さい"]
[null,null,null,null,"姓と名の間は全角スペースを入れてください"]
[null,null,null,null,"ﾌﾘｶﾞﾅは半角ｶﾅで入力して下さい。"]
[]
[null,"⑤",null,null,"▼でリストを表示させ、選択して下さい"]
[null,null,null,null,"１：男子　　２：女子"]
[]
[null,"➅",null,null,"▼学年を入力して下さい。(半角数字)　　大学院…M1.M2等、一般は9を入力"]
[]
[]
[null,"➆",null,null,"※種目に関しては、④の性別を入力したのち▼でリストを表示させ、種目選択してください。※"]
[null,null,null,null,"最近の最高記録は半角英数で入力して下さい。区切り文字なしです。"]
[null,null,null,null,"11秒45…1145　12m34…1234　1m50…150　6分5秒15…60515"]
[]
[]
[]
[]
[]
[null,null,"リレーエントリーシートについて"]
[]
[]
[null,"⑧",null,null,"○○中、○○高と入力してください。"]
[null,null,null,null,"2チーム以上エントリーする場合はA、Bを加えてください。"]
[]
[null,"⑨",null,"▼でリストを表示させ、選択してください。"]
[]
[]
[null,"⑩",null,null,"最近の最高記録は半角英数で入力して下さい。区切り文字なしです。"]
[null,null,null,null,"44秒45…4445     50秒00…5000"]
[]
[]
[null,"入力例"]
[]
[]
[]
[]
[]
[null,"⑪","参加費集計のシートに各団体で、入力の方よろしくお願いします。"]
[]
[null,"⑫","メールで申込む際、ファイル名は「学校名又は団体名.xls」でお願いします。"]
[null,null,"例）東大寺中.xls　　鴻ノ池ＳＣ.xls"]

{"sheet":"開催個人種目一覧表","index":1,"n_rows":62,"n_cols":14,"rows_kept":62,"cut":false,"hidden":false,"merged":[[0,0,0,1],[0,12,0,13],[0,10,0,11],[0,8,0,9],[0,6,0,7],[0,4,0,5],[0,2,0,3]]}
["第1回",null,"第2回",null,"第3回",null,"第4回",null,"第5回",null,"第6回",null,"第7回"]
["中学男子 １００ｍ","中学女子 １００ｍ","中学男子 １００ｍ","中学女子 １００ｍ","【1日目】","【1日目】","中学男子 １００ｍ","中学女子 １００ｍ","中学男子 １００ｍ","中学女子 １００ｍ","【1日目】","【1日目】","中学男子 １００ｍ","中学女子 １００ｍ"]
["中学男子 ２００ｍ","中学女子 ２００ｍ","中学男子 ２００ｍ","中学女子 ２００ｍ","1日目 中学男子 １００ｍ","1日目 中学女子 １００ｍ","中学男子 ２００ｍ","中学女子 ２００ｍ","中学男子 ２００ｍ","中学女子 ２００ｍ","中学男子 ２００ｍ","中学女子 ２００ｍ","中学男子 ２００ｍ","中学女子 ２００ｍ"]
["中学男子 ４００ｍ","中学女子 ８００ｍ","中学男子 ４００ｍ","中学女子 ８００ｍ","1日目 中学男子 ２００ｍ","1日目 中学女子 ２００ｍ","中学男子 ４００ｍ","中学女子 ８００ｍ","中学男子 ４００ｍ","中学女子 ８００ｍ","中学男子 ４００ｍ","中学女子 ８００ｍ","中学男子 ４００ｍ","中学女子  ８００ｍ"]
["中学男子 ８００ｍ","中学女子 １５００ｍ","中学男子 ８００ｍ","中学女子 １５００ｍ","1日目 中学男子 ４００ｍ","1日目 中学女子 ８００ｍ","中学男子 ８００ｍ","中学女子 １５００ｍ","中学男子 ８００ｍ","中学女子 １５００ｍ","中学男子 ８００ｍ","中学女子 １５００ｍ","中学男子  ８００ｍ","中学女子 １５００ｍ"]
["中学男子 １５００ｍ","中学女子 １００ｍＨ","中学男子 １５００ｍ","中学女子 １００ｍＨ","1日目 中学男子 ８００ｍ","1日目 中学女子 １５００ｍ","中学男子 １５００ｍ","中学女子 １００ｍＨ","中学男子 １５００ｍ","中学女子 １００ｍＨ","中学男子 １５００ｍ","中学女子 走高跳","中学男子 １５００ｍ","中学女子 １００ｍＨ"]
["中学男子 ３０００ｍ","中学女子 棒高跳","中学男子 ３０００ｍ","中学女子 １００ｍＹＨ","1日目 中学男子 １５００ｍ","1日目 中学女子 １００ｍＨ","中学男子 ３０００ｍ","中学女子 棒高跳","中学男子 ３０００ｍ","中学女子 棒高跳","中学男子 ３０００ｍ","中学女子 走幅跳","中学男子 ３０００ｍ","中学女子 棒高跳"]
["中学男子 １１０ｍＭＨ","中学女子 走高跳","中学男子 １００ｍＨ(一般女子)","中学女子 棒高跳","1日目 中学男子 ３０００ｍ","1日目 中学女子 走高跳","中学男子 １１０ｍＭＨ","中学女子 走高跳","中学男子 １１０ｍＭＨ","中学女子 走高跳","中学男子 走高跳","中学女子 砲丸投(2.7㎏)","中学男子 １１０ｍＭＨ","中学女子 走高跳"]
["中学男子 棒高跳","中学女子 走幅跳","中学男子 １１０ｍJＨ(99.1)","中学女子 走高跳","1日目 中学男子 １１０ｍＭＨ","1日目 中学女子 走幅跳","中学男子 棒高跳","中学女子 走幅跳","中学男子 棒高跳","中学女子 走幅跳","中学男子 走幅跳","中学女子 円盤投","中学男子 棒高跳","中学女子 走幅跳"]
["中学男子 走高跳","中学女子 砲丸投(2.7㎏)","中学男子 １１０ｍＭＨ","中学女子 走幅跳","1日目 中学男子 走高跳","1日目 中学女子 砲丸投(2.7㎏)","中学男子 走高跳","中学女子 砲丸投(2.7㎏)","中学男子 走高跳","中学女子 砲丸投(2.7㎏)","中学男子 三段跳","中学女子 四種競技","中学男子 走高跳","中学女子 砲丸投(2.7㎏)"]
["中学男子 走幅跳","中学女子 円盤投","中学男子 棒高跳","中学女子 砲丸投(2.7㎏)","1日目 中学男子 走幅跳","1日目 中学女子 円盤投","中学男子 走幅跳","中学女子 円盤投","中学男子 走幅跳","中学女子 円盤投","中学男子 砲丸投(5.0㎏)","一般・高校女子 ２００ｍ","中学男子 走幅跳","中学女子 円盤投"]
["中学男子 三段跳","中学女子 四種競技","中学男子 走高跳","中学女子 円盤投","1日目 中学男子 三段跳","1日目 中学女子 四種競技","中学男子 三段跳","中学女子 四種競技","中学男子 三段跳","中学女子 四種競技","中学男子 円盤投(1.5kg)","一般・高校女子 ４００ｍ","中学男子 三段跳","中学女子 四種競技"]
["中学男子 砲丸投(5.0㎏)","一般・高校女子 １００ｍ","中学男子 走幅跳","中学女子 四種競技","1日目 中学男子 砲丸投(5.0㎏)","1日目 一般・高校女子 １００ｍ","中学男子 砲丸投(5.0㎏)","一般・高校女子 １００ｍ","中学男子 砲丸投(5.0㎏)","一般・高校女子 １００ｍ","中学男子 四種競技","一般・高校女子 ８００ｍ","中学男子 砲丸投(5.0㎏)","一般・高校女子 １００ｍ"]
["中学男子 円盤投(1.5kg)","一般・高校女子 ２００ｍ","中学男子 三段跳","一般・高校女子 １００ｍ","1日目 中学男子 円盤投(1.5kg)","1日目 一般・高校女子 ２００ｍ","中学男子 円盤投(1.5kg)","一般・高校女子 ２００ｍ","中学男子 円盤投(1.5kg)","一般・高校女子 ２００ｍ","一般・高校男子 ２００ｍ","一般・高校女子 １５００ｍ","中学男子 円盤投(1.5kg)","一般・高校女子 ２００ｍ"]
["中学男子 四種競技","一般・高校女子 ４００ｍ","中学男子 1年砲丸投(2.7㎏)","一般・高校女子 ２００ｍ","1日目 中学男子 四種競技","1日目 一般・高校女子 ４００ｍ","中学男子 四種競技","一般・高校女子 ４００ｍ","中学男子 四種競技","一般・高校女子 ４００ｍ","一般・高校男子 ４００ｍ","一般・高校女子 ３０００ｍ","中学男子 四種競技","一般・高校女子 ４００ｍ"]
["一般・高校男子 １００ｍ","一般・高校女子 ８００ｍ","中学男子 2年砲丸投(4.0㎏)","一般・高校女子 ４００ｍ","1日目 一般・高校男子 １００ｍ","1日目 一般・高校女子 ８００ｍ","一般・高校男子 １００ｍ","一般・高校女子 ８００ｍ","一般・高校男子 １００ｍ","一般・高校女子 ８００ｍ","一般・高校男子 ８００ｍ","一般・高校女子 ４００ｍＨ","一般・高校男子 １００ｍ","一般・高校女子  ８００ｍ"]
["一般・高校男子 ２００ｍ","一般・高校女子 １５００ｍ","中学男子 砲丸投(5.0㎏)","一般・高校女子 ８００ｍ","1日目 一般・高校男子 ２００ｍ","1日目 一般・高校女子 １５００ｍ","一般・高校男子 ２００ｍ","一般・高校女子 １５００ｍ","一般・高校男子 ２００ｍ","一般・高校女子 １５００ｍ","一般・高校男子 １５００ｍ","一般・高校女子 走高跳","一般・高校男子 ２００ｍ","一般・高校女子 １５００ｍ"]
["一般・高校男子 ４００ｍ","一般・高校女子 ３０００ｍ","中学男子 1年円盤投(1.0kg)","一般・高校女子 １５００ｍ","1日目 一般・高校男子 ４００ｍ","1日目 一般・高校女子 ３０００ｍ","一般・高校男子 ４００ｍ","一般・高校女子 ３０００ｍ","一般・高校男子 ４００ｍ","一般・高校女子 ３０００ｍ","一般・高校男子 ３０００ｍ","一般・高校女子 走幅跳","一般・高校男子 ４００ｍ","一般・高校女子 ３０００ｍ"]
["一般・高校男子 ８００ｍ","一般・高校女子 １００ｍＨ（一般）","中学男子 円盤投(1.5kg)","一般・高校女子 ３０００ｍ","1日目 一般・高校男子 ８００ｍ","1日目 一般・高校女子 １００ｍＨ（一般）","一般・高校男子 ８００ｍ","一般・高校女子 １００ｍＨ（一般）","一般・高校男子 ８００ｍ","一般・高校女子 １００ｍＨ（一般）","一般・高校男子 ４００ｍＨ","一般・高校女子 三段跳","一般・高校男子  ８００ｍ","一般・高校女子 １００ｍＨ（一般）"]
["一般・高校男子 １５００ｍ","一般・高校女子 ４００ｍＨ","中学男子 四種競技","一般・高校女子 １００ｍＨ（一般）","1日目 一般・高校男子 １５００ｍ","1日目 一般・高校女子 ４００ｍＨ","一般・高校男子 １５００ｍ","一般・高校女子 ４００ｍＨ","一般・高校男子 １５００ｍ","一般・高校女子 ４００ｍＨ","一般・高校男子 走高跳","一般・高校女子 砲丸投(4.0㎏)","一般・高校男子 １５００ｍ","一般・高校女子 ４００ｍＨ"]
["一般・高校男子 ３０００ｍ","一般・高校女子 走高跳","一般・高校男子 １００ｍ","一般・高校女子 ４００ｍＨ","1日目 一般・高校男子 ３０００ｍ","1日目 一般・高校女子 走高跳","一般・高校男子 ３０００ｍ","一般・高校女子 走高跳","一般・高校男子 ３０００ｍ","一般・高校女子 棒高跳","一般・高校男子 走幅跳","一般・高校女子 円盤投(1.0㎏)","一般・高校男子 ３０００ｍ","一般・高校女子 棒高跳"]
["一般・高校男子 １１０ｍＨＨ(106.3)","一般・高校女子 走幅跳","一般・高校男子 ２００ｍ","一般・高校女子 棒高跳","1日目 一般・高校男子 １１０ｍＨＨ(106.3)","1日目 一般・高校女子 走幅跳","一般・高校男子 １１０ｍＨＨ(106.3)","一般・高校女子 走幅跳","一般・高校男子 １１０ｍＨＨ(106.3)","一般・高校女子 走高跳","一般・高校男子 三段跳","一般・高校女子 やり投","一般・高校男子 １１０ｍＨＨ(106.3)","一般・高校女子 走高跳"]
["一般・高校男子 ４００ｍＨ","一般・高校女子 三段跳","一般・高校男子 ４００ｍ","一般・高校女子 走高跳","1日目 一般・高校男子 ４００ｍＨ","1日目 一般・高校女子 三段跳","一般・高校男子 ４００ｍＨ","一般・高校女子 三段跳","一般・高校男子 ４００ｍＨ","一般・高校女子 走幅跳","一般・高校男子 砲丸投(6.0Kg)","一般・高校女子　七種競技","一般・高校男子 ４００ｍＨ","一般・高校女子 走幅跳"]
["一般・高校男子 走高跳","一般・高校女子 砲丸投(4.0㎏)","一般・高校男子 ８００ｍ","一般・高校女子 走幅跳","1日目 一般・高校男子 走高跳","1日目 一般・高校女子 砲丸投(4.0㎏)","一般・高校男子 走高跳","一般・高校女子 砲丸投(4.0㎏)","一般・高校男子 棒高跳","一般・高校女子 三段跳","一般・高校男子 砲丸投(7.25Kg)","【2日目】","一般・高校男子 棒高跳","一般・高校女子 三段跳"]
["一般・高校男子 走幅跳","一般・高校女子 円盤投(1.0㎏)","一般・高校男子 １５００ｍ","一般・高校女子 三段跳","1日目 一般・高校男子 走幅跳","1日目 一般・高校女子 円盤投(1.0㎏)","一般・高校男子 走幅跳","一般・高校女子 円盤投(1.0㎏)","一般・高校男子 走高跳","一般・高校女子 砲丸投(4.0㎏)","一般・高校男子 円盤投(1.75kg)","中学女子 １００ｍ","一般・高校男子 走高跳","一般・高校女子 砲丸投(4.0㎏)"]
["一般・高校男子 三段跳","一般・高校女子 やり投","一般・高校男子 ３０００ｍ","一般・高校女子 砲丸投(4.0㎏)","1日目 一般・高校男子 三段跳","1日目 一般・高校女子 やり投","一般・高校男子 三段跳","一般・高校女子 やり投","一般・高校男子 走幅跳","一般・高校女子 円盤投(1.0㎏)","一般・高校男子 円盤投(2.0kg)","中学女子 １００ｍＨ","一般・高校男子 走幅跳","一般・高校女子 円盤投(1.0㎏)"]
["一般・高校男子 砲丸投(6.0Kg)",null,"一般・高校男子 １１０ｍＨＨ(106.3)","一般・高校女子 円盤投(1.0㎏)","1日目 一般・高校男子 砲丸投(6.0Kg)","【2日目】","一般・高校男子 砲丸投(6.0Kg)",null,"一般・高校男子 三段跳","一般・高校女子 やり投","一般・高校男子 やり投","中学女子 棒高跳","一般・高校男子 三段跳","一般・高校女子 やり投"]
["一般・高校男子 砲丸投(7.25Kg)",null,"一般・高校男子 １１０ｍJＨ(99.1)","一般・高校女子 やり投","1日目 一般・高校男子 砲丸投(7.25Kg)","2日目 中学女子 １００ｍ","一般・高校男子 砲丸投(7.25Kg)",null,"一般・高校男子 砲丸投(6.0Kg)",null,"一般・高校男子 八種競技","一般・高校女子 １００ｍ","一般・高校男子 砲丸投(6.0Kg)"]
["一般・高校男子 円盤投(1.75kg)",null,"一般・高校男子 ４００ｍＨ",null,"1日目 一般・高校男子 円盤投(1.75kg)","2日目 中学女子 ２００ｍ","一般・高校男子 円盤投(1.75kg)",null,"一般・高校男子 砲丸投(7.25Kg)",null,"【2日目】","一般・高校女子 １００ｍＨ（一般）","一般・高校男子 砲丸投(7.25Kg)"]
["一般・高校男子 円盤投(2.0kg)",null,"一般・高校男子 棒高跳",null,"1日目 一般・高校男子 円盤投(2.0kg)","2日目 中学女子 １００ｍＨ","一般・高校男子 円盤投(2.0kg)",null,"一般・高校男子 円盤投(1.75kg)",null,"中学男子 １００ｍ","一般・高校女子 棒高跳","一般・高校男子 円盤投(1.75kg)"]
["一般・高校男子 やり投",null,"一般・高校男子 走高跳",null,"1日目 一般・高校男子 やり投","2日目 中学女子 １００ｍＹＨ","一般・高校男子 やり投",null,"一般・高校男子 円盤投(2.0kg)",null,"中学男子 １１０ｍＭＨ",null,"一般・高校男子 円盤投(2.0kg)"]
[null,null,"一般・高校男子 走幅跳",null,"【2日目】","2日目 中学女子 棒高跳",null,null,"一般・高校男子 やり投",null,"中学男子 棒高跳",null,"一般・高校男子 やり投"]
[null,null,"一般・高校男子 三段跳",null,"2日目 中学男子 １００ｍ","2日目 中学女子 走高跳",null,null,null,null,"一般・高校男子 １００ｍ"]
[null,null,"一般・高校男子 砲丸投(6.0Kg)",null,"2日目 中学男子 ２００ｍ","2日目 中学女子 走幅跳",null,null,null,null,"一般・高校男子 １１０ｍＨＨ(106.3)"]
[null,null,"一般・高校男子 砲丸投(7.25Kg)",null,"2日目 中学男子 ４００ｍ","2日目 中学女子 砲丸投(2.7㎏)",null,null,null,null,"一般・高校男子 棒高跳"]
[null,null,"一般・高校男子 円盤投(1.75kg)",null,"2日目 中学男子 １００ｍＨ(一般女子)","2日目 中学女子 円盤投"]
[null,null,"一般・高校男子 円盤投(2.0kg)",null,"2日目 中学男子 １１０ｍJＨ(99.1)","2日目 一般・高校女子 １００ｍ"]
[null,null,"一般・高校男子 やり投",null,"2日目 中学男子 １１０ｍＭＨ","2日目 一般・高校女子 ２００ｍ"]
[null,null,null,null,"2日目 中学男子 棒高跳","2日目 一般・高校女子 ４００ｍ"]
[null,null,null,null,"2日目 中学男子 走高跳","2日目 一般・高校女子 １００ｍＨ（一般）"]
[null,null,null,null,"2日目 中学男子 走幅跳","2日目 一般・高校女子 ４００ｍＨ"]
[null,null,null,null,"2日目 中学男子 三段跳","2日目 一般・高校女子 棒高跳"]
[null,null,null,null,"2日目 中学男子 1年砲丸投(2.7㎏)","2日目 一般・高校女子 走高跳"]
[null,null,null,null,"2日目 中学男子 2年砲丸投(4.0㎏)","2日目 一般・高校女子 走幅跳"]
[null,null,null,null,"2日目 中学男子 砲丸投(5.0㎏)","2日目 一般・高校女子 三段跳"]
[null,null,null,null,"2日目 中学男子 1年円盤投(1.0kg)","2日目 一般・高校女子 砲丸投(4.0㎏)"]
[null,null,null,null,"2日目 中学男子 円盤投(1.5kg)","2日目 一般・高校女子 円盤投(1.0㎏)"]
[null,null,null,null,"2日目 一般・高校男子 １００ｍ","2日目 一般・高校女子 やり投"]
[null,null,null,null,"2日目 一般・高校男子 ２００ｍ"]
[null,null,null,null,"2日目 一般・高校男子 ４００ｍ"]
[null,null,null,null,"2日目 一般・高校男子 １１０ｍＨＨ(106.3)"]
[null,null,null,null,"2日目 一般・高校男子 １１０ｍJＨ(99.1)"]
[null,null,null,null,"2日目 一般・高校男子 ４００ｍＨ"]
[null,null,null,null,"2日目 一般・高校男子 棒高跳"]
[null,null,null,null,"2日目 一般・高校男子 走高跳"]
[null,null,null,null,"2日目 一般・高校男子 走幅跳"]
[null,null,null,null,"2日目 一般・高校男子 三段跳"]
[null,null,null,null,"2日目 一般・高校男子 砲丸投(6.0Kg)"]
[null,null,null,null,"2日目 一般・高校男子 砲丸投(7.25Kg)"]
[null,null,null,null,"2日目 一般・高校男子 円盤投(1.75kg)"]
[null,null,null,null,"2日目 一般・高校男子 円盤投(2.0kg)"]
[null,null,null,null,"2日目 一般・高校男子 やり投"]

{"sheet":"競技者一覧","index":2,"n_rows":112,"n_cols":29,"rows_kept":112,"cut":false,"hidden":false,"merged":[[10,16,10,17],[10,18,10,19],[10,20,10,21],[10,14,10,15],[10,6,10,7],[10,8,10,9],[10,12,10,13],[1,6,2,9],[1,4,2,5],[10,1,10,5],[3,1,3,3],[1,1,2,3],[3,10,3,11],[10,10,10,11],[5,6,7,6]]}
[]
[null,"2019年度",null,null,null,null,"奈良市陸協記録会　競技者参加申込一覧表"]
[]
[null,null,null,null,null,null,null,null,null,null,"参加種目数"]
[null,null,null,null,null,null,null,"希望パート","名前",null,"個人種目(混成以外)","リレー"]
[null,"府県名",null,null,null,null,"役員",null,null,null,{"$f":"SUM(個人種目出場種目数!J2:J19,個人種目出場種目数!J21:J32,個人種目出場種目数!J34:J51,個人種目出場種目数!J53:J67,個人種目出場種目数!J69:J86,個人種目出場種目数!J88:J99,個人種目出場種目数!J101:J151,個人種目出場種目数!J153:J164,個人種目出場種目数!J166:J198)","v":0},{"$f":"COUNTA(リレー!C7:C36)","v":0}]
[null,"団体名",null,null,null,null,null,null,null,null,"混成種目"]
[null,"ﾌﾘｶﾞﾅ",null,null,null,null,null,null,null,null,{"$f":"SUM(個人種目出場種目数!J20,個人種目出場種目数!J33,個人種目出場種目数!J52,個人種目出場種目数!J68,個人種目出場種目数!J87,個人種目出場種目数!J100,個人種目出場種目数!J152,個人種目出場種目数!J165)","v":0}]
[]
[]
[null,"登　　録　　選　　手",null,null,null,null,"個人種目1",null,"個人種目2",null,"個人種目3",null,"個人種目4",null,"個人種目5",null,"個人種目6",null,"個人種目7",null,"個人種目8",null,null,null,null,null,1,1]
[null,"ナンバー","氏　　名","ﾌﾘｶﾞﾅ","性","学年","種目","最近の最高記録","種目","最近の最高記録","種目","最近の最高記録","種目","最近の最高記録","種目","最近の最高記録","種目","最近の最高記録","種目","最近の最高記録","種目","最近の最高記録",null,null,null,null,2,2,"第1回"]
[1,null,null,null,null,null,null,null,null,null,null,null,null,null,null,null,null,null,null,null,null,null,null,null,null,null,null,3,"第2回"]
[2,null,null,null,null,null,null,null,null,null,null,null,null,null,null,null,null,null,null,null,null,null,null,null,null,null,null,4,"第3回"]
[3,null,null,null,null,null,null,null,null,null,null,null,null,null,null,null,null,null,null,null,null,null,null,null,null,null,null,0,"第4回"]
[4,null,null,null,null,null,null,null,null,null,null,null,null,null,null,null,null,null,null,null,null,null,null,null,null,null,null,null,"第5回"]
[5,null,null,null,null,null,null,null,null,null,null,null,null,null,null,null,null,null,null,null,null,null,null,null,null,null,null,null,"第6回"]
[6,null,null,null,null,null,null,null,null,null,null,null,null,null,null,null,null,null,null,null,null,null,null,null,null,null,null,null,"第7回"]
[7]
[8]
[9]
[10]
[11]
[12]
[13]
[14]
[15]
[16]
[17]
[18]
[19]
[20]
[21]
[22]
[23]
[24]
[25]
[26]
[27]
[28]
[29]
[30]
[31]
[32]
[33]
[34]
[35]
[36]
[37]
[38]
[39]
[40]
[41]
[42]
[43]
[44]
[45]
[46]
[47]
[48]
[49]
[50]
[51]
[52]
[53]
[54]
[55]
[56]
[57]
[58]
[59]
[60]
[61]
[62]
[63]
[64]
[65]
[66]
[67]
[68]
[69]
[70]
[71]
[72]
[73]
[74]
[75]
[76]
[77]
[78]
[79]
[80]
[81]
[82]
[83]
[84]
[85]
[86]
[87]
[88]
[89]
[90]
[91]
[92]
[93]
[94]
[95]
[96]
[97]
[98]
[99]
[100]

{"sheet":"リレー","index":3,"n_rows":36,"n_cols":13,"rows_kept":36,"cut":false,"hidden":false,"merged":[]}
[]
[null,"リレー　エントリーファイル"]
[]
[]
[]
[null,"チーム名","コード","最近の最高記録","選手1","選手2","選手3","選手4","選手5","選手6",null,"種目"]
[1,null,null,null,null,null,null,null,null,null,null,"中学男子4X100mR"]
[2,null,null,null,null,null,null,null,null,null,null,"中学女子4X100mR"]
[3,null,null,null,null,null,null,null,null,null,null,"一般高校男子4X100mR",113]
[4,null,null,null,null,null,null,null,null,null,null,"一般高校女子4X100mR",204]
[5,null,null,null,null,null,null,null,null,null,null,"１日目 中学男子4X100mR",213]
[6,null,null,null,null,null,null,null,null,null,null,"１日目 中学女子4X100mR",308]
[7,null,null,null,null,null,null,null,null,null,null,"１日目 一般高校男子4X100mR",407]
[8,null,null,null,null,null,null,null,null,null,null,"１日目 一般高校女子4X100mR"]
[9,null,null,null,null,null,null,null,null,null,null,"2日目 中学男子4X100mR"]
[10,null,null,null,null,null,null,null,null,null,null,"2日目 中学女子4X100mR"]
[11,null,null,null,null,null,null,null,null,null,null,"2日目 一般高校男子4X100mR"]
[12,null,null,null,null,null,null,null,null,null,null,"2日目 一般高校女子4X100mR"]
[13]
[14]
[15]
[16]
[17]
[18]
[19]
[20]
[21]
[22]
[23]
[24]
[25]
[26]
[27]
[28]
[29]
[30]

{"sheet":"個人種目出場種目数","index":4,"n_rows":198,"n_cols":10,"rows_kept":198,"cut":false,"hidden":false,"merged":[]}
[null,null,null,null,null,null,null,null,null,"計"]
["中学男子 １００ｍ",{"$f":"COUNTIF(競技者一覧!$G$13:$G$112,A2)","v":0},{"$f":"COUNTIF(競技者一覧!$I$13:$I$112,A2)","v":0},{"$f":"COUNTIF(競技者一覧!$K$13:$K$112,A2)","v":0},{"$f":"COUNTIF(競技者一覧!$M$13:$M$112,A2)","v":0},{"$f":"COUNTIF(競技者一覧!$O$13:$O$112,A2)","v":0},{"$f":"COUNTIF(競技者一覧!$Q$13:$Q$112,A2)","v":0},{"$f":"COUNTIF(競技者一覧!$S$13:$S$112,A2)","v":0},{"$f":"COUNTIF(競技者一覧!$U$13:$U$112,A2)","v":0},{"$f":"SUM(B2:I2)","v":0}]
["中学男子 ２００ｍ",{"$f":"COUNTIF(競技者一覧!$G$13:$G$112,A3)","v":0},{"$f":"COUNTIF(競技者一覧!$I$13:$I$112,A3)","v":0},{"$f":"COUNTIF(競技者一覧!$K$13:$K$112,A3)","v":0},{"$f":"COUNTIF(競技者一覧!$M$13:$M$112,A3)","v":0},{"$f":"COUNTIF(競技者一覧!$O$13:$O$112,A3)","v":0},{"$f":"COUNTIF(競技者一覧!$Q$13:$Q$112,A3)","v":0},{"$f":"COUNTIF(競技者一覧!$S$13:$S$112,A3)","v":0},{"$f":"COUNTIF(競技者一覧!$U$13:$U$112,A3)","v":0},{"$f":"SUM(B3:I3)","v":0}]
["中学男子 ４００ｍ",{"$f":"COUNTIF(競技者一覧!$G$13:$G$112,A4)","v":0},{"$f":"COUNTIF(競技者一覧!$I$13:$I$112,A4)","v":0},{"$f":"COUNTIF(競技者一覧!$K$13:$K$112,A4)","v":0},{"$f":"COUNTIF(競技者一覧!$M$13:$M$112,A4)","v":0},{"$f":"COUNTIF(競技者一覧!$O$13:$O$112,A4)","v":0},{"$f":"COUNTIF(競技者一覧!$Q$13:$Q$112,A4)","v":0},{"$f":"COUNTIF(競技者一覧!$S$13:$S$112,A4)","v":0},{"$f":"COUNTIF(競技者一覧!$U$13:$U$112,A4)","v":0},0]
["中学男子 ８００ｍ",{"$f":"COUNTIF(競技者一覧!$G$13:$G$112,A5)","v":0},{"$f":"COUNTIF(競技者一覧!$I$13:$I$112,A5)","v":0},{"$f":"COUNTIF(競技者一覧!$K$13:$K$112,A5)","v":0},{"$f":"COUNTIF(競技者一覧!$M$13:$M$112,A5)","v":0},{"$f":"COUNTIF(競技者一覧!$O$13:$O$112,A5)","v":0},{"$f":"COUNTIF(競技者一覧!$Q$13:$Q$112,A5)","v":0},{"$f":"COUNTIF(競技者一覧!$S$13:$S$112,A5)","v":0},{"$f":"COUNTIF(競技者一覧!$U$13:$U$112,A5)","v":0},0]
["中学男子 １５００ｍ",{"$f":"COUNTIF(競技者一覧!$G$13:$G$112,A6)","v":0},{"$f":"COUNTIF(競技者一覧!$I$13:$I$112,A6)","v":0},{"$f":"COUNTIF(競技者一覧!$K$13:$K$112,A6)","v":0},{"$f":"COUNTIF(競技者一覧!$M$13:$M$112,A6)","v":0},{"$f":"COUNTIF(競技者一覧!$O$13:$O$112,A6)","v":0},{"$f":"COUNTIF(競技者一覧!$Q$13:$Q$112,A6)","v":0},{"$f":"COUNTIF(競技者一覧!$S$13:$S$112,A6)","v":0},{"$f":"COUNTIF(競技者一覧!$U$13:$U$112,A6)","v":0},0]
["中学男子 ３０００ｍ",{"$f":"COUNTIF(競技者一覧!$G$13:$G$112,A7)","v":0},{"$f":"COUNTIF(競技者一覧!$I$13:$I$112,A7)","v":0},{"$f":"COUNTIF(競技者一覧!$K$13:$K$112,A7)","v":0},{"$f":"COUNTIF(競技者一覧!$M$13:$M$112,A7)","v":0},{"$f":"COUNTIF(競技者一覧!$O$13:$O$112,A7)","v":0},{"$f":"COUNTIF(競技者一覧!$Q$13:$Q$112,A7)","v":0},{"$f":"COUNTIF(競技者一覧!$S$13:$S$112,A7)","v":0},{"$f":"COUNTIF(競技者一覧!$U$13:$U$112,A7)","v":0},0]
["中学男子 １００ｍＨ(一般女子)",{"$f":"COUNTIF(競技者一覧!$G$13:$G$112,A8)","v":0},{"$f":"COUNTIF(競技者一覧!$I$13:$I$112,A8)","v":0},{"$f":"COUNTIF(競技者一覧!$K$13:$K$112,A8)","v":0},{"$f":"COUNTIF(競技者一覧!$M$13:$M$112,A8)","v":0},{"$f":"COUNTIF(競技者一覧!$O$13:$O$112,A8)","v":0},{"$f":"COUNTIF(競技者一覧!$Q$13:$Q$112,A8)","v":0},{"$f":"COUNTIF(競技者一覧!$S$13:$S$112,A8)","v":0},{"$f":"COUNTIF(競技者一覧!$U$13:$U$112,A8)","v":0},0]
["中学男子 １１０ｍJＨ(99.1)",{"$f":"COUNTIF(競技者一覧!$G$13:$G$112,A9)","v":0},{"$f":"COUNTIF(競技者一覧!$I$13:$I$112,A9)","v":0},{"$f":"COUNTIF(競技者一覧!$K$13:$K$112,A9)","v":0},{"$f":"COUNTIF(競技者一覧!$M$13:$M$112,A9)","v":0},{"$f":"COUNTIF(競技者一覧!$O$13:$O$112,A9)","v":0},{"$f":"COUNTIF(競技者一覧!$Q$13:$Q$112,A9)","v":0},{"$f":"COUNTIF(競技者一覧!$S$13:$S$112,A9)","v":0},{"$f":"COUNTIF(競技者一覧!$U$13:$U$112,A9)","v":0},0]
["中学男子 １１０ｍＭＨ",{"$f":"COUNTIF(競技者一覧!$G$13:$G$112,A10)","v":0},{"$f":"COUNTIF(競技者一覧!$I$13:$I$112,A10)","v":0},{"$f":"COUNTIF(競技者一覧!$K$13:$K$112,A10)","v":0},{"$f":"COUNTIF(競技者一覧!$M$13:$M$112,A10)","v":0},{"$f":"COUNTIF(競技者一覧!$O$13:$O$112,A10)","v":0},{"$f":"COUNTIF(競技者一覧!$Q$13:$Q$112,A10)","v":0},{"$f":"COUNTIF(競技者一覧!$S$13:$S$112,A10)","v":0},{"$f":"COUNTIF(競技者一覧!$U$13:$U$112,A10)","v":0},0]
["中学男子 棒高跳",{"$f":"COUNTIF(競技者一覧!$G$13:$G$112,A11)","v":0},{"$f":"COUNTIF(競技者一覧!$I$13:$I$112,A11)","v":0},{"$f":"COUNTIF(競技者一覧!$K$13:$K$112,A11)","v":0},{"$f":"COUNTIF(競技者一覧!$M$13:$M$112,A11)","v":0},{"$f":"COUNTIF(競技者一覧!$O$13:$O$112,A11)","v":0},{"$f":"COUNTIF(競技者一覧!$Q$13:$Q$112,A11)","v":0},{"$f":"COUNTIF(競技者一覧!$S$13:$S$112,A11)","v":0},{"$f":"COUNTIF(競技者一覧!$U$13:$U$112,A11)","v":0},0]
["中学男子 走高跳",{"$f":"COUNTIF(競技者一覧!$G$13:$G$112,A12)","v":0},{"$f":"COUNTIF(競技者一覧!$I$13:$I$112,A12)","v":0},{"$f":"COUNTIF(競技者一覧!$K$13:$K$112,A12)","v":0},{"$f":"COUNTIF(競技者一覧!$M$13:$M$112,A12)","v":0},{"$f":"COUNTIF(競技者一覧!$O$13:$O$112,A12)","v":0},{"$f":"COUNTIF(競技者一覧!$Q$13:$Q$112,A12)","v":0},{"$f":"COUNTIF(競技者一覧!$S$13:$S$112,A12)","v":0},{"$f":"COUNTIF(競技者一覧!$U$13:$U$112,A12)","v":0},0]
["中学男子 走幅跳",{"$f":"COUNTIF(競技者一覧!$G$13:$G$112,A13)","v":0},{"$f":"COUNTIF(競技者一覧!$I$13:$I$112,A13)","v":0},{"$f":"COUNTIF(競技者一覧!$K$13:$K$112,A13)","v":0},{"$f":"COUNTIF(競技者一覧!$M$13:$M$112,A13)","v":0},{"$f":"COUNTIF(競技者一覧!$O$13:$O$112,A13)","v":0},{"$f":"COUNTIF(競技者一覧!$Q$13:$Q$112,A13)","v":0},{"$f":"COUNTIF(競技者一覧!$S$13:$S$112,A13)","v":0},{"$f":"COUNTIF(競技者一覧!$U$13:$U$112,A13)","v":0},0]
["中学男子 三段跳",{"$f":"COUNTIF(競技者一覧!$G$13:$G$112,A14)","v":0},{"$f":"COUNTIF(競技者一覧!$I$13:$I$112,A14)","v":0},{"$f":"COUNTIF(競技者一覧!$K$13:$K$112,A14)","v":0},{"$f":"COUNTIF(競技者一覧!$M$13:$M$112,A14)","v":0},{"$f":"COUNTIF(競技者一覧!$O$13:$O$112,A14)","v":0},{"$f":"COUNTIF(競技者一覧!$Q$13:$Q$112,A14)","v":0},{"$f":"COUNTIF(競技者一覧!$S$13:$S$112,A14)","v":0},{"$f":"COUNTIF(競技者一覧!$U$13:$U$112,A14)","v":0},0]
["中学男子 1年砲丸投(2.7㎏)",{"$f":"COUNTIF(競技者一覧!$G$13:$G$112,A15)","v":0},{"$f":"COUNTIF(競技者一覧!$I$13:$I$112,A15)","v":0},{"$f":"COUNTIF(競技者一覧!$K$13:$K$112,A15)","v":0},{"$f":"COUNTIF(競技者一覧!$M$13:$M$112,A15)","v":0},{"$f":"COUNTIF(競技者一覧!$O$13:$O$112,A15)","v":0},{"$f":"COUNTIF(競技者一覧!$Q$13:$Q$112,A15)","v":0},{"$f":"COUNTIF(競技者一覧!$S$13:$S$112,A15)","v":0},{"$f":"COUNTIF(競技者一覧!$U$13:$U$112,A15)","v":0},0]
["中学男子 2年砲丸投(4.0㎏)",{"$f":"COUNTIF(競技者一覧!$G$13:$G$112,A16)","v":0},{"$f":"COUNTIF(競技者一覧!$I$13:$I$112,A16)","v":0},{"$f":"COUNTIF(競技者一覧!$K$13:$K$112,A16)","v":0},{"$f":"COUNTIF(競技者一覧!$M$13:$M$112,A16)","v":0},{"$f":"COUNTIF(競技者一覧!$O$13:$O$112,A16)","v":0},{"$f":"COUNTIF(競技者一覧!$Q$13:$Q$112,A16)","v":0},{"$f":"COUNTIF(競技者一覧!$S$13:$S$112,A16)","v":0},{"$f":"COUNTIF(競技者一覧!$U$13:$U$112,A16)","v":0},0]
["中学男子 砲丸投(5.0㎏)",{"$f":"COUNTIF(競技者一覧!$G$13:$G$112,A17)","v":0},{"$f":"COUNTIF(競技者一覧!$I$13:$I$112,A17)","v":0},{"$f":"COUNTIF(競技者一覧!$K$13:$K$112,A17)","v":0},{"$f":"COUNTIF(競技者一覧!$M$13:$M$112,A17)","v":0},{"$f":"COUNTIF(競技者一覧!$O$13:$O$112,A17)","v":0},{"$f":"COUNTIF(競技者一覧!$Q$13:$Q$112,A17)","v":0},{"$f":"COUNTIF(競技者一覧!$S$13:$S$112,A17)","v":0},{"$f":"COUNTIF(競技者一覧!$U$13:$U$112,A17)","v":0},0]
["中学男子 1年円盤投(1.0kg)",{"$f":"COUNTIF(競技者一覧!$G$13:$G$112,A18)","v":0},{"$f":"COUNTIF(競技者一覧!$I$13:$I$112,A18)","v":0},{"$f":"COUNTIF(競技者一覧!$K$13:$K$112,A18)","v":0},{"$f":"COUNTIF(競技者一覧!$M$13:$M$112,A18)","v":0},{"$f":"COUNTIF(競技者一覧!$O$13:$O$112,A18)","v":0},{"$f":"COUNTIF(競技者一覧!$Q$13:$Q$112,A18)","v":0},{"$f":"COUNTIF(競技者一覧!$S$13:$S$112,A18)","v":0},{"$f":"COUNTIF(競技者一覧!$U$13:$U$112,A18)","v":0},0]
["中学男子 円盤投(1.5kg)",{"$f":"COUNTIF(競技者一覧!$G$13:$G$112,A19)","v":0},{"$f":"COUNTIF(競技者一覧!$I$13:$I$112,A19)","v":0},{"$f":"COUNTIF(競技者一覧!$K$13:$K$112,A19)","v":0},{"$f":"COUNTIF(競技者一覧!$M$13:$M$112,A19)","v":0},{"$f":"COUNTIF(競技者一覧!$O$13:$O$112,A19)","v":0},{"$f":"COUNTIF(競技者一覧!$Q$13:$Q$112,A19)","v":0},{"$f":"COUNTIF(競技者一覧!$S$13:$S$112,A19)","v":0},{"$f":"COUNTIF(競技者一覧!$U$13:$U$112,A19)","v":0},0]
["中学男子 四種競技",{"$f":"COUNTIF(競技者一覧!$G$13:$G$112,A20)","v":0},{"$f":"COUNTIF(競技者一覧!$I$13:$I$112,A20)","v":0},{"$f":"COUNTIF(競技者一覧!$K$13:$K$112,A20)","v":0},{"$f":"COUNTIF(競技者一覧!$M$13:$M$112,A20)","v":0},{"$f":"COUNTIF(競技者一覧!$O$13:$O$112,A20)","v":0},{"$f":"COUNTIF(競技者一覧!$Q$13:$Q$112,A20)","v":0},{"$f":"COUNTIF(競技者一覧!$S$13:$S$112,A20)","v":0},{"$f":"COUNTIF(競技者一覧!$U$13:$U$112,A20)","v":0},0]
["中学女子 １００ｍ",{"$f":"COUNTIF(競技者一覧!$G$13:$G$112,A21)","v":0},{"$f":"COUNTIF(競技者一覧!$I$13:$I$112,A21)","v":0},{"$f":"COUNTIF(競技者一覧!$K$13:$K$112,A21)","v":0},{"$f":"COUNTIF(競技者一覧!$M$13:$M$112,A21)","v":0},{"$f":"COUNTIF(競技者一覧!$O$13:$O$112,A21)","v":0},{"$f":"COUNTIF(競技者一覧!$Q$13:$Q$112,A21)","v":0},{"$f":"COUNTIF(競技者一覧!$S$13:$S$112,A21)","v":0},{"$f":"COUNTIF(競技者一覧!$U$13:$U$112,A21)","v":0},0]
["中学女子 ２００ｍ",{"$f":"COUNTIF(競技者一覧!$G$13:$G$112,A22)","v":0},{"$f":"COUNTIF(競技者一覧!$I$13:$I$112,A22)","v":0},{"$f":"COUNTIF(競技者一覧!$K$13:$K$112,A22)","v":0},{"$f":"COUNTIF(競技者一覧!$M$13:$M$112,A22)","v":0},{"$f":"COUNTIF(競技者一覧!$O$13:$O$112,A22)","v":0},{"$f":"COUNTIF(競技者一覧!$Q$13:$Q$112,A22)","v":0},{"$f":"COUNTIF(競技者一覧!$S$13:$S$112,A22)","v":0},{"$f":"COUNTIF(競技者一覧!$U$13:$U$112,A22)","v":0},0]
["中学女子 ８００ｍ",{"$f":"COUNTIF(競技者一覧!$G$13:$G$112,A23)","v":0},{"$f":"COUNTIF(競技者一覧!$I$13:$I$112,A23)","v":0},{"$f":"COUNTIF(競技者一覧!$K$13:$K$112,A23)","v":0},{"$f":"COUNTIF(競技者一覧!$M$13:$M$112,A23)","v":0},{"$f":"COUNTIF(競技者一覧!$O$13:$O$112,A23)","v":0},{"$f":"COUNTIF(競技者一覧!$Q$13:$Q$112,A23)","v":0},{"$f":"COUNTIF(競技者一覧!$S$13:$S$112,A23)","v":0},{"$f":"COUNTIF(競技者一覧!$U$13:$U$112,A23)","v":0},0]
["中学女子 １５００ｍ",{"$f":"COUNTIF(競技者一覧!$G$13:$G$112,A24)","v":0},{"$f":"COUNTIF(競技者一覧!$I$13:$I$112,A24)","v":0},{"$f":"COUNTIF(競技者一覧!$K$13:$K$112,A24)","v":0},{"$f":"COUNTIF(競技者一覧!$M$13:$M$112,A24)","v":0},{"$f":"COUNTIF(競技者一覧!$O$13:$O$112,A24)","v":0},{"$f":"COUNTIF(競技者一覧!$Q$13:$Q$112,A24)","v":0},{"$f":"COUNTIF(競技者一覧!$S$13:$S$112,A24)","v":0},{"$f":"COUNTIF(競技者一覧!$U$13:$U$112,A24)","v":0},0]
["中学女子 １００ｍＨ",{"$f":"COUNTIF(競技者一覧!$G$13:$G$112,A25)","v":0},{"$f":"COUNTIF(競技者一覧!$I$13:$I$112,A25)","v":0},{"$f":"COUNTIF(競技者一覧!$K$13:$K$112,A25)","v":0},{"$f":"COUNTIF(競技者一覧!$M$13:$M$112,A25)","v":0},{"$f":"COUNTIF(競技者一覧!$O$13:$O$112,A25)","v":0},{"$f":"COUNTIF(競技者一覧!$Q$13:$Q$112,A25)","v":0},{"$f":"COUNTIF(競技者一覧!$S$13:$S$112,A25)","v":0},{"$f":"COUNTIF(競技者一覧!$U$13:$U$112,A25)","v":0},0]
["中学女子 １００ｍＹＨ",{"$f":"COUNTIF(競技者一覧!$G$13:$G$112,A26)","v":0},{"$f":"COUNTIF(競技者一覧!$I$13:$I$112,A26)","v":0},{"$f":"COUNTIF(競技者一覧!$K$13:$K$112,A26)","v":0},{"$f":"COUNTIF(競技者一覧!$M$13:$M$112,A26)","v":0},{"$f":"COUNTIF(競技者一覧!$O$13:$O$112,A26)","v":0},{"$f":"COUNTIF(競技者一覧!$Q$13:$Q$112,A26)","v":0},{"$f":"COUNTIF(競技者一覧!$S$13:$S$112,A26)","v":0},{"$f":"COUNTIF(競技者一覧!$U$13:$U$112,A26)","v":0},0]
["中学女子 棒高跳",{"$f":"COUNTIF(競技者一覧!$G$13:$G$112,A27)","v":0},{"$f":"COUNTIF(競技者一覧!$I$13:$I$112,A27)","v":0},{"$f":"COUNTIF(競技者一覧!$K$13:$K$112,A27)","v":0},{"$f":"COUNTIF(競技者一覧!$M$13:$M$112,A27)","v":0},{"$f":"COUNTIF(競技者一覧!$O$13:$O$112,A27)","v":0},{"$f":"COUNTIF(競技者一覧!$Q$13:$Q$112,A27)","v":0},{"$f":"COUNTIF(競技者一覧!$S$13:$S$112,A27)","v":0},{"$f":"COUNTIF(競技者一覧!$U$13:$U$112,A27)","v":0},0]
["中学女子 走高跳",{"$f":"COUNTIF(競技者一覧!$G$13:$G$112,A28)","v":0},{"$f":"COUNTIF(競技者一覧!$I$13:$I$112,A28)","v":0},{"$f":"COUNTIF(競技者一覧!$K$13:$K$112,A28)","v":0},{"$f":"COUNTIF(競技者一覧!$M$13:$M$112,A28)","v":0},{"$f":"COUNTIF(競技者一覧!$O$13:$O$112,A28)","v":0},{"$f":"COUNTIF(競技者一覧!$Q$13:$Q$112,A28)","v":0},{"$f":"COUNTIF(競技者一覧!$S$13:$S$112,A28)","v":0},{"$f":"COUNTIF(競技者一覧!$U$13:$U$112,A28)","v":0},0]
["中学女子 走幅跳",{"$f":"COUNTIF(競技者一覧!$G$13:$G$112,A29)","v":0},{"$f":"COUNTIF(競技者一覧!$I$13:$I$112,A29)","v":0},{"$f":"COUNTIF(競技者一覧!$K$13:$K$112,A29)","v":0},{"$f":"COUNTIF(競技者一覧!$M$13:$M$112,A29)","v":0},{"$f":"COUNTIF(競技者一覧!$O$13:$O$112,A29)","v":0},{"$f":"COUNTIF(競技者一覧!$Q$13:$Q$112,A29)","v":0},{"$f":"COUNTIF(競技者一覧!$S$13:$S$112,A29)","v":0},{"$f":"COUNTIF(競技者一覧!$U$13:$U$112,A29)","v":0},0]
["中学女子 三段跳",{"$f":"COUNTIF(競技者一覧!$G$13:$G$112,A30)","v":0},{"$f":"COUNTIF(競技者一覧!$I$13:$I$112,A30)","v":0},{"$f":"COUNTIF(競技者一覧!$K$13:$K$112,A30)","v":0},{"$f":"COUNTIF(競技者一覧!$M$13:$M$112,A30)","v":0},{"$f":"COUNTIF(競技者一覧!$O$13:$O$112,A30)","v":0},{"$f":"COUNTIF(競技者一覧!$Q$13:$Q$112,A30)","v":0},{"$f":"COUNTIF(競技者一覧!$S$13:$S$112,A30)","v":0},{"$f":"COUNTIF(競技者一覧!$U$13:$U$112,A30)","v":0},0]
["中学女子 砲丸投(2.7㎏)",{"$f":"COUNTIF(競技者一覧!$G$13:$G$112,A31)","v":0},{"$f":"COUNTIF(競技者一覧!$I$13:$I$112,A31)","v":0},{"$f":"COUNTIF(競技者一覧!$K$13:$K$112,A31)","v":0},{"$f":"COUNTIF(競技者一覧!$M$13:$M$112,A31)","v":0},{"$f":"COUNTIF(競技者一覧!$O$13:$O$112,A31)","v":0},{"$f":"COUNTIF(競技者一覧!$Q$13:$Q$112,A31)","v":0},{"$f":"COUNTIF(競技者一覧!$S$13:$S$112,A31)","v":0},{"$f":"COUNTIF(競技者一覧!$U$13:$U$112,A31)","v":0},0]
["中学女子 円盤投",{"$f":"COUNTIF(競技者一覧!$G$13:$G$112,A32)","v":0},{"$f":"COUNTIF(競技者一覧!$I$13:$I$112,A32)","v":0},{"$f":"COUNTIF(競技者一覧!$K$13:$K$112,A32)","v":0},{"$f":"COUNTIF(競技者一覧!$M$13:$M$112,A32)","v":0},{"$f":"COUNTIF(競技者一覧!$O$13:$O$112,A32)","v":0},{"$f":"COUNTIF(競技者一覧!$Q$13:$Q$112,A32)","v":0},{"$f":"COUNTIF(競技者一覧!$S$13:$S$112,A32)","v":0},{"$f":"COUNTIF(競技者一覧!$U$13:$U$112,A32)","v":0},0]
["中学女子 四種競技",{"$f":"COUNTIF(競技者一覧!$G$13:$G$112,A33)","v":0},{"$f":"COUNTIF(競技者一覧!$I$13:$I$112,A33)","v":0},{"$f":"COUNTIF(競技者一覧!$K$13:$K$112,A33)","v":0},{"$f":"COUNTIF(競技者一覧!$M$13:$M$112,A33)","v":0},{"$f":"COUNTIF(競技者一覧!$O$13:$O$112,A33)","v":0},{"$f":"COUNTIF(競技者一覧!$Q$13:$Q$112,A33)","v":0},{"$f":"COUNTIF(競技者一覧!$S$13:$S$112,A33)","v":0},{"$f":"COUNTIF(競技者一覧!$U$13:$U$112,A33)","v":0},0]
["一般・高校男子 １００ｍ",{"$f":"COUNTIF(競技者一覧!$G$13:$G$112,A34)","v":0},{"$f":"COUNTIF(競技者一覧!$I$13:$I$112,A34)","v":0},{"$f":"COUNTIF(競技者一覧!$K$13:$K$112,A34)","v":0},{"$f":"COUNTIF(競技者一覧!$M$13:$M$112,A34)","v":0},{"$f":"COUNTIF(競技者一覧!$O$13:$O$112,A34)","v":0},{"$f":"COUNTIF(競技者一覧!$Q$13:$Q$112,A34)","v":0},{"$f":"COUNTIF(競技者一覧!$S$13:$S$112,A34)","v":0},{"$f":"COUNTIF(競技者一覧!$U$13:$U$112,A34)","v":0},0]
["一般・高校男子 ２００ｍ",{"$f":"COUNTIF(競技者一覧!$G$13:$G$112,A35)","v":0},{"$f":"COUNTIF(競技者一覧!$I$13:$I$112,A35)","v":0},{"$f":"COUNTIF(競技者一覧!$K$13:$K$112,A35)","v":0},{"$f":"COUNTIF(競技者一覧!$M$13:$M$112,A35)","v":0},{"$f":"COUNTIF(競技者一覧!$O$13:$O$112,A35)","v":0},{"$f":"COUNTIF(競技者一覧!$Q$13:$Q$112,A35)","v":0},{"$f":"COUNTIF(競技者一覧!$S$13:$S$112,A35)","v":0},{"$f":"COUNTIF(競技者一覧!$U$13:$U$112,A35)","v":0},0]
["一般・高校男子 ４００ｍ",{"$f":"COUNTIF(競技者一覧!$G$13:$G$112,A36)","v":0},{"$f":"COUNTIF(競技者一覧!$I$13:$I$112,A36)","v":0},{"$f":"COUNTIF(競技者一覧!$K$13:$K$112,A36)","v":0},{"$f":"COUNTIF(競技者一覧!$M$13:$M$112,A36)","v":0},{"$f":"COUNTIF(競技者一覧!$O$13:$O$112,A36)","v":0},{"$f":"COUNTIF(競技者一覧!$Q$13:$Q$112,A36)","v":0},{"$f":"COUNTIF(競技者一覧!$S$13:$S$112,A36)","v":0},{"$f":"COUNTIF(競技者一覧!$U$13:$U$112,A36)","v":0},0]
["一般・高校男子 ８００ｍ",{"$f":"COUNTIF(競技者一覧!$G$13:$G$112,A37)","v":0},{"$f":"COUNTIF(競技者一覧!$I$13:$I$112,A37)","v":0},{"$f":"COUNTIF(競技者一覧!$K$13:$K$112,A37)","v":0},{"$f":"COUNTIF(競技者一覧!$M$13:$M$112,A37)","v":0},{"$f":"COUNTIF(競技者一覧!$O$13:$O$112,A37)","v":0},{"$f":"COUNTIF(競技者一覧!$Q$13:$Q$112,A37)","v":0},{"$f":"COUNTIF(競技者一覧!$S$13:$S$112,A37)","v":0},{"$f":"COUNTIF(競技者一覧!$U$13:$U$112,A37)","v":0},0]
["一般・高校男子 １５００ｍ",{"$f":"COUNTIF(競技者一覧!$G$13:$G$112,A38)","v":0},{"$f":"COUNTIF(競技者一覧!$I$13:$I$112,A38)","v":0},{"$f":"COUNTIF(競技者一覧!$K$13:$K$112,A38)","v":0},{"$f":"COUNTIF(競技者一覧!$M$13:$M$112,A38)","v":0},{"$f":"COUNTIF(競技者一覧!$O$13:$O$112,A38)","v":0},{"$f":"COUNTIF(競技者一覧!$Q$13:$Q$112,A38)","v":0},{"$f":"COUNTIF(競技者一覧!$S$13:$S$112,A38)","v":0},{"$f":"COUNTIF(競技者一覧!$U$13:$U$112,A38)","v":0},0]
["一般・高校男子 ３０００ｍ",{"$f":"COUNTIF(競技者一覧!$G$13:$G$112,A39)","v":0},{"$f":"COUNTIF(競技者一覧!$I$13:$I$112,A39)","v":0},{"$f":"COUNTIF(競技者一覧!$K$13:$K$112,A39)","v":0},{"$f":"COUNTIF(競技者一覧!$M$13:$M$112,A39)","v":0},{"$f":"COUNTIF(競技者一覧!$O$13:$O$112,A39)","v":0},{"$f":"COUNTIF(競技者一覧!$Q$13:$Q$112,A39)","v":0},{"$f":"COUNTIF(競技者一覧!$S$13:$S$112,A39)","v":0},{"$f":"COUNTIF(競技者一覧!$U$13:$U$112,A39)","v":0},0]
["一般・高校男子 １１０ｍＨＨ(106.3)",{"$f":"COUNTIF(競技者一覧!$G$13:$G$112,A40)","v":0},{"$f":"COUNTIF(競技者一覧!$I$13:$I$112,A40)","v":0},{"$f":"COUNTIF(競技者一覧!$K$13:$K$112,A40)","v":0},{"$f":"COUNTIF(競技者一覧!$M$13:$M$112,A40)","v":0},{"$f":"COUNTIF(競技者一覧!$O$13:$O$112,A40)","v":0},{"$f":"COUNTIF(競技者一覧!$Q$13:$Q$112,A40)","v":0},{"$f":"COUNTIF(競技者一覧!$S$13:$S$112,A40)","v":0},{"$f":"COUNTIF(競技者一覧!$U$13:$U$112,A40)","v":0},0]
["一般・高校男子 １１０ｍJＨ(99.1)",{"$f":"COUNTIF(競技者一覧!$G$13:$G$112,A41)","v":0},{"$f":"COUNTIF(競技者一覧!$I$13:$I$112,A41)","v":0},{"$f":"COUNTIF(競技者一覧!$K$13:$K$112,A41)","v":0},{"$f":"COUNTIF(競技者一覧!$M$13:$M$112,A41)","v":0},{"$f":"COUNTIF(競技者一覧!$O$13:$O$112,A41)","v":0},{"$f":"COUNTIF(競技者一覧!$Q$13:$Q$112,A41)","v":0},{"$f":"COUNTIF(競技者一覧!$S$13:$S$112,A41)","v":0},{"$f":"COUNTIF(競技者一覧!$U$13:$U$112,A41)","v":0},0]
["一般・高校男子 ４００ｍＨ",{"$f":"COUNTIF(競技者一覧!$G$13:$G$112,A42)","v":0},{"$f":"COUNTIF(競技者一覧!$I$13:$I$112,A42)","v":0},{"$f":"COUNTIF(競技者一覧!$K$13:$K$112,A42)","v":0},{"$f":"COUNTIF(競技者一覧!$M$13:$M$112,A42)","v":0},{"$f":"COUNTIF(競技者一覧!$O$13:$O$112,A42)","v":0},{"$f":"COUNTIF(競技者一覧!$Q$13:$Q$112,A42)","v":0},{"$f":"COUNTIF(競技者一覧!$S$13:$S$112,A42)","v":0},{"$f":"COUNTIF(競技者一覧!$U$13:$U$112,A42)","v":0},0]
["一般・高校男子 棒高跳",{"$f":"COUNTIF(競技者一覧!$G$13:$G$112,A43)","v":0},{"$f":"COUNTIF(競技者一覧!$I$13:$I$112,A43)","v":0},{"$f":"COUNTIF(競技者一覧!$K$13:$K$112,A43)","v":0},{"$f":"COUNTIF(競技者一覧!$M$13:$M$112,A43)","v":0},{"$f":"COUNTIF(競技者一覧!$O$13:$O$112,A43)","v":0},{"$f":"COUNTIF(競技者一覧!$Q$13:$Q$112,A43)","v":0},{"$f":"COUNTIF(競技者一覧!$S$13:$S$112,A43)","v":0},{"$f":"COUNTIF(競技者一覧!$U$13:$U$112,A43)","v":0},0]
["一般・高校男子 走高跳",{"$f":"COUNTIF(競技者一覧!$G$13:$G$112,A44)","v":0},{"$f":"COUNTIF(競技者一覧!$I$13:$I$112,A44)","v":0},{"$f":"COUNTIF(競技者一覧!$K$13:$K$112,A44)","v":0},{"$f":"COUNTIF(競技者一覧!$M$13:$M$112,A44)","v":0},{"$f":"COUNTIF(競技者一覧!$O$13:$O$112,A44)","v":0},{"$f":"COUNTIF(競技者一覧!$Q$13:$Q$112,A44)","v":0},{"$f":"COUNTIF(競技者一覧!$S$13:$S$112,A44)","v":0},{"$f":"COUNTIF(競技者一覧!$U$13:$U$112,A44)","v":0},0]
["一般・高校男子 走幅跳",{"$f":"COUNTIF(競技者一覧!$G$13:$G$112,A45)","v":0},{"$f":"COUNTIF(競技者一覧!$I$13:$I$112,A45)","v":0},{"$f":"COUNTIF(競技者一覧!$K$13:$K$112,A45)","v":0},{"$f":"COUNTIF(競技者一覧!$M$13:$M$112,A45)","v":0},{"$f":"COUNTIF(競技者一覧!$O$13:$O$112,A45)","v":0},{"$f":"COUNTIF(競技者一覧!$Q$13:$Q$112,A45)","v":0},{"$f":"COUNTIF(競技者一覧!$S$13:$S$112,A45)","v":0},{"$f":"COUNTIF(競技者一覧!$U$13:$U$112,A45)","v":0},0]
["一般・高校男子 三段跳",{"$f":"COUNTIF(競技者一覧!$G$13:$G$112,A46)","v":0},{"$f":"COUNTIF(競技者一覧!$I$13:$I$112,A46)","v":0},{"$f":"COUNTIF(競技者一覧!$K$13:$K$112,A46)","v":0},{"$f":"COUNTIF(競技者一覧!$M$13:$M$112,A46)","v":0},{"$f":"COUNTIF(競技者一覧!$O$13:$O$112,A46)","v":0},{"$f":"COUNTIF(競技者一覧!$Q$13:$Q$112,A46)","v":0},{"$f":"COUNTIF(競技者一覧!$S$13:$S$112,A46)","v":0},{"$f":"COUNTIF(競技者一覧!$U$13:$U$112,A46)","v":0},0]
["一般・高校男子 砲丸投(6.0Kg)",{"$f":"COUNTIF(競技者一覧!$G$13:$G$112,A47)","v":0},{"$f":"COUNTIF(競技者一覧!$I$13:$I$112,A47)","v":0},{"$f":"COUNTIF(競技者一覧!$K$13:$K$112,A47)","v":0},{"$f":"COUNTIF(競技者一覧!$M$13:$M$112,A47)","v":0},{"$f":"COUNTIF(競技者一覧!$O$13:$O$112,A47)","v":0},{"$f":"COUNTIF(競技者一覧!$Q$13:$Q$112,A47)","v":0},{"$f":"COUNTIF(競技者一覧!$S$13:$S$112,A47)","v":0},{"$f":"COUNTIF(競技者一覧!$U$13:$U$112,A47)","v":0},0]
["一般・高校男子 砲丸投(7.25Kg)",{"$f":"COUNTIF(競技者一覧!$G$13:$G$112,A48)","v":0},{"$f":"COUNTIF(競技者一覧!$I$13:$I$112,A48)","v":0},{"$f":"COUNTIF(競技者一覧!$K$13:$K$112,A48)","v":0},{"$f":"COUNTIF(競技者一覧!$M$13:$M$112,A48)","v":0},{"$f":"COUNTIF(競技者一覧!$O$13:$O$112,A48)","v":0},{"$f":"COUNTIF(競技者一覧!$Q$13:$Q$112,A48)","v":0},{"$f":"COUNTIF(競技者一覧!$S$13:$S$112,A48)","v":0},{"$f":"COUNTIF(競技者一覧!$U$13:$U$112,A48)","v":0},0]
["一般・高校男子 円盤投(1.75kg)",{"$f":"COUNTIF(競技者一覧!$G$13:$G$112,A49)","v":0},{"$f":"COUNTIF(競技者一覧!$I$13:$I$112,A49)","v":0},{"$f":"COUNTIF(競技者一覧!$K$13:$K$112,A49)","v":0},{"$f":"COUNTIF(競技者一覧!$M$13:$M$112,A49)","v":0},{"$f":"COUNTIF(競技者一覧!$O$13:$O$112,A49)","v":0},{"$f":"COUNTIF(競技者一覧!$Q$13:$Q$112,A49)","v":0},{"$f":"COUNTIF(競技者一覧!$S$13:$S$112,A49)","v":0},{"$f":"COUNTIF(競技者一覧!$U$13:$U$112,A49)","v":0},0]
["一般・高校男子 円盤投(2.0kg)",{"$f":"COUNTIF(競技者一覧!$G$13:$G$112,A50)","v":0},{"$f":"COUNTIF(競技者一覧!$I$13:$I$112,A50)","v":0},{"$f":"COUNTIF(競技者一覧!$K$13:$K$112,A50)","v":0},{"$f":"COUNTIF(競技者一覧!$M$13:$M$112,A50)","v":0},{"$f":"COUNTIF(競技者一覧!$O$13:$O$112,A50)","v":0},{"$f":"COUNTIF(競技者一覧!$Q$13:$Q$112,A50)","v":0},{"$f":"COUNTIF(競技者一覧!$S$13:$S$112,A50)","v":0},{"$f":"COUNTIF(競技者一覧!$U$13:$U$112,A50)","v":0},0]
["一般・高校男子 やり投",{"$f":"COUNTIF(競技者一覧!$G$13:$G$112,A51)","v":0},{"$f":"COUNTIF(競技者一覧!$I$13:$I$112,A51)","v":0},{"$f":"COUNTIF(競技者一覧!$K$13:$K$112,A51)","v":0},{"$f":"COUNTIF(競技者一覧!$M$13:$M$112,A51)","v":0},{"$f":"COUNTIF(競技者一覧!$O$13:$O$112,A51)","v":0},{"$f":"COUNTIF(競技者一覧!$Q$13:$Q$112,A51)","v":0},{"$f":"COUNTIF(競技者一覧!$S$13:$S$112,A51)","v":0},{"$f":"COUNTIF(競技者一覧!$U$13:$U$112,A51)","v":0},0]
["一般・高校男子 八種競技",{"$f":"COUNTIF(競技者一覧!$G$13:$G$112,A52)","v":0},{"$f":"COUNTIF(競技者一覧!$I$13:$I$112,A52)","v":0},{"$f":"COUNTIF(競技者一覧!$K$13:$K$112,A52)","v":0},{"$f":"COUNTIF(競技者一覧!$M$13:$M$112,A52)","v":0},{"$f":"COUNTIF(競技者一覧!$O$13:$O$112,A52)","v":0},{"$f":"COUNTIF(競技者一覧!$Q$13:$Q$112,A52)","v":0},{"$f":"COUNTIF(競技者一覧!$S$13:$S$112,A52)","v":0},{"$f":"COUNTIF(競技者一覧!$U$13:$U$112,A52)","v":0},0]
["一般・高校女子 １００ｍ",{"$f":"COUNTIF(競技者一覧!$G$13:$G$112,A53)","v":0},{"$f":"COUNTIF(競技者一覧!$I$13:$I$112,A53)","v":0},{"$f":"COUNTIF(競技者一覧!$K$13:$K$112,A53)","v":0},{"$f":"COUNTIF(競技者一覧!$M$13:$M$112,A53)","v":0},{"$f":"COUNTIF(競技者一覧!$O$13:$O$112,A53)","v":0},{"$f":"COUNTIF(競技者一覧!$Q$13:$Q$112,A53)","v":0},{"$f":"COUNTIF(競技者一覧!$S$13:$S$112,A53)","v":0},{"$f":"COUNTIF(競技者一覧!$U$13:$U$112,A53)","v":0},0]
["一般・高校女子 ２００ｍ",{"$f":"COUNTIF(競技者一覧!$G$13:$G$112,A54)","v":0},{"$f":"COUNTIF(競技者一覧!$I$13:$I$112,A54)","v":0},{"$f":"COUNTIF(競技者一覧!$K$13:$K$112,A54)","v":0},{"$f":"COUNTIF(競技者一覧!$M$13:$M$112,A54)","v":0},{"$f":"COUNTIF(競技者一覧!$O$13:$O$112,A54)","v":0},{"$f":"COUNTIF(競技者一覧!$Q$13:$Q$112,A54)","v":0},{"$f":"COUNTIF(競技者一覧!$S$13:$S$112,A54)","v":0},{"$f":"COUNTIF(競技者一覧!$U$13:$U$112,A54)","v":0},0]
["一般・高校女子 ４００ｍ",{"$f":"COUNTIF(競技者一覧!$G$13:$G$112,A55)","v":0},{"$f":"COUNTIF(競技者一覧!$I$13:$I$112,A55)","v":0},{"$f":"COUNTIF(競技者一覧!$K$13:$K$112,A55)","v":0},{"$f":"COUNTIF(競技者一覧!$M$13:$M$112,A55)","v":0},{"$f":"COUNTIF(競技者一覧!$O$13:$O$112,A55)","v":0},{"$f":"COUNTIF(競技者一覧!$Q$13:$Q$112,A55)","v":0},{"$f":"COUNTIF(競技者一覧!$S$13:$S$112,A55)","v":0},{"$f":"COUNTIF(競技者一覧!$U$13:$U$112,A55)","v":0},0]
["一般・高校女子 ８００ｍ",{"$f":"COUNTIF(競技者一覧!$G$13:$G$112,A56)","v":0},{"$f":"COUNTIF(競技者一覧!$I$13:$I$112,A56)","v":0},{"$f":"COUNTIF(競技者一覧!$K$13:$K$112,A56)","v":0},{"$f":"COUNTIF(競技者一覧!$M$13:$M$112,A56)","v":0},{"$f":"COUNTIF(競技者一覧!$O$13:$O$112,A56)","v":0},{"$f":"COUNTIF(競技者一覧!$Q$13:$Q$112,A56)","v":0},{"$f":"COUNTIF(競技者一覧!$S$13:$S$112,A56)","v":0},{"$f":"COUNTIF(競技者一覧!$U$13:$U$112,A56)","v":0},0]
["一般・高校女子 １５００ｍ",{"$f":"COUNTIF(競技者一覧!$G$13:$G$112,A57)","v":0},{"$f":"COUNTIF(競技者一覧!$I$13:$I$112,A57)","v":0},{"$f":"COUNTIF(競技者一覧!$K$13:$K$112,A57)","v":0},{"$f":"COUNTIF(競技者一覧!$M$13:$M$112,A57)","v":0},{"$f":"COUNTIF(競技者一覧!$O$13:$O$112,A57)","v":0},{"$f":"COUNTIF(競技者一覧!$Q$13:$Q$112,A57)","v":0},{"$f":"COUNTIF(競技者一覧!$S$13:$S$112,A57)","v":0},{"$f":"COUNTIF(競技者一覧!$U$13:$U$112,A57)","v":0},0]
["一般・高校女子 ３０００ｍ",{"$f":"COUNTIF(競技者一覧!$G$13:$G$112,A58)","v":0},{"$f":"COUNTIF(競技者一覧!$I$13:$I$112,A58)","v":0},{"$f":"COUNTIF(競技者一覧!$K$13:$K$112,A58)","v":0},{"$f":"COUNTIF(競技者一覧!$M$13:$M$112,A58)","v":0},{"$f":"COUNTIF(競技者一覧!$O$13:$O$112,A58)","v":0},{"$f":"COUNTIF(競技者一覧!$Q$13:$Q$112,A58)","v":0},{"$f":"COUNTIF(競技者一覧!$S$13:$S$112,A58)","v":0},{"$f":"COUNTIF(競技者一覧!$U$13:$U$112,A58)","v":0},0]
["一般・高校女子 １００ｍＨ（一般）",{"$f":"COUNTIF(競技者一覧!$G$13:$G$112,A59)","v":0},{"$f":"COUNTIF(競技者一覧!$I$13:$I$112,A59)","v":0},{"$f":"COUNTIF(競技者一覧!$K$13:$K$112,A59)","v":0},{"$f":"COUNTIF(競技者一覧!$M$13:$M$112,A59)","v":0},{"$f":"COUNTIF(競技者一覧!$O$13:$O$112,A59)","v":0},{"$f":"COUNTIF(競技者一覧!$Q$13:$Q$112,A59)","v":0},{"$f":"COUNTIF(競技者一覧!$S$13:$S$112,A59)","v":0},{"$f":"COUNTIF(競技者一覧!$U$13:$U$112,A59)","v":0},0]
["一般・高校女子 ４００ｍＨ",{"$f":"COUNTIF(競技者一覧!$G$13:$G$112,A60)","v":0},{"$f":"COUNTIF(競技者一覧!$I$13:$I$112,A60)","v":0},{"$f":"COUNTIF(競技者一覧!$K$13:$K$112,A60)","v":0},{"$f":"COUNTIF(競技者一覧!$M$13:$M$112,A60)","v":0},{"$f":"COUNTIF(競技者一覧!$O$13:$O$112,A60)","v":0},{"$f":"COUNTIF(競技者一覧!$Q$13:$Q$112,A60)","v":0},{"$f":"COUNTIF(競技者一覧!$S$13:$S$112,A60)","v":0},{"$f":"COUNTIF(競技者一覧!$U$13:$U$112,A60)","v":0},0]
["一般・高校女子 棒高跳",{"$f":"COUNTIF(競技者一覧!$G$13:$G$112,A61)","v":0},{"$f":"COUNTIF(競技者一覧!$I$13:$I$112,A61)","v":0},{"$f":"COUNTIF(競技者一覧!$K$13:$K$112,A61)","v":0},{"$f":"COUNTIF(競技者一覧!$M$13:$M$112,A61)","v":0},{"$f":"COUNTIF(競技者一覧!$O$13:$O$112,A61)","v":0},{"$f":"COUNTIF(競技者一覧!$Q$13:$Q$112,A61)","v":0},{"$f":"COUNTIF(競技者一覧!$S$13:$S$112,A61)","v":0},{"$f":"COUNTIF(競技者一覧!$U$13:$U$112,A61)","v":0},0]
["一般・高校女子 走高跳",{"$f":"COUNTIF(競技者一覧!$G$13:$G$112,A62)","v":0},{"$f":"COUNTIF(競技者一覧!$I$13:$I$112,A62)","v":0},{"$f":"COUNTIF(競技者一覧!$K$13:$K$112,A62)","v":0},{"$f":"COUNTIF(競技者一覧!$M$13:$M$112,A62)","v":0},{"$f":"COUNTIF(競技者一覧!$O$13:$O$112,A62)","v":0},{"$f":"COUNTIF(競技者一覧!$Q$13:$Q$112,A62)","v":0},{"$f":"COUNTIF(競技者一覧!$S$13:$S$112,A62)","v":0},{"$f":"COUNTIF(競技者一覧!$U$13:$U$112,A62)","v":0},0]
["一般・高校女子 走幅跳",{"$f":"COUNTIF(競技者一覧!$G$13:$G$112,A63)","v":0},{"$f":"COUNTIF(競技者一覧!$I$13:$I$112,A63)","v":0},{"$f":"COUNTIF(競技者一覧!$K$13:$K$112,A63)","v":0},{"$f":"COUNTIF(競技者一覧!$M$13:$M$112,A63)","v":0},{"$f":"COUNTIF(競技者一覧!$O$13:$O$112,A63)","v":0},{"$f":"COUNTIF(競技者一覧!$Q$13:$Q$112,A63)","v":0},{"$f":"COUNTIF(競技者一覧!$S$13:$S$112,A63)","v":0},{"$f":"COUNTIF(競技者一覧!$U$13:$U$112,A63)","v":0},0]
["一般・高校女子 三段跳",{"$f":"COUNTIF(競技者一覧!$G$13:$G$112,A64)","v":0},{"$f":"COUNTIF(競技者一覧!$I$13:$I$112,A64)","v":0},{"$f":"COUNTIF(競技者一覧!$K$13:$K$112,A64)","v":0},{"$f":"COUNTIF(競技者一覧!$M$13:$M$112,A64)","v":0},{"$f":"COUNTIF(競技者一覧!$O$13:$O$112,A64)","v":0},{"$f":"COUNTIF(競技者一覧!$Q$13:$Q$112,A64)","v":0},{"$f":"COUNTIF(競技者一覧!$S$13:$S$112,A64)","v":0},{"$f":"COUNTIF(競技者一覧!$U$13:$U$112,A64)","v":0},0]
["一般・高校女子 砲丸投(4.0㎏)",{"$f":"COUNTIF(競技者一覧!$G$13:$G$112,A65)","v":0},{"$f":"COUNTIF(競技者一覧!$I$13:$I$112,A65)","v":0},{"$f":"COUNTIF(競技者一覧!$K$13:$K$112,A65)","v":0},{"$f":"COUNTIF(競技者一覧!$M$13:$M$112,A65)","v":0},{"$f":"COUNTIF(競技者一覧!$O$13:$O$112,A65)","v":0},{"$f":"COUNTIF(競技者一覧!$Q$13:$Q$112,A65)","v":0},{"$f":"COUNTIF(競技者一覧!$S$13:$S$112,A65)","v":0},{"$f":"COUNTIF(競技者一覧!$U$13:$U$112,A65)","v":0},0]
["一般・高校女子 円盤投(1.0㎏)",{"$f":"COUNTIF(競技者一覧!$G$13:$G$112,A66)","v":0},{"$f":"COUNTIF(競技者一覧!$I$13:$I$112,A66)","v":0},{"$f":"COUNTIF(競技者一覧!$K$13:$K$112,A66)","v":0},{"$f":"COUNTIF(競技者一覧!$M$13:$M$112,A66)","v":0},{"$f":"COUNTIF(競技者一覧!$O$13:$O$112,A66)","v":0},{"$f":"COUNTIF(競技者一覧!$Q$13:$Q$112,A66)","v":0},{"$f":"COUNTIF(競技者一覧!$S$13:$S$112,A66)","v":0},{"$f":"COUNTIF(競技者一覧!$U$13:$U$112,A66)","v":0},0]
["一般・高校女子 やり投",{"$f":"COUNTIF(競技者一覧!$G$13:$G$112,A67)","v":0},{"$f":"COUNTIF(競技者一覧!$I$13:$I$112,A67)","v":0},{"$f":"COUNTIF(競技者一覧!$K$13:$K$112,A67)","v":0},{"$f":"COUNTIF(競技者一覧!$M$13:$M$112,A67)","v":0},{"$f":"COUNTIF(競技者一覧!$O$13:$O$112,A67)","v":0},{"$f":"COUNTIF(競技者一覧!$Q$13:$Q$112,A67)","v":0},{"$f":"COUNTIF(競技者一覧!$S$13:$S$112,A67)","v":0},{"$f":"COUNTIF(競技者一覧!$U$13:$U$112,A67)","v":0},{"$f":"SUM(B67:I67)","v":0}]
["一般・高校女子　七種競技",{"$f":"COUNTIF(競技者一覧!$G$13:$G$112,A68)","v":0},{"$f":"COUNTIF(競技者一覧!$I$13:$I$112,A68)","v":0},{"$f":"COUNTIF(競技者一覧!$K$13:$K$112,A68)","v":0},{"$f":"COUNTIF(競技者一覧!$M$13:$M$112,A68)","v":0},{"$f":"COUNTIF(競技者一覧!$O$13:$O$112,A68)","v":0},{"$f":"COUNTIF(競技者一覧!$Q$13:$Q$112,A68)","v":0},{"$f":"COUNTIF(競技者一覧!$S$13:$S$112,A68)","v":0},{"$f":"COUNTIF(競技者一覧!$U$13:$U$112,A68)","v":0},0]
["1日目 中学男子 １００ｍ",{"$f":"COUNTIF(競技者一覧!$G$13:$G$112,A69)","v":0},{"$f":"COUNTIF(競技者一覧!$I$13:$I$112,A69)","v":0},{"$f":"COUNTIF(競技者一覧!$K$13:$K$112,A69)","v":0},{"$f":"COUNTIF(競技者一覧!$M$13:$M$112,A69)","v":0},{"$f":"COUNTIF(競技者一覧!$O$13:$O$112,A69)","v":0},{"$f":"COUNTIF(競技者一覧!$Q$13:$Q$112,A69)","v":0},{"$f":"COUNTIF(競技者一覧!$S$13:$S$112,A69)","v":0},{"$f":"COUNTIF(競技者一覧!$U$13:$U$112,A69)","v":0},0]
["1日目 中学男子 ２００ｍ",{"$f":"COUNTIF(競技者一覧!$G$13:$G$112,A70)","v":0},{"$f":"COUNTIF(競技者一覧!$I$13:$I$112,A70)","v":0},{"$f":"COUNTIF(競技者一覧!$K$13:$K$112,A70)","v":0},{"$f":"COUNTIF(競技者一覧!$M$13:$M$112,A70)","v":0},{"$f":"COUNTIF(競技者一覧!$O$13:$O$112,A70)","v":0},{"$f":"COUNTIF(競技者一覧!$Q$13:$Q$112,A70)","v":0},{"$f":"COUNTIF(競技者一覧!$S$13:$S$112,A70)","v":0},{"$f":"COUNTIF(競技者一覧!$U$13:$U$112,A70)","v":0},0]
["1日目 中学男子 ４００ｍ",{"$f":"COUNTIF(競技者一覧!$G$13:$G$112,A71)","v":0},{"$f":"COUNTIF(競技者一覧!$I$13:$I$112,A71)","v":0},{"$f":"COUNTIF(競技者一覧!$K$13:$K$112,A71)","v":0},{"$f":"COUNTIF(競技者一覧!$M$13:$M$112,A71)","v":0},{"$f":"COUNTIF(競技者一覧!$O$13:$O$112,A71)","v":0},{"$f":"COUNTIF(競技者一覧!$Q$13:$Q$112,A71)","v":0},{"$f":"COUNTIF(競技者一覧!$S$13:$S$112,A71)","v":0},{"$f":"COUNTIF(競技者一覧!$U$13:$U$112,A71)","v":0},0]
["1日目 中学男子 ８００ｍ",{"$f":"COUNTIF(競技者一覧!$G$13:$G$112,A72)","v":0},{"$f":"COUNTIF(競技者一覧!$I$13:$I$112,A72)","v":0},{"$f":"COUNTIF(競技者一覧!$K$13:$K$112,A72)","v":0},{"$f":"COUNTIF(競技者一覧!$M$13:$M$112,A72)","v":0},{"$f":"COUNTIF(競技者一覧!$O$13:$O$112,A72)","v":0},{"$f":"COUNTIF(競技者一覧!$Q$13:$Q$112,A72)","v":0},{"$f":"COUNTIF(競技者一覧!$S$13:$S$112,A72)","v":0},{"$f":"COUNTIF(競技者一覧!$U$13:$U$112,A72)","v":0},0]
["1日目 中学男子 １５００ｍ",{"$f":"COUNTIF(競技者一覧!$G$13:$G$112,A73)","v":0},{"$f":"COUNTIF(競技者一覧!$I$13:$I$112,A73)","v":0},{"$f":"COUNTIF(競技者一覧!$K$13:$K$112,A73)","v":0},{"$f":"COUNTIF(競技者一覧!$M$13:$M$112,A73)","v":0},{"$f":"COUNTIF(競技者一覧!$O$13:$O$112,A73)","v":0},{"$f":"COUNTIF(競技者一覧!$Q$13:$Q$112,A73)","v":0},{"$f":"COUNTIF(競技者一覧!$S$13:$S$112,A73)","v":0},{"$f":"COUNTIF(競技者一覧!$U$13:$U$112,A73)","v":0},0]
["1日目 中学男子 ３０００ｍ",{"$f":"COUNTIF(競技者一覧!$G$13:$G$112,A74)","v":0},{"$f":"COUNTIF(競技者一覧!$I$13:$I$112,A74)","v":0},{"$f":"COUNTIF(競技者一覧!$K$13:$K$112,A74)","v":0},{"$f":"COUNTIF(競技者一覧!$M$13:$M$112,A74)","v":0},{"$f":"COUNTIF(競技者一覧!$O$13:$O$112,A74)","v":0},{"$f":"COUNTIF(競技者一覧!$Q$13:$Q$112,A74)","v":0},{"$f":"COUNTIF(競技者一覧!$S$13:$S$112,A74)","v":0},{"$f":"COUNTIF(競技者一覧!$U$13:$U$112,A74)","v":0},0]
["1日目 中学男子 １００ｍＨ(一般女子)",{"$f":"COUNTIF(競技者一覧!$G$13:$G$112,A75)","v":0},{"$f":"COUNTIF(競技者一覧!$I$13:$I$112,A75)","v":0},{"$f":"COUNTIF(競技者一覧!$K$13:$K$112,A75)","v":0},{"$f":"COUNTIF(競技者一覧!$M$13:$M$112,A75)","v":0},{"$f":"COUNTIF(競技者一覧!$O$13:$O$112,A75)","v":0},{"$f":"COUNTIF(競技者一覧!$Q$13:$Q$112,A75)","v":0},{"$f":"COUNTIF(競技者一覧!$S$13:$S$112,A75)","v":0},{"$f":"COUNTIF(競技者一覧!$U$13:$U$112,A75)","v":0},0]
["1日目 中学男子 １１０ｍJＨ(99.1)",{"$f":"COUNTIF(競技者一覧!$G$13:$G$112,A76)","v":0},{"$f":"COUNTIF(競技者一覧!$I$13:$I$112,A76)","v":0},{"$f":"COUNTIF(競技者一覧!$K$13:$K$112,A76)","v":0},{"$f":"COUNTIF(競技者一覧!$M$13:$M$112,A76)","v":0},{"$f":"COUNTIF(競技者一覧!$O$13:$O$112,A76)","v":0},{"$f":"COUNTIF(競技者一覧!$Q$13:$Q$112,A76)","v":0},{"$f":"COUNTIF(競技者一覧!$S$13:$S$112,A76)","v":0},{"$f":"COUNTIF(競技者一覧!$U$13:$U$112,A76)","v":0},0]
["1日目 中学男子 １１０ｍＭＨ",{"$f":"COUNTIF(競技者一覧!$G$13:$G$112,A77)","v":0},{"$f":"COUNTIF(競技者一覧!$I$13:$I$112,A77)","v":0},{"$f":"COUNTIF(競技者一覧!$K$13:$K$112,A77)","v":0},{"$f":"COUNTIF(競技者一覧!$M$13:$M$112,A77)","v":0},{"$f":"COUNTIF(競技者一覧!$O$13:$O$112,A77)","v":0},{"$f":"COUNTIF(競技者一覧!$Q$13:$Q$112,A77)","v":0},{"$f":"COUNTIF(競技者一覧!$S$13:$S$112,A77)","v":0},{"$f":"COUNTIF(競技者一覧!$U$13:$U$112,A77)","v":0},0]
["1日目 中学男子 棒高跳",{"$f":"COUNTIF(競技者一覧!$G$13:$G$112,A78)","v":0},{"$f":"COUNTIF(競技者一覧!$I$13:$I$112,A78)","v":0},{"$f":"COUNTIF(競技者一覧!$K$13:$K$112,A78)","v":0},{"$f":"COUNTIF(競技者一覧!$M$13:$M$112,A78)","v":0},{"$f":"COUNTIF(競技者一覧!$O$13:$O$112,A78)","v":0},{"$f":"COUNTIF(競技者一覧!$Q$13:$Q$112,A78)","v":0},{"$f":"COUNTIF(競技者一覧!$S$13:$S$112,A78)","v":0},{"$f":"COUNTIF(競技者一覧!$U$13:$U$112,A78)","v":0},0]
["1日目 中学男子 走高跳",{"$f":"COUNTIF(競技者一覧!$G$13:$G$112,A79)","v":0},{"$f":"COUNTIF(競技者一覧!$I$13:$I$112,A79)","v":0},{"$f":"COUNTIF(競技者一覧!$K$13:$K$112,A79)","v":0},{"$f":"COUNTIF(競技者一覧!$M$13:$M$112,A79)","v":0},{"$f":"COUNTIF(競技者一覧!$O$13:$O$112,A79)","v":0},{"$f":"COUNTIF(競技者一覧!$Q$13:$Q$112,A79)","v":0},{"$f":"COUNTIF(競技者一覧!$S$13:$S$112,A79)","v":0},{"$f":"COUNTIF(競技者一覧!$U$13:$U$112,A79)","v":0},0]
["1日目 中学男子 走幅跳",{"$f":"COUNTIF(競技者一覧!$G$13:$G$112,A80)","v":0},{"$f":"COUNTIF(競技者一覧!$I$13:$I$112,A80)","v":0},{"$f":"COUNTIF(競技者一覧!$K$13:$K$112,A80)","v":0},{"$f":"COUNTIF(競技者一覧!$M$13:$M$112,A80)","v":0},{"$f":"COUNTIF(競技者一覧!$O$13:$O$112,A80)","v":0},{"$f":"COUNTIF(競技者一覧!$Q$13:$Q$112,A80)","v":0},{"$f":"COUNTIF(競技者一覧!$S$13:$S$112,A80)","v":0},{"$f":"COUNTIF(競技者一覧!$U$13:$U$112,A80)","v":0},0]
["1日目 中学男子 三段跳",{"$f":"COUNTIF(競技者一覧!$G$13:$G$112,A81)","v":0},{"$f":"COUNTIF(競技者一覧!$I$13:$I$112,A81)","v":0},{"$f":"COUNTIF(競技者一覧!$K$13:$K$112,A81)","v":0},{"$f":"COUNTIF(競技者一覧!$M$13:$M$112,A81)","v":0},{"$f":"COUNTIF(競技者一覧!$O$13:$O$112,A81)","v":0},{"$f":"COUNTIF(競技者一覧!$Q$13:$Q$112,A81)","v":0},{"$f":"COUNTIF(競技者一覧!$S$13:$S$112,A81)","v":0},{"$f":"COUNTIF(競技者一覧!$U$13:$U$112,A81)","v":0},0]
["1日目 中学男子 1年砲丸投(2.7㎏)",{"$f":"COUNTIF(競技者一覧!$G$13:$G$112,A82)","v":0},{"$f":"COUNTIF(競技者一覧!$I$13:$I$112,A82)","v":0},{"$f":"COUNTIF(競技者一覧!$K$13:$K$112,A82)","v":0},{"$f":"COUNTIF(競技者一覧!$M$13:$M$112,A82)","v":0},{"$f":"COUNTIF(競技者一覧!$O$13:$O$112,A82)","v":0},{"$f":"COUNTIF(競技者一覧!$Q$13:$Q$112,A82)","v":0},{"$f":"COUNTIF(競技者一覧!$S$13:$S$112,A82)","v":0},{"$f":"COUNTIF(競技者一覧!$U$13:$U$112,A82)","v":0},0]
["1日目 中学男子 2年砲丸投(4.0㎏)",{"$f":"COUNTIF(競技者一覧!$G$13:$G$112,A83)","v":0},{"$f":"COUNTIF(競技者一覧!$I$13:$I$112,A83)","v":0},{"$f":"COUNTIF(競技者一覧!$K$13:$K$112,A83)","v":0},{"$f":"COUNTIF(競技者一覧!$M$13:$M$112,A83)","v":0},{"$f":"COUNTIF(競技者一覧!$O$13:$O$112,A83)","v":0},{"$f":"COUNTIF(競技者一覧!$Q$13:$Q$112,A83)","v":0},{"$f":"COUNTIF(競技者一覧!$S$13:$S$112,A83)","v":0},{"$f":"COUNTIF(競技者一覧!$U$13:$U$112,A83)","v":0},0]
["1日目 中学男子 砲丸投(5.0㎏)",{"$f":"COUNTIF(競技者一覧!$G$13:$G$112,A84)","v":0},{"$f":"COUNTIF(競技者一覧!$I$13:$I$112,A84)","v":0},{"$f":"COUNTIF(競技者一覧!$K$13:$K$112,A84)","v":0},{"$f":"COUNTIF(競技者一覧!$M$13:$M$112,A84)","v":0},{"$f":"COUNTIF(競技者一覧!$O$13:$O$112,A84)","v":0},{"$f":"COUNTIF(競技者一覧!$Q$13:$Q$112,A84)","v":0},{"$f":"COUNTIF(競技者一覧!$S$13:$S$112,A84)","v":0},{"$f":"COUNTIF(競技者一覧!$U$13:$U$112,A84)","v":0},0]
["1日目 中学男子 1年円盤投(1.0kg)",{"$f":"COUNTIF(競技者一覧!$G$13:$G$112,A85)","v":0},{"$f":"COUNTIF(競技者一覧!$I$13:$I$112,A85)","v":0},{"$f":"COUNTIF(競技者一覧!$K$13:$K$112,A85)","v":0},{"$f":"COUNTIF(競技者一覧!$M$13:$M$112,A85)","v":0},{"$f":"COUNTIF(競技者一覧!$O$13:$O$112,A85)","v":0},{"$f":"COUNTIF(競技者一覧!$Q$13:$Q$112,A85)","v":0},{"$f":"COUNTIF(競技者一覧!$S$13:$S$112,A85)","v":0},{"$f":"COUNTIF(競技者一覧!$U$13:$U$112,A85)","v":0},0]
["1日目 中学男子 円盤投(1.5kg)",{"$f":"COUNTIF(競技者一覧!$G$13:$G$112,A86)","v":0},{"$f":"COUNTIF(競技者一覧!$I$13:$I$112,A86)","v":0},{"$f":"COUNTIF(競技者一覧!$K$13:$K$112,A86)","v":0},{"$f":"COUNTIF(競技者一覧!$M$13:$M$112,A86)","v":0},{"$f":"COUNTIF(競技者一覧!$O$13:$O$112,A86)","v":0},{"$f":"COUNTIF(競技者一覧!$Q$13:$Q$112,A86)","v":0},{"$f":"COUNTIF(競技者一覧!$S$13:$S$112,A86)","v":0},{"$f":"COUNTIF(競技者一覧!$U$13:$U$112,A86)","v":0},0]
["1日目 中学男子 四種競技",{"$f":"COUNTIF(競技者一覧!$G$13:$G$112,A87)","v":0},{"$f":"COUNTIF(競技者一覧!$I$13:$I$112,A87)","v":0},{"$f":"COUNTIF(競技者一覧!$K$13:$K$112,A87)","v":0},{"$f":"COUNTIF(競技者一覧!$M$13:$M$112,A87)","v":0},{"$f":"COUNTIF(競技者一覧!$O$13:$O$112,A87)","v":0},{"$f":"COUNTIF(競技者一覧!$Q$13:$Q$112,A87)","v":0},{"$f":"COUNTIF(競技者一覧!$S$13:$S$112,A87)","v":0},{"$f":"COUNTIF(競技者一覧!$U$13:$U$112,A87)","v":0},0]
["1日目 中学女子 １００ｍ",{"$f":"COUNTIF(競技者一覧!$G$13:$G$112,A88)","v":0},{"$f":"COUNTIF(競技者一覧!$I$13:$I$112,A88)","v":0},{"$f":"COUNTIF(競技者一覧!$K$13:$K$112,A88)","v":0},{"$f":"COUNTIF(競技者一覧!$M$13:$M$112,A88)","v":0},{"$f":"COUNTIF(競技者一覧!$O$13:$O$112,A88)","v":0},{"$f":"COUNTIF(競技者一覧!$Q$13:$Q$112,A88)","v":0},{"$f":"COUNTIF(競技者一覧!$S$13:$S$112,A88)","v":0},{"$f":"COUNTIF(競技者一覧!$U$13:$U$112,A88)","v":0},0]
["1日目 中学女子 ２００ｍ",{"$f":"COUNTIF(競技者一覧!$G$13:$G$112,A89)","v":0},{"$f":"COUNTIF(競技者一覧!$I$13:$I$112,A89)","v":0},{"$f":"COUNTIF(競技者一覧!$K$13:$K$112,A89)","v":0},{"$f":"COUNTIF(競技者一覧!$M$13:$M$112,A89)","v":0},{"$f":"COUNTIF(競技者一覧!$O$13:$O$112,A89)","v":0},{"$f":"COUNTIF(競技者一覧!$Q$13:$Q$112,A89)","v":0},{"$f":"COUNTIF(競技者一覧!$S$13:$S$112,A89)","v":0},{"$f":"COUNTIF(競技者一覧!$U$13:$U$112,A89)","v":0},0]
["1日目 中学女子 ８００ｍ",{"$f":"COUNTIF(競技者一覧!$G$13:$G$112,A90)","v":0},{"$f":"COUNTIF(競技者一覧!$I$13:$I$112,A90)","v":0},{"$f":"COUNTIF(競技者一覧!$K$13:$K$112,A90)","v":0},{"$f":"COUNTIF(競技者一覧!$M$13:$M$112,A90)","v":0},{"$f":"COUNTIF(競技者一覧!$O$13:$O$112,A90)","v":0},{"$f":"COUNTIF(競技者一覧!$Q$13:$Q$112,A90)","v":0},{"$f":"COUNTIF(競技者一覧!$S$13:$S$112,A90)","v":0},{"$f":"COUNTIF(競技者一覧!$U$13:$U$112,A90)","v":0},0]
["1日目 中学女子 １５００ｍ",{"$f":"COUNTIF(競技者一覧!$G$13:$G$112,A91)","v":0},{"$f":"COUNTIF(競技者一覧!$I$13:$I$112,A91)","v":0},{"$f":"COUNTIF(競技者一覧!$K$13:$K$112,A91)","v":0},{"$f":"COUNTIF(競技者一覧!$M$13:$M$112,A91)","v":0},{"$f":"COUNTIF(競技者一覧!$O$13:$O$112,A91)","v":0},{"$f":"COUNTIF(競技者一覧!$Q$13:$Q$112,A91)","v":0},{"$f":"COUNTIF(競技者一覧!$S$13:$S$112,A91)","v":0},{"$f":"COUNTIF(競技者一覧!$U$13:$U$112,A91)","v":0},0]
["1日目 中学女子 １００ｍＨ",{"$f":"COUNTIF(競技者一覧!$G$13:$G$112,A92)","v":0},{"$f":"COUNTIF(競技者一覧!$I$13:$I$112,A92)","v":0},{"$f":"COUNTIF(競技者一覧!$K$13:$K$112,A92)","v":0},{"$f":"COUNTIF(競技者一覧!$M$13:$M$112,A92)","v":0},{"$f":"COUNTIF(競技者一覧!$O$13:$O$112,A92)","v":0},{"$f":"COUNTIF(競技者一覧!$Q$13:$Q$112,A92)","v":0},{"$f":"COUNTIF(競技者一覧!$S$13:$S$112,A92)","v":0},{"$f":"COUNTIF(競技者一覧!$U$13:$U$112,A92)","v":0},0]
["1日目 中学女子 １００ｍＹＨ",{"$f":"COUNTIF(競技者一覧!$G$13:$G$112,A93)","v":0},{"$f":"COUNTIF(競技者一覧!$I$13:$I$112,A93)","v":0},{"$f":"COUNTIF(競技者一覧!$K$13:$K$112,A93)","v":0},{"$f":"COUNTIF(競技者一覧!$M$13:$M$112,A93)","v":0},{"$f":"COUNTIF(競技者一覧!$O$13:$O$112,A93)","v":0},{"$f":"COUNTIF(競技者一覧!$Q$13:$Q$112,A93)","v":0},{"$f":"COUNTIF(競技者一覧!$S$13:$S$112,A93)","v":0},{"$f":"COUNTIF(競技者一覧!$U$13:$U$112,A93)","v":0},0]
["1日目 中学女子 棒高跳",{"$f":"COUNTIF(競技者一覧!$G$13:$G$112,A94)","v":0},{"$f":"COUNTIF(競技者一覧!$I$13:$I$112,A94)","v":0},{"$f":"COUNTIF(競技者一覧!$K$13:$K$112,A94)","v":0},{"$f":"COUNTIF(競技者一覧!$M$13:$M$112,A94)","v":0},{"$f":"COUNTIF(競技者一覧!$O$13:$O$112,A94)","v":0},{"$f":"COUNTIF(競技者一覧!$Q$13:$Q$112,A94)","v":0},{"$f":"COUNTIF(競技者一覧!$S$13:$S$112,A94)","v":0},{"$f":"COUNTIF(競技者一覧!$U$13:$U$112,A94)","v":0},0]
["1日目 中学女子 走高跳",{"$f":"COUNTIF(競技者一覧!$G$13:$G$112,A95)","v":0},{"$f":"COUNTIF(競技者一覧!$I$13:$I$112,A95)","v":0},{"$f":"COUNTIF(競技者一覧!$K$13:$K$112,A95)","v":0},{"$f":"COUNTIF(競技者一覧!$M$13:$M$112,A95)","v":0},{"$f":"COUNTIF(競技者一覧!$O$13:$O$112,A95)","v":0},{"$f":"COUNTIF(競技者一覧!$Q$13:$Q$112,A95)","v":0},{"$f":"COUNTIF(競技者一覧!$S$13:$S$112,A95)","v":0},{"$f":"COUNTIF(競技者一覧!$U$13:$U$112,A95)","v":0},0]
["1日目 中学女子 走幅跳",{"$f":"COUNTIF(競技者一覧!$G$13:$G$112,A96)","v":0},{"$f":"COUNTIF(競技者一覧!$I$13:$I$112,A96)","v":0},{"$f":"COUNTIF(競技者一覧!$K$13:$K$112,A96)","v":0},{"$f":"COUNTIF(競技者一覧!$M$13:$M$112,A96)","v":0},{"$f":"COUNTIF(競技者一覧!$O$13:$O$112,A96)","v":0},{"$f":"COUNTIF(競技者一覧!$Q$13:$Q$112,A96)","v":0},{"$f":"COUNTIF(競技者一覧!$S$13:$S$112,A96)","v":0},{"$f":"COUNTIF(競技者一覧!$U$13:$U$112,A96)","v":0},0]
["1日目 中学女子 三段跳",{"$f":"COUNTIF(競技者一覧!$G$13:$G$112,A97)","v":0},{"$f":"COUNTIF(競技者一覧!$I$13:$I$112,A97)","v":0},{"$f":"COUNTIF(競技者一覧!$K$13:$K$112,A97)","v":0},{"$f":"COUNTIF(競技者一覧!$M$13:$M$112,A97)","v":0},{"$f":"COUNTIF(競技者一覧!$O$13:$O$112,A97)","v":0},{"$f":"COUNTIF(競技者一覧!$Q$13:$Q$112,A97)","v":0},{"$f":"COUNTIF(競技者一覧!$S$13:$S$112,A97)","v":0},{"$f":"COUNTIF(競技者一覧!$U$13:$U$112,A97)","v":0},0]
["1日目 中学女子 砲丸投(2.7㎏)",{"$f":"COUNTIF(競技者一覧!$G$13:$G$112,A98)","v":0},{"$f":"COUNTIF(競技者一覧!$I$13:$I$112,A98)","v":0},{"$f":"COUNTIF(競技者一覧!$K$13:$K$112,A98)","v":0},{"$f":"COUNTIF(競技者一覧!$M$13:$M$112,A98)","v":0},{"$f":"COUNTIF(競技者一覧!$O$13:$O$112,A98)","v":0},{"$f":"COUNTIF(競技者一覧!$Q$13:$Q$112,A98)","v":0},{"$f":"COUNTIF(競技者一覧!$S$13:$S$112,A98)","v":0},{"$f":"COUNTIF(競技者一覧!$U$13:$U$112,A98)","v":0},0]
["1日目 中学女子 円盤投",{"$f":"COUNTIF(競技者一覧!$G$13:$G$112,A99)","v":0},{"$f":"COUNTIF(競技者一覧!$I$13:$I$112,A99)","v":0},{"$f":"COUNTIF(競技者一覧!$K$13:$K$112,A99)","v":0},{"$f":"COUNTIF(競技者一覧!$M$13:$M$112,A99)","v":0},{"$f":"COUNTIF(競技者一覧!$O$13:$O$112,A99)","v":0},{"$f":"COUNTIF(競技者一覧!$Q$13:$Q$112,A99)","v":0},{"$f":"COUNTIF(競技者一覧!$S$13:$S$112,A99)","v":0},{"$f":"COUNTIF(競技者一覧!$U$13:$U$112,A99)","v":0},0]
["1日目 中学女子 四種競技",{"$f":"COUNTIF(競技者一覧!$G$13:$G$112,A100)","v":0},{"$f":"COUNTIF(競技者一覧!$I$13:$I$112,A100)","v":0},{"$f":"COUNTIF(競技者一覧!$K$13:$K$112,A100)","v":0},{"$f":"COUNTIF(競技者一覧!$M$13:$M$112,A100)","v":0},{"$f":"COUNTIF(競技者一覧!$O$13:$O$112,A100)","v":0},{"$f":"COUNTIF(競技者一覧!$Q$13:$Q$112,A100)","v":0},{"$f":"COUNTIF(競技者一覧!$S$13:$S$112,A100)","v":0},{"$f":"COUNTIF(競技者一覧!$U$13:$U$112,A100)","v":0},0]
["1日目 一般・高校男子 １００ｍ",{"$f":"COUNTIF(競技者一覧!$G$13:$G$112,A101)","v":0},{"$f":"COUNTIF(競技者一覧!$I$13:$I$112,A101)","v":0},{"$f":"COUNTIF(競技者一覧!$K$13:$K$112,A101)","v":0},{"$f":"COUNTIF(競技者一覧!$M$13:$M$112,A101)","v":0},{"$f":"COUNTIF(競技者一覧!$O$13:$O$112,A101)","v":0},{"$f":"COUNTIF(競技者一覧!$Q$13:$Q$112,A101)","v":0},{"$f":"COUNTIF(競技者一覧!$S$13:$S$112,A101)","v":0},{"$f":"COUNTIF(競技者一覧!$U$13:$U$112,A101)","v":0},0]
["1日目 一般・高校男子 ２００ｍ",{"$f":"COUNTIF(競技者一覧!$G$13:$G$112,A102)","v":0},{"$f":"COUNTIF(競技者一覧!$I$13:$I$112,A102)","v":0},{"$f":"COUNTIF(競技者一覧!$K$13:$K$112,A102)","v":0},{"$f":"COUNTIF(競技者一覧!$M$13:$M$112,A102)","v":0},{"$f":"COUNTIF(競技者一覧!$O$13:$O$112,A102)","v":0},{"$f":"COUNTIF(競技者一覧!$Q$13:$Q$112,A102)","v":0},{"$f":"COUNTIF(競技者一覧!$S$13:$S$112,A102)","v":0},{"$f":"COUNTIF(競技者一覧!$U$13:$U$112,A102)","v":0},0]
["1日目 一般・高校男子 ４００ｍ",{"$f":"COUNTIF(競技者一覧!$G$13:$G$112,A103)","v":0},{"$f":"COUNTIF(競技者一覧!$I$13:$I$112,A103)","v":0},{"$f":"COUNTIF(競技者一覧!$K$13:$K$112,A103)","v":0},{"$f":"COUNTIF(競技者一覧!$M$13:$M$112,A103)","v":0},{"$f":"COUNTIF(競技者一覧!$O$13:$O$112,A103)","v":0},{"$f":"COUNTIF(競技者一覧!$Q$13:$Q$112,A103)","v":0},{"$f":"COUNTIF(競技者一覧!$S$13:$S$112,A103)","v":0},{"$f":"COUNTIF(競技者一覧!$U$13:$U$112,A103)","v":0},0]
["1日目 一般・高校男子 ８００ｍ",{"$f":"COUNTIF(競技者一覧!$G$13:$G$112,A104)","v":0},{"$f":"COUNTIF(競技者一覧!$I$13:$I$112,A104)","v":0},{"$f":"COUNTIF(競技者一覧!$K$13:$K$112,A104)","v":0},{"$f":"COUNTIF(競技者一覧!$M$13:$M$112,A104)","v":0},{"$f":"COUNTIF(競技者一覧!$O$13:$O$112,A104)","v":0},{"$f":"COUNTIF(競技者一覧!$Q$13:$Q$112,A104)","v":0},{"$f":"COUNTIF(競技者一覧!$S$13:$S$112,A104)","v":0},{"$f":"COUNTIF(競技者一覧!$U$13:$U$112,A104)","v":0},0]
["1日目 一般・高校男子 １５００ｍ",{"$f":"COUNTIF(競技者一覧!$G$13:$G$112,A105)","v":0},{"$f":"COUNTIF(競技者一覧!$I$13:$I$112,A105)","v":0},{"$f":"COUNTIF(競技者一覧!$K$13:$K$112,A105)","v":0},{"$f":"COUNTIF(競技者一覧!$M$13:$M$112,A105)","v":0},{"$f":"COUNTIF(競技者一覧!$O$13:$O$112,A105)","v":0},{"$f":"COUNTIF(競技者一覧!$Q$13:$Q$112,A105)","v":0},{"$f":"COUNTIF(競技者一覧!$S$13:$S$112,A105)","v":0},{"$f":"COUNTIF(競技者一覧!$U$13:$U$112,A105)","v":0},0]
["1日目 一般・高校男子 ３０００ｍ",{"$f":"COUNTIF(競技者一覧!$G$13:$G$112,A106)","v":0},{"$f":"COUNTIF(競技者一覧!$I$13:$I$112,A106)","v":0},{"$f":"COUNTIF(競技者一覧!$K$13:$K$112,A106)","v":0},{"$f":"COUNTIF(競技者一覧!$M$13:$M$112,A106)","v":0},{"$f":"COUNTIF(競技者一覧!$O$13:$O$112,A106)","v":0},{"$f":"COUNTIF(競技者一覧!$Q$13:$Q$112,A106)","v":0},{"$f":"COUNTIF(競技者一覧!$S$13:$S$112,A106)","v":0},{"$f":"COUNTIF(競技者一覧!$U$13:$U$112,A106)","v":0},0]
["1日目 一般・高校男子 １１０ｍＨＨ(106.3)",{"$f":"COUNTIF(競技者一覧!$G$13:$G$112,A107)","v":0},{"$f":"COUNTIF(競技者一覧!$I$13:$I$112,A107)","v":0},{"$f":"COUNTIF(競技者一覧!$K$13:$K$112,A107)","v":0},{"$f":"COUNTIF(競技者一覧!$M$13:$M$112,A107)","v":0},{"$f":"COUNTIF(競技者一覧!$O$13:$O$112,A107)","v":0},{"$f":"COUNTIF(競技者一覧!$Q$13:$Q$112,A107)","v":0},{"$f":"COUNTIF(競技者一覧!$S$13:$S$112,A107)","v":0},{"$f":"COUNTIF(競技者一覧!$U$13:$U$112,A107)","v":0},0]
["1日目 一般・高校男子 １１０ｍJＨ(99.1)",{"$f":"COUNTIF(競技者一覧!$G$13:$G$112,A108)","v":0},{"$f":"COUNTIF(競技者一覧!$I$13:$I$112,A108)","v":0},{"$f":"COUNTIF(競技者一覧!$K$13:$K$112,A108)","v":0},{"$f":"COUNTIF(競技者一覧!$M$13:$M$112,A108)","v":0},{"$f":"COUNTIF(競技者一覧!$O$13:$O$112,A108)","v":0},{"$f":"COUNTIF(競技者一覧!$Q$13:$Q$112,A108)","v":0},{"$f":"COUNTIF(競技者一覧!$S$13:$S$112,A108)","v":0},{"$f":"COUNTIF(競技者一覧!$U$13:$U$112,A108)","v":0},0]
["1日目 一般・高校男子 ４００ｍＨ",{"$f":"COUNTIF(競技者一覧!$G$13:$G$112,A109)","v":0},{"$f":"COUNTIF(競技者一覧!$I$13:$I$112,A109)","v":0},{"$f":"COUNTIF(競技者一覧!$K$13:$K$112,A109)","v":0},{"$f":"COUNTIF(競技者一覧!$M$13:$M$112,A109)","v":0},{"$f":"COUNTIF(競技者一覧!$O$13:$O$112,A109)","v":0},{"$f":"COUNTIF(競技者一覧!$Q$13:$Q$112,A109)","v":0},{"$f":"COUNTIF(競技者一覧!$S$13:$S$112,A109)","v":0},{"$f":"COUNTIF(競技者一覧!$U$13:$U$112,A109)","v":0},0]
["1日目 一般・高校男子 棒高跳",{"$f":"COUNTIF(競技者一覧!$G$13:$G$112,A110)","v":0},{"$f":"COUNTIF(競技者一覧!$I$13:$I$112,A110)","v":0},{"$f":"COUNTIF(競技者一覧!$K$13:$K$112,A110)","v":0},{"$f":"COUNTIF(競技者一覧!$M$13:$M$112,A110)","v":0},{"$f":"COUNTIF(競技者一覧!$O$13:$O$112,A110)","v":0},{"$f":"COUNTIF(競技者一覧!$Q$13:$Q$112,A110)","v":0},{"$f":"COUNTIF(競技者一覧!$S$13:$S$112,A110)","v":0},{"$f":"COUNTIF(競技者一覧!$U$13:$U$112,A110)","v":0},0]
["1日目 一般・高校男子 走高跳",{"$f":"COUNTIF(競技者一覧!$G$13:$G$112,A111)","v":0},{"$f":"COUNTIF(競技者一覧!$I$13:$I$112,A111)","v":0},{"$f":"COUNTIF(競技者一覧!$K$13:$K$112,A111)","v":0},{"$f":"COUNTIF(競技者一覧!$M$13:$M$112,A111)","v":0},{"$f":"COUNTIF(競技者一覧!$O$13:$O$112,A111)","v":0},{"$f":"COUNTIF(競技者一覧!$Q$13:$Q$112,A111)","v":0},{"$f":"COUNTIF(競技者一覧!$S$13:$S$112,A111)","v":0},{"$f":"COUNTIF(競技者一覧!$U$13:$U$112,A111)","v":0},0]
["1日目 一般・高校男子 走幅跳",{"$f":"COUNTIF(競技者一覧!$G$13:$G$112,A112)","v":0},{"$f":"COUNTIF(競技者一覧!$I$13:$I$112,A112)","v":0},{"$f":"COUNTIF(競技者一覧!$K$13:$K$112,A112)","v":0},{"$f":"COUNTIF(競技者一覧!$M$13:$M$112,A112)","v":0},{"$f":"COUNTIF(競技者一覧!$O$13:$O$112,A112)","v":0},{"$f":"COUNTIF(競技者一覧!$Q$13:$Q$112,A112)","v":0},{"$f":"COUNTIF(競技者一覧!$S$13:$S$112,A112)","v":0},{"$f":"COUNTIF(競技者一覧!$U$13:$U$112,A112)","v":0},0]
["1日目 一般・高校男子 三段跳",{"$f":"COUNTIF(競技者一覧!$G$13:$G$112,A113)","v":0},{"$f":"COUNTIF(競技者一覧!$I$13:$I$112,A113)","v":0},{"$f":"COUNTIF(競技者一覧!$K$13:$K$112,A113)","v":0},{"$f":"COUNTIF(競技者一覧!$M$13:$M$112,A113)","v":0},{"$f":"COUNTIF(競技者一覧!$O$13:$O$112,A113)","v":0},{"$f":"COUNTIF(競技者一覧!$Q$13:$Q$112,A113)","v":0},{"$f":"COUNTIF(競技者一覧!$S$13:$S$112,A113)","v":0},{"$f":"COUNTIF(競技者一覧!$U$13:$U$112,A113)","v":0},0]
["1日目 一般・高校男子 砲丸投(6.0Kg)",{"$f":"COUNTIF(競技者一覧!$G$13:$G$112,A114)","v":0},{"$f":"COUNTIF(競技者一覧!$I$13:$I$112,A114)","v":0},{"$f":"COUNTIF(競技者一覧!$K$13:$K$112,A114)","v":0},{"$f":"COUNTIF(競技者一覧!$M$13:$M$112,A114)","v":0},{"$f":"COUNTIF(競技者一覧!$O$13:$O$112,A114)","v":0},{"$f":"COUNTIF(競技者一覧!$Q$13:$Q$112,A114)","v":0},{"$f":"COUNTIF(競技者一覧!$S$13:$S$112,A114)","v":0},{"$f":"COUNTIF(競技者一覧!$U$13:$U$112,A114)","v":0},0]
["1日目 一般・高校男子 砲丸投(7.25Kg)",{"$f":"COUNTIF(競技者一覧!$G$13:$G$112,A115)","v":0},{"$f":"COUNTIF(競技者一覧!$I$13:$I$112,A115)","v":0},{"$f":"COUNTIF(競技者一覧!$K$13:$K$112,A115)","v":0},{"$f":"COUNTIF(競技者一覧!$M$13:$M$112,A115)","v":0},{"$f":"COUNTIF(競技者一覧!$O$13:$O$112,A115)","v":0},{"$f":"COUNTIF(競技者一覧!$Q$13:$Q$112,A115)","v":0},{"$f":"COUNTIF(競技者一覧!$S$13:$S$112,A115)","v":0},{"$f":"COUNTIF(競技者一覧!$U$13:$U$112,A115)","v":0},0]
["1日目 一般・高校男子 円盤投(1.75kg)",{"$f":"COUNTIF(競技者一覧!$G$13:$G$112,A116)","v":0},{"$f":"COUNTIF(競技者一覧!$I$13:$I$112,A116)","v":0},{"$f":"COUNTIF(競技者一覧!$K$13:$K$112,A116)","v":0},{"$f":"COUNTIF(競技者一覧!$M$13:$M$112,A116)","v":0},{"$f":"COUNTIF(競技者一覧!$O$13:$O$112,A116)","v":0},{"$f":"COUNTIF(競技者一覧!$Q$13:$Q$112,A116)","v":0},{"$f":"COUNTIF(競技者一覧!$S$13:$S$112,A116)","v":0},{"$f":"COUNTIF(競技者一覧!$U$13:$U$112,A116)","v":0},0]
["1日目 一般・高校男子 円盤投(2.0kg)",{"$f":"COUNTIF(競技者一覧!$G$13:$G$112,A117)","v":0},{"$f":"COUNTIF(競技者一覧!$I$13:$I$112,A117)","v":0},{"$f":"COUNTIF(競技者一覧!$K$13:$K$112,A117)","v":0},{"$f":"COUNTIF(競技者一覧!$M$13:$M$112,A117)","v":0},{"$f":"COUNTIF(競技者一覧!$O$13:$O$112,A117)","v":0},{"$f":"COUNTIF(競技者一覧!$Q$13:$Q$112,A117)","v":0},{"$f":"COUNTIF(競技者一覧!$S$13:$S$112,A117)","v":0},{"$f":"COUNTIF(競技者一覧!$U$13:$U$112,A117)","v":0},0]
["1日目 一般・高校男子 やり投",{"$f":"COUNTIF(競技者一覧!$G$13:$G$112,A118)","v":0},{"$f":"COUNTIF(競技者一覧!$I$13:$I$112,A118)","v":0},{"$f":"COUNTIF(競技者一覧!$K$13:$K$112,A118)","v":0},{"$f":"COUNTIF(競技者一覧!$M$13:$M$112,A118)","v":0},{"$f":"COUNTIF(競技者一覧!$O$13:$O$112,A118)","v":0},{"$f":"COUNTIF(競技者一覧!$Q$13:$Q$112,A118)","v":0},{"$f":"COUNTIF(競技者一覧!$S$13:$S$112,A118)","v":0},{"$f":"COUNTIF(競技者一覧!$U$13:$U$112,A118)","v":0},0]
["1日目 一般・高校女子 １００ｍ",{"$f":"COUNTIF(競技者一覧!$G$13:$G$112,A119)","v":0},{"$f":"COUNTIF(競技者一覧!$I$13:$I$112,A119)","v":0},{"$f":"COUNTIF(競技者一覧!$K$13:$K$112,A119)","v":0},{"$f":"COUNTIF(競技者一覧!$M$13:$M$112,A119)","v":0},{"$f":"COUNTIF(競技者一覧!$O$13:$O$112,A119)","v":0},{"$f":"COUNTIF(競技者一覧!$Q$13:$Q$112,A119)","v":0},{"$f":"COUNTIF(競技者一覧!$S$13:$S$112,A119)","v":0},{"$f":"COUNTIF(競技者一覧!$U$13:$U$112,A119)","v":0},0]
["1日目 一般・高校女子 ２００ｍ",{"$f":"COUNTIF(競技者一覧!$G$13:$G$112,A120)","v":0},{"$f":"COUNTIF(競技者一覧!$I$13:$I$112,A120)","v":0},{"$f":"COUNTIF(競技者一覧!$K$13:$K$112,A120)","v":0},{"$f":"COUNTIF(競技者一覧!$M$13:$M$112,A120)","v":0},{"$f":"COUNTIF(競技者一覧!$O$13:$O$112,A120)","v":0},{"$f":"COUNTIF(競技者一覧!$Q$13:$Q$112,A120)","v":0},{"$f":"COUNTIF(競技者一覧!$S$13:$S$112,A120)","v":0},{"$f":"COUNTIF(競技者一覧!$U$13:$U$112,A120)","v":0},0]
["1日目 一般・高校女子 ４００ｍ",{"$f":"COUNTIF(競技者一覧!$G$13:$G$112,A121)","v":0},{"$f":"COUNTIF(競技者一覧!$I$13:$I$112,A121)","v":0},{"$f":"COUNTIF(競技者一覧!$K$13:$K$112,A121)","v":0},{"$f":"COUNTIF(競技者一覧!$M$13:$M$112,A121)","v":0},{"$f":"COUNTIF(競技者一覧!$O$13:$O$112,A121)","v":0},{"$f":"COUNTIF(競技者一覧!$Q$13:$Q$112,A121)","v":0},{"$f":"COUNTIF(競技者一覧!$S$13:$S$112,A121)","v":0},{"$f":"COUNTIF(競技者一覧!$U$13:$U$112,A121)","v":0},0]
["1日目 一般・高校女子 ８００ｍ",{"$f":"COUNTIF(競技者一覧!$G$13:$G$112,A122)","v":0},{"$f":"COUNTIF(競技者一覧!$I$13:$I$112,A122)","v":0},{"$f":"COUNTIF(競技者一覧!$K$13:$K$112,A122)","v":0},{"$f":"COUNTIF(競技者一覧!$M$13:$M$112,A122)","v":0},{"$f":"COUNTIF(競技者一覧!$O$13:$O$112,A122)","v":0},{"$f":"COUNTIF(競技者一覧!$Q$13:$Q$112,A122)","v":0},{"$f":"COUNTIF(競技者一覧!$S$13:$S$112,A122)","v":0},{"$f":"COUNTIF(競技者一覧!$U$13:$U$112,A122)","v":0},0]
["1日目 一般・高校女子 １５００ｍ",{"$f":"COUNTIF(競技者一覧!$G$13:$G$112,A123)","v":0},{"$f":"COUNTIF(競技者一覧!$I$13:$I$112,A123)","v":0},{"$f":"COUNTIF(競技者一覧!$K$13:$K$112,A123)","v":0},{"$f":"COUNTIF(競技者一覧!$M$13:$M$112,A123)","v":0},{"$f":"COUNTIF(競技者一覧!$O$13:$O$112,A123)","v":0},{"$f":"COUNTIF(競技者一覧!$Q$13:$Q$112,A123)","v":0},{"$f":"COUNTIF(競技者一覧!$S$13:$S$112,A123)","v":0},{"$f":"COUNTIF(競技者一覧!$U$13:$U$112,A123)","v":0},0]
["1日目 一般・高校女子 ３０００ｍ",{"$f":"COUNTIF(競技者一覧!$G$13:$G$112,A124)","v":0},{"$f":"COUNTIF(競技者一覧!$I$13:$I$112,A124)","v":0},{"$f":"COUNTIF(競技者一覧!$K$13:$K$112,A124)","v":0},{"$f":"COUNTIF(競技者一覧!$M$13:$M$112,A124)","v":0},{"$f":"COUNTIF(競技者一覧!$O$13:$O$112,A124)","v":0},{"$f":"COUNTIF(競技者一覧!$Q$13:$Q$112,A124)","v":0},{"$f":"COUNTIF(競技者一覧!$S$13:$S$112,A124)","v":0},{"$f":"COUNTIF(競技者一覧!$U$13:$U$112,A124)","v":0},0]
["1日目 一般・高校女子 １００ｍＨ（一般）",{"$f":"COUNTIF(競技者一覧!$G$13:$G$112,A125)","v":0},{"$f":"COUNTIF(競技者一覧!$I$13:$I$112,A125)","v":0},{"$f":"COUNTIF(競技者一覧!$K$13:$K$112,A125)","v":0},{"$f":"COUNTIF(競技者一覧!$M$13:$M$112,A125)","v":0},{"$f":"COUNTIF(競技者一覧!$O$13:$O$112,A125)","v":0},{"$f":"COUNTIF(競技者一覧!$Q$13:$Q$112,A125)","v":0},{"$f":"COUNTIF(競技者一覧!$S$13:$S$112,A125)","v":0},{"$f":"COUNTIF(競技者一覧!$U$13:$U$112,A125)","v":0},0]
["1日目 一般・高校女子 ４００ｍＨ",{"$f":"COUNTIF(競技者一覧!$G$13:$G$112,A126)","v":0},{"$f":"COUNTIF(競技者一覧!$I$13:$I$112,A126)","v":0},{"$f":"COUNTIF(競技者一覧!$K$13:$K$112,A126)","v":0},{"$f":"COUNTIF(競技者一覧!$M$13:$M$112,A126)","v":0},{"$f":"COUNTIF(競技者一覧!$O$13:$O$112,A126)","v":0},{"$f":"COUNTIF(競技者一覧!$Q$13:$Q$112,A126)","v":0},{"$f":"COUNTIF(競技者一覧!$S$13:$S$112,A126)","v":0},{"$f":"COUNTIF(競技者一覧!$U$13:$U$112,A126)","v":0},0]
["1日目 一般・高校女子 棒高跳",{"$f":"COUNTIF(競技者一覧!$G$13:$G$112,A127)","v":0},{"$f":"COUNTIF(競技者一覧!$I$13:$I$112,A127)","v":0},{"$f":"COUNTIF(競技者一覧!$K$13:$K$112,A127)","v":0},{"$f":"COUNTIF(競技者一覧!$M$13:$M$112,A127)","v":0},{"$f":"COUNTIF(競技者一覧!$O$13:$O$112,A127)","v":0},{"$f":"COUNTIF(競技者一覧!$Q$13:$Q$112,A127)","v":0},{"$f":"COUNTIF(競技者一覧!$S$13:$S$112,A127)","v":0},{"$f":"COUNTIF(競技者一覧!$U$13:$U$112,A127)","v":0},0]
["1日目 一般・高校女子 走高跳",{"$f":"COUNTIF(競技者一覧!$G$13:$G$112,A128)","v":0},{"$f":"COUNTIF(競技者一覧!$I$13:$I$112,A128)","v":0},{"$f":"COUNTIF(競技者一覧!$K$13:$K$112,A128)","v":0},{"$f":"COUNTIF(競技者一覧!$M$13:$M$112,A128)","v":0},{"$f":"COUNTIF(競技者一覧!$O$13:$O$112,A128)","v":0},{"$f":"COUNTIF(競技者一覧!$Q$13:$Q$112,A128)","v":0},{"$f":"COUNTIF(競技者一覧!$S$13:$S$112,A128)","v":0},{"$f":"COUNTIF(競技者一覧!$U$13:$U$112,A128)","v":0},0]
["1日目 一般・高校女子 走幅跳",{"$f":"COUNTIF(競技者一覧!$G$13:$G$112,A129)","v":0},{"$f":"COUNTIF(競技者一覧!$I$13:$I$112,A129)","v":0},{"$f":"COUNTIF(競技者一覧!$K$13:$K$112,A129)","v":0},{"$f":"COUNTIF(競技者一覧!$M$13:$M$112,A129)","v":0},{"$f":"COUNTIF(競技者一覧!$O$13:$O$112,A129)","v":0},{"$f":"COUNTIF(競技者一覧!$Q$13:$Q$112,A129)","v":0},{"$f":"COUNTIF(競技者一覧!$S$13:$S$112,A129)","v":0},{"$f":"COUNTIF(競技者一覧!$U$13:$U$112,A129)","v":0},0]
["1日目 一般・高校女子 三段跳",{"$f":"COUNTIF(競技者一覧!$G$13:$G$112,A130)","v":0},{"$f":"COUNTIF(競技者一覧!$I$13:$I$112,A130)","v":0},{"$f":"COUNTIF(競技者一覧!$K$13:$K$112,A130)","v":0},{"$f":"COUNTIF(競技者一覧!$M$13:$M$112,A130)","v":0},{"$f":"COUNTIF(競技者一覧!$O$13:$O$112,A130)","v":0},{"$f":"COUNTIF(競技者一覧!$Q$13:$Q$112,A130)","v":0},{"$f":"COUNTIF(競技者一覧!$S$13:$S$112,A130)","v":0},{"$f":"COUNTIF(競技者一覧!$U$13:$U$112,A130)","v":0},0]
["1日目 一般・高校女子 砲丸投(4.0㎏)",{"$f":"COUNTIF(競技者一覧!$G$13:$G$112,A131)","v":0},{"$f":"COUNTIF(競技者一覧!$I$13:$I$112,A131)","v":0},{"$f":"COUNTIF(競技者一覧!$K$13:$K$112,A131)","v":0},{"$f":"COUNTIF(競技者一覧!$M$13:$M$112,A131)","v":0},{"$f":"COUNTIF(競技者一覧!$O$13:$O$112,A131)","v":0},{"$f":"COUNTIF(競技者一覧!$Q$13:$Q$112,A131)","v":0},{"$f":"COUNTIF(競技者一覧!$S$13:$S$112,A131)","v":0},{"$f":"COUNTIF(競技者一覧!$U$13:$U$112,A131)","v":0},{"$f":"SUM(B131:I131)","v":0}]
["1日目 一般・高校女子 円盤投(1.0㎏)",{"$f":"COUNTIF(競技者一覧!$G$13:$G$112,A132)","v":0},{"$f":"COUNTIF(競技者一覧!$I$13:$I$112,A132)","v":0},{"$f":"COUNTIF(競技者一覧!$K$13:$K$112,A132)","v":0},{"$f":"COUNTIF(競技者一覧!$M$13:$M$112,A132)","v":0},{"$f":"COUNTIF(競技者一覧!$O$13:$O$112,A132)","v":0},{"$f":"COUNTIF(競技者一覧!$Q$13:$Q$112,A132)","v":0},{"$f":"COUNTIF(競技者一覧!$S$13:$S$112,A132)","v":0},{"$f":"COUNTIF(競技者一覧!$U$13:$U$112,A132)","v":0},0]
["1日目 一般・高校女子 やり投",{"$f":"COUNTIF(競技者一覧!$G$13:$G$112,A133)","v":0},{"$f":"COUNTIF(競技者一覧!$I$13:$I$112,A133)","v":0},{"$f":"COUNTIF(競技者一覧!$K$13:$K$112,A133)","v":0},{"$f":"COUNTIF(競技者一覧!$M$13:$M$112,A133)","v":0},{"$f":"COUNTIF(競技者一覧!$O$13:$O$112,A133)","v":0},{"$f":"COUNTIF(競技者一覧!$Q$13:$Q$112,A133)","v":0},{"$f":"COUNTIF(競技者一覧!$S$13:$S$112,A133)","v":0},{"$f":"COUNTIF(競技者一覧!$U$13:$U$112,A133)","v":0},0]
["2日目 中学男子 １００ｍ",{"$f":"COUNTIF(競技者一覧!$G$13:$G$112,A134)","v":0},{"$f":"COUNTIF(競技者一覧!$I$13:$I$112,A134)","v":0},{"$f":"COUNTIF(競技者一覧!$K$13:$K$112,A134)","v":0},{"$f":"COUNTIF(競技者一覧!$M$13:$M$112,A134)","v":0},{"$f":"COUNTIF(競技者一覧!$O$13:$O$112,A134)","v":0},{"$f":"COUNTIF(競技者一覧!$Q$13:$Q$112,A134)","v":0},{"$f":"COUNTIF(競技者一覧!$S$13:$S$112,A134)","v":0},{"$f":"COUNTIF(競技者一覧!$U$13:$U$112,A134)","v":0},0]
["2日目 中学男子 ２００ｍ",{"$f":"COUNTIF(競技者一覧!$G$13:$G$112,A135)","v":0},{"$f":"COUNTIF(競技者一覧!$I$13:$I$112,A135)","v":0},{"$f":"COUNTIF(競技者一覧!$K$13:$K$112,A135)","v":0},{"$f":"COUNTIF(競技者一覧!$M$13:$M$112,A135)","v":0},{"$f":"COUNTIF(競技者一覧!$O$13:$O$112,A135)","v":0},{"$f":"COUNTIF(競技者一覧!$Q$13:$Q$112,A135)","v":0},{"$f":"COUNTIF(競技者一覧!$S$13:$S$112,A135)","v":0},{"$f":"COUNTIF(競技者一覧!$U$13:$U$112,A135)","v":0},0]
["2日目 中学男子 ４００ｍ",{"$f":"COUNTIF(競技者一覧!$G$13:$G$112,A136)","v":0},{"$f":"COUNTIF(競技者一覧!$I$13:$I$112,A136)","v":0},{"$f":"COUNTIF(競技者一覧!$K$13:$K$112,A136)","v":0},{"$f":"COUNTIF(競技者一覧!$M$13:$M$112,A136)","v":0},{"$f":"COUNTIF(競技者一覧!$O$13:$O$112,A136)","v":0},{"$f":"COUNTIF(競技者一覧!$Q$13:$Q$112,A136)","v":0},{"$f":"COUNTIF(競技者一覧!$S$13:$S$112,A136)","v":0},{"$f":"COUNTIF(競技者一覧!$U$13:$U$112,A136)","v":0},0]
["2日目 中学男子 ８００ｍ",{"$f":"COUNTIF(競技者一覧!$G$13:$G$112,A137)","v":0},{"$f":"COUNTIF(競技者一覧!$I$13:$I$112,A137)","v":0},{"$f":"COUNTIF(競技者一覧!$K$13:$K$112,A137)","v":0},{"$f":"COUNTIF(競技者一覧!$M$13:$M$112,A137)","v":0},{"$f":"COUNTIF(競技者一覧!$O$13:$O$112,A137)","v":0},{"$f":"COUNTIF(競技者一覧!$Q$13:$Q$112,A137)","v":0},{"$f":"COUNTIF(競技者一覧!$S$13:$S$112,A137)","v":0},{"$f":"COUNTIF(競技者一覧!$U$13:$U$112,A137)","v":0},0]
["2日目 中学男子 １５００ｍ",{"$f":"COUNTIF(競技者一覧!$G$13:$G$112,A138)","v":0},{"$f":"COUNTIF(競技者一覧!$I$13:$I$112,A138)","v":0},{"$f":"COUNTIF(競技者一覧!$K$13:$K$112,A138)","v":0},{"$f":"COUNTIF(競技者一覧!$M$13:$M$112,A138)","v":0},{"$f":"COUNTIF(競技者一覧!$O$13:$O$112,A138)","v":0},{"$f":"COUNTIF(競技者一覧!$Q$13:$Q$112,A138)","v":0},{"$f":"COUNTIF(競技者一覧!$S$13:$S$112,A138)","v":0},{"$f":"COUNTIF(競技者一覧!$U$13:$U$112,A138)","v":0},0]
["2日目 中学男子 ３０００ｍ",{"$f":"COUNTIF(競技者一覧!$G$13:$G$112,A139)","v":0},{"$f":"COUNTIF(競技者一覧!$I$13:$I$112,A139)","v":0},{"$f":"COUNTIF(競技者一覧!$K$13:$K$112,A139)","v":0},{"$f":"COUNTIF(競技者一覧!$M$13:$M$112,A139)","v":0},{"$f":"COUNTIF(競技者一覧!$O$13:$O$112,A139)","v":0},{"$f":"COUNTIF(競技者一覧!$Q$13:$Q$112,A139)","v":0},{"$f":"COUNTIF(競技者一覧!$S$13:$S$112,A139)","v":0},{"$f":"COUNTIF(競技者一覧!$U$13:$U$112,A139)","v":0},0]
["2日目 中学男子 １００ｍＨ(一般女子)",{"$f":"COUNTIF(競技者一覧!$G$13:$G$112,A140)","v":0},{"$f":"COUNTIF(競技者一覧!$I$13:$I$112,A140)","v":0},{"$f":"COUNTIF(競技者一覧!$K$13:$K$112,A140)","v":0},{"$f":"COUNTIF(競技者一覧!$M$13:$M$112,A140)","v":0},{"$f":"COUNTIF(競技者一覧!$O$13:$O$112,A140)","v":0},{"$f":"COUNTIF(競技者一覧!$Q$13:$Q$112,A140)","v":0},{"$f":"COUNTIF(競技者一覧!$S$13:$S$112,A140)","v":0},{"$f":"COUNTIF(競技者一覧!$U$13:$U$112,A140)","v":0},0]
["2日目 中学男子 １１０ｍJＨ(99.1)",{"$f":"COUNTIF(競技者一覧!$G$13:$G$112,A141)","v":0},{"$f":"COUNTIF(競技者一覧!$I$13:$I$112,A141)","v":0},{"$f":"COUNTIF(競技者一覧!$K$13:$K$112,A141)","v":0},{"$f":"COUNTIF(競技者一覧!$M$13:$M$112,A141)","v":0},{"$f":"COUNTIF(競技者一覧!$O$13:$O$112,A141)","v":0},{"$f":"COUNTIF(競技者一覧!$Q$13:$Q$112,A141)","v":0},{"$f":"COUNTIF(競技者一覧!$S$13:$S$112,A141)","v":0},{"$f":"COUNTIF(競技者一覧!$U$13:$U$112,A141)","v":0},0]
["2日目 中学男子 １１０ｍＭＨ",{"$f":"COUNTIF(競技者一覧!$G$13:$G$112,A142)","v":0},{"$f":"COUNTIF(競技者一覧!$I$13:$I$112,A142)","v":0},{"$f":"COUNTIF(競技者一覧!$K$13:$K$112,A142)","v":0},{"$f":"COUNTIF(競技者一覧!$M$13:$M$112,A142)","v":0},{"$f":"COUNTIF(競技者一覧!$O$13:$O$112,A142)","v":0},{"$f":"COUNTIF(競技者一覧!$Q$13:$Q$112,A142)","v":0},{"$f":"COUNTIF(競技者一覧!$S$13:$S$112,A142)","v":0},{"$f":"COUNTIF(競技者一覧!$U$13:$U$112,A142)","v":0},0]
["2日目 中学男子 棒高跳",{"$f":"COUNTIF(競技者一覧!$G$13:$G$112,A143)","v":0},{"$f":"COUNTIF(競技者一覧!$I$13:$I$112,A143)","v":0},{"$f":"COUNTIF(競技者一覧!$K$13:$K$112,A143)","v":0},{"$f":"COUNTIF(競技者一覧!$M$13:$M$112,A143)","v":0},{"$f":"COUNTIF(競技者一覧!$O$13:$O$112,A143)","v":0},{"$f":"COUNTIF(競技者一覧!$Q$13:$Q$112,A143)","v":0},{"$f":"COUNTIF(競技者一覧!$S$13:$S$112,A143)","v":0},{"$f":"COUNTIF(競技者一覧!$U$13:$U$112,A143)","v":0},0]
["2日目 中学男子 走高跳",{"$f":"COUNTIF(競技者一覧!$G$13:$G$112,A144)","v":0},{"$f":"COUNTIF(競技者一覧!$I$13:$I$112,A144)","v":0},{"$f":"COUNTIF(競技者一覧!$K$13:$K$112,A144)","v":0},{"$f":"COUNTIF(競技者一覧!$M$13:$M$112,A144)","v":0},{"$f":"COUNTIF(競技者一覧!$O$13:$O$112,A144)","v":0},{"$f":"COUNTIF(競技者一覧!$Q$13:$Q$112,A144)","v":0},{"$f":"COUNTIF(競技者一覧!$S$13:$S$112,A144)","v":0},{"$f":"COUNTIF(競技者一覧!$U$13:$U$112,A144)","v":0},0]
["2日目 中学男子 走幅跳",{"$f":"COUNTIF(競技者一覧!$G$13:$G$112,A145)","v":0},{"$f":"COUNTIF(競技者一覧!$I$13:$I$112,A145)","v":0},{"$f":"COUNTIF(競技者一覧!$K$13:$K$112,A145)","v":0},{"$f":"COUNTIF(競技者一覧!$M$13:$M$112,A145)","v":0},{"$f":"COUNTIF(競技者一覧!$O$13:$O$112,A145)","v":0},{"$f":"COUNTIF(競技者一覧!$Q$13:$Q$112,A145)","v":0},{"$f":"COUNTIF(競技者一覧!$S$13:$S$112,A145)","v":0},{"$f":"COUNTIF(競技者一覧!$U$13:$U$112,A145)","v":0},0]
["2日目 中学男子 三段跳",{"$f":"COUNTIF(競技者一覧!$G$13:$G$112,A146)","v":0},{"$f":"COUNTIF(競技者一覧!$I$13:$I$112,A146)","v":0},{"$f":"COUNTIF(競技者一覧!$K$13:$K$112,A146)","v":0},{"$f":"COUNTIF(競技者一覧!$M$13:$M$112,A146)","v":0},{"$f":"COUNTIF(競技者一覧!$O$13:$O$112,A146)","v":0},{"$f":"COUNTIF(競技者一覧!$Q$13:$Q$112,A146)","v":0},{"$f":"COUNTIF(競技者一覧!$S$13:$S$112,A146)","v":0},{"$f":"COUNTIF(競技者一覧!$U$13:$U$112,A146)","v":0},0]
["2日目 中学男子 1年砲丸投(2.7㎏)",{"$f":"COUNTIF(競技者一覧!$G$13:$G$112,A147)","v":0},{"$f":"COUNTIF(競技者一覧!$I$13:$I$112,A147)","v":0},{"$f":"COUNTIF(競技者一覧!$K$13:$K$112,A147)","v":0},{"$f":"COUNTIF(競技者一覧!$M$13:$M$112,A147)","v":0},{"$f":"COUNTIF(競技者一覧!$O$13:$O$112,A147)","v":0},{"$f":"COUNTIF(競技者一覧!$Q$13:$Q$112,A147)","v":0},{"$f":"COUNTIF(競技者一覧!$S$13:$S$112,A147)","v":0},{"$f":"COUNTIF(競技者一覧!$U$13:$U$112,A147)","v":0},0]
["2日目 中学男子 2年砲丸投(4.0㎏)",{"$f":"COUNTIF(競技者一覧!$G$13:$G$112,A148)","v":0},{"$f":"COUNTIF(競技者一覧!$I$13:$I$112,A148)","v":0},{"$f":"COUNTIF(競技者一覧!$K$13:$K$112,A148)","v":0},{"$f":"COUNTIF(競技者一覧!$M$13:$M$112,A148)","v":0},{"$f":"COUNTIF(競技者一覧!$O$13:$O$112,A148)","v":0},{"$f":"COUNTIF(競技者一覧!$Q$13:$Q$112,A148)","v":0},{"$f":"COUNTIF(競技者一覧!$S$13:$S$112,A148)","v":0},{"$f":"COUNTIF(競技者一覧!$U$13:$U$112,A148)","v":0},0]
["2日目 中学男子 砲丸投(5.0㎏)",{"$f":"COUNTIF(競技者一覧!$G$13:$G$112,A149)","v":0},{"$f":"COUNTIF(競技者一覧!$I$13:$I$112,A149)","v":0},{"$f":"COUNTIF(競技者一覧!$K$13:$K$112,A149)","v":0},{"$f":"COUNTIF(競技者一覧!$M$13:$M$112,A149)","v":0},{"$f":"COUNTIF(競技者一覧!$O$13:$O$112,A149)","v":0},{"$f":"COUNTIF(競技者一覧!$Q$13:$Q$112,A149)","v":0},{"$f":"COUNTIF(競技者一覧!$S$13:$S$112,A149)","v":0},{"$f":"COUNTIF(競技者一覧!$U$13:$U$112,A149)","v":0},0]
["2日目 中学男子 1年円盤投(1.0kg)",{"$f":"COUNTIF(競技者一覧!$G$13:$G$112,A150)","v":0},{"$f":"COUNTIF(競技者一覧!$I$13:$I$112,A150)","v":0},{"$f":"COUNTIF(競技者一覧!$K$13:$K$112,A150)","v":0},{"$f":"COUNTIF(競技者一覧!$M$13:$M$112,A150)","v":0},{"$f":"COUNTIF(競技者一覧!$O$13:$O$112,A150)","v":0},{"$f":"COUNTIF(競技者一覧!$Q$13:$Q$112,A150)","v":0},{"$f":"COUNTIF(競技者一覧!$S$13:$S$112,A150)","v":0},{"$f":"COUNTIF(競技者一覧!$U$13:$U$112,A150)","v":0},0]
["2日目 中学男子 円盤投(1.5kg)",{"$f":"COUNTIF(競技者一覧!$G$13:$G$112,A151)","v":0},{"$f":"COUNTIF(競技者一覧!$I$13:$I$112,A151)","v":0},{"$f":"COUNTIF(競技者一覧!$K$13:$K$112,A151)","v":0},{"$f":"COUNTIF(競技者一覧!$M$13:$M$112,A151)","v":0},{"$f":"COUNTIF(競技者一覧!$O$13:$O$112,A151)","v":0},{"$f":"COUNTIF(競技者一覧!$Q$13:$Q$112,A151)","v":0},{"$f":"COUNTIF(競技者一覧!$S$13:$S$112,A151)","v":0},{"$f":"COUNTIF(競技者一覧!$U$13:$U$112,A151)","v":0},0]
["2日目 中学男子 四種競技",{"$f":"COUNTIF(競技者一覧!$G$13:$G$112,A152)","v":0},{"$f":"COUNTIF(競技者一覧!$I$13:$I$112,A152)","v":0},{"$f":"COUNTIF(競技者一覧!$K$13:$K$112,A152)","v":0},{"$f":"COUNTIF(競技者一覧!$M$13:$M$112,A152)","v":0},{"$f":"COUNTIF(競技者一覧!$O$13:$O$112,A152)","v":0},{"$f":"COUNTIF(競技者一覧!$Q$13:$Q$112,A152)","v":0},{"$f":"COUNTIF(競技者一覧!$S$13:$S$112,A152)","v":0},{"$f":"COUNTIF(競技者一覧!$U$13:$U$112,A152)","v":0},0]
["2日目 中学女子 １００ｍ",{"$f":"COUNTIF(競技者一覧!$G$13:$G$112,A153)","v":0},{"$f":"COUNTIF(競技者一覧!$I$13:$I$112,A153)","v":0},{"$f":"COUNTIF(競技者一覧!$K$13:$K$112,A153)","v":0},{"$f":"COUNTIF(競技者一覧!$M$13:$M$112,A153)","v":0},{"$f":"COUNTIF(競技者一覧!$O$13:$O$112,A153)","v":0},{"$f":"COUNTIF(競技者一覧!$Q$13:$Q$112,A153)","v":0},{"$f":"COUNTIF(競技者一覧!$S$13:$S$112,A153)","v":0},{"$f":"COUNTIF(競技者一覧!$U$13:$U$112,A153)","v":0},0]
["2日目 中学女子 ２００ｍ",{"$f":"COUNTIF(競技者一覧!$G$13:$G$112,A154)","v":0},{"$f":"COUNTIF(競技者一覧!$I$13:$I$112,A154)","v":0},{"$f":"COUNTIF(競技者一覧!$K$13:$K$112,A154)","v":0},{"$f":"COUNTIF(競技者一覧!$M$13:$M$112,A154)","v":0},{"$f":"COUNTIF(競技者一覧!$O$13:$O$112,A154)","v":0},{"$f":"COUNTIF(競技者一覧!$Q$13:$Q$112,A154)","v":0},{"$f":"COUNTIF(競技者一覧!$S$13:$S$112,A154)","v":0},{"$f":"COUNTIF(競技者一覧!$U$13:$U$112,A154)","v":0},0]
["2日目 中学女子 ８００ｍ",{"$f":"COUNTIF(競技者一覧!$G$13:$G$112,A155)","v":0},{"$f":"COUNTIF(競技者一覧!$I$13:$I$112,A155)","v":0},{"$f":"COUNTIF(競技者一覧!$K$13:$K$112,A155)","v":0},{"$f":"COUNTIF(競技者一覧!$M$13:$M$112,A155)","v":0},{"$f":"COUNTIF(競技者一覧!$O$13:$O$112,A155)","v":0},{"$f":"COUNTIF(競技者一覧!$Q$13:$Q$112,A155)","v":0},{"$f":"COUNTIF(競技者一覧!$S$13:$S$112,A155)","v":0},{"$f":"COUNTIF(競技者一覧!$U$13:$U$112,A155)","v":0},0]
["2日目 中学女子 １５００ｍ",{"$f":"COUNTIF(競技者一覧!$G$13:$G$112,A156)","v":0},{"$f":"COUNTIF(競技者一覧!$I$13:$I$112,A156)","v":0},{"$f":"COUNTIF(競技者一覧!$K$13:$K$112,A156)","v":0},{"$f":"COUNTIF(競技者一覧!$M$13:$M$112,A156)","v":0},{"$f":"COUNTIF(競技者一覧!$O$13:$O$112,A156)","v":0},{"$f":"COUNTIF(競技者一覧!$Q$13:$Q$112,A156)","v":0},{"$f":"COUNTIF(競技者一覧!$S$13:$S$112,A156)","v":0},{"$f":"COUNTIF(競技者一覧!$U$13:$U$112,A156)","v":0},0]
["2日目 中学女子 １００ｍＨ",{"$f":"COUNTIF(競技者一覧!$G$13:$G$112,A157)","v":0},{"$f":"COUNTIF(競技者一覧!$I$13:$I$112,A157)","v":0},{"$f":"COUNTIF(競技者一覧!$K$13:$K$112,A157)","v":0},{"$f":"COUNTIF(競技者一覧!$M$13:$M$112,A157)","v":0},{"$f":"COUNTIF(競技者一覧!$O$13:$O$112,A157)","v":0},{"$f":"COUNTIF(競技者一覧!$Q$13:$Q$112,A157)","v":0},{"$f":"COUNTIF(競技者一覧!$S$13:$S$112,A157)","v":0},{"$f":"COUNTIF(競技者一覧!$U$13:$U$112,A157)","v":0},0]
["2日目 中学女子 １００ｍＹＨ",{"$f":"COUNTIF(競技者一覧!$G$13:$G$112,A158)","v":0},{"$f":"COUNTIF(競技者一覧!$I$13:$I$112,A158)","v":0},{"$f":"COUNTIF(競技者一覧!$K$13:$K$112,A158)","v":0},{"$f":"COUNTIF(競技者一覧!$M$13:$M$112,A158)","v":0},{"$f":"COUNTIF(競技者一覧!$O$13:$O$112,A158)","v":0},{"$f":"COUNTIF(競技者一覧!$Q$13:$Q$112,A158)","v":0},{"$f":"COUNTIF(競技者一覧!$S$13:$S$112,A158)","v":0},{"$f":"COUNTIF(競技者一覧!$U$13:$U$112,A158)","v":0},0]
["2日目 中学女子 棒高跳",{"$f":"COUNTIF(競技者一覧!$G$13:$G$112,A159)","v":0},{"$f":"COUNTIF(競技者一覧!$I$13:$I$112,A159)","v":0},{"$f":"COUNTIF(競技者一覧!$K$13:$K$112,A159)","v":0},{"$f":"COUNTIF(競技者一覧!$M$13:$M$112,A159)","v":0},{"$f":"COUNTIF(競技者一覧!$O$13:$O$112,A159)","v":0},{"$f":"COUNTIF(競技者一覧!$Q$13:$Q$112,A159)","v":0},{"$f":"COUNTIF(競技者一覧!$S$13:$S$112,A159)","v":0},{"$f":"COUNTIF(競技者一覧!$U$13:$U$112,A159)","v":0},0]
["2日目 中学女子 走高跳",{"$f":"COUNTIF(競技者一覧!$G$13:$G$112,A160)","v":0},{"$f":"COUNTIF(競技者一覧!$I$13:$I$112,A160)","v":0},{"$f":"COUNTIF(競技者一覧!$K$13:$K$112,A160)","v":0},{"$f":"COUNTIF(競技者一覧!$M$13:$M$112,A160)","v":0},{"$f":"COUNTIF(競技者一覧!$O$13:$O$112,A160)","v":0},{"$f":"COUNTIF(競技者一覧!$Q$13:$Q$112,A160)","v":0},{"$f":"COUNTIF(競技者一覧!$S$13:$S$112,A160)","v":0},{"$f":"COUNTIF(競技者一覧!$U$13:$U$112,A160)","v":0},0]
["2日目 中学女子 走幅跳",{"$f":"COUNTIF(競技者一覧!$G$13:$G$112,A161)","v":0},{"$f":"COUNTIF(競技者一覧!$I$13:$I$112,A161)","v":0},{"$f":"COUNTIF(競技者一覧!$K$13:$K$112,A161)","v":0},{"$f":"COUNTIF(競技者一覧!$M$13:$M$112,A161)","v":0},{"$f":"COUNTIF(競技者一覧!$O$13:$O$112,A161)","v":0},{"$f":"COUNTIF(競技者一覧!$Q$13:$Q$112,A161)","v":0},{"$f":"COUNTIF(競技者一覧!$S$13:$S$112,A161)","v":0},{"$f":"COUNTIF(競技者一覧!$U$13:$U$112,A161)","v":0},0]
["2日目 中学女子 三段跳",{"$f":"COUNTIF(競技者一覧!$G$13:$G$112,A162)","v":0},{"$f":"COUNTIF(競技者一覧!$I$13:$I$112,A162)","v":0},{"$f":"COUNTIF(競技者一覧!$K$13:$K$112,A162)","v":0},{"$f":"COUNTIF(競技者一覧!$M$13:$M$112,A162)","v":0},{"$f":"COUNTIF(競技者一覧!$O$13:$O$112,A162)","v":0},{"$f":"COUNTIF(競技者一覧!$Q$13:$Q$112,A162)","v":0},{"$f":"COUNTIF(競技者一覧!$S$13:$S$112,A162)","v":0},{"$f":"COUNTIF(競技者一覧!$U$13:$U$112,A162)","v":0},0]
["2日目 中学女子 砲丸投(2.7㎏)",{"$f":"COUNTIF(競技者一覧!$G$13:$G$112,A163)","v":0},{"$f":"COUNTIF(競技者一覧!$I$13:$I$112,A163)","v":0},{"$f":"COUNTIF(競技者一覧!$K$13:$K$112,A163)","v":0},{"$f":"COUNTIF(競技者一覧!$M$13:$M$112,A163)","v":0},{"$f":"COUNTIF(競技者一覧!$O$13:$O$112,A163)","v":0},{"$f":"COUNTIF(競技者一覧!$Q$13:$Q$112,A163)","v":0},{"$f":"COUNTIF(競技者一覧!$S$13:$S$112,A163)","v":0},{"$f":"COUNTIF(競技者一覧!$U$13:$U$112,A163)","v":0},0]
["2日目 中学女子 円盤投",{"$f":"COUNTIF(競技者一覧!$G$13:$G$112,A164)","v":0},{"$f":"COUNTIF(競技者一覧!$I$13:$I$112,A164)","v":0},{"$f":"COUNTIF(競技者一覧!$K$13:$K$112,A164)","v":0},{"$f":"COUNTIF(競技者一覧!$M$13:$M$112,A164)","v":0},{"$f":"COUNTIF(競技者一覧!$O$13:$O$112,A164)","v":0},{"$f":"COUNTIF(競技者一覧!$Q$13:$Q$112,A164)","v":0},{"$f":"COUNTIF(競技者一覧!$S$13:$S$112,A164)","v":0},{"$f":"COUNTIF(競技者一覧!$U$13:$U$112,A164)","v":0},0]
["2日目 中学女子 四種競技",{"$f":"COUNTIF(競技者一覧!$G$13:$G$112,A165)","v":0},{"$f":"COUNTIF(競技者一覧!$I$13:$I$112,A165)","v":0},{"$f":"COUNTIF(競技者一覧!$K$13:$K$112,A165)","v":0},{"$f":"COUNTIF(競技者一覧!$M$13:$M$112,A165)","v":0},{"$f":"COUNTIF(競技者一覧!$O$13:$O$112,A165)","v":0},{"$f":"COUNTIF(競技者一覧!$Q$13:$Q$112,A165)","v":0},{"$f":"COUNTIF(競技者一覧!$S$13:$S$112,A165)","v":0},{"$f":"COUNTIF(競技者一覧!$U$13:$U$112,A165)","v":0},0]
["2日目 一般・高校男子 １００ｍ",{"$f":"COUNTIF(競技者一覧!$G$13:$G$112,A166)","v":0},{"$f":"COUNTIF(競技者一覧!$I$13:$I$112,A166)","v":0},{"$f":"COUNTIF(競技者一覧!$K$13:$K$112,A166)","v":0},{"$f":"COUNTIF(競技者一覧!$M$13:$M$112,A166)","v":0},{"$f":"COUNTIF(競技者一覧!$O$13:$O$112,A166)","v":0},{"$f":"COUNTIF(競技者一覧!$Q$13:$Q$112,A166)","v":0},{"$f":"COUNTIF(競技者一覧!$S$13:$S$112,A166)","v":0},{"$f":"COUNTIF(競技者一覧!$U$13:$U$112,A166)","v":0},0]
["2日目 一般・高校男子 ２００ｍ",{"$f":"COUNTIF(競技者一覧!$G$13:$G$112,A167)","v":0},{"$f":"COUNTIF(競技者一覧!$I$13:$I$112,A167)","v":0},{"$f":"COUNTIF(競技者一覧!$K$13:$K$112,A167)","v":0},{"$f":"COUNTIF(競技者一覧!$M$13:$M$112,A167)","v":0},{"$f":"COUNTIF(競技者一覧!$O$13:$O$112,A167)","v":0},{"$f":"COUNTIF(競技者一覧!$Q$13:$Q$112,A167)","v":0},{"$f":"COUNTIF(競技者一覧!$S$13:$S$112,A167)","v":0},{"$f":"COUNTIF(競技者一覧!$U$13:$U$112,A167)","v":0},0]
["2日目 一般・高校男子 ４００ｍ",{"$f":"COUNTIF(競技者一覧!$G$13:$G$112,A168)","v":0},{"$f":"COUNTIF(競技者一覧!$I$13:$I$112,A168)","v":0},{"$f":"COUNTIF(競技者一覧!$K$13:$K$112,A168)","v":0},{"$f":"COUNTIF(競技者一覧!$M$13:$M$112,A168)","v":0},{"$f":"COUNTIF(競技者一覧!$O$13:$O$112,A168)","v":0},{"$f":"COUNTIF(競技者一覧!$Q$13:$Q$112,A168)","v":0},{"$f":"COUNTIF(競技者一覧!$S$13:$S$112,A168)","v":0},{"$f":"COUNTIF(競技者一覧!$U$13:$U$112,A168)","v":0},0]
["2日目 一般・高校男子 ８００ｍ",{"$f":"COUNTIF(競技者一覧!$G$13:$G$112,A169)","v":0},{"$f":"COUNTIF(競技者一覧!$I$13:$I$112,A169)","v":0},{"$f":"COUNTIF(競技者一覧!$K$13:$K$112,A169)","v":0},{"$f":"COUNTIF(競技者一覧!$M$13:$M$112,A169)","v":0},{"$f":"COUNTIF(競技者一覧!$O$13:$O$112,A169)","v":0},{"$f":"COUNTIF(競技者一覧!$Q$13:$Q$112,A169)","v":0},{"$f":"COUNTIF(競技者一覧!$S$13:$S$112,A169)","v":0},{"$f":"COUNTIF(競技者一覧!$U$13:$U$112,A169)","v":0},0]
["2日目 一般・高校男子 １５００ｍ",{"$f":"COUNTIF(競技者一覧!$G$13:$G$112,A170)","v":0},{"$f":"COUNTIF(競技者一覧!$I$13:$I$112,A170)","v":0},{"$f":"COUNTIF(競技者一覧!$K$13:$K$112,A170)","v":0},{"$f":"COUNTIF(競技者一覧!$M$13:$M$112,A170)","v":0},{"$f":"COUNTIF(競技者一覧!$O$13:$O$112,A170)","v":0},{"$f":"COUNTIF(競技者一覧!$Q$13:$Q$112,A170)","v":0},{"$f":"COUNTIF(競技者一覧!$S$13:$S$112,A170)","v":0},{"$f":"COUNTIF(競技者一覧!$U$13:$U$112,A170)","v":0},0]
["2日目 一般・高校男子 ３０００ｍ",{"$f":"COUNTIF(競技者一覧!$G$13:$G$112,A171)","v":0},{"$f":"COUNTIF(競技者一覧!$I$13:$I$112,A171)","v":0},{"$f":"COUNTIF(競技者一覧!$K$13:$K$112,A171)","v":0},{"$f":"COUNTIF(競技者一覧!$M$13:$M$112,A171)","v":0},{"$f":"COUNTIF(競技者一覧!$O$13:$O$112,A171)","v":0},{"$f":"COUNTIF(競技者一覧!$Q$13:$Q$112,A171)","v":0},{"$f":"COUNTIF(競技者一覧!$S$13:$S$112,A171)","v":0},{"$f":"COUNTIF(競技者一覧!$U$13:$U$112,A171)","v":0},0]
["2日目 一般・高校男子 １１０ｍＨＨ(106.3)",{"$f":"COUNTIF(競技者一覧!$G$13:$G$112,A172)","v":0},{"$f":"COUNTIF(競技者一覧!$I$13:$I$112,A172)","v":0},{"$f":"COUNTIF(競技者一覧!$K$13:$K$112,A172)","v":0},{"$f":"COUNTIF(競技者一覧!$M$13:$M$112,A172)","v":0},{"$f":"COUNTIF(競技者一覧!$O$13:$O$112,A172)","v":0},{"$f":"COUNTIF(競技者一覧!$Q$13:$Q$112,A172)","v":0},{"$f":"COUNTIF(競技者一覧!$S$13:$S$112,A172)","v":0},{"$f":"COUNTIF(競技者一覧!$U$13:$U$112,A172)","v":0},0]
["2日目 一般・高校男子 １１０ｍJＨ(99.1)",{"$f":"COUNTIF(競技者一覧!$G$13:$G$112,A173)","v":0},{"$f":"COUNTIF(競技者一覧!$I$13:$I$112,A173)","v":0},{"$f":"COUNTIF(競技者一覧!$K$13:$K$112,A173)","v":0},{"$f":"COUNTIF(競技者一覧!$M$13:$M$112,A173)","v":0},{"$f":"COUNTIF(競技者一覧!$O$13:$O$112,A173)","v":0},{"$f":"COUNTIF(競技者一覧!$Q$13:$Q$112,A173)","v":0},{"$f":"COUNTIF(競技者一覧!$S$13:$S$112,A173)","v":0},{"$f":"COUNTIF(競技者一覧!$U$13:$U$112,A173)","v":0},0]
["2日目 一般・高校男子 ４００ｍＨ",{"$f":"COUNTIF(競技者一覧!$G$13:$G$112,A174)","v":0},{"$f":"COUNTIF(競技者一覧!$I$13:$I$112,A174)","v":0},{"$f":"COUNTIF(競技者一覧!$K$13:$K$112,A174)","v":0},{"$f":"COUNTIF(競技者一覧!$M$13:$M$112,A174)","v":0},{"$f":"COUNTIF(競技者一覧!$O$13:$O$112,A174)","v":0},{"$f":"COUNTIF(競技者一覧!$Q$13:$Q$112,A174)","v":0},{"$f":"COUNTIF(競技者一覧!$S$13:$S$112,A174)","v":0},{"$f":"COUNTIF(競技者一覧!$U$13:$U$112,A174)","v":0},0]
["2日目 一般・高校男子 棒高跳",{"$f":"COUNTIF(競技者一覧!$G$13:$G$112,A175)","v":0},{"$f":"COUNTIF(競技者一覧!$I$13:$I$112,A175)","v":0},{"$f":"COUNTIF(競技者一覧!$K$13:$K$112,A175)","v":0},{"$f":"COUNTIF(競技者一覧!$M$13:$M$112,A175)","v":0},{"$f":"COUNTIF(競技者一覧!$O$13:$O$112,A175)","v":0},{"$f":"COUNTIF(競技者一覧!$Q$13:$Q$112,A175)","v":0},{"$f":"COUNTIF(競技者一覧!$S$13:$S$112,A175)","v":0},{"$f":"COUNTIF(競技者一覧!$U$13:$U$112,A175)","v":0},0]
["2日目 一般・高校男子 走高跳",{"$f":"COUNTIF(競技者一覧!$G$13:$G$112,A176)","v":0},{"$f":"COUNTIF(競技者一覧!$I$13:$I$112,A176)","v":0},{"$f":"COUNTIF(競技者一覧!$K$13:$K$112,A176)","v":0},{"$f":"COUNTIF(競技者一覧!$M$13:$M$112,A176)","v":0},{"$f":"COUNTIF(競技者一覧!$O$13:$O$112,A176)","v":0},{"$f":"COUNTIF(競技者一覧!$Q$13:$Q$112,A176)","v":0},{"$f":"COUNTIF(競技者一覧!$S$13:$S$112,A176)","v":0},{"$f":"COUNTIF(競技者一覧!$U$13:$U$112,A176)","v":0},0]
["2日目 一般・高校男子 走幅跳",{"$f":"COUNTIF(競技者一覧!$G$13:$G$112,A177)","v":0},{"$f":"COUNTIF(競技者一覧!$I$13:$I$112,A177)","v":0},{"$f":"COUNTIF(競技者一覧!$K$13:$K$112,A177)","v":0},{"$f":"COUNTIF(競技者一覧!$M$13:$M$112,A177)","v":0},{"$f":"COUNTIF(競技者一覧!$O$13:$O$112,A177)","v":0},{"$f":"COUNTIF(競技者一覧!$Q$13:$Q$112,A177)","v":0},{"$f":"COUNTIF(競技者一覧!$S$13:$S$112,A177)","v":0},{"$f":"COUNTIF(競技者一覧!$U$13:$U$112,A177)","v":0},0]
["2日目 一般・高校男子 三段跳",{"$f":"COUNTIF(競技者一覧!$G$13:$G$112,A178)","v":0},{"$f":"COUNTIF(競技者一覧!$I$13:$I$112,A178)","v":0},{"$f":"COUNTIF(競技者一覧!$K$13:$K$112,A178)","v":0},{"$f":"COUNTIF(競技者一覧!$M$13:$M$112,A178)","v":0},{"$f":"COUNTIF(競技者一覧!$O$13:$O$112,A178)","v":0},{"$f":"COUNTIF(競技者一覧!$Q$13:$Q$112,A178)","v":0},{"$f":"COUNTIF(競技者一覧!$S$13:$S$112,A178)","v":0},{"$f":"COUNTIF(競技者一覧!$U$13:$U$112,A178)","v":0},0]
["2日目 一般・高校男子 砲丸投(6.0Kg)",{"$f":"COUNTIF(競技者一覧!$G$13:$G$112,A179)","v":0},{"$f":"COUNTIF(競技者一覧!$I$13:$I$112,A179)","v":0},{"$f":"COUNTIF(競技者一覧!$K$13:$K$112,A179)","v":0},{"$f":"COUNTIF(競技者一覧!$M$13:$M$112,A179)","v":0},{"$f":"COUNTIF(競技者一覧!$O$13:$O$112,A179)","v":0},{"$f":"COUNTIF(競技者一覧!$Q$13:$Q$112,A179)","v":0},{"$f":"COUNTIF(競技者一覧!$S$13:$S$112,A179)","v":0},{"$f":"COUNTIF(競技者一覧!$U$13:$U$112,A179)","v":0},0]
["2日目 一般・高校男子 砲丸投(7.25Kg)",{"$f":"COUNTIF(競技者一覧!$G$13:$G$112,A180)","v":0},{"$f":"COUNTIF(競技者一覧!$I$13:$I$112,A180)","v":0},{"$f":"COUNTIF(競技者一覧!$K$13:$K$112,A180)","v":0},{"$f":"COUNTIF(競技者一覧!$M$13:$M$112,A180)","v":0},{"$f":"COUNTIF(競技者一覧!$O$13:$O$112,A180)","v":0},{"$f":"COUNTIF(競技者一覧!$Q$13:$Q$112,A180)","v":0},{"$f":"COUNTIF(競技者一覧!$S$13:$S$112,A180)","v":0},{"$f":"COUNTIF(競技者一覧!$U$13:$U$112,A180)","v":0},0]
["2日目 一般・高校男子 円盤投(1.75kg)",{"$f":"COUNTIF(競技者一覧!$G$13:$G$112,A181)","v":0},{"$f":"COUNTIF(競技者一覧!$I$13:$I$112,A181)","v":0},{"$f":"COUNTIF(競技者一覧!$K$13:$K$112,A181)","v":0},{"$f":"COUNTIF(競技者一覧!$M$13:$M$112,A181)","v":0},{"$f":"COUNTIF(競技者一覧!$O$13:$O$112,A181)","v":0},{"$f":"COUNTIF(競技者一覧!$Q$13:$Q$112,A181)","v":0},{"$f":"COUNTIF(競技者一覧!$S$13:$S$112,A181)","v":0},{"$f":"COUNTIF(競技者一覧!$U$13:$U$112,A181)","v":0},0]
["2日目 一般・高校男子 円盤投(2.0kg)",{"$f":"COUNTIF(競技者一覧!$G$13:$G$112,A182)","v":0},{"$f":"COUNTIF(競技者一覧!$I$13:$I$112,A182)","v":0},{"$f":"COUNTIF(競技者一覧!$K$13:$K$112,A182)","v":0},{"$f":"COUNTIF(競技者一覧!$M$13:$M$112,A182)","v":0},{"$f":"COUNTIF(競技者一覧!$O$13:$O$112,A182)","v":0},{"$f":"COUNTIF(競技者一覧!$Q$13:$Q$112,A182)","v":0},{"$f":"COUNTIF(競技者一覧!$S$13:$S$112,A182)","v":0},{"$f":"COUNTIF(競技者一覧!$U$13:$U$112,A182)","v":0},0]
["2日目 一般・高校男子 やり投",{"$f":"COUNTIF(競技者一覧!$G$13:$G$112,A183)","v":0},{"$f":"COUNTIF(競技者一覧!$I$13:$I$112,A183)","v":0},{"$f":"COUNTIF(競技者一覧!$K$13:$K$112,A183)","v":0},{"$f":"COUNTIF(競技者一覧!$M$13:$M$112,A183)","v":0},{"$f":"COUNTIF(競技者一覧!$O$13:$O$112,A183)","v":0},{"$f":"COUNTIF(競技者一覧!$Q$13:$Q$112,A183)","v":0},{"$f":"COUNTIF(競技者一覧!$S$13:$S$112,A183)","v":0},{"$f":"COUNTIF(競技者一覧!$U$13:$U$112,A183)","v":0},0]
["2日目 一般・高校女子 １００ｍ",{"$f":"COUNTIF(競技者一覧!$G$13:$G$112,A184)","v":0},{"$f":"COUNTIF(競技者一覧!$I$13:$I$112,A184)","v":0},{"$f":"COUNTIF(競技者一覧!$K$13:$K$112,A184)","v":0},{"$f":"COUNTIF(競技者一覧!$M$13:$M$112,A184)","v":0},{"$f":"COUNTIF(競技者一覧!$O$13:$O$112,A184)","v":0},{"$f":"COUNTIF(競技者一覧!$Q$13:$Q$112,A184)","v":0},{"$f":"COUNTIF(競技者一覧!$S$13:$S$112,A184)","v":0},{"$f":"COUNTIF(競技者一覧!$U$13:$U$112,A184)","v":0},0]
["2日目 一般・高校女子 ２００ｍ",{"$f":"COUNTIF(競技者一覧!$G$13:$G$112,A185)","v":0},{"$f":"COUNTIF(競技者一覧!$I$13:$I$112,A185)","v":0},{"$f":"COUNTIF(競技者一覧!$K$13:$K$112,A185)","v":0},{"$f":"COUNTIF(競技者一覧!$M$13:$M$112,A185)","v":0},{"$f":"COUNTIF(競技者一覧!$O$13:$O$112,A185)","v":0},{"$f":"COUNTIF(競技者一覧!$Q$13:$Q$112,A185)","v":0},{"$f":"COUNTIF(競技者一覧!$S$13:$S$112,A185)","v":0},{"$f":"COUNTIF(競技者一覧!$U$13:$U$112,A185)","v":0},0]
["2日目 一般・高校女子 ４００ｍ",{"$f":"COUNTIF(競技者一覧!$G$13:$G$112,A186)","v":0},{"$f":"COUNTIF(競技者一覧!$I$13:$I$112,A186)","v":0},{"$f":"COUNTIF(競技者一覧!$K$13:$K$112,A186)","v":0},{"$f":"COUNTIF(競技者一覧!$M$13:$M$112,A186)","v":0},{"$f":"COUNTIF(競技者一覧!$O$13:$O$112,A186)","v":0},{"$f":"COUNTIF(競技者一覧!$Q$13:$Q$112,A186)","v":0},{"$f":"COUNTIF(競技者一覧!$S$13:$S$112,A186)","v":0},{"$f":"COUNTIF(競技者一覧!$U$13:$U$112,A186)","v":0},0]
["2日目 一般・高校女子 ８００ｍ",{"$f":"COUNTIF(競技者一覧!$G$13:$G$112,A187)","v":0},{"$f":"COUNTIF(競技者一覧!$I$13:$I$112,A187)","v":0},{"$f":"COUNTIF(競技者一覧!$K$13:$K$112,A187)","v":0},{"$f":"COUNTIF(競技者一覧!$M$13:$M$112,A187)","v":0},{"$f":"COUNTIF(競技者一覧!$O$13:$O$112,A187)","v":0},{"$f":"COUNTIF(競技者一覧!$Q$13:$Q$112,A187)","v":0},{"$f":"COUNTIF(競技者一覧!$S$13:$S$112,A187)","v":0},{"$f":"COUNTIF(競技者一覧!$U$13:$U$112,A187)","v":0},0]
["2日目 一般・高校女子 １５００ｍ",{"$f":"COUNTIF(競技者一覧!$G$13:$G$112,A188)","v":0},{"$f":"COUNTIF(競技者一覧!$I$13:$I$112,A188)","v":0},{"$f":"COUNTIF(競技者一覧!$K$13:$K$112,A188)","v":0},{"$f":"COUNTIF(競技者一覧!$M$13:$M$112,A188)","v":0},{"$f":"COUNTIF(競技者一覧!$O$13:$O$112,A188)","v":0},{"$f":"COUNTIF(競技者一覧!$Q$13:$Q$112,A188)","v":0},{"$f":"COUNTIF(競技者一覧!$S$13:$S$112,A188)","v":0},{"$f":"COUNTIF(競技者一覧!$U$13:$U$112,A188)","v":0},0]
["2日目 一般・高校女子 ３０００ｍ",{"$f":"COUNTIF(競技者一覧!$G$13:$G$112,A189)","v":0},{"$f":"COUNTIF(競技者一覧!$I$13:$I$112,A189)","v":0},{"$f":"COUNTIF(競技者一覧!$K$13:$K$112,A189)","v":0},{"$f":"COUNTIF(競技者一覧!$M$13:$M$112,A189)","v":0},{"$f":"COUNTIF(競技者一覧!$O$13:$O$112,A189)","v":0},{"$f":"COUNTIF(競技者一覧!$Q$13:$Q$112,A189)","v":0},{"$f":"COUNTIF(競技者一覧!$S$13:$S$112,A189)","v":0},{"$f":"COUNTIF(競技者一覧!$U$13:$U$112,A189)","v":0},0]
["2日目 一般・高校女子 １００ｍＨ（一般）",{"$f":"COUNTIF(競技者一覧!$G$13:$G$112,A190)","v":0},{"$f":"COUNTIF(競技者一覧!$I$13:$I$112,A190)","v":0},{"$f":"COUNTIF(競技者一覧!$K$13:$K$112,A190)","v":0},{"$f":"COUNTIF(競技者一覧!$M$13:$M$112,A190)","v":0},{"$f":"COUNTIF(競技者一覧!$O$13:$O$112,A190)","v":0},{"$f":"COUNTIF(競技者一覧!$Q$13:$Q$112,A190)","v":0},{"$f":"COUNTIF(競技者一覧!$S$13:$S$112,A190)","v":0},{"$f":"COUNTIF(競技者一覧!$U$13:$U$112,A190)","v":0},0]
["2日目 一般・高校女子 ４００ｍＨ",{"$f":"COUNTIF(競技者一覧!$G$13:$G$112,A191)","v":0},{"$f":"COUNTIF(競技者一覧!$I$13:$I$112,A191)","v":0},{"$f":"COUNTIF(競技者一覧!$K$13:$K$112,A191)","v":0},{"$f":"COUNTIF(競技者一覧!$M$13:$M$112,A191)","v":0},{"$f":"COUNTIF(競技者一覧!$O$13:$O$112,A191)","v":0},{"$f":"COUNTIF(競技者一覧!$Q$13:$Q$112,A191)","v":0},{"$f":"COUNTIF(競技者一覧!$S$13:$S$112,A191)","v":0},{"$f":"COUNTIF(競技者一覧!$U$13:$U$112,A191)","v":0},0]
["2日目 一般・高校女子 棒高跳",{"$f":"COUNTIF(競技者一覧!$G$13:$G$112,A192)","v":0},{"$f":"COUNTIF(競技者一覧!$I$13:$I$112,A192)","v":0},{"$f":"COUNTIF(競技者一覧!$K$13:$K$112,A192)","v":0},{"$f":"COUNTIF(競技者一覧!$M$13:$M$112,A192)","v":0},{"$f":"COUNTIF(競技者一覧!$O$13:$O$112,A192)","v":0},{"$f":"COUNTIF(競技者一覧!$Q$13:$Q$112,A192)","v":0},{"$f":"COUNTIF(競技者一覧!$S$13:$S$112,A192)","v":0},{"$f":"COUNTIF(競技者一覧!$U$13:$U$112,A192)","v":0},0]
["2日目 一般・高校女子 走高跳",{"$f":"COUNTIF(競技者一覧!$G$13:$G$112,A193)","v":0},{"$f":"COUNTIF(競技者一覧!$I$13:$I$112,A193)","v":0},{"$f":"COUNTIF(競技者一覧!$K$13:$K$112,A193)","v":0},{"$f":"COUNTIF(競技者一覧!$M$13:$M$112,A193)","v":0},{"$f":"COUNTIF(競技者一覧!$O$13:$O$112,A193)","v":0},{"$f":"COUNTIF(競技者一覧!$Q$13:$Q$112,A193)","v":0},{"$f":"COUNTIF(競技者一覧!$S$13:$S$112,A193)","v":0},{"$f":"COUNTIF(競技者一覧!$U$13:$U$112,A193)","v":0},0]
["2日目 一般・高校女子 走幅跳",{"$f":"COUNTIF(競技者一覧!$G$13:$G$112,A194)","v":0},{"$f":"COUNTIF(競技者一覧!$I$13:$I$112,A194)","v":0},{"$f":"COUNTIF(競技者一覧!$K$13:$K$112,A194)","v":0},{"$f":"COUNTIF(競技者一覧!$M$13:$M$112,A194)","v":0},{"$f":"COUNTIF(競技者一覧!$O$13:$O$112,A194)","v":0},{"$f":"COUNTIF(競技者一覧!$Q$13:$Q$112,A194)","v":0},{"$f":"COUNTIF(競技者一覧!$S$13:$S$112,A194)","v":0},{"$f":"COUNTIF(競技者一覧!$U$13:$U$112,A194)","v":0},0]
["2日目 一般・高校女子 三段跳",{"$f":"COUNTIF(競技者一覧!$G$13:$G$112,A195)","v":0},{"$f":"COUNTIF(競技者一覧!$I$13:$I$112,A195)","v":0},{"$f":"COUNTIF(競技者一覧!$K$13:$K$112,A195)","v":0},{"$f":"COUNTIF(競技者一覧!$M$13:$M$112,A195)","v":0},{"$f":"COUNTIF(競技者一覧!$O$13:$O$112,A195)","v":0},{"$f":"COUNTIF(競技者一覧!$Q$13:$Q$112,A195)","v":0},{"$f":"COUNTIF(競技者一覧!$S$13:$S$112,A195)","v":0},{"$f":"COUNTIF(競技者一覧!$U$13:$U$112,A195)","v":0},{"$f":"SUM(B195:I195)","v":0}]
["2日目 一般・高校女子 砲丸投(4.0㎏)",{"$f":"COUNTIF(競技者一覧!$G$13:$G$112,A196)","v":0},{"$f":"COUNTIF(競技者一覧!$I$13:$I$112,A196)","v":0},{"$f":"COUNTIF(競技者一覧!$K$13:$K$112,A196)","v":0},{"$f":"COUNTIF(競技者一覧!$M$13:$M$112,A196)","v":0},{"$f":"COUNTIF(競技者一覧!$O$13:$O$112,A196)","v":0},{"$f":"COUNTIF(競技者一覧!$Q$13:$Q$112,A196)","v":0},{"$f":"COUNTIF(競技者一覧!$S$13:$S$112,A196)","v":0},{"$f":"COUNTIF(競技者一覧!$U$13:$U$112,A196)","v":0},{"$f":"SUM(B196:I196)","v":0}]
["2日目 一般・高校女子 円盤投(1.0㎏)",{"$f":"COUNTIF(競技者一覧!$G$13:$G$112,A197)","v":0},{"$f":"COUNTIF(競技者一覧!$I$13:$I$112,A197)","v":0},{"$f":"COUNTIF(競技者一覧!$K$13:$K$112,A197)","v":0},{"$f":"COUNTIF(競技者一覧!$M$13:$M$112,A197)","v":0},{"$f":"COUNTIF(競技者一覧!$O$13:$O$112,A197)","v":0},{"$f":"COUNTIF(競技者一覧!$Q$13:$Q$112,A197)","v":0},{"$f":"COUNTIF(競技者一覧!$S$13:$S$112,A197)","v":0},{"$f":"COUNTIF(競技者一覧!$U$13:$U$112,A197)","v":0},{"$f":"SUM(B197:I197)","v":0}]
["2日目 一般・高校女子 やり投",{"$f":"COUNTIF(競技者一覧!$G$13:$G$112,A198)","v":0},{"$f":"COUNTIF(競技者一覧!$I$13:$I$112,A198)","v":0},{"$f":"COUNTIF(競技者一覧!$K$13:$K$112,A198)","v":0},{"$f":"COUNTIF(競技者一覧!$M$13:$M$112,A198)","v":0},{"$f":"COUNTIF(競技者一覧!$O$13:$O$112,A198)","v":0},{"$f":"COUNTIF(競技者一覧!$Q$13:$Q$112,A198)","v":0},{"$f":"COUNTIF(競技者一覧!$S$13:$S$112,A198)","v":0},{"$f":"COUNTIF(競技者一覧!$U$13:$U$112,A198)","v":0},{"$f":"SUM(B198:I198)","v":0}]

{"sheet":"参加費集計シート","index":5,"n_rows":38,"n_cols":9,"rows_kept":38,"cut":false,"hidden":false,"merged":[[0,1,0,9],[1,2,1,4],[1,6,1,7],[2,1,2,7],[3,2,3,3],[3,4,3,5],[4,2,4,3],[4,4,4,5],[5,2,5,3],[5,4,5,5],[6,2,6,3],[6,4,6,5],[7,2,7,3],[7,4,7,5],[8,2,8,3],[8,4,8,5],[9,2,9,3],[9,4,9,5],[10,2,10,3],[10,4,10,5],[11,2,11,3],[11,4,11,5],[15,0,15,8],[16,9,22,9]]}
[null,"参加費集計シート"]
[null,"団体名",{"$f":"CONCATENATE(競技者一覧!C7)","v":""},null,null,null,"都道府県",null,{"$f":"CONCATENATE(競技者一覧!C6)","v":""}]
[null,"※下記表を見て該当する欄に種目数を入れて下さい"]
[null,null,"種目数",null,"参加費",null,null,"※２９年度参加実績が２回以下の中学・高校"]
[null,"100円",null,null,{"$f":"100*C5","v":0},null,null,"　１種目５００円、四種１０００円"]
[null,"200円",null,null,{"$f":"200*C6","v":0},null,null,"　県内・県外は問いませんが、役員・補助員を出して頂きます。。"]
[null,"300円",null,null,{"$f":"300*C7","v":0}]
[null,"400円",null,null,{"$f":"400*C8","v":0},null,null,"※大学・一般は奈良陸協登録は５００円、他府県登録は１５００円です。"]
[null,"500円",null,null,{"$f":"500*C9","v":0}]
[null,"1000円",null,null,{"$f":"1000*C10","v":0}]
[null,"1500円",null,null,{"$f":"1500*C11","v":0}]
[null,"合計",{"$f":"SUM(C5:D11)","v":0},null,{"$f":"SUM(E5:F11)","v":0}]
[]
[]
[null,"　　2019年度、参加費の減額を、下記のようにしたいと思います。ご理解お願いします。"]
["奈良市記録会、参加費減額表（中学・高校に限る）"]
[null,"参加回数","１回目","２回目","３回目","４回目","５回目","６回目","７回目"]
[null,"①","100円","100円","100円","100円","100円","100円","100円"]
[null,"②","200円","200円","200円","200円","100円","100円","100円"]
[null,"③","500円","400円","300円","200円","100円","100円","100円"]
[null,"④","200円","200円","200円","200円","200円","200円","200円"]
[null,"⑤","300円","300円","300円","200円","200円","200円","200円"]
[null,"⑥","500円","400円","300円","200円","200円","200円","200円"]
[]
[]
[null,"① 奈良市内の中学、高校及び、市内の中学生によるスポーツクラブ団体で、2018年度、奈良市"]
[null,"　陸協に団体登録をした団体  "]
[null,"②  奈良市内の中学、高校及び、市内の中学生によるスポーツクラブ団体で、2018年度、奈良市"]
[null,"　記録会７回と山田記念の内、３回以上参加した団体"]
[null,"③  奈良市内の中学、高校及で、2018年度、奈良市記録会、山田記念の参加が２回以下の団体"]
[null,"④  奈良市以外の中学、高校で、2018年度、奈良市記録会７回と山田記念の内、５回以上参加した団体"]
[null,"⑤  奈良市以外の中学、高校で、2018年度、奈良市記録会７回と山田記念の内、３回または４回参加"]
[null,"　した団体"]
[null,"⑥…奈良市外の中学、高校で、2018年度、奈良市記録会６回と山田記念の内、参加が２回以下の団体"]
[null,"    ※各団体は、役員１名以上と補助員を出して、参加したと見なす。"]
[null,"    ※主たる指導者が転勤等で新しい団体に移った時、その団体も指導者の減額が適用される。"]
[null,"    　2018年度参加実績を見て下さい。"]
[null,"　　　誤りがある場合は、お知らせ下さい。"]

{"sheet":"種目一覧シート","index":6,"n_rows":64,"n_cols":15,"rows_kept":64,"cut":false,"hidden":true,"merged":[[1,1,1,2],[1,13,1,14],[1,11,1,12],[1,9,1,10],[1,7,1,8],[1,5,1,6],[1,3,1,4]]}
[]
[null,"第1回",null,"第2回",null,"第3回",null,"第4回",null,"第5回",null,"第6回",null,"第7回"]
[null,1,2,1,2,1,2,1,2,1,2,1,2,1,2]
[null,"中学男子 １００ｍ","中学女子 １００ｍ","中学男子 １００ｍ","中学女子 １００ｍ","【1日目】","【1日目】","中学男子 １００ｍ","中学女子 １００ｍ","中学男子 １００ｍ","中学女子 １００ｍ","【1日目】","【1日目】","中学男子 １００ｍ","中学女子 １００ｍ"]
[null,"中学男子 ２００ｍ","中学女子 ２００ｍ","中学男子 ２００ｍ","中学女子 ２００ｍ","1日目 中学男子 １００ｍ","1日目 中学女子 １００ｍ","中学男子 ２００ｍ","中学女子 ２００ｍ","中学男子 ２００ｍ","中学女子 ２００ｍ","中学男子 ２００ｍ","中学女子 ２００ｍ","中学男子 ２００ｍ","中学女子 ２００ｍ"]
[null,"中学男子 ４００ｍ","中学女子 ８００ｍ","中学男子 ４００ｍ","中学女子 ８００ｍ","1日目 中学男子 ２００ｍ","1日目 中学女子 ２００ｍ","中学男子 ４００ｍ","中学女子 ８００ｍ","中学男子 ４００ｍ","中学女子 ８００ｍ","中学男子 ４００ｍ","中学女子 ８００ｍ","中学男子 ４００ｍ","中学女子  ８００ｍ"]
[null,"中学男子 ８００ｍ","中学女子 １５００ｍ","中学男子 ８００ｍ","中学女子 １５００ｍ","1日目 中学男子 ４００ｍ","1日目 中学女子 ８００ｍ","中学男子 ８００ｍ","中学女子 １５００ｍ","中学男子 ８００ｍ","中学女子 １５００ｍ","中学男子 ８００ｍ","中学女子 １５００ｍ","中学男子  ８００ｍ","中学女子 １５００ｍ"]
[null,"中学男子 １５００ｍ","中学女子 １００ｍＨ","中学男子 １５００ｍ","中学女子 １００ｍＨ","1日目 中学男子 ８００ｍ","1日目 中学女子 １５００ｍ","中学男子 １５００ｍ","中学女子 １００ｍＨ","中学男子 １５００ｍ","中学女子 １００ｍＨ","中学男子 １５００ｍ","中学女子 走高跳","中学男子 １５００ｍ","中学女子 １００ｍＨ"]
[null,"中学男子 ３０００ｍ","中学女子 棒高跳","中学男子 ３０００ｍ","中学女子 １００ｍＹＨ","1日目 中学男子 １５００ｍ","1日目 中学女子 １００ｍＨ","中学男子 ３０００ｍ","中学女子 棒高跳","中学男子 ３０００ｍ","中学女子 棒高跳","中学男子 ３０００ｍ","中学女子 走幅跳","中学男子 ３０００ｍ","中学女子 棒高跳"]
[null,"中学男子 １１０ｍＭＨ","中学女子 走高跳","中学男子 １００ｍＨ(一般女子)","中学女子 棒高跳","1日目 中学男子 ３０００ｍ","1日目 中学女子 走高跳","中学男子 １１０ｍＭＨ","中学女子 走高跳","中学男子 １１０ｍＭＨ","中学女子 走高跳","中学男子 走高跳","中学女子 砲丸投(2.7㎏)","中学男子 １１０ｍＭＨ","中学女子 走高跳"]
[null,"中学男子 棒高跳","中学女子 走幅跳","中学男子 １１０ｍJＨ(99.1)","中学女子 走高跳","1日目 中学男子 １１０ｍＭＨ","1日目 中学女子 走幅跳","中学男子 棒高跳","中学女子 走幅跳","中学男子 棒高跳","中学女子 走幅跳","中学男子 走幅跳","中学女子 円盤投","中学男子 棒高跳","中学女子 走幅跳"]
[null,"中学男子 走高跳","中学女子 砲丸投(2.7㎏)","中学男子 １１０ｍＭＨ","中学女子 走幅跳","1日目 中学男子 走高跳","1日目 中学女子 砲丸投(2.7㎏)","中学男子 走高跳","中学女子 砲丸投(2.7㎏)","中学男子 走高跳","中学女子 砲丸投(2.7㎏)","中学男子 三段跳","中学女子 四種競技","中学男子 走高跳","中学女子 砲丸投(2.7㎏)"]
[null,"中学男子 走幅跳","中学女子 円盤投","中学男子 棒高跳","中学女子 砲丸投(2.7㎏)","1日目 中学男子 走幅跳","1日目 中学女子 円盤投","中学男子 走幅跳","中学女子 円盤投","中学男子 走幅跳","中学女子 円盤投","中学男子 砲丸投(5.0㎏)","一般・高校女子 ２００ｍ","中学男子 走幅跳","中学女子 円盤投"]
[null,"中学男子 三段跳","中学女子 四種競技","中学男子 走高跳","中学女子 円盤投","1日目 中学男子 三段跳","1日目 中学女子 四種競技","中学男子 三段跳","中学女子 四種競技","中学男子 三段跳","中学女子 四種競技","中学男子 円盤投(1.5kg)","一般・高校女子 ４００ｍ","中学男子 三段跳","中学女子 四種競技"]
[null,"中学男子 砲丸投(5.0㎏)","一般・高校女子 １００ｍ","中学男子 走幅跳","中学女子 四種競技","1日目 中学男子 砲丸投(5.0㎏)","1日目 一般・高校女子 １００ｍ","中学男子 砲丸投(5.0㎏)","一般・高校女子 １００ｍ","中学男子 砲丸投(5.0㎏)","一般・高校女子 １００ｍ","中学男子 四種競技","一般・高校女子 ８００ｍ","中学男子 砲丸投(5.0㎏)","一般・高校女子 １００ｍ"]
[null,"中学男子 円盤投(1.5kg)","一般・高校女子 ２００ｍ","中学男子 三段跳","一般・高校女子 １００ｍ","1日目 中学男子 円盤投(1.5kg)","1日目 一般・高校女子 ２００ｍ","中学男子 円盤投(1.5kg)","一般・高校女子 ２００ｍ","中学男子 円盤投(1.5kg)","一般・高校女子 ２００ｍ","一般・高校男子 ２００ｍ","一般・高校女子 １５００ｍ","中学男子 円盤投(1.5kg)","一般・高校女子 ２００ｍ"]
[null,"中学男子 四種競技","一般・高校女子 ４００ｍ","中学男子 1年砲丸投(2.7㎏)","一般・高校女子 ２００ｍ","1日目 中学男子 四種競技","1日目 一般・高校女子 ４００ｍ","中学男子 四種競技","一般・高校女子 ４００ｍ","中学男子 四種競技","一般・高校女子 ４００ｍ","一般・高校男子 ４００ｍ","一般・高校女子 ３０００ｍ","中学男子 四種競技","一般・高校女子 ４００ｍ"]
[null,"一般・高校男子 １００ｍ","一般・高校女子 ８００ｍ","中学男子 2年砲丸投(4.0㎏)","一般・高校女子 ４００ｍ","1日目 一般・高校男子 １００ｍ","1日目 一般・高校女子 ８００ｍ","一般・高校男子 １００ｍ","一般・高校女子 ８００ｍ","一般・高校男子 １００ｍ","一般・高校女子 ８００ｍ","一般・高校男子 ８００ｍ","一般・高校女子 ４００ｍＨ","一般・高校男子 １００ｍ","一般・高校女子  ８００ｍ"]
[null,"一般・高校男子 ２００ｍ","一般・高校女子 １５００ｍ","中学男子 砲丸投(5.0㎏)","一般・高校女子 ８００ｍ","1日目 一般・高校男子 ２００ｍ","1日目 一般・高校女子 １５００ｍ","一般・高校男子 ２００ｍ","一般・高校女子 １５００ｍ","一般・高校男子 ２００ｍ","一般・高校女子 １５００ｍ","一般・高校男子 １５００ｍ","一般・高校女子 走高跳","一般・高校男子 ２００ｍ","一般・高校女子 １５００ｍ"]
[null,"一般・高校男子 ４００ｍ","一般・高校女子 ３０００ｍ","中学男子 1年円盤投(1.0kg)","一般・高校女子 １５００ｍ","1日目 一般・高校男子 ４００ｍ","1日目 一般・高校女子 ３０００ｍ","一般・高校男子 ４００ｍ","一般・高校女子 ３０００ｍ","一般・高校男子 ４００ｍ","一般・高校女子 ３０００ｍ","一般・高校男子 ３０００ｍ","一般・高校女子 走幅跳","一般・高校男子 ４００ｍ","一般・高校女子 ３０００ｍ"]
[null,"一般・高校男子 ８００ｍ","一般・高校女子 １００ｍＨ（一般）","中学男子 円盤投(1.5kg)","一般・高校女子 ３０００ｍ","1日目 一般・高校男子 ８００ｍ","1日目 一般・高校女子 １００ｍＨ（一般）","一般・高校男子 ８００ｍ","一般・高校女子 １００ｍＨ（一般）","一般・高校男子 ８００ｍ","一般・高校女子 １００ｍＨ（一般）","一般・高校男子 ４００ｍＨ","一般・高校女子 三段跳","一般・高校男子  ８００ｍ","一般・高校女子 １００ｍＨ（一般）"]
[null,"一般・高校男子 １５００ｍ","一般・高校女子 ４００ｍＨ","中学男子 四種競技","一般・高校女子 １００ｍＨ（一般）","1日目 一般・高校男子 １５００ｍ","1日目 一般・高校女子 ４００ｍＨ","一般・高校男子 １５００ｍ","一般・高校女子 ４００ｍＨ","一般・高校男子 １５００ｍ","一般・高校女子 ４００ｍＨ","一般・高校男子 走高跳","一般・高校女子 砲丸投(4.0㎏)","一般・高校男子 １５００ｍ","一般・高校女子 ４００ｍＨ"]
[null,"一般・高校男子 ３０００ｍ","一般・高校女子 走高跳","一般・高校男子 １００ｍ","一般・高校女子 ４００ｍＨ","1日目 一般・高校男子 ３０００ｍ","1日目 一般・高校女子 走高跳","一般・高校男子 ３０００ｍ","一般・高校女子 走高跳","一般・高校男子 ３０００ｍ","一般・高校女子 棒高跳","一般・高校男子 走幅跳","一般・高校女子 円盤投(1.0㎏)","一般・高校男子 ３０００ｍ","一般・高校女子 棒高跳"]
[null,"一般・高校男子 １１０ｍＨＨ(106.3)","一般・高校女子 走幅跳","一般・高校男子 ２００ｍ","一般・高校女子 棒高跳","1日目 一般・高校男子 １１０ｍＨＨ(106.3)","1日目 一般・高校女子 走幅跳","一般・高校男子 １１０ｍＨＨ(106.3)","一般・高校女子 走幅跳","一般・高校男子 １１０ｍＨＨ(106.3)","一般・高校女子 走高跳","一般・高校男子 三段跳","一般・高校女子 やり投","一般・高校男子 １１０ｍＨＨ(106.3)","一般・高校女子 走高跳"]
[null,"一般・高校男子 ４００ｍＨ","一般・高校女子 三段跳","一般・高校男子 ４００ｍ","一般・高校女子 走高跳","1日目 一般・高校男子 ４００ｍＨ","1日目 一般・高校女子 三段跳","一般・高校男子 ４００ｍＨ","一般・高校女子 三段跳","一般・高校男子 ４００ｍＨ","一般・高校女子 走幅跳","一般・高校男子 砲丸投(6.0Kg)","一般・高校女子　七種競技","一般・高校男子 ４００ｍＨ","一般・高校女子 走幅跳"]
[null,"一般・高校男子 走高跳","一般・高校女子 砲丸投(4.0㎏)","一般・高校男子 ８００ｍ","一般・高校女子 走幅跳","1日目 一般・高校男子 走高跳","1日目 一般・高校女子 砲丸投(4.0㎏)","一般・高校男子 走高跳","一般・高校女子 砲丸投(4.0㎏)","一般・高校男子 棒高跳","一般・高校女子 三段跳","一般・高校男子 砲丸投(7.25Kg)","【2日目】","一般・高校男子 棒高跳","一般・高校女子 三段跳"]
[null,"一般・高校男子 走幅跳","一般・高校女子 円盤投(1.0㎏)","一般・高校男子 １５００ｍ","一般・高校女子 三段跳","1日目 一般・高校男子 走幅跳","1日目 一般・高校女子 円盤投(1.0㎏)","一般・高校男子 走幅跳","一般・高校女子 円盤投(1.0㎏)","一般・高校男子 走高跳","一般・高校女子 砲丸投(4.0㎏)","一般・高校男子 円盤投(1.75kg)","中学女子 １００ｍ","一般・高校男子 走高跳","一般・高校女子 砲丸投(4.0㎏)"]
[null,"一般・高校男子 三段跳","一般・高校女子 やり投","一般・高校男子 ３０００ｍ","一般・高校女子 砲丸投(4.0㎏)","1日目 一般・高校男子 三段跳","1日目 一般・高校女子 やり投","一般・高校男子 三段跳","一般・高校女子 やり投","一般・高校男子 走幅跳","一般・高校女子 円盤投(1.0㎏)","一般・高校男子 円盤投(2.0kg)","中学女子 １００ｍＨ","一般・高校男子 走幅跳","一般・高校女子 円盤投(1.0㎏)"]
[null,"一般・高校男子 砲丸投(6.0Kg)",null,"一般・高校男子 １１０ｍＨＨ(106.3)","一般・高校女子 円盤投(1.0㎏)","1日目 一般・高校男子 砲丸投(6.0Kg)","【2日目】","一般・高校男子 砲丸投(6.0Kg)",null,"一般・高校男子 三段跳","一般・高校女子 やり投","一般・高校男子 やり投","中学女子 棒高跳","一般・高校男子 三段跳","一般・高校女子 やり投"]
[null,"一般・高校男子 砲丸投(7.25Kg)",null,"一般・高校男子 １１０ｍJＨ(99.1)","一般・高校女子 やり投","1日目 一般・高校男子 砲丸投(7.25Kg)","2日目 中学女子 １００ｍ","一般・高校男子 砲丸投(7.25Kg)",null,"一般・高校男子 砲丸投(6.0Kg)",null,"一般・高校男子 八種競技","一般・高校女子 １００ｍ","一般・高校男子 砲丸投(6.0Kg)"]
[null,"一般・高校男子 円盤投(1.75kg)",null,"一般・高校男子 ４００ｍＨ",null,"1日目 一般・高校男子 円盤投(1.75kg)","2日目 中学女子 ２００ｍ","一般・高校男子 円盤投(1.75kg)",null,"一般・高校男子 砲丸投(7.25Kg)",null,"【2日目】","一般・高校女子 １００ｍＨ（一般）","一般・高校男子 砲丸投(7.25Kg)"]
[null,"一般・高校男子 円盤投(2.0kg)",null,"一般・高校男子 棒高跳",null,"1日目 一般・高校男子 円盤投(2.0kg)","2日目 中学女子 １００ｍＨ","一般・高校男子 円盤投(2.0kg)",null,"一般・高校男子 円盤投(1.75kg)",null,"中学男子 １００ｍ","一般・高校女子 棒高跳","一般・高校男子 円盤投(1.75kg)"]
[null,"一般・高校男子 やり投",null,"一般・高校男子 走高跳",null,"1日目 一般・高校男子 やり投","2日目 中学女子 １００ｍＹＨ","一般・高校男子 やり投",null,"一般・高校男子 円盤投(2.0kg)",null,"中学男子 １１０ｍＭＨ",null,"一般・高校男子 円盤投(2.0kg)"]
[null,null,null,"一般・高校男子 走幅跳",null,"【2日目】","2日目 中学女子 棒高跳",null,null,"一般・高校男子 やり投",null,"中学男子 棒高跳",null,"一般・高校男子 やり投"]
[null,null,null,"一般・高校男子 三段跳",null,"2日目 中学男子 １００ｍ","2日目 中学女子 走高跳",null,null,null,null,"一般・高校男子 １００ｍ"]
[null,null,null,"一般・高校男子 砲丸投(6.0Kg)",null,"2日目 中学男子 ２００ｍ","2日目 中学女子 走幅跳",null,null,null,null,"一般・高校男子 １１０ｍＨＨ(106.3)"]
[null,null,null,"一般・高校男子 砲丸投(7.25Kg)",null,"2日目 中学男子 ４００ｍ","2日目 中学女子 砲丸投(2.7㎏)",null,null,null,null,"一般・高校男子 棒高跳"]
[null,null,null,"一般・高校男子 円盤投(1.75kg)",null,"2日目 中学男子 １００ｍＨ(一般女子)","2日目 中学女子 円盤投"]
[null,null,null,"一般・高校男子 円盤投(2.0kg)",null,"2日目 中学男子 １１０ｍJＨ(99.1)","2日目 一般・高校女子 １００ｍ"]
[null,null,null,"一般・高校男子 やり投",null,"2日目 中学男子 １１０ｍＭＨ","2日目 一般・高校女子 ２００ｍ"]
[null,null,null,null,null,"2日目 中学男子 棒高跳","2日目 一般・高校女子 ４００ｍ"]
[null,null,null,null,null,"2日目 中学男子 走高跳","2日目 一般・高校女子 １００ｍＨ（一般）"]
[null,null,null,null,null,"2日目 中学男子 走幅跳","2日目 一般・高校女子 ４００ｍＨ"]
[null,null,null,null,null,"2日目 中学男子 三段跳","2日目 一般・高校女子 棒高跳"]
[null,null,null,null,null,"2日目 中学男子 1年砲丸投(2.7㎏)","2日目 一般・高校女子 走高跳"]
[null,null,null,null,null,"2日目 中学男子 2年砲丸投(4.0㎏)","2日目 一般・高校女子 走幅跳"]
[null,null,null,null,null,"2日目 中学男子 砲丸投(5.0㎏)","2日目 一般・高校女子 三段跳"]
[null,null,null,null,null,"2日目 中学男子 1年円盤投(1.0kg)","2日目 一般・高校女子 砲丸投(4.0㎏)"]
[null,null,null,null,null,"2日目 中学男子 円盤投(1.5kg)","2日目 一般・高校女子 円盤投(1.0㎏)"]
[null,null,null,null,null,"2日目 一般・高校男子 １００ｍ","2日目 一般・高校女子 やり投"]
[null,null,null,null,null,"2日目 一般・高校男子 ２００ｍ"]
[null,null,null,null,null,"2日目 一般・高校男子 ４００ｍ"]
[null,null,null,null,null,"2日目 一般・高校男子 １１０ｍＨＨ(106.3)"]
[null,null,null,null,null,"2日目 一般・高校男子 １１０ｍJＨ(99.1)"]
[null,null,null,null,null,"2日目 一般・高校男子 ４００ｍＨ"]
[null,null,null,null,null,"2日目 一般・高校男子 棒高跳"]
[null,null,null,null,null,"2日目 一般・高校男子 走高跳"]
[null,null,null,null,null,"2日目 一般・高校男子 走幅跳"]
[null,null,null,null,null,"2日目 一般・高校男子 三段跳"]
[null,null,null,null,null,"2日目 一般・高校男子 砲丸投(6.0Kg)"]
[null,null,null,null,null,"2日目 一般・高校男子 砲丸投(7.25Kg)"]
[null,null,null,null,null,"2日目 一般・高校男子 円盤投(1.75kg)"]
[null,null,null,null,null,"2日目 一般・高校男子 円盤投(2.0kg)"]
[null,null,null,null,null,"2日目 一般・高校男子 やり投"]

{"sheet":"種目コード一覧","index":7,"n_rows":213,"n_cols":3,"rows_kept":213,"cut":false,"hidden":true,"merged":[]}
["中学男子 １００ｍ","00210",7]
["中学男子 ２００ｍ","00310",7]
["中学男子 ４００ｍ","00510",7]
["中学男子 ８００ｍ","00650",7]
["中学男子  ８００ｍ","00610",7]
["中学男子 １５００ｍ","00850",7]
["中学男子 ３０００ｍ","01050",7]
["中学男子 １００ｍＨ(一般女子)","03110",7]
["中学男子 １１０ｍJＨ(99.1)","03310",7]
["中学男子 １１０ｍＭＨ","03210",7]
["中学男子 ４×１００ｍＲ","60150"]
["中学男子 棒高跳","07210",5]
["中学男子 走高跳","07110",5]
["中学男子 走幅跳","07310",5]
["中学男子 三段跳","07410",5]
["中学男子 1年砲丸投(2.7㎏)","08511",5]
["中学男子 2年砲丸投(4.0㎏)","08412",5]
["中学男子 砲丸投(5.0㎏)","08310",5]
["中学男子 1年円盤投(1.0kg)","08811",5]
["中学男子 円盤投(1.5kg)","09610",5]
["中学男子 四種競技","21310",5]
["中学女子 １００ｍ","00210",7]
["中学女子 ２００ｍ","00310",7]
["中学女子 ８００ｍ","00650",7]
["中学女子  ８００ｍ","00610",7]
["中学女子 １５００ｍ","00850",7]
["中学女子 １００ｍＨ","04210",7]
["中学女子 １００ｍＹＨ","04310",7]
["中学女子 ４×１００ｍＲ","60150"]
["中学女子 棒高跳","07210",5]
["中学女子 走高跳","07110",5]
["中学女子 走幅跳","07310",5]
["中学女子 三段跳","07410",5]
["中学女子 砲丸投(2.7㎏)","08510",5]
["中学女子 円盤投","08810",5]
["中学女子 四種競技","21410",5]
["一般・高校男子 １００ｍ","00230",7]
["一般・高校男子 ２００ｍ","00330",7]
["一般・高校男子 ４００ｍ","00530",7]
["一般・高校男子 ８００ｍ","00650",7]
["一般・高校男子  ８００ｍ","00630",7]
["一般・高校男子 １５００ｍ","00850",7]
["一般・高校男子 ３０００ｍ","01050",7]
["一般・高校男子 １１０ｍＨＨ(106.3)","03430",7]
["一般・高校男子 １１０ｍJＨ(99.1)","03330",7]
["一般・高校男子 ４００ｍＨ","03730",7]
["一般・高校男子 ４×１００ｍＲ","60150",5]
["一般・高校男子 棒高跳","07230",5]
["一般・高校男子 走高跳","07130",5]
["一般・高校男子 走幅跳","07330",5]
["一般・高校男子 三段跳","07430",5]
["一般・高校男子 砲丸投(6.0Kg)","08230",5]
["一般・高校男子 砲丸投(7.25Kg)","08130",5]
["一般・高校男子 円盤投(1.75kg)","08730",5]
["一般・高校男子 円盤投(2.0kg)","08630",5]
["一般・高校男子 やり投","09230",5]
["一般・高校男子 八種競技","21030",5]
["一般・高校女子 １００ｍ","00230",7]
["一般・高校女子 ２００ｍ","00330",7]
["一般・高校女子 ４００ｍ","00530",7]
["一般・高校女子 ８００ｍ","00650",7]
["一般・高校女子  ８００ｍ","00630",7]
["一般・高校女子 １５００ｍ","00850",7]
["一般・高校女子 ３０００ｍ","01050",7]
["一般・高校女子 １００ｍＨ（一般）","04430",7]
["一般・高校女子 ４００ｍＨ","04630",7]
["一般・高校女子 ４×１００ｍＲ","60150"]
["一般・高校女子 棒高跳","07230",5]
["一般・高校女子 走高跳","07130",5]
["一般・高校女子 走幅跳","07330",5]
["一般・高校女子 三段跳","07430",5]
["一般・高校女子 砲丸投(4.0㎏)","08430",5]
["一般・高校女子 円盤投(1.0㎏)","08830",5]
["一般・高校女子 やり投","09330",5]
["一般・高校女子　七種競技","20230"]
["1日目 中学男子 １００ｍ","00215",7]
["1日目 中学男子 ２００ｍ","00315",7]
["1日目 中学男子 ４００ｍ","00515",7]
["1日目 中学男子 ８００ｍ","00655",7]
["1日目 中学男子 １５００ｍ","00855",7]
["1日目 中学男子 ３０００ｍ","01055",7]
["1日目 中学男子 １００ｍＨ(一般女子)","03115",7]
["1日目 中学男子 １１０ｍJＨ(99.1)","03315",7]
["1日目 中学男子 １１０ｍＭＨ","03215",7]
["1日目 中学男子 ４×１００ｍＲ","60155"]
["1日目 中学男子 棒高跳","07215",5]
["1日目 中学男子 走高跳","07115",5]
["1日目 中学男子 走幅跳","07315",5]
["1日目 中学男子 三段跳","07415",5]
["1日目 中学男子 1年砲丸投(2.7㎏)","08511",5]
["1日目 中学男子 2年砲丸投(4.0㎏)","08412",5]
["1日目 中学男子 砲丸投(5.0㎏)","08315",5]
["1日目 中学男子 1年円盤投(1.0kg)","08811",5]
["1日目 中学男子 円盤投(1.5kg)","09615",5]
["1日目 中学男子 四種競技","21315",5]
["1日目 中学女子 １００ｍ","00215",7]
["1日目 中学女子 ２００ｍ","00315",7]
["1日目 中学女子 ８００ｍ","00655",7]
["1日目 中学女子 １５００ｍ","00855",7]
["1日目 中学女子 １００ｍＨ","04215",7]
["1日目 中学女子 １００ｍＹＨ","04315",7]
["1日目 中学女子 ４×１００ｍＲ","60155"]
["1日目 中学女子 棒高跳","07215",5]
["1日目 中学女子 走高跳","07115",5]
["1日目 中学女子 走幅跳","07315",5]
["1日目 中学女子 三段跳","07415",5]
["1日目 中学女子 砲丸投(2.7㎏)","08515",5]
["1日目 中学女子 円盤投","08815",5]
["1日目 中学女子 四種競技","21415",5]
["1日目 一般・高校男子 １００ｍ","00235",7]
["1日目 一般・高校男子 ２００ｍ","00335",7]
["1日目 一般・高校男子 ４００ｍ","00535",7]
["1日目 一般・高校男子 ８００ｍ","00655",7]
["1日目 一般・高校男子 １５００ｍ","00855",7]
["1日目 一般・高校男子 ３０００ｍ","01055",7]
["1日目 一般・高校男子 １１０ｍＨＨ(106.3)","03435",7]
["1日目 一般・高校男子 １１０ｍJＨ(99.1)","03335",7]
["1日目 一般・高校男子 ４００ｍＨ","03735",7]
["1日目 一般・高校男子 ４×１００ｍＲ","60155"]
["1日目 一般・高校男子 棒高跳","07235",5]
["1日目 一般・高校男子 走高跳","07135",5]
["1日目 一般・高校男子 走幅跳","07335",5]
["1日目 一般・高校男子 三段跳","07435",5]
["1日目 一般・高校男子 砲丸投(6.0Kg)","08235",5]
["1日目 一般・高校男子 砲丸投(7.25Kg)","08135",5]
["1日目 一般・高校男子 円盤投(1.75kg)","08735",5]
["1日目 一般・高校男子 円盤投(2.0kg)","08635",5]
["1日目 一般・高校男子 やり投","09235",5]
["1日目 一般・高校女子 １００ｍ","00235",7]
["1日目 一般・高校女子 ２００ｍ","00335",7]
["1日目 一般・高校女子 ４００ｍ","00535",7]
["1日目 一般・高校女子 ８００ｍ","00655",7]
["1日目 一般・高校女子 １５００ｍ","00855",7]
["1日目 一般・高校女子 ３０００ｍ","01055",7]
["1日目 一般・高校女子 １００ｍＨ（一般）","04435",7]
["1日目 一般・高校女子 ４００ｍＨ","04635",7]
["1日目 一般・高校女子 ４×１００ｍＲ","60155"]
["1日目 一般・高校女子 棒高跳","07235",5]
["1日目 一般・高校女子 走高跳","07135",5]
["1日目 一般・高校女子 走幅跳","07335",5]
["1日目 一般・高校女子 三段跳","07435",5]
["1日目 一般・高校女子 砲丸投(4.0㎏)","08435",5]
["1日目 一般・高校女子 円盤投(1.0㎏)","08835",5]
["1日目 一般・高校女子 やり投","09335",5]
["2日目 中学男子 １００ｍ","00216",7]
["2日目 中学男子 ２００ｍ","00316",7]
["2日目 中学男子 ４００ｍ","00516",7]
["2日目 中学男子 ８００ｍ","00656",7]
["2日目 中学男子 １５００ｍ","00856",7]
["2日目 中学男子 ３０００ｍ","01056",7]
["2日目 中学男子 １００ｍＨ(一般女子)","03116",7]
["2日目 中学男子 １１０ｍJＨ(99.1)","03316",7]
["2日目 中学男子 １１０ｍＭＨ","03216",7]
["2日目 中学男子 ４×１００ｍＲ","60156"]
["2日目 中学男子 棒高跳","07216",5]
["2日目 中学男子 走高跳","07116",5]
["2日目 中学男子 走幅跳","07316",5]
["2日目 中学男子 三段跳","07416",5]
["2日目 中学男子 1年砲丸投(2.7㎏)","08511",5]
["2日目 中学男子 2年砲丸投(4.0㎏)","08412",5]
["2日目 中学男子 砲丸投(5.0㎏)","08316",5]
["2日目 中学男子 1年円盤投(1.0kg)","08811",5]
["2日目 中学男子 円盤投(1.5kg)","09616",5]
["2日目 中学男子 四種競技","21316",5]
["2日目 中学女子 １００ｍ","00216",7]
["2日目 中学女子 ２００ｍ","00316",7]
["2日目 中学女子 ８００ｍ","00656",7]
["2日目 中学女子 １５００ｍ","00856",7]
["2日目 中学女子 １００ｍＨ","04216",7]
["2日目 中学女子 １００ｍＹＨ","04316",7]
["2日目 中学女子 ４×１００ｍＲ","60156"]
["2日目 中学女子 棒高跳","07216",5]
["2日目 中学女子 走高跳","07116",5]
["2日目 中学女子 走幅跳","07316",5]
["2日目 中学女子 三段跳","07416",5]
["2日目 中学女子 砲丸投(2.7㎏)","08516",5]
["2日目 中学女子 円盤投","08816",5]
["2日目 中学女子 四種競技","21416",5]
["2日目 一般・高校男子 １００ｍ","00236",7]
["2日目 一般・高校男子 ２００ｍ","00336",7]
["2日目 一般・高校男子 ４００ｍ","00536",7]
["2日目 一般・高校男子 ８００ｍ","00656",7]
["2日目 一般・高校男子 １５００ｍ","00856",7]
["2日目 一般・高校男子 ３０００ｍ","01056",7]
["2日目 一般・高校男子 １１０ｍＨＨ(106.3)","03436",7]
["2日目 一般・高校男子 １１０ｍJＨ(99.1)","03336",7]
["2日目 一般・高校男子 ４００ｍＨ","03736",7]
["2日目 一般・高校男子 ４×１００ｍＲ","60156"]
["2日目 一般・高校男子 棒高跳","07236",5]
["2日目 一般・高校男子 走高跳","07136",5]
["2日目 一般・高校男子 走幅跳","07336",5]
["2日目 一般・高校男子 三段跳","07436",5]
["2日目 一般・高校男子 砲丸投(6.0Kg)","08236",5]
["2日目 一般・高校男子 砲丸投(7.25Kg)","08136",5]
["2日目 一般・高校男子 円盤投(1.75kg)","08736",5]
["2日目 一般・高校男子 円盤投(2.0kg)","08636",5]
["2日目 一般・高校男子 やり投","09236",5]
["2日目 一般・高校女子 １００ｍ","00236",7]
["2日目 一般・高校女子 ２００ｍ","00336",7]
["2日目 一般・高校女子 ４００ｍ","00536",7]
["2日目 一般・高校女子 ８００ｍ","00656",7]
["2日目 一般・高校女子 １５００ｍ","00856",7]
["2日目 一般・高校女子 ３０００ｍ","01056",7]
["2日目 一般・高校女子 １００ｍＨ（一般）","04436",7]
["2日目 一般・高校女子 ４００ｍＨ","04636",7]
["2日目 一般・高校女子 ４×１００ｍＲ","60156"]
["2日目 一般・高校女子 棒高跳","07236",5]
["2日目 一般・高校女子 走高跳","07136",5]
["2日目 一般・高校女子 走幅跳","07336",5]
["2日目 一般・高校女子 三段跳","07436",5]
["2日目 一般・高校女子 砲丸投(4.0㎏)","08436",5]
["2日目 一般・高校女子 円盤投(1.0㎏)","08836",5]
["2日目 一般・高校女子 やり投","09336",5]

{"sheet":"団体CSV","index":8,"n_rows":101,"n_cols":15,"rows_kept":101,"cut":false,"hidden":true,"merged":[]}
["DB","N1","N2","SX","KC","MC","ZK","S1","S2","S3","S4","S5","S6","S7","S8"]
[{"$f":"CONCATENATE($F$2,Sheet4!B2)","v":{"$error":"#N/A"}},{"$f":"CONCATENATE(競技者一覧!C13,\"(\",競技者一覧!F13,\")\")","v":"()"},{"$f":"CONCATENATE(競技者一覧!D13)","v":""},{"$f":"競技者一覧!E13","v":0},{"$f":"VLOOKUP(競技者一覧!$C$6,Sheet4!$D$2:$E$48,2,FALSE)","v":{"$error":"#N/A"}},{"$f":"VLOOKUP(競技者一覧!$C$7,学校番号表!$B$2:$C$1004,2,FALSE)","v":{"$error":"#N/A"}},{"$f":"CONCATENATE(競技者一覧!B13)","v":""},{"$f":"IFERROR(CONCATENATE(VLOOKUP(競技者一覧!G13,種目コード一覧!$A$1:$C$213,2,FALSE),\" \",REPT(\"0\",VLOOKUP(競技者一覧!G13,種目コード一覧!$A$1:$C$213,3,FALSE)-LEN(競技者一覧!H13)),競技者一覧!H13),\"\")","v":""},{"$f":"IFERROR(CONCATENATE(VLOOKUP(競技者一覧!I13,種目コード一覧!$A$1:$C$213,2,FALSE),\" \",REPT(\"0\",VLOOKUP(競技者一覧!I13,種目コード一覧!$A$1:$C$213,3,FALSE)-LEN(競技者一覧!J13)),競技者一覧!J13),\"\")","v":""},{"$f":"IFERROR(CONCATENATE(VLOOKUP(競技者一覧!K13,種目コード一覧!$A$1:$C$213,2,FALSE),\" \",REPT(\"0\",VLOOKUP(競技者一覧!K13,種目コード一覧!$A$1:$C$213,3,FALSE)-LEN(競技者一覧!L13)),競技者一覧!L13),\"\")","v":""},{"$f":"IFERROR(CONCATENATE(VLOOKUP(競技者一覧!M13,種目コード一覧!$A$1:$C$213,2,FALSE),\" \",REPT(\"0\",VLOOKUP(競技者一覧!M13,種目コード一覧!$A$1:$C$213,3,FALSE)-LEN(競技者一覧!N13)),競技者一覧!N13),\"\")","v":""},{"$f":"IFERROR(CONCATENATE(VLOOKUP(競技者一覧!O13,種目コード一覧!$A$1:$C$213,2,FALSE),\" \",REPT(\"0\",VLOOKUP(競技者一覧!O13,種目コード一覧!$A$1:$C$213,3,FALSE)-LEN(競技者一覧!P13)),競技者一覧!P13),\"\")","v":""},{"$f":"IFERROR(CONCATENATE(VLOOKUP(競技者一覧!Q13,種目コード一覧!$A$1:$C$213,2,FALSE),\" \",REPT(\"0\",VLOOKUP(競技者一覧!Q13,種目コード一覧!$A$1:$C$213,3,FALSE)-LEN(競技者一覧!R13)),競技者一覧!R13),\"\")","v":""},{"$f":"IFERROR(CONCATENATE(VLOOKUP(競技者一覧!S13,種目コード一覧!$A$1:$C$213,2,FALSE),\" \",REPT(\"0\",VLOOKUP(競技者一覧!S13,種目コード一覧!$A$1:$C$213,3,FALSE)-LEN(競技者一覧!T13)),競技者一覧!T13),\"\")","v":""},{"$f":"IFERROR(CONCATENATE(VLOOKUP(競技者一覧!U13,種目コード一覧!$A$1:$C$213,2,FALSE),\" \",REPT(\"0\",VLOOKUP(競技者一覧!U13,種目コード一覧!$A$1:$C$213,3,FALSE)-LEN(競技者一覧!V13)),競技者一覧!V13),\"\")","v":""}]
[{"$f":"CONCATENATE($F$2,Sheet4!B3)","v":{"$error":"#N/A"}},{"$f":"CONCATENATE(競技者一覧!C14,\"(\",競技者一覧!F14,\")\")","v":"()"},{"$f":"CONCATENATE(競技者一覧!D14)","v":""},{"$f":"競技者一覧!E14","v":0},{"$f":"VLOOKUP(競技者一覧!$C$6,Sheet4!$D$2:$E$48,2,FALSE)","v":{"$error":"#N/A"}},{"$f":"VLOOKUP(競技者一覧!$C$7,学校番号表!$B$2:$C$1004,2,FALSE)","v":{"$error":"#N/A"}},{"$f":"CONCATENATE(競技者一覧!B14)","v":""},{"$f":"IFERROR(CONCATENATE(VLOOKUP(競技者一覧!G14,種目コード一覧!$A$1:$C$213,2,FALSE),\" \",REPT(\"0\",VLOOKUP(競技者一覧!G14,種目コード一覧!$A$1:$C$213,3,FALSE)-LEN(競技者一覧!H14)),競技者一覧!H14),\"\")","v":""},{"$f":"IFERROR(CONCATENATE(VLOOKUP(競技者一覧!I14,種目コード一覧!$A$1:$C$213,2,FALSE),\" \",REPT(\"0\",VLOOKUP(競技者一覧!I14,種目コード一覧!$A$1:$C$213,3,FALSE)-LEN(競技者一覧!J14)),競技者一覧!J14),\"\")","v":""},{"$f":"IFERROR(CONCATENATE(VLOOKUP(競技者一覧!K14,種目コード一覧!$A$1:$C$213,2,FALSE),\" \",REPT(\"0\",VLOOKUP(競技者一覧!K14,種目コード一覧!$A$1:$C$213,3,FALSE)-LEN(競技者一覧!L14)),競技者一覧!L14),\"\")","v":""},{"$f":"IFERROR(CONCATENATE(VLOOKUP(競技者一覧!M14,種目コード一覧!$A$1:$C$213,2,FALSE),\" \",REPT(\"0\",VLOOKUP(競技者一覧!M14,種目コード一覧!$A$1:$C$213,3,FALSE)-LEN(競技者一覧!N14)),競技者一覧!N14),\"\")","v":""},{"$f":"IFERROR(CONCATENATE(VLOOKUP(競技者一覧!O14,種目コード一覧!$A$1:$C$213,2,FALSE),\" \",REPT(\"0\",VLOOKUP(競技者一覧!O14,種目コード一覧!$A$1:$C$213,3,FALSE)-LEN(競技者一覧!P14)),競技者一覧!P14),\"\")","v":""},{"$f":"IFERROR(CONCATENATE(VLOOKUP(競技者一覧!Q14,種目コード一覧!$A$1:$C$213,2,FALSE),\" \",REPT(\"0\",VLOOKUP(競技者一覧!Q14,種目コード一覧!$A$1:$C$213,3,FALSE)-LEN(競技者一覧!R14)),競技者一覧!R14),\"\")","v":""},{"$f":"IFERROR(CONCATENATE(VLOOKUP(競技者一覧!S14,種目コード一覧!$A$1:$C$213,2,FALSE),\" \",REPT(\"0\",VLOOKUP(競技者一覧!S14,種目コード一覧!$A$1:$C$213,3,FALSE)-LEN(競技者一覧!T14)),競技者一覧!T14),\"\")","v":""},{"$f":"IFERROR(CONCATENATE(VLOOKUP(競技者一覧!U14,種目コード一覧!$A$1:$C$213,2,FALSE),\" \",REPT(\"0\",VLOOKUP(競技者一覧!U14,種目コード一覧!$A$1:$C$213,3,FALSE)-LEN(競技者一覧!V14)),競技者一覧!V14),\"\")","v":""}]
[{"$f":"CONCATENATE($F$2,Sheet4!B4)","v":{"$error":"#N/A"}},{"$f":"CONCATENATE(競技者一覧!C15,\"(\",競技者一覧!F15,\")\")","v":"()"},{"$f":"CONCATENATE(競技者一覧!D15)","v":""},{"$f":"競技者一覧!E15","v":0},{"$f":"VLOOKUP(競技者一覧!$C$6,Sheet4!$D$2:$E$48,2,FALSE)","v":{"$error":"#N/A"}},{"$f":"VLOOKUP(競技者一覧!$C$7,学校番号表!$B$2:$C$1004,2,FALSE)","v":{"$error":"#N/A"}},{"$f":"CONCATENATE(競技者一覧!B15)","v":""},{"$f":"IFERROR(CONCATENATE(VLOOKUP(競技者一覧!G15,種目コード一覧!$A$1:$C$213,2,FALSE),\" \",REPT(\"0\",VLOOKUP(競技者一覧!G15,種目コード一覧!$A$1:$C$213,3,FALSE)-LEN(競技者一覧!H15)),競技者一覧!H15),\"\")","v":""},{"$f":"IFERROR(CONCATENATE(VLOOKUP(競技者一覧!I15,種目コード一覧!$A$1:$C$213,2,FALSE),\" \",REPT(\"0\",VLOOKUP(競技者一覧!I15,種目コード一覧!$A$1:$C$213,3,FALSE)-LEN(競技者一覧!J15)),競技者一覧!J15),\"\")","v":""},{"$f":"IFERROR(CONCATENATE(VLOOKUP(競技者一覧!K15,種目コード一覧!$A$1:$C$213,2,FALSE),\" \",REPT(\"0\",VLOOKUP(競技者一覧!K15,種目コード一覧!$A$1:$C$213,3,FALSE)-LEN(競技者一覧!L15)),競技者一覧!L15),\"\")","v":""},{"$f":"IFERROR(CONCATENATE(VLOOKUP(競技者一覧!M15,種目コード一覧!$A$1:$C$213,2,FALSE),\" \",REPT(\"0\",VLOOKUP(競技者一覧!M15,種目コード一覧!$A$1:$C$213,3,FALSE)-LEN(競技者一覧!N15)),競技者一覧!N15),\"\")","v":""},{"$f":"IFERROR(CONCATENATE(VLOOKUP(競技者一覧!O15,種目コード一覧!$A$1:$C$213,2,FALSE),\" \",REPT(\"0\",VLOOKUP(競技者一覧!O15,種目コード一覧!$A$1:$C$213,3,FALSE)-LEN(競技者一覧!P15)),競技者一覧!P15),\"\")","v":""},{"$f":"IFERROR(CONCATENATE(VLOOKUP(競技者一覧!Q15,種目コード一覧!$A$1:$C$213,2,FALSE),\" \",REPT(\"0\",VLOOKUP(競技者一覧!Q15,種目コード一覧!$A$1:$C$213,3,FALSE)-LEN(競技者一覧!R15)),競技者一覧!R15),\"\")","v":""},{"$f":"IFERROR(CONCATENATE(VLOOKUP(競技者一覧!S15,種目コード一覧!$A$1:$C$213,2,FALSE),\" \",REPT(\"0\",VLOOKUP(競技者一覧!S15,種目コード一覧!$A$1:$C$213,3,FALSE)-LEN(競技者一覧!T15)),競技者一覧!T15),\"\")","v":""},{"$f":"IFERROR(CONCATENATE(VLOOKUP(競技者一覧!U15,種目コード一覧!$A$1:$C$213,2,FALSE),\" \",REPT(\"0\",VLOOKUP(競技者一覧!U15,種目コード一覧!$A$1:$C$213,3,FALSE)-LEN(競技者一覧!V15)),競技者一覧!V15),\"\")","v":""}]
[{"$f":"CONCATENATE($F$2,Sheet4!B5)","v":{"$error":"#N/A"}},{"$f":"CONCATENATE(競技者一覧!C16,\"(\",競技者一覧!F16,\")\")","v":"()"},{"$f":"CONCATENATE(競技者一覧!D16)","v":""},{"$f":"競技者一覧!E16","v":0},{"$f":"VLOOKUP(競技者一覧!$C$6,Sheet4!$D$2:$E$48,2,FALSE)","v":{"$error":"#N/A"}},{"$f":"VLOOKUP(競技者一覧!$C$7,学校番号表!$B$2:$C$1004,2,FALSE)","v":{"$error":"#N/A"}},{"$f":"CONCATENATE(競技者一覧!B16)","v":""},{"$f":"IFERROR(CONCATENATE(VLOOKUP(競技者一覧!G16,種目コード一覧!$A$1:$C$213,2,FALSE),\" \",REPT(\"0\",VLOOKUP(競技者一覧!G16,種目コード一覧!$A$1:$C$213,3,FALSE)-LEN(競技者一覧!H16)),競技者一覧!H16),\"\")","v":""},{"$f":"IFERROR(CONCATENATE(VLOOKUP(競技者一覧!I16,種目コード一覧!$A$1:$C$213,2,FALSE),\" \",REPT(\"0\",VLOOKUP(競技者一覧!I16,種目コード一覧!$A$1:$C$213,3,FALSE)-LEN(競技者一覧!J16)),競技者一覧!J16),\"\")","v":""},{"$f":"IFERROR(CONCATENATE(VLOOKUP(競技者一覧!K16,種目コード一覧!$A$1:$C$213,2,FALSE),\" \",REPT(\"0\",VLOOKUP(競技者一覧!K16,種目コード一覧!$A$1:$C$213,3,FALSE)-LEN(競技者一覧!L16)),競技者一覧!L16),\"\")","v":""},{"$f":"IFERROR(CONCATENATE(VLOOKUP(競技者一覧!M16,種目コード一覧!$A$1:$C$213,2,FALSE),\" \",REPT(\"0\",VLOOKUP(競技者一覧!M16,種目コード一覧!$A$1:$C$213,3,FALSE)-LEN(競技者一覧!N16)),競技者一覧!N16),\"\")","v":""},{"$f":"IFERROR(CONCATENATE(VLOOKUP(競技者一覧!O16,種目コード一覧!$A$1:$C$213,2,FALSE),\" \",REPT(\"0\",VLOOKUP(競技者一覧!O16,種目コード一覧!$A$1:$C$213,3,FALSE)-LEN(競技者一覧!P16)),競技者一覧!P16),\"\")","v":""},{"$f":"IFERROR(CONCATENATE(VLOOKUP(競技者一覧!Q16,種目コード一覧!$A$1:$C$213,2,FALSE),\" \",REPT(\"0\",VLOOKUP(競技者一覧!Q16,種目コード一覧!$A$1:$C$213,3,FALSE)-LEN(競技者一覧!R16)),競技者一覧!R16),\"\")","v":""},{"$f":"IFERROR(CONCATENATE(VLOOKUP(競技者一覧!S16,種目コード一覧!$A$1:$C$213,2,FALSE),\" \",REPT(\"0\",VLOOKUP(競技者一覧!S16,種目コード一覧!$A$1:$C$213,3,FALSE)-LEN(競技者一覧!T16)),競技者一覧!T16),\"\")","v":""},{"$f":"IFERROR(CONCATENATE(VLOOKUP(競技者一覧!U16,種目コード一覧!$A$1:$C$213,2,FALSE),\" \",REPT(\"0\",VLOOKUP(競技者一覧!U16,種目コード一覧!$A$1:$C$213,3,FALSE)-LEN(競技者一覧!V16)),競技者一覧!V16),\"\")","v":""}]
[{"$f":"CONCATENATE($F$2,Sheet4!B6)","v":{"$error":"#N/A"}},{"$f":"CONCATENATE(競技者一覧!C17,\"(\",競技者一覧!F17,\")\")","v":"()"},{"$f":"CONCATENATE(競技者一覧!D17)","v":""},{"$f":"競技者一覧!E17","v":0},{"$f":"VLOOKUP(競技者一覧!$C$6,Sheet4!$D$2:$E$48,2,FALSE)","v":{"$error":"#N/A"}},{"$f":"VLOOKUP(競技者一覧!$C$7,学校番号表!$B$2:$C$1004,2,FALSE)","v":{"$error":"#N/A"}},{"$f":"CONCATENATE(競技者一覧!B17)","v":""},{"$f":"IFERROR(CONCATENATE(VLOOKUP(競技者一覧!G17,種目コード一覧!$A$1:$C$213,2,FALSE),\" \",REPT(\"0\",VLOOKUP(競技者一覧!G17,種目コード一覧!$A$1:$C$213,3,FALSE)-LEN(競技者一覧!H17)),競技者一覧!H17),\"\")","v":""},{"$f":"IFERROR(CONCATENATE(VLOOKUP(競技者一覧!I17,種目コード一覧!$A$1:$C$213,2,FALSE),\" \",REPT(\"0\",VLOOKUP(競技者一覧!I17,種目コード一覧!$A$1:$C$213,3,FALSE)-LEN(競技者一覧!J17)),競技者一覧!J17),\"\")","v":""},{"$f":"IFERROR(CONCATENATE(VLOOKUP(競技者一覧!K17,種目コード一覧!$A$1:$C$213,2,FALSE),\" \",REPT(\"0\",VLOOKUP(競技者一覧!K17,種目コード一覧!$A$1:$C$213,3,FALSE)-LEN(競技者一覧!L17)),競技者一覧!L17),\"\")","v":""},{"$f":"IFERROR(CONCATENATE(VLOOKUP(競技者一覧!M17,種目コード一覧!$A$1:$C$213,2,FALSE),\" \",REPT(\"0\",VLOOKUP(競技者一覧!M17,種目コード一覧!$A$1:$C$213,3,FALSE)-LEN(競技者一覧!N17)),競技者一覧!N17),\"\")","v":""},{"$f":"IFERROR(CONCATENATE(VLOOKUP(競技者一覧!O17,種目コード一覧!$A$1:$C$213,2,FALSE),\" \",REPT(\"0\",VLOOKUP(競技者一覧!O17,種目コード一覧!$A$1:$C$213,3,FALSE)-LEN(競技者一覧!P17)),競技者一覧!P17),\"\")","v":""},{"$f":"IFERROR(CONCATENATE(VLOOKUP(競技者一覧!Q17,種目コード一覧!$A$1:$C$213,2,FALSE),\" \",REPT(\"0\",VLOOKUP(競技者一覧!Q17,種目コード一覧!$A$1:$C$213,3,FALSE)-LEN(競技者一覧!R17)),競技者一覧!R17),\"\")","v":""},{"$f":"IFERROR(CONCATENATE(VLOOKUP(競技者一覧!S17,種目コード一覧!$A$1:$C$213,2,FALSE),\" \",REPT(\"0\",VLOOKUP(競技者一覧!S17,種目コード一覧!$A$1:$C$213,3,FALSE)-LEN(競技者一覧!T17)),競技者一覧!T17),\"\")","v":""},{"$f":"IFERROR(CONCATENATE(VLOOKUP(競技者一覧!U17,種目コード一覧!$A$1:$C$213,2,FALSE),\" \",REPT(\"0\",VLOOKUP(競技者一覧!U17,種目コード一覧!$A$1:$C$213,3,FALSE)-LEN(競技者一覧!V17)),競技者一覧!V17),\"\")","v":""}]
[{"$f":"CONCATENATE($F$2,Sheet4!B7)","v":{"$error":"#N/A"}},{"$f":"CONCATENATE(競技者一覧!C18,\"(\",競技者一覧!F18,\")\")","v":"()"},{"$f":"CONCATENATE(競技者一覧!D18)","v":""},{"$f":"競技者一覧!E18","v":0},{"$f":"VLOOKUP(競技者一覧!$C$6,Sheet4!$D$2:$E$48,2,FALSE)","v":{"$error":"#N/A"}},{"$f":"VLOOKUP(競技者一覧!$C$7,学校番号表!$B$2:$C$1004,2,FALSE)","v":{"$error":"#N/A"}},{"$f":"CONCATENATE(競技者一覧!B18)","v":""},{"$f":"IFERROR(CONCATENATE(VLOOKUP(競技者一覧!G18,種目コード一覧!$A$1:$C$213,2,FALSE),\" \",REPT(\"0\",VLOOKUP(競技者一覧!G18,種目コード一覧!$A$1:$C$213,3,FALSE)-LEN(競技者一覧!H18)),競技者一覧!H18),\"\")","v":""},{"$f":"IFERROR(CONCATENATE(VLOOKUP(競技者一覧!I18,種目コード一覧!$A$1:$C$213,2,FALSE),\" \",REPT(\"0\",VLOOKUP(競技者一覧!I18,種目コード一覧!$A$1:$C$213,3,FALSE)-LEN(競技者一覧!J18)),競技者一覧!J18),\"\")","v":""},{"$f":"IFERROR(CONCATENATE(VLOOKUP(競技者一覧!K18,種目コード一覧!$A$1:$C$213,2,FALSE),\" \",REPT(\"0\",VLOOKUP(競技者一覧!K18,種目コード一覧!$A$1:$C$213,3,FALSE)-LEN(競技者一覧!L18)),競技者一覧!L18),\"\")","v":""},{"$f":"IFERROR(CONCATENATE(VLOOKUP(競技者一覧!M18,種目コード一覧!$A$1:$C$213,2,FALSE),\" \",REPT(\"0\",VLOOKUP(競技者一覧!M18,種目コード一覧!$A$1:$C$213,3,FALSE)-LEN(競技者一覧!N18)),競技者一覧!N18),\"\")","v":""},{"$f":"IFERROR(CONCATENATE(VLOOKUP(競技者一覧!O18,種目コード一覧!$A$1:$C$213,2,FALSE),\" \",REPT(\"0\",VLOOKUP(競技者一覧!O18,種目コード一覧!$A$1:$C$213,3,FALSE)-LEN(競技者一覧!P18)),競技者一覧!P18),\"\")","v":""},{"$f":"IFERROR(CONCATENATE(VLOOKUP(競技者一覧!Q18,種目コード一覧!$A$1:$C$213,2,FALSE),\" \",REPT(\"0\",VLOOKUP(競技者一覧!Q18,種目コード一覧!$A$1:$C$213,3,FALSE)-LEN(競技者一覧!R18)),競技者一覧!R18),\"\")","v":""},{"$f":"IFERROR(CONCATENATE(VLOOKUP(競技者一覧!S18,種目コード一覧!$A$1:$C$213,2,FALSE),\" \",REPT(\"0\",VLOOKUP(競技者一覧!S18,種目コード一覧!$A$1:$C$213,3,FALSE)-LEN(競技者一覧!T18)),競技者一覧!T18),\"\")","v":""},{"$f":"IFERROR(CONCATENATE(VLOOKUP(競技者一覧!U18,種目コード一覧!$A$1:$C$213,2,FALSE),\" \",REPT(\"0\",VLOOKUP(競技者一覧!U18,種目コード一覧!$A$1:$C$213,3,FALSE)-LEN(競技者一覧!V18)),競技者一覧!V18),\"\")","v":""}]
[{"$f":"CONCATENATE($F$2,Sheet4!B8)","v":{"$error":"#N/A"}},{"$f":"CONCATENATE(競技者一覧!C19,\"(\",競技者一覧!F19,\")\")","v":"()"},{"$f":"CONCATENATE(競技者一覧!D19)","v":""},{"$f":"競技者一覧!E19","v":0},{"$f":"VLOOKUP(競技者一覧!$C$6,Sheet4!$D$2:$E$48,2,FALSE)","v":{"$error":"#N/A"}},{"$f":"VLOOKUP(競技者一覧!$C$7,学校番号表!$B$2:$C$1004,2,FALSE)","v":{"$error":"#N/A"}},{"$f":"CONCATENATE(競技者一覧!B19)","v":""},{"$f":"IFERROR(CONCATENATE(VLOOKUP(競技者一覧!G19,種目コード一覧!$A$1:$C$213,2,FALSE),\" \",REPT(\"0\",VLOOKUP(競技者一覧!G19,種目コード一覧!$A$1:$C$213,3,FALSE)-LEN(競技者一覧!H19)),競技者一覧!H19),\"\")","v":""},{"$f":"IFERROR(CONCATENATE(VLOOKUP(競技者一覧!I19,種目コード一覧!$A$1:$C$213,2,FALSE),\" \",REPT(\"0\",VLOOKUP(競技者一覧!I19,種目コード一覧!$A$1:$C$213,3,FALSE)-LEN(競技者一覧!J19)),競技者一覧!J19),\"\")","v":""},{"$f":"IFERROR(CONCATENATE(VLOOKUP(競技者一覧!K19,種目コード一覧!$A$1:$C$213,2,FALSE),\" \",REPT(\"0\",VLOOKUP(競技者一覧!K19,種目コード一覧!$A$1:$C$213,3,FALSE)-LEN(競技者一覧!L19)),競技者一覧!L19),\"\")","v":""},{"$f":"IFERROR(CONCATENATE(VLOOKUP(競技者一覧!M19,種目コード一覧!$A$1:$C$213,2,FALSE),\" \",REPT(\"0\",VLOOKUP(競技者一覧!M19,種目コード一覧!$A$1:$C$213,3,FALSE)-LEN(競技者一覧!N19)),競技者一覧!N19),\"\")","v":""},{"$f":"IFERROR(CONCATENATE(VLOOKUP(競技者一覧!O19,種目コード一覧!$A$1:$C$213,2,FALSE),\" \",REPT(\"0\",VLOOKUP(競技者一覧!O19,種目コード一覧!$A$1:$C$213,3,FALSE)-LEN(競技者一覧!P19)),競技者一覧!P19),\"\")","v":""},{"$f":"IFERROR(CONCATENATE(VLOOKUP(競技者一覧!Q19,種目コード一覧!$A$1:$C$213,2,FALSE),\" \",REPT(\"0\",VLOOKUP(競技者一覧!Q19,種目コード一覧!$A$1:$C$213,3,FALSE)-LEN(競技者一覧!R19)),競技者一覧!R19),\"\")","v":""},{"$f":"IFERROR(CONCATENATE(VLOOKUP(競技者一覧!S19,種目コード一覧!$A$1:$C$213,2,FALSE),\" \",REPT(\"0\",VLOOKUP(競技者一覧!S19,種目コード一覧!$A$1:$C$213,3,FALSE)-LEN(競技者一覧!T19)),競技者一覧!T19),\"\")","v":""},{"$f":"IFERROR(CONCATENATE(VLOOKUP(競技者一覧!U19,種目コード一覧!$A$1:$C$213,2,FALSE),\" \",REPT(\"0\",VLOOKUP(競技者一覧!U19,種目コード一覧!$A$1:$C$213,3,FALSE)-LEN(競技者一覧!V19)),競技者一覧!V19),\"\")","v":""}]
[{"$f":"CONCATENATE($F$2,Sheet4!B9)","v":{"$error":"#N/A"}},{"$f":"CONCATENATE(競技者一覧!C20,\"(\",競技者一覧!F20,\")\")","v":"()"},{"$f":"CONCATENATE(競技者一覧!D20)","v":""},{"$f":"競技者一覧!E20","v":0},{"$f":"VLOOKUP(競技者一覧!$C$6,Sheet4!$D$2:$E$48,2,FALSE)","v":{"$error":"#N/A"}},{"$f":"VLOOKUP(競技者一覧!$C$7,学校番号表!$B$2:$C$1004,2,FALSE)","v":{"$error":"#N/A"}},{"$f":"CONCATENATE(競技者一覧!B20)","v":""},{"$f":"IFERROR(CONCATENATE(VLOOKUP(競技者一覧!G20,種目コード一覧!$A$1:$C$213,2,FALSE),\" \",REPT(\"0\",VLOOKUP(競技者一覧!G20,種目コード一覧!$A$1:$C$213,3,FALSE)-LEN(競技者一覧!H20)),競技者一覧!H20),\"\")","v":""},{"$f":"IFERROR(CONCATENATE(VLOOKUP(競技者一覧!I20,種目コード一覧!$A$1:$C$213,2,FALSE),\" \",REPT(\"0\",VLOOKUP(競技者一覧!I20,種目コード一覧!$A$1:$C$213,3,FALSE)-LEN(競技者一覧!J20)),競技者一覧!J20),\"\")","v":""},{"$f":"IFERROR(CONCATENATE(VLOOKUP(競技者一覧!K20,種目コード一覧!$A$1:$C$213,2,FALSE),\" \",REPT(\"0\",VLOOKUP(競技者一覧!K20,種目コード一覧!$A$1:$C$213,3,FALSE)-LEN(競技者一覧!L20)),競技者一覧!L20),\"\")","v":""},{"$f":"IFERROR(CONCATENATE(VLOOKUP(競技者一覧!M20,種目コード一覧!$A$1:$C$213,2,FALSE),\" \",REPT(\"0\",VLOOKUP(競技者一覧!M20,種目コード一覧!$A$1:$C$213,3,FALSE)-LEN(競技者一覧!N20)),競技者一覧!N20),\"\")","v":""},{"$f":"IFERROR(CONCATENATE(VLOOKUP(競技者一覧!O20,種目コード一覧!$A$1:$C$213,2,FALSE),\" \",REPT(\"0\",VLOOKUP(競技者一覧!O20,種目コード一覧!$A$1:$C$213,3,FALSE)-LEN(競技者一覧!P20)),競技者一覧!P20),\"\")","v":""},{"$f":"IFERROR(CONCATENATE(VLOOKUP(競技者一覧!Q20,種目コード一覧!$A$1:$C$213,2,FALSE),\" \",REPT(\"0\",VLOOKUP(競技者一覧!Q20,種目コード一覧!$A$1:$C$213,3,FALSE)-LEN(競技者一覧!R20)),競技者一覧!R20),\"\")","v":""},{"$f":"IFERROR(CONCATENATE(VLOOKUP(競技者一覧!S20,種目コード一覧!$A$1:$C$213,2,FALSE),\" \",REPT(\"0\",VLOOKUP(競技者一覧!S20,種目コード一覧!$A$1:$C$213,3,FALSE)-LEN(競技者一覧!T20)),競技者一覧!T20),\"\")","v":""},{"$f":"IFERROR(CONCATENATE(VLOOKUP(競技者一覧!U20,種目コード一覧!$A$1:$C$213,2,FALSE),\" \",REPT(\"0\",VLOOKUP(競技者一覧!U20,種目コード一覧!$A$1:$C$213,3,FALSE)-LEN(競技者一覧!V20)),競技者一覧!V20),\"\")","v":""}]
[{"$f":"CONCATENATE($F$2,Sheet4!B10)","v":{"$error":"#N/A"}},{"$f":"CONCATENATE(競技者一覧!C21,\"(\",競技者一覧!F21,\")\")","v":"()"},{"$f":"CONCATENATE(競技者一覧!D21)","v":""},{"$f":"競技者一覧!E21","v":0},{"$f":"VLOOKUP(競技者一覧!$C$6,Sheet4!$D$2:$E$48,2,FALSE)","v":{"$error":"#N/A"}},{"$f":"VLOOKUP(競技者一覧!$C$7,学校番号表!$B$2:$C$1004,2,FALSE)","v":{"$error":"#N/A"}},{"$f":"CONCATENATE(競技者一覧!B21)","v":""},{"$f":"IFERROR(CONCATENATE(VLOOKUP(競技者一覧!G21,種目コード一覧!$A$1:$C$213,2,FALSE),\" \",REPT(\"0\",VLOOKUP(競技者一覧!G21,種目コード一覧!$A$1:$C$213,3,FALSE)-LEN(競技者一覧!H21)),競技者一覧!H21),\"\")","v":""},{"$f":"IFERROR(CONCATENATE(VLOOKUP(競技者一覧!I21,種目コード一覧!$A$1:$C$213,2,FALSE),\" \",REPT(\"0\",VLOOKUP(競技者一覧!I21,種目コード一覧!$A$1:$C$213,3,FALSE)-LEN(競技者一覧!J21)),競技者一覧!J21),\"\")","v":""},{"$f":"IFERROR(CONCATENATE(VLOOKUP(競技者一覧!K21,種目コード一覧!$A$1:$C$213,2,FALSE),\" \",REPT(\"0\",VLOOKUP(競技者一覧!K21,種目コード一覧!$A$1:$C$213,3,FALSE)-LEN(競技者一覧!L21)),競技者一覧!L21),\"\")","v":""},{"$f":"IFERROR(CONCATENATE(VLOOKUP(競技者一覧!M21,種目コード一覧!$A$1:$C$213,2,FALSE),\" \",REPT(\"0\",VLOOKUP(競技者一覧!M21,種目コード一覧!$A$1:$C$213,3,FALSE)-LEN(競技者一覧!N21)),競技者一覧!N21),\"\")","v":""},{"$f":"IFERROR(CONCATENATE(VLOOKUP(競技者一覧!O21,種目コード一覧!$A$1:$C$213,2,FALSE),\" \",REPT(\"0\",VLOOKUP(競技者一覧!O21,種目コード一覧!$A$1:$C$213,3,FALSE)-LEN(競技者一覧!P21)),競技者一覧!P21),\"\")","v":""},{"$f":"IFERROR(CONCATENATE(VLOOKUP(競技者一覧!Q21,種目コード一覧!$A$1:$C$213,2,FALSE),\" \",REPT(\"0\",VLOOKUP(競技者一覧!Q21,種目コード一覧!$A$1:$C$213,3,FALSE)-LEN(競技者一覧!R21)),競技者一覧!R21),\"\")","v":""},{"$f":"IFERROR(CONCATENATE(VLOOKUP(競技者一覧!S21,種目コード一覧!$A$1:$C$213,2,FALSE),\" \",REPT(\"0\",VLOOKUP(競技者一覧!S21,種目コード一覧!$A$1:$C$213,3,FALSE)-LEN(競技者一覧!T21)),競技者一覧!T21),\"\")","v":""},{"$f":"IFERROR(CONCATENATE(VLOOKUP(競技者一覧!U21,種目コード一覧!$A$1:$C$213,2,FALSE),\" \",REPT(\"0\",VLOOKUP(競技者一覧!U21,種目コード一覧!$A$1:$C$213,3,FALSE)-LEN(競技者一覧!V21)),競技者一覧!V21),\"\")","v":""}]
[{"$f":"CONCATENATE($F$2,Sheet4!B11)","v":{"$error":"#N/A"}},{"$f":"CONCATENATE(競技者一覧!C22,\"(\",競技者一覧!F22,\")\")","v":"()"},{"$f":"CONCATENATE(競技者一覧!D22)","v":""},{"$f":"競技者一覧!E22","v":0},{"$f":"VLOOKUP(競技者一覧!$C$6,Sheet4!$D$2:$E$48,2,FALSE)","v":{"$error":"#N/A"}},{"$f":"VLOOKUP(競技者一覧!$C$7,学校番号表!$B$2:$C$1004,2,FALSE)","v":{"$error":"#N/A"}},{"$f":"CONCATENATE(競技者一覧!B22)","v":""},{"$f":"IFERROR(CONCATENATE(VLOOKUP(競技者一覧!G22,種目コード一覧!$A$1:$C$213,2,FALSE),\" \",REPT(\"0\",VLOOKUP(競技者一覧!G22,種目コード一覧!$A$1:$C$213,3,FALSE)-LEN(競技者一覧!H22)),競技者一覧!H22),\"\")","v":""},{"$f":"IFERROR(CONCATENATE(VLOOKUP(競技者一覧!I22,種目コード一覧!$A$1:$C$213,2,FALSE),\" \",REPT(\"0\",VLOOKUP(競技者一覧!I22,種目コード一覧!$A$1:$C$213,3,FALSE)-LEN(競技者一覧!J22)),競技者一覧!J22),\"\")","v":""},{"$f":"IFERROR(CONCATENATE(VLOOKUP(競技者一覧!K22,種目コード一覧!$A$1:$C$213,2,FALSE),\" \",REPT(\"0\",VLOOKUP(競技者一覧!K22,種目コード一覧!$A$1:$C$213,3,FALSE)-LEN(競技者一覧!L22)),競技者一覧!L22),\"\")","v":""},{"$f":"IFERROR(CONCATENATE(VLOOKUP(競技者一覧!M22,種目コード一覧!$A$1:$C$213,2,FALSE),\" \",REPT(\"0\",VLOOKUP(競技者一覧!M22,種目コード一覧!$A$1:$C$213,3,FALSE)-LEN(競技者一覧!N22)),競技者一覧!N22),\"\")","v":""},{"$f":"IFERROR(CONCATENATE(VLOOKUP(競技者一覧!O22,種目コード一覧!$A$1:$C$213,2,FALSE),\" \",REPT(\"0\",VLOOKUP(競技者一覧!O22,種目コード一覧!$A$1:$C$213,3,FALSE)-LEN(競技者一覧!P22)),競技者一覧!P22),\"\")","v":""},{"$f":"IFERROR(CONCATENATE(VLOOKUP(競技者一覧!Q22,種目コード一覧!$A$1:$C$213,2,FALSE),\" \",REPT(\"0\",VLOOKUP(競技者一覧!Q22,種目コード一覧!$A$1:$C$213,3,FALSE)-LEN(競技者一覧!R22)),競技者一覧!R22),\"\")","v":""},{"$f":"IFERROR(CONCATENATE(VLOOKUP(競技者一覧!S22,種目コード一覧!$A$1:$C$213,2,FALSE),\" \",REPT(\"0\",VLOOKUP(競技者一覧!S22,種目コード一覧!$A$1:$C$213,3,FALSE)-LEN(競技者一覧!T22)),競技者一覧!T22),\"\")","v":""},{"$f":"IFERROR(CONCATENATE(VLOOKUP(競技者一覧!U22,種目コード一覧!$A$1:$C$213,2,FALSE),\" \",REPT(\"0\",VLOOKUP(競技者一覧!U22,種目コード一覧!$A$1:$C$213,3,FALSE)-LEN(競技者一覧!V22)),競技者一覧!V22),\"\")","v":""}]
[{"$f":"CONCATENATE($F$2,Sheet4!B12)","v":{"$error":"#N/A"}},{"$f":"CONCATENATE(競技者一覧!C23,\"(\",競技者一覧!F23,\")\")","v":"()"},{"$f":"CONCATENATE(競技者一覧!D23)","v":""},{"$f":"競技者一覧!E23","v":0},{"$f":"VLOOKUP(競技者一覧!$C$6,Sheet4!$D$2:$E$48,2,FALSE)","v":{"$error":"#N/A"}},{"$f":"VLOOKUP(競技者一覧!$C$7,学校番号表!$B$2:$C$1004,2,FALSE)","v":{"$error":"#N/A"}},{"$f":"CONCATENATE(競技者一覧!B23)","v":""},{"$f":"IFERROR(CONCATENATE(VLOOKUP(競技者一覧!G23,種目コード一覧!$A$1:$C$213,2,FALSE),\" \",REPT(\"0\",VLOOKUP(競技者一覧!G23,種目コード一覧!$A$1:$C$213,3,FALSE)-LEN(競技者一覧!H23)),競技者一覧!H23),\"\")","v":""},{"$f":"IFERROR(CONCATENATE(VLOOKUP(競技者一覧!I23,種目コード一覧!$A$1:$C$213,2,FALSE),\" \",REPT(\"0\",VLOOKUP(競技者一覧!I23,種目コード一覧!$A$1:$C$213,3,FALSE)-LEN(競技者一覧!J23)),競技者一覧!J23),\"\")","v":""},{"$f":"IFERROR(CONCATENATE(VLOOKUP(競技者一覧!K23,種目コード一覧!$A$1:$C$213,2,FALSE),\" \",REPT(\"0\",VLOOKUP(競技者一覧!K23,種目コード一覧!$A$1:$C$213,3,FALSE)-LEN(競技者一覧!L23)),競技者一覧!L23),\"\")","v":""},{"$f":"IFERROR(CONCATENATE(VLOOKUP(競技者一覧!M23,種目コード一覧!$A$1:$C$213,2,FALSE),\" \",REPT(\"0\",VLOOKUP(競技者一覧!M23,種目コード一覧!$A$1:$C$213,3,FALSE)-LEN(競技者一覧!N23)),競技者一覧!N23),\"\")","v":""},{"$f":"IFERROR(CONCATENATE(VLOOKUP(競技者一覧!O23,種目コード一覧!$A$1:$C$213,2,FALSE),\" \",REPT(\"0\",VLOOKUP(競技者一覧!O23,種目コード一覧!$A$1:$C$213,3,FALSE)-LEN(競技者一覧!P23)),競技者一覧!P23),\"\")","v":""},{"$f":"IFERROR(CONCATENATE(VLOOKUP(競技者一覧!Q23,種目コード一覧!$A$1:$C$213,2,FALSE),\" \",REPT(\"0\",VLOOKUP(競技者一覧!Q23,種目コード一覧!$A$1:$C$213,3,FALSE)-LEN(競技者一覧!R23)),競技者一覧!R23),\"\")","v":""},{"$f":"IFERROR(CONCATENATE(VLOOKUP(競技者一覧!S23,種目コード一覧!$A$1:$C$213,2,FALSE),\" \",REPT(\"0\",VLOOKUP(競技者一覧!S23,種目コード一覧!$A$1:$C$213,3,FALSE)-LEN(競技者一覧!T23)),競技者一覧!T23),\"\")","v":""},{"$f":"IFERROR(CONCATENATE(VLOOKUP(競技者一覧!U23,種目コード一覧!$A$1:$C$213,2,FALSE),\" \",REPT(\"0\",VLOOKUP(競技者一覧!U23,種目コード一覧!$A$1:$C$213,3,FALSE)-LEN(競技者一覧!V23)),競技者一覧!V23),\"\")","v":""}]
[{"$f":"CONCATENATE($F$2,Sheet4!B13)","v":{"$error":"#N/A"}},{"$f":"CONCATENATE(競技者一覧!C24,\"(\",競技者一覧!F24,\")\")","v":"()"},{"$f":"CONCATENATE(競技者一覧!D24)","v":""},{"$f":"競技者一覧!E24","v":0},{"$f":"VLOOKUP(競技者一覧!$C$6,Sheet4!$D$2:$E$48,2,FALSE)","v":{"$error":"#N/A"}},{"$f":"VLOOKUP(競技者一覧!$C$7,学校番号表!$B$2:$C$1004,2,FALSE)","v":{"$error":"#N/A"}},{"$f":"CONCATENATE(競技者一覧!B24)","v":""},{"$f":"IFERROR(CONCATENATE(VLOOKUP(競技者一覧!G24,種目コード一覧!$A$1:$C$213,2,FALSE),\" \",REPT(\"0\",VLOOKUP(競技者一覧!G24,種目コード一覧!$A$1:$C$213,3,FALSE)-LEN(競技者一覧!H24)),競技者一覧!H24),\"\")","v":""},{"$f":"IFERROR(CONCATENATE(VLOOKUP(競技者一覧!I24,種目コード一覧!$A$1:$C$213,2,FALSE),\" \",REPT(\"0\",VLOOKUP(競技者一覧!I24,種目コード一覧!$A$1:$C$213,3,FALSE)-LEN(競技者一覧!J24)),競技者一覧!J24),\"\")","v":""},{"$f":"IFERROR(CONCATENATE(VLOOKUP(競技者一覧!K24,種目コード一覧!$A$1:$C$213,2,FALSE),\" \",REPT(\"0\",VLOOKUP(競技者一覧!K24,種目コード一覧!$A$1:$C$213,3,FALSE)-LEN(競技者一覧!L24)),競技者一覧!L24),\"\")","v":""},{"$f":"IFERROR(CONCATENATE(VLOOKUP(競技者一覧!M24,種目コード一覧!$A$1:$C$213,2,FALSE),\" \",REPT(\"0\",VLOOKUP(競技者一覧!M24,種目コード一覧!$A$1:$C$213,3,FALSE)-LEN(競技者一覧!N24)),競技者一覧!N24),\"\")","v":""},{"$f":"IFERROR(CONCATENATE(VLOOKUP(競技者一覧!O24,種目コード一覧!$A$1:$C$213,2,FALSE),\" \",REPT(\"0\",VLOOKUP(競技者一覧!O24,種目コード一覧!$A$1:$C$213,3,FALSE)-LEN(競技者一覧!P24)),競技者一覧!P24),\"\")","v":""},{"$f":"IFERROR(CONCATENATE(VLOOKUP(競技者一覧!Q24,種目コード一覧!$A$1:$C$213,2,FALSE),\" \",REPT(\"0\",VLOOKUP(競技者一覧!Q24,種目コード一覧!$A$1:$C$213,3,FALSE)-LEN(競技者一覧!R24)),競技者一覧!R24),\"\")","v":""},{"$f":"IFERROR(CONCATENATE(VLOOKUP(競技者一覧!S24,種目コード一覧!$A$1:$C$213,2,FALSE),\" \",REPT(\"0\",VLOOKUP(競技者一覧!S24,種目コード一覧!$A$1:$C$213,3,FALSE)-LEN(競技者一覧!T24)),競技者一覧!T24),\"\")","v":""},{"$f":"IFERROR(CONCATENATE(VLOOKUP(競技者一覧!U24,種目コード一覧!$A$1:$C$213,2,FALSE),\" \",REPT(\"0\",VLOOKUP(競技者一覧!U24,種目コード一覧!$A$1:$C$213,3,FALSE)-LEN(競技者一覧!V24)),競技者一覧!V24),\"\")","v":""}]
[{"$f":"CONCATENATE($F$2,Sheet4!B14)","v":{"$error":"#N/A"}},{"$f":"CONCATENATE(競技者一覧!C25,\"(\",競技者一覧!F25,\")\")","v":"()"},{"$f":"CONCATENATE(競技者一覧!D25)","v":""},{"$f":"競技者一覧!E25","v":0},{"$f":"VLOOKUP(競技者一覧!$C$6,Sheet4!$D$2:$E$48,2,FALSE)","v":{"$error":"#N/A"}},{"$f":"VLOOKUP(競技者一覧!$C$7,学校番号表!$B$2:$C$1004,2,FALSE)","v":{"$error":"#N/A"}},{"$f":"CONCATENATE(競技者一覧!B25)","v":""},{"$f":"IFERROR(CONCATENATE(VLOOKUP(競技者一覧!G25,種目コード一覧!$A$1:$C$213,2,FALSE),\" \",REPT(\"0\",VLOOKUP(競技者一覧!G25,種目コード一覧!$A$1:$C$213,3,FALSE)-LEN(競技者一覧!H25)),競技者一覧!H25),\"\")","v":""},{"$f":"IFERROR(CONCATENATE(VLOOKUP(競技者一覧!I25,種目コード一覧!$A$1:$C$213,2,FALSE),\" \",REPT(\"0\",VLOOKUP(競技者一覧!I25,種目コード一覧!$A$1:$C$213,3,FALSE)-LEN(競技者一覧!J25)),競技者一覧!J25),\"\")","v":""},{"$f":"IFERROR(CONCATENATE(VLOOKUP(競技者一覧!K25,種目コード一覧!$A$1:$C$213,2,FALSE),\" \",REPT(\"0\",VLOOKUP(競技者一覧!K25,種目コード一覧!$A$1:$C$213,3,FALSE)-LEN(競技者一覧!L25)),競技者一覧!L25),\"\")","v":""},{"$f":"IFERROR(CONCATENATE(VLOOKUP(競技者一覧!M25,種目コード一覧!$A$1:$C$213,2,FALSE),\" \",REPT(\"0\",VLOOKUP(競技者一覧!M25,種目コード一覧!$A$1:$C$213,3,FALSE)-LEN(競技者一覧!N25)),競技者一覧!N25),\"\")","v":""},{"$f":"IFERROR(CONCATENATE(VLOOKUP(競技者一覧!O25,種目コード一覧!$A$1:$C$213,2,FALSE),\" \",REPT(\"0\",VLOOKUP(競技者一覧!O25,種目コード一覧!$A$1:$C$213,3,FALSE)-LEN(競技者一覧!P25)),競技者一覧!P25),\"\")","v":""},{"$f":"IFERROR(CONCATENATE(VLOOKUP(競技者一覧!Q25,種目コード一覧!$A$1:$C$213,2,FALSE),\" \",REPT(\"0\",VLOOKUP(競技者一覧!Q25,種目コード一覧!$A$1:$C$213,3,FALSE)-LEN(競技者一覧!R25)),競技者一覧!R25),\"\")","v":""},{"$f":"IFERROR(CONCATENATE(VLOOKUP(競技者一覧!S25,種目コード一覧!$A$1:$C$213,2,FALSE),\" \",REPT(\"0\",VLOOKUP(競技者一覧!S25,種目コード一覧!$A$1:$C$213,3,FALSE)-LEN(競技者一覧!T25)),競技者一覧!T25),\"\")","v":""},{"$f":"IFERROR(CONCATENATE(VLOOKUP(競技者一覧!U25,種目コード一覧!$A$1:$C$213,2,FALSE),\" \",REPT(\"0\",VLOOKUP(競技者一覧!U25,種目コード一覧!$A$1:$C$213,3,FALSE)-LEN(競技者一覧!V25)),競技者一覧!V25),\"\")","v":""}]
[{"$f":"CONCATENATE($F$2,Sheet4!B15)","v":{"$error":"#N/A"}},{"$f":"CONCATENATE(競技者一覧!C26,\"(\",競技者一覧!F26,\")\")","v":"()"},{"$f":"CONCATENATE(競技者一覧!D26)","v":""},{"$f":"競技者一覧!E26","v":0},{"$f":"VLOOKUP(競技者一覧!$C$6,Sheet4!$D$2:$E$48,2,FALSE)","v":{"$error":"#N/A"}},{"$f":"VLOOKUP(競技者一覧!$C$7,学校番号表!$B$2:$C$1004,2,FALSE)","v":{"$error":"#N/A"}},{"$f":"CONCATENATE(競技者一覧!B26)","v":""},{"$f":"IFERROR(CONCATENATE(VLOOKUP(競技者一覧!G26,種目コード一覧!$A$1:$C$213,2,FALSE),\" \",REPT(\"0\",VLOOKUP(競技者一覧!G26,種目コード一覧!$A$1:$C$213,3,FALSE)-LEN(競技者一覧!H26)),競技者一覧!H26),\"\")","v":""},{"$f":"IFERROR(CONCATENATE(VLOOKUP(競技者一覧!I26,種目コード一覧!$A$1:$C$213,2,FALSE),\" \",REPT(\"0\",VLOOKUP(競技者一覧!I26,種目コード一覧!$A$1:$C$213,3,FALSE)-LEN(競技者一覧!J26)),競技者一覧!J26),\"\")","v":""},{"$f":"IFERROR(CONCATENATE(VLOOKUP(競技者一覧!K26,種目コード一覧!$A$1:$C$213,2,FALSE),\" \",REPT(\"0\",VLOOKUP(競技者一覧!K26,種目コード一覧!$A$1:$C$213,3,FALSE)-LEN(競技者一覧!L26)),競技者一覧!L26),\"\")","v":""},{"$f":"IFERROR(CONCATENATE(VLOOKUP(競技者一覧!M26,種目コード一覧!$A$1:$C$213,2,FALSE),\" \",REPT(\"0\",VLOOKUP(競技者一覧!M26,種目コード一覧!$A$1:$C$213,3,FALSE)-LEN(競技者一覧!N26)),競技者一覧!N26),\"\")","v":""},{"$f":"IFERROR(CONCATENATE(VLOOKUP(競技者一覧!O26,種目コード一覧!$A$1:$C$213,2,FALSE),\" \",REPT(\"0\",VLOOKUP(競技者一覧!O26,種目コード一覧!$A$1:$C$213,3,FALSE)-LEN(競技者一覧!P26)),競技者一覧!P26),\"\")","v":""},{"$f":"IFERROR(CONCATENATE(VLOOKUP(競技者一覧!Q26,種目コード一覧!$A$1:$C$213,2,FALSE),\" \",REPT(\"0\",VLOOKUP(競技者一覧!Q26,種目コード一覧!$A$1:$C$213,3,FALSE)-LEN(競技者一覧!R26)),競技者一覧!R26),\"\")","v":""},{"$f":"IFERROR(CONCATENATE(VLOOKUP(競技者一覧!S26,種目コード一覧!$A$1:$C$213,2,FALSE),\" \",REPT(\"0\",VLOOKUP(競技者一覧!S26,種目コード一覧!$A$1:$C$213,3,FALSE)-LEN(競技者一覧!T26)),競技者一覧!T26),\"\")","v":""},{"$f":"IFERROR(CONCATENATE(VLOOKUP(競技者一覧!U26,種目コード一覧!$A$1:$C$213,2,FALSE),\" \",REPT(\"0\",VLOOKUP(競技者一覧!U26,種目コード一覧!$A$1:$C$213,3,FALSE)-LEN(競技者一覧!V26)),競技者一覧!V26),\"\")","v":""}]
[{"$f":"CONCATENATE($F$2,Sheet4!B16)","v":{"$error":"#N/A"}},{"$f":"CONCATENATE(競技者一覧!C27,\"(\",競技者一覧!F27,\")\")","v":"()"},{"$f":"CONCATENATE(競技者一覧!D27)","v":""},{"$f":"競技者一覧!E27","v":0},{"$f":"VLOOKUP(競技者一覧!$C$6,Sheet4!$D$2:$E$48,2,FALSE)","v":{"$error":"#N/A"}},{"$f":"VLOOKUP(競技者一覧!$C$7,学校番号表!$B$2:$C$1004,2,FALSE)","v":{"$error":"#N/A"}},{"$f":"CONCATENATE(競技者一覧!B27)","v":""},{"$f":"IFERROR(CONCATENATE(VLOOKUP(競技者一覧!G27,種目コード一覧!$A$1:$C$213,2,FALSE),\" \",REPT(\"0\",VLOOKUP(競技者一覧!G27,種目コード一覧!$A$1:$C$213,3,FALSE)-LEN(競技者一覧!H27)),競技者一覧!H27),\"\")","v":""},{"$f":"IFERROR(CONCATENATE(VLOOKUP(競技者一覧!I27,種目コード一覧!$A$1:$C$213,2,FALSE),\" \",REPT(\"0\",VLOOKUP(競技者一覧!I27,種目コード一覧!$A$1:$C$213,3,FALSE)-LEN(競技者一覧!J27)),競技者一覧!J27),\"\")","v":""},{"$f":"IFERROR(CONCATENATE(VLOOKUP(競技者一覧!K27,種目コード一覧!$A$1:$C$213,2,FALSE),\" \",REPT(\"0\",VLOOKUP(競技者一覧!K27,種目コード一覧!$A$1:$C$213,3,FALSE)-LEN(競技者一覧!L27)),競技者一覧!L27),\"\")","v":""},{"$f":"IFERROR(CONCATENATE(VLOOKUP(競技者一覧!M27,種目コード一覧!$A$1:$C$213,2,FALSE),\" \",REPT(\"0\",VLOOKUP(競技者一覧!M27,種目コード一覧!$A$1:$C$213,3,FALSE)-LEN(競技者一覧!N27)),競技者一覧!N27),\"\")","v":""},{"$f":"IFERROR(CONCATENATE(VLOOKUP(競技者一覧!O27,種目コード一覧!$A$1:$C$213,2,FALSE),\" \",REPT(\"0\",VLOOKUP(競技者一覧!O27,種目コード一覧!$A$1:$C$213,3,FALSE)-LEN(競技者一覧!P27)),競技者一覧!P27),\"\")","v":""},{"$f":"IFERROR(CONCATENATE(VLOOKUP(競技者一覧!Q27,種目コード一覧!$A$1:$C$213,2,FALSE),\" \",REPT(\"0\",VLOOKUP(競技者一覧!Q27,種目コード一覧!$A$1:$C$213,3,FALSE)-LEN(競技者一覧!R27)),競技者一覧!R27),\"\")","v":""},{"$f":"IFERROR(CONCATENATE(VLOOKUP(競技者一覧!S27,種目コード一覧!$A$1:$C$213,2,FALSE),\" \",REPT(\"0\",VLOOKUP(競技者一覧!S27,種目コード一覧!$A$1:$C$213,3,FALSE)-LEN(競技者一覧!T27)),競技者一覧!T27),\"\")","v":""},{"$f":"IFERROR(CONCATENATE(VLOOKUP(競技者一覧!U27,種目コード一覧!$A$1:$C$213,2,FALSE),\" \",REPT(\"0\",VLOOKUP(競技者一覧!U27,種目コード一覧!$A$1:$C$213,3,FALSE)-LEN(競技者一覧!V27)),競技者一覧!V27),\"\")","v":""}]
[{"$f":"CONCATENATE($F$2,Sheet4!B17)","v":{"$error":"#N/A"}},{"$f":"CONCATENATE(競技者一覧!C28,\"(\",競技者一覧!F28,\")\")","v":"()"},{"$f":"CONCATENATE(競技者一覧!D28)","v":""},{"$f":"競技者一覧!E28","v":0},{"$f":"VLOOKUP(競技者一覧!$C$6,Sheet4!$D$2:$E$48,2,FALSE)","v":{"$error":"#N/A"}},{"$f":"VLOOKUP(競技者一覧!$C$7,学校番号表!$B$2:$C$1004,2,FALSE)","v":{"$error":"#N/A"}},{"$f":"CONCATENATE(競技者一覧!B28)","v":""},{"$f":"IFERROR(CONCATENATE(VLOOKUP(競技者一覧!G28,種目コード一覧!$A$1:$C$213,2,FALSE),\" \",REPT(\"0\",VLOOKUP(競技者一覧!G28,種目コード一覧!$A$1:$C$213,3,FALSE)-LEN(競技者一覧!H28)),競技者一覧!H28),\"\")","v":""},{"$f":"IFERROR(CONCATENATE(VLOOKUP(競技者一覧!I28,種目コード一覧!$A$1:$C$213,2,FALSE),\" \",REPT(\"0\",VLOOKUP(競技者一覧!I28,種目コード一覧!$A$1:$C$213,3,FALSE)-LEN(競技者一覧!J28)),競技者一覧!J28),\"\")","v":""},{"$f":"IFERROR(CONCATENATE(VLOOKUP(競技者一覧!K28,種目コード一覧!$A$1:$C$213,2,FALSE),\" \",REPT(\"0\",VLOOKUP(競技者一覧!K28,種目コード一覧!$A$1:$C$213,3,FALSE)-LEN(競技者一覧!L28)),競技者一覧!L28),\"\")","v":""},{"$f":"IFERROR(CONCATENATE(VLOOKUP(競技者一覧!M28,種目コード一覧!$A$1:$C$213,2,FALSE),\" \",REPT(\"0\",VLOOKUP(競技者一覧!M28,種目コード一覧!$A$1:$C$213,3,FALSE)-LEN(競技者一覧!N28)),競技者一覧!N28),\"\")","v":""},{"$f":"IFERROR(CONCATENATE(VLOOKUP(競技者一覧!O28,種目コード一覧!$A$1:$C$213,2,FALSE),\" \",REPT(\"0\",VLOOKUP(競技者一覧!O28,種目コード一覧!$A$1:$C$213,3,FALSE)-LEN(競技者一覧!P28)),競技者一覧!P28),\"\")","v":""},{"$f":"IFERROR(CONCATENATE(VLOOKUP(競技者一覧!Q28,種目コード一覧!$A$1:$C$213,2,FALSE),\" \",REPT(\"0\",VLOOKUP(競技者一覧!Q28,種目コード一覧!$A$1:$C$213,3,FALSE)-LEN(競技者一覧!R28)),競技者一覧!R28),\"\")","v":""},{"$f":"IFERROR(CONCATENATE(VLOOKUP(競技者一覧!S28,種目コード一覧!$A$1:$C$213,2,FALSE),\" \",REPT(\"0\",VLOOKUP(競技者一覧!S28,種目コード一覧!$A$1:$C$213,3,FALSE)-LEN(競技者一覧!T28)),競技者一覧!T28),\"\")","v":""},{"$f":"IFERROR(CONCATENATE(VLOOKUP(競技者一覧!U28,種目コード一覧!$A$1:$C$213,2,FALSE),\" \",REPT(\"0\",VLOOKUP(競技者一覧!U28,種目コード一覧!$A$1:$C$213,3,FALSE)-LEN(競技者一覧!V28)),競技者一覧!V28),\"\")","v":""}]
[{"$f":"CONCATENATE($F$2,Sheet4!B18)","v":{"$error":"#N/A"}},{"$f":"CONCATENATE(競技者一覧!C29,\"(\",競技者一覧!F29,\")\")","v":"()"},{"$f":"CONCATENATE(競技者一覧!D29)","v":""},{"$f":"競技者一覧!E29","v":0},{"$f":"VLOOKUP(競技者一覧!$C$6,Sheet4!$D$2:$E$48,2,FALSE)","v":{"$error":"#N/A"}},{"$f":"VLOOKUP(競技者一覧!$C$7,学校番号表!$B$2:$C$1004,2,FALSE)","v":{"$error":"#N/A"}},{"$f":"CONCATENATE(競技者一覧!B29)","v":""},{"$f":"IFERROR(CONCATENATE(VLOOKUP(競技者一覧!G29,種目コード一覧!$A$1:$C$213,2,FALSE),\" \",REPT(\"0\",VLOOKUP(競技者一覧!G29,種目コード一覧!$A$1:$C$213,3,FALSE)-LEN(競技者一覧!H29)),競技者一覧!H29),\"\")","v":""},{"$f":"IFERROR(CONCATENATE(VLOOKUP(競技者一覧!I29,種目コード一覧!$A$1:$C$213,2,FALSE),\" \",REPT(\"0\",VLOOKUP(競技者一覧!I29,種目コード一覧!$A$1:$C$213,3,FALSE)-LEN(競技者一覧!J29)),競技者一覧!J29),\"\")","v":""},{"$f":"IFERROR(CONCATENATE(VLOOKUP(競技者一覧!K29,種目コード一覧!$A$1:$C$213,2,FALSE),\" \",REPT(\"0\",VLOOKUP(競技者一覧!K29,種目コード一覧!$A$1:$C$213,3,FALSE)-LEN(競技者一覧!L29)),競技者一覧!L29),\"\")","v":""},{"$f":"IFERROR(CONCATENATE(VLOOKUP(競技者一覧!M29,種目コード一覧!$A$1:$C$213,2,FALSE),\" \",REPT(\"0\",VLOOKUP(競技者一覧!M29,種目コード一覧!$A$1:$C$213,3,FALSE)-LEN(競技者一覧!N29)),競技者一覧!N29),\"\")","v":""},{"$f":"IFERROR(CONCATENATE(VLOOKUP(競技者一覧!O29,種目コード一覧!$A$1:$C$213,2,FALSE),\" \",REPT(\"0\",VLOOKUP(競技者一覧!O29,種目コード一覧!$A$1:$C$213,3,FALSE)-LEN(競技者一覧!P29)),競技者一覧!P29),\"\")","v":""},{"$f":"IFERROR(CONCATENATE(VLOOKUP(競技者一覧!Q29,種目コード一覧!$A$1:$C$213,2,FALSE),\" \",REPT(\"0\",VLOOKUP(競技者一覧!Q29,種目コード一覧!$A$1:$C$213,3,FALSE)-LEN(競技者一覧!R29)),競技者一覧!R29),\"\")","v":""},{"$f":"IFERROR(CONCATENATE(VLOOKUP(競技者一覧!S29,種目コード一覧!$A$1:$C$213,2,FALSE),\" \",REPT(\"0\",VLOOKUP(競技者一覧!S29,種目コード一覧!$A$1:$C$213,3,FALSE)-LEN(競技者一覧!T29)),競技者一覧!T29),\"\")","v":""},{"$f":"IFERROR(CONCATENATE(VLOOKUP(競技者一覧!U29,種目コード一覧!$A$1:$C$213,2,FALSE),\" \",REPT(\"0\",VLOOKUP(競技者一覧!U29,種目コード一覧!$A$1:$C$213,3,FALSE)-LEN(競技者一覧!V29)),競技者一覧!V29),\"\")","v":""}]
[{"$f":"CONCATENATE($F$2,Sheet4!B19)","v":{"$error":"#N/A"}},{"$f":"CONCATENATE(競技者一覧!C30,\"(\",競技者一覧!F30,\")\")","v":"()"},{"$f":"CONCATENATE(競技者一覧!D30)","v":""},{"$f":"競技者一覧!E30","v":0},{"$f":"VLOOKUP(競技者一覧!$C$6,Sheet4!$D$2:$E$48,2,FALSE)","v":{"$error":"#N/A"}},{"$f":"VLOOKUP(競技者一覧!$C$7,学校番号表!$B$2:$C$1004,2,FALSE)","v":{"$error":"#N/A"}},{"$f":"CONCATENATE(競技者一覧!B30)","v":""},{"$f":"IFERROR(CONCATENATE(VLOOKUP(競技者一覧!G30,種目コード一覧!$A$1:$C$213,2,FALSE),\" \",REPT(\"0\",VLOOKUP(競技者一覧!G30,種目コード一覧!$A$1:$C$213,3,FALSE)-LEN(競技者一覧!H30)),競技者一覧!H30),\"\")","v":""},{"$f":"IFERROR(CONCATENATE(VLOOKUP(競技者一覧!I30,種目コード一覧!$A$1:$C$213,2,FALSE),\" \",REPT(\"0\",VLOOKUP(競技者一覧!I30,種目コード一覧!$A$1:$C$213,3,FALSE)-LEN(競技者一覧!J30)),競技者一覧!J30),\"\")","v":""},{"$f":"IFERROR(CONCATENATE(VLOOKUP(競技者一覧!K30,種目コード一覧!$A$1:$C$213,2,FALSE),\" \",REPT(\"0\",VLOOKUP(競技者一覧!K30,種目コード一覧!$A$1:$C$213,3,FALSE)-LEN(競技者一覧!L30)),競技者一覧!L30),\"\")","v":""},{"$f":"IFERROR(CONCATENATE(VLOOKUP(競技者一覧!M30,種目コード一覧!$A$1:$C$213,2,FALSE),\" \",REPT(\"0\",VLOOKUP(競技者一覧!M30,種目コード一覧!$A$1:$C$213,3,FALSE)-LEN(競技者一覧!N30)),競技者一覧!N30),\"\")","v":""},{"$f":"IFERROR(CONCATENATE(VLOOKUP(競技者一覧!O30,種目コード一覧!$A$1:$C$213,2,FALSE),\" \",REPT(\"0\",VLOOKUP(競技者一覧!O30,種目コード一覧!$A$1:$C$213,3,FALSE)-LEN(競技者一覧!P30)),競技者一覧!P30),\"\")","v":""},{"$f":"IFERROR(CONCATENATE(VLOOKUP(競技者一覧!Q30,種目コード一覧!$A$1:$C$213,2,FALSE),\" \",REPT(\"0\",VLOOKUP(競技者一覧!Q30,種目コード一覧!$A$1:$C$213,3,FALSE)-LEN(競技者一覧!R30)),競技者一覧!R30),\"\")","v":""},{"$f":"IFERROR(CONCATENATE(VLOOKUP(競技者一覧!S30,種目コード一覧!$A$1:$C$213,2,FALSE),\" \",REPT(\"0\",VLOOKUP(競技者一覧!S30,種目コード一覧!$A$1:$C$213,3,FALSE)-LEN(競技者一覧!T30)),競技者一覧!T30),\"\")","v":""},{"$f":"IFERROR(CONCATENATE(VLOOKUP(競技者一覧!U30,種目コード一覧!$A$1:$C$213,2,FALSE),\" \",REPT(\"0\",VLOOKUP(競技者一覧!U30,種目コード一覧!$A$1:$C$213,3,FALSE)-LEN(競技者一覧!V30)),競技者一覧!V30),\"\")","v":""}]
[{"$f":"CONCATENATE($F$2,Sheet4!B20)","v":{"$error":"#N/A"}},{"$f":"CONCATENATE(競技者一覧!C31,\"(\",競技者一覧!F31,\")\")","v":"()"},{"$f":"CONCATENATE(競技者一覧!D31)","v":""},{"$f":"競技者一覧!E31","v":0},{"$f":"VLOOKUP(競技者一覧!$C$6,Sheet4!$D$2:$E$48,2,FALSE)","v":{"$error":"#N/A"}},{"$f":"VLOOKUP(競技者一覧!$C$7,学校番号表!$B$2:$C$1004,2,FALSE)","v":{"$error":"#N/A"}},{"$f":"CONCATENATE(競技者一覧!B31)","v":""},{"$f":"IFERROR(CONCATENATE(VLOOKUP(競技者一覧!G31,種目コード一覧!$A$1:$C$213,2,FALSE),\" \",REPT(\"0\",VLOOKUP(競技者一覧!G31,種目コード一覧!$A$1:$C$213,3,FALSE)-LEN(競技者一覧!H31)),競技者一覧!H31),\"\")","v":""},{"$f":"IFERROR(CONCATENATE(VLOOKUP(競技者一覧!I31,種目コード一覧!$A$1:$C$213,2,FALSE),\" \",REPT(\"0\",VLOOKUP(競技者一覧!I31,種目コード一覧!$A$1:$C$213,3,FALSE)-LEN(競技者一覧!J31)),競技者一覧!J31),\"\")","v":""},{"$f":"IFERROR(CONCATENATE(VLOOKUP(競技者一覧!K31,種目コード一覧!$A$1:$C$213,2,FALSE),\" \",REPT(\"0\",VLOOKUP(競技者一覧!K31,種目コード一覧!$A$1:$C$213,3,FALSE)-LEN(競技者一覧!L31)),競技者一覧!L31),\"\")","v":""},{"$f":"IFERROR(CONCATENATE(VLOOKUP(競技者一覧!M31,種目コード一覧!$A$1:$C$213,2,FALSE),\" \",REPT(\"0\",VLOOKUP(競技者一覧!M31,種目コード一覧!$A$1:$C$213,3,FALSE)-LEN(競技者一覧!N31)),競技者一覧!N31),\"\")","v":""},{"$f":"IFERROR(CONCATENATE(VLOOKUP(競技者一覧!O31,種目コード一覧!$A$1:$C$213,2,FALSE),\" \",REPT(\"0\",VLOOKUP(競技者一覧!O31,種目コード一覧!$A$1:$C$213,3,FALSE)-LEN(競技者一覧!P31)),競技者一覧!P31),\"\")","v":""},{"$f":"IFERROR(CONCATENATE(VLOOKUP(競技者一覧!Q31,種目コード一覧!$A$1:$C$213,2,FALSE),\" \",REPT(\"0\",VLOOKUP(競技者一覧!Q31,種目コード一覧!$A$1:$C$213,3,FALSE)-LEN(競技者一覧!R31)),競技者一覧!R31),\"\")","v":""},{"$f":"IFERROR(CONCATENATE(VLOOKUP(競技者一覧!S31,種目コード一覧!$A$1:$C$213,2,FALSE),\" \",REPT(\"0\",VLOOKUP(競技者一覧!S31,種目コード一覧!$A$1:$C$213,3,FALSE)-LEN(競技者一覧!T31)),競技者一覧!T31),\"\")","v":""},{"$f":"IFERROR(CONCATENATE(VLOOKUP(競技者一覧!U31,種目コード一覧!$A$1:$C$213,2,FALSE),\" \",REPT(\"0\",VLOOKUP(競技者一覧!U31,種目コード一覧!$A$1:$C$213,3,FALSE)-LEN(競技者一覧!V31)),競技者一覧!V31),\"\")","v":""}]
[{"$f":"CONCATENATE($F$2,Sheet4!B21)","v":{"$error":"#N/A"}},{"$f":"CONCATENATE(競技者一覧!C32,\"(\",競技者一覧!F32,\")\")","v":"()"},{"$f":"CONCATENATE(競技者一覧!D32)","v":""},{"$f":"競技者一覧!E32","v":0},{"$f":"VLOOKUP(競技者一覧!$C$6,Sheet4!$D$2:$E$48,2,FALSE)","v":{"$error":"#N/A"}},{"$f":"VLOOKUP(競技者一覧!$C$7,学校番号表!$B$2:$C$1004,2,FALSE)","v":{"$error":"#N/A"}},{"$f":"CONCATENATE(競技者一覧!B32)","v":""},{"$f":"IFERROR(CONCATENATE(VLOOKUP(競技者一覧!G32,種目コード一覧!$A$1:$C$213,2,FALSE),\" \",REPT(\"0\",VLOOKUP(競技者一覧!G32,種目コード一覧!$A$1:$C$213,3,FALSE)-LEN(競技者一覧!H32)),競技者一覧!H32),\"\")","v":""},{"$f":"IFERROR(CONCATENATE(VLOOKUP(競技者一覧!I32,種目コード一覧!$A$1:$C$213,2,FALSE),\" \",REPT(\"0\",VLOOKUP(競技者一覧!I32,種目コード一覧!$A$1:$C$213,3,FALSE)-LEN(競技者一覧!J32)),競技者一覧!J32),\"\")","v":""},{"$f":"IFERROR(CONCATENATE(VLOOKUP(競技者一覧!K32,種目コード一覧!$A$1:$C$213,2,FALSE),\" \",REPT(\"0\",VLOOKUP(競技者一覧!K32,種目コード一覧!$A$1:$C$213,3,FALSE)-LEN(競技者一覧!L32)),競技者一覧!L32),\"\")","v":""},{"$f":"IFERROR(CONCATENATE(VLOOKUP(競技者一覧!M32,種目コード一覧!$A$1:$C$213,2,FALSE),\" \",REPT(\"0\",VLOOKUP(競技者一覧!M32,種目コード一覧!$A$1:$C$213,3,FALSE)-LEN(競技者一覧!N32)),競技者一覧!N32),\"\")","v":""},{"$f":"IFERROR(CONCATENATE(VLOOKUP(競技者一覧!O32,種目コード一覧!$A$1:$C$213,2,FALSE),\" \",REPT(\"0\",VLOOKUP(競技者一覧!O32,種目コード一覧!$A$1:$C$213,3,FALSE)-LEN(競技者一覧!P32)),競技者一覧!P32),\"\")","v":""},{"$f":"IFERROR(CONCATENATE(VLOOKUP(競技者一覧!Q32,種目コード一覧!$A$1:$C$213,2,FALSE),\" \",REPT(\"0\",VLOOKUP(競技者一覧!Q32,種目コード一覧!$A$1:$C$213,3,FALSE)-LEN(競技者一覧!R32)),競技者一覧!R32),\"\")","v":""},{"$f":"IFERROR(CONCATENATE(VLOOKUP(競技者一覧!S32,種目コード一覧!$A$1:$C$213,2,FALSE),\" \",REPT(\"0\",VLOOKUP(競技者一覧!S32,種目コード一覧!$A$1:$C$213,3,FALSE)-LEN(競技者一覧!T32)),競技者一覧!T32),\"\")","v":""},{"$f":"IFERROR(CONCATENATE(VLOOKUP(競技者一覧!U32,種目コード一覧!$A$1:$C$213,2,FALSE),\" \",REPT(\"0\",VLOOKUP(競技者一覧!U32,種目コード一覧!$A$1:$C$213,3,FALSE)-LEN(競技者一覧!V32)),競技者一覧!V32),\"\")","v":""}]
[{"$f":"CONCATENATE($F$2,Sheet4!B22)","v":{"$error":"#N/A"}},{"$f":"CONCATENATE(競技者一覧!C33,\"(\",競技者一覧!F33,\")\")","v":"()"},{"$f":"CONCATENATE(競技者一覧!D33)","v":""},{"$f":"競技者一覧!E33","v":0},{"$f":"VLOOKUP(競技者一覧!$C$6,Sheet4!$D$2:$E$48,2,FALSE)","v":{"$error":"#N/A"}},{"$f":"VLOOKUP(競技者一覧!$C$7,学校番号表!$B$2:$C$1004,2,FALSE)","v":{"$error":"#N/A"}},{"$f":"CONCATENATE(競技者一覧!B33)","v":""},{"$f":"IFERROR(CONCATENATE(VLOOKUP(競技者一覧!G33,種目コード一覧!$A$1:$C$213,2,FALSE),\" \",REPT(\"0\",VLOOKUP(競技者一覧!G33,種目コード一覧!$A$1:$C$213,3,FALSE)-LEN(競技者一覧!H33)),競技者一覧!H33),\"\")","v":""},{"$f":"IFERROR(CONCATENATE(VLOOKUP(競技者一覧!I33,種目コード一覧!$A$1:$C$213,2,FALSE),\" \",REPT(\"0\",VLOOKUP(競技者一覧!I33,種目コード一覧!$A$1:$C$213,3,FALSE)-LEN(競技者一覧!J33)),競技者一覧!J33),\"\")","v":""},{"$f":"IFERROR(CONCATENATE(VLOOKUP(競技者一覧!K33,種目コード一覧!$A$1:$C$213,2,FALSE),\" \",REPT(\"0\",VLOOKUP(競技者一覧!K33,種目コード一覧!$A$1:$C$213,3,FALSE)-LEN(競技者一覧!L33)),競技者一覧!L33),\"\")","v":""},{"$f":"IFERROR(CONCATENATE(VLOOKUP(競技者一覧!M33,種目コード一覧!$A$1:$C$213,2,FALSE),\" \",REPT(\"0\",VLOOKUP(競技者一覧!M33,種目コード一覧!$A$1:$C$213,3,FALSE)-LEN(競技者一覧!N33)),競技者一覧!N33),\"\")","v":""},{"$f":"IFERROR(CONCATENATE(VLOOKUP(競技者一覧!O33,種目コード一覧!$A$1:$C$213,2,FALSE),\" \",REPT(\"0\",VLOOKUP(競技者一覧!O33,種目コード一覧!$A$1:$C$213,3,FALSE)-LEN(競技者一覧!P33)),競技者一覧!P33),\"\")","v":""},{"$f":"IFERROR(CONCATENATE(VLOOKUP(競技者一覧!Q33,種目コード一覧!$A$1:$C$213,2,FALSE),\" \",REPT(\"0\",VLOOKUP(競技者一覧!Q33,種目コード一覧!$A$1:$C$213,3,FALSE)-LEN(競技者一覧!R33)),競技者一覧!R33),\"\")","v":""},{"$f":"IFERROR(CONCATENATE(VLOOKUP(競技者一覧!S33,種目コード一覧!$A$1:$C$213,2,FALSE),\" \",REPT(\"0\",VLOOKUP(競技者一覧!S33,種目コード一覧!$A$1:$C$213,3,FALSE)-LEN(競技者一覧!T33)),競技者一覧!T33),\"\")","v":""},{"$f":"IFERROR(CONCATENATE(VLOOKUP(競技者一覧!U33,種目コード一覧!$A$1:$C$213,2,FALSE),\" \",REPT(\"0\",VLOOKUP(競技者一覧!U33,種目コード一覧!$A$1:$C$213,3,FALSE)-LEN(競技者一覧!V33)),競技者一覧!V33),\"\")","v":""}]
[{"$f":"CONCATENATE($F$2,Sheet4!B23)","v":{"$error":"#N/A"}},{"$f":"CONCATENATE(競技者一覧!C34,\"(\",競技者一覧!F34,\")\")","v":"()"},{"$f":"CONCATENATE(競技者一覧!D34)","v":""},{"$f":"競技者一覧!E34","v":0},{"$f":"VLOOKUP(競技者一覧!$C$6,Sheet4!$D$2:$E$48,2,FALSE)","v":{"$error":"#N/A"}},{"$f":"VLOOKUP(競技者一覧!$C$7,学校番号表!$B$2:$C$1004,2,FALSE)","v":{"$error":"#N/A"}},{"$f":"CONCATENATE(競技者一覧!B34)","v":""},{"$f":"IFERROR(CONCATENATE(VLOOKUP(競技者一覧!G34,種目コード一覧!$A$1:$C$213,2,FALSE),\" \",REPT(\"0\",VLOOKUP(競技者一覧!G34,種目コード一覧!$A$1:$C$213,3,FALSE)-LEN(競技者一覧!H34)),競技者一覧!H34),\"\")","v":""},{"$f":"IFERROR(CONCATENATE(VLOOKUP(競技者一覧!I34,種目コード一覧!$A$1:$C$213,2,FALSE),\" \",REPT(\"0\",VLOOKUP(競技者一覧!I34,種目コード一覧!$A$1:$C$213,3,FALSE)-LEN(競技者一覧!J34)),競技者一覧!J34),\"\")","v":""},{"$f":"IFERROR(CONCATENATE(VLOOKUP(競技者一覧!K34,種目コード一覧!$A$1:$C$213,2,FALSE),\" \",REPT(\"0\",VLOOKUP(競技者一覧!K34,種目コード一覧!$A$1:$C$213,3,FALSE)-LEN(競技者一覧!L34)),競技者一覧!L34),\"\")","v":""},{"$f":"IFERROR(CONCATENATE(VLOOKUP(競技者一覧!M34,種目コード一覧!$A$1:$C$213,2,FALSE),\" \",REPT(\"0\",VLOOKUP(競技者一覧!M34,種目コード一覧!$A$1:$C$213,3,FALSE)-LEN(競技者一覧!N34)),競技者一覧!N34),\"\")","v":""},{"$f":"IFERROR(CONCATENATE(VLOOKUP(競技者一覧!O34,種目コード一覧!$A$1:$C$213,2,FALSE),\" \",REPT(\"0\",VLOOKUP(競技者一覧!O34,種目コード一覧!$A$1:$C$213,3,FALSE)-LEN(競技者一覧!P34)),競技者一覧!P34),\"\")","v":""},{"$f":"IFERROR(CONCATENATE(VLOOKUP(競技者一覧!Q34,種目コード一覧!$A$1:$C$213,2,FALSE),\" \",REPT(\"0\",VLOOKUP(競技者一覧!Q34,種目コード一覧!$A$1:$C$213,3,FALSE)-LEN(競技者一覧!R34)),競技者一覧!R34),\"\")","v":""},{"$f":"IFERROR(CONCATENATE(VLOOKUP(競技者一覧!S34,種目コード一覧!$A$1:$C$213,2,FALSE),\" \",REPT(\"0\",VLOOKUP(競技者一覧!S34,種目コード一覧!$A$1:$C$213,3,FALSE)-LEN(競技者一覧!T34)),競技者一覧!T34),\"\")","v":""},{"$f":"IFERROR(CONCATENATE(VLOOKUP(競技者一覧!U34,種目コード一覧!$A$1:$C$213,2,FALSE),\" \",REPT(\"0\",VLOOKUP(競技者一覧!U34,種目コード一覧!$A$1:$C$213,3,FALSE)-LEN(競技者一覧!V34)),競技者一覧!V34),\"\")","v":""}]
[{"$f":"CONCATENATE($F$2,Sheet4!B24)","v":{"$error":"#N/A"}},{"$f":"CONCATENATE(競技者一覧!C35,\"(\",競技者一覧!F35,\")\")","v":"()"},{"$f":"CONCATENATE(競技者一覧!D35)","v":""},{"$f":"競技者一覧!E35","v":0},{"$f":"VLOOKUP(競技者一覧!$C$6,Sheet4!$D$2:$E$48,2,FALSE)","v":{"$error":"#N/A"}},{"$f":"VLOOKUP(競技者一覧!$C$7,学校番号表!$B$2:$C$1004,2,FALSE)","v":{"$error":"#N/A"}},{"$f":"CONCATENATE(競技者一覧!B35)","v":""},{"$f":"IFERROR(CONCATENATE(VLOOKUP(競技者一覧!G35,種目コード一覧!$A$1:$C$213,2,FALSE),\" \",REPT(\"0\",VLOOKUP(競技者一覧!G35,種目コード一覧!$A$1:$C$213,3,FALSE)-LEN(競技者一覧!H35)),競技者一覧!H35),\"\")","v":""},{"$f":"IFERROR(CONCATENATE(VLOOKUP(競技者一覧!I35,種目コード一覧!$A$1:$C$213,2,FALSE),\" \",REPT(\"0\",VLOOKUP(競技者一覧!I35,種目コード一覧!$A$1:$C$213,3,FALSE)-LEN(競技者一覧!J35)),競技者一覧!J35),\"\")","v":""},{"$f":"IFERROR(CONCATENATE(VLOOKUP(競技者一覧!K35,種目コード一覧!$A$1:$C$213,2,FALSE),\" \",REPT(\"0\",VLOOKUP(競技者一覧!K35,種目コード一覧!$A$1:$C$213,3,FALSE)-LEN(競技者一覧!L35)),競技者一覧!L35),\"\")","v":""},{"$f":"IFERROR(CONCATENATE(VLOOKUP(競技者一覧!M35,種目コード一覧!$A$1:$C$213,2,FALSE),\" \",REPT(\"0\",VLOOKUP(競技者一覧!M35,種目コード一覧!$A$1:$C$213,3,FALSE)-LEN(競技者一覧!N35)),競技者一覧!N35),\"\")","v":""},{"$f":"IFERROR(CONCATENATE(VLOOKUP(競技者一覧!O35,種目コード一覧!$A$1:$C$213,2,FALSE),\" \",REPT(\"0\",VLOOKUP(競技者一覧!O35,種目コード一覧!$A$1:$C$213,3,FALSE)-LEN(競技者一覧!P35)),競技者一覧!P35),\"\")","v":""},{"$f":"IFERROR(CONCATENATE(VLOOKUP(競技者一覧!Q35,種目コード一覧!$A$1:$C$213,2,FALSE),\" \",REPT(\"0\",VLOOKUP(競技者一覧!Q35,種目コード一覧!$A$1:$C$213,3,FALSE)-LEN(競技者一覧!R35)),競技者一覧!R35),\"\")","v":""},{"$f":"IFERROR(CONCATENATE(VLOOKUP(競技者一覧!S35,種目コード一覧!$A$1:$C$213,2,FALSE),\" \",REPT(\"0\",VLOOKUP(競技者一覧!S35,種目コード一覧!$A$1:$C$213,3,FALSE)-LEN(競技者一覧!T35)),競技者一覧!T35),\"\")","v":""},{"$f":"IFERROR(CONCATENATE(VLOOKUP(競技者一覧!U35,種目コード一覧!$A$1:$C$213,2,FALSE),\" \",REPT(\"0\",VLOOKUP(競技者一覧!U35,種目コード一覧!$A$1:$C$213,3,FALSE)-LEN(競技者一覧!V35)),競技者一覧!V35),\"\")","v":""}]
[{"$f":"CONCATENATE($F$2,Sheet4!B25)","v":{"$error":"#N/A"}},{"$f":"CONCATENATE(競技者一覧!C36,\"(\",競技者一覧!F36,\")\")","v":"()"},{"$f":"CONCATENATE(競技者一覧!D36)","v":""},{"$f":"競技者一覧!E36","v":0},{"$f":"VLOOKUP(競技者一覧!$C$6,Sheet4!$D$2:$E$48,2,FALSE)","v":{"$error":"#N/A"}},{"$f":"VLOOKUP(競技者一覧!$C$7,学校番号表!$B$2:$C$1004,2,FALSE)","v":{"$error":"#N/A"}},{"$f":"CONCATENATE(競技者一覧!B36)","v":""},{"$f":"IFERROR(CONCATENATE(VLOOKUP(競技者一覧!G36,種目コード一覧!$A$1:$C$213,2,FALSE),\" \",REPT(\"0\",VLOOKUP(競技者一覧!G36,種目コード一覧!$A$1:$C$213,3,FALSE)-LEN(競技者一覧!H36)),競技者一覧!H36),\"\")","v":""},{"$f":"IFERROR(CONCATENATE(VLOOKUP(競技者一覧!I36,種目コード一覧!$A$1:$C$213,2,FALSE),\" \",REPT(\"0\",VLOOKUP(競技者一覧!I36,種目コード一覧!$A$1:$C$213,3,FALSE)-LEN(競技者一覧!J36)),競技者一覧!J36),\"\")","v":""},{"$f":"IFERROR(CONCATENATE(VLOOKUP(競技者一覧!K36,種目コード一覧!$A$1:$C$213,2,FALSE),\" \",REPT(\"0\",VLOOKUP(競技者一覧!K36,種目コード一覧!$A$1:$C$213,3,FALSE)-LEN(競技者一覧!L36)),競技者一覧!L36),\"\")","v":""},{"$f":"IFERROR(CONCATENATE(VLOOKUP(競技者一覧!M36,種目コード一覧!$A$1:$C$213,2,FALSE),\" \",REPT(\"0\",VLOOKUP(競技者一覧!M36,種目コード一覧!$A$1:$C$213,3,FALSE)-LEN(競技者一覧!N36)),競技者一覧!N36),\"\")","v":""},{"$f":"IFERROR(CONCATENATE(VLOOKUP(競技者一覧!O36,種目コード一覧!$A$1:$C$213,2,FALSE),\" \",REPT(\"0\",VLOOKUP(競技者一覧!O36,種目コード一覧!$A$1:$C$213,3,FALSE)-LEN(競技者一覧!P36)),競技者一覧!P36),\"\")","v":""},{"$f":"IFERROR(CONCATENATE(VLOOKUP(競技者一覧!Q36,種目コード一覧!$A$1:$C$213,2,FALSE),\" \",REPT(\"0\",VLOOKUP(競技者一覧!Q36,種目コード一覧!$A$1:$C$213,3,FALSE)-LEN(競技者一覧!R36)),競技者一覧!R36),\"\")","v":""},{"$f":"IFERROR(CONCATENATE(VLOOKUP(競技者一覧!S36,種目コード一覧!$A$1:$C$213,2,FALSE),\" \",REPT(\"0\",VLOOKUP(競技者一覧!S36,種目コード一覧!$A$1:$C$213,3,FALSE)-LEN(競技者一覧!T36)),競技者一覧!T36),\"\")","v":""},{"$f":"IFERROR(CONCATENATE(VLOOKUP(競技者一覧!U36,種目コード一覧!$A$1:$C$213,2,FALSE),\" \",REPT(\"0\",VLOOKUP(競技者一覧!U36,種目コード一覧!$A$1:$C$213,3,FALSE)-LEN(競技者一覧!V36)),競技者一覧!V36),\"\")","v":""}]
[{"$f":"CONCATENATE($F$2,Sheet4!B26)","v":{"$error":"#N/A"}},{"$f":"CONCATENATE(競技者一覧!C37,\"(\",競技者一覧!F37,\")\")","v":"()"},{"$f":"CONCATENATE(競技者一覧!D37)","v":""},{"$f":"競技者一覧!E37","v":0},{"$f":"VLOOKUP(競技者一覧!$C$6,Sheet4!$D$2:$E$48,2,FALSE)","v":{"$error":"#N/A"}},{"$f":"VLOOKUP(競技者一覧!$C$7,学校番号表!$B$2:$C$1004,2,FALSE)","v":{"$error":"#N/A"}},{"$f":"CONCATENATE(競技者一覧!B37)","v":""},{"$f":"IFERROR(CONCATENATE(VLOOKUP(競技者一覧!G37,種目コード一覧!$A$1:$C$213,2,FALSE),\" \",REPT(\"0\",VLOOKUP(競技者一覧!G37,種目コード一覧!$A$1:$C$213,3,FALSE)-LEN(競技者一覧!H37)),競技者一覧!H37),\"\")","v":""},{"$f":"IFERROR(CONCATENATE(VLOOKUP(競技者一覧!I37,種目コード一覧!$A$1:$C$213,2,FALSE),\" \",REPT(\"0\",VLOOKUP(競技者一覧!I37,種目コード一覧!$A$1:$C$213,3,FALSE)-LEN(競技者一覧!J37)),競技者一覧!J37),\"\")","v":""},{"$f":"IFERROR(CONCATENATE(VLOOKUP(競技者一覧!K37,種目コード一覧!$A$1:$C$213,2,FALSE),\" \",REPT(\"0\",VLOOKUP(競技者一覧!K37,種目コード一覧!$A$1:$C$213,3,FALSE)-LEN(競技者一覧!L37)),競技者一覧!L37),\"\")","v":""},{"$f":"IFERROR(CONCATENATE(VLOOKUP(競技者一覧!M37,種目コード一覧!$A$1:$C$213,2,FALSE),\" \",REPT(\"0\",VLOOKUP(競技者一覧!M37,種目コード一覧!$A$1:$C$213,3,FALSE)-LEN(競技者一覧!N37)),競技者一覧!N37),\"\")","v":""},{"$f":"IFERROR(CONCATENATE(VLOOKUP(競技者一覧!O37,種目コード一覧!$A$1:$C$213,2,FALSE),\" \",REPT(\"0\",VLOOKUP(競技者一覧!O37,種目コード一覧!$A$1:$C$213,3,FALSE)-LEN(競技者一覧!P37)),競技者一覧!P37),\"\")","v":""},{"$f":"IFERROR(CONCATENATE(VLOOKUP(競技者一覧!Q37,種目コード一覧!$A$1:$C$213,2,FALSE),\" \",REPT(\"0\",VLOOKUP(競技者一覧!Q37,種目コード一覧!$A$1:$C$213,3,FALSE)-LEN(競技者一覧!R37)),競技者一覧!R37),\"\")","v":""},{"$f":"IFERROR(CONCATENATE(VLOOKUP(競技者一覧!S37,種目コード一覧!$A$1:$C$213,2,FALSE),\" \",REPT(\"0\",VLOOKUP(競技者一覧!S37,種目コード一覧!$A$1:$C$213,3,FALSE)-LEN(競技者一覧!T37)),競技者一覧!T37),\"\")","v":""},{"$f":"IFERROR(CONCATENATE(VLOOKUP(競技者一覧!U37,種目コード一覧!$A$1:$C$213,2,FALSE),\" \",REPT(\"0\",VLOOKUP(競技者一覧!U37,種目コード一覧!$A$1:$C$213,3,FALSE)-LEN(競技者一覧!V37)),競技者一覧!V37),\"\")","v":""}]
[{"$f":"CONCATENATE($F$2,Sheet4!B27)","v":{"$error":"#N/A"}},{"$f":"CONCATENATE(競技者一覧!C38,\"(\",競技者一覧!F38,\")\")","v":"()"},{"$f":"CONCATENATE(競技者一覧!D38)","v":""},{"$f":"競技者一覧!E38","v":0},{"$f":"VLOOKUP(競技者一覧!$C$6,Sheet4!$D$2:$E$48,2,FALSE)","v":{"$error":"#N/A"}},{"$f":"VLOOKUP(競技者一覧!$C$7,学校番号表!$B$2:$C$1004,2,FALSE)","v":{"$error":"#N/A"}},{"$f":"CONCATENATE(競技者一覧!B38)","v":""},{"$f":"IFERROR(CONCATENATE(VLOOKUP(競技者一覧!G38,種目コード一覧!$A$1:$C$213,2,FALSE),\" \",REPT(\"0\",VLOOKUP(競技者一覧!G38,種目コード一覧!$A$1:$C$213,3,FALSE)-LEN(競技者一覧!H38)),競技者一覧!H38),\"\")","v":""},{"$f":"IFERROR(CONCATENATE(VLOOKUP(競技者一覧!I38,種目コード一覧!$A$1:$C$213,2,FALSE),\" \",REPT(\"0\",VLOOKUP(競技者一覧!I38,種目コード一覧!$A$1:$C$213,3,FALSE)-LEN(競技者一覧!J38)),競技者一覧!J38),\"\")","v":""},{"$f":"IFERROR(CONCATENATE(VLOOKUP(競技者一覧!K38,種目コード一覧!$A$1:$C$213,2,FALSE),\" \",REPT(\"0\",VLOOKUP(競技者一覧!K38,種目コード一覧!$A$1:$C$213,3,FALSE)-LEN(競技者一覧!L38)),競技者一覧!L38),\"\")","v":""},{"$f":"IFERROR(CONCATENATE(VLOOKUP(競技者一覧!M38,種目コード一覧!$A$1:$C$213,2,FALSE),\" \",REPT(\"0\",VLOOKUP(競技者一覧!M38,種目コード一覧!$A$1:$C$213,3,FALSE)-LEN(競技者一覧!N38)),競技者一覧!N38),\"\")","v":""},{"$f":"IFERROR(CONCATENATE(VLOOKUP(競技者一覧!O38,種目コード一覧!$A$1:$C$213,2,FALSE),\" \",REPT(\"0\",VLOOKUP(競技者一覧!O38,種目コード一覧!$A$1:$C$213,3,FALSE)-LEN(競技者一覧!P38)),競技者一覧!P38),\"\")","v":""},{"$f":"IFERROR(CONCATENATE(VLOOKUP(競技者一覧!Q38,種目コード一覧!$A$1:$C$213,2,FALSE),\" \",REPT(\"0\",VLOOKUP(競技者一覧!Q38,種目コード一覧!$A$1:$C$213,3,FALSE)-LEN(競技者一覧!R38)),競技者一覧!R38),\"\")","v":""},{"$f":"IFERROR(CONCATENATE(VLOOKUP(競技者一覧!S38,種目コード一覧!$A$1:$C$213,2,FALSE),\" \",REPT(\"0\",VLOOKUP(競技者一覧!S38,種目コード一覧!$A$1:$C$213,3,FALSE)-LEN(競技者一覧!T38)),競技者一覧!T38),\"\")","v":""},{"$f":"IFERROR(CONCATENATE(VLOOKUP(競技者一覧!U38,種目コード一覧!$A$1:$C$213,2,FALSE),\" \",REPT(\"0\",VLOOKUP(競技者一覧!U38,種目コード一覧!$A$1:$C$213,3,FALSE)-LEN(競技者一覧!V38)),競技者一覧!V38),\"\")","v":""}]
[{"$f":"CONCATENATE($F$2,Sheet4!B28)","v":{"$error":"#N/A"}},{"$f":"CONCATENATE(競技者一覧!C39,\"(\",競技者一覧!F39,\")\")","v":"()"},{"$f":"CONCATENATE(競技者一覧!D39)","v":""},{"$f":"競技者一覧!E39","v":0},{"$f":"VLOOKUP(競技者一覧!$C$6,Sheet4!$D$2:$E$48,2,FALSE)","v":{"$error":"#N/A"}},{"$f":"VLOOKUP(競技者一覧!$C$7,学校番号表!$B$2:$C$1004,2,FALSE)","v":{"$error":"#N/A"}},{"$f":"CONCATENATE(競技者一覧!B39)","v":""},{"$f":"IFERROR(CONCATENATE(VLOOKUP(競技者一覧!G39,種目コード一覧!$A$1:$C$213,2,FALSE),\" \",REPT(\"0\",VLOOKUP(競技者一覧!G39,種目コード一覧!$A$1:$C$213,3,FALSE)-LEN(競技者一覧!H39)),競技者一覧!H39),\"\")","v":""},{"$f":"IFERROR(CONCATENATE(VLOOKUP(競技者一覧!I39,種目コード一覧!$A$1:$C$213,2,FALSE),\" \",REPT(\"0\",VLOOKUP(競技者一覧!I39,種目コード一覧!$A$1:$C$213,3,FALSE)-LEN(競技者一覧!J39)),競技者一覧!J39),\"\")","v":""},{"$f":"IFERROR(CONCATENATE(VLOOKUP(競技者一覧!K39,種目コード一覧!$A$1:$C$213,2,FALSE),\" \",REPT(\"0\",VLOOKUP(競技者一覧!K39,種目コード一覧!$A$1:$C$213,3,FALSE)-LEN(競技者一覧!L39)),競技者一覧!L39),\"\")","v":""},{"$f":"IFERROR(CONCATENATE(VLOOKUP(競技者一覧!M39,種目コード一覧!$A$1:$C$213,2,FALSE),\" \",REPT(\"0\",VLOOKUP(競技者一覧!M39,種目コード一覧!$A$1:$C$213,3,FALSE)-LEN(競技者一覧!N39)),競技者一覧!N39),\"\")","v":""},{"$f":"IFERROR(CONCATENATE(VLOOKUP(競技者一覧!O39,種目コード一覧!$A$1:$C$213,2,FALSE),\" \",REPT(\"0\",VLOOKUP(競技者一覧!O39,種目コード一覧!$A$1:$C$213,3,FALSE)-LEN(競技者一覧!P39)),競技者一覧!P39),\"\")","v":""},{"$f":"IFERROR(CONCATENATE(VLOOKUP(競技者一覧!Q39,種目コード一覧!$A$1:$C$213,2,FALSE),\" \",REPT(\"0\",VLOOKUP(競技者一覧!Q39,種目コード一覧!$A$1:$C$213,3,FALSE)-LEN(競技者一覧!R39)),競技者一覧!R39),\"\")","v":""},{"$f":"IFERROR(CONCATENATE(VLOOKUP(競技者一覧!S39,種目コード一覧!$A$1:$C$213,2,FALSE),\" \",REPT(\"0\",VLOOKUP(競技者一覧!S39,種目コード一覧!$A$1:$C$213,3,FALSE)-LEN(競技者一覧!T39)),競技者一覧!T39),\"\")","v":""},{"$f":"IFERROR(CONCATENATE(VLOOKUP(競技者一覧!U39,種目コード一覧!$A$1:$C$213,2,FALSE),\" \",REPT(\"0\",VLOOKUP(競技者一覧!U39,種目コード一覧!$A$1:$C$213,3,FALSE)-LEN(競技者一覧!V39)),競技者一覧!V39),\"\")","v":""}]
[{"$f":"CONCATENATE($F$2,Sheet4!B29)","v":{"$error":"#N/A"}},{"$f":"CONCATENATE(競技者一覧!C40,\"(\",競技者一覧!F40,\")\")","v":"()"},{"$f":"CONCATENATE(競技者一覧!D40)","v":""},{"$f":"競技者一覧!E40","v":0},{"$f":"VLOOKUP(競技者一覧!$C$6,Sheet4!$D$2:$E$48,2,FALSE)","v":{"$error":"#N/A"}},{"$f":"VLOOKUP(競技者一覧!$C$7,学校番号表!$B$2:$C$1004,2,FALSE)","v":{"$error":"#N/A"}},{"$f":"CONCATENATE(競技者一覧!B40)","v":""},{"$f":"IFERROR(CONCATENATE(VLOOKUP(競技者一覧!G40,種目コード一覧!$A$1:$C$213,2,FALSE),\" \",REPT(\"0\",VLOOKUP(競技者一覧!G40,種目コード一覧!$A$1:$C$213,3,FALSE)-LEN(競技者一覧!H40)),競技者一覧!H40),\"\")","v":""},{"$f":"IFERROR(CONCATENATE(VLOOKUP(競技者一覧!I40,種目コード一覧!$A$1:$C$213,2,FALSE),\" \",REPT(\"0\",VLOOKUP(競技者一覧!I40,種目コード一覧!$A$1:$C$213,3,FALSE)-LEN(競技者一覧!J40)),競技者一覧!J40),\"\")","v":""},{"$f":"IFERROR(CONCATENATE(VLOOKUP(競技者一覧!K40,種目コード一覧!$A$1:$C$213,2,FALSE),\" \",REPT(\"0\",VLOOKUP(競技者一覧!K40,種目コード一覧!$A$1:$C$213,3,FALSE)-LEN(競技者一覧!L40)),競技者一覧!L40),\"\")","v":""},{"$f":"IFERROR(CONCATENATE(VLOOKUP(競技者一覧!M40,種目コード一覧!$A$1:$C$213,2,FALSE),\" \",REPT(\"0\",VLOOKUP(競技者一覧!M40,種目コード一覧!$A$1:$C$213,3,FALSE)-LEN(競技者一覧!N40)),競技者一覧!N40),\"\")","v":""},{"$f":"IFERROR(CONCATENATE(VLOOKUP(競技者一覧!O40,種目コード一覧!$A$1:$C$213,2,FALSE),\" \",REPT(\"0\",VLOOKUP(競技者一覧!O40,種目コード一覧!$A$1:$C$213,3,FALSE)-LEN(競技者一覧!P40)),競技者一覧!P40),\"\")","v":""},{"$f":"IFERROR(CONCATENATE(VLOOKUP(競技者一覧!Q40,種目コード一覧!$A$1:$C$213,2,FALSE),\" \",REPT(\"0\",VLOOKUP(競技者一覧!Q40,種目コード一覧!$A$1:$C$213,3,FALSE)-LEN(競技者一覧!R40)),競技者一覧!R40),\"\")","v":""},{"$f":"IFERROR(CONCATENATE(VLOOKUP(競技者一覧!S40,種目コード一覧!$A$1:$C$213,2,FALSE),\" \",REPT(\"0\",VLOOKUP(競技者一覧!S40,種目コード一覧!$A$1:$C$213,3,FALSE)-LEN(競技者一覧!T40)),競技者一覧!T40),\"\")","v":""},{"$f":"IFERROR(CONCATENATE(VLOOKUP(競技者一覧!U40,種目コード一覧!$A$1:$C$213,2,FALSE),\" \",REPT(\"0\",VLOOKUP(競技者一覧!U40,種目コード一覧!$A$1:$C$213,3,FALSE)-LEN(競技者一覧!V40)),競技者一覧!V40),\"\")","v":""}]
[{"$f":"CONCATENATE($F$2,Sheet4!B30)","v":{"$error":"#N/A"}},{"$f":"CONCATENATE(競技者一覧!C41,\"(\",競技者一覧!F41,\")\")","v":"()"},{"$f":"CONCATENATE(競技者一覧!D41)","v":""},{"$f":"競技者一覧!E41","v":0},{"$f":"VLOOKUP(競技者一覧!$C$6,Sheet4!$D$2:$E$48,2,FALSE)","v":{"$error":"#N/A"}},{"$f":"VLOOKUP(競技者一覧!$C$7,学校番号表!$B$2:$C$1004,2,FALSE)","v":{"$error":"#N/A"}},{"$f":"CONCATENATE(競技者一覧!B41)","v":""},{"$f":"IFERROR(CONCATENATE(VLOOKUP(競技者一覧!G41,種目コード一覧!$A$1:$C$213,2,FALSE),\" \",REPT(\"0\",VLOOKUP(競技者一覧!G41,種目コード一覧!$A$1:$C$213,3,FALSE)-LEN(競技者一覧!H41)),競技者一覧!H41),\"\")","v":""},{"$f":"IFERROR(CONCATENATE(VLOOKUP(競技者一覧!I41,種目コード一覧!$A$1:$C$213,2,FALSE),\" \",REPT(\"0\",VLOOKUP(競技者一覧!I41,種目コード一覧!$A$1:$C$213,3,FALSE)-LEN(競技者一覧!J41)),競技者一覧!J41),\"\")","v":""},{"$f":"IFERROR(CONCATENATE(VLOOKUP(競技者一覧!K41,種目コード一覧!$A$1:$C$213,2,FALSE),\" \",REPT(\"0\",VLOOKUP(競技者一覧!K41,種目コード一覧!$A$1:$C$213,3,FALSE)-LEN(競技者一覧!L41)),競技者一覧!L41),\"\")","v":""},{"$f":"IFERROR(CONCATENATE(VLOOKUP(競技者一覧!M41,種目コード一覧!$A$1:$C$213,2,FALSE),\" \",REPT(\"0\",VLOOKUP(競技者一覧!M41,種目コード一覧!$A$1:$C$213,3,FALSE)-LEN(競技者一覧!N41)),競技者一覧!N41),\"\")","v":""},{"$f":"IFERROR(CONCATENATE(VLOOKUP(競技者一覧!O41,種目コード一覧!$A$1:$C$213,2,FALSE),\" \",REPT(\"0\",VLOOKUP(競技者一覧!O41,種目コード一覧!$A$1:$C$213,3,FALSE)-LEN(競技者一覧!P41)),競技者一覧!P41),\"\")","v":""},{"$f":"IFERROR(CONCATENATE(VLOOKUP(競技者一覧!Q41,種目コード一覧!$A$1:$C$213,2,FALSE),\" \",REPT(\"0\",VLOOKUP(競技者一覧!Q41,種目コード一覧!$A$1:$C$213,3,FALSE)-LEN(競技者一覧!R41)),競技者一覧!R41),\"\")","v":""},{"$f":"IFERROR(CONCATENATE(VLOOKUP(競技者一覧!S41,種目コード一覧!$A$1:$C$213,2,FALSE),\" \",REPT(\"0\",VLOOKUP(競技者一覧!S41,種目コード一覧!$A$1:$C$213,3,FALSE)-LEN(競技者一覧!T41)),競技者一覧!T41),\"\")","v":""},{"$f":"IFERROR(CONCATENATE(VLOOKUP(競技者一覧!U41,種目コード一覧!$A$1:$C$213,2,FALSE),\" \",REPT(\"0\",VLOOKUP(競技者一覧!U41,種目コード一覧!$A$1:$C$213,3,FALSE)-LEN(競技者一覧!V41)),競技者一覧!V41),\"\")","v":""}]
[{"$f":"CONCATENATE($F$2,Sheet4!B31)","v":{"$error":"#N/A"}},{"$f":"CONCATENATE(競技者一覧!C42,\"(\",競技者一覧!F42,\")\")","v":"()"},{"$f":"CONCATENATE(競技者一覧!D42)","v":""},{"$f":"競技者一覧!E42","v":0},{"$f":"VLOOKUP(競技者一覧!$C$6,Sheet4!$D$2:$E$48,2,FALSE)","v":{"$error":"#N/A"}},{"$f":"VLOOKUP(競技者一覧!$C$7,学校番号表!$B$2:$C$1004,2,FALSE)","v":{"$error":"#N/A"}},{"$f":"CONCATENATE(競技者一覧!B42)","v":""},{"$f":"IFERROR(CONCATENATE(VLOOKUP(競技者一覧!G42,種目コード一覧!$A$1:$C$213,2,FALSE),\" \",REPT(\"0\",VLOOKUP(競技者一覧!G42,種目コード一覧!$A$1:$C$213,3,FALSE)-LEN(競技者一覧!H42)),競技者一覧!H42),\"\")","v":""},{"$f":"IFERROR(CONCATENATE(VLOOKUP(競技者一覧!I42,種目コード一覧!$A$1:$C$213,2,FALSE),\" \",REPT(\"0\",VLOOKUP(競技者一覧!I42,種目コード一覧!$A$1:$C$213,3,FALSE)-LEN(競技者一覧!J42)),競技者一覧!J42),\"\")","v":""},{"$f":"IFERROR(CONCATENATE(VLOOKUP(競技者一覧!K42,種目コード一覧!$A$1:$C$213,2,FALSE),\" \",REPT(\"0\",VLOOKUP(競技者一覧!K42,種目コード一覧!$A$1:$C$213,3,FALSE)-LEN(競技者一覧!L42)),競技者一覧!L42),\"\")","v":""},{"$f":"IFERROR(CONCATENATE(VLOOKUP(競技者一覧!M42,種目コード一覧!$A$1:$C$213,2,FALSE),\" \",REPT(\"0\",VLOOKUP(競技者一覧!M42,種目コード一覧!$A$1:$C$213,3,FALSE)-LEN(競技者一覧!N42)),競技者一覧!N42),\"\")","v":""},{"$f":"IFERROR(CONCATENATE(VLOOKUP(競技者一覧!O42,種目コード一覧!$A$1:$C$213,2,FALSE),\" \",REPT(\"0\",VLOOKUP(競技者一覧!O42,種目コード一覧!$A$1:$C$213,3,FALSE)-LEN(競技者一覧!P42)),競技者一覧!P42),\"\")","v":""},{"$f":"IFERROR(CONCATENATE(VLOOKUP(競技者一覧!Q42,種目コード一覧!$A$1:$C$213,2,FALSE),\" \",REPT(\"0\",VLOOKUP(競技者一覧!Q42,種目コード一覧!$A$1:$C$213,3,FALSE)-LEN(競技者一覧!R42)),競技者一覧!R42),\"\")","v":""},{"$f":"IFERROR(CONCATENATE(VLOOKUP(競技者一覧!S42,種目コード一覧!$A$1:$C$213,2,FALSE),\" \",REPT(\"0\",VLOOKUP(競技者一覧!S42,種目コード一覧!$A$1:$C$213,3,FALSE)-LEN(競技者一覧!T42)),競技者一覧!T42),\"\")","v":""},{"$f":"IFERROR(CONCATENATE(VLOOKUP(競技者一覧!U42,種目コード一覧!$A$1:$C$213,2,FALSE),\" \",REPT(\"0\",VLOOKUP(競技者一覧!U42,種目コード一覧!$A$1:$C$213,3,FALSE)-LEN(競技者一覧!V42)),競技者一覧!V42),\"\")","v":""}]
[{"$f":"CONCATENATE($F$2,Sheet4!B32)","v":{"$error":"#N/A"}},{"$f":"CONCATENATE(競技者一覧!C43,\"(\",競技者一覧!F43,\")\")","v":"()"},{"$f":"CONCATENATE(競技者一覧!D43)","v":""},{"$f":"競技者一覧!E43","v":0},{"$f":"VLOOKUP(競技者一覧!$C$6,Sheet4!$D$2:$E$48,2,FALSE)","v":{"$error":"#N/A"}},{"$f":"VLOOKUP(競技者一覧!$C$7,学校番号表!$B$2:$C$1004,2,FALSE)","v":{"$error":"#N/A"}},{"$f":"CONCATENATE(競技者一覧!B43)","v":""},{"$f":"IFERROR(CONCATENATE(VLOOKUP(競技者一覧!G43,種目コード一覧!$A$1:$C$213,2,FALSE),\" \",REPT(\"0\",VLOOKUP(競技者一覧!G43,種目コード一覧!$A$1:$C$213,3,FALSE)-LEN(競技者一覧!H43)),競技者一覧!H43),\"\")","v":""},{"$f":"IFERROR(CONCATENATE(VLOOKUP(競技者一覧!I43,種目コード一覧!$A$1:$C$213,2,FALSE),\" \",REPT(\"0\",VLOOKUP(競技者一覧!I43,種目コード一覧!$A$1:$C$213,3,FALSE)-LEN(競技者一覧!J43)),競技者一覧!J43),\"\")","v":""},{"$f":"IFERROR(CONCATENATE(VLOOKUP(競技者一覧!K43,種目コード一覧!$A$1:$C$213,2,FALSE),\" \",REPT(\"0\",VLOOKUP(競技者一覧!K43,種目コード一覧!$A$1:$C$213,3,FALSE)-LEN(競技者一覧!L43)),競技者一覧!L43),\"\")","v":""},{"$f":"IFERROR(CONCATENATE(VLOOKUP(競技者一覧!M43,種目コード一覧!$A$1:$C$213,2,FALSE),\" \",REPT(\"0\",VLOOKUP(競技者一覧!M43,種目コード一覧!$A$1:$C$213,3,FALSE)-LEN(競技者一覧!N43)),競技者一覧!N43),\"\")","v":""},{"$f":"IFERROR(CONCATENATE(VLOOKUP(競技者一覧!O43,種目コード一覧!$A$1:$C$213,2,FALSE),\" \",REPT(\"0\",VLOOKUP(競技者一覧!O43,種目コード一覧!$A$1:$C$213,3,FALSE)-LEN(競技者一覧!P43)),競技者一覧!P43),\"\")","v":""},{"$f":"IFERROR(CONCATENATE(VLOOKUP(競技者一覧!Q43,種目コード一覧!$A$1:$C$213,2,FALSE),\" \",REPT(\"0\",VLOOKUP(競技者一覧!Q43,種目コード一覧!$A$1:$C$213,3,FALSE)-LEN(競技者一覧!R43)),競技者一覧!R43),\"\")","v":""},{"$f":"IFERROR(CONCATENATE(VLOOKUP(競技者一覧!S43,種目コード一覧!$A$1:$C$213,2,FALSE),\" \",REPT(\"0\",VLOOKUP(競技者一覧!S43,種目コード一覧!$A$1:$C$213,3,FALSE)-LEN(競技者一覧!T43)),競技者一覧!T43),\"\")","v":""},{"$f":"IFERROR(CONCATENATE(VLOOKUP(競技者一覧!U43,種目コード一覧!$A$1:$C$213,2,FALSE),\" \",REPT(\"0\",VLOOKUP(競技者一覧!U43,種目コード一覧!$A$1:$C$213,3,FALSE)-LEN(競技者一覧!V43)),競技者一覧!V43),\"\")","v":""}]
[{"$f":"CONCATENATE($F$2,Sheet4!B33)","v":{"$error":"#N/A"}},{"$f":"CONCATENATE(競技者一覧!C44,\"(\",競技者一覧!F44,\")\")","v":"()"},{"$f":"CONCATENATE(競技者一覧!D44)","v":""},{"$f":"競技者一覧!E44","v":0},{"$f":"VLOOKUP(競技者一覧!$C$6,Sheet4!$D$2:$E$48,2,FALSE)","v":{"$error":"#N/A"}},{"$f":"VLOOKUP(競技者一覧!$C$7,学校番号表!$B$2:$C$1004,2,FALSE)","v":{"$error":"#N/A"}},{"$f":"CONCATENATE(競技者一覧!B44)","v":""},{"$f":"IFERROR(CONCATENATE(VLOOKUP(競技者一覧!G44,種目コード一覧!$A$1:$C$213,2,FALSE),\" \",REPT(\"0\",VLOOKUP(競技者一覧!G44,種目コード一覧!$A$1:$C$213,3,FALSE)-LEN(競技者一覧!H44)),競技者一覧!H44),\"\")","v":""},{"$f":"IFERROR(CONCATENATE(VLOOKUP(競技者一覧!I44,種目コード一覧!$A$1:$C$213,2,FALSE),\" \",REPT(\"0\",VLOOKUP(競技者一覧!I44,種目コード一覧!$A$1:$C$213,3,FALSE)-LEN(競技者一覧!J44)),競技者一覧!J44),\"\")","v":""},{"$f":"IFERROR(CONCATENATE(VLOOKUP(競技者一覧!K44,種目コード一覧!$A$1:$C$213,2,FALSE),\" \",REPT(\"0\",VLOOKUP(競技者一覧!K44,種目コード一覧!$A$1:$C$213,3,FALSE)-LEN(競技者一覧!L44)),競技者一覧!L44),\"\")","v":""},{"$f":"IFERROR(CONCATENATE(VLOOKUP(競技者一覧!M44,種目コード一覧!$A$1:$C$213,2,FALSE),\" \",REPT(\"0\",VLOOKUP(競技者一覧!M44,種目コード一覧!$A$1:$C$213,3,FALSE)-LEN(競技者一覧!N44)),競技者一覧!N44),\"\")","v":""},{"$f":"IFERROR(CONCATENATE(VLOOKUP(競技者一覧!O44,種目コード一覧!$A$1:$C$213,2,FALSE),\" \",REPT(\"0\",VLOOKUP(競技者一覧!O44,種目コード一覧!$A$1:$C$213,3,FALSE)-LEN(競技者一覧!P44)),競技者一覧!P44),\"\")","v":""},{"$f":"IFERROR(CONCATENATE(VLOOKUP(競技者一覧!Q44,種目コード一覧!$A$1:$C$213,2,FALSE),\" \",REPT(\"0\",VLOOKUP(競技者一覧!Q44,種目コード一覧!$A$1:$C$213,3,FALSE)-LEN(競技者一覧!R44)),競技者一覧!R44),\"\")","v":""},{"$f":"IFERROR(CONCATENATE(VLOOKUP(競技者一覧!S44,種目コード一覧!$A$1:$C$213,2,FALSE),\" \",REPT(\"0\",VLOOKUP(競技者一覧!S44,種目コード一覧!$A$1:$C$213,3,FALSE)-LEN(競技者一覧!T44)),競技者一覧!T44),\"\")","v":""},{"$f":"IFERROR(CONCATENATE(VLOOKUP(競技者一覧!U44,種目コード一覧!$A$1:$C$213,2,FALSE),\" \",REPT(\"0\",VLOOKUP(競技者一覧!U44,種目コード一覧!$A$1:$C$213,3,FALSE)-LEN(競技者一覧!V44)),競技者一覧!V44),\"\")","v":""}]
[{"$f":"CONCATENATE($F$2,Sheet4!B34)","v":{"$error":"#N/A"}},{"$f":"CONCATENATE(競技者一覧!C45,\"(\",競技者一覧!F45,\")\")","v":"()"},{"$f":"CONCATENATE(競技者一覧!D45)","v":""},{"$f":"競技者一覧!E45","v":0},{"$f":"VLOOKUP(競技者一覧!$C$6,Sheet4!$D$2:$E$48,2,FALSE)","v":{"$error":"#N/A"}},{"$f":"VLOOKUP(競技者一覧!$C$7,学校番号表!$B$2:$C$1004,2,FALSE)","v":{"$error":"#N/A"}},{"$f":"CONCATENATE(競技者一覧!B45)","v":""},{"$f":"IFERROR(CONCATENATE(VLOOKUP(競技者一覧!G45,種目コード一覧!$A$1:$C$213,2,FALSE),\" \",REPT(\"0\",VLOOKUP(競技者一覧!G45,種目コード一覧!$A$1:$C$213,3,FALSE)-LEN(競技者一覧!H45)),競技者一覧!H45),\"\")","v":""},{"$f":"IFERROR(CONCATENATE(VLOOKUP(競技者一覧!I45,種目コード一覧!$A$1:$C$213,2,FALSE),\" \",REPT(\"0\",VLOOKUP(競技者一覧!I45,種目コード一覧!$A$1:$C$213,3,FALSE)-LEN(競技者一覧!J45)),競技者一覧!J45),\"\")","v":""},{"$f":"IFERROR(CONCATENATE(VLOOKUP(競技者一覧!K45,種目コード一覧!$A$1:$C$213,2,FALSE),\" \",REPT(\"0\",VLOOKUP(競技者一覧!K45,種目コード一覧!$A$1:$C$213,3,FALSE)-LEN(競技者一覧!L45)),競技者一覧!L45),\"\")","v":""},{"$f":"IFERROR(CONCATENATE(VLOOKUP(競技者一覧!M45,種目コード一覧!$A$1:$C$213,2,FALSE),\" \",REPT(\"0\",VLOOKUP(競技者一覧!M45,種目コード一覧!$A$1:$C$213,3,FALSE)-LEN(競技者一覧!N45)),競技者一覧!N45),\"\")","v":""},{"$f":"IFERROR(CONCATENATE(VLOOKUP(競技者一覧!O45,種目コード一覧!$A$1:$C$213,2,FALSE),\" \",REPT(\"0\",VLOOKUP(競技者一覧!O45,種目コード一覧!$A$1:$C$213,3,FALSE)-LEN(競技者一覧!P45)),競技者一覧!P45),\"\")","v":""},{"$f":"IFERROR(CONCATENATE(VLOOKUP(競技者一覧!Q45,種目コード一覧!$A$1:$C$213,2,FALSE),\" \",REPT(\"0\",VLOOKUP(競技者一覧!Q45,種目コード一覧!$A$1:$C$213,3,FALSE)-LEN(競技者一覧!R45)),競技者一覧!R45),\"\")","v":""},{"$f":"IFERROR(CONCATENATE(VLOOKUP(競技者一覧!S45,種目コード一覧!$A$1:$C$213,2,FALSE),\" \",REPT(\"0\",VLOOKUP(競技者一覧!S45,種目コード一覧!$A$1:$C$213,3,FALSE)-LEN(競技者一覧!T45)),競技者一覧!T45),\"\")","v":""},{"$f":"IFERROR(CONCATENATE(VLOOKUP(競技者一覧!U45,種目コード一覧!$A$1:$C$213,2,FALSE),\" \",REPT(\"0\",VLOOKUP(競技者一覧!U45,種目コード一覧!$A$1:$C$213,3,FALSE)-LEN(競技者一覧!V45)),競技者一覧!V45),\"\")","v":""}]
[{"$f":"CONCATENATE($F$2,Sheet4!B35)","v":{"$error":"#N/A"}},{"$f":"CONCATENATE(競技者一覧!C46,\"(\",競技者一覧!F46,\")\")","v":"()"},{"$f":"CONCATENATE(競技者一覧!D46)","v":""},{"$f":"競技者一覧!E46","v":0},{"$f":"VLOOKUP(競技者一覧!$C$6,Sheet4!$D$2:$E$48,2,FALSE)","v":{"$error":"#N/A"}},{"$f":"VLOOKUP(競技者一覧!$C$7,学校番号表!$B$2:$C$1004,2,FALSE)","v":{"$error":"#N/A"}},{"$f":"CONCATENATE(競技者一覧!B46)","v":""},{"$f":"IFERROR(CONCATENATE(VLOOKUP(競技者一覧!G46,種目コード一覧!$A$1:$C$213,2,FALSE),\" \",REPT(\"0\",VLOOKUP(競技者一覧!G46,種目コード一覧!$A$1:$C$213,3,FALSE)-LEN(競技者一覧!H46)),競技者一覧!H46),\"\")","v":""},{"$f":"IFERROR(CONCATENATE(VLOOKUP(競技者一覧!I46,種目コード一覧!$A$1:$C$213,2,FALSE),\" \",REPT(\"0\",VLOOKUP(競技者一覧!I46,種目コード一覧!$A$1:$C$213,3,FALSE)-LEN(競技者一覧!J46)),競技者一覧!J46),\"\")","v":""},{"$f":"IFERROR(CONCATENATE(VLOOKUP(競技者一覧!K46,種目コード一覧!$A$1:$C$213,2,FALSE),\" \",REPT(\"0\",VLOOKUP(競技者一覧!K46,種目コード一覧!$A$1:$C$213,3,FALSE)-LEN(競技者一覧!L46)),競技者一覧!L46),\"\")","v":""},{"$f":"IFERROR(CONCATENATE(VLOOKUP(競技者一覧!M46,種目コード一覧!$A$1:$C$213,2,FALSE),\" \",REPT(\"0\",VLOOKUP(競技者一覧!M46,種目コード一覧!$A$1:$C$213,3,FALSE)-LEN(競技者一覧!N46)),競技者一覧!N46),\"\")","v":""},{"$f":"IFERROR(CONCATENATE(VLOOKUP(競技者一覧!O46,種目コード一覧!$A$1:$C$213,2,FALSE),\" \",REPT(\"0\",VLOOKUP(競技者一覧!O46,種目コード一覧!$A$1:$C$213,3,FALSE)-LEN(競技者一覧!P46)),競技者一覧!P46),\"\")","v":""},{"$f":"IFERROR(CONCATENATE(VLOOKUP(競技者一覧!Q46,種目コード一覧!$A$1:$C$213,2,FALSE),\" \",REPT(\"0\",VLOOKUP(競技者一覧!Q46,種目コード一覧!$A$1:$C$213,3,FALSE)-LEN(競技者一覧!R46)),競技者一覧!R46),\"\")","v":""},{"$f":"IFERROR(CONCATENATE(VLOOKUP(競技者一覧!S46,種目コード一覧!$A$1:$C$213,2,FALSE),\" \",REPT(\"0\",VLOOKUP(競技者一覧!S46,種目コード一覧!$A$1:$C$213,3,FALSE)-LEN(競技者一覧!T46)),競技者一覧!T46),\"\")","v":""},{"$f":"IFERROR(CONCATENATE(VLOOKUP(競技者一覧!U46,種目コード一覧!$A$1:$C$213,2,FALSE),\" \",REPT(\"0\",VLOOKUP(競技者一覧!U46,種目コード一覧!$A$1:$C$213,3,FALSE)-LEN(競技者一覧!V46)),競技者一覧!V46),\"\")","v":""}]
[{"$f":"CONCATENATE($F$2,Sheet4!B36)","v":{"$error":"#N/A"}},{"$f":"CONCATENATE(競技者一覧!C47,\"(\",競技者一覧!F47,\")\")","v":"()"},{"$f":"CONCATENATE(競技者一覧!D47)","v":""},{"$f":"競技者一覧!E47","v":0},{"$f":"VLOOKUP(競技者一覧!$C$6,Sheet4!$D$2:$E$48,2,FALSE)","v":{"$error":"#N/A"}},{"$f":"VLOOKUP(競技者一覧!$C$7,学校番号表!$B$2:$C$1004,2,FALSE)","v":{"$error":"#N/A"}},{"$f":"CONCATENATE(競技者一覧!B47)","v":""},{"$f":"IFERROR(CONCATENATE(VLOOKUP(競技者一覧!G47,種目コード一覧!$A$1:$C$213,2,FALSE),\" \",REPT(\"0\",VLOOKUP(競技者一覧!G47,種目コード一覧!$A$1:$C$213,3,FALSE)-LEN(競技者一覧!H47)),競技者一覧!H47),\"\")","v":""},{"$f":"IFERROR(CONCATENATE(VLOOKUP(競技者一覧!I47,種目コード一覧!$A$1:$C$213,2,FALSE),\" \",REPT(\"0\",VLOOKUP(競技者一覧!I47,種目コード一覧!$A$1:$C$213,3,FALSE)-LEN(競技者一覧!J47)),競技者一覧!J47),\"\")","v":""},{"$f":"IFERROR(CONCATENATE(VLOOKUP(競技者一覧!K47,種目コード一覧!$A$1:$C$213,2,FALSE),\" \",REPT(\"0\",VLOOKUP(競技者一覧!K47,種目コード一覧!$A$1:$C$213,3,FALSE)-LEN(競技者一覧!L47)),競技者一覧!L47),\"\")","v":""},{"$f":"IFERROR(CONCATENATE(VLOOKUP(競技者一覧!M47,種目コード一覧!$A$1:$C$213,2,FALSE),\" \",REPT(\"0\",VLOOKUP(競技者一覧!M47,種目コード一覧!$A$1:$C$213,3,FALSE)-LEN(競技者一覧!N47)),競技者一覧!N47),\"\")","v":""},{"$f":"IFERROR(CONCATENATE(VLOOKUP(競技者一覧!O47,種目コード一覧!$A$1:$C$213,2,FALSE),\" \",REPT(\"0\",VLOOKUP(競技者一覧!O47,種目コード一覧!$A$1:$C$213,3,FALSE)-LEN(競技者一覧!P47)),競技者一覧!P47),\"\")","v":""},{"$f":"IFERROR(CONCATENATE(VLOOKUP(競技者一覧!Q47,種目コード一覧!$A$1:$C$213,2,FALSE),\" \",REPT(\"0\",VLOOKUP(競技者一覧!Q47,種目コード一覧!$A$1:$C$213,3,FALSE)-LEN(競技者一覧!R47)),競技者一覧!R47),\"\")","v":""},{"$f":"IFERROR(CONCATENATE(VLOOKUP(競技者一覧!S47,種目コード一覧!$A$1:$C$213,2,FALSE),\" \",REPT(\"0\",VLOOKUP(競技者一覧!S47,種目コード一覧!$A$1:$C$213,3,FALSE)-LEN(競技者一覧!T47)),競技者一覧!T47),\"\")","v":""},{"$f":"IFERROR(CONCATENATE(VLOOKUP(競技者一覧!U47,種目コード一覧!$A$1:$C$213,2,FALSE),\" \",REPT(\"0\",VLOOKUP(競技者一覧!U47,種目コード一覧!$A$1:$C$213,3,FALSE)-LEN(競技者一覧!V47)),競技者一覧!V47),\"\")","v":""}]
[{"$f":"CONCATENATE($F$2,Sheet4!B37)","v":{"$error":"#N/A"}},{"$f":"CONCATENATE(競技者一覧!C48,\"(\",競技者一覧!F48,\")\")","v":"()"},{"$f":"CONCATENATE(競技者一覧!D48)","v":""},{"$f":"競技者一覧!E48","v":0},{"$f":"VLOOKUP(競技者一覧!$C$6,Sheet4!$D$2:$E$48,2,FALSE)","v":{"$error":"#N/A"}},{"$f":"VLOOKUP(競技者一覧!$C$7,学校番号表!$B$2:$C$1004,2,FALSE)","v":{"$error":"#N/A"}},{"$f":"CONCATENATE(競技者一覧!B48)","v":""},{"$f":"IFERROR(CONCATENATE(VLOOKUP(競技者一覧!G48,種目コード一覧!$A$1:$C$213,2,FALSE),\" \",REPT(\"0\",VLOOKUP(競技者一覧!G48,種目コード一覧!$A$1:$C$213,3,FALSE)-LEN(競技者一覧!H48)),競技者一覧!H48),\"\")","v":""},{"$f":"IFERROR(CONCATENATE(VLOOKUP(競技者一覧!I48,種目コード一覧!$A$1:$C$213,2,FALSE),\" \",REPT(\"0\",VLOOKUP(競技者一覧!I48,種目コード一覧!$A$1:$C$213,3,FALSE)-LEN(競技者一覧!J48)),競技者一覧!J48),\"\")","v":""},{"$f":"IFERROR(CONCATENATE(VLOOKUP(競技者一覧!K48,種目コード一覧!$A$1:$C$213,2,FALSE),\" \",REPT(\"0\",VLOOKUP(競技者一覧!K48,種目コード一覧!$A$1:$C$213,3,FALSE)-LEN(競技者一覧!L48)),競技者一覧!L48),\"\")","v":""},{"$f":"IFERROR(CONCATENATE(VLOOKUP(競技者一覧!M48,種目コード一覧!$A$1:$C$213,2,FALSE),\" \",REPT(\"0\",VLOOKUP(競技者一覧!M48,種目コード一覧!$A$1:$C$213,3,FALSE)-LEN(競技者一覧!N48)),競技者一覧!N48),\"\")","v":""},{"$f":"IFERROR(CONCATENATE(VLOOKUP(競技者一覧!O48,種目コード一覧!$A$1:$C$213,2,FALSE),\" \",REPT(\"0\",VLOOKUP(競技者一覧!O48,種目コード一覧!$A$1:$C$213,3,FALSE)-LEN(競技者一覧!P48)),競技者一覧!P48),\"\")","v":""},{"$f":"IFERROR(CONCATENATE(VLOOKUP(競技者一覧!Q48,種目コード一覧!$A$1:$C$213,2,FALSE),\" \",REPT(\"0\",VLOOKUP(競技者一覧!Q48,種目コード一覧!$A$1:$C$213,3,FALSE)-LEN(競技者一覧!R48)),競技者一覧!R48),\"\")","v":""},{"$f":"IFERROR(CONCATENATE(VLOOKUP(競技者一覧!S48,種目コード一覧!$A$1:$C$213,2,FALSE),\" \",REPT(\"0\",VLOOKUP(競技者一覧!S48,種目コード一覧!$A$1:$C$213,3,FALSE)-LEN(競技者一覧!T48)),競技者一覧!T48),\"\")","v":""},{"$f":"IFERROR(CONCATENATE(VLOOKUP(競技者一覧!U48,種目コード一覧!$A$1:$C$213,2,FALSE),\" \",REPT(\"0\",VLOOKUP(競技者一覧!U48,種目コード一覧!$A$1:$C$213,3,FALSE)-LEN(競技者一覧!V48)),競技者一覧!V48),\"\")","v":""}]
[{"$f":"CONCATENATE($F$2,Sheet4!B38)","v":{"$error":"#N/A"}},{"$f":"CONCATENATE(競技者一覧!C49,\"(\",競技者一覧!F49,\")\")","v":"()"},{"$f":"CONCATENATE(競技者一覧!D49)","v":""},{"$f":"競技者一覧!E49","v":0},{"$f":"VLOOKUP(競技者一覧!$C$6,Sheet4!$D$2:$E$48,2,FALSE)","v":{"$error":"#N/A"}},{"$f":"VLOOKUP(競技者一覧!$C$7,学校番号表!$B$2:$C$1004,2,FALSE)","v":{"$error":"#N/A"}},{"$f":"CONCATENATE(競技者一覧!B49)","v":""},{"$f":"IFERROR(CONCATENATE(VLOOKUP(競技者一覧!G49,種目コード一覧!$A$1:$C$213,2,FALSE),\" \",REPT(\"0\",VLOOKUP(競技者一覧!G49,種目コード一覧!$A$1:$C$213,3,FALSE)-LEN(競技者一覧!H49)),競技者一覧!H49),\"\")","v":""},{"$f":"IFERROR(CONCATENATE(VLOOKUP(競技者一覧!I49,種目コード一覧!$A$1:$C$213,2,FALSE),\" \",REPT(\"0\",VLOOKUP(競技者一覧!I49,種目コード一覧!$A$1:$C$213,3,FALSE)-LEN(競技者一覧!J49)),競技者一覧!J49),\"\")","v":""},{"$f":"IFERROR(CONCATENATE(VLOOKUP(競技者一覧!K49,種目コード一覧!$A$1:$C$213,2,FALSE),\" \",REPT(\"0\",VLOOKUP(競技者一覧!K49,種目コード一覧!$A$1:$C$213,3,FALSE)-LEN(競技者一覧!L49)),競技者一覧!L49),\"\")","v":""},{"$f":"IFERROR(CONCATENATE(VLOOKUP(競技者一覧!M49,種目コード一覧!$A$1:$C$213,2,FALSE),\" \",REPT(\"0\",VLOOKUP(競技者一覧!M49,種目コード一覧!$A$1:$C$213,3,FALSE)-LEN(競技者一覧!N49)),競技者一覧!N49),\"\")","v":""},{"$f":"IFERROR(CONCATENATE(VLOOKUP(競技者一覧!O49,種目コード一覧!$A$1:$C$213,2,FALSE),\" \",REPT(\"0\",VLOOKUP(競技者一覧!O49,種目コード一覧!$A$1:$C$213,3,FALSE)-LEN(競技者一覧!P49)),競技者一覧!P49),\"\")","v":""},{"$f":"IFERROR(CONCATENATE(VLOOKUP(競技者一覧!Q49,種目コード一覧!$A$1:$C$213,2,FALSE),\" \",REPT(\"0\",VLOOKUP(競技者一覧!Q49,種目コード一覧!$A$1:$C$213,3,FALSE)-LEN(競技者一覧!R49)),競技者一覧!R49),\"\")","v":""},{"$f":"IFERROR(CONCATENATE(VLOOKUP(競技者一覧!S49,種目コード一覧!$A$1:$C$213,2,FALSE),\" \",REPT(\"0\",VLOOKUP(競技者一覧!S49,種目コード一覧!$A$1:$C$213,3,FALSE)-LEN(競技者一覧!T49)),競技者一覧!T49),\"\")","v":""},{"$f":"IFERROR(CONCATENATE(VLOOKUP(競技者一覧!U49,種目コード一覧!$A$1:$C$213,2,FALSE),\" \",REPT(\"0\",VLOOKUP(競技者一覧!U49,種目コード一覧!$A$1:$C$213,3,FALSE)-LEN(競技者一覧!V49)),競技者一覧!V49),\"\")","v":""}]
[{"$f":"CONCATENATE($F$2,Sheet4!B39)","v":{"$error":"#N/A"}},{"$f":"CONCATENATE(競技者一覧!C50,\"(\",競技者一覧!F50,\")\")","v":"()"},{"$f":"CONCATENATE(競技者一覧!D50)","v":""},{"$f":"競技者一覧!E50","v":0},{"$f":"VLOOKUP(競技者一覧!$C$6,Sheet4!$D$2:$E$48,2,FALSE)","v":{"$error":"#N/A"}},{"$f":"VLOOKUP(競技者一覧!$C$7,学校番号表!$B$2:$C$1004,2,FALSE)","v":{"$error":"#N/A"}},{"$f":"CONCATENATE(競技者一覧!B50)","v":""},{"$f":"IFERROR(CONCATENATE(VLOOKUP(競技者一覧!G50,種目コード一覧!$A$1:$C$213,2,FALSE),\" \",REPT(\"0\",VLOOKUP(競技者一覧!G50,種目コード一覧!$A$1:$C$213,3,FALSE)-LEN(競技者一覧!H50)),競技者一覧!H50),\"\")","v":""},{"$f":"IFERROR(CONCATENATE(VLOOKUP(競技者一覧!I50,種目コード一覧!$A$1:$C$213,2,FALSE),\" \",REPT(\"0\",VLOOKUP(競技者一覧!I50,種目コード一覧!$A$1:$C$213,3,FALSE)-LEN(競技者一覧!J50)),競技者一覧!J50),\"\")","v":""},{"$f":"IFERROR(CONCATENATE(VLOOKUP(競技者一覧!K50,種目コード一覧!$A$1:$C$213,2,FALSE),\" \",REPT(\"0\",VLOOKUP(競技者一覧!K50,種目コード一覧!$A$1:$C$213,3,FALSE)-LEN(競技者一覧!L50)),競技者一覧!L50),\"\")","v":""},{"$f":"IFERROR(CONCATENATE(VLOOKUP(競技者一覧!M50,種目コード一覧!$A$1:$C$213,2,FALSE),\" \",REPT(\"0\",VLOOKUP(競技者一覧!M50,種目コード一覧!$A$1:$C$213,3,FALSE)-LEN(競技者一覧!N50)),競技者一覧!N50),\"\")","v":""},{"$f":"IFERROR(CONCATENATE(VLOOKUP(競技者一覧!O50,種目コード一覧!$A$1:$C$213,2,FALSE),\" \",REPT(\"0\",VLOOKUP(競技者一覧!O50,種目コード一覧!$A$1:$C$213,3,FALSE)-LEN(競技者一覧!P50)),競技者一覧!P50),\"\")","v":""},{"$f":"IFERROR(CONCATENATE(VLOOKUP(競技者一覧!Q50,種目コード一覧!$A$1:$C$213,2,FALSE),\" \",REPT(\"0\",VLOOKUP(競技者一覧!Q50,種目コード一覧!$A$1:$C$213,3,FALSE)-LEN(競技者一覧!R50)),競技者一覧!R50),\"\")","v":""},{"$f":"IFERROR(CONCATENATE(VLOOKUP(競技者一覧!S50,種目コード一覧!$A$1:$C$213,2,FALSE),\" \",REPT(\"0\",VLOOKUP(競技者一覧!S50,種目コード一覧!$A$1:$C$213,3,FALSE)-LEN(競技者一覧!T50)),競技者一覧!T50),\"\")","v":""},{"$f":"IFERROR(CONCATENATE(VLOOKUP(競技者一覧!U50,種目コード一覧!$A$1:$C$213,2,FALSE),\" \",REPT(\"0\",VLOOKUP(競技者一覧!U50,種目コード一覧!$A$1:$C$213,3,FALSE)-LEN(競技者一覧!V50)),競技者一覧!V50),\"\")","v":""}]
[{"$f":"CONCATENATE($F$2,Sheet4!B40)","v":{"$error":"#N/A"}},{"$f":"CONCATENATE(競技者一覧!C51,\"(\",競技者一覧!F51,\")\")","v":"()"},{"$f":"CONCATENATE(競技者一覧!D51)","v":""},{"$f":"競技者一覧!E51","v":0},{"$f":"VLOOKUP(競技者一覧!$C$6,Sheet4!$D$2:$E$48,2,FALSE)","v":{"$error":"#N/A"}},{"$f":"VLOOKUP(競技者一覧!$C$7,学校番号表!$B$2:$C$1004,2,FALSE)","v":{"$error":"#N/A"}},{"$f":"CONCATENATE(競技者一覧!B51)","v":""},{"$f":"IFERROR(CONCATENATE(VLOOKUP(競技者一覧!G51,種目コード一覧!$A$1:$C$213,2,FALSE),\" \",REPT(\"0\",VLOOKUP(競技者一覧!G51,種目コード一覧!$A$1:$C$213,3,FALSE)-LEN(競技者一覧!H51)),競技者一覧!H51),\"\")","v":""},{"$f":"IFERROR(CONCATENATE(VLOOKUP(競技者一覧!I51,種目コード一覧!$A$1:$C$213,2,FALSE),\" \",REPT(\"0\",VLOOKUP(競技者一覧!I51,種目コード一覧!$A$1:$C$213,3,FALSE)-LEN(競技者一覧!J51)),競技者一覧!J51),\"\")","v":""},{"$f":"IFERROR(CONCATENATE(VLOOKUP(競技者一覧!K51,種目コード一覧!$A$1:$C$213,2,FALSE),\" \",REPT(\"0\",VLOOKUP(競技者一覧!K51,種目コード一覧!$A$1:$C$213,3,FALSE)-LEN(競技者一覧!L51)),競技者一覧!L51),\"\")","v":""},{"$f":"IFERROR(CONCATENATE(VLOOKUP(競技者一覧!M51,種目コード一覧!$A$1:$C$213,2,FALSE),\" \",REPT(\"0\",VLOOKUP(競技者一覧!M51,種目コード一覧!$A$1:$C$213,3,FALSE)-LEN(競技者一覧!N51)),競技者一覧!N51),\"\")","v":""},{"$f":"IFERROR(CONCATENATE(VLOOKUP(競技者一覧!O51,種目コード一覧!$A$1:$C$213,2,FALSE),\" \",REPT(\"0\",VLOOKUP(競技者一覧!O51,種目コード一覧!$A$1:$C$213,3,FALSE)-LEN(競技者一覧!P51)),競技者一覧!P51),\"\")","v":""},{"$f":"IFERROR(CONCATENATE(VLOOKUP(競技者一覧!Q51,種目コード一覧!$A$1:$C$213,2,FALSE),\" \",REPT(\"0\",VLOOKUP(競技者一覧!Q51,種目コード一覧!$A$1:$C$213,3,FALSE)-LEN(競技者一覧!R51)),競技者一覧!R51),\"\")","v":""},{"$f":"IFERROR(CONCATENATE(VLOOKUP(競技者一覧!S51,種目コード一覧!$A$1:$C$213,2,FALSE),\" \",REPT(\"0\",VLOOKUP(競技者一覧!S51,種目コード一覧!$A$1:$C$213,3,FALSE)-LEN(競技者一覧!T51)),競技者一覧!T51),\"\")","v":""},{"$f":"IFERROR(CONCATENATE(VLOOKUP(競技者一覧!U51,種目コード一覧!$A$1:$C$213,2,FALSE),\" \",REPT(\"0\",VLOOKUP(競技者一覧!U51,種目コード一覧!$A$1:$C$213,3,FALSE)-LEN(競技者一覧!V51)),競技者一覧!V51),\"\")","v":""}]
[{"$f":"CONCATENATE($F$2,Sheet4!B41)","v":{"$error":"#N/A"}},{"$f":"CONCATENATE(競技者一覧!C52,\"(\",競技者一覧!F52,\")\")","v":"()"},{"$f":"CONCATENATE(競技者一覧!D52)","v":""},{"$f":"競技者一覧!E52","v":0},{"$f":"VLOOKUP(競技者一覧!$C$6,Sheet4!$D$2:$E$48,2,FALSE)","v":{"$error":"#N/A"}},{"$f":"VLOOKUP(競技者一覧!$C$7,学校番号表!$B$2:$C$1004,2,FALSE)","v":{"$error":"#N/A"}},{"$f":"CONCATENATE(競技者一覧!B52)","v":""},{"$f":"IFERROR(CONCATENATE(VLOOKUP(競技者一覧!G52,種目コード一覧!$A$1:$C$213,2,FALSE),\" \",REPT(\"0\",VLOOKUP(競技者一覧!G52,種目コード一覧!$A$1:$C$213,3,FALSE)-LEN(競技者一覧!H52)),競技者一覧!H52),\"\")","v":""},{"$f":"IFERROR(CONCATENATE(VLOOKUP(競技者一覧!I52,種目コード一覧!$A$1:$C$213,2,FALSE),\" \",REPT(\"0\",VLOOKUP(競技者一覧!I52,種目コード一覧!$A$1:$C$213,3,FALSE)-LEN(競技者一覧!J52)),競技者一覧!J52),\"\")","v":""},{"$f":"IFERROR(CONCATENATE(VLOOKUP(競技者一覧!K52,種目コード一覧!$A$1:$C$213,2,FALSE),\" \",REPT(\"0\",VLOOKUP(競技者一覧!K52,種目コード一覧!$A$1:$C$213,3,FALSE)-LEN(競技者一覧!L52)),競技者一覧!L52),\"\")","v":""},{"$f":"IFERROR(CONCATENATE(VLOOKUP(競技者一覧!M52,種目コード一覧!$A$1:$C$213,2,FALSE),\" \",REPT(\"0\",VLOOKUP(競技者一覧!M52,種目コード一覧!$A$1:$C$213,3,FALSE)-LEN(競技者一覧!N52)),競技者一覧!N52),\"\")","v":""},{"$f":"IFERROR(CONCATENATE(VLOOKUP(競技者一覧!O52,種目コード一覧!$A$1:$C$213,2,FALSE),\" \",REPT(\"0\",VLOOKUP(競技者一覧!O52,種目コード一覧!$A$1:$C$213,3,FALSE)-LEN(競技者一覧!P52)),競技者一覧!P52),\"\")","v":""},{"$f":"IFERROR(CONCATENATE(VLOOKUP(競技者一覧!Q52,種目コード一覧!$A$1:$C$213,2,FALSE),\" \",REPT(\"0\",VLOOKUP(競技者一覧!Q52,種目コード一覧!$A$1:$C$213,3,FALSE)-LEN(競技者一覧!R52)),競技者一覧!R52),\"\")","v":""},{"$f":"IFERROR(CONCATENATE(VLOOKUP(競技者一覧!S52,種目コード一覧!$A$1:$C$213,2,FALSE),\" \",REPT(\"0\",VLOOKUP(競技者一覧!S52,種目コード一覧!$A$1:$C$213,3,FALSE)-LEN(競技者一覧!T52)),競技者一覧!T52),\"\")","v":""},{"$f":"IFERROR(CONCATENATE(VLOOKUP(競技者一覧!U52,種目コード一覧!$A$1:$C$213,2,FALSE),\" \",REPT(\"0\",VLOOKUP(競技者一覧!U52,種目コード一覧!$A$1:$C$213,3,FALSE)-LEN(競技者一覧!V52)),競技者一覧!V52),\"\")","v":""}]
[{"$f":"CONCATENATE($F$2,Sheet4!B42)","v":{"$error":"#N/A"}},{"$f":"CONCATENATE(競技者一覧!C53,\"(\",競技者一覧!F53,\")\")","v":"()"},{"$f":"CONCATENATE(競技者一覧!D53)","v":""},{"$f":"競技者一覧!E53","v":0},{"$f":"VLOOKUP(競技者一覧!$C$6,Sheet4!$D$2:$E$48,2,FALSE)","v":{"$error":"#N/A"}},{"$f":"VLOOKUP(競技者一覧!$C$7,学校番号表!$B$2:$C$1004,2,FALSE)","v":{"$error":"#N/A"}},{"$f":"CONCATENATE(競技者一覧!B53)","v":""},{"$f":"IFERROR(CONCATENATE(VLOOKUP(競技者一覧!G53,種目コード一覧!$A$1:$C$213,2,FALSE),\" \",REPT(\"0\",VLOOKUP(競技者一覧!G53,種目コード一覧!$A$1:$C$213,3,FALSE)-LEN(競技者一覧!H53)),競技者一覧!H53),\"\")","v":""},{"$f":"IFERROR(CONCATENATE(VLOOKUP(競技者一覧!I53,種目コード一覧!$A$1:$C$213,2,FALSE),\" \",REPT(\"0\",VLOOKUP(競技者一覧!I53,種目コード一覧!$A$1:$C$213,3,FALSE)-LEN(競技者一覧!J53)),競技者一覧!J53),\"\")","v":""},{"$f":"IFERROR(CONCATENATE(VLOOKUP(競技者一覧!K53,種目コード一覧!$A$1:$C$213,2,FALSE),\" \",REPT(\"0\",VLOOKUP(競技者一覧!K53,種目コード一覧!$A$1:$C$213,3,FALSE)-LEN(競技者一覧!L53)),競技者一覧!L53),\"\")","v":""},{"$f":"IFERROR(CONCATENATE(VLOOKUP(競技者一覧!M53,種目コード一覧!$A$1:$C$213,2,FALSE),\" \",REPT(\"0\",VLOOKUP(競技者一覧!M53,種目コード一覧!$A$1:$C$213,3,FALSE)-LEN(競技者一覧!N53)),競技者一覧!N53),\"\")","v":""},{"$f":"IFERROR(CONCATENATE(VLOOKUP(競技者一覧!O53,種目コード一覧!$A$1:$C$213,2,FALSE),\" \",REPT(\"0\",VLOOKUP(競技者一覧!O53,種目コード一覧!$A$1:$C$213,3,FALSE)-LEN(競技者一覧!P53)),競技者一覧!P53),\"\")","v":""},{"$f":"IFERROR(CONCATENATE(VLOOKUP(競技者一覧!Q53,種目コード一覧!$A$1:$C$213,2,FALSE),\" \",REPT(\"0\",VLOOKUP(競技者一覧!Q53,種目コード一覧!$A$1:$C$213,3,FALSE)-LEN(競技者一覧!R53)),競技者一覧!R53),\"\")","v":""},{"$f":"IFERROR(CONCATENATE(VLOOKUP(競技者一覧!S53,種目コード一覧!$A$1:$C$213,2,FALSE),\" \",REPT(\"0\",VLOOKUP(競技者一覧!S53,種目コード一覧!$A$1:$C$213,3,FALSE)-LEN(競技者一覧!T53)),競技者一覧!T53),\"\")","v":""},{"$f":"IFERROR(CONCATENATE(VLOOKUP(競技者一覧!U53,種目コード一覧!$A$1:$C$213,2,FALSE),\" \",REPT(\"0\",VLOOKUP(競技者一覧!U53,種目コード一覧!$A$1:$C$213,3,FALSE)-LEN(競技者一覧!V53)),競技者一覧!V53),\"\")","v":""}]
[{"$f":"CONCATENATE($F$2,Sheet4!B43)","v":{"$error":"#N/A"}},{"$f":"CONCATENATE(競技者一覧!C54,\"(\",競技者一覧!F54,\")\")","v":"()"},{"$f":"CONCATENATE(競技者一覧!D54)","v":""},{"$f":"競技者一覧!E54","v":0},{"$f":"VLOOKUP(競技者一覧!$C$6,Sheet4!$D$2:$E$48,2,FALSE)","v":{"$error":"#N/A"}},{"$f":"VLOOKUP(競技者一覧!$C$7,学校番号表!$B$2:$C$1004,2,FALSE)","v":{"$error":"#N/A"}},{"$f":"CONCATENATE(競技者一覧!B54)","v":""},{"$f":"IFERROR(CONCATENATE(VLOOKUP(競技者一覧!G54,種目コード一覧!$A$1:$C$213,2,FALSE),\" \",REPT(\"0\",VLOOKUP(競技者一覧!G54,種目コード一覧!$A$1:$C$213,3,FALSE)-LEN(競技者一覧!H54)),競技者一覧!H54),\"\")","v":""},{"$f":"IFERROR(CONCATENATE(VLOOKUP(競技者一覧!I54,種目コード一覧!$A$1:$C$213,2,FALSE),\" \",REPT(\"0\",VLOOKUP(競技者一覧!I54,種目コード一覧!$A$1:$C$213,3,FALSE)-LEN(競技者一覧!J54)),競技者一覧!J54),\"\")","v":""},{"$f":"IFERROR(CONCATENATE(VLOOKUP(競技者一覧!K54,種目コード一覧!$A$1:$C$213,2,FALSE),\" \",REPT(\"0\",VLOOKUP(競技者一覧!K54,種目コード一覧!$A$1:$C$213,3,FALSE)-LEN(競技者一覧!L54)),競技者一覧!L54),\"\")","v":""},{"$f":"IFERROR(CONCATENATE(VLOOKUP(競技者一覧!M54,種目コード一覧!$A$1:$C$213,2,FALSE),\" \",REPT(\"0\",VLOOKUP(競技者一覧!M54,種目コード一覧!$A$1:$C$213,3,FALSE)-LEN(競技者一覧!N54)),競技者一覧!N54),\"\")","v":""},{"$f":"IFERROR(CONCATENATE(VLOOKUP(競技者一覧!O54,種目コード一覧!$A$1:$C$213,2,FALSE),\" \",REPT(\"0\",VLOOKUP(競技者一覧!O54,種目コード一覧!$A$1:$C$213,3,FALSE)-LEN(競技者一覧!P54)),競技者一覧!P54),\"\")","v":""},{"$f":"IFERROR(CONCATENATE(VLOOKUP(競技者一覧!Q54,種目コード一覧!$A$1:$C$213,2,FALSE),\" \",REPT(\"0\",VLOOKUP(競技者一覧!Q54,種目コード一覧!$A$1:$C$213,3,FALSE)-LEN(競技者一覧!R54)),競技者一覧!R54),\"\")","v":""},{"$f":"IFERROR(CONCATENATE(VLOOKUP(競技者一覧!S54,種目コード一覧!$A$1:$C$213,2,FALSE),\" \",REPT(\"0\",VLOOKUP(競技者一覧!S54,種目コード一覧!$A$1:$C$213,3,FALSE)-LEN(競技者一覧!T54)),競技者一覧!T54),\"\")","v":""},{"$f":"IFERROR(CONCATENATE(VLOOKUP(競技者一覧!U54,種目コード一覧!$A$1:$C$213,2,FALSE),\" \",REPT(\"0\",VLOOKUP(競技者一覧!U54,種目コード一覧!$A$1:$C$213,3,FALSE)-LEN(競技者一覧!V54)),競技者一覧!V54),\"\")","v":""}]
[{"$f":"CONCATENATE($F$2,Sheet4!B44)","v":{"$error":"#N/A"}},{"$f":"CONCATENATE(競技者一覧!C55,\"(\",競技者一覧!F55,\")\")","v":"()"},{"$f":"CONCATENATE(競技者一覧!D55)","v":""},{"$f":"競技者一覧!E55","v":0},{"$f":"VLOOKUP(競技者一覧!$C$6,Sheet4!$D$2:$E$48,2,FALSE)","v":{"$error":"#N/A"}},{"$f":"VLOOKUP(競技者一覧!$C$7,学校番号表!$B$2:$C$1004,2,FALSE)","v":{"$error":"#N/A"}},{"$f":"CONCATENATE(競技者一覧!B55)","v":""},{"$f":"IFERROR(CONCATENATE(VLOOKUP(競技者一覧!G55,種目コード一覧!$A$1:$C$213,2,FALSE),\" \",REPT(\"0\",VLOOKUP(競技者一覧!G55,種目コード一覧!$A$1:$C$213,3,FALSE)-LEN(競技者一覧!H55)),競技者一覧!H55),\"\")","v":""},{"$f":"IFERROR(CONCATENATE(VLOOKUP(競技者一覧!I55,種目コード一覧!$A$1:$C$213,2,FALSE),\" \",REPT(\"0\",VLOOKUP(競技者一覧!I55,種目コード一覧!$A$1:$C$213,3,FALSE)-LEN(競技者一覧!J55)),競技者一覧!J55),\"\")","v":""},{"$f":"IFERROR(CONCATENATE(VLOOKUP(競技者一覧!K55,種目コード一覧!$A$1:$C$213,2,FALSE),\" \",REPT(\"0\",VLOOKUP(競技者一覧!K55,種目コード一覧!$A$1:$C$213,3,FALSE)-LEN(競技者一覧!L55)),競技者一覧!L55),\"\")","v":""},{"$f":"IFERROR(CONCATENATE(VLOOKUP(競技者一覧!M55,種目コード一覧!$A$1:$C$213,2,FALSE),\" \",REPT(\"0\",VLOOKUP(競技者一覧!M55,種目コード一覧!$A$1:$C$213,3,FALSE)-LEN(競技者一覧!N55)),競技者一覧!N55),\"\")","v":""},{"$f":"IFERROR(CONCATENATE(VLOOKUP(競技者一覧!O55,種目コード一覧!$A$1:$C$213,2,FALSE),\" \",REPT(\"0\",VLOOKUP(競技者一覧!O55,種目コード一覧!$A$1:$C$213,3,FALSE)-LEN(競技者一覧!P55)),競技者一覧!P55),\"\")","v":""},{"$f":"IFERROR(CONCATENATE(VLOOKUP(競技者一覧!Q55,種目コード一覧!$A$1:$C$213,2,FALSE),\" \",REPT(\"0\",VLOOKUP(競技者一覧!Q55,種目コード一覧!$A$1:$C$213,3,FALSE)-LEN(競技者一覧!R55)),競技者一覧!R55),\"\")","v":""},{"$f":"IFERROR(CONCATENATE(VLOOKUP(競技者一覧!S55,種目コード一覧!$A$1:$C$213,2,FALSE),\" \",REPT(\"0\",VLOOKUP(競技者一覧!S55,種目コード一覧!$A$1:$C$213,3,FALSE)-LEN(競技者一覧!T55)),競技者一覧!T55),\"\")","v":""},{"$f":"IFERROR(CONCATENATE(VLOOKUP(競技者一覧!U55,種目コード一覧!$A$1:$C$213,2,FALSE),\" \",REPT(\"0\",VLOOKUP(競技者一覧!U55,種目コード一覧!$A$1:$C$213,3,FALSE)-LEN(競技者一覧!V55)),競技者一覧!V55),\"\")","v":""}]
[{"$f":"CONCATENATE($F$2,Sheet4!B45)","v":{"$error":"#N/A"}},{"$f":"CONCATENATE(競技者一覧!C56,\"(\",競技者一覧!F56,\")\")","v":"()"},{"$f":"CONCATENATE(競技者一覧!D56)","v":""},{"$f":"競技者一覧!E56","v":0},{"$f":"VLOOKUP(競技者一覧!$C$6,Sheet4!$D$2:$E$48,2,FALSE)","v":{"$error":"#N/A"}},{"$f":"VLOOKUP(競技者一覧!$C$7,学校番号表!$B$2:$C$1004,2,FALSE)","v":{"$error":"#N/A"}},{"$f":"CONCATENATE(競技者一覧!B56)","v":""},{"$f":"IFERROR(CONCATENATE(VLOOKUP(競技者一覧!G56,種目コード一覧!$A$1:$C$213,2,FALSE),\" \",REPT(\"0\",VLOOKUP(競技者一覧!G56,種目コード一覧!$A$1:$C$213,3,FALSE)-LEN(競技者一覧!H56)),競技者一覧!H56),\"\")","v":""},{"$f":"IFERROR(CONCATENATE(VLOOKUP(競技者一覧!I56,種目コード一覧!$A$1:$C$213,2,FALSE),\" \",REPT(\"0\",VLOOKUP(競技者一覧!I56,種目コード一覧!$A$1:$C$213,3,FALSE)-LEN(競技者一覧!J56)),競技者一覧!J56),\"\")","v":""},{"$f":"IFERROR(CONCATENATE(VLOOKUP(競技者一覧!K56,種目コード一覧!$A$1:$C$213,2,FALSE),\" \",REPT(\"0\",VLOOKUP(競技者一覧!K56,種目コード一覧!$A$1:$C$213,3,FALSE)-LEN(競技者一覧!L56)),競技者一覧!L56),\"\")","v":""},{"$f":"IFERROR(CONCATENATE(VLOOKUP(競技者一覧!M56,種目コード一覧!$A$1:$C$213,2,FALSE),\" \",REPT(\"0\",VLOOKUP(競技者一覧!M56,種目コード一覧!$A$1:$C$213,3,FALSE)-LEN(競技者一覧!N56)),競技者一覧!N56),\"\")","v":""},{"$f":"IFERROR(CONCATENATE(VLOOKUP(競技者一覧!O56,種目コード一覧!$A$1:$C$213,2,FALSE),\" \",REPT(\"0\",VLOOKUP(競技者一覧!O56,種目コード一覧!$A$1:$C$213,3,FALSE)-LEN(競技者一覧!P56)),競技者一覧!P56),\"\")","v":""},{"$f":"IFERROR(CONCATENATE(VLOOKUP(競技者一覧!Q56,種目コード一覧!$A$1:$C$213,2,FALSE),\" \",REPT(\"0\",VLOOKUP(競技者一覧!Q56,種目コード一覧!$A$1:$C$213,3,FALSE)-LEN(競技者一覧!R56)),競技者一覧!R56),\"\")","v":""},{"$f":"IFERROR(CONCATENATE(VLOOKUP(競技者一覧!S56,種目コード一覧!$A$1:$C$213,2,FALSE),\" \",REPT(\"0\",VLOOKUP(競技者一覧!S56,種目コード一覧!$A$1:$C$213,3,FALSE)-LEN(競技者一覧!T56)),競技者一覧!T56),\"\")","v":""},{"$f":"IFERROR(CONCATENATE(VLOOKUP(競技者一覧!U56,種目コード一覧!$A$1:$C$213,2,FALSE),\" \",REPT(\"0\",VLOOKUP(競技者一覧!U56,種目コード一覧!$A$1:$C$213,3,FALSE)-LEN(競技者一覧!V56)),競技者一覧!V56),\"\")","v":""}]
[{"$f":"CONCATENATE($F$2,Sheet4!B46)","v":{"$error":"#N/A"}},{"$f":"CONCATENATE(競技者一覧!C57,\"(\",競技者一覧!F57,\")\")","v":"()"},{"$f":"CONCATENATE(競技者一覧!D57)","v":""},{"$f":"競技者一覧!E57","v":0},{"$f":"VLOOKUP(競技者一覧!$C$6,Sheet4!$D$2:$E$48,2,FALSE)","v":{"$error":"#N/A"}},{"$f":"VLOOKUP(競技者一覧!$C$7,学校番号表!$B$2:$C$1004,2,FALSE)","v":{"$error":"#N/A"}},{"$f":"CONCATENATE(競技者一覧!B57)","v":""},{"$f":"IFERROR(CONCATENATE(VLOOKUP(競技者一覧!G57,種目コード一覧!$A$1:$C$213,2,FALSE),\" \",REPT(\"0\",VLOOKUP(競技者一覧!G57,種目コード一覧!$A$1:$C$213,3,FALSE)-LEN(競技者一覧!H57)),競技者一覧!H57),\"\")","v":""},{"$f":"IFERROR(CONCATENATE(VLOOKUP(競技者一覧!I57,種目コード一覧!$A$1:$C$213,2,FALSE),\" \",REPT(\"0\",VLOOKUP(競技者一覧!I57,種目コード一覧!$A$1:$C$213,3,FALSE)-LEN(競技者一覧!J57)),競技者一覧!J57),\"\")","v":""},{"$f":"IFERROR(CONCATENATE(VLOOKUP(競技者一覧!K57,種目コード一覧!$A$1:$C$213,2,FALSE),\" \",REPT(\"0\",VLOOKUP(競技者一覧!K57,種目コード一覧!$A$1:$C$213,3,FALSE)-LEN(競技者一覧!L57)),競技者一覧!L57),\"\")","v":""},{"$f":"IFERROR(CONCATENATE(VLOOKUP(競技者一覧!M57,種目コード一覧!$A$1:$C$213,2,FALSE),\" \",REPT(\"0\",VLOOKUP(競技者一覧!M57,種目コード一覧!$A$1:$C$213,3,FALSE)-LEN(競技者一覧!N57)),競技者一覧!N57),\"\")","v":""},{"$f":"IFERROR(CONCATENATE(VLOOKUP(競技者一覧!O57,種目コード一覧!$A$1:$C$213,2,FALSE),\" \",REPT(\"0\",VLOOKUP(競技者一覧!O57,種目コード一覧!$A$1:$C$213,3,FALSE)-LEN(競技者一覧!P57)),競技者一覧!P57),\"\")","v":""},{"$f":"IFERROR(CONCATENATE(VLOOKUP(競技者一覧!Q57,種目コード一覧!$A$1:$C$213,2,FALSE),\" \",REPT(\"0\",VLOOKUP(競技者一覧!Q57,種目コード一覧!$A$1:$C$213,3,FALSE)-LEN(競技者一覧!R57)),競技者一覧!R57),\"\")","v":""},{"$f":"IFERROR(CONCATENATE(VLOOKUP(競技者一覧!S57,種目コード一覧!$A$1:$C$213,2,FALSE),\" \",REPT(\"0\",VLOOKUP(競技者一覧!S57,種目コード一覧!$A$1:$C$213,3,FALSE)-LEN(競技者一覧!T57)),競技者一覧!T57),\"\")","v":""},{"$f":"IFERROR(CONCATENATE(VLOOKUP(競技者一覧!U57,種目コード一覧!$A$1:$C$213,2,FALSE),\" \",REPT(\"0\",VLOOKUP(競技者一覧!U57,種目コード一覧!$A$1:$C$213,3,FALSE)-LEN(競技者一覧!V57)),競技者一覧!V57),\"\")","v":""}]
[{"$f":"CONCATENATE($F$2,Sheet4!B47)","v":{"$error":"#N/A"}},{"$f":"CONCATENATE(競技者一覧!C58,\"(\",競技者一覧!F58,\")\")","v":"()"},{"$f":"CONCATENATE(競技者一覧!D58)","v":""},{"$f":"競技者一覧!E58","v":0},{"$f":"VLOOKUP(競技者一覧!$C$6,Sheet4!$D$2:$E$48,2,FALSE)","v":{"$error":"#N/A"}},{"$f":"VLOOKUP(競技者一覧!$C$7,学校番号表!$B$2:$C$1004,2,FALSE)","v":{"$error":"#N/A"}},{"$f":"CONCATENATE(競技者一覧!B58)","v":""},{"$f":"IFERROR(CONCATENATE(VLOOKUP(競技者一覧!G58,種目コード一覧!$A$1:$C$213,2,FALSE),\" \",REPT(\"0\",VLOOKUP(競技者一覧!G58,種目コード一覧!$A$1:$C$213,3,FALSE)-LEN(競技者一覧!H58)),競技者一覧!H58),\"\")","v":""},{"$f":"IFERROR(CONCATENATE(VLOOKUP(競技者一覧!I58,種目コード一覧!$A$1:$C$213,2,FALSE),\" \",REPT(\"0\",VLOOKUP(競技者一覧!I58,種目コード一覧!$A$1:$C$213,3,FALSE)-LEN(競技者一覧!J58)),競技者一覧!J58),\"\")","v":""},{"$f":"IFERROR(CONCATENATE(VLOOKUP(競技者一覧!K58,種目コード一覧!$A$1:$C$213,2,FALSE),\" \",REPT(\"0\",VLOOKUP(競技者一覧!K58,種目コード一覧!$A$1:$C$213,3,FALSE)-LEN(競技者一覧!L58)),競技者一覧!L58),\"\")","v":""},{"$f":"IFERROR(CONCATENATE(VLOOKUP(競技者一覧!M58,種目コード一覧!$A$1:$C$213,2,FALSE),\" \",REPT(\"0\",VLOOKUP(競技者一覧!M58,種目コード一覧!$A$1:$C$213,3,FALSE)-LEN(競技者一覧!N58)),競技者一覧!N58),\"\")","v":""},{"$f":"IFERROR(CONCATENATE(VLOOKUP(競技者一覧!O58,種目コード一覧!$A$1:$C$213,2,FALSE),\" \",REPT(\"0\",VLOOKUP(競技者一覧!O58,種目コード一覧!$A$1:$C$213,3,FALSE)-LEN(競技者一覧!P58)),競技者一覧!P58),\"\")","v":""},{"$f":"IFERROR(CONCATENATE(VLOOKUP(競技者一覧!Q58,種目コード一覧!$A$1:$C$213,2,FALSE),\" \",REPT(\"0\",VLOOKUP(競技者一覧!Q58,種目コード一覧!$A$1:$C$213,3,FALSE)-LEN(競技者一覧!R58)),競技者一覧!R58),\"\")","v":""},{"$f":"IFERROR(CONCATENATE(VLOOKUP(競技者一覧!S58,種目コード一覧!$A$1:$C$213,2,FALSE),\" \",REPT(\"0\",VLOOKUP(競技者一覧!S58,種目コード一覧!$A$1:$C$213,3,FALSE)-LEN(競技者一覧!T58)),競技者一覧!T58),\"\")","v":""},{"$f":"IFERROR(CONCATENATE(VLOOKUP(競技者一覧!U58,種目コード一覧!$A$1:$C$213,2,FALSE),\" \",REPT(\"0\",VLOOKUP(競技者一覧!U58,種目コード一覧!$A$1:$C$213,3,FALSE)-LEN(競技者一覧!V58)),競技者一覧!V58),\"\")","v":""}]
[{"$f":"CONCATENATE($F$2,Sheet4!B48)","v":{"$error":"#N/A"}},{"$f":"CONCATENATE(競技者一覧!C59,\"(\",競技者一覧!F59,\")\")","v":"()"},{"$f":"CONCATENATE(競技者一覧!D59)","v":""},{"$f":"競技者一覧!E59","v":0},{"$f":"VLOOKUP(競技者一覧!$C$6,Sheet4!$D$2:$E$48,2,FALSE)","v":{"$error":"#N/A"}},{"$f":"VLOOKUP(競技者一覧!$C$7,学校番号表!$B$2:$C$1004,2,FALSE)","v":{"$error":"#N/A"}},{"$f":"CONCATENATE(競技者一覧!B59)","v":""},{"$f":"IFERROR(CONCATENATE(VLOOKUP(競技者一覧!G59,種目コード一覧!$A$1:$C$213,2,FALSE),\" \",REPT(\"0\",VLOOKUP(競技者一覧!G59,種目コード一覧!$A$1:$C$213,3,FALSE)-LEN(競技者一覧!H59)),競技者一覧!H59),\"\")","v":""},{"$f":"IFERROR(CONCATENATE(VLOOKUP(競技者一覧!I59,種目コード一覧!$A$1:$C$213,2,FALSE),\" \",REPT(\"0\",VLOOKUP(競技者一覧!I59,種目コード一覧!$A$1:$C$213,3,FALSE)-LEN(競技者一覧!J59)),競技者一覧!J59),\"\")","v":""},{"$f":"IFERROR(CONCATENATE(VLOOKUP(競技者一覧!K59,種目コード一覧!$A$1:$C$213,2,FALSE),\" \",REPT(\"0\",VLOOKUP(競技者一覧!K59,種目コード一覧!$A$1:$C$213,3,FALSE)-LEN(競技者一覧!L59)),競技者一覧!L59),\"\")","v":""},{"$f":"IFERROR(CONCATENATE(VLOOKUP(競技者一覧!M59,種目コード一覧!$A$1:$C$213,2,FALSE),\" \",REPT(\"0\",VLOOKUP(競技者一覧!M59,種目コード一覧!$A$1:$C$213,3,FALSE)-LEN(競技者一覧!N59)),競技者一覧!N59),\"\")","v":""},{"$f":"IFERROR(CONCATENATE(VLOOKUP(競技者一覧!O59,種目コード一覧!$A$1:$C$213,2,FALSE),\" \",REPT(\"0\",VLOOKUP(競技者一覧!O59,種目コード一覧!$A$1:$C$213,3,FALSE)-LEN(競技者一覧!P59)),競技者一覧!P59),\"\")","v":""},{"$f":"IFERROR(CONCATENATE(VLOOKUP(競技者一覧!Q59,種目コード一覧!$A$1:$C$213,2,FALSE),\" \",REPT(\"0\",VLOOKUP(競技者一覧!Q59,種目コード一覧!$A$1:$C$213,3,FALSE)-LEN(競技者一覧!R59)),競技者一覧!R59),\"\")","v":""},{"$f":"IFERROR(CONCATENATE(VLOOKUP(競技者一覧!S59,種目コード一覧!$A$1:$C$213,2,FALSE),\" \",REPT(\"0\",VLOOKUP(競技者一覧!S59,種目コード一覧!$A$1:$C$213,3,FALSE)-LEN(競技者一覧!T59)),競技者一覧!T59),\"\")","v":""},{"$f":"IFERROR(CONCATENATE(VLOOKUP(競技者一覧!U59,種目コード一覧!$A$1:$C$213,2,FALSE),\" \",REPT(\"0\",VLOOKUP(競技者一覧!U59,種目コード一覧!$A$1:$C$213,3,FALSE)-LEN(競技者一覧!V59)),競技者一覧!V59),\"\")","v":""}]
[{"$f":"CONCATENATE($F$2,Sheet4!B49)","v":{"$error":"#N/A"}},{"$f":"CONCATENATE(競技者一覧!C60,\"(\",競技者一覧!F60,\")\")","v":"()"},{"$f":"CONCATENATE(競技者一覧!D60)","v":""},{"$f":"競技者一覧!E60","v":0},{"$f":"VLOOKUP(競技者一覧!$C$6,Sheet4!$D$2:$E$48,2,FALSE)","v":{"$error":"#N/A"}},{"$f":"VLOOKUP(競技者一覧!$C$7,学校番号表!$B$2:$C$1004,2,FALSE)","v":{"$error":"#N/A"}},{"$f":"CONCATENATE(競技者一覧!B60)","v":""},{"$f":"IFERROR(CONCATENATE(VLOOKUP(競技者一覧!G60,種目コード一覧!$A$1:$C$213,2,FALSE),\" \",REPT(\"0\",VLOOKUP(競技者一覧!G60,種目コード一覧!$A$1:$C$213,3,FALSE)-LEN(競技者一覧!H60)),競技者一覧!H60),\"\")","v":""},{"$f":"IFERROR(CONCATENATE(VLOOKUP(競技者一覧!I60,種目コード一覧!$A$1:$C$213,2,FALSE),\" \",REPT(\"0\",VLOOKUP(競技者一覧!I60,種目コード一覧!$A$1:$C$213,3,FALSE)-LEN(競技者一覧!J60)),競技者一覧!J60),\"\")","v":""},{"$f":"IFERROR(CONCATENATE(VLOOKUP(競技者一覧!K60,種目コード一覧!$A$1:$C$213,2,FALSE),\" \",REPT(\"0\",VLOOKUP(競技者一覧!K60,種目コード一覧!$A$1:$C$213,3,FALSE)-LEN(競技者一覧!L60)),競技者一覧!L60),\"\")","v":""},{"$f":"IFERROR(CONCATENATE(VLOOKUP(競技者一覧!M60,種目コード一覧!$A$1:$C$213,2,FALSE),\" \",REPT(\"0\",VLOOKUP(競技者一覧!M60,種目コード一覧!$A$1:$C$213,3,FALSE)-LEN(競技者一覧!N60)),競技者一覧!N60),\"\")","v":""},{"$f":"IFERROR(CONCATENATE(VLOOKUP(競技者一覧!O60,種目コード一覧!$A$1:$C$213,2,FALSE),\" \",REPT(\"0\",VLOOKUP(競技者一覧!O60,種目コード一覧!$A$1:$C$213,3,FALSE)-LEN(競技者一覧!P60)),競技者一覧!P60),\"\")","v":""},{"$f":"IFERROR(CONCATENATE(VLOOKUP(競技者一覧!Q60,種目コード一覧!$A$1:$C$213,2,FALSE),\" \",REPT(\"0\",VLOOKUP(競技者一覧!Q60,種目コード一覧!$A$1:$C$213,3,FALSE)-LEN(競技者一覧!R60)),競技者一覧!R60),\"\")","v":""},{"$f":"IFERROR(CONCATENATE(VLOOKUP(競技者一覧!S60,種目コード一覧!$A$1:$C$213,2,FALSE),\" \",REPT(\"0\",VLOOKUP(競技者一覧!S60,種目コード一覧!$A$1:$C$213,3,FALSE)-LEN(競技者一覧!T60)),競技者一覧!T60),\"\")","v":""},{"$f":"IFERROR(CONCATENATE(VLOOKUP(競技者一覧!U60,種目コード一覧!$A$1:$C$213,2,FALSE),\" \",REPT(\"0\",VLOOKUP(競技者一覧!U60,種目コード一覧!$A$1:$C$213,3,FALSE)-LEN(競技者一覧!V60)),競技者一覧!V60),\"\")","v":""}]
[{"$f":"CONCATENATE($F$2,Sheet4!B50)","v":{"$error":"#N/A"}},{"$f":"CONCATENATE(競技者一覧!C61,\"(\",競技者一覧!F61,\")\")","v":"()"},{"$f":"CONCATENATE(競技者一覧!D61)","v":""},{"$f":"競技者一覧!E61","v":0},{"$f":"VLOOKUP(競技者一覧!$C$6,Sheet4!$D$2:$E$48,2,FALSE)","v":{"$error":"#N/A"}},{"$f":"VLOOKUP(競技者一覧!$C$7,学校番号表!$B$2:$C$1004,2,FALSE)","v":{"$error":"#N/A"}},{"$f":"CONCATENATE(競技者一覧!B61)","v":""},{"$f":"IFERROR(CONCATENATE(VLOOKUP(競技者一覧!G61,種目コード一覧!$A$1:$C$213,2,FALSE),\" \",REPT(\"0\",VLOOKUP(競技者一覧!G61,種目コード一覧!$A$1:$C$213,3,FALSE)-LEN(競技者一覧!H61)),競技者一覧!H61),\"\")","v":""},{"$f":"IFERROR(CONCATENATE(VLOOKUP(競技者一覧!I61,種目コード一覧!$A$1:$C$213,2,FALSE),\" \",REPT(\"0\",VLOOKUP(競技者一覧!I61,種目コード一覧!$A$1:$C$213,3,FALSE)-LEN(競技者一覧!J61)),競技者一覧!J61),\"\")","v":""},{"$f":"IFERROR(CONCATENATE(VLOOKUP(競技者一覧!K61,種目コード一覧!$A$1:$C$213,2,FALSE),\" \",REPT(\"0\",VLOOKUP(競技者一覧!K61,種目コード一覧!$A$1:$C$213,3,FALSE)-LEN(競技者一覧!L61)),競技者一覧!L61),\"\")","v":""},{"$f":"IFERROR(CONCATENATE(VLOOKUP(競技者一覧!M61,種目コード一覧!$A$1:$C$213,2,FALSE),\" \",REPT(\"0\",VLOOKUP(競技者一覧!M61,種目コード一覧!$A$1:$C$213,3,FALSE)-LEN(競技者一覧!N61)),競技者一覧!N61),\"\")","v":""},{"$f":"IFERROR(CONCATENATE(VLOOKUP(競技者一覧!O61,種目コード一覧!$A$1:$C$213,2,FALSE),\" \",REPT(\"0\",VLOOKUP(競技者一覧!O61,種目コード一覧!$A$1:$C$213,3,FALSE)-LEN(競技者一覧!P61)),競技者一覧!P61),\"\")","v":""},{"$f":"IFERROR(CONCATENATE(VLOOKUP(競技者一覧!Q61,種目コード一覧!$A$1:$C$213,2,FALSE),\" \",REPT(\"0\",VLOOKUP(競技者一覧!Q61,種目コード一覧!$A$1:$C$213,3,FALSE)-LEN(競技者一覧!R61)),競技者一覧!R61),\"\")","v":""},{"$f":"IFERROR(CONCATENATE(VLOOKUP(競技者一覧!S61,種目コード一覧!$A$1:$C$213,2,FALSE),\" \",REPT(\"0\",VLOOKUP(競技者一覧!S61,種目コード一覧!$A$1:$C$213,3,FALSE)-LEN(競技者一覧!T61)),競技者一覧!T61),\"\")","v":""},{"$f":"IFERROR(CONCATENATE(VLOOKUP(競技者一覧!U61,種目コード一覧!$A$1:$C$213,2,FALSE),\" \",REPT(\"0\",VLOOKUP(競技者一覧!U61,種目コード一覧!$A$1:$C$213,3,FALSE)-LEN(競技者一覧!V61)),競技者一覧!V61),\"\")","v":""}]
[{"$f":"CONCATENATE($F$2,Sheet4!B51)","v":{"$error":"#N/A"}},{"$f":"CONCATENATE(競技者一覧!C62,\"(\",競技者一覧!F62,\")\")","v":"()"},{"$f":"CONCATENATE(競技者一覧!D62)","v":""},{"$f":"競技者一覧!E62","v":0},{"$f":"VLOOKUP(競技者一覧!$C$6,Sheet4!$D$2:$E$48,2,FALSE)","v":{"$error":"#N/A"}},{"$f":"VLOOKUP(競技者一覧!$C$7,学校番号表!$B$2:$C$1004,2,FALSE)","v":{"$error":"#N/A"}},{"$f":"CONCATENATE(競技者一覧!B62)","v":""},{"$f":"IFERROR(CONCATENATE(VLOOKUP(競技者一覧!G62,種目コード一覧!$A$1:$C$213,2,FALSE),\" \",REPT(\"0\",VLOOKUP(競技者一覧!G62,種目コード一覧!$A$1:$C$213,3,FALSE)-LEN(競技者一覧!H62)),競技者一覧!H62),\"\")","v":""},{"$f":"IFERROR(CONCATENATE(VLOOKUP(競技者一覧!I62,種目コード一覧!$A$1:$C$213,2,FALSE),\" \",REPT(\"0\",VLOOKUP(競技者一覧!I62,種目コード一覧!$A$1:$C$213,3,FALSE)-LEN(競技者一覧!J62)),競技者一覧!J62),\"\")","v":""},{"$f":"IFERROR(CONCATENATE(VLOOKUP(競技者一覧!K62,種目コード一覧!$A$1:$C$213,2,FALSE),\" \",REPT(\"0\",VLOOKUP(競技者一覧!K62,種目コード一覧!$A$1:$C$213,3,FALSE)-LEN(競技者一覧!L62)),競技者一覧!L62),\"\")","v":""},{"$f":"IFERROR(CONCATENATE(VLOOKUP(競技者一覧!M62,種目コード一覧!$A$1:$C$213,2,FALSE),\" \",REPT(\"0\",VLOOKUP(競技者一覧!M62,種目コード一覧!$A$1:$C$213,3,FALSE)-LEN(競技者一覧!N62)),競技者一覧!N62),\"\")","v":""},{"$f":"IFERROR(CONCATENATE(VLOOKUP(競技者一覧!O62,種目コード一覧!$A$1:$C$213,2,FALSE),\" \",REPT(\"0\",VLOOKUP(競技者一覧!O62,種目コード一覧!$A$1:$C$213,3,FALSE)-LEN(競技者一覧!P62)),競技者一覧!P62),\"\")","v":""},{"$f":"IFERROR(CONCATENATE(VLOOKUP(競技者一覧!Q62,種目コード一覧!$A$1:$C$213,2,FALSE),\" \",REPT(\"0\",VLOOKUP(競技者一覧!Q62,種目コード一覧!$A$1:$C$213,3,FALSE)-LEN(競技者一覧!R62)),競技者一覧!R62),\"\")","v":""},{"$f":"IFERROR(CONCATENATE(VLOOKUP(競技者一覧!S62,種目コード一覧!$A$1:$C$213,2,FALSE),\" \",REPT(\"0\",VLOOKUP(競技者一覧!S62,種目コード一覧!$A$1:$C$213,3,FALSE)-LEN(競技者一覧!T62)),競技者一覧!T62),\"\")","v":""},{"$f":"IFERROR(CONCATENATE(VLOOKUP(競技者一覧!U62,種目コード一覧!$A$1:$C$213,2,FALSE),\" \",REPT(\"0\",VLOOKUP(競技者一覧!U62,種目コード一覧!$A$1:$C$213,3,FALSE)-LEN(競技者一覧!V62)),競技者一覧!V62),\"\")","v":""}]
[{"$f":"CONCATENATE($F$2,Sheet4!B52)","v":{"$error":"#N/A"}},{"$f":"CONCATENATE(競技者一覧!C63,\"(\",競技者一覧!F63,\")\")","v":"()"},{"$f":"CONCATENATE(競技者一覧!D63)","v":""},{"$f":"競技者一覧!E63","v":0},{"$f":"VLOOKUP(競技者一覧!$C$6,Sheet4!$D$2:$E$48,2,FALSE)","v":{"$error":"#N/A"}},{"$f":"VLOOKUP(競技者一覧!$C$7,学校番号表!$B$2:$C$1004,2,FALSE)","v":{"$error":"#N/A"}},{"$f":"CONCATENATE(競技者一覧!B63)","v":""},{"$f":"IFERROR(CONCATENATE(VLOOKUP(競技者一覧!G63,種目コード一覧!$A$1:$C$213,2,FALSE),\" \",REPT(\"0\",VLOOKUP(競技者一覧!G63,種目コード一覧!$A$1:$C$213,3,FALSE)-LEN(競技者一覧!H63)),競技者一覧!H63),\"\")","v":""},{"$f":"IFERROR(CONCATENATE(VLOOKUP(競技者一覧!I63,種目コード一覧!$A$1:$C$213,2,FALSE),\" \",REPT(\"0\",VLOOKUP(競技者一覧!I63,種目コード一覧!$A$1:$C$213,3,FALSE)-LEN(競技者一覧!J63)),競技者一覧!J63),\"\")","v":""},{"$f":"IFERROR(CONCATENATE(VLOOKUP(競技者一覧!K63,種目コード一覧!$A$1:$C$213,2,FALSE),\" \",REPT(\"0\",VLOOKUP(競技者一覧!K63,種目コード一覧!$A$1:$C$213,3,FALSE)-LEN(競技者一覧!L63)),競技者一覧!L63),\"\")","v":""},{"$f":"IFERROR(CONCATENATE(VLOOKUP(競技者一覧!M63,種目コード一覧!$A$1:$C$213,2,FALSE),\" \",REPT(\"0\",VLOOKUP(競技者一覧!M63,種目コード一覧!$A$1:$C$213,3,FALSE)-LEN(競技者一覧!N63)),競技者一覧!N63),\"\")","v":""},{"$f":"IFERROR(CONCATENATE(VLOOKUP(競技者一覧!O63,種目コード一覧!$A$1:$C$213,2,FALSE),\" \",REPT(\"0\",VLOOKUP(競技者一覧!O63,種目コード一覧!$A$1:$C$213,3,FALSE)-LEN(競技者一覧!P63)),競技者一覧!P63),\"\")","v":""},{"$f":"IFERROR(CONCATENATE(VLOOKUP(競技者一覧!Q63,種目コード一覧!$A$1:$C$213,2,FALSE),\" \",REPT(\"0\",VLOOKUP(競技者一覧!Q63,種目コード一覧!$A$1:$C$213,3,FALSE)-LEN(競技者一覧!R63)),競技者一覧!R63),\"\")","v":""},{"$f":"IFERROR(CONCATENATE(VLOOKUP(競技者一覧!S63,種目コード一覧!$A$1:$C$213,2,FALSE),\" \",REPT(\"0\",VLOOKUP(競技者一覧!S63,種目コード一覧!$A$1:$C$213,3,FALSE)-LEN(競技者一覧!T63)),競技者一覧!T63),\"\")","v":""},{"$f":"IFERROR(CONCATENATE(VLOOKUP(競技者一覧!U63,種目コード一覧!$A$1:$C$213,2,FALSE),\" \",REPT(\"0\",VLOOKUP(競技者一覧!U63,種目コード一覧!$A$1:$C$213,3,FALSE)-LEN(競技者一覧!V63)),競技者一覧!V63),\"\")","v":""}]
[{"$f":"CONCATENATE($F$2,Sheet4!B53)","v":{"$error":"#N/A"}},{"$f":"CONCATENATE(競技者一覧!C64,\"(\",競技者一覧!F64,\")\")","v":"()"},{"$f":"CONCATENATE(競技者一覧!D64)","v":""},{"$f":"競技者一覧!E64","v":0},{"$f":"VLOOKUP(競技者一覧!$C$6,Sheet4!$D$2:$E$48,2,FALSE)","v":{"$error":"#N/A"}},{"$f":"VLOOKUP(競技者一覧!$C$7,学校番号表!$B$2:$C$1004,2,FALSE)","v":{"$error":"#N/A"}},{"$f":"CONCATENATE(競技者一覧!B64)","v":""},{"$f":"IFERROR(CONCATENATE(VLOOKUP(競技者一覧!G64,種目コード一覧!$A$1:$C$213,2,FALSE),\" \",REPT(\"0\",VLOOKUP(競技者一覧!G64,種目コード一覧!$A$1:$C$213,3,FALSE)-LEN(競技者一覧!H64)),競技者一覧!H64),\"\")","v":""},{"$f":"IFERROR(CONCATENATE(VLOOKUP(競技者一覧!I64,種目コード一覧!$A$1:$C$213,2,FALSE),\" \",REPT(\"0\",VLOOKUP(競技者一覧!I64,種目コード一覧!$A$1:$C$213,3,FALSE)-LEN(競技者一覧!J64)),競技者一覧!J64),\"\")","v":""},{"$f":"IFERROR(CONCATENATE(VLOOKUP(競技者一覧!K64,種目コード一覧!$A$1:$C$213,2,FALSE),\" \",REPT(\"0\",VLOOKUP(競技者一覧!K64,種目コード一覧!$A$1:$C$213,3,FALSE)-LEN(競技者一覧!L64)),競技者一覧!L64),\"\")","v":""},{"$f":"IFERROR(CONCATENATE(VLOOKUP(競技者一覧!M64,種目コード一覧!$A$1:$C$213,2,FALSE),\" \",REPT(\"0\",VLOOKUP(競技者一覧!M64,種目コード一覧!$A$1:$C$213,3,FALSE)-LEN(競技者一覧!N64)),競技者一覧!N64),\"\")","v":""},{"$f":"IFERROR(CONCATENATE(VLOOKUP(競技者一覧!O64,種目コード一覧!$A$1:$C$213,2,FALSE),\" \",REPT(\"0\",VLOOKUP(競技者一覧!O64,種目コード一覧!$A$1:$C$213,3,FALSE)-LEN(競技者一覧!P64)),競技者一覧!P64),\"\")","v":""},{"$f":"IFERROR(CONCATENATE(VLOOKUP(競技者一覧!Q64,種目コード一覧!$A$1:$C$213,2,FALSE),\" \",REPT(\"0\",VLOOKUP(競技者一覧!Q64,種目コード一覧!$A$1:$C$213,3,FALSE)-LEN(競技者一覧!R64)),競技者一覧!R64),\"\")","v":""},{"$f":"IFERROR(CONCATENATE(VLOOKUP(競技者一覧!S64,種目コード一覧!$A$1:$C$213,2,FALSE),\" \",REPT(\"0\",VLOOKUP(競技者一覧!S64,種目コード一覧!$A$1:$C$213,3,FALSE)-LEN(競技者一覧!T64)),競技者一覧!T64),\"\")","v":""},{"$f":"IFERROR(CONCATENATE(VLOOKUP(競技者一覧!U64,種目コード一覧!$A$1:$C$213,2,FALSE),\" \",REPT(\"0\",VLOOKUP(競技者一覧!U64,種目コード一覧!$A$1:$C$213,3,FALSE)-LEN(競技者一覧!V64)),競技者一覧!V64),\"\")","v":""}]
[{"$f":"CONCATENATE($F$2,Sheet4!B54)","v":{"$error":"#N/A"}},{"$f":"CONCATENATE(競技者一覧!C65,\"(\",競技者一覧!F65,\")\")","v":"()"},{"$f":"CONCATENATE(競技者一覧!D65)","v":""},{"$f":"競技者一覧!E65","v":0},{"$f":"VLOOKUP(競技者一覧!$C$6,Sheet4!$D$2:$E$48,2,FALSE)","v":{"$error":"#N/A"}},{"$f":"VLOOKUP(競技者一覧!$C$7,学校番号表!$B$2:$C$1004,2,FALSE)","v":{"$error":"#N/A"}},{"$f":"CONCATENATE(競技者一覧!B65)","v":""},{"$f":"IFERROR(CONCATENATE(VLOOKUP(競技者一覧!G65,種目コード一覧!$A$1:$C$213,2,FALSE),\" \",REPT(\"0\",VLOOKUP(競技者一覧!G65,種目コード一覧!$A$1:$C$213,3,FALSE)-LEN(競技者一覧!H65)),競技者一覧!H65),\"\")","v":""},{"$f":"IFERROR(CONCATENATE(VLOOKUP(競技者一覧!I65,種目コード一覧!$A$1:$C$213,2,FALSE),\" \",REPT(\"0\",VLOOKUP(競技者一覧!I65,種目コード一覧!$A$1:$C$213,3,FALSE)-LEN(競技者一覧!J65)),競技者一覧!J65),\"\")","v":""},{"$f":"IFERROR(CONCATENATE(VLOOKUP(競技者一覧!K65,種目コード一覧!$A$1:$C$213,2,FALSE),\" \",REPT(\"0\",VLOOKUP(競技者一覧!K65,種目コード一覧!$A$1:$C$213,3,FALSE)-LEN(競技者一覧!L65)),競技者一覧!L65),\"\")","v":""},{"$f":"IFERROR(CONCATENATE(VLOOKUP(競技者一覧!M65,種目コード一覧!$A$1:$C$213,2,FALSE),\" \",REPT(\"0\",VLOOKUP(競技者一覧!M65,種目コード一覧!$A$1:$C$213,3,FALSE)-LEN(競技者一覧!N65)),競技者一覧!N65),\"\")","v":""},{"$f":"IFERROR(CONCATENATE(VLOOKUP(競技者一覧!O65,種目コード一覧!$A$1:$C$213,2,FALSE),\" \",REPT(\"0\",VLOOKUP(競技者一覧!O65,種目コード一覧!$A$1:$C$213,3,FALSE)-LEN(競技者一覧!P65)),競技者一覧!P65),\"\")","v":""},{"$f":"IFERROR(CONCATENATE(VLOOKUP(競技者一覧!Q65,種目コード一覧!$A$1:$C$213,2,FALSE),\" \",REPT(\"0\",VLOOKUP(競技者一覧!Q65,種目コード一覧!$A$1:$C$213,3,FALSE)-LEN(競技者一覧!R65)),競技者一覧!R65),\"\")","v":""},{"$f":"IFERROR(CONCATENATE(VLOOKUP(競技者一覧!S65,種目コード一覧!$A$1:$C$213,2,FALSE),\" \",REPT(\"0\",VLOOKUP(競技者一覧!S65,種目コード一覧!$A$1:$C$213,3,FALSE)-LEN(競技者一覧!T65)),競技者一覧!T65),\"\")","v":""},{"$f":"IFERROR(CONCATENATE(VLOOKUP(競技者一覧!U65,種目コード一覧!$A$1:$C$213,2,FALSE),\" \",REPT(\"0\",VLOOKUP(競技者一覧!U65,種目コード一覧!$A$1:$C$213,3,FALSE)-LEN(競技者一覧!V65)),競技者一覧!V65),\"\")","v":""}]
[{"$f":"CONCATENATE($F$2,Sheet4!B55)","v":{"$error":"#N/A"}},{"$f":"CONCATENATE(競技者一覧!C66,\"(\",競技者一覧!F66,\")\")","v":"()"},{"$f":"CONCATENATE(競技者一覧!D66)","v":""},{"$f":"競技者一覧!E66","v":0},{"$f":"VLOOKUP(競技者一覧!$C$6,Sheet4!$D$2:$E$48,2,FALSE)","v":{"$error":"#N/A"}},{"$f":"VLOOKUP(競技者一覧!$C$7,学校番号表!$B$2:$C$1004,2,FALSE)","v":{"$error":"#N/A"}},{"$f":"CONCATENATE(競技者一覧!B66)","v":""},{"$f":"IFERROR(CONCATENATE(VLOOKUP(競技者一覧!G66,種目コード一覧!$A$1:$C$213,2,FALSE),\" \",REPT(\"0\",VLOOKUP(競技者一覧!G66,種目コード一覧!$A$1:$C$213,3,FALSE)-LEN(競技者一覧!H66)),競技者一覧!H66),\"\")","v":""},{"$f":"IFERROR(CONCATENATE(VLOOKUP(競技者一覧!I66,種目コード一覧!$A$1:$C$213,2,FALSE),\" \",REPT(\"0\",VLOOKUP(競技者一覧!I66,種目コード一覧!$A$1:$C$213,3,FALSE)-LEN(競技者一覧!J66)),競技者一覧!J66),\"\")","v":""},{"$f":"IFERROR(CONCATENATE(VLOOKUP(競技者一覧!K66,種目コード一覧!$A$1:$C$213,2,FALSE),\" \",REPT(\"0\",VLOOKUP(競技者一覧!K66,種目コード一覧!$A$1:$C$213,3,FALSE)-LEN(競技者一覧!L66)),競技者一覧!L66),\"\")","v":""},{"$f":"IFERROR(CONCATENATE(VLOOKUP(競技者一覧!M66,種目コード一覧!$A$1:$C$213,2,FALSE),\" \",REPT(\"0\",VLOOKUP(競技者一覧!M66,種目コード一覧!$A$1:$C$213,3,FALSE)-LEN(競技者一覧!N66)),競技者一覧!N66),\"\")","v":""},{"$f":"IFERROR(CONCATENATE(VLOOKUP(競技者一覧!O66,種目コード一覧!$A$1:$C$213,2,FALSE),\" \",REPT(\"0\",VLOOKUP(競技者一覧!O66,種目コード一覧!$A$1:$C$213,3,FALSE)-LEN(競技者一覧!P66)),競技者一覧!P66),\"\")","v":""},{"$f":"IFERROR(CONCATENATE(VLOOKUP(競技者一覧!Q66,種目コード一覧!$A$1:$C$213,2,FALSE),\" \",REPT(\"0\",VLOOKUP(競技者一覧!Q66,種目コード一覧!$A$1:$C$213,3,FALSE)-LEN(競技者一覧!R66)),競技者一覧!R66),\"\")","v":""},{"$f":"IFERROR(CONCATENATE(VLOOKUP(競技者一覧!S66,種目コード一覧!$A$1:$C$213,2,FALSE),\" \",REPT(\"0\",VLOOKUP(競技者一覧!S66,種目コード一覧!$A$1:$C$213,3,FALSE)-LEN(競技者一覧!T66)),競技者一覧!T66),\"\")","v":""},{"$f":"IFERROR(CONCATENATE(VLOOKUP(競技者一覧!U66,種目コード一覧!$A$1:$C$213,2,FALSE),\" \",REPT(\"0\",VLOOKUP(競技者一覧!U66,種目コード一覧!$A$1:$C$213,3,FALSE)-LEN(競技者一覧!V66)),競技者一覧!V66),\"\")","v":""}]
[{"$f":"CONCATENATE($F$2,Sheet4!B56)","v":{"$error":"#N/A"}},{"$f":"CONCATENATE(競技者一覧!C67,\"(\",競技者一覧!F67,\")\")","v":"()"},{"$f":"CONCATENATE(競技者一覧!D67)","v":""},{"$f":"競技者一覧!E67","v":0},{"$f":"VLOOKUP(競技者一覧!$C$6,Sheet4!$D$2:$E$48,2,FALSE)","v":{"$error":"#N/A"}},{"$f":"VLOOKUP(競技者一覧!$C$7,学校番号表!$B$2:$C$1004,2,FALSE)","v":{"$error":"#N/A"}},{"$f":"CONCATENATE(競技者一覧!B67)","v":""},{"$f":"IFERROR(CONCATENATE(VLOOKUP(競技者一覧!G67,種目コード一覧!$A$1:$C$213,2,FALSE),\" \",REPT(\"0\",VLOOKUP(競技者一覧!G67,種目コード一覧!$A$1:$C$213,3,FALSE)-LEN(競技者一覧!H67)),競技者一覧!H67),\"\")","v":""},{"$f":"IFERROR(CONCATENATE(VLOOKUP(競技者一覧!I67,種目コード一覧!$A$1:$C$213,2,FALSE),\" \",REPT(\"0\",VLOOKUP(競技者一覧!I67,種目コード一覧!$A$1:$C$213,3,FALSE)-LEN(競技者一覧!J67)),競技者一覧!J67),\"\")","v":""},{"$f":"IFERROR(CONCATENATE(VLOOKUP(競技者一覧!K67,種目コード一覧!$A$1:$C$213,2,FALSE),\" \",REPT(\"0\",VLOOKUP(競技者一覧!K67,種目コード一覧!$A$1:$C$213,3,FALSE)-LEN(競技者一覧!L67)),競技者一覧!L67),\"\")","v":""},{"$f":"IFERROR(CONCATENATE(VLOOKUP(競技者一覧!M67,種目コード一覧!$A$1:$C$213,2,FALSE),\" \",REPT(\"0\",VLOOKUP(競技者一覧!M67,種目コード一覧!$A$1:$C$213,3,FALSE)-LEN(競技者一覧!N67)),競技者一覧!N67),\"\")","v":""},{"$f":"IFERROR(CONCATENATE(VLOOKUP(競技者一覧!O67,種目コード一覧!$A$1:$C$213,2,FALSE),\" \",REPT(\"0\",VLOOKUP(競技者一覧!O67,種目コード一覧!$A$1:$C$213,3,FALSE)-LEN(競技者一覧!P67)),競技者一覧!P67),\"\")","v":""},{"$f":"IFERROR(CONCATENATE(VLOOKUP(競技者一覧!Q67,種目コード一覧!$A$1:$C$213,2,FALSE),\" \",REPT(\"0\",VLOOKUP(競技者一覧!Q67,種目コード一覧!$A$1:$C$213,3,FALSE)-LEN(競技者一覧!R67)),競技者一覧!R67),\"\")","v":""},{"$f":"IFERROR(CONCATENATE(VLOOKUP(競技者一覧!S67,種目コード一覧!$A$1:$C$213,2,FALSE),\" \",REPT(\"0\",VLOOKUP(競技者一覧!S67,種目コード一覧!$A$1:$C$213,3,FALSE)-LEN(競技者一覧!T67)),競技者一覧!T67),\"\")","v":""},{"$f":"IFERROR(CONCATENATE(VLOOKUP(競技者一覧!U67,種目コード一覧!$A$1:$C$213,2,FALSE),\" \",REPT(\"0\",VLOOKUP(競技者一覧!U67,種目コード一覧!$A$1:$C$213,3,FALSE)-LEN(競技者一覧!V67)),競技者一覧!V67),\"\")","v":""}]
[{"$f":"CONCATENATE($F$2,Sheet4!B57)","v":{"$error":"#N/A"}},{"$f":"CONCATENATE(競技者一覧!C68,\"(\",競技者一覧!F68,\")\")","v":"()"},{"$f":"CONCATENATE(競技者一覧!D68)","v":""},{"$f":"競技者一覧!E68","v":0},{"$f":"VLOOKUP(競技者一覧!$C$6,Sheet4!$D$2:$E$48,2,FALSE)","v":{"$error":"#N/A"}},{"$f":"VLOOKUP(競技者一覧!$C$7,学校番号表!$B$2:$C$1004,2,FALSE)","v":{"$error":"#N/A"}},{"$f":"CONCATENATE(競技者一覧!B68)","v":""},{"$f":"IFERROR(CONCATENATE(VLOOKUP(競技者一覧!G68,種目コード一覧!$A$1:$C$213,2,FALSE),\" \",REPT(\"0\",VLOOKUP(競技者一覧!G68,種目コード一覧!$A$1:$C$213,3,FALSE)-LEN(競技者一覧!H68)),競技者一覧!H68),\"\")","v":""},{"$f":"IFERROR(CONCATENATE(VLOOKUP(競技者一覧!I68,種目コード一覧!$A$1:$C$213,2,FALSE),\" \",REPT(\"0\",VLOOKUP(競技者一覧!I68,種目コード一覧!$A$1:$C$213,3,FALSE)-LEN(競技者一覧!J68)),競技者一覧!J68),\"\")","v":""},{"$f":"IFERROR(CONCATENATE(VLOOKUP(競技者一覧!K68,種目コード一覧!$A$1:$C$213,2,FALSE),\" \",REPT(\"0\",VLOOKUP(競技者一覧!K68,種目コード一覧!$A$1:$C$213,3,FALSE)-LEN(競技者一覧!L68)),競技者一覧!L68),\"\")","v":""},{"$f":"IFERROR(CONCATENATE(VLOOKUP(競技者一覧!M68,種目コード一覧!$A$1:$C$213,2,FALSE),\" \",REPT(\"0\",VLOOKUP(競技者一覧!M68,種目コード一覧!$A$1:$C$213,3,FALSE)-LEN(競技者一覧!N68)),競技者一覧!N68),\"\")","v":""},{"$f":"IFERROR(CONCATENATE(VLOOKUP(競技者一覧!O68,種目コード一覧!$A$1:$C$213,2,FALSE),\" \",REPT(\"0\",VLOOKUP(競技者一覧!O68,種目コード一覧!$A$1:$C$213,3,FALSE)-LEN(競技者一覧!P68)),競技者一覧!P68),\"\")","v":""},{"$f":"IFERROR(CONCATENATE(VLOOKUP(競技者一覧!Q68,種目コード一覧!$A$1:$C$213,2,FALSE),\" \",REPT(\"0\",VLOOKUP(競技者一覧!Q68,種目コード一覧!$A$1:$C$213,3,FALSE)-LEN(競技者一覧!R68)),競技者一覧!R68),\"\")","v":""},{"$f":"IFERROR(CONCATENATE(VLOOKUP(競技者一覧!S68,種目コード一覧!$A$1:$C$213,2,FALSE),\" \",REPT(\"0\",VLOOKUP(競技者一覧!S68,種目コード一覧!$A$1:$C$213,3,FALSE)-LEN(競技者一覧!T68)),競技者一覧!T68),\"\")","v":""},{"$f":"IFERROR(CONCATENATE(VLOOKUP(競技者一覧!U68,種目コード一覧!$A$1:$C$213,2,FALSE),\" \",REPT(\"0\",VLOOKUP(競技者一覧!U68,種目コード一覧!$A$1:$C$213,3,FALSE)-LEN(競技者一覧!V68)),競技者一覧!V68),\"\")","v":""}]
[{"$f":"CONCATENATE($F$2,Sheet4!B58)","v":{"$error":"#N/A"}},{"$f":"CONCATENATE(競技者一覧!C69,\"(\",競技者一覧!F69,\")\")","v":"()"},{"$f":"CONCATENATE(競技者一覧!D69)","v":""},{"$f":"競技者一覧!E69","v":0},{"$f":"VLOOKUP(競技者一覧!$C$6,Sheet4!$D$2:$E$48,2,FALSE)","v":{"$error":"#N/A"}},{"$f":"VLOOKUP(競技者一覧!$C$7,学校番号表!$B$2:$C$1004,2,FALSE)","v":{"$error":"#N/A"}},{"$f":"CONCATENATE(競技者一覧!B69)","v":""},{"$f":"IFERROR(CONCATENATE(VLOOKUP(競技者一覧!G69,種目コード一覧!$A$1:$C$213,2,FALSE),\" \",REPT(\"0\",VLOOKUP(競技者一覧!G69,種目コード一覧!$A$1:$C$213,3,FALSE)-LEN(競技者一覧!H69)),競技者一覧!H69),\"\")","v":""},{"$f":"IFERROR(CONCATENATE(VLOOKUP(競技者一覧!I69,種目コード一覧!$A$1:$C$213,2,FALSE),\" \",REPT(\"0\",VLOOKUP(競技者一覧!I69,種目コード一覧!$A$1:$C$213,3,FALSE)-LEN(競技者一覧!J69)),競技者一覧!J69),\"\")","v":""},{"$f":"IFERROR(CONCATENATE(VLOOKUP(競技者一覧!K69,種目コード一覧!$A$1:$C$213,2,FALSE),\" \",REPT(\"0\",VLOOKUP(競技者一覧!K69,種目コード一覧!$A$1:$C$213,3,FALSE)-LEN(競技者一覧!L69)),競技者一覧!L69),\"\")","v":""},{"$f":"IFERROR(CONCATENATE(VLOOKUP(競技者一覧!M69,種目コード一覧!$A$1:$C$213,2,FALSE),\" \",REPT(\"0\",VLOOKUP(競技者一覧!M69,種目コード一覧!$A$1:$C$213,3,FALSE)-LEN(競技者一覧!N69)),競技者一覧!N69),\"\")","v":""},{"$f":"IFERROR(CONCATENATE(VLOOKUP(競技者一覧!O69,種目コード一覧!$A$1:$C$213,2,FALSE),\" \",REPT(\"0\",VLOOKUP(競技者一覧!O69,種目コード一覧!$A$1:$C$213,3,FALSE)-LEN(競技者一覧!P69)),競技者一覧!P69),\"\")","v":""},{"$f":"IFERROR(CONCATENATE(VLOOKUP(競技者一覧!Q69,種目コード一覧!$A$1:$C$213,2,FALSE),\" \",REPT(\"0\",VLOOKUP(競技者一覧!Q69,種目コード一覧!$A$1:$C$213,3,FALSE)-LEN(競技者一覧!R69)),競技者一覧!R69),\"\")","v":""},{"$f":"IFERROR(CONCATENATE(VLOOKUP(競技者一覧!S69,種目コード一覧!$A$1:$C$213,2,FALSE),\" \",REPT(\"0\",VLOOKUP(競技者一覧!S69,種目コード一覧!$A$1:$C$213,3,FALSE)-LEN(競技者一覧!T69)),競技者一覧!T69),\"\")","v":""},{"$f":"IFERROR(CONCATENATE(VLOOKUP(競技者一覧!U69,種目コード一覧!$A$1:$C$213,2,FALSE),\" \",REPT(\"0\",VLOOKUP(競技者一覧!U69,種目コード一覧!$A$1:$C$213,3,FALSE)-LEN(競技者一覧!V69)),競技者一覧!V69),\"\")","v":""}]
[{"$f":"CONCATENATE($F$2,Sheet4!B59)","v":{"$error":"#N/A"}},{"$f":"CONCATENATE(競技者一覧!C70,\"(\",競技者一覧!F70,\")\")","v":"()"},{"$f":"CONCATENATE(競技者一覧!D70)","v":""},{"$f":"競技者一覧!E70","v":0},{"$f":"VLOOKUP(競技者一覧!$C$6,Sheet4!$D$2:$E$48,2,FALSE)","v":{"$error":"#N/A"}},{"$f":"VLOOKUP(競技者一覧!$C$7,学校番号表!$B$2:$C$1004,2,FALSE)","v":{"$error":"#N/A"}},{"$f":"CONCATENATE(競技者一覧!B70)","v":""},{"$f":"IFERROR(CONCATENATE(VLOOKUP(競技者一覧!G70,種目コード一覧!$A$1:$C$213,2,FALSE),\" \",REPT(\"0\",VLOOKUP(競技者一覧!G70,種目コード一覧!$A$1:$C$213,3,FALSE)-LEN(競技者一覧!H70)),競技者一覧!H70),\"\")","v":""},{"$f":"IFERROR(CONCATENATE(VLOOKUP(競技者一覧!I70,種目コード一覧!$A$1:$C$213,2,FALSE),\" \",REPT(\"0\",VLOOKUP(競技者一覧!I70,種目コード一覧!$A$1:$C$213,3,FALSE)-LEN(競技者一覧!J70)),競技者一覧!J70),\"\")","v":""},{"$f":"IFERROR(CONCATENATE(VLOOKUP(競技者一覧!K70,種目コード一覧!$A$1:$C$213,2,FALSE),\" \",REPT(\"0\",VLOOKUP(競技者一覧!K70,種目コード一覧!$A$1:$C$213,3,FALSE)-LEN(競技者一覧!L70)),競技者一覧!L70),\"\")","v":""},{"$f":"IFERROR(CONCATENATE(VLOOKUP(競技者一覧!M70,種目コード一覧!$A$1:$C$213,2,FALSE),\" \",REPT(\"0\",VLOOKUP(競技者一覧!M70,種目コード一覧!$A$1:$C$213,3,FALSE)-LEN(競技者一覧!N70)),競技者一覧!N70),\"\")","v":""},{"$f":"IFERROR(CONCATENATE(VLOOKUP(競技者一覧!O70,種目コード一覧!$A$1:$C$213,2,FALSE),\" \",REPT(\"0\",VLOOKUP(競技者一覧!O70,種目コード一覧!$A$1:$C$213,3,FALSE)-LEN(競技者一覧!P70)),競技者一覧!P70),\"\")","v":""},{"$f":"IFERROR(CONCATENATE(VLOOKUP(競技者一覧!Q70,種目コード一覧!$A$1:$C$213,2,FALSE),\" \",REPT(\"0\",VLOOKUP(競技者一覧!Q70,種目コード一覧!$A$1:$C$213,3,FALSE)-LEN(競技者一覧!R70)),競技者一覧!R70),\"\")","v":""},{"$f":"IFERROR(CONCATENATE(VLOOKUP(競技者一覧!S70,種目コード一覧!$A$1:$C$213,2,FALSE),\" \",REPT(\"0\",VLOOKUP(競技者一覧!S70,種目コード一覧!$A$1:$C$213,3,FALSE)-LEN(競技者一覧!T70)),競技者一覧!T70),\"\")","v":""},{"$f":"IFERROR(CONCATENATE(VLOOKUP(競技者一覧!U70,種目コード一覧!$A$1:$C$213,2,FALSE),\" \",REPT(\"0\",VLOOKUP(競技者一覧!U70,種目コード一覧!$A$1:$C$213,3,FALSE)-LEN(競技者一覧!V70)),競技者一覧!V70),\"\")","v":""}]
[{"$f":"CONCATENATE($F$2,Sheet4!B60)","v":{"$error":"#N/A"}},{"$f":"CONCATENATE(競技者一覧!C71,\"(\",競技者一覧!F71,\")\")","v":"()"},{"$f":"CONCATENATE(競技者一覧!D71)","v":""},{"$f":"競技者一覧!E71","v":0},{"$f":"VLOOKUP(競技者一覧!$C$6,Sheet4!$D$2:$E$48,2,FALSE)","v":{"$error":"#N/A"}},{"$f":"VLOOKUP(競技者一覧!$C$7,学校番号表!$B$2:$C$1004,2,FALSE)","v":{"$error":"#N/A"}},{"$f":"CONCATENATE(競技者一覧!B71)","v":""},{"$f":"IFERROR(CONCATENATE(VLOOKUP(競技者一覧!G71,種目コード一覧!$A$1:$C$213,2,FALSE),\" \",REPT(\"0\",VLOOKUP(競技者一覧!G71,種目コード一覧!$A$1:$C$213,3,FALSE)-LEN(競技者一覧!H71)),競技者一覧!H71),\"\")","v":""},{"$f":"IFERROR(CONCATENATE(VLOOKUP(競技者一覧!I71,種目コード一覧!$A$1:$C$213,2,FALSE),\" \",REPT(\"0\",VLOOKUP(競技者一覧!I71,種目コード一覧!$A$1:$C$213,3,FALSE)-LEN(競技者一覧!J71)),競技者一覧!J71),\"\")","v":""},{"$f":"IFERROR(CONCATENATE(VLOOKUP(競技者一覧!K71,種目コード一覧!$A$1:$C$213,2,FALSE),\" \",REPT(\"0\",VLOOKUP(競技者一覧!K71,種目コード一覧!$A$1:$C$213,3,FALSE)-LEN(競技者一覧!L71)),競技者一覧!L71),\"\")","v":""},{"$f":"IFERROR(CONCATENATE(VLOOKUP(競技者一覧!M71,種目コード一覧!$A$1:$C$213,2,FALSE),\" \",REPT(\"0\",VLOOKUP(競技者一覧!M71,種目コード一覧!$A$1:$C$213,3,FALSE)-LEN(競技者一覧!N71)),競技者一覧!N71),\"\")","v":""},{"$f":"IFERROR(CONCATENATE(VLOOKUP(競技者一覧!O71,種目コード一覧!$A$1:$C$213,2,FALSE),\" \",REPT(\"0\",VLOOKUP(競技者一覧!O71,種目コード一覧!$A$1:$C$213,3,FALSE)-LEN(競技者一覧!P71)),競技者一覧!P71),\"\")","v":""},{"$f":"IFERROR(CONCATENATE(VLOOKUP(競技者一覧!Q71,種目コード一覧!$A$1:$C$213,2,FALSE),\" \",REPT(\"0\",VLOOKUP(競技者一覧!Q71,種目コード一覧!$A$1:$C$213,3,FALSE)-LEN(競技者一覧!R71)),競技者一覧!R71),\"\")","v":""},{"$f":"IFERROR(CONCATENATE(VLOOKUP(競技者一覧!S71,種目コード一覧!$A$1:$C$213,2,FALSE),\" \",REPT(\"0\",VLOOKUP(競技者一覧!S71,種目コード一覧!$A$1:$C$213,3,FALSE)-LEN(競技者一覧!T71)),競技者一覧!T71),\"\")","v":""},{"$f":"IFERROR(CONCATENATE(VLOOKUP(競技者一覧!U71,種目コード一覧!$A$1:$C$213,2,FALSE),\" \",REPT(\"0\",VLOOKUP(競技者一覧!U71,種目コード一覧!$A$1:$C$213,3,FALSE)-LEN(競技者一覧!V71)),競技者一覧!V71),\"\")","v":""}]
[{"$f":"CONCATENATE($F$2,Sheet4!B61)","v":{"$error":"#N/A"}},{"$f":"CONCATENATE(競技者一覧!C72,\"(\",競技者一覧!F72,\")\")","v":"()"},{"$f":"CONCATENATE(競技者一覧!D72)","v":""},{"$f":"競技者一覧!E72","v":0},{"$f":"VLOOKUP(競技者一覧!$C$6,Sheet4!$D$2:$E$48,2,FALSE)","v":{"$error":"#N/A"}},{"$f":"VLOOKUP(競技者一覧!$C$7,学校番号表!$B$2:$C$1004,2,FALSE)","v":{"$error":"#N/A"}},{"$f":"CONCATENATE(競技者一覧!B72)","v":""},{"$f":"IFERROR(CONCATENATE(VLOOKUP(競技者一覧!G72,種目コード一覧!$A$1:$C$213,2,FALSE),\" \",REPT(\"0\",VLOOKUP(競技者一覧!G72,種目コード一覧!$A$1:$C$213,3,FALSE)-LEN(競技者一覧!H72)),競技者一覧!H72),\"\")","v":""},{"$f":"IFERROR(CONCATENATE(VLOOKUP(競技者一覧!I72,種目コード一覧!$A$1:$C$213,2,FALSE),\" \",REPT(\"0\",VLOOKUP(競技者一覧!I72,種目コード一覧!$A$1:$C$213,3,FALSE)-LEN(競技者一覧!J72)),競技者一覧!J72),\"\")","v":""},{"$f":"IFERROR(CONCATENATE(VLOOKUP(競技者一覧!K72,種目コード一覧!$A$1:$C$213,2,FALSE),\" \",REPT(\"0\",VLOOKUP(競技者一覧!K72,種目コード一覧!$A$1:$C$213,3,FALSE)-LEN(競技者一覧!L72)),競技者一覧!L72),\"\")","v":""},{"$f":"IFERROR(CONCATENATE(VLOOKUP(競技者一覧!M72,種目コード一覧!$A$1:$C$213,2,FALSE),\" \",REPT(\"0\",VLOOKUP(競技者一覧!M72,種目コード一覧!$A$1:$C$213,3,FALSE)-LEN(競技者一覧!N72)),競技者一覧!N72),\"\")","v":""},{"$f":"IFERROR(CONCATENATE(VLOOKUP(競技者一覧!O72,種目コード一覧!$A$1:$C$213,2,FALSE),\" \",REPT(\"0\",VLOOKUP(競技者一覧!O72,種目コード一覧!$A$1:$C$213,3,FALSE)-LEN(競技者一覧!P72)),競技者一覧!P72),\"\")","v":""},{"$f":"IFERROR(CONCATENATE(VLOOKUP(競技者一覧!Q72,種目コード一覧!$A$1:$C$213,2,FALSE),\" \",REPT(\"0\",VLOOKUP(競技者一覧!Q72,種目コード一覧!$A$1:$C$213,3,FALSE)-LEN(競技者一覧!R72)),競技者一覧!R72),\"\")","v":""},{"$f":"IFERROR(CONCATENATE(VLOOKUP(競技者一覧!S72,種目コード一覧!$A$1:$C$213,2,FALSE),\" \",REPT(\"0\",VLOOKUP(競技者一覧!S72,種目コード一覧!$A$1:$C$213,3,FALSE)-LEN(競技者一覧!T72)),競技者一覧!T72),\"\")","v":""},{"$f":"IFERROR(CONCATENATE(VLOOKUP(競技者一覧!U72,種目コード一覧!$A$1:$C$213,2,FALSE),\" \",REPT(\"0\",VLOOKUP(競技者一覧!U72,種目コード一覧!$A$1:$C$213,3,FALSE)-LEN(競技者一覧!V72)),競技者一覧!V72),\"\")","v":""}]
[{"$f":"CONCATENATE($F$2,Sheet4!B62)","v":{"$error":"#N/A"}},{"$f":"CONCATENATE(競技者一覧!C73,\"(\",競技者一覧!F73,\")\")","v":"()"},{"$f":"CONCATENATE(競技者一覧!D73)","v":""},{"$f":"競技者一覧!E73","v":0},{"$f":"VLOOKUP(競技者一覧!$C$6,Sheet4!$D$2:$E$48,2,FALSE)","v":{"$error":"#N/A"}},{"$f":"VLOOKUP(競技者一覧!$C$7,学校番号表!$B$2:$C$1004,2,FALSE)","v":{"$error":"#N/A"}},{"$f":"CONCATENATE(競技者一覧!B73)","v":""},{"$f":"IFERROR(CONCATENATE(VLOOKUP(競技者一覧!G73,種目コード一覧!$A$1:$C$213,2,FALSE),\" \",REPT(\"0\",VLOOKUP(競技者一覧!G73,種目コード一覧!$A$1:$C$213,3,FALSE)-LEN(競技者一覧!H73)),競技者一覧!H73),\"\")","v":""},{"$f":"IFERROR(CONCATENATE(VLOOKUP(競技者一覧!I73,種目コード一覧!$A$1:$C$213,2,FALSE),\" \",REPT(\"0\",VLOOKUP(競技者一覧!I73,種目コード一覧!$A$1:$C$213,3,FALSE)-LEN(競技者一覧!J73)),競技者一覧!J73),\"\")","v":""},{"$f":"IFERROR(CONCATENATE(VLOOKUP(競技者一覧!K73,種目コード一覧!$A$1:$C$213,2,FALSE),\" \",REPT(\"0\",VLOOKUP(競技者一覧!K73,種目コード一覧!$A$1:$C$213,3,FALSE)-LEN(競技者一覧!L73)),競技者一覧!L73),\"\")","v":""},{"$f":"IFERROR(CONCATENATE(VLOOKUP(競技者一覧!M73,種目コード一覧!$A$1:$C$213,2,FALSE),\" \",REPT(\"0\",VLOOKUP(競技者一覧!M73,種目コード一覧!$A$1:$C$213,3,FALSE)-LEN(競技者一覧!N73)),競技者一覧!N73),\"\")","v":""},{"$f":"IFERROR(CONCATENATE(VLOOKUP(競技者一覧!O73,種目コード一覧!$A$1:$C$213,2,FALSE),\" \",REPT(\"0\",VLOOKUP(競技者一覧!O73,種目コード一覧!$A$1:$C$213,3,FALSE)-LEN(競技者一覧!P73)),競技者一覧!P73),\"\")","v":""},{"$f":"IFERROR(CONCATENATE(VLOOKUP(競技者一覧!Q73,種目コード一覧!$A$1:$C$213,2,FALSE),\" \",REPT(\"0\",VLOOKUP(競技者一覧!Q73,種目コード一覧!$A$1:$C$213,3,FALSE)-LEN(競技者一覧!R73)),競技者一覧!R73),\"\")","v":""},{"$f":"IFERROR(CONCATENATE(VLOOKUP(競技者一覧!S73,種目コード一覧!$A$1:$C$213,2,FALSE),\" \",REPT(\"0\",VLOOKUP(競技者一覧!S73,種目コード一覧!$A$1:$C$213,3,FALSE)-LEN(競技者一覧!T73)),競技者一覧!T73),\"\")","v":""},{"$f":"IFERROR(CONCATENATE(VLOOKUP(競技者一覧!U73,種目コード一覧!$A$1:$C$213,2,FALSE),\" \",REPT(\"0\",VLOOKUP(競技者一覧!U73,種目コード一覧!$A$1:$C$213,3,FALSE)-LEN(競技者一覧!V73)),競技者一覧!V73),\"\")","v":""}]
[{"$f":"CONCATENATE($F$2,Sheet4!B63)","v":{"$error":"#N/A"}},{"$f":"CONCATENATE(競技者一覧!C74,\"(\",競技者一覧!F74,\")\")","v":"()"},{"$f":"CONCATENATE(競技者一覧!D74)","v":""},{"$f":"競技者一覧!E74","v":0},{"$f":"VLOOKUP(競技者一覧!$C$6,Sheet4!$D$2:$E$48,2,FALSE)","v":{"$error":"#N/A"}},{"$f":"VLOOKUP(競技者一覧!$C$7,学校番号表!$B$2:$C$1004,2,FALSE)","v":{"$error":"#N/A"}},{"$f":"CONCATENATE(競技者一覧!B74)","v":""},{"$f":"IFERROR(CONCATENATE(VLOOKUP(競技者一覧!G74,種目コード一覧!$A$1:$C$213,2,FALSE),\" \",REPT(\"0\",VLOOKUP(競技者一覧!G74,種目コード一覧!$A$1:$C$213,3,FALSE)-LEN(競技者一覧!H74)),競技者一覧!H74),\"\")","v":""},{"$f":"IFERROR(CONCATENATE(VLOOKUP(競技者一覧!I74,種目コード一覧!$A$1:$C$213,2,FALSE),\" \",REPT(\"0\",VLOOKUP(競技者一覧!I74,種目コード一覧!$A$1:$C$213,3,FALSE)-LEN(競技者一覧!J74)),競技者一覧!J74),\"\")","v":""},{"$f":"IFERROR(CONCATENATE(VLOOKUP(競技者一覧!K74,種目コード一覧!$A$1:$C$213,2,FALSE),\" \",REPT(\"0\",VLOOKUP(競技者一覧!K74,種目コード一覧!$A$1:$C$213,3,FALSE)-LEN(競技者一覧!L74)),競技者一覧!L74),\"\")","v":""},{"$f":"IFERROR(CONCATENATE(VLOOKUP(競技者一覧!M74,種目コード一覧!$A$1:$C$213,2,FALSE),\" \",REPT(\"0\",VLOOKUP(競技者一覧!M74,種目コード一覧!$A$1:$C$213,3,FALSE)-LEN(競技者一覧!N74)),競技者一覧!N74),\"\")","v":""},{"$f":"IFERROR(CONCATENATE(VLOOKUP(競技者一覧!O74,種目コード一覧!$A$1:$C$213,2,FALSE),\" \",REPT(\"0\",VLOOKUP(競技者一覧!O74,種目コード一覧!$A$1:$C$213,3,FALSE)-LEN(競技者一覧!P74)),競技者一覧!P74),\"\")","v":""},{"$f":"IFERROR(CONCATENATE(VLOOKUP(競技者一覧!Q74,種目コード一覧!$A$1:$C$213,2,FALSE),\" \",REPT(\"0\",VLOOKUP(競技者一覧!Q74,種目コード一覧!$A$1:$C$213,3,FALSE)-LEN(競技者一覧!R74)),競技者一覧!R74),\"\")","v":""},{"$f":"IFERROR(CONCATENATE(VLOOKUP(競技者一覧!S74,種目コード一覧!$A$1:$C$213,2,FALSE),\" \",REPT(\"0\",VLOOKUP(競技者一覧!S74,種目コード一覧!$A$1:$C$213,3,FALSE)-LEN(競技者一覧!T74)),競技者一覧!T74),\"\")","v":""},{"$f":"IFERROR(CONCATENATE(VLOOKUP(競技者一覧!U74,種目コード一覧!$A$1:$C$213,2,FALSE),\" \",REPT(\"0\",VLOOKUP(競技者一覧!U74,種目コード一覧!$A$1:$C$213,3,FALSE)-LEN(競技者一覧!V74)),競技者一覧!V74),\"\")","v":""}]
[{"$f":"CONCATENATE($F$2,Sheet4!B64)","v":{"$error":"#N/A"}},{"$f":"CONCATENATE(競技者一覧!C75,\"(\",競技者一覧!F75,\")\")","v":"()"},{"$f":"CONCATENATE(競技者一覧!D75)","v":""},{"$f":"競技者一覧!E75","v":0},{"$f":"VLOOKUP(競技者一覧!$C$6,Sheet4!$D$2:$E$48,2,FALSE)","v":{"$error":"#N/A"}},{"$f":"VLOOKUP(競技者一覧!$C$7,学校番号表!$B$2:$C$1004,2,FALSE)","v":{"$error":"#N/A"}},{"$f":"CONCATENATE(競技者一覧!B75)","v":""},{"$f":"IFERROR(CONCATENATE(VLOOKUP(競技者一覧!G75,種目コード一覧!$A$1:$C$213,2,FALSE),\" \",REPT(\"0\",VLOOKUP(競技者一覧!G75,種目コード一覧!$A$1:$C$213,3,FALSE)-LEN(競技者一覧!H75)),競技者一覧!H75),\"\")","v":""},{"$f":"IFERROR(CONCATENATE(VLOOKUP(競技者一覧!I75,種目コード一覧!$A$1:$C$213,2,FALSE),\" \",REPT(\"0\",VLOOKUP(競技者一覧!I75,種目コード一覧!$A$1:$C$213,3,FALSE)-LEN(競技者一覧!J75)),競技者一覧!J75),\"\")","v":""},{"$f":"IFERROR(CONCATENATE(VLOOKUP(競技者一覧!K75,種目コード一覧!$A$1:$C$213,2,FALSE),\" \",REPT(\"0\",VLOOKUP(競技者一覧!K75,種目コード一覧!$A$1:$C$213,3,FALSE)-LEN(競技者一覧!L75)),競技者一覧!L75),\"\")","v":""},{"$f":"IFERROR(CONCATENATE(VLOOKUP(競技者一覧!M75,種目コード一覧!$A$1:$C$213,2,FALSE),\" \",REPT(\"0\",VLOOKUP(競技者一覧!M75,種目コード一覧!$A$1:$C$213,3,FALSE)-LEN(競技者一覧!N75)),競技者一覧!N75),\"\")","v":""},{"$f":"IFERROR(CONCATENATE(VLOOKUP(競技者一覧!O75,種目コード一覧!$A$1:$C$213,2,FALSE),\" \",REPT(\"0\",VLOOKUP(競技者一覧!O75,種目コード一覧!$A$1:$C$213,3,FALSE)-LEN(競技者一覧!P75)),競技者一覧!P75),\"\")","v":""},{"$f":"IFERROR(CONCATENATE(VLOOKUP(競技者一覧!Q75,種目コード一覧!$A$1:$C$213,2,FALSE),\" \",REPT(\"0\",VLOOKUP(競技者一覧!Q75,種目コード一覧!$A$1:$C$213,3,FALSE)-LEN(競技者一覧!R75)),競技者一覧!R75),\"\")","v":""},{"$f":"IFERROR(CONCATENATE(VLOOKUP(競技者一覧!S75,種目コード一覧!$A$1:$C$213,2,FALSE),\" \",REPT(\"0\",VLOOKUP(競技者一覧!S75,種目コード一覧!$A$1:$C$213,3,FALSE)-LEN(競技者一覧!T75)),競技者一覧!T75),\"\")","v":""},{"$f":"IFERROR(CONCATENATE(VLOOKUP(競技者一覧!U75,種目コード一覧!$A$1:$C$213,2,FALSE),\" \",REPT(\"0\",VLOOKUP(競技者一覧!U75,種目コード一覧!$A$1:$C$213,3,FALSE)-LEN(競技者一覧!V75)),競技者一覧!V75),\"\")","v":""}]
[{"$f":"CONCATENATE($F$2,Sheet4!B65)","v":{"$error":"#N/A"}},{"$f":"CONCATENATE(競技者一覧!C76,\"(\",競技者一覧!F76,\")\")","v":"()"},{"$f":"CONCATENATE(競技者一覧!D76)","v":""},{"$f":"競技者一覧!E76","v":0},{"$f":"VLOOKUP(競技者一覧!$C$6,Sheet4!$D$2:$E$48,2,FALSE)","v":{"$error":"#N/A"}},{"$f":"VLOOKUP(競技者一覧!$C$7,学校番号表!$B$2:$C$1004,2,FALSE)","v":{"$error":"#N/A"}},{"$f":"CONCATENATE(競技者一覧!B76)","v":""},{"$f":"IFERROR(CONCATENATE(VLOOKUP(競技者一覧!G76,種目コード一覧!$A$1:$C$213,2,FALSE),\" \",REPT(\"0\",VLOOKUP(競技者一覧!G76,種目コード一覧!$A$1:$C$213,3,FALSE)-LEN(競技者一覧!H76)),競技者一覧!H76),\"\")","v":""},{"$f":"IFERROR(CONCATENATE(VLOOKUP(競技者一覧!I76,種目コード一覧!$A$1:$C$213,2,FALSE),\" \",REPT(\"0\",VLOOKUP(競技者一覧!I76,種目コード一覧!$A$1:$C$213,3,FALSE)-LEN(競技者一覧!J76)),競技者一覧!J76),\"\")","v":""},{"$f":"IFERROR(CONCATENATE(VLOOKUP(競技者一覧!K76,種目コード一覧!$A$1:$C$213,2,FALSE),\" \",REPT(\"0\",VLOOKUP(競技者一覧!K76,種目コード一覧!$A$1:$C$213,3,FALSE)-LEN(競技者一覧!L76)),競技者一覧!L76),\"\")","v":""},{"$f":"IFERROR(CONCATENATE(VLOOKUP(競技者一覧!M76,種目コード一覧!$A$1:$C$213,2,FALSE),\" \",REPT(\"0\",VLOOKUP(競技者一覧!M76,種目コード一覧!$A$1:$C$213,3,FALSE)-LEN(競技者一覧!N76)),競技者一覧!N76),\"\")","v":""},{"$f":"IFERROR(CONCATENATE(VLOOKUP(競技者一覧!O76,種目コード一覧!$A$1:$C$213,2,FALSE),\" \",REPT(\"0\",VLOOKUP(競技者一覧!O76,種目コード一覧!$A$1:$C$213,3,FALSE)-LEN(競技者一覧!P76)),競技者一覧!P76),\"\")","v":""},{"$f":"IFERROR(CONCATENATE(VLOOKUP(競技者一覧!Q76,種目コード一覧!$A$1:$C$213,2,FALSE),\" \",REPT(\"0\",VLOOKUP(競技者一覧!Q76,種目コード一覧!$A$1:$C$213,3,FALSE)-LEN(競技者一覧!R76)),競技者一覧!R76),\"\")","v":""},{"$f":"IFERROR(CONCATENATE(VLOOKUP(競技者一覧!S76,種目コード一覧!$A$1:$C$213,2,FALSE),\" \",REPT(\"0\",VLOOKUP(競技者一覧!S76,種目コード一覧!$A$1:$C$213,3,FALSE)-LEN(競技者一覧!T76)),競技者一覧!T76),\"\")","v":""},{"$f":"IFERROR(CONCATENATE(VLOOKUP(競技者一覧!U76,種目コード一覧!$A$1:$C$213,2,FALSE),\" \",REPT(\"0\",VLOOKUP(競技者一覧!U76,種目コード一覧!$A$1:$C$213,3,FALSE)-LEN(競技者一覧!V76)),競技者一覧!V76),\"\")","v":""}]
[{"$f":"CONCATENATE($F$2,Sheet4!B66)","v":{"$error":"#N/A"}},{"$f":"CONCATENATE(競技者一覧!C77,\"(\",競技者一覧!F77,\")\")","v":"()"},{"$f":"CONCATENATE(競技者一覧!D77)","v":""},{"$f":"競技者一覧!E77","v":0},{"$f":"VLOOKUP(競技者一覧!$C$6,Sheet4!$D$2:$E$48,2,FALSE)","v":{"$error":"#N/A"}},{"$f":"VLOOKUP(競技者一覧!$C$7,学校番号表!$B$2:$C$1004,2,FALSE)","v":{"$error":"#N/A"}},{"$f":"CONCATENATE(競技者一覧!B77)","v":""},{"$f":"IFERROR(CONCATENATE(VLOOKUP(競技者一覧!G77,種目コード一覧!$A$1:$C$213,2,FALSE),\" \",REPT(\"0\",VLOOKUP(競技者一覧!G77,種目コード一覧!$A$1:$C$213,3,FALSE)-LEN(競技者一覧!H77)),競技者一覧!H77),\"\")","v":""},{"$f":"IFERROR(CONCATENATE(VLOOKUP(競技者一覧!I77,種目コード一覧!$A$1:$C$213,2,FALSE),\" \",REPT(\"0\",VLOOKUP(競技者一覧!I77,種目コード一覧!$A$1:$C$213,3,FALSE)-LEN(競技者一覧!J77)),競技者一覧!J77),\"\")","v":""},{"$f":"IFERROR(CONCATENATE(VLOOKUP(競技者一覧!K77,種目コード一覧!$A$1:$C$213,2,FALSE),\" \",REPT(\"0\",VLOOKUP(競技者一覧!K77,種目コード一覧!$A$1:$C$213,3,FALSE)-LEN(競技者一覧!L77)),競技者一覧!L77),\"\")","v":""},{"$f":"IFERROR(CONCATENATE(VLOOKUP(競技者一覧!M77,種目コード一覧!$A$1:$C$213,2,FALSE),\" \",REPT(\"0\",VLOOKUP(競技者一覧!M77,種目コード一覧!$A$1:$C$213,3,FALSE)-LEN(競技者一覧!N77)),競技者一覧!N77),\"\")","v":""},{"$f":"IFERROR(CONCATENATE(VLOOKUP(競技者一覧!O77,種目コード一覧!$A$1:$C$213,2,FALSE),\" \",REPT(\"0\",VLOOKUP(競技者一覧!O77,種目コード一覧!$A$1:$C$213,3,FALSE)-LEN(競技者一覧!P77)),競技者一覧!P77),\"\")","v":""},{"$f":"IFERROR(CONCATENATE(VLOOKUP(競技者一覧!Q77,種目コード一覧!$A$1:$C$213,2,FALSE),\" \",REPT(\"0\",VLOOKUP(競技者一覧!Q77,種目コード一覧!$A$1:$C$213,3,FALSE)-LEN(競技者一覧!R77)),競技者一覧!R77),\"\")","v":""},{"$f":"IFERROR(CONCATENATE(VLOOKUP(競技者一覧!S77,種目コード一覧!$A$1:$C$213,2,FALSE),\" \",REPT(\"0\",VLOOKUP(競技者一覧!S77,種目コード一覧!$A$1:$C$213,3,FALSE)-LEN(競技者一覧!T77)),競技者一覧!T77),\"\")","v":""},{"$f":"IFERROR(CONCATENATE(VLOOKUP(競技者一覧!U77,種目コード一覧!$A$1:$C$213,2,FALSE),\" \",REPT(\"0\",VLOOKUP(競技者一覧!U77,種目コード一覧!$A$1:$C$213,3,FALSE)-LEN(競技者一覧!V77)),競技者一覧!V77),\"\")","v":""}]
[{"$f":"CONCATENATE($F$2,Sheet4!B67)","v":{"$error":"#N/A"}},{"$f":"CONCATENATE(競技者一覧!C78,\"(\",競技者一覧!F78,\")\")","v":"()"},{"$f":"CONCATENATE(競技者一覧!D78)","v":""},{"$f":"競技者一覧!E78","v":0},{"$f":"VLOOKUP(競技者一覧!$C$6,Sheet4!$D$2:$E$48,2,FALSE)","v":{"$error":"#N/A"}},{"$f":"VLOOKUP(競技者一覧!$C$7,学校番号表!$B$2:$C$1004,2,FALSE)","v":{"$error":"#N/A"}},{"$f":"CONCATENATE(競技者一覧!B78)","v":""},{"$f":"IFERROR(CONCATENATE(VLOOKUP(競技者一覧!G78,種目コード一覧!$A$1:$C$213,2,FALSE),\" \",REPT(\"0\",VLOOKUP(競技者一覧!G78,種目コード一覧!$A$1:$C$213,3,FALSE)-LEN(競技者一覧!H78)),競技者一覧!H78),\"\")","v":""},{"$f":"IFERROR(CONCATENATE(VLOOKUP(競技者一覧!I78,種目コード一覧!$A$1:$C$213,2,FALSE),\" \",REPT(\"0\",VLOOKUP(競技者一覧!I78,種目コード一覧!$A$1:$C$213,3,FALSE)-LEN(競技者一覧!J78)),競技者一覧!J78),\"\")","v":""},{"$f":"IFERROR(CONCATENATE(VLOOKUP(競技者一覧!K78,種目コード一覧!$A$1:$C$213,2,FALSE),\" \",REPT(\"0\",VLOOKUP(競技者一覧!K78,種目コード一覧!$A$1:$C$213,3,FALSE)-LEN(競技者一覧!L78)),競技者一覧!L78),\"\")","v":""},{"$f":"IFERROR(CONCATENATE(VLOOKUP(競技者一覧!M78,種目コード一覧!$A$1:$C$213,2,FALSE),\" \",REPT(\"0\",VLOOKUP(競技者一覧!M78,種目コード一覧!$A$1:$C$213,3,FALSE)-LEN(競技者一覧!N78)),競技者一覧!N78),\"\")","v":""},{"$f":"IFERROR(CONCATENATE(VLOOKUP(競技者一覧!O78,種目コード一覧!$A$1:$C$213,2,FALSE),\" \",REPT(\"0\",VLOOKUP(競技者一覧!O78,種目コード一覧!$A$1:$C$213,3,FALSE)-LEN(競技者一覧!P78)),競技者一覧!P78),\"\")","v":""},{"$f":"IFERROR(CONCATENATE(VLOOKUP(競技者一覧!Q78,種目コード一覧!$A$1:$C$213,2,FALSE),\" \",REPT(\"0\",VLOOKUP(競技者一覧!Q78,種目コード一覧!$A$1:$C$213,3,FALSE)-LEN(競技者一覧!R78)),競技者一覧!R78),\"\")","v":""},{"$f":"IFERROR(CONCATENATE(VLOOKUP(競技者一覧!S78,種目コード一覧!$A$1:$C$213,2,FALSE),\" \",REPT(\"0\",VLOOKUP(競技者一覧!S78,種目コード一覧!$A$1:$C$213,3,FALSE)-LEN(競技者一覧!T78)),競技者一覧!T78),\"\")","v":""},{"$f":"IFERROR(CONCATENATE(VLOOKUP(競技者一覧!U78,種目コード一覧!$A$1:$C$213,2,FALSE),\" \",REPT(\"0\",VLOOKUP(競技者一覧!U78,種目コード一覧!$A$1:$C$213,3,FALSE)-LEN(競技者一覧!V78)),競技者一覧!V78),\"\")","v":""}]
[{"$f":"CONCATENATE($F$2,Sheet4!B68)","v":{"$error":"#N/A"}},{"$f":"CONCATENATE(競技者一覧!C79,\"(\",競技者一覧!F79,\")\")","v":"()"},{"$f":"CONCATENATE(競技者一覧!D79)","v":""},{"$f":"競技者一覧!E79","v":0},{"$f":"VLOOKUP(競技者一覧!$C$6,Sheet4!$D$2:$E$48,2,FALSE)","v":{"$error":"#N/A"}},{"$f":"VLOOKUP(競技者一覧!$C$7,学校番号表!$B$2:$C$1004,2,FALSE)","v":{"$error":"#N/A"}},{"$f":"CONCATENATE(競技者一覧!B79)","v":""},{"$f":"IFERROR(CONCATENATE(VLOOKUP(競技者一覧!G79,種目コード一覧!$A$1:$C$213,2,FALSE),\" \",REPT(\"0\",VLOOKUP(競技者一覧!G79,種目コード一覧!$A$1:$C$213,3,FALSE)-LEN(競技者一覧!H79)),競技者一覧!H79),\"\")","v":""},{"$f":"IFERROR(CONCATENATE(VLOOKUP(競技者一覧!I79,種目コード一覧!$A$1:$C$213,2,FALSE),\" \",REPT(\"0\",VLOOKUP(競技者一覧!I79,種目コード一覧!$A$1:$C$213,3,FALSE)-LEN(競技者一覧!J79)),競技者一覧!J79),\"\")","v":""},{"$f":"IFERROR(CONCATENATE(VLOOKUP(競技者一覧!K79,種目コード一覧!$A$1:$C$213,2,FALSE),\" \",REPT(\"0\",VLOOKUP(競技者一覧!K79,種目コード一覧!$A$1:$C$213,3,FALSE)-LEN(競技者一覧!L79)),競技者一覧!L79),\"\")","v":""},{"$f":"IFERROR(CONCATENATE(VLOOKUP(競技者一覧!M79,種目コード一覧!$A$1:$C$213,2,FALSE),\" \",REPT(\"0\",VLOOKUP(競技者一覧!M79,種目コード一覧!$A$1:$C$213,3,FALSE)-LEN(競技者一覧!N79)),競技者一覧!N79),\"\")","v":""},{"$f":"IFERROR(CONCATENATE(VLOOKUP(競技者一覧!O79,種目コード一覧!$A$1:$C$213,2,FALSE),\" \",REPT(\"0\",VLOOKUP(競技者一覧!O79,種目コード一覧!$A$1:$C$213,3,FALSE)-LEN(競技者一覧!P79)),競技者一覧!P79),\"\")","v":""},{"$f":"IFERROR(CONCATENATE(VLOOKUP(競技者一覧!Q79,種目コード一覧!$A$1:$C$213,2,FALSE),\" \",REPT(\"0\",VLOOKUP(競技者一覧!Q79,種目コード一覧!$A$1:$C$213,3,FALSE)-LEN(競技者一覧!R79)),競技者一覧!R79),\"\")","v":""},{"$f":"IFERROR(CONCATENATE(VLOOKUP(競技者一覧!S79,種目コード一覧!$A$1:$C$213,2,FALSE),\" \",REPT(\"0\",VLOOKUP(競技者一覧!S79,種目コード一覧!$A$1:$C$213,3,FALSE)-LEN(競技者一覧!T79)),競技者一覧!T79),\"\")","v":""},{"$f":"IFERROR(CONCATENATE(VLOOKUP(競技者一覧!U79,種目コード一覧!$A$1:$C$213,2,FALSE),\" \",REPT(\"0\",VLOOKUP(競技者一覧!U79,種目コード一覧!$A$1:$C$213,3,FALSE)-LEN(競技者一覧!V79)),競技者一覧!V79),\"\")","v":""}]
[{"$f":"CONCATENATE($F$2,Sheet4!B69)","v":{"$error":"#N/A"}},{"$f":"CONCATENATE(競技者一覧!C80,\"(\",競技者一覧!F80,\")\")","v":"()"},{"$f":"CONCATENATE(競技者一覧!D80)","v":""},{"$f":"競技者一覧!E80","v":0},{"$f":"VLOOKUP(競技者一覧!$C$6,Sheet4!$D$2:$E$48,2,FALSE)","v":{"$error":"#N/A"}},{"$f":"VLOOKUP(競技者一覧!$C$7,学校番号表!$B$2:$C$1004,2,FALSE)","v":{"$error":"#N/A"}},{"$f":"CONCATENATE(競技者一覧!B80)","v":""},{"$f":"IFERROR(CONCATENATE(VLOOKUP(競技者一覧!G80,種目コード一覧!$A$1:$C$213,2,FALSE),\" \",REPT(\"0\",VLOOKUP(競技者一覧!G80,種目コード一覧!$A$1:$C$213,3,FALSE)-LEN(競技者一覧!H80)),競技者一覧!H80),\"\")","v":""},{"$f":"IFERROR(CONCATENATE(VLOOKUP(競技者一覧!I80,種目コード一覧!$A$1:$C$213,2,FALSE),\" \",REPT(\"0\",VLOOKUP(競技者一覧!I80,種目コード一覧!$A$1:$C$213,3,FALSE)-LEN(競技者一覧!J80)),競技者一覧!J80),\"\")","v":""},{"$f":"IFERROR(CONCATENATE(VLOOKUP(競技者一覧!K80,種目コード一覧!$A$1:$C$213,2,FALSE),\" \",REPT(\"0\",VLOOKUP(競技者一覧!K80,種目コード一覧!$A$1:$C$213,3,FALSE)-LEN(競技者一覧!L80)),競技者一覧!L80),\"\")","v":""},{"$f":"IFERROR(CONCATENATE(VLOOKUP(競技者一覧!M80,種目コード一覧!$A$1:$C$213,2,FALSE),\" \",REPT(\"0\",VLOOKUP(競技者一覧!M80,種目コード一覧!$A$1:$C$213,3,FALSE)-LEN(競技者一覧!N80)),競技者一覧!N80),\"\")","v":""},{"$f":"IFERROR(CONCATENATE(VLOOKUP(競技者一覧!O80,種目コード一覧!$A$1:$C$213,2,FALSE),\" \",REPT(\"0\",VLOOKUP(競技者一覧!O80,種目コード一覧!$A$1:$C$213,3,FALSE)-LEN(競技者一覧!P80)),競技者一覧!P80),\"\")","v":""},{"$f":"IFERROR(CONCATENATE(VLOOKUP(競技者一覧!Q80,種目コード一覧!$A$1:$C$213,2,FALSE),\" \",REPT(\"0\",VLOOKUP(競技者一覧!Q80,種目コード一覧!$A$1:$C$213,3,FALSE)-LEN(競技者一覧!R80)),競技者一覧!R80),\"\")","v":""},{"$f":"IFERROR(CONCATENATE(VLOOKUP(競技者一覧!S80,種目コード一覧!$A$1:$C$213,2,FALSE),\" \",REPT(\"0\",VLOOKUP(競技者一覧!S80,種目コード一覧!$A$1:$C$213,3,FALSE)-LEN(競技者一覧!T80)),競技者一覧!T80),\"\")","v":""},{"$f":"IFERROR(CONCATENATE(VLOOKUP(競技者一覧!U80,種目コード一覧!$A$1:$C$213,2,FALSE),\" \",REPT(\"0\",VLOOKUP(競技者一覧!U80,種目コード一覧!$A$1:$C$213,3,FALSE)-LEN(競技者一覧!V80)),競技者一覧!V80),\"\")","v":""}]
[{"$f":"CONCATENATE($F$2,Sheet4!B70)","v":{"$error":"#N/A"}},{"$f":"CONCATENATE(競技者一覧!C81,\"(\",競技者一覧!F81,\")\")","v":"()"},{"$f":"CONCATENATE(競技者一覧!D81)","v":""},{"$f":"競技者一覧!E81","v":0},{"$f":"VLOOKUP(競技者一覧!$C$6,Sheet4!$D$2:$E$48,2,FALSE)","v":{"$error":"#N/A"}},{"$f":"VLOOKUP(競技者一覧!$C$7,学校番号表!$B$2:$C$1004,2,FALSE)","v":{"$error":"#N/A"}},{"$f":"CONCATENATE(競技者一覧!B81)","v":""},{"$f":"IFERROR(CONCATENATE(VLOOKUP(競技者一覧!G81,種目コード一覧!$A$1:$C$213,2,FALSE),\" \",REPT(\"0\",VLOOKUP(競技者一覧!G81,種目コード一覧!$A$1:$C$213,3,FALSE)-LEN(競技者一覧!H81)),競技者一覧!H81),\"\")","v":""},{"$f":"IFERROR(CONCATENATE(VLOOKUP(競技者一覧!I81,種目コード一覧!$A$1:$C$213,2,FALSE),\" \",REPT(\"0\",VLOOKUP(競技者一覧!I81,種目コード一覧!$A$1:$C$213,3,FALSE)-LEN(競技者一覧!J81)),競技者一覧!J81),\"\")","v":""},{"$f":"IFERROR(CONCATENATE(VLOOKUP(競技者一覧!K81,種目コード一覧!$A$1:$C$213,2,FALSE),\" \",REPT(\"0\",VLOOKUP(競技者一覧!K81,種目コード一覧!$A$1:$C$213,3,FALSE)-LEN(競技者一覧!L81)),競技者一覧!L81),\"\")","v":""},{"$f":"IFERROR(CONCATENATE(VLOOKUP(競技者一覧!M81,種目コード一覧!$A$1:$C$213,2,FALSE),\" \",REPT(\"0\",VLOOKUP(競技者一覧!M81,種目コード一覧!$A$1:$C$213,3,FALSE)-LEN(競技者一覧!N81)),競技者一覧!N81),\"\")","v":""},{"$f":"IFERROR(CONCATENATE(VLOOKUP(競技者一覧!O81,種目コード一覧!$A$1:$C$213,2,FALSE),\" \",REPT(\"0\",VLOOKUP(競技者一覧!O81,種目コード一覧!$A$1:$C$213,3,FALSE)-LEN(競技者一覧!P81)),競技者一覧!P81),\"\")","v":""},{"$f":"IFERROR(CONCATENATE(VLOOKUP(競技者一覧!Q81,種目コード一覧!$A$1:$C$213,2,FALSE),\" \",REPT(\"0\",VLOOKUP(競技者一覧!Q81,種目コード一覧!$A$1:$C$213,3,FALSE)-LEN(競技者一覧!R81)),競技者一覧!R81),\"\")","v":""},{"$f":"IFERROR(CONCATENATE(VLOOKUP(競技者一覧!S81,種目コード一覧!$A$1:$C$213,2,FALSE),\" \",REPT(\"0\",VLOOKUP(競技者一覧!S81,種目コード一覧!$A$1:$C$213,3,FALSE)-LEN(競技者一覧!T81)),競技者一覧!T81),\"\")","v":""},{"$f":"IFERROR(CONCATENATE(VLOOKUP(競技者一覧!U81,種目コード一覧!$A$1:$C$213,2,FALSE),\" \",REPT(\"0\",VLOOKUP(競技者一覧!U81,種目コード一覧!$A$1:$C$213,3,FALSE)-LEN(競技者一覧!V81)),競技者一覧!V81),\"\")","v":""}]
[{"$f":"CONCATENATE($F$2,Sheet4!B71)","v":{"$error":"#N/A"}},{"$f":"CONCATENATE(競技者一覧!C82,\"(\",競技者一覧!F82,\")\")","v":"()"},{"$f":"CONCATENATE(競技者一覧!D82)","v":""},{"$f":"競技者一覧!E82","v":0},{"$f":"VLOOKUP(競技者一覧!$C$6,Sheet4!$D$2:$E$48,2,FALSE)","v":{"$error":"#N/A"}},{"$f":"VLOOKUP(競技者一覧!$C$7,学校番号表!$B$2:$C$1004,2,FALSE)","v":{"$error":"#N/A"}},{"$f":"CONCATENATE(競技者一覧!B82)","v":""},{"$f":"IFERROR(CONCATENATE(VLOOKUP(競技者一覧!G82,種目コード一覧!$A$1:$C$213,2,FALSE),\" \",REPT(\"0\",VLOOKUP(競技者一覧!G82,種目コード一覧!$A$1:$C$213,3,FALSE)-LEN(競技者一覧!H82)),競技者一覧!H82),\"\")","v":""},{"$f":"IFERROR(CONCATENATE(VLOOKUP(競技者一覧!I82,種目コード一覧!$A$1:$C$213,2,FALSE),\" \",REPT(\"0\",VLOOKUP(競技者一覧!I82,種目コード一覧!$A$1:$C$213,3,FALSE)-LEN(競技者一覧!J82)),競技者一覧!J82),\"\")","v":""},{"$f":"IFERROR(CONCATENATE(VLOOKUP(競技者一覧!K82,種目コード一覧!$A$1:$C$213,2,FALSE),\" \",REPT(\"0\",VLOOKUP(競技者一覧!K82,種目コード一覧!$A$1:$C$213,3,FALSE)-LEN(競技者一覧!L82)),競技者一覧!L82),\"\")","v":""},{"$f":"IFERROR(CONCATENATE(VLOOKUP(競技者一覧!M82,種目コード一覧!$A$1:$C$213,2,FALSE),\" \",REPT(\"0\",VLOOKUP(競技者一覧!M82,種目コード一覧!$A$1:$C$213,3,FALSE)-LEN(競技者一覧!N82)),競技者一覧!N82),\"\")","v":""},{"$f":"IFERROR(CONCATENATE(VLOOKUP(競技者一覧!O82,種目コード一覧!$A$1:$C$213,2,FALSE),\" \",REPT(\"0\",VLOOKUP(競技者一覧!O82,種目コード一覧!$A$1:$C$213,3,FALSE)-LEN(競技者一覧!P82)),競技者一覧!P82),\"\")","v":""},{"$f":"IFERROR(CONCATENATE(VLOOKUP(競技者一覧!Q82,種目コード一覧!$A$1:$C$213,2,FALSE),\" \",REPT(\"0\",VLOOKUP(競技者一覧!Q82,種目コード一覧!$A$1:$C$213,3,FALSE)-LEN(競技者一覧!R82)),競技者一覧!R82),\"\")","v":""},{"$f":"IFERROR(CONCATENATE(VLOOKUP(競技者一覧!S82,種目コード一覧!$A$1:$C$213,2,FALSE),\" \",REPT(\"0\",VLOOKUP(競技者一覧!S82,種目コード一覧!$A$1:$C$213,3,FALSE)-LEN(競技者一覧!T82)),競技者一覧!T82),\"\")","v":""},{"$f":"IFERROR(CONCATENATE(VLOOKUP(競技者一覧!U82,種目コード一覧!$A$1:$C$213,2,FALSE),\" \",REPT(\"0\",VLOOKUP(競技者一覧!U82,種目コード一覧!$A$1:$C$213,3,FALSE)-LEN(競技者一覧!V82)),競技者一覧!V82),\"\")","v":""}]
[{"$f":"CONCATENATE($F$2,Sheet4!B72)","v":{"$error":"#N/A"}},{"$f":"CONCATENATE(競技者一覧!C83,\"(\",競技者一覧!F83,\")\")","v":"()"},{"$f":"CONCATENATE(競技者一覧!D83)","v":""},{"$f":"競技者一覧!E83","v":0},{"$f":"VLOOKUP(競技者一覧!$C$6,Sheet4!$D$2:$E$48,2,FALSE)","v":{"$error":"#N/A"}},{"$f":"VLOOKUP(競技者一覧!$C$7,学校番号表!$B$2:$C$1004,2,FALSE)","v":{"$error":"#N/A"}},{"$f":"CONCATENATE(競技者一覧!B83)","v":""},{"$f":"IFERROR(CONCATENATE(VLOOKUP(競技者一覧!G83,種目コード一覧!$A$1:$C$213,2,FALSE),\" \",REPT(\"0\",VLOOKUP(競技者一覧!G83,種目コード一覧!$A$1:$C$213,3,FALSE)-LEN(競技者一覧!H83)),競技者一覧!H83),\"\")","v":""},{"$f":"IFERROR(CONCATENATE(VLOOKUP(競技者一覧!I83,種目コード一覧!$A$1:$C$213,2,FALSE),\" \",REPT(\"0\",VLOOKUP(競技者一覧!I83,種目コード一覧!$A$1:$C$213,3,FALSE)-LEN(競技者一覧!J83)),競技者一覧!J83),\"\")","v":""},{"$f":"IFERROR(CONCATENATE(VLOOKUP(競技者一覧!K83,種目コード一覧!$A$1:$C$213,2,FALSE),\" \",REPT(\"0\",VLOOKUP(競技者一覧!K83,種目コード一覧!$A$1:$C$213,3,FALSE)-LEN(競技者一覧!L83)),競技者一覧!L83),\"\")","v":""},{"$f":"IFERROR(CONCATENATE(VLOOKUP(競技者一覧!M83,種目コード一覧!$A$1:$C$213,2,FALSE),\" \",REPT(\"0\",VLOOKUP(競技者一覧!M83,種目コード一覧!$A$1:$C$213,3,FALSE)-LEN(競技者一覧!N83)),競技者一覧!N83),\"\")","v":""},{"$f":"IFERROR(CONCATENATE(VLOOKUP(競技者一覧!O83,種目コード一覧!$A$1:$C$213,2,FALSE),\" \",REPT(\"0\",VLOOKUP(競技者一覧!O83,種目コード一覧!$A$1:$C$213,3,FALSE)-LEN(競技者一覧!P83)),競技者一覧!P83),\"\")","v":""},{"$f":"IFERROR(CONCATENATE(VLOOKUP(競技者一覧!Q83,種目コード一覧!$A$1:$C$213,2,FALSE),\" \",REPT(\"0\",VLOOKUP(競技者一覧!Q83,種目コード一覧!$A$1:$C$213,3,FALSE)-LEN(競技者一覧!R83)),競技者一覧!R83),\"\")","v":""},{"$f":"IFERROR(CONCATENATE(VLOOKUP(競技者一覧!S83,種目コード一覧!$A$1:$C$213,2,FALSE),\" \",REPT(\"0\",VLOOKUP(競技者一覧!S83,種目コード一覧!$A$1:$C$213,3,FALSE)-LEN(競技者一覧!T83)),競技者一覧!T83),\"\")","v":""},{"$f":"IFERROR(CONCATENATE(VLOOKUP(競技者一覧!U83,種目コード一覧!$A$1:$C$213,2,FALSE),\" \",REPT(\"0\",VLOOKUP(競技者一覧!U83,種目コード一覧!$A$1:$C$213,3,FALSE)-LEN(競技者一覧!V83)),競技者一覧!V83),\"\")","v":""}]
[{"$f":"CONCATENATE($F$2,Sheet4!B73)","v":{"$error":"#N/A"}},{"$f":"CONCATENATE(競技者一覧!C84,\"(\",競技者一覧!F84,\")\")","v":"()"},{"$f":"CONCATENATE(競技者一覧!D84)","v":""},{"$f":"競技者一覧!E84","v":0},{"$f":"VLOOKUP(競技者一覧!$C$6,Sheet4!$D$2:$E$48,2,FALSE)","v":{"$error":"#N/A"}},{"$f":"VLOOKUP(競技者一覧!$C$7,学校番号表!$B$2:$C$1004,2,FALSE)","v":{"$error":"#N/A"}},{"$f":"CONCATENATE(競技者一覧!B84)","v":""},{"$f":"IFERROR(CONCATENATE(VLOOKUP(競技者一覧!G84,種目コード一覧!$A$1:$C$213,2,FALSE),\" \",REPT(\"0\",VLOOKUP(競技者一覧!G84,種目コード一覧!$A$1:$C$213,3,FALSE)-LEN(競技者一覧!H84)),競技者一覧!H84),\"\")","v":""},{"$f":"IFERROR(CONCATENATE(VLOOKUP(競技者一覧!I84,種目コード一覧!$A$1:$C$213,2,FALSE),\" \",REPT(\"0\",VLOOKUP(競技者一覧!I84,種目コード一覧!$A$1:$C$213,3,FALSE)-LEN(競技者一覧!J84)),競技者一覧!J84),\"\")","v":""},{"$f":"IFERROR(CONCATENATE(VLOOKUP(競技者一覧!K84,種目コード一覧!$A$1:$C$213,2,FALSE),\" \",REPT(\"0\",VLOOKUP(競技者一覧!K84,種目コード一覧!$A$1:$C$213,3,FALSE)-LEN(競技者一覧!L84)),競技者一覧!L84),\"\")","v":""},{"$f":"IFERROR(CONCATENATE(VLOOKUP(競技者一覧!M84,種目コード一覧!$A$1:$C$213,2,FALSE),\" \",REPT(\"0\",VLOOKUP(競技者一覧!M84,種目コード一覧!$A$1:$C$213,3,FALSE)-LEN(競技者一覧!N84)),競技者一覧!N84),\"\")","v":""},{"$f":"IFERROR(CONCATENATE(VLOOKUP(競技者一覧!O84,種目コード一覧!$A$1:$C$213,2,FALSE),\" \",REPT(\"0\",VLOOKUP(競技者一覧!O84,種目コード一覧!$A$1:$C$213,3,FALSE)-LEN(競技者一覧!P84)),競技者一覧!P84),\"\")","v":""},{"$f":"IFERROR(CONCATENATE(VLOOKUP(競技者一覧!Q84,種目コード一覧!$A$1:$C$213,2,FALSE),\" \",REPT(\"0\",VLOOKUP(競技者一覧!Q84,種目コード一覧!$A$1:$C$213,3,FALSE)-LEN(競技者一覧!R84)),競技者一覧!R84),\"\")","v":""},{"$f":"IFERROR(CONCATENATE(VLOOKUP(競技者一覧!S84,種目コード一覧!$A$1:$C$213,2,FALSE),\" \",REPT(\"0\",VLOOKUP(競技者一覧!S84,種目コード一覧!$A$1:$C$213,3,FALSE)-LEN(競技者一覧!T84)),競技者一覧!T84),\"\")","v":""},{"$f":"IFERROR(CONCATENATE(VLOOKUP(競技者一覧!U84,種目コード一覧!$A$1:$C$213,2,FALSE),\" \",REPT(\"0\",VLOOKUP(競技者一覧!U84,種目コード一覧!$A$1:$C$213,3,FALSE)-LEN(競技者一覧!V84)),競技者一覧!V84),\"\")","v":""}]
[{"$f":"CONCATENATE($F$2,Sheet4!B74)","v":{"$error":"#N/A"}},{"$f":"CONCATENATE(競技者一覧!C85,\"(\",競技者一覧!F85,\")\")","v":"()"},{"$f":"CONCATENATE(競技者一覧!D85)","v":""},{"$f":"競技者一覧!E85","v":0},{"$f":"VLOOKUP(競技者一覧!$C$6,Sheet4!$D$2:$E$48,2,FALSE)","v":{"$error":"#N/A"}},{"$f":"VLOOKUP(競技者一覧!$C$7,学校番号表!$B$2:$C$1004,2,FALSE)","v":{"$error":"#N/A"}},{"$f":"CONCATENATE(競技者一覧!B85)","v":""},{"$f":"IFERROR(CONCATENATE(VLOOKUP(競技者一覧!G85,種目コード一覧!$A$1:$C$213,2,FALSE),\" \",REPT(\"0\",VLOOKUP(競技者一覧!G85,種目コード一覧!$A$1:$C$213,3,FALSE)-LEN(競技者一覧!H85)),競技者一覧!H85),\"\")","v":""},{"$f":"IFERROR(CONCATENATE(VLOOKUP(競技者一覧!I85,種目コード一覧!$A$1:$C$213,2,FALSE),\" \",REPT(\"0\",VLOOKUP(競技者一覧!I85,種目コード一覧!$A$1:$C$213,3,FALSE)-LEN(競技者一覧!J85)),競技者一覧!J85),\"\")","v":""},{"$f":"IFERROR(CONCATENATE(VLOOKUP(競技者一覧!K85,種目コード一覧!$A$1:$C$213,2,FALSE),\" \",REPT(\"0\",VLOOKUP(競技者一覧!K85,種目コード一覧!$A$1:$C$213,3,FALSE)-LEN(競技者一覧!L85)),競技者一覧!L85),\"\")","v":""},{"$f":"IFERROR(CONCATENATE(VLOOKUP(競技者一覧!M85,種目コード一覧!$A$1:$C$213,2,FALSE),\" \",REPT(\"0\",VLOOKUP(競技者一覧!M85,種目コード一覧!$A$1:$C$213,3,FALSE)-LEN(競技者一覧!N85)),競技者一覧!N85),\"\")","v":""},{"$f":"IFERROR(CONCATENATE(VLOOKUP(競技者一覧!O85,種目コード一覧!$A$1:$C$213,2,FALSE),\" \",REPT(\"0\",VLOOKUP(競技者一覧!O85,種目コード一覧!$A$1:$C$213,3,FALSE)-LEN(競技者一覧!P85)),競技者一覧!P85),\"\")","v":""},{"$f":"IFERROR(CONCATENATE(VLOOKUP(競技者一覧!Q85,種目コード一覧!$A$1:$C$213,2,FALSE),\" \",REPT(\"0\",VLOOKUP(競技者一覧!Q85,種目コード一覧!$A$1:$C$213,3,FALSE)-LEN(競技者一覧!R85)),競技者一覧!R85),\"\")","v":""},{"$f":"IFERROR(CONCATENATE(VLOOKUP(競技者一覧!S85,種目コード一覧!$A$1:$C$213,2,FALSE),\" \",REPT(\"0\",VLOOKUP(競技者一覧!S85,種目コード一覧!$A$1:$C$213,3,FALSE)-LEN(競技者一覧!T85)),競技者一覧!T85),\"\")","v":""},{"$f":"IFERROR(CONCATENATE(VLOOKUP(競技者一覧!U85,種目コード一覧!$A$1:$C$213,2,FALSE),\" \",REPT(\"0\",VLOOKUP(競技者一覧!U85,種目コード一覧!$A$1:$C$213,3,FALSE)-LEN(競技者一覧!V85)),競技者一覧!V85),\"\")","v":""}]
[{"$f":"CONCATENATE($F$2,Sheet4!B75)","v":{"$error":"#N/A"}},{"$f":"CONCATENATE(競技者一覧!C86,\"(\",競技者一覧!F86,\")\")","v":"()"},{"$f":"CONCATENATE(競技者一覧!D86)","v":""},{"$f":"競技者一覧!E86","v":0},{"$f":"VLOOKUP(競技者一覧!$C$6,Sheet4!$D$2:$E$48,2,FALSE)","v":{"$error":"#N/A"}},{"$f":"VLOOKUP(競技者一覧!$C$7,学校番号表!$B$2:$C$1004,2,FALSE)","v":{"$error":"#N/A"}},{"$f":"CONCATENATE(競技者一覧!B86)","v":""},{"$f":"IFERROR(CONCATENATE(VLOOKUP(競技者一覧!G86,種目コード一覧!$A$1:$C$213,2,FALSE),\" \",REPT(\"0\",VLOOKUP(競技者一覧!G86,種目コード一覧!$A$1:$C$213,3,FALSE)-LEN(競技者一覧!H86)),競技者一覧!H86),\"\")","v":""},{"$f":"IFERROR(CONCATENATE(VLOOKUP(競技者一覧!I86,種目コード一覧!$A$1:$C$213,2,FALSE),\" \",REPT(\"0\",VLOOKUP(競技者一覧!I86,種目コード一覧!$A$1:$C$213,3,FALSE)-LEN(競技者一覧!J86)),競技者一覧!J86),\"\")","v":""},{"$f":"IFERROR(CONCATENATE(VLOOKUP(競技者一覧!K86,種目コード一覧!$A$1:$C$213,2,FALSE),\" \",REPT(\"0\",VLOOKUP(競技者一覧!K86,種目コード一覧!$A$1:$C$213,3,FALSE)-LEN(競技者一覧!L86)),競技者一覧!L86),\"\")","v":""},{"$f":"IFERROR(CONCATENATE(VLOOKUP(競技者一覧!M86,種目コード一覧!$A$1:$C$213,2,FALSE),\" \",REPT(\"0\",VLOOKUP(競技者一覧!M86,種目コード一覧!$A$1:$C$213,3,FALSE)-LEN(競技者一覧!N86)),競技者一覧!N86),\"\")","v":""},{"$f":"IFERROR(CONCATENATE(VLOOKUP(競技者一覧!O86,種目コード一覧!$A$1:$C$213,2,FALSE),\" \",REPT(\"0\",VLOOKUP(競技者一覧!O86,種目コード一覧!$A$1:$C$213,3,FALSE)-LEN(競技者一覧!P86)),競技者一覧!P86),\"\")","v":""},{"$f":"IFERROR(CONCATENATE(VLOOKUP(競技者一覧!Q86,種目コード一覧!$A$1:$C$213,2,FALSE),\" \",REPT(\"0\",VLOOKUP(競技者一覧!Q86,種目コード一覧!$A$1:$C$213,3,FALSE)-LEN(競技者一覧!R86)),競技者一覧!R86),\"\")","v":""},{"$f":"IFERROR(CONCATENATE(VLOOKUP(競技者一覧!S86,種目コード一覧!$A$1:$C$213,2,FALSE),\" \",REPT(\"0\",VLOOKUP(競技者一覧!S86,種目コード一覧!$A$1:$C$213,3,FALSE)-LEN(競技者一覧!T86)),競技者一覧!T86),\"\")","v":""},{"$f":"IFERROR(CONCATENATE(VLOOKUP(競技者一覧!U86,種目コード一覧!$A$1:$C$213,2,FALSE),\" \",REPT(\"0\",VLOOKUP(競技者一覧!U86,種目コード一覧!$A$1:$C$213,3,FALSE)-LEN(競技者一覧!V86)),競技者一覧!V86),\"\")","v":""}]
[{"$f":"CONCATENATE($F$2,Sheet4!B76)","v":{"$error":"#N/A"}},{"$f":"CONCATENATE(競技者一覧!C87,\"(\",競技者一覧!F87,\")\")","v":"()"},{"$f":"CONCATENATE(競技者一覧!D87)","v":""},{"$f":"競技者一覧!E87","v":0},{"$f":"VLOOKUP(競技者一覧!$C$6,Sheet4!$D$2:$E$48,2,FALSE)","v":{"$error":"#N/A"}},{"$f":"VLOOKUP(競技者一覧!$C$7,学校番号表!$B$2:$C$1004,2,FALSE)","v":{"$error":"#N/A"}},{"$f":"CONCATENATE(競技者一覧!B87)","v":""},{"$f":"IFERROR(CONCATENATE(VLOOKUP(競技者一覧!G87,種目コード一覧!$A$1:$C$213,2,FALSE),\" \",REPT(\"0\",VLOOKUP(競技者一覧!G87,種目コード一覧!$A$1:$C$213,3,FALSE)-LEN(競技者一覧!H87)),競技者一覧!H87),\"\")","v":""},{"$f":"IFERROR(CONCATENATE(VLOOKUP(競技者一覧!I87,種目コード一覧!$A$1:$C$213,2,FALSE),\" \",REPT(\"0\",VLOOKUP(競技者一覧!I87,種目コード一覧!$A$1:$C$213,3,FALSE)-LEN(競技者一覧!J87)),競技者一覧!J87),\"\")","v":""},{"$f":"IFERROR(CONCATENATE(VLOOKUP(競技者一覧!K87,種目コード一覧!$A$1:$C$213,2,FALSE),\" \",REPT(\"0\",VLOOKUP(競技者一覧!K87,種目コード一覧!$A$1:$C$213,3,FALSE)-LEN(競技者一覧!L87)),競技者一覧!L87),\"\")","v":""},{"$f":"IFERROR(CONCATENATE(VLOOKUP(競技者一覧!M87,種目コード一覧!$A$1:$C$213,2,FALSE),\" \",REPT(\"0\",VLOOKUP(競技者一覧!M87,種目コード一覧!$A$1:$C$213,3,FALSE)-LEN(競技者一覧!N87)),競技者一覧!N87),\"\")","v":""},{"$f":"IFERROR(CONCATENATE(VLOOKUP(競技者一覧!O87,種目コード一覧!$A$1:$C$213,2,FALSE),\" \",REPT(\"0\",VLOOKUP(競技者一覧!O87,種目コード一覧!$A$1:$C$213,3,FALSE)-LEN(競技者一覧!P87)),競技者一覧!P87),\"\")","v":""},{"$f":"IFERROR(CONCATENATE(VLOOKUP(競技者一覧!Q87,種目コード一覧!$A$1:$C$213,2,FALSE),\" \",REPT(\"0\",VLOOKUP(競技者一覧!Q87,種目コード一覧!$A$1:$C$213,3,FALSE)-LEN(競技者一覧!R87)),競技者一覧!R87),\"\")","v":""},{"$f":"IFERROR(CONCATENATE(VLOOKUP(競技者一覧!S87,種目コード一覧!$A$1:$C$213,2,FALSE),\" \",REPT(\"0\",VLOOKUP(競技者一覧!S87,種目コード一覧!$A$1:$C$213,3,FALSE)-LEN(競技者一覧!T87)),競技者一覧!T87),\"\")","v":""},{"$f":"IFERROR(CONCATENATE(VLOOKUP(競技者一覧!U87,種目コード一覧!$A$1:$C$213,2,FALSE),\" \",REPT(\"0\",VLOOKUP(競技者一覧!U87,種目コード一覧!$A$1:$C$213,3,FALSE)-LEN(競技者一覧!V87)),競技者一覧!V87),\"\")","v":""}]
[{"$f":"CONCATENATE($F$2,Sheet4!B77)","v":{"$error":"#N/A"}},{"$f":"CONCATENATE(競技者一覧!C88,\"(\",競技者一覧!F88,\")\")","v":"()"},{"$f":"CONCATENATE(競技者一覧!D88)","v":""},{"$f":"競技者一覧!E88","v":0},{"$f":"VLOOKUP(競技者一覧!$C$6,Sheet4!$D$2:$E$48,2,FALSE)","v":{"$error":"#N/A"}},{"$f":"VLOOKUP(競技者一覧!$C$7,学校番号表!$B$2:$C$1004,2,FALSE)","v":{"$error":"#N/A"}},{"$f":"CONCATENATE(競技者一覧!B88)","v":""},{"$f":"IFERROR(CONCATENATE(VLOOKUP(競技者一覧!G88,種目コード一覧!$A$1:$C$213,2,FALSE),\" \",REPT(\"0\",VLOOKUP(競技者一覧!G88,種目コード一覧!$A$1:$C$213,3,FALSE)-LEN(競技者一覧!H88)),競技者一覧!H88),\"\")","v":""},{"$f":"IFERROR(CONCATENATE(VLOOKUP(競技者一覧!I88,種目コード一覧!$A$1:$C$213,2,FALSE),\" \",REPT(\"0\",VLOOKUP(競技者一覧!I88,種目コード一覧!$A$1:$C$213,3,FALSE)-LEN(競技者一覧!J88)),競技者一覧!J88),\"\")","v":""},{"$f":"IFERROR(CONCATENATE(VLOOKUP(競技者一覧!K88,種目コード一覧!$A$1:$C$213,2,FALSE),\" \",REPT(\"0\",VLOOKUP(競技者一覧!K88,種目コード一覧!$A$1:$C$213,3,FALSE)-LEN(競技者一覧!L88)),競技者一覧!L88),\"\")","v":""},{"$f":"IFERROR(CONCATENATE(VLOOKUP(競技者一覧!M88,種目コード一覧!$A$1:$C$213,2,FALSE),\" \",REPT(\"0\",VLOOKUP(競技者一覧!M88,種目コード一覧!$A$1:$C$213,3,FALSE)-LEN(競技者一覧!N88)),競技者一覧!N88),\"\")","v":""},{"$f":"IFERROR(CONCATENATE(VLOOKUP(競技者一覧!O88,種目コード一覧!$A$1:$C$213,2,FALSE),\" \",REPT(\"0\",VLOOKUP(競技者一覧!O88,種目コード一覧!$A$1:$C$213,3,FALSE)-LEN(競技者一覧!P88)),競技者一覧!P88),\"\")","v":""},{"$f":"IFERROR(CONCATENATE(VLOOKUP(競技者一覧!Q88,種目コード一覧!$A$1:$C$213,2,FALSE),\" \",REPT(\"0\",VLOOKUP(競技者一覧!Q88,種目コード一覧!$A$1:$C$213,3,FALSE)-LEN(競技者一覧!R88)),競技者一覧!R88),\"\")","v":""},{"$f":"IFERROR(CONCATENATE(VLOOKUP(競技者一覧!S88,種目コード一覧!$A$1:$C$213,2,FALSE),\" \",REPT(\"0\",VLOOKUP(競技者一覧!S88,種目コード一覧!$A$1:$C$213,3,FALSE)-LEN(競技者一覧!T88)),競技者一覧!T88),\"\")","v":""},{"$f":"IFERROR(CONCATENATE(VLOOKUP(競技者一覧!U88,種目コード一覧!$A$1:$C$213,2,FALSE),\" \",REPT(\"0\",VLOOKUP(競技者一覧!U88,種目コード一覧!$A$1:$C$213,3,FALSE)-LEN(競技者一覧!V88)),競技者一覧!V88),\"\")","v":""}]
[{"$f":"CONCATENATE($F$2,Sheet4!B78)","v":{"$error":"#N/A"}},{"$f":"CONCATENATE(競技者一覧!C89,\"(\",競技者一覧!F89,\")\")","v":"()"},{"$f":"CONCATENATE(競技者一覧!D89)","v":""},{"$f":"競技者一覧!E89","v":0},{"$f":"VLOOKUP(競技者一覧!$C$6,Sheet4!$D$2:$E$48,2,FALSE)","v":{"$error":"#N/A"}},{"$f":"VLOOKUP(競技者一覧!$C$7,学校番号表!$B$2:$C$1004,2,FALSE)","v":{"$error":"#N/A"}},{"$f":"CONCATENATE(競技者一覧!B89)","v":""},{"$f":"IFERROR(CONCATENATE(VLOOKUP(競技者一覧!G89,種目コード一覧!$A$1:$C$213,2,FALSE),\" \",REPT(\"0\",VLOOKUP(競技者一覧!G89,種目コード一覧!$A$1:$C$213,3,FALSE)-LEN(競技者一覧!H89)),競技者一覧!H89),\"\")","v":""},{"$f":"IFERROR(CONCATENATE(VLOOKUP(競技者一覧!I89,種目コード一覧!$A$1:$C$213,2,FALSE),\" \",REPT(\"0\",VLOOKUP(競技者一覧!I89,種目コード一覧!$A$1:$C$213,3,FALSE)-LEN(競技者一覧!J89)),競技者一覧!J89),\"\")","v":""},{"$f":"IFERROR(CONCATENATE(VLOOKUP(競技者一覧!K89,種目コード一覧!$A$1:$C$213,2,FALSE),\" \",REPT(\"0\",VLOOKUP(競技者一覧!K89,種目コード一覧!$A$1:$C$213,3,FALSE)-LEN(競技者一覧!L89)),競技者一覧!L89),\"\")","v":""},{"$f":"IFERROR(CONCATENATE(VLOOKUP(競技者一覧!M89,種目コード一覧!$A$1:$C$213,2,FALSE),\" \",REPT(\"0\",VLOOKUP(競技者一覧!M89,種目コード一覧!$A$1:$C$213,3,FALSE)-LEN(競技者一覧!N89)),競技者一覧!N89),\"\")","v":""},{"$f":"IFERROR(CONCATENATE(VLOOKUP(競技者一覧!O89,種目コード一覧!$A$1:$C$213,2,FALSE),\" \",REPT(\"0\",VLOOKUP(競技者一覧!O89,種目コード一覧!$A$1:$C$213,3,FALSE)-LEN(競技者一覧!P89)),競技者一覧!P89),\"\")","v":""},{"$f":"IFERROR(CONCATENATE(VLOOKUP(競技者一覧!Q89,種目コード一覧!$A$1:$C$213,2,FALSE),\" \",REPT(\"0\",VLOOKUP(競技者一覧!Q89,種目コード一覧!$A$1:$C$213,3,FALSE)-LEN(競技者一覧!R89)),競技者一覧!R89),\"\")","v":""},{"$f":"IFERROR(CONCATENATE(VLOOKUP(競技者一覧!S89,種目コード一覧!$A$1:$C$213,2,FALSE),\" \",REPT(\"0\",VLOOKUP(競技者一覧!S89,種目コード一覧!$A$1:$C$213,3,FALSE)-LEN(競技者一覧!T89)),競技者一覧!T89),\"\")","v":""},{"$f":"IFERROR(CONCATENATE(VLOOKUP(競技者一覧!U89,種目コード一覧!$A$1:$C$213,2,FALSE),\" \",REPT(\"0\",VLOOKUP(競技者一覧!U89,種目コード一覧!$A$1:$C$213,3,FALSE)-LEN(競技者一覧!V89)),競技者一覧!V89),\"\")","v":""}]
[{"$f":"CONCATENATE($F$2,Sheet4!B79)","v":{"$error":"#N/A"}},{"$f":"CONCATENATE(競技者一覧!C90,\"(\",競技者一覧!F90,\")\")","v":"()"},{"$f":"CONCATENATE(競技者一覧!D90)","v":""},{"$f":"競技者一覧!E90","v":0},{"$f":"VLOOKUP(競技者一覧!$C$6,Sheet4!$D$2:$E$48,2,FALSE)","v":{"$error":"#N/A"}},{"$f":"VLOOKUP(競技者一覧!$C$7,学校番号表!$B$2:$C$1004,2,FALSE)","v":{"$error":"#N/A"}},{"$f":"CONCATENATE(競技者一覧!B90)","v":""},{"$f":"IFERROR(CONCATENATE(VLOOKUP(競技者一覧!G90,種目コード一覧!$A$1:$C$213,2,FALSE),\" \",REPT(\"0\",VLOOKUP(競技者一覧!G90,種目コード一覧!$A$1:$C$213,3,FALSE)-LEN(競技者一覧!H90)),競技者一覧!H90),\"\")","v":""},{"$f":"IFERROR(CONCATENATE(VLOOKUP(競技者一覧!I90,種目コード一覧!$A$1:$C$213,2,FALSE),\" \",REPT(\"0\",VLOOKUP(競技者一覧!I90,種目コード一覧!$A$1:$C$213,3,FALSE)-LEN(競技者一覧!J90)),競技者一覧!J90),\"\")","v":""},{"$f":"IFERROR(CONCATENATE(VLOOKUP(競技者一覧!K90,種目コード一覧!$A$1:$C$213,2,FALSE),\" \",REPT(\"0\",VLOOKUP(競技者一覧!K90,種目コード一覧!$A$1:$C$213,3,FALSE)-LEN(競技者一覧!L90)),競技者一覧!L90),\"\")","v":""},{"$f":"IFERROR(CONCATENATE(VLOOKUP(競技者一覧!M90,種目コード一覧!$A$1:$C$213,2,FALSE),\" \",REPT(\"0\",VLOOKUP(競技者一覧!M90,種目コード一覧!$A$1:$C$213,3,FALSE)-LEN(競技者一覧!N90)),競技者一覧!N90),\"\")","v":""},{"$f":"IFERROR(CONCATENATE(VLOOKUP(競技者一覧!O90,種目コード一覧!$A$1:$C$213,2,FALSE),\" \",REPT(\"0\",VLOOKUP(競技者一覧!O90,種目コード一覧!$A$1:$C$213,3,FALSE)-LEN(競技者一覧!P90)),競技者一覧!P90),\"\")","v":""},{"$f":"IFERROR(CONCATENATE(VLOOKUP(競技者一覧!Q90,種目コード一覧!$A$1:$C$213,2,FALSE),\" \",REPT(\"0\",VLOOKUP(競技者一覧!Q90,種目コード一覧!$A$1:$C$213,3,FALSE)-LEN(競技者一覧!R90)),競技者一覧!R90),\"\")","v":""},{"$f":"IFERROR(CONCATENATE(VLOOKUP(競技者一覧!S90,種目コード一覧!$A$1:$C$213,2,FALSE),\" \",REPT(\"0\",VLOOKUP(競技者一覧!S90,種目コード一覧!$A$1:$C$213,3,FALSE)-LEN(競技者一覧!T90)),競技者一覧!T90),\"\")","v":""},{"$f":"IFERROR(CONCATENATE(VLOOKUP(競技者一覧!U90,種目コード一覧!$A$1:$C$213,2,FALSE),\" \",REPT(\"0\",VLOOKUP(競技者一覧!U90,種目コード一覧!$A$1:$C$213,3,FALSE)-LEN(競技者一覧!V90)),競技者一覧!V90),\"\")","v":""}]
[{"$f":"CONCATENATE($F$2,Sheet4!B80)","v":{"$error":"#N/A"}},{"$f":"CONCATENATE(競技者一覧!C91,\"(\",競技者一覧!F91,\")\")","v":"()"},{"$f":"CONCATENATE(競技者一覧!D91)","v":""},{"$f":"競技者一覧!E91","v":0},{"$f":"VLOOKUP(競技者一覧!$C$6,Sheet4!$D$2:$E$48,2,FALSE)","v":{"$error":"#N/A"}},{"$f":"VLOOKUP(競技者一覧!$C$7,学校番号表!$B$2:$C$1004,2,FALSE)","v":{"$error":"#N/A"}},{"$f":"CONCATENATE(競技者一覧!B91)","v":""},{"$f":"IFERROR(CONCATENATE(VLOOKUP(競技者一覧!G91,種目コード一覧!$A$1:$C$213,2,FALSE),\" \",REPT(\"0\",VLOOKUP(競技者一覧!G91,種目コード一覧!$A$1:$C$213,3,FALSE)-LEN(競技者一覧!H91)),競技者一覧!H91),\"\")","v":""},{"$f":"IFERROR(CONCATENATE(VLOOKUP(競技者一覧!I91,種目コード一覧!$A$1:$C$213,2,FALSE),\" \",REPT(\"0\",VLOOKUP(競技者一覧!I91,種目コード一覧!$A$1:$C$213,3,FALSE)-LEN(競技者一覧!J91)),競技者一覧!J91),\"\")","v":""},{"$f":"IFERROR(CONCATENATE(VLOOKUP(競技者一覧!K91,種目コード一覧!$A$1:$C$213,2,FALSE),\" \",REPT(\"0\",VLOOKUP(競技者一覧!K91,種目コード一覧!$A$1:$C$213,3,FALSE)-LEN(競技者一覧!L91)),競技者一覧!L91),\"\")","v":""},{"$f":"IFERROR(CONCATENATE(VLOOKUP(競技者一覧!M91,種目コード一覧!$A$1:$C$213,2,FALSE),\" \",REPT(\"0\",VLOOKUP(競技者一覧!M91,種目コード一覧!$A$1:$C$213,3,FALSE)-LEN(競技者一覧!N91)),競技者一覧!N91),\"\")","v":""},{"$f":"IFERROR(CONCATENATE(VLOOKUP(競技者一覧!O91,種目コード一覧!$A$1:$C$213,2,FALSE),\" \",REPT(\"0\",VLOOKUP(競技者一覧!O91,種目コード一覧!$A$1:$C$213,3,FALSE)-LEN(競技者一覧!P91)),競技者一覧!P91),\"\")","v":""},{"$f":"IFERROR(CONCATENATE(VLOOKUP(競技者一覧!Q91,種目コード一覧!$A$1:$C$213,2,FALSE),\" \",REPT(\"0\",VLOOKUP(競技者一覧!Q91,種目コード一覧!$A$1:$C$213,3,FALSE)-LEN(競技者一覧!R91)),競技者一覧!R91),\"\")","v":""},{"$f":"IFERROR(CONCATENATE(VLOOKUP(競技者一覧!S91,種目コード一覧!$A$1:$C$213,2,FALSE),\" \",REPT(\"0\",VLOOKUP(競技者一覧!S91,種目コード一覧!$A$1:$C$213,3,FALSE)-LEN(競技者一覧!T91)),競技者一覧!T91),\"\")","v":""},{"$f":"IFERROR(CONCATENATE(VLOOKUP(競技者一覧!U91,種目コード一覧!$A$1:$C$213,2,FALSE),\" \",REPT(\"0\",VLOOKUP(競技者一覧!U91,種目コード一覧!$A$1:$C$213,3,FALSE)-LEN(競技者一覧!V91)),競技者一覧!V91),\"\")","v":""}]
[{"$f":"CONCATENATE($F$2,Sheet4!B81)","v":{"$error":"#N/A"}},{"$f":"CONCATENATE(競技者一覧!C92,\"(\",競技者一覧!F92,\")\")","v":"()"},{"$f":"CONCATENATE(競技者一覧!D92)","v":""},{"$f":"競技者一覧!E92","v":0},{"$f":"VLOOKUP(競技者一覧!$C$6,Sheet4!$D$2:$E$48,2,FALSE)","v":{"$error":"#N/A"}},{"$f":"VLOOKUP(競技者一覧!$C$7,学校番号表!$B$2:$C$1004,2,FALSE)","v":{"$error":"#N/A"}},{"$f":"CONCATENATE(競技者一覧!B92)","v":""},{"$f":"IFERROR(CONCATENATE(VLOOKUP(競技者一覧!G92,種目コード一覧!$A$1:$C$213,2,FALSE),\" \",REPT(\"0\",VLOOKUP(競技者一覧!G92,種目コード一覧!$A$1:$C$213,3,FALSE)-LEN(競技者一覧!H92)),競技者一覧!H92),\"\")","v":""},{"$f":"IFERROR(CONCATENATE(VLOOKUP(競技者一覧!I92,種目コード一覧!$A$1:$C$213,2,FALSE),\" \",REPT(\"0\",VLOOKUP(競技者一覧!I92,種目コード一覧!$A$1:$C$213,3,FALSE)-LEN(競技者一覧!J92)),競技者一覧!J92),\"\")","v":""},{"$f":"IFERROR(CONCATENATE(VLOOKUP(競技者一覧!K92,種目コード一覧!$A$1:$C$213,2,FALSE),\" \",REPT(\"0\",VLOOKUP(競技者一覧!K92,種目コード一覧!$A$1:$C$213,3,FALSE)-LEN(競技者一覧!L92)),競技者一覧!L92),\"\")","v":""},{"$f":"IFERROR(CONCATENATE(VLOOKUP(競技者一覧!M92,種目コード一覧!$A$1:$C$213,2,FALSE),\" \",REPT(\"0\",VLOOKUP(競技者一覧!M92,種目コード一覧!$A$1:$C$213,3,FALSE)-LEN(競技者一覧!N92)),競技者一覧!N92),\"\")","v":""},{"$f":"IFERROR(CONCATENATE(VLOOKUP(競技者一覧!O92,種目コード一覧!$A$1:$C$213,2,FALSE),\" \",REPT(\"0\",VLOOKUP(競技者一覧!O92,種目コード一覧!$A$1:$C$213,3,FALSE)-LEN(競技者一覧!P92)),競技者一覧!P92),\"\")","v":""},{"$f":"IFERROR(CONCATENATE(VLOOKUP(競技者一覧!Q92,種目コード一覧!$A$1:$C$213,2,FALSE),\" \",REPT(\"0\",VLOOKUP(競技者一覧!Q92,種目コード一覧!$A$1:$C$213,3,FALSE)-LEN(競技者一覧!R92)),競技者一覧!R92),\"\")","v":""},{"$f":"IFERROR(CONCATENATE(VLOOKUP(競技者一覧!S92,種目コード一覧!$A$1:$C$213,2,FALSE),\" \",REPT(\"0\",VLOOKUP(競技者一覧!S92,種目コード一覧!$A$1:$C$213,3,FALSE)-LEN(競技者一覧!T92)),競技者一覧!T92),\"\")","v":""},{"$f":"IFERROR(CONCATENATE(VLOOKUP(競技者一覧!U92,種目コード一覧!$A$1:$C$213,2,FALSE),\" \",REPT(\"0\",VLOOKUP(競技者一覧!U92,種目コード一覧!$A$1:$C$213,3,FALSE)-LEN(競技者一覧!V92)),競技者一覧!V92),\"\")","v":""}]
[{"$f":"CONCATENATE($F$2,Sheet4!B82)","v":{"$error":"#N/A"}},{"$f":"CONCATENATE(競技者一覧!C93,\"(\",競技者一覧!F93,\")\")","v":"()"},{"$f":"CONCATENATE(競技者一覧!D93)","v":""},{"$f":"競技者一覧!E93","v":0},{"$f":"VLOOKUP(競技者一覧!$C$6,Sheet4!$D$2:$E$48,2,FALSE)","v":{"$error":"#N/A"}},{"$f":"VLOOKUP(競技者一覧!$C$7,学校番号表!$B$2:$C$1004,2,FALSE)","v":{"$error":"#N/A"}},{"$f":"CONCATENATE(競技者一覧!B93)","v":""},{"$f":"IFERROR(CONCATENATE(VLOOKUP(競技者一覧!G93,種目コード一覧!$A$1:$C$213,2,FALSE),\" \",REPT(\"0\",VLOOKUP(競技者一覧!G93,種目コード一覧!$A$1:$C$213,3,FALSE)-LEN(競技者一覧!H93)),競技者一覧!H93),\"\")","v":""},{"$f":"IFERROR(CONCATENATE(VLOOKUP(競技者一覧!I93,種目コード一覧!$A$1:$C$213,2,FALSE),\" \",REPT(\"0\",VLOOKUP(競技者一覧!I93,種目コード一覧!$A$1:$C$213,3,FALSE)-LEN(競技者一覧!J93)),競技者一覧!J93),\"\")","v":""},{"$f":"IFERROR(CONCATENATE(VLOOKUP(競技者一覧!K93,種目コード一覧!$A$1:$C$213,2,FALSE),\" \",REPT(\"0\",VLOOKUP(競技者一覧!K93,種目コード一覧!$A$1:$C$213,3,FALSE)-LEN(競技者一覧!L93)),競技者一覧!L93),\"\")","v":""},{"$f":"IFERROR(CONCATENATE(VLOOKUP(競技者一覧!M93,種目コード一覧!$A$1:$C$213,2,FALSE),\" \",REPT(\"0\",VLOOKUP(競技者一覧!M93,種目コード一覧!$A$1:$C$213,3,FALSE)-LEN(競技者一覧!N93)),競技者一覧!N93),\"\")","v":""},{"$f":"IFERROR(CONCATENATE(VLOOKUP(競技者一覧!O93,種目コード一覧!$A$1:$C$213,2,FALSE),\" \",REPT(\"0\",VLOOKUP(競技者一覧!O93,種目コード一覧!$A$1:$C$213,3,FALSE)-LEN(競技者一覧!P93)),競技者一覧!P93),\"\")","v":""},{"$f":"IFERROR(CONCATENATE(VLOOKUP(競技者一覧!Q93,種目コード一覧!$A$1:$C$213,2,FALSE),\" \",REPT(\"0\",VLOOKUP(競技者一覧!Q93,種目コード一覧!$A$1:$C$213,3,FALSE)-LEN(競技者一覧!R93)),競技者一覧!R93),\"\")","v":""},{"$f":"IFERROR(CONCATENATE(VLOOKUP(競技者一覧!S93,種目コード一覧!$A$1:$C$213,2,FALSE),\" \",REPT(\"0\",VLOOKUP(競技者一覧!S93,種目コード一覧!$A$1:$C$213,3,FALSE)-LEN(競技者一覧!T93)),競技者一覧!T93),\"\")","v":""},{"$f":"IFERROR(CONCATENATE(VLOOKUP(競技者一覧!U93,種目コード一覧!$A$1:$C$213,2,FALSE),\" \",REPT(\"0\",VLOOKUP(競技者一覧!U93,種目コード一覧!$A$1:$C$213,3,FALSE)-LEN(競技者一覧!V93)),競技者一覧!V93),\"\")","v":""}]
[{"$f":"CONCATENATE($F$2,Sheet4!B83)","v":{"$error":"#N/A"}},{"$f":"CONCATENATE(競技者一覧!C94,\"(\",競技者一覧!F94,\")\")","v":"()"},{"$f":"CONCATENATE(競技者一覧!D94)","v":""},{"$f":"競技者一覧!E94","v":0},{"$f":"VLOOKUP(競技者一覧!$C$6,Sheet4!$D$2:$E$48,2,FALSE)","v":{"$error":"#N/A"}},{"$f":"VLOOKUP(競技者一覧!$C$7,学校番号表!$B$2:$C$1004,2,FALSE)","v":{"$error":"#N/A"}},{"$f":"CONCATENATE(競技者一覧!B94)","v":""},{"$f":"IFERROR(CONCATENATE(VLOOKUP(競技者一覧!G94,種目コード一覧!$A$1:$C$213,2,FALSE),\" \",REPT(\"0\",VLOOKUP(競技者一覧!G94,種目コード一覧!$A$1:$C$213,3,FALSE)-LEN(競技者一覧!H94)),競技者一覧!H94),\"\")","v":""},{"$f":"IFERROR(CONCATENATE(VLOOKUP(競技者一覧!I94,種目コード一覧!$A$1:$C$213,2,FALSE),\" \",REPT(\"0\",VLOOKUP(競技者一覧!I94,種目コード一覧!$A$1:$C$213,3,FALSE)-LEN(競技者一覧!J94)),競技者一覧!J94),\"\")","v":""},{"$f":"IFERROR(CONCATENATE(VLOOKUP(競技者一覧!K94,種目コード一覧!$A$1:$C$213,2,FALSE),\" \",REPT(\"0\",VLOOKUP(競技者一覧!K94,種目コード一覧!$A$1:$C$213,3,FALSE)-LEN(競技者一覧!L94)),競技者一覧!L94),\"\")","v":""},{"$f":"IFERROR(CONCATENATE(VLOOKUP(競技者一覧!M94,種目コード一覧!$A$1:$C$213,2,FALSE),\" \",REPT(\"0\",VLOOKUP(競技者一覧!M94,種目コード一覧!$A$1:$C$213,3,FALSE)-LEN(競技者一覧!N94)),競技者一覧!N94),\"\")","v":""},{"$f":"IFERROR(CONCATENATE(VLOOKUP(競技者一覧!O94,種目コード一覧!$A$1:$C$213,2,FALSE),\" \",REPT(\"0\",VLOOKUP(競技者一覧!O94,種目コード一覧!$A$1:$C$213,3,FALSE)-LEN(競技者一覧!P94)),競技者一覧!P94),\"\")","v":""},{"$f":"IFERROR(CONCATENATE(VLOOKUP(競技者一覧!Q94,種目コード一覧!$A$1:$C$213,2,FALSE),\" \",REPT(\"0\",VLOOKUP(競技者一覧!Q94,種目コード一覧!$A$1:$C$213,3,FALSE)-LEN(競技者一覧!R94)),競技者一覧!R94),\"\")","v":""},{"$f":"IFERROR(CONCATENATE(VLOOKUP(競技者一覧!S94,種目コード一覧!$A$1:$C$213,2,FALSE),\" \",REPT(\"0\",VLOOKUP(競技者一覧!S94,種目コード一覧!$A$1:$C$213,3,FALSE)-LEN(競技者一覧!T94)),競技者一覧!T94),\"\")","v":""},{"$f":"IFERROR(CONCATENATE(VLOOKUP(競技者一覧!U94,種目コード一覧!$A$1:$C$213,2,FALSE),\" \",REPT(\"0\",VLOOKUP(競技者一覧!U94,種目コード一覧!$A$1:$C$213,3,FALSE)-LEN(競技者一覧!V94)),競技者一覧!V94),\"\")","v":""}]
[{"$f":"CONCATENATE($F$2,Sheet4!B84)","v":{"$error":"#N/A"}},{"$f":"CONCATENATE(競技者一覧!C95,\"(\",競技者一覧!F95,\")\")","v":"()"},{"$f":"CONCATENATE(競技者一覧!D95)","v":""},{"$f":"競技者一覧!E95","v":0},{"$f":"VLOOKUP(競技者一覧!$C$6,Sheet4!$D$2:$E$48,2,FALSE)","v":{"$error":"#N/A"}},{"$f":"VLOOKUP(競技者一覧!$C$7,学校番号表!$B$2:$C$1004,2,FALSE)","v":{"$error":"#N/A"}},{"$f":"CONCATENATE(競技者一覧!B95)","v":""},{"$f":"IFERROR(CONCATENATE(VLOOKUP(競技者一覧!G95,種目コード一覧!$A$1:$C$213,2,FALSE),\" \",REPT(\"0\",VLOOKUP(競技者一覧!G95,種目コード一覧!$A$1:$C$213,3,FALSE)-LEN(競技者一覧!H95)),競技者一覧!H95),\"\")","v":""},{"$f":"IFERROR(CONCATENATE(VLOOKUP(競技者一覧!I95,種目コード一覧!$A$1:$C$213,2,FALSE),\" \",REPT(\"0\",VLOOKUP(競技者一覧!I95,種目コード一覧!$A$1:$C$213,3,FALSE)-LEN(競技者一覧!J95)),競技者一覧!J95),\"\")","v":""},{"$f":"IFERROR(CONCATENATE(VLOOKUP(競技者一覧!K95,種目コード一覧!$A$1:$C$213,2,FALSE),\" \",REPT(\"0\",VLOOKUP(競技者一覧!K95,種目コード一覧!$A$1:$C$213,3,FALSE)-LEN(競技者一覧!L95)),競技者一覧!L95),\"\")","v":""},{"$f":"IFERROR(CONCATENATE(VLOOKUP(競技者一覧!M95,種目コード一覧!$A$1:$C$213,2,FALSE),\" \",REPT(\"0\",VLOOKUP(競技者一覧!M95,種目コード一覧!$A$1:$C$213,3,FALSE)-LEN(競技者一覧!N95)),競技者一覧!N95),\"\")","v":""},{"$f":"IFERROR(CONCATENATE(VLOOKUP(競技者一覧!O95,種目コード一覧!$A$1:$C$213,2,FALSE),\" \",REPT(\"0\",VLOOKUP(競技者一覧!O95,種目コード一覧!$A$1:$C$213,3,FALSE)-LEN(競技者一覧!P95)),競技者一覧!P95),\"\")","v":""},{"$f":"IFERROR(CONCATENATE(VLOOKUP(競技者一覧!Q95,種目コード一覧!$A$1:$C$213,2,FALSE),\" \",REPT(\"0\",VLOOKUP(競技者一覧!Q95,種目コード一覧!$A$1:$C$213,3,FALSE)-LEN(競技者一覧!R95)),競技者一覧!R95),\"\")","v":""},{"$f":"IFERROR(CONCATENATE(VLOOKUP(競技者一覧!S95,種目コード一覧!$A$1:$C$213,2,FALSE),\" \",REPT(\"0\",VLOOKUP(競技者一覧!S95,種目コード一覧!$A$1:$C$213,3,FALSE)-LEN(競技者一覧!T95)),競技者一覧!T95),\"\")","v":""},{"$f":"IFERROR(CONCATENATE(VLOOKUP(競技者一覧!U95,種目コード一覧!$A$1:$C$213,2,FALSE),\" \",REPT(\"0\",VLOOKUP(競技者一覧!U95,種目コード一覧!$A$1:$C$213,3,FALSE)-LEN(競技者一覧!V95)),競技者一覧!V95),\"\")","v":""}]
[{"$f":"CONCATENATE($F$2,Sheet4!B85)","v":{"$error":"#N/A"}},{"$f":"CONCATENATE(競技者一覧!C96,\"(\",競技者一覧!F96,\")\")","v":"()"},{"$f":"CONCATENATE(競技者一覧!D96)","v":""},{"$f":"競技者一覧!E96","v":0},{"$f":"VLOOKUP(競技者一覧!$C$6,Sheet4!$D$2:$E$48,2,FALSE)","v":{"$error":"#N/A"}},{"$f":"VLOOKUP(競技者一覧!$C$7,学校番号表!$B$2:$C$1004,2,FALSE)","v":{"$error":"#N/A"}},{"$f":"CONCATENATE(競技者一覧!B96)","v":""},{"$f":"IFERROR(CONCATENATE(VLOOKUP(競技者一覧!G96,種目コード一覧!$A$1:$C$213,2,FALSE),\" \",REPT(\"0\",VLOOKUP(競技者一覧!G96,種目コード一覧!$A$1:$C$213,3,FALSE)-LEN(競技者一覧!H96)),競技者一覧!H96),\"\")","v":""},{"$f":"IFERROR(CONCATENATE(VLOOKUP(競技者一覧!I96,種目コード一覧!$A$1:$C$213,2,FALSE),\" \",REPT(\"0\",VLOOKUP(競技者一覧!I96,種目コード一覧!$A$1:$C$213,3,FALSE)-LEN(競技者一覧!J96)),競技者一覧!J96),\"\")","v":""},{"$f":"IFERROR(CONCATENATE(VLOOKUP(競技者一覧!K96,種目コード一覧!$A$1:$C$213,2,FALSE),\" \",REPT(\"0\",VLOOKUP(競技者一覧!K96,種目コード一覧!$A$1:$C$213,3,FALSE)-LEN(競技者一覧!L96)),競技者一覧!L96),\"\")","v":""},{"$f":"IFERROR(CONCATENATE(VLOOKUP(競技者一覧!M96,種目コード一覧!$A$1:$C$213,2,FALSE),\" \",REPT(\"0\",VLOOKUP(競技者一覧!M96,種目コード一覧!$A$1:$C$213,3,FALSE)-LEN(競技者一覧!N96)),競技者一覧!N96),\"\")","v":""},{"$f":"IFERROR(CONCATENATE(VLOOKUP(競技者一覧!O96,種目コード一覧!$A$1:$C$213,2,FALSE),\" \",REPT(\"0\",VLOOKUP(競技者一覧!O96,種目コード一覧!$A$1:$C$213,3,FALSE)-LEN(競技者一覧!P96)),競技者一覧!P96),\"\")","v":""},{"$f":"IFERROR(CONCATENATE(VLOOKUP(競技者一覧!Q96,種目コード一覧!$A$1:$C$213,2,FALSE),\" \",REPT(\"0\",VLOOKUP(競技者一覧!Q96,種目コード一覧!$A$1:$C$213,3,FALSE)-LEN(競技者一覧!R96)),競技者一覧!R96),\"\")","v":""},{"$f":"IFERROR(CONCATENATE(VLOOKUP(競技者一覧!S96,種目コード一覧!$A$1:$C$213,2,FALSE),\" \",REPT(\"0\",VLOOKUP(競技者一覧!S96,種目コード一覧!$A$1:$C$213,3,FALSE)-LEN(競技者一覧!T96)),競技者一覧!T96),\"\")","v":""},{"$f":"IFERROR(CONCATENATE(VLOOKUP(競技者一覧!U96,種目コード一覧!$A$1:$C$213,2,FALSE),\" \",REPT(\"0\",VLOOKUP(競技者一覧!U96,種目コード一覧!$A$1:$C$213,3,FALSE)-LEN(競技者一覧!V96)),競技者一覧!V96),\"\")","v":""}]
[{"$f":"CONCATENATE($F$2,Sheet4!B86)","v":{"$error":"#N/A"}},{"$f":"CONCATENATE(競技者一覧!C97,\"(\",競技者一覧!F97,\")\")","v":"()"},{"$f":"CONCATENATE(競技者一覧!D97)","v":""},{"$f":"競技者一覧!E97","v":0},{"$f":"VLOOKUP(競技者一覧!$C$6,Sheet4!$D$2:$E$48,2,FALSE)","v":{"$error":"#N/A"}},{"$f":"VLOOKUP(競技者一覧!$C$7,学校番号表!$B$2:$C$1004,2,FALSE)","v":{"$error":"#N/A"}},{"$f":"CONCATENATE(競技者一覧!B97)","v":""},{"$f":"IFERROR(CONCATENATE(VLOOKUP(競技者一覧!G97,種目コード一覧!$A$1:$C$213,2,FALSE),\" \",REPT(\"0\",VLOOKUP(競技者一覧!G97,種目コード一覧!$A$1:$C$213,3,FALSE)-LEN(競技者一覧!H97)),競技者一覧!H97),\"\")","v":""},{"$f":"IFERROR(CONCATENATE(VLOOKUP(競技者一覧!I97,種目コード一覧!$A$1:$C$213,2,FALSE),\" \",REPT(\"0\",VLOOKUP(競技者一覧!I97,種目コード一覧!$A$1:$C$213,3,FALSE)-LEN(競技者一覧!J97)),競技者一覧!J97),\"\")","v":""},{"$f":"IFERROR(CONCATENATE(VLOOKUP(競技者一覧!K97,種目コード一覧!$A$1:$C$213,2,FALSE),\" \",REPT(\"0\",VLOOKUP(競技者一覧!K97,種目コード一覧!$A$1:$C$213,3,FALSE)-LEN(競技者一覧!L97)),競技者一覧!L97),\"\")","v":""},{"$f":"IFERROR(CONCATENATE(VLOOKUP(競技者一覧!M97,種目コード一覧!$A$1:$C$213,2,FALSE),\" \",REPT(\"0\",VLOOKUP(競技者一覧!M97,種目コード一覧!$A$1:$C$213,3,FALSE)-LEN(競技者一覧!N97)),競技者一覧!N97),\"\")","v":""},{"$f":"IFERROR(CONCATENATE(VLOOKUP(競技者一覧!O97,種目コード一覧!$A$1:$C$213,2,FALSE),\" \",REPT(\"0\",VLOOKUP(競技者一覧!O97,種目コード一覧!$A$1:$C$213,3,FALSE)-LEN(競技者一覧!P97)),競技者一覧!P97),\"\")","v":""},{"$f":"IFERROR(CONCATENATE(VLOOKUP(競技者一覧!Q97,種目コード一覧!$A$1:$C$213,2,FALSE),\" \",REPT(\"0\",VLOOKUP(競技者一覧!Q97,種目コード一覧!$A$1:$C$213,3,FALSE)-LEN(競技者一覧!R97)),競技者一覧!R97),\"\")","v":""},{"$f":"IFERROR(CONCATENATE(VLOOKUP(競技者一覧!S97,種目コード一覧!$A$1:$C$213,2,FALSE),\" \",REPT(\"0\",VLOOKUP(競技者一覧!S97,種目コード一覧!$A$1:$C$213,3,FALSE)-LEN(競技者一覧!T97)),競技者一覧!T97),\"\")","v":""},{"$f":"IFERROR(CONCATENATE(VLOOKUP(競技者一覧!U97,種目コード一覧!$A$1:$C$213,2,FALSE),\" \",REPT(\"0\",VLOOKUP(競技者一覧!U97,種目コード一覧!$A$1:$C$213,3,FALSE)-LEN(競技者一覧!V97)),競技者一覧!V97),\"\")","v":""}]
[{"$f":"CONCATENATE($F$2,Sheet4!B87)","v":{"$error":"#N/A"}},{"$f":"CONCATENATE(競技者一覧!C98,\"(\",競技者一覧!F98,\")\")","v":"()"},{"$f":"CONCATENATE(競技者一覧!D98)","v":""},{"$f":"競技者一覧!E98","v":0},{"$f":"VLOOKUP(競技者一覧!$C$6,Sheet4!$D$2:$E$48,2,FALSE)","v":{"$error":"#N/A"}},{"$f":"VLOOKUP(競技者一覧!$C$7,学校番号表!$B$2:$C$1004,2,FALSE)","v":{"$error":"#N/A"}},{"$f":"CONCATENATE(競技者一覧!B98)","v":""},{"$f":"IFERROR(CONCATENATE(VLOOKUP(競技者一覧!G98,種目コード一覧!$A$1:$C$213,2,FALSE),\" \",REPT(\"0\",VLOOKUP(競技者一覧!G98,種目コード一覧!$A$1:$C$213,3,FALSE)-LEN(競技者一覧!H98)),競技者一覧!H98),\"\")","v":""},{"$f":"IFERROR(CONCATENATE(VLOOKUP(競技者一覧!I98,種目コード一覧!$A$1:$C$213,2,FALSE),\" \",REPT(\"0\",VLOOKUP(競技者一覧!I98,種目コード一覧!$A$1:$C$213,3,FALSE)-LEN(競技者一覧!J98)),競技者一覧!J98),\"\")","v":""},{"$f":"IFERROR(CONCATENATE(VLOOKUP(競技者一覧!K98,種目コード一覧!$A$1:$C$213,2,FALSE),\" \",REPT(\"0\",VLOOKUP(競技者一覧!K98,種目コード一覧!$A$1:$C$213,3,FALSE)-LEN(競技者一覧!L98)),競技者一覧!L98),\"\")","v":""},{"$f":"IFERROR(CONCATENATE(VLOOKUP(競技者一覧!M98,種目コード一覧!$A$1:$C$213,2,FALSE),\" \",REPT(\"0\",VLOOKUP(競技者一覧!M98,種目コード一覧!$A$1:$C$213,3,FALSE)-LEN(競技者一覧!N98)),競技者一覧!N98),\"\")","v":""},{"$f":"IFERROR(CONCATENATE(VLOOKUP(競技者一覧!O98,種目コード一覧!$A$1:$C$213,2,FALSE),\" \",REPT(\"0\",VLOOKUP(競技者一覧!O98,種目コード一覧!$A$1:$C$213,3,FALSE)-LEN(競技者一覧!P98)),競技者一覧!P98),\"\")","v":""},{"$f":"IFERROR(CONCATENATE(VLOOKUP(競技者一覧!Q98,種目コード一覧!$A$1:$C$213,2,FALSE),\" \",REPT(\"0\",VLOOKUP(競技者一覧!Q98,種目コード一覧!$A$1:$C$213,3,FALSE)-LEN(競技者一覧!R98)),競技者一覧!R98),\"\")","v":""},{"$f":"IFERROR(CONCATENATE(VLOOKUP(競技者一覧!S98,種目コード一覧!$A$1:$C$213,2,FALSE),\" \",REPT(\"0\",VLOOKUP(競技者一覧!S98,種目コード一覧!$A$1:$C$213,3,FALSE)-LEN(競技者一覧!T98)),競技者一覧!T98),\"\")","v":""},{"$f":"IFERROR(CONCATENATE(VLOOKUP(競技者一覧!U98,種目コード一覧!$A$1:$C$213,2,FALSE),\" \",REPT(\"0\",VLOOKUP(競技者一覧!U98,種目コード一覧!$A$1:$C$213,3,FALSE)-LEN(競技者一覧!V98)),競技者一覧!V98),\"\")","v":""}]
[{"$f":"CONCATENATE($F$2,Sheet4!B88)","v":{"$error":"#N/A"}},{"$f":"CONCATENATE(競技者一覧!C99,\"(\",競技者一覧!F99,\")\")","v":"()"},{"$f":"CONCATENATE(競技者一覧!D99)","v":""},{"$f":"競技者一覧!E99","v":0},{"$f":"VLOOKUP(競技者一覧!$C$6,Sheet4!$D$2:$E$48,2,FALSE)","v":{"$error":"#N/A"}},{"$f":"VLOOKUP(競技者一覧!$C$7,学校番号表!$B$2:$C$1004,2,FALSE)","v":{"$error":"#N/A"}},{"$f":"CONCATENATE(競技者一覧!B99)","v":""},{"$f":"IFERROR(CONCATENATE(VLOOKUP(競技者一覧!G99,種目コード一覧!$A$1:$C$213,2,FALSE),\" \",REPT(\"0\",VLOOKUP(競技者一覧!G99,種目コード一覧!$A$1:$C$213,3,FALSE)-LEN(競技者一覧!H99)),競技者一覧!H99),\"\")","v":""},{"$f":"IFERROR(CONCATENATE(VLOOKUP(競技者一覧!I99,種目コード一覧!$A$1:$C$213,2,FALSE),\" \",REPT(\"0\",VLOOKUP(競技者一覧!I99,種目コード一覧!$A$1:$C$213,3,FALSE)-LEN(競技者一覧!J99)),競技者一覧!J99),\"\")","v":""},{"$f":"IFERROR(CONCATENATE(VLOOKUP(競技者一覧!K99,種目コード一覧!$A$1:$C$213,2,FALSE),\" \",REPT(\"0\",VLOOKUP(競技者一覧!K99,種目コード一覧!$A$1:$C$213,3,FALSE)-LEN(競技者一覧!L99)),競技者一覧!L99),\"\")","v":""},{"$f":"IFERROR(CONCATENATE(VLOOKUP(競技者一覧!M99,種目コード一覧!$A$1:$C$213,2,FALSE),\" \",REPT(\"0\",VLOOKUP(競技者一覧!M99,種目コード一覧!$A$1:$C$213,3,FALSE)-LEN(競技者一覧!N99)),競技者一覧!N99),\"\")","v":""},{"$f":"IFERROR(CONCATENATE(VLOOKUP(競技者一覧!O99,種目コード一覧!$A$1:$C$213,2,FALSE),\" \",REPT(\"0\",VLOOKUP(競技者一覧!O99,種目コード一覧!$A$1:$C$213,3,FALSE)-LEN(競技者一覧!P99)),競技者一覧!P99),\"\")","v":""},{"$f":"IFERROR(CONCATENATE(VLOOKUP(競技者一覧!Q99,種目コード一覧!$A$1:$C$213,2,FALSE),\" \",REPT(\"0\",VLOOKUP(競技者一覧!Q99,種目コード一覧!$A$1:$C$213,3,FALSE)-LEN(競技者一覧!R99)),競技者一覧!R99),\"\")","v":""},{"$f":"IFERROR(CONCATENATE(VLOOKUP(競技者一覧!S99,種目コード一覧!$A$1:$C$213,2,FALSE),\" \",REPT(\"0\",VLOOKUP(競技者一覧!S99,種目コード一覧!$A$1:$C$213,3,FALSE)-LEN(競技者一覧!T99)),競技者一覧!T99),\"\")","v":""},{"$f":"IFERROR(CONCATENATE(VLOOKUP(競技者一覧!U99,種目コード一覧!$A$1:$C$213,2,FALSE),\" \",REPT(\"0\",VLOOKUP(競技者一覧!U99,種目コード一覧!$A$1:$C$213,3,FALSE)-LEN(競技者一覧!V99)),競技者一覧!V99),\"\")","v":""}]
[{"$f":"CONCATENATE($F$2,Sheet4!B89)","v":{"$error":"#N/A"}},{"$f":"CONCATENATE(競技者一覧!C100,\"(\",競技者一覧!F100,\")\")","v":"()"},{"$f":"CONCATENATE(競技者一覧!D100)","v":""},{"$f":"競技者一覧!E100","v":0},{"$f":"VLOOKUP(競技者一覧!$C$6,Sheet4!$D$2:$E$48,2,FALSE)","v":{"$error":"#N/A"}},{"$f":"VLOOKUP(競技者一覧!$C$7,学校番号表!$B$2:$C$1004,2,FALSE)","v":{"$error":"#N/A"}},{"$f":"CONCATENATE(競技者一覧!B100)","v":""},{"$f":"IFERROR(CONCATENATE(VLOOKUP(競技者一覧!G100,種目コード一覧!$A$1:$C$213,2,FALSE),\" \",REPT(\"0\",VLOOKUP(競技者一覧!G100,種目コード一覧!$A$1:$C$213,3,FALSE)-LEN(競技者一覧!H100)),競技者一覧!H100),\"\")","v":""},{"$f":"IFERROR(CONCATENATE(VLOOKUP(競技者一覧!I100,種目コード一覧!$A$1:$C$213,2,FALSE),\" \",REPT(\"0\",VLOOKUP(競技者一覧!I100,種目コード一覧!$A$1:$C$213,3,FALSE)-LEN(競技者一覧!J100)),競技者一覧!J100),\"\")","v":""},{"$f":"IFERROR(CONCATENATE(VLOOKUP(競技者一覧!K100,種目コード一覧!$A$1:$C$213,2,FALSE),\" \",REPT(\"0\",VLOOKUP(競技者一覧!K100,種目コード一覧!$A$1:$C$213,3,FALSE)-LEN(競技者一覧!L100)),競技者一覧!L100),\"\")","v":""},{"$f":"IFERROR(CONCATENATE(VLOOKUP(競技者一覧!M100,種目コード一覧!$A$1:$C$213,2,FALSE),\" \",REPT(\"0\",VLOOKUP(競技者一覧!M100,種目コード一覧!$A$1:$C$213,3,FALSE)-LEN(競技者一覧!N100)),競技者一覧!N100),\"\")","v":""},{"$f":"IFERROR(CONCATENATE(VLOOKUP(競技者一覧!O100,種目コード一覧!$A$1:$C$213,2,FALSE),\" \",REPT(\"0\",VLOOKUP(競技者一覧!O100,種目コード一覧!$A$1:$C$213,3,FALSE)-LEN(競技者一覧!P100)),競技者一覧!P100),\"\")","v":""},{"$f":"IFERROR(CONCATENATE(VLOOKUP(競技者一覧!Q100,種目コード一覧!$A$1:$C$213,2,FALSE),\" \",REPT(\"0\",VLOOKUP(競技者一覧!Q100,種目コード一覧!$A$1:$C$213,3,FALSE)-LEN(競技者一覧!R100)),競技者一覧!R100),\"\")","v":""},{"$f":"IFERROR(CONCATENATE(VLOOKUP(競技者一覧!S100,種目コード一覧!$A$1:$C$213,2,FALSE),\" \",REPT(\"0\",VLOOKUP(競技者一覧!S100,種目コード一覧!$A$1:$C$213,3,FALSE)-LEN(競技者一覧!T100)),競技者一覧!T100),\"\")","v":""},{"$f":"IFERROR(CONCATENATE(VLOOKUP(競技者一覧!U100,種目コード一覧!$A$1:$C$213,2,FALSE),\" \",REPT(\"0\",VLOOKUP(競技者一覧!U100,種目コード一覧!$A$1:$C$213,3,FALSE)-LEN(競技者一覧!V100)),競技者一覧!V100),\"\")","v":""}]
[{"$f":"CONCATENATE($F$2,Sheet4!B90)","v":{"$error":"#N/A"}},{"$f":"CONCATENATE(競技者一覧!C101,\"(\",競技者一覧!F101,\")\")","v":"()"},{"$f":"CONCATENATE(競技者一覧!D101)","v":""},{"$f":"競技者一覧!E101","v":0},{"$f":"VLOOKUP(競技者一覧!$C$6,Sheet4!$D$2:$E$48,2,FALSE)","v":{"$error":"#N/A"}},{"$f":"VLOOKUP(競技者一覧!$C$7,学校番号表!$B$2:$C$1004,2,FALSE)","v":{"$error":"#N/A"}},{"$f":"CONCATENATE(競技者一覧!B101)","v":""},{"$f":"IFERROR(CONCATENATE(VLOOKUP(競技者一覧!G101,種目コード一覧!$A$1:$C$213,2,FALSE),\" \",REPT(\"0\",VLOOKUP(競技者一覧!G101,種目コード一覧!$A$1:$C$213,3,FALSE)-LEN(競技者一覧!H101)),競技者一覧!H101),\"\")","v":""},{"$f":"IFERROR(CONCATENATE(VLOOKUP(競技者一覧!I101,種目コード一覧!$A$1:$C$213,2,FALSE),\" \",REPT(\"0\",VLOOKUP(競技者一覧!I101,種目コード一覧!$A$1:$C$213,3,FALSE)-LEN(競技者一覧!J101)),競技者一覧!J101),\"\")","v":""},{"$f":"IFERROR(CONCATENATE(VLOOKUP(競技者一覧!K101,種目コード一覧!$A$1:$C$213,2,FALSE),\" \",REPT(\"0\",VLOOKUP(競技者一覧!K101,種目コード一覧!$A$1:$C$213,3,FALSE)-LEN(競技者一覧!L101)),競技者一覧!L101),\"\")","v":""},{"$f":"IFERROR(CONCATENATE(VLOOKUP(競技者一覧!M101,種目コード一覧!$A$1:$C$213,2,FALSE),\" \",REPT(\"0\",VLOOKUP(競技者一覧!M101,種目コード一覧!$A$1:$C$213,3,FALSE)-LEN(競技者一覧!N101)),競技者一覧!N101),\"\")","v":""},{"$f":"IFERROR(CONCATENATE(VLOOKUP(競技者一覧!O101,種目コード一覧!$A$1:$C$213,2,FALSE),\" \",REPT(\"0\",VLOOKUP(競技者一覧!O101,種目コード一覧!$A$1:$C$213,3,FALSE)-LEN(競技者一覧!P101)),競技者一覧!P101),\"\")","v":""},{"$f":"IFERROR(CONCATENATE(VLOOKUP(競技者一覧!Q101,種目コード一覧!$A$1:$C$213,2,FALSE),\" \",REPT(\"0\",VLOOKUP(競技者一覧!Q101,種目コード一覧!$A$1:$C$213,3,FALSE)-LEN(競技者一覧!R101)),競技者一覧!R101),\"\")","v":""},{"$f":"IFERROR(CONCATENATE(VLOOKUP(競技者一覧!S101,種目コード一覧!$A$1:$C$213,2,FALSE),\" \",REPT(\"0\",VLOOKUP(競技者一覧!S101,種目コード一覧!$A$1:$C$213,3,FALSE)-LEN(競技者一覧!T101)),競技者一覧!T101),\"\")","v":""},{"$f":"IFERROR(CONCATENATE(VLOOKUP(競技者一覧!U101,種目コード一覧!$A$1:$C$213,2,FALSE),\" \",REPT(\"0\",VLOOKUP(競技者一覧!U101,種目コード一覧!$A$1:$C$213,3,FALSE)-LEN(競技者一覧!V101)),競技者一覧!V101),\"\")","v":""}]
[{"$f":"CONCATENATE($F$2,Sheet4!B91)","v":{"$error":"#N/A"}},{"$f":"CONCATENATE(競技者一覧!C102,\"(\",競技者一覧!F102,\")\")","v":"()"},{"$f":"CONCATENATE(競技者一覧!D102)","v":""},{"$f":"競技者一覧!E102","v":0},{"$f":"VLOOKUP(競技者一覧!$C$6,Sheet4!$D$2:$E$48,2,FALSE)","v":{"$error":"#N/A"}},{"$f":"VLOOKUP(競技者一覧!$C$7,学校番号表!$B$2:$C$1004,2,FALSE)","v":{"$error":"#N/A"}},{"$f":"CONCATENATE(競技者一覧!B102)","v":""},{"$f":"IFERROR(CONCATENATE(VLOOKUP(競技者一覧!G102,種目コード一覧!$A$1:$C$213,2,FALSE),\" \",REPT(\"0\",VLOOKUP(競技者一覧!G102,種目コード一覧!$A$1:$C$213,3,FALSE)-LEN(競技者一覧!H102)),競技者一覧!H102),\"\")","v":""},{"$f":"IFERROR(CONCATENATE(VLOOKUP(競技者一覧!I102,種目コード一覧!$A$1:$C$213,2,FALSE),\" \",REPT(\"0\",VLOOKUP(競技者一覧!I102,種目コード一覧!$A$1:$C$213,3,FALSE)-LEN(競技者一覧!J102)),競技者一覧!J102),\"\")","v":""},{"$f":"IFERROR(CONCATENATE(VLOOKUP(競技者一覧!K102,種目コード一覧!$A$1:$C$213,2,FALSE),\" \",REPT(\"0\",VLOOKUP(競技者一覧!K102,種目コード一覧!$A$1:$C$213,3,FALSE)-LEN(競技者一覧!L102)),競技者一覧!L102),\"\")","v":""},{"$f":"IFERROR(CONCATENATE(VLOOKUP(競技者一覧!M102,種目コード一覧!$A$1:$C$213,2,FALSE),\" \",REPT(\"0\",VLOOKUP(競技者一覧!M102,種目コード一覧!$A$1:$C$213,3,FALSE)-LEN(競技者一覧!N102)),競技者一覧!N102),\"\")","v":""},{"$f":"IFERROR(CONCATENATE(VLOOKUP(競技者一覧!O102,種目コード一覧!$A$1:$C$213,2,FALSE),\" \",REPT(\"0\",VLOOKUP(競技者一覧!O102,種目コード一覧!$A$1:$C$213,3,FALSE)-LEN(競技者一覧!P102)),競技者一覧!P102),\"\")","v":""},{"$f":"IFERROR(CONCATENATE(VLOOKUP(競技者一覧!Q102,種目コード一覧!$A$1:$C$213,2,FALSE),\" \",REPT(\"0\",VLOOKUP(競技者一覧!Q102,種目コード一覧!$A$1:$C$213,3,FALSE)-LEN(競技者一覧!R102)),競技者一覧!R102),\"\")","v":""},{"$f":"IFERROR(CONCATENATE(VLOOKUP(競技者一覧!S102,種目コード一覧!$A$1:$C$213,2,FALSE),\" \",REPT(\"0\",VLOOKUP(競技者一覧!S102,種目コード一覧!$A$1:$C$213,3,FALSE)-LEN(競技者一覧!T102)),競技者一覧!T102),\"\")","v":""},{"$f":"IFERROR(CONCATENATE(VLOOKUP(競技者一覧!U102,種目コード一覧!$A$1:$C$213,2,FALSE),\" \",REPT(\"0\",VLOOKUP(競技者一覧!U102,種目コード一覧!$A$1:$C$213,3,FALSE)-LEN(競技者一覧!V102)),競技者一覧!V102),\"\")","v":""}]
[{"$f":"CONCATENATE($F$2,Sheet4!B92)","v":{"$error":"#N/A"}},{"$f":"CONCATENATE(競技者一覧!C103,\"(\",競技者一覧!F103,\")\")","v":"()"},{"$f":"CONCATENATE(競技者一覧!D103)","v":""},{"$f":"競技者一覧!E103","v":0},{"$f":"VLOOKUP(競技者一覧!$C$6,Sheet4!$D$2:$E$48,2,FALSE)","v":{"$error":"#N/A"}},{"$f":"VLOOKUP(競技者一覧!$C$7,学校番号表!$B$2:$C$1004,2,FALSE)","v":{"$error":"#N/A"}},{"$f":"CONCATENATE(競技者一覧!B103)","v":""},{"$f":"IFERROR(CONCATENATE(VLOOKUP(競技者一覧!G103,種目コード一覧!$A$1:$C$213,2,FALSE),\" \",REPT(\"0\",VLOOKUP(競技者一覧!G103,種目コード一覧!$A$1:$C$213,3,FALSE)-LEN(競技者一覧!H103)),競技者一覧!H103),\"\")","v":""},{"$f":"IFERROR(CONCATENATE(VLOOKUP(競技者一覧!I103,種目コード一覧!$A$1:$C$213,2,FALSE),\" \",REPT(\"0\",VLOOKUP(競技者一覧!I103,種目コード一覧!$A$1:$C$213,3,FALSE)-LEN(競技者一覧!J103)),競技者一覧!J103),\"\")","v":""},{"$f":"IFERROR(CONCATENATE(VLOOKUP(競技者一覧!K103,種目コード一覧!$A$1:$C$213,2,FALSE),\" \",REPT(\"0\",VLOOKUP(競技者一覧!K103,種目コード一覧!$A$1:$C$213,3,FALSE)-LEN(競技者一覧!L103)),競技者一覧!L103),\"\")","v":""},{"$f":"IFERROR(CONCATENATE(VLOOKUP(競技者一覧!M103,種目コード一覧!$A$1:$C$213,2,FALSE),\" \",REPT(\"0\",VLOOKUP(競技者一覧!M103,種目コード一覧!$A$1:$C$213,3,FALSE)-LEN(競技者一覧!N103)),競技者一覧!N103),\"\")","v":""},{"$f":"IFERROR(CONCATENATE(VLOOKUP(競技者一覧!O103,種目コード一覧!$A$1:$C$213,2,FALSE),\" \",REPT(\"0\",VLOOKUP(競技者一覧!O103,種目コード一覧!$A$1:$C$213,3,FALSE)-LEN(競技者一覧!P103)),競技者一覧!P103),\"\")","v":""},{"$f":"IFERROR(CONCATENATE(VLOOKUP(競技者一覧!Q103,種目コード一覧!$A$1:$C$213,2,FALSE),\" \",REPT(\"0\",VLOOKUP(競技者一覧!Q103,種目コード一覧!$A$1:$C$213,3,FALSE)-LEN(競技者一覧!R103)),競技者一覧!R103),\"\")","v":""},{"$f":"IFERROR(CONCATENATE(VLOOKUP(競技者一覧!S103,種目コード一覧!$A$1:$C$213,2,FALSE),\" \",REPT(\"0\",VLOOKUP(競技者一覧!S103,種目コード一覧!$A$1:$C$213,3,FALSE)-LEN(競技者一覧!T103)),競技者一覧!T103),\"\")","v":""},{"$f":"IFERROR(CONCATENATE(VLOOKUP(競技者一覧!U103,種目コード一覧!$A$1:$C$213,2,FALSE),\" \",REPT(\"0\",VLOOKUP(競技者一覧!U103,種目コード一覧!$A$1:$C$213,3,FALSE)-LEN(競技者一覧!V103)),競技者一覧!V103),\"\")","v":""}]
[{"$f":"CONCATENATE($F$2,Sheet4!B93)","v":{"$error":"#N/A"}},{"$f":"CONCATENATE(競技者一覧!C104,\"(\",競技者一覧!F104,\")\")","v":"()"},{"$f":"CONCATENATE(競技者一覧!D104)","v":""},{"$f":"競技者一覧!E104","v":0},{"$f":"VLOOKUP(競技者一覧!$C$6,Sheet4!$D$2:$E$48,2,FALSE)","v":{"$error":"#N/A"}},{"$f":"VLOOKUP(競技者一覧!$C$7,学校番号表!$B$2:$C$1004,2,FALSE)","v":{"$error":"#N/A"}},{"$f":"CONCATENATE(競技者一覧!B104)","v":""},{"$f":"IFERROR(CONCATENATE(VLOOKUP(競技者一覧!G104,種目コード一覧!$A$1:$C$213,2,FALSE),\" \",REPT(\"0\",VLOOKUP(競技者一覧!G104,種目コード一覧!$A$1:$C$213,3,FALSE)-LEN(競技者一覧!H104)),競技者一覧!H104),\"\")","v":""},{"$f":"IFERROR(CONCATENATE(VLOOKUP(競技者一覧!I104,種目コード一覧!$A$1:$C$213,2,FALSE),\" \",REPT(\"0\",VLOOKUP(競技者一覧!I104,種目コード一覧!$A$1:$C$213,3,FALSE)-LEN(競技者一覧!J104)),競技者一覧!J104),\"\")","v":""},{"$f":"IFERROR(CONCATENATE(VLOOKUP(競技者一覧!K104,種目コード一覧!$A$1:$C$213,2,FALSE),\" \",REPT(\"0\",VLOOKUP(競技者一覧!K104,種目コード一覧!$A$1:$C$213,3,FALSE)-LEN(競技者一覧!L104)),競技者一覧!L104),\"\")","v":""},{"$f":"IFERROR(CONCATENATE(VLOOKUP(競技者一覧!M104,種目コード一覧!$A$1:$C$213,2,FALSE),\" \",REPT(\"0\",VLOOKUP(競技者一覧!M104,種目コード一覧!$A$1:$C$213,3,FALSE)-LEN(競技者一覧!N104)),競技者一覧!N104),\"\")","v":""},{"$f":"IFERROR(CONCATENATE(VLOOKUP(競技者一覧!O104,種目コード一覧!$A$1:$C$213,2,FALSE),\" \",REPT(\"0\",VLOOKUP(競技者一覧!O104,種目コード一覧!$A$1:$C$213,3,FALSE)-LEN(競技者一覧!P104)),競技者一覧!P104),\"\")","v":""},{"$f":"IFERROR(CONCATENATE(VLOOKUP(競技者一覧!Q104,種目コード一覧!$A$1:$C$213,2,FALSE),\" \",REPT(\"0\",VLOOKUP(競技者一覧!Q104,種目コード一覧!$A$1:$C$213,3,FALSE)-LEN(競技者一覧!R104)),競技者一覧!R104),\"\")","v":""},{"$f":"IFERROR(CONCATENATE(VLOOKUP(競技者一覧!S104,種目コード一覧!$A$1:$C$213,2,FALSE),\" \",REPT(\"0\",VLOOKUP(競技者一覧!S104,種目コード一覧!$A$1:$C$213,3,FALSE)-LEN(競技者一覧!T104)),競技者一覧!T104),\"\")","v":""},{"$f":"IFERROR(CONCATENATE(VLOOKUP(競技者一覧!U104,種目コード一覧!$A$1:$C$213,2,FALSE),\" \",REPT(\"0\",VLOOKUP(競技者一覧!U104,種目コード一覧!$A$1:$C$213,3,FALSE)-LEN(競技者一覧!V104)),競技者一覧!V104),\"\")","v":""}]
[{"$f":"CONCATENATE($F$2,Sheet4!B94)","v":{"$error":"#N/A"}},{"$f":"CONCATENATE(競技者一覧!C105,\"(\",競技者一覧!F105,\")\")","v":"()"},{"$f":"CONCATENATE(競技者一覧!D105)","v":""},{"$f":"競技者一覧!E105","v":0},{"$f":"VLOOKUP(競技者一覧!$C$6,Sheet4!$D$2:$E$48,2,FALSE)","v":{"$error":"#N/A"}},{"$f":"VLOOKUP(競技者一覧!$C$7,学校番号表!$B$2:$C$1004,2,FALSE)","v":{"$error":"#N/A"}},{"$f":"CONCATENATE(競技者一覧!B105)","v":""},{"$f":"IFERROR(CONCATENATE(VLOOKUP(競技者一覧!G105,種目コード一覧!$A$1:$C$213,2,FALSE),\" \",REPT(\"0\",VLOOKUP(競技者一覧!G105,種目コード一覧!$A$1:$C$213,3,FALSE)-LEN(競技者一覧!H105)),競技者一覧!H105),\"\")","v":""},{"$f":"IFERROR(CONCATENATE(VLOOKUP(競技者一覧!I105,種目コード一覧!$A$1:$C$213,2,FALSE),\" \",REPT(\"0\",VLOOKUP(競技者一覧!I105,種目コード一覧!$A$1:$C$213,3,FALSE)-LEN(競技者一覧!J105)),競技者一覧!J105),\"\")","v":""},{"$f":"IFERROR(CONCATENATE(VLOOKUP(競技者一覧!K105,種目コード一覧!$A$1:$C$213,2,FALSE),\" \",REPT(\"0\",VLOOKUP(競技者一覧!K105,種目コード一覧!$A$1:$C$213,3,FALSE)-LEN(競技者一覧!L105)),競技者一覧!L105),\"\")","v":""},{"$f":"IFERROR(CONCATENATE(VLOOKUP(競技者一覧!M105,種目コード一覧!$A$1:$C$213,2,FALSE),\" \",REPT(\"0\",VLOOKUP(競技者一覧!M105,種目コード一覧!$A$1:$C$213,3,FALSE)-LEN(競技者一覧!N105)),競技者一覧!N105),\"\")","v":""},{"$f":"IFERROR(CONCATENATE(VLOOKUP(競技者一覧!O105,種目コード一覧!$A$1:$C$213,2,FALSE),\" \",REPT(\"0\",VLOOKUP(競技者一覧!O105,種目コード一覧!$A$1:$C$213,3,FALSE)-LEN(競技者一覧!P105)),競技者一覧!P105),\"\")","v":""},{"$f":"IFERROR(CONCATENATE(VLOOKUP(競技者一覧!Q105,種目コード一覧!$A$1:$C$213,2,FALSE),\" \",REPT(\"0\",VLOOKUP(競技者一覧!Q105,種目コード一覧!$A$1:$C$213,3,FALSE)-LEN(競技者一覧!R105)),競技者一覧!R105),\"\")","v":""},{"$f":"IFERROR(CONCATENATE(VLOOKUP(競技者一覧!S105,種目コード一覧!$A$1:$C$213,2,FALSE),\" \",REPT(\"0\",VLOOKUP(競技者一覧!S105,種目コード一覧!$A$1:$C$213,3,FALSE)-LEN(競技者一覧!T105)),競技者一覧!T105),\"\")","v":""},{"$f":"IFERROR(CONCATENATE(VLOOKUP(競技者一覧!U105,種目コード一覧!$A$1:$C$213,2,FALSE),\" \",REPT(\"0\",VLOOKUP(競技者一覧!U105,種目コード一覧!$A$1:$C$213,3,FALSE)-LEN(競技者一覧!V105)),競技者一覧!V105),\"\")","v":""}]
[{"$f":"CONCATENATE($F$2,Sheet4!B95)","v":{"$error":"#N/A"}},{"$f":"CONCATENATE(競技者一覧!C106,\"(\",競技者一覧!F106,\")\")","v":"()"},{"$f":"CONCATENATE(競技者一覧!D106)","v":""},{"$f":"競技者一覧!E106","v":0},{"$f":"VLOOKUP(競技者一覧!$C$6,Sheet4!$D$2:$E$48,2,FALSE)","v":{"$error":"#N/A"}},{"$f":"VLOOKUP(競技者一覧!$C$7,学校番号表!$B$2:$C$1004,2,FALSE)","v":{"$error":"#N/A"}},{"$f":"CONCATENATE(競技者一覧!B106)","v":""},{"$f":"IFERROR(CONCATENATE(VLOOKUP(競技者一覧!G106,種目コード一覧!$A$1:$C$213,2,FALSE),\" \",REPT(\"0\",VLOOKUP(競技者一覧!G106,種目コード一覧!$A$1:$C$213,3,FALSE)-LEN(競技者一覧!H106)),競技者一覧!H106),\"\")","v":""},{"$f":"IFERROR(CONCATENATE(VLOOKUP(競技者一覧!I106,種目コード一覧!$A$1:$C$213,2,FALSE),\" \",REPT(\"0\",VLOOKUP(競技者一覧!I106,種目コード一覧!$A$1:$C$213,3,FALSE)-LEN(競技者一覧!J106)),競技者一覧!J106),\"\")","v":""},{"$f":"IFERROR(CONCATENATE(VLOOKUP(競技者一覧!K106,種目コード一覧!$A$1:$C$213,2,FALSE),\" \",REPT(\"0\",VLOOKUP(競技者一覧!K106,種目コード一覧!$A$1:$C$213,3,FALSE)-LEN(競技者一覧!L106)),競技者一覧!L106),\"\")","v":""},{"$f":"IFERROR(CONCATENATE(VLOOKUP(競技者一覧!M106,種目コード一覧!$A$1:$C$213,2,FALSE),\" \",REPT(\"0\",VLOOKUP(競技者一覧!M106,種目コード一覧!$A$1:$C$213,3,FALSE)-LEN(競技者一覧!N106)),競技者一覧!N106),\"\")","v":""},{"$f":"IFERROR(CONCATENATE(VLOOKUP(競技者一覧!O106,種目コード一覧!$A$1:$C$213,2,FALSE),\" \",REPT(\"0\",VLOOKUP(競技者一覧!O106,種目コード一覧!$A$1:$C$213,3,FALSE)-LEN(競技者一覧!P106)),競技者一覧!P106),\"\")","v":""},{"$f":"IFERROR(CONCATENATE(VLOOKUP(競技者一覧!Q106,種目コード一覧!$A$1:$C$213,2,FALSE),\" \",REPT(\"0\",VLOOKUP(競技者一覧!Q106,種目コード一覧!$A$1:$C$213,3,FALSE)-LEN(競技者一覧!R106)),競技者一覧!R106),\"\")","v":""},{"$f":"IFERROR(CONCATENATE(VLOOKUP(競技者一覧!S106,種目コード一覧!$A$1:$C$213,2,FALSE),\" \",REPT(\"0\",VLOOKUP(競技者一覧!S106,種目コード一覧!$A$1:$C$213,3,FALSE)-LEN(競技者一覧!T106)),競技者一覧!T106),\"\")","v":""},{"$f":"IFERROR(CONCATENATE(VLOOKUP(競技者一覧!U106,種目コード一覧!$A$1:$C$213,2,FALSE),\" \",REPT(\"0\",VLOOKUP(競技者一覧!U106,種目コード一覧!$A$1:$C$213,3,FALSE)-LEN(競技者一覧!V106)),競技者一覧!V106),\"\")","v":""}]
[{"$f":"CONCATENATE($F$2,Sheet4!B96)","v":{"$error":"#N/A"}},{"$f":"CONCATENATE(競技者一覧!C107,\"(\",競技者一覧!F107,\")\")","v":"()"},{"$f":"CONCATENATE(競技者一覧!D107)","v":""},{"$f":"競技者一覧!E107","v":0},{"$f":"VLOOKUP(競技者一覧!$C$6,Sheet4!$D$2:$E$48,2,FALSE)","v":{"$error":"#N/A"}},{"$f":"VLOOKUP(競技者一覧!$C$7,学校番号表!$B$2:$C$1004,2,FALSE)","v":{"$error":"#N/A"}},{"$f":"CONCATENATE(競技者一覧!B107)","v":""},{"$f":"IFERROR(CONCATENATE(VLOOKUP(競技者一覧!G107,種目コード一覧!$A$1:$C$213,2,FALSE),\" \",REPT(\"0\",VLOOKUP(競技者一覧!G107,種目コード一覧!$A$1:$C$213,3,FALSE)-LEN(競技者一覧!H107)),競技者一覧!H107),\"\")","v":""},{"$f":"IFERROR(CONCATENATE(VLOOKUP(競技者一覧!I107,種目コード一覧!$A$1:$C$213,2,FALSE),\" \",REPT(\"0\",VLOOKUP(競技者一覧!I107,種目コード一覧!$A$1:$C$213,3,FALSE)-LEN(競技者一覧!J107)),競技者一覧!J107),\"\")","v":""},{"$f":"IFERROR(CONCATENATE(VLOOKUP(競技者一覧!K107,種目コード一覧!$A$1:$C$213,2,FALSE),\" \",REPT(\"0\",VLOOKUP(競技者一覧!K107,種目コード一覧!$A$1:$C$213,3,FALSE)-LEN(競技者一覧!L107)),競技者一覧!L107),\"\")","v":""},{"$f":"IFERROR(CONCATENATE(VLOOKUP(競技者一覧!M107,種目コード一覧!$A$1:$C$213,2,FALSE),\" \",REPT(\"0\",VLOOKUP(競技者一覧!M107,種目コード一覧!$A$1:$C$213,3,FALSE)-LEN(競技者一覧!N107)),競技者一覧!N107),\"\")","v":""},{"$f":"IFERROR(CONCATENATE(VLOOKUP(競技者一覧!O107,種目コード一覧!$A$1:$C$213,2,FALSE),\" \",REPT(\"0\",VLOOKUP(競技者一覧!O107,種目コード一覧!$A$1:$C$213,3,FALSE)-LEN(競技者一覧!P107)),競技者一覧!P107),\"\")","v":""},{"$f":"IFERROR(CONCATENATE(VLOOKUP(競技者一覧!Q107,種目コード一覧!$A$1:$C$213,2,FALSE),\" \",REPT(\"0\",VLOOKUP(競技者一覧!Q107,種目コード一覧!$A$1:$C$213,3,FALSE)-LEN(競技者一覧!R107)),競技者一覧!R107),\"\")","v":""},{"$f":"IFERROR(CONCATENATE(VLOOKUP(競技者一覧!S107,種目コード一覧!$A$1:$C$213,2,FALSE),\" \",REPT(\"0\",VLOOKUP(競技者一覧!S107,種目コード一覧!$A$1:$C$213,3,FALSE)-LEN(競技者一覧!T107)),競技者一覧!T107),\"\")","v":""},{"$f":"IFERROR(CONCATENATE(VLOOKUP(競技者一覧!U107,種目コード一覧!$A$1:$C$213,2,FALSE),\" \",REPT(\"0\",VLOOKUP(競技者一覧!U107,種目コード一覧!$A$1:$C$213,3,FALSE)-LEN(競技者一覧!V107)),競技者一覧!V107),\"\")","v":""}]
[{"$f":"CONCATENATE($F$2,Sheet4!B97)","v":{"$error":"#N/A"}},{"$f":"CONCATENATE(競技者一覧!C108,\"(\",競技者一覧!F108,\")\")","v":"()"},{"$f":"CONCATENATE(競技者一覧!D108)","v":""},{"$f":"競技者一覧!E108","v":0},{"$f":"VLOOKUP(競技者一覧!$C$6,Sheet4!$D$2:$E$48,2,FALSE)","v":{"$error":"#N/A"}},{"$f":"VLOOKUP(競技者一覧!$C$7,学校番号表!$B$2:$C$1004,2,FALSE)","v":{"$error":"#N/A"}},{"$f":"CONCATENATE(競技者一覧!B108)","v":""},{"$f":"IFERROR(CONCATENATE(VLOOKUP(競技者一覧!G108,種目コード一覧!$A$1:$C$213,2,FALSE),\" \",REPT(\"0\",VLOOKUP(競技者一覧!G108,種目コード一覧!$A$1:$C$213,3,FALSE)-LEN(競技者一覧!H108)),競技者一覧!H108),\"\")","v":""},{"$f":"IFERROR(CONCATENATE(VLOOKUP(競技者一覧!I108,種目コード一覧!$A$1:$C$213,2,FALSE),\" \",REPT(\"0\",VLOOKUP(競技者一覧!I108,種目コード一覧!$A$1:$C$213,3,FALSE)-LEN(競技者一覧!J108)),競技者一覧!J108),\"\")","v":""},{"$f":"IFERROR(CONCATENATE(VLOOKUP(競技者一覧!K108,種目コード一覧!$A$1:$C$213,2,FALSE),\" \",REPT(\"0\",VLOOKUP(競技者一覧!K108,種目コード一覧!$A$1:$C$213,3,FALSE)-LEN(競技者一覧!L108)),競技者一覧!L108),\"\")","v":""},{"$f":"IFERROR(CONCATENATE(VLOOKUP(競技者一覧!M108,種目コード一覧!$A$1:$C$213,2,FALSE),\" \",REPT(\"0\",VLOOKUP(競技者一覧!M108,種目コード一覧!$A$1:$C$213,3,FALSE)-LEN(競技者一覧!N108)),競技者一覧!N108),\"\")","v":""},{"$f":"IFERROR(CONCATENATE(VLOOKUP(競技者一覧!O108,種目コード一覧!$A$1:$C$213,2,FALSE),\" \",REPT(\"0\",VLOOKUP(競技者一覧!O108,種目コード一覧!$A$1:$C$213,3,FALSE)-LEN(競技者一覧!P108)),競技者一覧!P108),\"\")","v":""},{"$f":"IFERROR(CONCATENATE(VLOOKUP(競技者一覧!Q108,種目コード一覧!$A$1:$C$213,2,FALSE),\" \",REPT(\"0\",VLOOKUP(競技者一覧!Q108,種目コード一覧!$A$1:$C$213,3,FALSE)-LEN(競技者一覧!R108)),競技者一覧!R108),\"\")","v":""},{"$f":"IFERROR(CONCATENATE(VLOOKUP(競技者一覧!S108,種目コード一覧!$A$1:$C$213,2,FALSE),\" \",REPT(\"0\",VLOOKUP(競技者一覧!S108,種目コード一覧!$A$1:$C$213,3,FALSE)-LEN(競技者一覧!T108)),競技者一覧!T108),\"\")","v":""},{"$f":"IFERROR(CONCATENATE(VLOOKUP(競技者一覧!U108,種目コード一覧!$A$1:$C$213,2,FALSE),\" \",REPT(\"0\",VLOOKUP(競技者一覧!U108,種目コード一覧!$A$1:$C$213,3,FALSE)-LEN(競技者一覧!V108)),競技者一覧!V108),\"\")","v":""}]
[{"$f":"CONCATENATE($F$2,Sheet4!B98)","v":{"$error":"#N/A"}},{"$f":"CONCATENATE(競技者一覧!C109,\"(\",競技者一覧!F109,\")\")","v":"()"},{"$f":"CONCATENATE(競技者一覧!D109)","v":""},{"$f":"競技者一覧!E109","v":0},{"$f":"VLOOKUP(競技者一覧!$C$6,Sheet4!$D$2:$E$48,2,FALSE)","v":{"$error":"#N/A"}},{"$f":"VLOOKUP(競技者一覧!$C$7,学校番号表!$B$2:$C$1004,2,FALSE)","v":{"$error":"#N/A"}},{"$f":"CONCATENATE(競技者一覧!B109)","v":""},{"$f":"IFERROR(CONCATENATE(VLOOKUP(競技者一覧!G109,種目コード一覧!$A$1:$C$213,2,FALSE),\" \",REPT(\"0\",VLOOKUP(競技者一覧!G109,種目コード一覧!$A$1:$C$213,3,FALSE)-LEN(競技者一覧!H109)),競技者一覧!H109),\"\")","v":""},{"$f":"IFERROR(CONCATENATE(VLOOKUP(競技者一覧!I109,種目コード一覧!$A$1:$C$213,2,FALSE),\" \",REPT(\"0\",VLOOKUP(競技者一覧!I109,種目コード一覧!$A$1:$C$213,3,FALSE)-LEN(競技者一覧!J109)),競技者一覧!J109),\"\")","v":""},{"$f":"IFERROR(CONCATENATE(VLOOKUP(競技者一覧!K109,種目コード一覧!$A$1:$C$213,2,FALSE),\" \",REPT(\"0\",VLOOKUP(競技者一覧!K109,種目コード一覧!$A$1:$C$213,3,FALSE)-LEN(競技者一覧!L109)),競技者一覧!L109),\"\")","v":""},{"$f":"IFERROR(CONCATENATE(VLOOKUP(競技者一覧!M109,種目コード一覧!$A$1:$C$213,2,FALSE),\" \",REPT(\"0\",VLOOKUP(競技者一覧!M109,種目コード一覧!$A$1:$C$213,3,FALSE)-LEN(競技者一覧!N109)),競技者一覧!N109),\"\")","v":""},{"$f":"IFERROR(CONCATENATE(VLOOKUP(競技者一覧!O109,種目コード一覧!$A$1:$C$213,2,FALSE),\" \",REPT(\"0\",VLOOKUP(競技者一覧!O109,種目コード一覧!$A$1:$C$213,3,FALSE)-LEN(競技者一覧!P109)),競技者一覧!P109),\"\")","v":""},{"$f":"IFERROR(CONCATENATE(VLOOKUP(競技者一覧!Q109,種目コード一覧!$A$1:$C$213,2,FALSE),\" \",REPT(\"0\",VLOOKUP(競技者一覧!Q109,種目コード一覧!$A$1:$C$213,3,FALSE)-LEN(競技者一覧!R109)),競技者一覧!R109),\"\")","v":""},{"$f":"IFERROR(CONCATENATE(VLOOKUP(競技者一覧!S109,種目コード一覧!$A$1:$C$213,2,FALSE),\" \",REPT(\"0\",VLOOKUP(競技者一覧!S109,種目コード一覧!$A$1:$C$213,3,FALSE)-LEN(競技者一覧!T109)),競技者一覧!T109),\"\")","v":""},{"$f":"IFERROR(CONCATENATE(VLOOKUP(競技者一覧!U109,種目コード一覧!$A$1:$C$213,2,FALSE),\" \",REPT(\"0\",VLOOKUP(競技者一覧!U109,種目コード一覧!$A$1:$C$213,3,FALSE)-LEN(競技者一覧!V109)),競技者一覧!V109),\"\")","v":""}]
[{"$f":"CONCATENATE($F$2,Sheet4!B99)","v":{"$error":"#N/A"}},{"$f":"CONCATENATE(競技者一覧!C110,\"(\",競技者一覧!F110,\")\")","v":"()"},{"$f":"CONCATENATE(競技者一覧!D110)","v":""},{"$f":"競技者一覧!E110","v":0},{"$f":"VLOOKUP(競技者一覧!$C$6,Sheet4!$D$2:$E$48,2,FALSE)","v":{"$error":"#N/A"}},{"$f":"VLOOKUP(競技者一覧!$C$7,学校番号表!$B$2:$C$1004,2,FALSE)","v":{"$error":"#N/A"}},{"$f":"CONCATENATE(競技者一覧!B110)","v":""},{"$f":"IFERROR(CONCATENATE(VLOOKUP(競技者一覧!G110,種目コード一覧!$A$1:$C$213,2,FALSE),\" \",REPT(\"0\",VLOOKUP(競技者一覧!G110,種目コード一覧!$A$1:$C$213,3,FALSE)-LEN(競技者一覧!H110)),競技者一覧!H110),\"\")","v":""},{"$f":"IFERROR(CONCATENATE(VLOOKUP(競技者一覧!I110,種目コード一覧!$A$1:$C$213,2,FALSE),\" \",REPT(\"0\",VLOOKUP(競技者一覧!I110,種目コード一覧!$A$1:$C$213,3,FALSE)-LEN(競技者一覧!J110)),競技者一覧!J110),\"\")","v":""},{"$f":"IFERROR(CONCATENATE(VLOOKUP(競技者一覧!K110,種目コード一覧!$A$1:$C$213,2,FALSE),\" \",REPT(\"0\",VLOOKUP(競技者一覧!K110,種目コード一覧!$A$1:$C$213,3,FALSE)-LEN(競技者一覧!L110)),競技者一覧!L110),\"\")","v":""},{"$f":"IFERROR(CONCATENATE(VLOOKUP(競技者一覧!M110,種目コード一覧!$A$1:$C$213,2,FALSE),\" \",REPT(\"0\",VLOOKUP(競技者一覧!M110,種目コード一覧!$A$1:$C$213,3,FALSE)-LEN(競技者一覧!N110)),競技者一覧!N110),\"\")","v":""},{"$f":"IFERROR(CONCATENATE(VLOOKUP(競技者一覧!O110,種目コード一覧!$A$1:$C$213,2,FALSE),\" \",REPT(\"0\",VLOOKUP(競技者一覧!O110,種目コード一覧!$A$1:$C$213,3,FALSE)-LEN(競技者一覧!P110)),競技者一覧!P110),\"\")","v":""},{"$f":"IFERROR(CONCATENATE(VLOOKUP(競技者一覧!Q110,種目コード一覧!$A$1:$C$213,2,FALSE),\" \",REPT(\"0\",VLOOKUP(競技者一覧!Q110,種目コード一覧!$A$1:$C$213,3,FALSE)-LEN(競技者一覧!R110)),競技者一覧!R110),\"\")","v":""},{"$f":"IFERROR(CONCATENATE(VLOOKUP(競技者一覧!S110,種目コード一覧!$A$1:$C$213,2,FALSE),\" \",REPT(\"0\",VLOOKUP(競技者一覧!S110,種目コード一覧!$A$1:$C$213,3,FALSE)-LEN(競技者一覧!T110)),競技者一覧!T110),\"\")","v":""},{"$f":"IFERROR(CONCATENATE(VLOOKUP(競技者一覧!U110,種目コード一覧!$A$1:$C$213,2,FALSE),\" \",REPT(\"0\",VLOOKUP(競技者一覧!U110,種目コード一覧!$A$1:$C$213,3,FALSE)-LEN(競技者一覧!V110)),競技者一覧!V110),\"\")","v":""}]
[{"$f":"CONCATENATE($F$2,Sheet4!B100)","v":{"$error":"#N/A"}},{"$f":"CONCATENATE(競技者一覧!C111,\"(\",競技者一覧!F111,\")\")","v":"()"},{"$f":"CONCATENATE(競技者一覧!D111)","v":""},{"$f":"競技者一覧!E111","v":0},{"$f":"VLOOKUP(競技者一覧!$C$6,Sheet4!$D$2:$E$48,2,FALSE)","v":{"$error":"#N/A"}},{"$f":"VLOOKUP(競技者一覧!$C$7,学校番号表!$B$2:$C$1004,2,FALSE)","v":{"$error":"#N/A"}},{"$f":"CONCATENATE(競技者一覧!B111)","v":""},{"$f":"IFERROR(CONCATENATE(VLOOKUP(競技者一覧!G111,種目コード一覧!$A$1:$C$213,2,FALSE),\" \",REPT(\"0\",VLOOKUP(競技者一覧!G111,種目コード一覧!$A$1:$C$213,3,FALSE)-LEN(競技者一覧!H111)),競技者一覧!H111),\"\")","v":""},{"$f":"IFERROR(CONCATENATE(VLOOKUP(競技者一覧!I111,種目コード一覧!$A$1:$C$213,2,FALSE),\" \",REPT(\"0\",VLOOKUP(競技者一覧!I111,種目コード一覧!$A$1:$C$213,3,FALSE)-LEN(競技者一覧!J111)),競技者一覧!J111),\"\")","v":""},{"$f":"IFERROR(CONCATENATE(VLOOKUP(競技者一覧!K111,種目コード一覧!$A$1:$C$213,2,FALSE),\" \",REPT(\"0\",VLOOKUP(競技者一覧!K111,種目コード一覧!$A$1:$C$213,3,FALSE)-LEN(競技者一覧!L111)),競技者一覧!L111),\"\")","v":""},{"$f":"IFERROR(CONCATENATE(VLOOKUP(競技者一覧!M111,種目コード一覧!$A$1:$C$213,2,FALSE),\" \",REPT(\"0\",VLOOKUP(競技者一覧!M111,種目コード一覧!$A$1:$C$213,3,FALSE)-LEN(競技者一覧!N111)),競技者一覧!N111),\"\")","v":""},{"$f":"IFERROR(CONCATENATE(VLOOKUP(競技者一覧!O111,種目コード一覧!$A$1:$C$213,2,FALSE),\" \",REPT(\"0\",VLOOKUP(競技者一覧!O111,種目コード一覧!$A$1:$C$213,3,FALSE)-LEN(競技者一覧!P111)),競技者一覧!P111),\"\")","v":""},{"$f":"IFERROR(CONCATENATE(VLOOKUP(競技者一覧!Q111,種目コード一覧!$A$1:$C$213,2,FALSE),\" \",REPT(\"0\",VLOOKUP(競技者一覧!Q111,種目コード一覧!$A$1:$C$213,3,FALSE)-LEN(競技者一覧!R111)),競技者一覧!R111),\"\")","v":""},{"$f":"IFERROR(CONCATENATE(VLOOKUP(競技者一覧!S111,種目コード一覧!$A$1:$C$213,2,FALSE),\" \",REPT(\"0\",VLOOKUP(競技者一覧!S111,種目コード一覧!$A$1:$C$213,3,FALSE)-LEN(競技者一覧!T111)),競技者一覧!T111),\"\")","v":""},{"$f":"IFERROR(CONCATENATE(VLOOKUP(競技者一覧!U111,種目コード一覧!$A$1:$C$213,2,FALSE),\" \",REPT(\"0\",VLOOKUP(競技者一覧!U111,種目コード一覧!$A$1:$C$213,3,FALSE)-LEN(競技者一覧!V111)),競技者一覧!V111),\"\")","v":""}]
[{"$f":"CONCATENATE($F$2,Sheet4!B101)","v":{"$error":"#N/A"}},{"$f":"CONCATENATE(競技者一覧!C112,\"(\",競技者一覧!F112,\")\")","v":"()"},{"$f":"CONCATENATE(競技者一覧!D112)","v":""},{"$f":"競技者一覧!E112","v":0},{"$f":"VLOOKUP(競技者一覧!$C$6,Sheet4!$D$2:$E$48,2,FALSE)","v":{"$error":"#N/A"}},{"$f":"VLOOKUP(競技者一覧!$C$7,学校番号表!$B$2:$C$1004,2,FALSE)","v":{"$error":"#N/A"}},{"$f":"CONCATENATE(競技者一覧!B112)","v":""},{"$f":"IFERROR(CONCATENATE(VLOOKUP(競技者一覧!G112,種目コード一覧!$A$1:$C$213,2,FALSE),\" \",REPT(\"0\",VLOOKUP(競技者一覧!G112,種目コード一覧!$A$1:$C$213,3,FALSE)-LEN(競技者一覧!H112)),競技者一覧!H112),\"\")","v":""},{"$f":"IFERROR(CONCATENATE(VLOOKUP(競技者一覧!I112,種目コード一覧!$A$1:$C$213,2,FALSE),\" \",REPT(\"0\",VLOOKUP(競技者一覧!I112,種目コード一覧!$A$1:$C$213,3,FALSE)-LEN(競技者一覧!J112)),競技者一覧!J112),\"\")","v":""},{"$f":"IFERROR(CONCATENATE(VLOOKUP(競技者一覧!K112,種目コード一覧!$A$1:$C$213,2,FALSE),\" \",REPT(\"0\",VLOOKUP(競技者一覧!K112,種目コード一覧!$A$1:$C$213,3,FALSE)-LEN(競技者一覧!L112)),競技者一覧!L112),\"\")","v":""},{"$f":"IFERROR(CONCATENATE(VLOOKUP(競技者一覧!M112,種目コード一覧!$A$1:$C$213,2,FALSE),\" \",REPT(\"0\",VLOOKUP(競技者一覧!M112,種目コード一覧!$A$1:$C$213,3,FALSE)-LEN(競技者一覧!N112)),競技者一覧!N112),\"\")","v":""},{"$f":"IFERROR(CONCATENATE(VLOOKUP(競技者一覧!O112,種目コード一覧!$A$1:$C$213,2,FALSE),\" \",REPT(\"0\",VLOOKUP(競技者一覧!O112,種目コード一覧!$A$1:$C$213,3,FALSE)-LEN(競技者一覧!P112)),競技者一覧!P112),\"\")","v":""},{"$f":"IFERROR(CONCATENATE(VLOOKUP(競技者一覧!Q112,種目コード一覧!$A$1:$C$213,2,FALSE),\" \",REPT(\"0\",VLOOKUP(競技者一覧!Q112,種目コード一覧!$A$1:$C$213,3,FALSE)-LEN(競技者一覧!R112)),競技者一覧!R112),\"\")","v":""},{"$f":"IFERROR(CONCATENATE(VLOOKUP(競技者一覧!S112,種目コード一覧!$A$1:$C$213,2,FALSE),\" \",REPT(\"0\",VLOOKUP(競技者一覧!S112,種目コード一覧!$A$1:$C$213,3,FALSE)-LEN(競技者一覧!T112)),競技者一覧!T112),\"\")","v":""},{"$f":"IFERROR(CONCATENATE(VLOOKUP(競技者一覧!U112,種目コード一覧!$A$1:$C$213,2,FALSE),\" \",REPT(\"0\",VLOOKUP(競技者一覧!U112,種目コード一覧!$A$1:$C$213,3,FALSE)-LEN(競技者一覧!V112)),競技者一覧!V112),\"\")","v":""}]

{"sheet":"リレーCSV","index":9,"n_rows":31,"n_cols":15,"rows_kept":31,"cut":false,"hidden":true,"merged":[]}
[null,"DB","ZK","KC","N1","N2","TM","KM","LN","S1","S2","S3","S4","S5","S6"]
[{"$f":"CONCATENATE(リレー!C7)","v":""},{"$f":"CONCATENATE(団体CSV!$F$2)","v":{"$error":"#N/A"}},null,{"$f":"CONCATENATE(団体CSV!$E$2)","v":{"$error":"#N/A"}},{"$f":"CONCATENATE(リレー!B7)","v":""},null,{"$f":"CONCATENATE(Sheet4!$G$2,リレー!D7)","v":"000"},null,null,{"$f":"IFERROR(CONCATENATE(VLOOKUP(リレー!E7,学校名簿!$B$2:$C$101,2,FALSE)),\"\")","v":""},{"$f":"IFERROR(CONCATENATE(VLOOKUP(リレー!F7,学校名簿!$B$2:$C$101,2,FALSE)),\"\")","v":""},{"$f":"IFERROR(CONCATENATE(VLOOKUP(リレー!G7,学校名簿!$B$2:$C$101,2,FALSE)),\"\")","v":""},{"$f":"IFERROR(CONCATENATE(VLOOKUP(リレー!H7,学校名簿!$B$2:$C$101,2,FALSE)),\"\")","v":""},{"$f":"IFERROR(CONCATENATE(VLOOKUP(リレー!I7,学校名簿!$B$2:$C$101,2,FALSE)),\"\")","v":""},{"$f":"IFERROR(CONCATENATE(VLOOKUP(リレー!J7,学校名簿!$B$2:$C$101,2,FALSE)),\"\")","v":""}]
[{"$f":"CONCATENATE(リレー!C8)","v":""},{"$f":"CONCATENATE(団体CSV!$F$2)","v":{"$error":"#N/A"}},null,{"$f":"CONCATENATE(団体CSV!$E$2)","v":{"$error":"#N/A"}},{"$f":"CONCATENATE(リレー!B8)","v":""},null,{"$f":"CONCATENATE(Sheet4!$G$2,リレー!D8)","v":"000"},null,null,{"$f":"IFERROR(CONCATENATE(VLOOKUP(リレー!E8,学校名簿!$B$2:$C$101,2,FALSE)),\"\")","v":""},{"$f":"IFERROR(CONCATENATE(VLOOKUP(リレー!F8,学校名簿!$B$2:$C$101,2,FALSE)),\"\")","v":""},{"$f":"IFERROR(CONCATENATE(VLOOKUP(リレー!G8,学校名簿!$B$2:$C$101,2,FALSE)),\"\")","v":""},{"$f":"IFERROR(CONCATENATE(VLOOKUP(リレー!H8,学校名簿!$B$2:$C$101,2,FALSE)),\"\")","v":""},{"$f":"IFERROR(CONCATENATE(VLOOKUP(リレー!I8,学校名簿!$B$2:$C$101,2,FALSE)),\"\")","v":""},{"$f":"IFERROR(CONCATENATE(VLOOKUP(リレー!J8,学校名簿!$B$2:$C$101,2,FALSE)),\"\")","v":""}]
[{"$f":"CONCATENATE(リレー!C9)","v":""},{"$f":"CONCATENATE(団体CSV!$F$2)","v":{"$error":"#N/A"}},null,{"$f":"CONCATENATE(団体CSV!$E$2)","v":{"$error":"#N/A"}},{"$f":"CONCATENATE(リレー!B9)","v":""},null,{"$f":"CONCATENATE(Sheet4!$G$2,リレー!D9)","v":"000"},null,null,{"$f":"IFERROR(CONCATENATE(VLOOKUP(リレー!E9,学校名簿!$B$2:$C$101,2,FALSE)),\"\")","v":""},{"$f":"IFERROR(CONCATENATE(VLOOKUP(リレー!F9,学校名簿!$B$2:$C$101,2,FALSE)),\"\")","v":""},{"$f":"IFERROR(CONCATENATE(VLOOKUP(リレー!G9,学校名簿!$B$2:$C$101,2,FALSE)),\"\")","v":""},{"$f":"IFERROR(CONCATENATE(VLOOKUP(リレー!H9,学校名簿!$B$2:$C$101,2,FALSE)),\"\")","v":""},{"$f":"IFERROR(CONCATENATE(VLOOKUP(リレー!I9,学校名簿!$B$2:$C$101,2,FALSE)),\"\")","v":""},{"$f":"IFERROR(CONCATENATE(VLOOKUP(リレー!J9,学校名簿!$B$2:$C$101,2,FALSE)),\"\")","v":""}]
[{"$f":"CONCATENATE(リレー!C10)","v":""},{"$f":"CONCATENATE(団体CSV!$F$2)","v":{"$error":"#N/A"}},null,{"$f":"CONCATENATE(団体CSV!$E$2)","v":{"$error":"#N/A"}},{"$f":"CONCATENATE(リレー!B10)","v":""},null,{"$f":"CONCATENATE(Sheet4!$G$2,リレー!D10)","v":"000"},null,null,{"$f":"IFERROR(CONCATENATE(VLOOKUP(リレー!E10,学校名簿!$B$2:$C$101,2,FALSE)),\"\")","v":""},{"$f":"IFERROR(CONCATENATE(VLOOKUP(リレー!F10,学校名簿!$B$2:$C$101,2,FALSE)),\"\")","v":""},{"$f":"IFERROR(CONCATENATE(VLOOKUP(リレー!G10,学校名簿!$B$2:$C$101,2,FALSE)),\"\")","v":""},{"$f":"IFERROR(CONCATENATE(VLOOKUP(リレー!H10,学校名簿!$B$2:$C$101,2,FALSE)),\"\")","v":""},{"$f":"IFERROR(CONCATENATE(VLOOKUP(リレー!I10,学校名簿!$B$2:$C$101,2,FALSE)),\"\")","v":""},{"$f":"IFERROR(CONCATENATE(VLOOKUP(リレー!J10,学校名簿!$B$2:$C$101,2,FALSE)),\"\")","v":""}]
[{"$f":"CONCATENATE(リレー!C11)","v":""},{"$f":"CONCATENATE(団体CSV!$F$2)","v":{"$error":"#N/A"}},null,{"$f":"CONCATENATE(団体CSV!$E$2)","v":{"$error":"#N/A"}},{"$f":"CONCATENATE(リレー!B11)","v":""},null,{"$f":"CONCATENATE(Sheet4!$G$2,リレー!D11)","v":"000"},null,null,{"$f":"IFERROR(CONCATENATE(VLOOKUP(リレー!E11,学校名簿!$B$2:$C$101,2,FALSE)),\"\")","v":""},{"$f":"IFERROR(CONCATENATE(VLOOKUP(リレー!F11,学校名簿!$B$2:$C$101,2,FALSE)),\"\")","v":""},{"$f":"IFERROR(CONCATENATE(VLOOKUP(リレー!G11,学校名簿!$B$2:$C$101,2,FALSE)),\"\")","v":""},{"$f":"IFERROR(CONCATENATE(VLOOKUP(リレー!H11,学校名簿!$B$2:$C$101,2,FALSE)),\"\")","v":""},{"$f":"IFERROR(CONCATENATE(VLOOKUP(リレー!I11,学校名簿!$B$2:$C$101,2,FALSE)),\"\")","v":""},{"$f":"IFERROR(CONCATENATE(VLOOKUP(リレー!J11,学校名簿!$B$2:$C$101,2,FALSE)),\"\")","v":""}]
[{"$f":"CONCATENATE(リレー!C12)","v":""},{"$f":"CONCATENATE(団体CSV!$F$2)","v":{"$error":"#N/A"}},null,{"$f":"CONCATENATE(団体CSV!$E$2)","v":{"$error":"#N/A"}},{"$f":"CONCATENATE(リレー!B12)","v":""},null,{"$f":"CONCATENATE(Sheet4!$G$2,リレー!D12)","v":"000"},null,null,{"$f":"IFERROR(CONCATENATE(VLOOKUP(リレー!E12,学校名簿!$B$2:$C$101,2,FALSE)),\"\")","v":""},{"$f":"IFERROR(CONCATENATE(VLOOKUP(リレー!F12,学校名簿!$B$2:$C$101,2,FALSE)),\"\")","v":""},{"$f":"IFERROR(CONCATENATE(VLOOKUP(リレー!G12,学校名簿!$B$2:$C$101,2,FALSE)),\"\")","v":""},{"$f":"IFERROR(CONCATENATE(VLOOKUP(リレー!H12,学校名簿!$B$2:$C$101,2,FALSE)),\"\")","v":""},{"$f":"IFERROR(CONCATENATE(VLOOKUP(リレー!I12,学校名簿!$B$2:$C$101,2,FALSE)),\"\")","v":""},{"$f":"IFERROR(CONCATENATE(VLOOKUP(リレー!J12,学校名簿!$B$2:$C$101,2,FALSE)),\"\")","v":""}]
[{"$f":"CONCATENATE(リレー!C13)","v":""},{"$f":"CONCATENATE(団体CSV!$F$2)","v":{"$error":"#N/A"}},null,{"$f":"CONCATENATE(団体CSV!$E$2)","v":{"$error":"#N/A"}},{"$f":"CONCATENATE(リレー!B13)","v":""},null,{"$f":"CONCATENATE(Sheet4!$G$2,リレー!D13)","v":"000"},null,null,{"$f":"IFERROR(CONCATENATE(VLOOKUP(リレー!E13,学校名簿!$B$2:$C$101,2,FALSE)),\"\")","v":""},{"$f":"IFERROR(CONCATENATE(VLOOKUP(リレー!F13,学校名簿!$B$2:$C$101,2,FALSE)),\"\")","v":""},{"$f":"IFERROR(CONCATENATE(VLOOKUP(リレー!G13,学校名簿!$B$2:$C$101,2,FALSE)),\"\")","v":""},{"$f":"IFERROR(CONCATENATE(VLOOKUP(リレー!H13,学校名簿!$B$2:$C$101,2,FALSE)),\"\")","v":""},{"$f":"IFERROR(CONCATENATE(VLOOKUP(リレー!I13,学校名簿!$B$2:$C$101,2,FALSE)),\"\")","v":""},{"$f":"IFERROR(CONCATENATE(VLOOKUP(リレー!J13,学校名簿!$B$2:$C$101,2,FALSE)),\"\")","v":""}]
[{"$f":"CONCATENATE(リレー!C14)","v":""},{"$f":"CONCATENATE(団体CSV!$F$2)","v":{"$error":"#N/A"}},null,{"$f":"CONCATENATE(団体CSV!$E$2)","v":{"$error":"#N/A"}},{"$f":"CONCATENATE(リレー!B14)","v":""},null,{"$f":"CONCATENATE(Sheet4!$G$2,リレー!D14)","v":"000"},null,null,{"$f":"IFERROR(CONCATENATE(VLOOKUP(リレー!E14,学校名簿!$B$2:$C$101,2,FALSE)),\"\")","v":""},{"$f":"IFERROR(CONCATENATE(VLOOKUP(リレー!F14,学校名簿!$B$2:$C$101,2,FALSE)),\"\")","v":""},{"$f":"IFERROR(CONCATENATE(VLOOKUP(リレー!G14,学校名簿!$B$2:$C$101,2,FALSE)),\"\")","v":""},{"$f":"IFERROR(CONCATENATE(VLOOKUP(リレー!H14,学校名簿!$B$2:$C$101,2,FALSE)),\"\")","v":""},{"$f":"IFERROR(CONCATENATE(VLOOKUP(リレー!I14,学校名簿!$B$2:$C$101,2,FALSE)),\"\")","v":""},{"$f":"IFERROR(CONCATENATE(VLOOKUP(リレー!J14,学校名簿!$B$2:$C$101,2,FALSE)),\"\")","v":""}]
[{"$f":"CONCATENATE(リレー!C15)","v":""},{"$f":"CONCATENATE(団体CSV!$F$2)","v":{"$error":"#N/A"}},null,{"$f":"CONCATENATE(団体CSV!$E$2)","v":{"$error":"#N/A"}},{"$f":"CONCATENATE(リレー!B15)","v":""},null,{"$f":"CONCATENATE(Sheet4!$G$2,リレー!D15)","v":"000"},null,null,{"$f":"IFERROR(CONCATENATE(VLOOKUP(リレー!E15,学校名簿!$B$2:$C$101,2,FALSE)),\"\")","v":""},{"$f":"IFERROR(CONCATENATE(VLOOKUP(リレー!F15,学校名簿!$B$2:$C$101,2,FALSE)),\"\")","v":""},{"$f":"IFERROR(CONCATENATE(VLOOKUP(リレー!G15,学校名簿!$B$2:$C$101,2,FALSE)),\"\")","v":""},{"$f":"IFERROR(CONCATENATE(VLOOKUP(リレー!H15,学校名簿!$B$2:$C$101,2,FALSE)),\"\")","v":""},{"$f":"IFERROR(CONCATENATE(VLOOKUP(リレー!I15,学校名簿!$B$2:$C$101,2,FALSE)),\"\")","v":""},{"$f":"IFERROR(CONCATENATE(VLOOKUP(リレー!J15,学校名簿!$B$2:$C$101,2,FALSE)),\"\")","v":""}]
[{"$f":"CONCATENATE(リレー!C16)","v":""},{"$f":"CONCATENATE(団体CSV!$F$2)","v":{"$error":"#N/A"}},null,{"$f":"CONCATENATE(団体CSV!$E$2)","v":{"$error":"#N/A"}},{"$f":"CONCATENATE(リレー!B16)","v":""},null,{"$f":"CONCATENATE(Sheet4!$G$2,リレー!D16)","v":"000"},null,null,{"$f":"IFERROR(CONCATENATE(VLOOKUP(リレー!E16,学校名簿!$B$2:$C$101,2,FALSE)),\"\")","v":""},{"$f":"IFERROR(CONCATENATE(VLOOKUP(リレー!F16,学校名簿!$B$2:$C$101,2,FALSE)),\"\")","v":""},{"$f":"IFERROR(CONCATENATE(VLOOKUP(リレー!G16,学校名簿!$B$2:$C$101,2,FALSE)),\"\")","v":""},{"$f":"IFERROR(CONCATENATE(VLOOKUP(リレー!H16,学校名簿!$B$2:$C$101,2,FALSE)),\"\")","v":""},{"$f":"IFERROR(CONCATENATE(VLOOKUP(リレー!I16,学校名簿!$B$2:$C$101,2,FALSE)),\"\")","v":""},{"$f":"IFERROR(CONCATENATE(VLOOKUP(リレー!J16,学校名簿!$B$2:$C$101,2,FALSE)),\"\")","v":""}]
[{"$f":"CONCATENATE(リレー!C17)","v":""},{"$f":"CONCATENATE(団体CSV!$F$2)","v":{"$error":"#N/A"}},null,{"$f":"CONCATENATE(団体CSV!$E$2)","v":{"$error":"#N/A"}},{"$f":"CONCATENATE(リレー!B17)","v":""},null,{"$f":"CONCATENATE(Sheet4!$G$2,リレー!D17)","v":"000"},null,null,{"$f":"IFERROR(CONCATENATE(VLOOKUP(リレー!E17,学校名簿!$B$2:$C$101,2,FALSE)),\"\")","v":""},{"$f":"IFERROR(CONCATENATE(VLOOKUP(リレー!F17,学校名簿!$B$2:$C$101,2,FALSE)),\"\")","v":""},{"$f":"IFERROR(CONCATENATE(VLOOKUP(リレー!G17,学校名簿!$B$2:$C$101,2,FALSE)),\"\")","v":""},{"$f":"IFERROR(CONCATENATE(VLOOKUP(リレー!H17,学校名簿!$B$2:$C$101,2,FALSE)),\"\")","v":""},{"$f":"IFERROR(CONCATENATE(VLOOKUP(リレー!I17,学校名簿!$B$2:$C$101,2,FALSE)),\"\")","v":""},{"$f":"IFERROR(CONCATENATE(VLOOKUP(リレー!J17,学校名簿!$B$2:$C$101,2,FALSE)),\"\")","v":""}]
[{"$f":"CONCATENATE(リレー!C18)","v":""},{"$f":"CONCATENATE(団体CSV!$F$2)","v":{"$error":"#N/A"}},null,{"$f":"CONCATENATE(団体CSV!$E$2)","v":{"$error":"#N/A"}},{"$f":"CONCATENATE(リレー!B18)","v":""},null,{"$f":"CONCATENATE(Sheet4!$G$2,リレー!D18)","v":"000"},null,null,{"$f":"IFERROR(CONCATENATE(VLOOKUP(リレー!E18,学校名簿!$B$2:$C$101,2,FALSE)),\"\")","v":""},{"$f":"IFERROR(CONCATENATE(VLOOKUP(リレー!F18,学校名簿!$B$2:$C$101,2,FALSE)),\"\")","v":""},{"$f":"IFERROR(CONCATENATE(VLOOKUP(リレー!G18,学校名簿!$B$2:$C$101,2,FALSE)),\"\")","v":""},{"$f":"IFERROR(CONCATENATE(VLOOKUP(リレー!H18,学校名簿!$B$2:$C$101,2,FALSE)),\"\")","v":""},{"$f":"IFERROR(CONCATENATE(VLOOKUP(リレー!I18,学校名簿!$B$2:$C$101,2,FALSE)),\"\")","v":""},{"$f":"IFERROR(CONCATENATE(VLOOKUP(リレー!J18,学校名簿!$B$2:$C$101,2,FALSE)),\"\")","v":""}]
[{"$f":"CONCATENATE(リレー!C19)","v":""},{"$f":"CONCATENATE(団体CSV!$F$2)","v":{"$error":"#N/A"}},null,{"$f":"CONCATENATE(団体CSV!$E$2)","v":{"$error":"#N/A"}},{"$f":"CONCATENATE(リレー!B19)","v":""},null,{"$f":"CONCATENATE(Sheet4!$G$2,リレー!D19)","v":"000"},null,null,{"$f":"IFERROR(CONCATENATE(VLOOKUP(リレー!E19,学校名簿!$B$2:$C$101,2,FALSE)),\"\")","v":""},{"$f":"IFERROR(CONCATENATE(VLOOKUP(リレー!F19,学校名簿!$B$2:$C$101,2,FALSE)),\"\")","v":""},{"$f":"IFERROR(CONCATENATE(VLOOKUP(リレー!G19,学校名簿!$B$2:$C$101,2,FALSE)),\"\")","v":""},{"$f":"IFERROR(CONCATENATE(VLOOKUP(リレー!H19,学校名簿!$B$2:$C$101,2,FALSE)),\"\")","v":""},{"$f":"IFERROR(CONCATENATE(VLOOKUP(リレー!I19,学校名簿!$B$2:$C$101,2,FALSE)),\"\")","v":""},{"$f":"IFERROR(CONCATENATE(VLOOKUP(リレー!J19,学校名簿!$B$2:$C$101,2,FALSE)),\"\")","v":""}]
[{"$f":"CONCATENATE(リレー!C20)","v":""},{"$f":"CONCATENATE(団体CSV!$F$2)","v":{"$error":"#N/A"}},null,{"$f":"CONCATENATE(団体CSV!$E$2)","v":{"$error":"#N/A"}},{"$f":"CONCATENATE(リレー!B20)","v":""},null,{"$f":"CONCATENATE(Sheet4!$G$2,リレー!D20)","v":"000"},null,null,{"$f":"IFERROR(CONCATENATE(VLOOKUP(リレー!E20,学校名簿!$B$2:$C$101,2,FALSE)),\"\")","v":""},{"$f":"IFERROR(CONCATENATE(VLOOKUP(リレー!F20,学校名簿!$B$2:$C$101,2,FALSE)),\"\")","v":""},{"$f":"IFERROR(CONCATENATE(VLOOKUP(リレー!G20,学校名簿!$B$2:$C$101,2,FALSE)),\"\")","v":""},{"$f":"IFERROR(CONCATENATE(VLOOKUP(リレー!H20,学校名簿!$B$2:$C$101,2,FALSE)),\"\")","v":""},{"$f":"IFERROR(CONCATENATE(VLOOKUP(リレー!I20,学校名簿!$B$2:$C$101,2,FALSE)),\"\")","v":""},{"$f":"IFERROR(CONCATENATE(VLOOKUP(リレー!J20,学校名簿!$B$2:$C$101,2,FALSE)),\"\")","v":""}]
[{"$f":"CONCATENATE(リレー!C21)","v":""},{"$f":"CONCATENATE(団体CSV!$F$2)","v":{"$error":"#N/A"}},null,{"$f":"CONCATENATE(団体CSV!$E$2)","v":{"$error":"#N/A"}},{"$f":"CONCATENATE(リレー!B21)","v":""},null,{"$f":"CONCATENATE(Sheet4!$G$2,リレー!D21)","v":"000"},null,null,{"$f":"IFERROR(CONCATENATE(VLOOKUP(リレー!E21,学校名簿!$B$2:$C$101,2,FALSE)),\"\")","v":""},{"$f":"IFERROR(CONCATENATE(VLOOKUP(リレー!F21,学校名簿!$B$2:$C$101,2,FALSE)),\"\")","v":""},{"$f":"IFERROR(CONCATENATE(VLOOKUP(リレー!G21,学校名簿!$B$2:$C$101,2,FALSE)),\"\")","v":""},{"$f":"IFERROR(CONCATENATE(VLOOKUP(リレー!H21,学校名簿!$B$2:$C$101,2,FALSE)),\"\")","v":""},{"$f":"IFERROR(CONCATENATE(VLOOKUP(リレー!I21,学校名簿!$B$2:$C$101,2,FALSE)),\"\")","v":""},{"$f":"IFERROR(CONCATENATE(VLOOKUP(リレー!J21,学校名簿!$B$2:$C$101,2,FALSE)),\"\")","v":""}]
[{"$f":"CONCATENATE(リレー!C22)","v":""},{"$f":"CONCATENATE(団体CSV!$F$2)","v":{"$error":"#N/A"}},null,{"$f":"CONCATENATE(団体CSV!$E$2)","v":{"$error":"#N/A"}},{"$f":"CONCATENATE(リレー!B22)","v":""},null,{"$f":"CONCATENATE(Sheet4!$G$2,リレー!D22)","v":"000"},null,null,{"$f":"IFERROR(CONCATENATE(VLOOKUP(リレー!E22,学校名簿!$B$2:$C$101,2,FALSE)),\"\")","v":""},{"$f":"IFERROR(CONCATENATE(VLOOKUP(リレー!F22,学校名簿!$B$2:$C$101,2,FALSE)),\"\")","v":""},{"$f":"IFERROR(CONCATENATE(VLOOKUP(リレー!G22,学校名簿!$B$2:$C$101,2,FALSE)),\"\")","v":""},{"$f":"IFERROR(CONCATENATE(VLOOKUP(リレー!H22,学校名簿!$B$2:$C$101,2,FALSE)),\"\")","v":""},{"$f":"IFERROR(CONCATENATE(VLOOKUP(リレー!I22,学校名簿!$B$2:$C$101,2,FALSE)),\"\")","v":""},{"$f":"IFERROR(CONCATENATE(VLOOKUP(リレー!J22,学校名簿!$B$2:$C$101,2,FALSE)),\"\")","v":""}]
[{"$f":"CONCATENATE(リレー!C23)","v":""},{"$f":"CONCATENATE(団体CSV!$F$2)","v":{"$error":"#N/A"}},null,{"$f":"CONCATENATE(団体CSV!$E$2)","v":{"$error":"#N/A"}},{"$f":"CONCATENATE(リレー!B23)","v":""},null,{"$f":"CONCATENATE(Sheet4!$G$2,リレー!D23)","v":"000"},null,null,{"$f":"IFERROR(CONCATENATE(VLOOKUP(リレー!E23,学校名簿!$B$2:$C$101,2,FALSE)),\"\")","v":""},{"$f":"IFERROR(CONCATENATE(VLOOKUP(リレー!F23,学校名簿!$B$2:$C$101,2,FALSE)),\"\")","v":""},{"$f":"IFERROR(CONCATENATE(VLOOKUP(リレー!G23,学校名簿!$B$2:$C$101,2,FALSE)),\"\")","v":""},{"$f":"IFERROR(CONCATENATE(VLOOKUP(リレー!H23,学校名簿!$B$2:$C$101,2,FALSE)),\"\")","v":""},{"$f":"IFERROR(CONCATENATE(VLOOKUP(リレー!I23,学校名簿!$B$2:$C$101,2,FALSE)),\"\")","v":""},{"$f":"IFERROR(CONCATENATE(VLOOKUP(リレー!J23,学校名簿!$B$2:$C$101,2,FALSE)),\"\")","v":""}]
[{"$f":"CONCATENATE(リレー!C24)","v":""},{"$f":"CONCATENATE(団体CSV!$F$2)","v":{"$error":"#N/A"}},null,{"$f":"CONCATENATE(団体CSV!$E$2)","v":{"$error":"#N/A"}},{"$f":"CONCATENATE(リレー!B24)","v":""},null,{"$f":"CONCATENATE(Sheet4!$G$2,リレー!D24)","v":"000"},null,null,{"$f":"IFERROR(CONCATENATE(VLOOKUP(リレー!E24,学校名簿!$B$2:$C$101,2,FALSE)),\"\")","v":""},{"$f":"IFERROR(CONCATENATE(VLOOKUP(リレー!F24,学校名簿!$B$2:$C$101,2,FALSE)),\"\")","v":""},{"$f":"IFERROR(CONCATENATE(VLOOKUP(リレー!G24,学校名簿!$B$2:$C$101,2,FALSE)),\"\")","v":""},{"$f":"IFERROR(CONCATENATE(VLOOKUP(リレー!H24,学校名簿!$B$2:$C$101,2,FALSE)),\"\")","v":""},{"$f":"IFERROR(CONCATENATE(VLOOKUP(リレー!I24,学校名簿!$B$2:$C$101,2,FALSE)),\"\")","v":""},{"$f":"IFERROR(CONCATENATE(VLOOKUP(リレー!J24,学校名簿!$B$2:$C$101,2,FALSE)),\"\")","v":""}]
[{"$f":"CONCATENATE(リレー!C25)","v":""},{"$f":"CONCATENATE(団体CSV!$F$2)","v":{"$error":"#N/A"}},null,{"$f":"CONCATENATE(団体CSV!$E$2)","v":{"$error":"#N/A"}},{"$f":"CONCATENATE(リレー!B25)","v":""},null,{"$f":"CONCATENATE(Sheet4!$G$2,リレー!D25)","v":"000"},null,null,{"$f":"IFERROR(CONCATENATE(VLOOKUP(リレー!E25,学校名簿!$B$2:$C$101,2,FALSE)),\"\")","v":""},{"$f":"IFERROR(CONCATENATE(VLOOKUP(リレー!F25,学校名簿!$B$2:$C$101,2,FALSE)),\"\")","v":""},{"$f":"IFERROR(CONCATENATE(VLOOKUP(リレー!G25,学校名簿!$B$2:$C$101,2,FALSE)),\"\")","v":""},{"$f":"IFERROR(CONCATENATE(VLOOKUP(リレー!H25,学校名簿!$B$2:$C$101,2,FALSE)),\"\")","v":""},{"$f":"IFERROR(CONCATENATE(VLOOKUP(リレー!I25,学校名簿!$B$2:$C$101,2,FALSE)),\"\")","v":""},{"$f":"IFERROR(CONCATENATE(VLOOKUP(リレー!J25,学校名簿!$B$2:$C$101,2,FALSE)),\"\")","v":""}]
[{"$f":"CONCATENATE(リレー!C26)","v":""},{"$f":"CONCATENATE(団体CSV!$F$2)","v":{"$error":"#N/A"}},null,{"$f":"CONCATENATE(団体CSV!$E$2)","v":{"$error":"#N/A"}},{"$f":"CONCATENATE(リレー!B26)","v":""},null,{"$f":"CONCATENATE(Sheet4!$G$2,リレー!D26)","v":"000"},null,null,{"$f":"IFERROR(CONCATENATE(VLOOKUP(リレー!E26,学校名簿!$B$2:$C$101,2,FALSE)),\"\")","v":""},{"$f":"IFERROR(CONCATENATE(VLOOKUP(リレー!F26,学校名簿!$B$2:$C$101,2,FALSE)),\"\")","v":""},{"$f":"IFERROR(CONCATENATE(VLOOKUP(リレー!G26,学校名簿!$B$2:$C$101,2,FALSE)),\"\")","v":""},{"$f":"IFERROR(CONCATENATE(VLOOKUP(リレー!H26,学校名簿!$B$2:$C$101,2,FALSE)),\"\")","v":""},{"$f":"IFERROR(CONCATENATE(VLOOKUP(リレー!I26,学校名簿!$B$2:$C$101,2,FALSE)),\"\")","v":""},{"$f":"IFERROR(CONCATENATE(VLOOKUP(リレー!J26,学校名簿!$B$2:$C$101,2,FALSE)),\"\")","v":""}]
[null,{"$f":"CONCATENATE(団体CSV!$F$2)","v":{"$error":"#N/A"}},null,{"$f":"CONCATENATE(団体CSV!$E$2)","v":{"$error":"#N/A"}},{"$f":"CONCATENATE(リレー!B27)","v":""},null,{"$f":"CONCATENATE(Sheet4!$G$2,リレー!D27)","v":"000"},null,null,{"$f":"IFERROR(CONCATENATE(VLOOKUP(リレー!E27,学校名簿!$B$2:$C$101,2,FALSE)),\"\")","v":""},{"$f":"IFERROR(CONCATENATE(VLOOKUP(リレー!F27,学校名簿!$B$2:$C$101,2,FALSE)),\"\")","v":""},{"$f":"IFERROR(CONCATENATE(VLOOKUP(リレー!G27,学校名簿!$B$2:$C$101,2,FALSE)),\"\")","v":""},{"$f":"IFERROR(CONCATENATE(VLOOKUP(リレー!H27,学校名簿!$B$2:$C$101,2,FALSE)),\"\")","v":""},{"$f":"IFERROR(CONCATENATE(VLOOKUP(リレー!I27,学校名簿!$B$2:$C$101,2,FALSE)),\"\")","v":""},{"$f":"IFERROR(CONCATENATE(VLOOKUP(リレー!J27,学校名簿!$B$2:$C$101,2,FALSE)),\"\")","v":""}]
[null,{"$f":"CONCATENATE(団体CSV!$F$2)","v":{"$error":"#N/A"}},null,{"$f":"CONCATENATE(団体CSV!$E$2)","v":{"$error":"#N/A"}},{"$f":"CONCATENATE(リレー!B28)","v":""},null,{"$f":"CONCATENATE(Sheet4!$G$2,リレー!D28)","v":"000"},null,null,{"$f":"IFERROR(CONCATENATE(VLOOKUP(リレー!E28,学校名簿!$B$2:$C$101,2,FALSE)),\"\")","v":""},{"$f":"IFERROR(CONCATENATE(VLOOKUP(リレー!F28,学校名簿!$B$2:$C$101,2,FALSE)),\"\")","v":""},{"$f":"IFERROR(CONCATENATE(VLOOKUP(リレー!G28,学校名簿!$B$2:$C$101,2,FALSE)),\"\")","v":""},{"$f":"IFERROR(CONCATENATE(VLOOKUP(リレー!H28,学校名簿!$B$2:$C$101,2,FALSE)),\"\")","v":""},{"$f":"IFERROR(CONCATENATE(VLOOKUP(リレー!I28,学校名簿!$B$2:$C$101,2,FALSE)),\"\")","v":""},{"$f":"IFERROR(CONCATENATE(VLOOKUP(リレー!J28,学校名簿!$B$2:$C$101,2,FALSE)),\"\")","v":""}]
[null,{"$f":"CONCATENATE(団体CSV!$F$2)","v":{"$error":"#N/A"}},null,{"$f":"CONCATENATE(団体CSV!$E$2)","v":{"$error":"#N/A"}},{"$f":"CONCATENATE(リレー!B29)","v":""},null,{"$f":"CONCATENATE(Sheet4!$G$2,リレー!D29)","v":"000"},null,null,{"$f":"IFERROR(CONCATENATE(VLOOKUP(リレー!E29,学校名簿!$B$2:$C$101,2,FALSE)),\"\")","v":""},{"$f":"IFERROR(CONCATENATE(VLOOKUP(リレー!F29,学校名簿!$B$2:$C$101,2,FALSE)),\"\")","v":""},{"$f":"IFERROR(CONCATENATE(VLOOKUP(リレー!G29,学校名簿!$B$2:$C$101,2,FALSE)),\"\")","v":""},{"$f":"IFERROR(CONCATENATE(VLOOKUP(リレー!H29,学校名簿!$B$2:$C$101,2,FALSE)),\"\")","v":""},{"$f":"IFERROR(CONCATENATE(VLOOKUP(リレー!I29,学校名簿!$B$2:$C$101,2,FALSE)),\"\")","v":""},{"$f":"IFERROR(CONCATENATE(VLOOKUP(リレー!J29,学校名簿!$B$2:$C$101,2,FALSE)),\"\")","v":""}]
[null,{"$f":"CONCATENATE(団体CSV!$F$2)","v":{"$error":"#N/A"}},null,{"$f":"CONCATENATE(団体CSV!$E$2)","v":{"$error":"#N/A"}},{"$f":"CONCATENATE(リレー!B30)","v":""},null,{"$f":"CONCATENATE(Sheet4!$G$2,リレー!D30)","v":"000"},null,null,{"$f":"IFERROR(CONCATENATE(VLOOKUP(リレー!E30,学校名簿!$B$2:$C$101,2,FALSE)),\"\")","v":""},{"$f":"IFERROR(CONCATENATE(VLOOKUP(リレー!F30,学校名簿!$B$2:$C$101,2,FALSE)),\"\")","v":""},{"$f":"IFERROR(CONCATENATE(VLOOKUP(リレー!G30,学校名簿!$B$2:$C$101,2,FALSE)),\"\")","v":""},{"$f":"IFERROR(CONCATENATE(VLOOKUP(リレー!H30,学校名簿!$B$2:$C$101,2,FALSE)),\"\")","v":""},{"$f":"IFERROR(CONCATENATE(VLOOKUP(リレー!I30,学校名簿!$B$2:$C$101,2,FALSE)),\"\")","v":""},{"$f":"IFERROR(CONCATENATE(VLOOKUP(リレー!J30,学校名簿!$B$2:$C$101,2,FALSE)),\"\")","v":""}]
[null,{"$f":"CONCATENATE(団体CSV!$F$2)","v":{"$error":"#N/A"}},null,{"$f":"CONCATENATE(団体CSV!$E$2)","v":{"$error":"#N/A"}},{"$f":"CONCATENATE(リレー!B31)","v":""},null,{"$f":"CONCATENATE(Sheet4!$G$2,リレー!D31)","v":"000"},null,null,{"$f":"IFERROR(CONCATENATE(VLOOKUP(リレー!E31,学校名簿!$B$2:$C$101,2,FALSE)),\"\")","v":""},{"$f":"IFERROR(CONCATENATE(VLOOKUP(リレー!F31,学校名簿!$B$2:$C$101,2,FALSE)),\"\")","v":""},{"$f":"IFERROR(CONCATENATE(VLOOKUP(リレー!G31,学校名簿!$B$2:$C$101,2,FALSE)),\"\")","v":""},{"$f":"IFERROR(CONCATENATE(VLOOKUP(リレー!H31,学校名簿!$B$2:$C$101,2,FALSE)),\"\")","v":""},{"$f":"IFERROR(CONCATENATE(VLOOKUP(リレー!I31,学校名簿!$B$2:$C$101,2,FALSE)),\"\")","v":""},{"$f":"IFERROR(CONCATENATE(VLOOKUP(リレー!J31,学校名簿!$B$2:$C$101,2,FALSE)),\"\")","v":""}]
[null,{"$f":"CONCATENATE(団体CSV!$F$2)","v":{"$error":"#N/A"}},null,{"$f":"CONCATENATE(団体CSV!$E$2)","v":{"$error":"#N/A"}},{"$f":"CONCATENATE(リレー!B32)","v":""},null,{"$f":"CONCATENATE(Sheet4!$G$2,リレー!D32)","v":"000"},null,null,{"$f":"IFERROR(CONCATENATE(VLOOKUP(リレー!E32,学校名簿!$B$2:$C$101,2,FALSE)),\"\")","v":""},{"$f":"IFERROR(CONCATENATE(VLOOKUP(リレー!F32,学校名簿!$B$2:$C$101,2,FALSE)),\"\")","v":""},{"$f":"IFERROR(CONCATENATE(VLOOKUP(リレー!G32,学校名簿!$B$2:$C$101,2,FALSE)),\"\")","v":""},{"$f":"IFERROR(CONCATENATE(VLOOKUP(リレー!H32,学校名簿!$B$2:$C$101,2,FALSE)),\"\")","v":""},{"$f":"IFERROR(CONCATENATE(VLOOKUP(リレー!I32,学校名簿!$B$2:$C$101,2,FALSE)),\"\")","v":""},{"$f":"IFERROR(CONCATENATE(VLOOKUP(リレー!J32,学校名簿!$B$2:$C$101,2,FALSE)),\"\")","v":""}]
[null,{"$f":"CONCATENATE(団体CSV!$F$2)","v":{"$error":"#N/A"}},null,{"$f":"CONCATENATE(団体CSV!$E$2)","v":{"$error":"#N/A"}},{"$f":"CONCATENATE(リレー!B33)","v":""},null,{"$f":"CONCATENATE(Sheet4!$G$2,リレー!D33)","v":"000"},null,null,{"$f":"IFERROR(CONCATENATE(VLOOKUP(リレー!E33,学校名簿!$B$2:$C$101,2,FALSE)),\"\")","v":""},{"$f":"IFERROR(CONCATENATE(VLOOKUP(リレー!F33,学校名簿!$B$2:$C$101,2,FALSE)),\"\")","v":""},{"$f":"IFERROR(CONCATENATE(VLOOKUP(リレー!G33,学校名簿!$B$2:$C$101,2,FALSE)),\"\")","v":""},{"$f":"IFERROR(CONCATENATE(VLOOKUP(リレー!H33,学校名簿!$B$2:$C$101,2,FALSE)),\"\")","v":""},{"$f":"IFERROR(CONCATENATE(VLOOKUP(リレー!I33,学校名簿!$B$2:$C$101,2,FALSE)),\"\")","v":""},{"$f":"IFERROR(CONCATENATE(VLOOKUP(リレー!J33,学校名簿!$B$2:$C$101,2,FALSE)),\"\")","v":""}]
[null,{"$f":"CONCATENATE(団体CSV!$F$2)","v":{"$error":"#N/A"}},null,{"$f":"CONCATENATE(団体CSV!$E$2)","v":{"$error":"#N/A"}},{"$f":"CONCATENATE(リレー!B34)","v":""},null,{"$f":"CONCATENATE(Sheet4!$G$2,リレー!D34)","v":"000"},null,null,{"$f":"IFERROR(CONCATENATE(VLOOKUP(リレー!E34,学校名簿!$B$2:$C$101,2,FALSE)),\"\")","v":""},{"$f":"IFERROR(CONCATENATE(VLOOKUP(リレー!F34,学校名簿!$B$2:$C$101,2,FALSE)),\"\")","v":""},{"$f":"IFERROR(CONCATENATE(VLOOKUP(リレー!G34,学校名簿!$B$2:$C$101,2,FALSE)),\"\")","v":""},{"$f":"IFERROR(CONCATENATE(VLOOKUP(リレー!H34,学校名簿!$B$2:$C$101,2,FALSE)),\"\")","v":""},{"$f":"IFERROR(CONCATENATE(VLOOKUP(リレー!I34,学校名簿!$B$2:$C$101,2,FALSE)),\"\")","v":""},{"$f":"IFERROR(CONCATENATE(VLOOKUP(リレー!J34,学校名簿!$B$2:$C$101,2,FALSE)),\"\")","v":""}]
[null,{"$f":"CONCATENATE(団体CSV!$F$2)","v":{"$error":"#N/A"}},null,{"$f":"CONCATENATE(団体CSV!$E$2)","v":{"$error":"#N/A"}},{"$f":"CONCATENATE(リレー!B35)","v":""},null,{"$f":"CONCATENATE(Sheet4!$G$2,リレー!D35)","v":"000"},null,null,{"$f":"IFERROR(CONCATENATE(VLOOKUP(リレー!E35,学校名簿!$B$2:$C$101,2,FALSE)),\"\")","v":""},{"$f":"IFERROR(CONCATENATE(VLOOKUP(リレー!F35,学校名簿!$B$2:$C$101,2,FALSE)),\"\")","v":""},{"$f":"IFERROR(CONCATENATE(VLOOKUP(リレー!G35,学校名簿!$B$2:$C$101,2,FALSE)),\"\")","v":""},{"$f":"IFERROR(CONCATENATE(VLOOKUP(リレー!H35,学校名簿!$B$2:$C$101,2,FALSE)),\"\")","v":""},{"$f":"IFERROR(CONCATENATE(VLOOKUP(リレー!I35,学校名簿!$B$2:$C$101,2,FALSE)),\"\")","v":""},{"$f":"IFERROR(CONCATENATE(VLOOKUP(リレー!J35,学校名簿!$B$2:$C$101,2,FALSE)),\"\")","v":""}]
[null,{"$f":"CONCATENATE(団体CSV!$F$2)","v":{"$error":"#N/A"}},null,{"$f":"CONCATENATE(団体CSV!$E$2)","v":{"$error":"#N/A"}},{"$f":"CONCATENATE(リレー!B36)","v":""},null,{"$f":"CONCATENATE(Sheet4!$G$2,リレー!D36)","v":"000"},null,null,{"$f":"IFERROR(CONCATENATE(VLOOKUP(リレー!E36,学校名簿!$B$2:$C$101,2,FALSE)),\"\")","v":""},{"$f":"IFERROR(CONCATENATE(VLOOKUP(リレー!F36,学校名簿!$B$2:$C$101,2,FALSE)),\"\")","v":""},{"$f":"IFERROR(CONCATENATE(VLOOKUP(リレー!G36,学校名簿!$B$2:$C$101,2,FALSE)),\"\")","v":""},{"$f":"IFERROR(CONCATENATE(VLOOKUP(リレー!H36,学校名簿!$B$2:$C$101,2,FALSE)),\"\")","v":""},{"$f":"IFERROR(CONCATENATE(VLOOKUP(リレー!I36,学校名簿!$B$2:$C$101,2,FALSE)),\"\")","v":""},{"$f":"IFERROR(CONCATENATE(VLOOKUP(リレー!J36,学校名簿!$B$2:$C$101,2,FALSE)),\"\")","v":""}]

{"sheet":"学校名簿","index":10,"n_rows":101,"n_cols":8,"rows_kept":101,"cut":false,"hidden":true,"merged":[[1,5,1,7]]}
[null,"名前","DB"]
[null,{"$f":"CONCATENATE(競技者一覧!C13)","v":""},{"$f":"CONCATENATE(団体CSV!A2)","v":{"$error":"#N/A"}},null,null,"役員名"]
[null,{"$f":"CONCATENATE(競技者一覧!C14)","v":""},{"$f":"CONCATENATE(団体CSV!A3)","v":{"$error":"#N/A"}},null,{"$f":"CONCATENATE(競技者一覧!$C$8)","v":""},{"$f":"CONCATENATE(競技者一覧!$H$6)","v":""},{"$f":"CONCATENATE(競技者一覧!$H$7)","v":""},{"$f":"CONCATENATE(競技者一覧!$H$8)","v":""}]
[null,{"$f":"CONCATENATE(競技者一覧!C15)","v":""},{"$f":"CONCATENATE(団体CSV!A4)","v":{"$error":"#N/A"}}]
[null,{"$f":"CONCATENATE(競技者一覧!C16)","v":""},{"$f":"CONCATENATE(団体CSV!A5)","v":{"$error":"#N/A"}}]
[null,{"$f":"CONCATENATE(競技者一覧!C17)","v":""},{"$f":"CONCATENATE(団体CSV!A6)","v":{"$error":"#N/A"}}]
[null,{"$f":"CONCATENATE(競技者一覧!C18)","v":""},{"$f":"CONCATENATE(団体CSV!A7)","v":{"$error":"#N/A"}}]
[null,{"$f":"CONCATENATE(競技者一覧!C19)","v":""},{"$f":"CONCATENATE(団体CSV!A8)","v":{"$error":"#N/A"}}]
[null,{"$f":"CONCATENATE(競技者一覧!C20)","v":""},{"$f":"CONCATENATE(団体CSV!A9)","v":{"$error":"#N/A"}}]
[null,{"$f":"CONCATENATE(競技者一覧!C21)","v":""},{"$f":"CONCATENATE(団体CSV!A10)","v":{"$error":"#N/A"}}]
[null,{"$f":"CONCATENATE(競技者一覧!C22)","v":""},{"$f":"CONCATENATE(団体CSV!A11)","v":{"$error":"#N/A"}}]
[null,{"$f":"CONCATENATE(競技者一覧!C23)","v":""},{"$f":"CONCATENATE(団体CSV!A12)","v":{"$error":"#N/A"}}]
[null,{"$f":"CONCATENATE(競技者一覧!C24)","v":""},{"$f":"CONCATENATE(団体CSV!A13)","v":{"$error":"#N/A"}}]
[null,{"$f":"CONCATENATE(競技者一覧!C25)","v":""},{"$f":"CONCATENATE(団体CSV!A14)","v":{"$error":"#N/A"}}]
[null,{"$f":"CONCATENATE(競技者一覧!C26)","v":""},{"$f":"CONCATENATE(団体CSV!A15)","v":{"$error":"#N/A"}}]
[null,{"$f":"CONCATENATE(競技者一覧!C27)","v":""},{"$f":"CONCATENATE(団体CSV!A16)","v":{"$error":"#N/A"}}]
[null,{"$f":"CONCATENATE(競技者一覧!C28)","v":""},{"$f":"CONCATENATE(団体CSV!A17)","v":{"$error":"#N/A"}}]
[null,{"$f":"CONCATENATE(競技者一覧!C29)","v":""},{"$f":"CONCATENATE(団体CSV!A18)","v":{"$error":"#N/A"}}]
[null,{"$f":"CONCATENATE(競技者一覧!C30)","v":""},{"$f":"CONCATENATE(団体CSV!A19)","v":{"$error":"#N/A"}}]
[null,{"$f":"CONCATENATE(競技者一覧!C31)","v":""},{"$f":"CONCATENATE(団体CSV!A20)","v":{"$error":"#N/A"}}]
[null,{"$f":"CONCATENATE(競技者一覧!C32)","v":""},{"$f":"CONCATENATE(団体CSV!A21)","v":{"$error":"#N/A"}}]
[null,{"$f":"CONCATENATE(競技者一覧!C33)","v":""},{"$f":"CONCATENATE(団体CSV!A22)","v":{"$error":"#N/A"}}]
[null,{"$f":"CONCATENATE(競技者一覧!C34)","v":""},{"$f":"CONCATENATE(団体CSV!A23)","v":{"$error":"#N/A"}}]
[null,{"$f":"CONCATENATE(競技者一覧!C35)","v":""},{"$f":"CONCATENATE(団体CSV!A24)","v":{"$error":"#N/A"}}]
[null,{"$f":"CONCATENATE(競技者一覧!C36)","v":""},{"$f":"CONCATENATE(団体CSV!A25)","v":{"$error":"#N/A"}}]
[null,{"$f":"CONCATENATE(競技者一覧!C37)","v":""},{"$f":"CONCATENATE(団体CSV!A26)","v":{"$error":"#N/A"}}]
[null,{"$f":"CONCATENATE(競技者一覧!C38)","v":""},{"$f":"CONCATENATE(団体CSV!A27)","v":{"$error":"#N/A"}}]
[null,{"$f":"CONCATENATE(競技者一覧!C39)","v":""},{"$f":"CONCATENATE(団体CSV!A28)","v":{"$error":"#N/A"}}]
[null,{"$f":"CONCATENATE(競技者一覧!C40)","v":""},{"$f":"CONCATENATE(団体CSV!A29)","v":{"$error":"#N/A"}}]
[null,{"$f":"CONCATENATE(競技者一覧!C41)","v":""},{"$f":"CONCATENATE(団体CSV!A30)","v":{"$error":"#N/A"}}]
[null,{"$f":"CONCATENATE(競技者一覧!C42)","v":""},{"$f":"CONCATENATE(団体CSV!A31)","v":{"$error":"#N/A"}}]
[null,{"$f":"CONCATENATE(競技者一覧!C43)","v":""},{"$f":"CONCATENATE(団体CSV!A32)","v":{"$error":"#N/A"}}]
[null,{"$f":"CONCATENATE(競技者一覧!C44)","v":""},{"$f":"CONCATENATE(団体CSV!A33)","v":{"$error":"#N/A"}}]
[null,{"$f":"CONCATENATE(競技者一覧!C45)","v":""},{"$f":"CONCATENATE(団体CSV!A34)","v":{"$error":"#N/A"}}]
[null,{"$f":"CONCATENATE(競技者一覧!C46)","v":""},{"$f":"CONCATENATE(団体CSV!A35)","v":{"$error":"#N/A"}}]
[null,{"$f":"CONCATENATE(競技者一覧!C47)","v":""},{"$f":"CONCATENATE(団体CSV!A36)","v":{"$error":"#N/A"}}]
[null,{"$f":"CONCATENATE(競技者一覧!C48)","v":""},{"$f":"CONCATENATE(団体CSV!A37)","v":{"$error":"#N/A"}}]
[null,{"$f":"CONCATENATE(競技者一覧!C49)","v":""},{"$f":"CONCATENATE(団体CSV!A38)","v":{"$error":"#N/A"}}]
[null,{"$f":"CONCATENATE(競技者一覧!C50)","v":""},{"$f":"CONCATENATE(団体CSV!A39)","v":{"$error":"#N/A"}}]
[null,{"$f":"CONCATENATE(競技者一覧!C51)","v":""},{"$f":"CONCATENATE(団体CSV!A40)","v":{"$error":"#N/A"}}]
[null,{"$f":"CONCATENATE(競技者一覧!C52)","v":""},{"$f":"CONCATENATE(団体CSV!A41)","v":{"$error":"#N/A"}}]
[null,{"$f":"CONCATENATE(競技者一覧!C53)","v":""},{"$f":"CONCATENATE(団体CSV!A42)","v":{"$error":"#N/A"}}]
[null,{"$f":"CONCATENATE(競技者一覧!C54)","v":""},{"$f":"CONCATENATE(団体CSV!A43)","v":{"$error":"#N/A"}}]
[null,{"$f":"CONCATENATE(競技者一覧!C55)","v":""},{"$f":"CONCATENATE(団体CSV!A44)","v":{"$error":"#N/A"}}]
[null,{"$f":"CONCATENATE(競技者一覧!C56)","v":""},{"$f":"CONCATENATE(団体CSV!A45)","v":{"$error":"#N/A"}}]
[null,{"$f":"CONCATENATE(競技者一覧!C57)","v":""},{"$f":"CONCATENATE(団体CSV!A46)","v":{"$error":"#N/A"}}]
[null,{"$f":"CONCATENATE(競技者一覧!C58)","v":""},{"$f":"CONCATENATE(団体CSV!A47)","v":{"$error":"#N/A"}}]
[null,{"$f":"CONCATENATE(競技者一覧!C59)","v":""},{"$f":"CONCATENATE(団体CSV!A48)","v":{"$error":"#N/A"}}]
[null,{"$f":"CONCATENATE(競技者一覧!C60)","v":""},{"$f":"CONCATENATE(団体CSV!A49)","v":{"$error":"#N/A"}}]
[null,{"$f":"CONCATENATE(競技者一覧!C61)","v":""},{"$f":"CONCATENATE(団体CSV!A50)","v":{"$error":"#N/A"}}]
[null,{"$f":"CONCATENATE(競技者一覧!C62)","v":""},{"$f":"CONCATENATE(団体CSV!A51)","v":{"$error":"#N/A"}}]
[null,{"$f":"CONCATENATE(競技者一覧!C63)","v":""},{"$f":"CONCATENATE(団体CSV!A52)","v":{"$error":"#N/A"}}]
[null,{"$f":"CONCATENATE(競技者一覧!C64)","v":""},{"$f":"CONCATENATE(団体CSV!A53)","v":{"$error":"#N/A"}}]
[null,{"$f":"CONCATENATE(競技者一覧!C65)","v":""},{"$f":"CONCATENATE(団体CSV!A54)","v":{"$error":"#N/A"}}]
[null,{"$f":"CONCATENATE(競技者一覧!C66)","v":""},{"$f":"CONCATENATE(団体CSV!A55)","v":{"$error":"#N/A"}}]
[null,{"$f":"CONCATENATE(競技者一覧!C67)","v":""},{"$f":"CONCATENATE(団体CSV!A56)","v":{"$error":"#N/A"}}]
[null,{"$f":"CONCATENATE(競技者一覧!C68)","v":""},{"$f":"CONCATENATE(団体CSV!A57)","v":{"$error":"#N/A"}}]
[null,{"$f":"CONCATENATE(競技者一覧!C69)","v":""},{"$f":"CONCATENATE(団体CSV!A58)","v":{"$error":"#N/A"}}]
[null,{"$f":"CONCATENATE(競技者一覧!C70)","v":""},{"$f":"CONCATENATE(団体CSV!A59)","v":{"$error":"#N/A"}}]
[null,{"$f":"CONCATENATE(競技者一覧!C71)","v":""},{"$f":"CONCATENATE(団体CSV!A60)","v":{"$error":"#N/A"}}]
[null,{"$f":"CONCATENATE(競技者一覧!C72)","v":""},{"$f":"CONCATENATE(団体CSV!A61)","v":{"$error":"#N/A"}}]
[null,{"$f":"CONCATENATE(競技者一覧!C73)","v":""},{"$f":"CONCATENATE(団体CSV!A62)","v":{"$error":"#N/A"}}]
[null,{"$f":"CONCATENATE(競技者一覧!C74)","v":""},{"$f":"CONCATENATE(団体CSV!A63)","v":{"$error":"#N/A"}}]
[null,{"$f":"CONCATENATE(競技者一覧!C75)","v":""},{"$f":"CONCATENATE(団体CSV!A64)","v":{"$error":"#N/A"}}]
[null,{"$f":"CONCATENATE(競技者一覧!C76)","v":""},{"$f":"CONCATENATE(団体CSV!A65)","v":{"$error":"#N/A"}}]
[null,{"$f":"CONCATENATE(競技者一覧!C77)","v":""},{"$f":"CONCATENATE(団体CSV!A66)","v":{"$error":"#N/A"}}]
[null,{"$f":"CONCATENATE(競技者一覧!C78)","v":""},{"$f":"CONCATENATE(団体CSV!A67)","v":{"$error":"#N/A"}}]
[null,{"$f":"CONCATENATE(競技者一覧!C79)","v":""},{"$f":"CONCATENATE(団体CSV!A68)","v":{"$error":"#N/A"}}]
[null,{"$f":"CONCATENATE(競技者一覧!C80)","v":""},{"$f":"CONCATENATE(団体CSV!A69)","v":{"$error":"#N/A"}}]
[null,{"$f":"CONCATENATE(競技者一覧!C81)","v":""},{"$f":"CONCATENATE(団体CSV!A70)","v":{"$error":"#N/A"}}]
[null,{"$f":"CONCATENATE(競技者一覧!C82)","v":""},{"$f":"CONCATENATE(団体CSV!A71)","v":{"$error":"#N/A"}}]
[null,{"$f":"CONCATENATE(競技者一覧!C83)","v":""},{"$f":"CONCATENATE(団体CSV!A72)","v":{"$error":"#N/A"}}]
[null,{"$f":"CONCATENATE(競技者一覧!C84)","v":""},{"$f":"CONCATENATE(団体CSV!A73)","v":{"$error":"#N/A"}}]
[null,{"$f":"CONCATENATE(競技者一覧!C85)","v":""},{"$f":"CONCATENATE(団体CSV!A74)","v":{"$error":"#N/A"}}]
[null,{"$f":"CONCATENATE(競技者一覧!C86)","v":""},{"$f":"CONCATENATE(団体CSV!A75)","v":{"$error":"#N/A"}}]
[null,{"$f":"CONCATENATE(競技者一覧!C87)","v":""},{"$f":"CONCATENATE(団体CSV!A76)","v":{"$error":"#N/A"}}]
[null,{"$f":"CONCATENATE(競技者一覧!C88)","v":""},{"$f":"CONCATENATE(団体CSV!A77)","v":{"$error":"#N/A"}}]
[null,{"$f":"CONCATENATE(競技者一覧!C89)","v":""},{"$f":"CONCATENATE(団体CSV!A78)","v":{"$error":"#N/A"}}]
[null,{"$f":"CONCATENATE(競技者一覧!C90)","v":""},{"$f":"CONCATENATE(団体CSV!A79)","v":{"$error":"#N/A"}}]
[null,{"$f":"CONCATENATE(競技者一覧!C91)","v":""},{"$f":"CONCATENATE(団体CSV!A80)","v":{"$error":"#N/A"}}]
[null,{"$f":"CONCATENATE(競技者一覧!C92)","v":""},{"$f":"CONCATENATE(団体CSV!A81)","v":{"$error":"#N/A"}}]
[null,{"$f":"CONCATENATE(競技者一覧!C93)","v":""},{"$f":"CONCATENATE(団体CSV!A82)","v":{"$error":"#N/A"}}]
[null,{"$f":"CONCATENATE(競技者一覧!C94)","v":""},{"$f":"CONCATENATE(団体CSV!A83)","v":{"$error":"#N/A"}}]
[null,{"$f":"CONCATENATE(競技者一覧!C95)","v":""},{"$f":"CONCATENATE(団体CSV!A84)","v":{"$error":"#N/A"}}]
[null,{"$f":"CONCATENATE(競技者一覧!C96)","v":""},{"$f":"CONCATENATE(団体CSV!A85)","v":{"$error":"#N/A"}}]
[null,{"$f":"CONCATENATE(競技者一覧!C97)","v":""},{"$f":"CONCATENATE(団体CSV!A86)","v":{"$error":"#N/A"}}]
[null,{"$f":"CONCATENATE(競技者一覧!C98)","v":""},{"$f":"CONCATENATE(団体CSV!A87)","v":{"$error":"#N/A"}}]
[null,{"$f":"CONCATENATE(競技者一覧!C99)","v":""},{"$f":"CONCATENATE(団体CSV!A88)","v":{"$error":"#N/A"}}]
[null,{"$f":"CONCATENATE(競技者一覧!C100)","v":""},{"$f":"CONCATENATE(団体CSV!A89)","v":{"$error":"#N/A"}}]
[null,{"$f":"CONCATENATE(競技者一覧!C101)","v":""},{"$f":"CONCATENATE(団体CSV!A90)","v":{"$error":"#N/A"}}]
[null,{"$f":"CONCATENATE(競技者一覧!C102)","v":""},{"$f":"CONCATENATE(団体CSV!A91)","v":{"$error":"#N/A"}}]
[null,{"$f":"CONCATENATE(競技者一覧!C103)","v":""},{"$f":"CONCATENATE(団体CSV!A92)","v":{"$error":"#N/A"}}]
[null,{"$f":"CONCATENATE(競技者一覧!C104)","v":""},{"$f":"CONCATENATE(団体CSV!A93)","v":{"$error":"#N/A"}}]
[null,{"$f":"CONCATENATE(競技者一覧!C105)","v":""},{"$f":"CONCATENATE(団体CSV!A94)","v":{"$error":"#N/A"}}]
[null,{"$f":"CONCATENATE(競技者一覧!C106)","v":""},{"$f":"CONCATENATE(団体CSV!A95)","v":{"$error":"#N/A"}}]
[null,{"$f":"CONCATENATE(競技者一覧!C107)","v":""},{"$f":"CONCATENATE(団体CSV!A96)","v":{"$error":"#N/A"}}]
[null,{"$f":"CONCATENATE(競技者一覧!C108)","v":""},{"$f":"CONCATENATE(団体CSV!A97)","v":{"$error":"#N/A"}}]
[null,{"$f":"CONCATENATE(競技者一覧!C109)","v":""},{"$f":"CONCATENATE(団体CSV!A98)","v":{"$error":"#N/A"}}]
[null,{"$f":"CONCATENATE(競技者一覧!C110)","v":""},{"$f":"CONCATENATE(団体CSV!A99)","v":{"$error":"#N/A"}}]
[null,{"$f":"CONCATENATE(競技者一覧!C111)","v":""},{"$f":"CONCATENATE(団体CSV!A100)","v":{"$error":"#N/A"}}]
[null,{"$f":"CONCATENATE(競技者一覧!C112)","v":""},{"$f":"CONCATENATE(団体CSV!A101)","v":{"$error":"#N/A"}}]

{"sheet":"学校番号表","index":11,"n_rows":539,"n_cols":3,"rows_kept":539,"cut":false,"hidden":true,"merged":[]}
[null,"N3","DB"]
[null,"日本生命",130001]
[null,"東京陸協",130002]
[null,"川崎市陸協",140001]
[null,"福井市役所",180001]
[null,"福井陸協",180002]
[null,"美浜中",180003]
[null,"羽島中",210001]
[null,"POWERMAX",230001]
[null,"HIDESONZ",230002]
[null,"東三河AC",230003]
[null,"No-Mark",230004]
[null,"平坂中",230005]
[null,"至学館高",230006]
[null,"日進西中",230007]
[null,"弥富中",230008]
[null,"加藤建設",230009]
[null,"安城学園高",230010]
[null,"鶴城中",230011]
[null,"多気中",240001]
[null,"近大高専",240002]
[null,"鈴鹿高専",240003]
[null,"アスリート四日市",240004]
[null,"三重高",240005]
[null,"Yウェルネス",240006]
[null,"皇學館高",240007]
[null,"宇治山田商業高",240008]
[null,"美志摩パール",240009]
[null,"滋賀陸協",250001]
[null,"東武トップツアーズ",250002]
[null,"立命館AC滋賀",250003]
[null,"びわこ成蹊AC",250004]
[null,"加茂川中",260001]
[null,"旭丘中",260002]
[null,"衣笠中",260003]
[null,"雲ヶ畑中",260004]
[null,"京都国際中",260005]
[null,"小野郷中",260006]
[null,"洛星中",260007]
[null,"立命館中",260008]
[null,"烏丸中",260009]
[null,"上京中",260010]
[null,"府立聾中",260011]
[null,"嘉楽中",260012]
[null,"二条中",260013]
[null,"同志社中",260015]
[null,"同志社女子中",260016]
[null,"平安女子中",260017]
[null,"北野中",260018]
[null,"朱雀中",260019]
[null,"春日丘中",260020]
[null,"府立盲中",260021]
[null,"西京附属中",260022]
[null,"京都御池中",260023]
[null,"中京中",260024]
[null,"松原中",260025]
[null,"西ノ京中",260026]
[null,"大宅中",260027]
[null,"下京中",260028]
[null,"大枝中",260030]
[null,"七条中",260033]
[null,"龍谷大平安中",260034]
[null,"八条中",260035]
[null,"九条中",260036]
[null,"洛南中",260037]
[null,"凌風中",260038]
[null,"岡崎中",260039]
[null,"高野中",260040]
[null,"下鴨中",260041]
[null,"近衛中",260042]
[null,"修学院中",260043]
[null,"洛北中",260044]
[null,"大原中",260045]
[null,"花背中",260046]
[null,"洛北附属中",260048]
[null,"京都文教中",260050]
[null,"朝鮮中",260051]
[null,"ノートルダム中",260052]
[null,"東山中",260053]
[null,"開睛中",260055]
[null,"山科中",260056]
[null,"音羽中",260057]
[null,"花山中",260058]
[null,"東山泉中",260059]
[null,"大谷中",260060]
[null,"華頂中",260061]
[null,"京都女子中",260062]
[null,"蜂ヶ岡中",260063]
[null,"嵯峨中",260064]
[null,"四条中",260065]
[null,"西院中",260066]
[null,"桂中",260067]
[null,"高雄中",260068]
[null,"宕陰中",260069]
[null,"双ヶ丘中",260070]
[null,"京都光華中",260071]
[null,"深草中",260072]
[null,"藤森中",260073]
[null,"桃山中",260074]
[null,"醍醐中",260076]
[null,"桃陵中",260077]
[null,"聖母中",260078]
[null,"附属京都中",260079]
[null,"附属桃山中",260080]
[null,"栗陵中",260082]
[null,"安祥寺中",260083]
[null,"樫原中",260085]
[null,"小栗栖中",260086]
[null,"梅津中",260087]
[null,"太秦中",260088]
[null,"勧修中",260089]
[null,"神川中",260090]
[null,"桂川中",260091]
[null,"洛西中",260092]
[null,"向島中",260093]
[null,"西陵中",260094]
[null,"西京極中",260095]
[null,"久世中",260096]
[null,"向島東中",260097]
[null,"松尾中",260098]
[null,"洛南附属中",260099]
[null,"西賀茂中",260100]
[null,"勝山中",260101]
[null,"長岡中",260102]
[null,"東宇治中",260103]
[null,"宇治中",260105]
[null,"西宇治中",260106]
[null,"城陽中",260108]
[null,"男山中",260109]
[null,"田辺中",260110]
[null,"泉ヶ丘中",260111]
[null,"維孝館中",260112]
[null,"木津中",260113]
[null,"山城中",260114]
[null,"精華中",260115]
[null,"和束中",260116]
[null,"笠置中",260117]
[null,"泉川中",260118]
[null,"南桑中",260123]
[null,"育親中",260124]
[null,"殿田中",260128]
[null,"和知中",260131]
[null,"周山中",260132]
[null,"美山中",260134]
[null,"綾部中",260136]
[null,"何北中",260137]
[null,"八田中",260138]
[null,"東綾中",260139]
[null,"上林中",260140]
[null,"豊里中",260141]
[null,"桃映中",260142]
[null,"南陵中",260143]
[null,"成和中",260144]
[null,"六人部中",260145]
[null,"川口中",260146]
[null,"青葉中",260149]
[null,"白糸中",260150]
[null,"和田中",260151]
[null,"城南中",260152]
[null,"城北中",260153]
[null,"若浦中",260154]
[null,"三和中",260157]
[null,"大江中",260160]
[null,"宮津中",260161]
[null,"栗田中",260164]
[null,"橋立中",260166]
[null,"江陽中",260167]
[null,"加悦中",260168]
[null,"伊根中",260169]
[null,"峰山中",260171]
[null,"大宮中",260173]
[null,"網野中",260175]
[null,"弥栄中",260177]
[null,"丹後中",260179]
[null,"久美浜中",260181]
[null,"共栄中",260186]
[null,"日新中",260187]
[null,"大山崎中",260201]
[null,"北宇治中",260202]
[null,"男山第二中",260203]
[null,"男山第三中",260204]
[null,"長岡第二中",260205]
[null,"西城陽中",260207]
[null,"木幡中",260208]
[null,"久御山中",260209]
[null,"西ノ岡中",260210]
[null,"長岡第三中",260211]
[null,"南宇治中",260212]
[null,"西小倉中",260213]
[null,"東輝中",260214]
[null,"南城陽中",260215]
[null,"大住中",260216]
[null,"東城陽中",260217]
[null,"北城陽中",260218]
[null,"培良中",260219]
[null,"寺戸中",260220]
[null,"槇島中",260221]
[null,"大成中",260222]
[null,"広野中",260223]
[null,"長岡第四中",260224]
[null,"詳徳中",260225]
[null,"男山東中",260226]
[null,"木津第二中",260227]
[null,"精華南中",260228]
[null,"同志社国際中",260229]
[null,"夜久野中",260230]
[null,"精華西中",260231]
[null,"立命館宇治中",260232]
[null,"園部附属中",260233]
[null,"木津南中",260234]
[null,"黄檗中",260235]
[null,"福知山高附属中",260236]
[null,"南陽高附属中",260237]
[null,"洛水中",260301]
[null,"精華女子中",260302]
[null,"京産大附属中",260303]
[null,"大原野中",260304]
[null,"京都学園中",260305]
[null,"花園中",260306]
[null,"京都橘中",260307]
[null,"立命館高",260308]
[null,"西城陽高",260309]
[null,"北稜高",260310]
[null,"京都両洋高",260311]
[null,"西京高",260312]
[null,"堀川高",260313]
[null,"京都工学院高",260314]
[null,"塔南高",260315]
[null,"京都田辺高",260316]
[null,"Gloria.AC",260317]
[null,"RAC",260318]
[null,"SFIDA.AC",260319]
[null,"ミズノトラッククラブ",260320]
[null,"京都学園高",260321]
[null,"京教大附高",260322]
[null,"京都大学職員TC",260323]
[null,"京都陸協",260324]
[null,"双鶴クラブ",260326]
[null,"福知山AC",260327]
[null,"城陽高",260328]
[null,"アラキスポーツ",260329]
[null,"莵道高",260330]
[null,"京都光華高",260331]
[null,"洛南高",260332]
[null,"チームミズノアスレテ",260333]
[null,"京都文教高",260334]
[null,"南陽高",260335]
[null,"赤兎馬AC",260336]
[null,"コミネクラブ",260337]
[null,"YSD",260338]
[null,"Soleil.AC",260339]
[null,"IFC陸上",260340]
[null,"同志社陸上競技同好会",260341]
[null,"花園高",260342]
[null,"三菱電機",260343]
[null,"辰野株式会社",260344]
[null,"東大阪大敬愛高",270001]
[null,"ニコニコのり",270002]
[null,"大阪桐蔭高校",270003]
[null,"Live.fas",270004]
[null,"OSAKA.T.C",270005]
[null,"SCATTO",270006]
[null,"スターヒルズ",270007]
[null,"チームもんごる",270008]
[null,"テック株式会社",270009]
[null,"高槻中",270010]
[null,"高槻高",270011]
[null,"大教大AC",270012]
[null,"大阪陸協",270013]
[null,"大塚A.C",270014]
[null,"東大阪大柏原高",270015]
[null,"柏原ELD",270016]
[null,"枚方高",270017]
[null,"摂津高",270018]
[null,"門真なみはや高",270019]
[null,"富田林二中",270020]
[null,"KURC",270021]
[null,"上宮高",270022]
[null,"大阪高",270023]
[null,"大阪成蹊女子高",270024]
[null,"東海大仰星高",270025]
[null,"箕面高",270026]
[null,"大商大高",270027]
[null,"美貴本AC",270028]
[null,"大阪市立東高",270029]
[null,"千里高",270030]
[null,"近大附属高",270031]
[null,"陵南中",270032]
[null,"柏原中",270033]
[null,"箕面二中",270034]
[null,"高倉中",270035]
[null,"新北野中",270036]
[null,"アトレティカ",270037]
[null,"生野高",270038]
[null,"生野AC",270039]
[null,"茨木西中",270040]
[null,"交野高",270041]
[null,"ﾐﾗｲﾄ･ﾃｸﾉﾛｼﾞｰｽﾞ",270042]
[null,"盾津東中",270043]
[null,"桜丘中",270044]
[null,"TeamATOM",270045]
[null,"走思走愛",270046]
[null,"養精中",270047]
[null,"石切中",270048]
[null,"浜寺中",270049]
[null,"コンドーテック",280001]
[null,"ユニバ―AC",280002]
[null,"住友電工",280003]
[null,"神戸市陸協",280004]
[null,"長谷川体育施設",280005]
[null,"鳩印G&T",280006]
[null,"宝塚市陸協",280007]
[null,"小田北中",280008]
[null,"上ヶ原アスリートクラ",280009]
[null,"川崎重工陸上競技部",280010]
[null,"園田中",280011]
[null,"尼崎市陸協",280012]
[null,"HYOGOTFC",280013]
[null,"市伊丹高",280014]
[null,"神戸市消防局",280015]
[null,"但馬AC",280016]
[null,"尼崎ＮＲ",280017]
[null,"市西宮高",280018]
[null,"尼崎北高",280019]
[null,"復刻ＡＣ",280020]
[null,"滝川第二高",280021]
[null,"県選抜",290000]
[null,"葛上中",290010]
[null,"御所中",290011]
[null,"大正中",290015]
[null,"下市中",290020]
[null,"吉野中",290025]
[null,"川上中",290027]
[null,"大淀中",290034]
[null,"洞川中",290037]
[null,"安堵中",290040]
[null,"生駒中",290043]
[null,"上中学",290044]
[null,"平群中",290045]
[null,"三郷中",290046]
[null,"斑鳩中",290047]
[null,"緑ケ丘中",290049]
[null,"都祁中",290051]
[null,"山添中",290052]
[null,"大瀬中",290057]
[null,"香芝北中",290058]
[null,"香芝東中",290059]
[null,"新庄中",290060]
[null,"王寺中",290062]
[null,"香芝西中",290063]
[null,"白鳳中",290064]
[null,"香芝中",290065]
[null,"上牧中",290066]
[null,"広陵中",290067]
[null,"河合二中",290068]
[null,"王寺南中",290069]
[null,"上牧二中",290070]
[null,"智辯奈良カレッジ",290073]
[null,"大宇陀中",290081]
[null,"榛原中",290082]
[null,"室生中",290083]
[null,"曽爾中",290086]
[null,"片塩中",290096]
[null,"高田西中",290097]
[null,"高田中",290098]
[null,"式下中",290105]
[null,"田原本中",290106]
[null,"田原本北中",290107]
[null,"奈良学園登美ヶ丘中",290113]
[null,"育英西中",290114]
[null,"平城東中",290115]
[null,"都跡中",290116]
[null,"飛鳥中",290118]
[null,"富雄南中",290119]
[null,"伏見中",290120]
[null,"富雄中",290121]
[null,"登美ヶ丘北中",290122]
[null,"平城西中",290123]
[null,"帝塚山中",290124]
[null,"田原中",290125]
[null,"登美ヶ丘中",290127]
[null,"二名中",290128]
[null,"女子大附中",290129]
[null,"春日中",290130]
[null,"三笠中",290131]
[null,"若草中",290132]
[null,"都南中",290133]
[null,"教育大付属中",290134]
[null,"京西中",290135]
[null,"育英中",290136]
[null,"東大寺学園中",290137]
[null,"平城中",290139]
[null,"五條東中",290145]
[null,"智辯学園中",290148]
[null,"天理北中",290150]
[null,"天理中",290151]
[null,"天理西中",290152]
[null,"天理南中",290157]
[null,"郡山中",290161]
[null,"郡山南中",290162]
[null,"郡山西中",290163]
[null,"県ろう",290164]
[null,"奈良学園中",290165]
[null,"郡山東中",290166]
[null,"畝傍中",290171]
[null,"大成中",290172]
[null,"八木中",290173]
[null,"光陽中",290174]
[null,"橿原中",290176]
[null,"聖心学園中",290177]
[null,"桜井中",290180]
[null,"桜井東中",290183]
[null,"桜井西中",290184]
[null,"西川中",290190]
[null,"上野地中",290210]
[null,"十津川中",290220]
[null,"斑鳩南中",290230]
[null,"KOYO.AC",290301]
[null,"Univ.AC",290302]
[null,"スクアドラ",290303]
[null,"ならスポRC",290304]
[null,"鴻ノ池SC",290305]
[null,"生駒市陸協",290306]
[null,"奈良陸協",290307]
[null,"福住中",290308]
[null,"Kawai走愛RC",290309]
[null,"TEAM奈良",290310]
[null,"Yellow Poles",290311]
[null,"奈良朱雀高",290901]
[null,"奈良高",290902]
[null,"西の京高",290903]
[null,"平城高",290904]
[null,"登美ヶ丘高",290905]
[null,"高田高",290906]
[null,"郡山高",290907]
[null,"添上高",290908]
[null,"橿原高",290909]
[null,"畝傍高",290910]
[null,"奈良情報商業高",290911]
[null,"桜井高",290912]
[null,"五條高",290913]
[null,"生駒高",290914]
[null,"奈良北高",290915]
[null,"香芝高",290916]
[null,"大宇陀高",290917]
[null,"榛生昇陽高",290918]
[null,"西和清陵高",290919]
[null,"法隆寺国際高",290920]
[null,"高取国際高",290921]
[null,"王寺工業高",290922]
[null,"大和広陵高",290923]
[null,"大淀高",290924]
[null,"十津川高",290925]
[null,"一条高",290926]
[null,"育英西高",290927]
[null,"帝塚山高",290928]
[null,"東大寺学園高",290929]
[null,"奈良育英高",290930]
[null,"奈良大附属高",290931]
[null,"奈良学園高",290932]
[null,"智辯カレッジ高",290933]
[null,"西大和学園高",290934]
[null,"奈良学園登美ヶ丘高",290935]
[null,"奈良高専",290936]
[null,"つげJr.陸上クラブ",290937]
[null,"ならスポＲＣ(中)",290938]
[null,"奈良マスターズ",290939]
[null,"鴻ノ池陸上クラブ",290940]
[null,"フィールドキッズ",290941]
[null,"鴻ノ池SC(中)",290942]
[null,"鴻ノ池SC(小)",290943]
[null,"W.A.S",300001]
[null,"和歌山マスターズ",300002]
[null,"東和中",300003]
[null,"和歌山北高",300004]
[null,"ＨＳＣ",350001]
[null,"香川西高",370001]
[null,"新日鐵住金",400001]
[null,"SCC",460001]
[null,"立命館大",490001]
[null,"東大阪大",490002]
[null,"神戸大",490003]
[null,"京都大",490004]
[null,"園田学園女子大",490005]
[null,"武庫川女子大",490006]
[null,"甲南大",490007]
[null,"びわこ成蹊スポーツ大",490008]
[null,"京都教育大",490009]
[null,"大阪教育大",490010]
[null,"摂南大",490011]
[null,"びわこ学院大",490012]
[null,"岡山理科大",490013]
[null,"関西外国語大",490014]
[null,"関西大",490015]
[null,"京都光華女子大",490016]
[null,"京都産業大",490017]
[null,"京都工芸繊維大",490018]
[null,"京都府立大",490019]
[null,"近畿大",490020]
[null,"金沢大",490021]
[null,"国際武道大",490022]
[null,"大阪産業大",490023]
[null,"大阪市立大",490024]
[null,"大阪商業大",490025]
[null,"大阪成蹊大",490026]
[null,"大阪体育大",490027]
[null,"大阪大",490028]
[null,"大阪府立大",490029]
[null,"天理大",490030]
[null,"桃山学院大",490031]
[null,"同志社女子大",490032]
[null,"同志社大",490033]
[null,"奈良県立医科大",490034]
[null,"福井大学",490035]
[null,"龍谷大",490036]
[null,"和歌山大",490037]
[null,"佛教大",490038]
[null,"至学館大",490039]
[null,"関西学院大",490040]
[null,"大阪国際大",490041]
[null,"奈良女子大",490042]
[null,"中京大",490043]
[null,"奈良教育大",490044]
[null,"甲子園大学",490045]
[null,"大阪学院大",490046]
[null,"京都府立医科大",490047]
[null,"京大医学部AC",490048]
[null,"滋賀医科大",490049]
[null,"神戸医療福祉大",490050]
[null,"三重大",490051]
[null,"順天堂大",490052]
[null,"流通科学大",490053]
[null,"大阪経済大",490054]
[null,"兵庫教育大",490055]
[null,"中央大学",490056]
[null,"皇學館大",490057]
[null,"筑波大",490058]
[null,"追手門学院大",490059]
[null,"奈良学園大",490060]

{"sheet":"Sheet4","index":12,"n_rows":101,"n_cols":7,"rows_kept":101,"cut":false,"hidden":true,"merged":[]}
[]
[null,"001",null,"北海道",1,null,"000"]
[null,"002",null,"青森",2]
[null,"003",null,"岩手",3]
[null,"004",null,"宮城",4]
[null,"005",null,"秋田",5]
[null,"006",null,"山形",6]
[null,"007",null,"福島",7]
[null,"008",null,"茨城",8]
[null,"009",null,"栃木",9]
[null,"010",null,"群馬",10]
[null,"011",null,"埼玉",11]
[null,"012",null,"千葉",12]
[null,"013",null,"東京",13]
[null,"014",null,"神奈川",14]
[null,"015",null,"新潟",15]
[null,"016",null,"富山",16]
[null,"017",null,"石川",17]
[null,"018",null,"福井",18]
[null,"019",null,"山梨",19]
[null,"020",null,"長野",20]
[null,"021",null,"岐阜",21]
[null,"022",null,"静岡",22]
[null,"023",null,"愛知",23]
[null,"024",null,"三重",24]
[null,"025",null,"滋賀",25]
[null,"026",null,"京都",26]
[null,"027",null,"大阪",27]
[null,"028",null,"兵庫",28]
[null,"029",null,"奈良",29]
[null,"030",null,"和歌山",30]
[null,"031",null,"鳥取",31]
[null,"032",null,"島根",32]
[null,"033",null,"岡山",33]
[null,"034",null,"広島",34]
[null,"035",null,"山口",35]
[null,"036",null,"徳島",36]
[null,"037",null,"香川",37]
[null,"038",null,"愛媛",38]
[null,"039",null,"高知",39]
[null,"040",null,"福岡",40]
[null,"041",null,"佐賀",41]
[null,"042",null,"長崎",42]
[null,"043",null,"熊本",43]
[null,"044",null,"大分",44]
[null,"045",null,"宮崎",45]
[null,"046",null,"鹿児島",46]
[null,"047",null,"沖縄",47]
[null,"048"]
[null,"049"]
[null,"050"]
[null,"051"]
[null,"052"]
[null,"053"]
[null,"054"]
[null,"055"]
[null,"056"]
[null,"057"]
[null,"058"]
[null,"059"]
[null,"060"]
[null,"061"]
[null,"062"]
[null,"063"]
[null,"064"]
[null,"065"]
[null,"066"]
[null,"067"]
[null,"068"]
[null,"069"]
[null,"070"]
[null,"071"]
[null,"072"]
[null,"073"]
[null,"074"]
[null,"075"]
[null,"076"]
[null,"077"]
[null,"078"]
[null,"079"]
[null,"080"]
[null,"081"]
[null,"082"]
[null,"083"]
[null,"084"]
[null,"085"]
[null,"086"]
[null,"087"]
[null,"088"]
[null,"089"]
[null,"090"]
[null,"091"]
[null,"092"]
[null,"093"]
[null,"094"]
[null,"095"]
[null,"096"]
[null,"097"]
[null,"098"]
[null,"099"]
[null,"100"]